{"text_format":"1","workbook":"xlsx","n_sheets":37,"sheets":["Home","Instructions","Database","Estemate","Post","Arear","FixPay","LeavEncas","Challan","Contract","Nirwah Bhatta","Surrendar","Bonus","Allowances","Leveries","8","9","10","TA","Medical","Enrollment","Formate 1","Samekit","EcPenf","1A","1B","1C","2","3","4A","4B","5A","5B","6","7","Rent","CCA"],"not_rendered":{"charts":0,"images":0,"macros":1,"external_links":1,"defined_names":34,"comments":13,"pivot_tables":0},"unopened":[],"bounds":{"document_bytes":16777216,"sheet_cells":100000,"rows_first":2000,"rows_last":500,"rows_between":2000,"halvings":0,"cell_chars":16384,"cell_head_chars":4096},"cells_cut":0,"cells_raw":0,"read":"whole","date_system":"1900"}

{"sheet":"Home","index":0,"n_rows":40,"n_cols":6,"rows_kept":40,"cut":false,"hidden":true,"merged":[[12,4,12,5],[0,0,0,5],[1,0,1,2],[1,3,1,5],[3,1,3,2],[3,4,3,5],[7,1,7,2]]}
["vk; O;;d vuqeku&2024&25 rFkk la'kksf/kr vuqeku 2023&24"]
["DATA FEEDING",null,null,"PRINT FORMATES"]
["dz0la0","izi=ksa dk uke","fyad fDyd djsa","dz0la0","izi=ksa dk uke","fyad fDyd djsa"]
["A","vfuok;Z izi= tks Hkjus gS",null,"A","vfuok;Z izi= tks fizaV djus gS"]
[{"$f":"IF(B5=\"\",\"\",1)","v":1},"ctV@vk;&O;; fooj.k",null,{"$f":"IF(E5=\"\",\"\",1)","v":1},"ctV@vk;&O;; fooj.k"]
[{"$f":"IF(B6=\"\",\"\",A5+1)","v":2},"dkfeZd fooj.k",null,{"$f":"IF(E6=\"\",\"\",D5+1)","v":2},"dkfeZd fooj.k"]
["",null,null,3,"Lohd`r@dk;Zjr@fjDr in"]
["B",",sfPNd izi= tks vkils lacaf/kr gks rks Hkjsa vU;Fkk ugha",null,4,"izi=&8"]
[{"$f":"IF(B9=\"\",\"\",1)","v":1},"dkfeZd dk cdk;k ,fj;j@isM ,fj;j",null,5,"izi=&9"]
[2,"cdk;k ;k=k O;;",null,6,"cksul"]
[3,"RSCIT dkslZ iquHkZj.k gsrw jkf'k",null,7,"lefiZr vodk'k"]
[4,"Hkou fdjk;k O;;",null,""]
[5," 'kgjh HkRRkk fooj.k",null,"B",",sfPNd izi= tks vkils lacaf/kr gks rks PRINT djsa vU;Fkk ugha"]
[6,"lafonk dkfeZd (Only for MGGSS)",null,{"$f":"IF(E14=\"\",\"\",1)","v":1},"dkfeZd dk cdk;k ,fj;j@isM ,fj;j"]
["",null,null,2,"fLFkj osruHkksxh dkfeZd"]
["",null,null,3,"vU; HkRrs"]
["",null,null,4,"onhZ HkRrk"]
["",null,null,5,"lsokfuo`fRr ij lefiZr vodk'k"]
["",null,null,6,"cdk;k ;k=k O;;"]
["",null,null,7,"vk; fooj.k izi="]
["",null,null,8,"RSCIT dkslZ iquHkZj.k gsrw jkf'k"]
["",null,null,9,"lafonk dkfeZd (Only for MGGSS)"]
["",null,null,10,"fuokZg HkRrk"]
["",null,null,11,"Hkou fdjk;k O;;"]
["",null,null,12,"laosru dh x.kuk o ctV ekax i="]
["",null,null,13,"fu;fer@dk;ZizHkkfjr Lohd`r inksa dk fooj.k"]
["",null,null,14,"Lohd`r fjDr inksa ij in fo:} dkfeZd"]
["",null,null,15,"'kgjh HkRrk fooj.k"]
["",null,null,""]
["",null,null,""]
["",null,null,""]
["",null,null,""]
["",null,null,""]
["",null,null,""]
["",null,null,""]
["",null,null,""]
["",null,null,""]
["",null,null,""]
["",null,null,""]
[{"$f":"IF(B40=\"\",\"\",A39+1)","v":""},null,null,{"$f":"IF(E40=\"\",\"\",D39+1)","v":""}]

{"sheet":"Instructions","index":1,"n_rows":59,"n_cols":15,"rows_kept":59,"cut":false,"hidden":false,"merged":[[5,1,5,19],[6,1,6,19],[7,1,7,19],[8,1,8,19],[9,1,9,19],[0,0,0,19],[1,1,1,19],[2,1,2,19],[3,1,3,19],[4,1,4,19],[15,1,15,19],[16,1,16,19],[17,1,17,19],[18,1,18,19],[19,1,19,19],[10,1,10,19],[11,1,11,19],[12,1,12,19],[13,1,13,19],[14,1,14,19],[25,1,25,19],[26,1,26,19],[27,1,27,19],[28,1,28,19],[29,1,29,19],[20,1,20,19],[21,1,21,19],[22,1,22,19],[23,1,23,19],[24,1,24,19],[35,1,35,19],[36,1,36,19],[37,1,37,19],[38,1,38,19],[39,1,39,19],[30,1,30,19],[31,1,31,19],[32,1,32,19],[33,1,33,19],[34,1,34,19],[45,1,45,19],[46,1,46,19],[47,1,47,19],[48,1,48,19],[49,1,49,19],[40,1,40,19],[41,1,41,19],[42,1,42,19],[43,1,43,19],[44,1,44,19],[59,1,59,19],[50,1,50,19],[51,1,51,19],[52,1,52,19],[53,1,53,19],[54,1,54,19],[55,0,55,4],[56,0,56,4],[57,0,57,4],[58,0,58,4],[55,14,55,19],[56,14,56,19],[57,14,57,19],[58,14,58,19],[65,1,65,19],[66,1,66,19],[67,1,67,19],[68,1,68,19],[69,1,69,19],[60,1,60,19],[61,1,61,19],[62,1,62,19],[63,1,63,19],[64,1,64,19],[75,1,75,19],[76,1,76,19],[77,1,77,19],[78,1,78,19],[79,1,79,19],[70,1,70,19],[71,1,71,19],[72,1,72,19],[73,1,73,19],[74,1,74,19],[85,1,85,19],[86,1,86,19],[87,1,87,19],[88,1,88,19],[89,1,89,19],[80,1,80,19],[81,1,81,19],[82,1,82,19],[83,1,83,19],[84,1,84,19],[95,1,95,19],[96,1,96,19],[97,1,97,19],[98,1,98,19],[99,1,99,19],[90,1,90,19],[91,1,91,19],[92,1,92,19],[93,1,93,19],[94,1,94,19],[105,1,105,19],[106,1,106,19],[107,1,107,19],[108,1,108,19],[109,1,109,19],[100,1,100,19],[101,1,101,19],[102,1,102,19],[103,1,103,19],[104,1,104,19],[115,1,115,19],[116,1,116,19],[117,1,117,19],[118,1,118,19],[119,1,119,19],[110,1,110,19],[111,1,111,19],[112,1,112,19],[113,1,113,19],[114,1,114,19],[125,1,125,19],[126,1,126,19],[127,1,127,19],[128,1,128,19],[129,1,129,19],[120,1,120,19],[121,1,121,19],[122,1,122,19],[123,1,123,19],[124,1,124,19],[135,1,135,19],[136,1,136,19],[137,1,137,19],[138,1,138,19],[139,1,139,19],[130,1,130,19],[131,1,131,19],[132,1,132,19],[133,1,133,19],[134,1,134,19],[145,1,145,19],[146,1,146,19],[147,1,147,19],[148,1,148,19],[149,1,149,19],[140,1,140,19],[141,1,141,19],[142,1,142,19],[143,1,143,19],[144,1,144,19],[160,1,160,19],[155,1,155,19],[156,1,156,19],[157,1,157,19],[158,1,158,19],[159,1,159,19],[150,1,150,19],[151,1,151,19],[152,1,152,19],[153,1,153,19],[154,1,154,19]]}
["Instructions For Use"]
[null,"आय व्ययक अनुमान-2024-25 एवम संशोधित अनुमान-2023-24"]
[null,"ABOUT SOFTWARE"]
[1,"यह Software Macro Enabled Sofware है जैसे ही आप इसे Open करेंगे आपको Formula Bar के उपर एक Security Warrning का Massege दिखाई देगा उसमे Options पर Click  करना है उसके बाद एक Pop Up Window खुलेगी उसमे Enable this Content से पहले Radio Button को Checkmark करना है और Ok पर Click  करना है Continue/Update पर Click करे । यदि आपने Macro Enable नही किया तो Software काम नही करेगा । यदि Feeding के दौरान Macro/अन्य Error आये तो प्रोग्राम को सेव करने के बाद, प्रोग्राम बंद करके दुबारा Open करे ।"]
[2,"इस Sofware के सभी प्रपत्र राज्य सरकार एवम वित्त विभाग के IFMS Budget Module पर जारी Cirrcular एवम GF&AR नियमो के अनुरूप बनाया गया है फिर भी वर्तमान वित्त वर्ष मे जारी Cirrcular का अध्ययन कर प्रपत्रो को जांच लेवे ।"]
[3,"इस Sofware की यह खास बात है कि एक DDO को सामान्यतया केवल दो ही प्रपत्रो मे Data Feeding करना है और आपका बजट तैयार है ।"]
[4,"इस प्रोग्राम मे 100 कार्मिको का डाटा संग्रहण किया जा सकता है । Homepage  पर प्रपत्रो की List के सामने Link Buttons दिये गये है जिनपर Click करने पर आप सम्बंधित Sheet पर पन्हुच जायेंगे और प्रत्येक Sheet पर Home Button है उसपर Click करने पर आप वापस Homepage पर आ जायेंगे । "]
[5,"इस प्रोग्राम मे Font- Krutidev 010 एवम Post Sheet मे Google Input Tools का उपयोग किया गया है ।"]
[6,"यह प्रोग्राम एक कार्यालयाध्यक्ष द्वारा आगामी वित्तीय वर्ष का आय-व्ययक अनुमान एवम वर्तमान वर्ष का संशोधित अनुमान अपने नियंत्रण अधिकारी को प्रस्तुत करने के लिये बनाया गया है लेकिन एक नियंत्रण अधिकारी जिसके अधीन कम डीडीओ हो वे भी इसे उपयोग मे ले सकते है । Consolidate Software हेतू Developer से सम्पर्क करे । "]
[7,"इस प्रोग्राम को शिक्षा विभाग के अलावा अन्य विभाग भी उपयोग मे ले सकते है केवल Post Sheet मे Posts का नाम Google Input Tools का उपयोग करके एवम Database मे आय तथा व्यय की मदो का नाम Font- Krutidev 010 से एवम Object Head बदलकर कर सकते है ।"]
[null,"BEFORE DATA FEEDING PREPARATION"]
[1,"IFMS Budget Module से वर्तमान वित्तीय वर्ष का प्रत्येक Budget Headwise स्वीकृत Post का विवरण Download कर Print निकाले एवम बजट फाईल के साथ लाना है।"]
[2,"IFMS Budget Module से पिछले तीन वर्षो-2020-21, 2021-22, 2022-23 का प्रत्येक Budget Headwise Expenditure Download कर Print निकाले एवम बजट फाईल के साथ लाना है ।"]
[3,"IFMS Rajkosh Module से प्रत्येक Budget Headwise  1 Aug 22 से 31 Mar 23 तक एवम 1 Apr 23 से 31 July 23 तक का Expenditure Download कर Print निकाले एवम साथ लाना है।"]
[4,"पिछले तीन वर्षो-2020-21, 2021-22, 2022-23 मे चालानो से जमा करवाई गई आय की लिस्ट बनाये । साथ ही माह July 22 Paid Aug 23 के वेतन बिल की Inner Sheet Print कर लेवे।"]
[5,"1 Aug 22 से 31 Mar 23 तक एवम 1 Apr 23 से 31 July 23 तक चालानो से जमा करवाई गई आय के चालानो की प्रतिलिपि बजट फाईल के साथ लगाये । याद रहे केवल जमा करवाये गये चालानो को ही दर्शाना है ।"]
[6,"वर्तमान वर्ष की जो आय प्राप्त हुई है लेकिन चालान से जमा नही करवाई गई है उसे सम्भावित आय मे एवम आगामी वर्ष का अनुमान भी दर्शाये ।"]
[null," DATA FEEDING "]
[1,"सामान्यतया केवल दो ही प्रपत्रो मे Data Feeding करना है 1- Database 2- Estemate और आपका बजट तैयार है । सबसे पहले आपको Database मे Data Feed करने है और बाद मे Estemate मे । यदि कार्मिको का Arear, TA, Medicale बकाया हो तो तीनो Sheets को भरे वरना नही, चालानो का विवरण और Database मे आय केवल एक ही Head मे दर्शाना होता है।"]
[2,"प्रत्येक शीट मे दिये गये Comment Box को पढकर Data Feed करे ।"]
[3,"भवन किराया, शहरी भत्ता, पदविरुद्ध कार्मिको कि सूचना आदि आपसे सम्बंधित हो तो भरे अन्यथा नही ।"]
[4,"निले रंग के प्रपत्र एक DDO को नही भरने है और न ही Print करने है ।"]
[5,"Database-"]
[null,"© केवल पीले रंग की Cells मे ही Data Feeding करने है । पूर्व मे भरे हुए Data को Select कर Delete करदे, उपर Heading मे दिये गये Comment Box को ध्यान से पढकर कालमो की     पूर्ति करे ।"]
[null,"© सर्वप्रथम DDO का पद Select करे, कार्यालय का नाम, स्थान, Office Name in Short, DDO Code, Name of DDO & Mobile No.,तैयार कर्ता का नाम व Mobile No. लिखे । उसके बाद        आपके DDO के अधीन जितने Head है उतनी Copy, प्रत्येक Headwise अपने Computer मे Save करले । "]
[null,"© मुख्य लेखा शीर्ष एव उनका विवरण (IFMS Budget Module से Download करके देख सकते है) लिखे । स्कीम का नाम Select करे ।"]
[null,"© गत तीन वर्षो-2020-21, 2021-22, 2022-23 एवम 1 Aug 22 से 31 Mar 23 तक एवम 1 Apr 23 से 31 July 23 तक की प्राप्त आय को केवल एक ही Head मे दर्शाना है सभी Head मे नही "]
[null,"© स्वीकृत बजट एवम खर्चो का विवरण Expenditure की जो Print आपने निकाली है उसको देखकर भरनी है, प्रत्येक मद का संशोधित अनुमान व आगामी वर्ष का सम्भावित व्यय        अनुमान Feed  करना है । जो Cells Locked  है उनमे Data Automatic आयेगा उनको अनावश्यक नही छेडे । वर्तमान वर्ष के खर्चे मे 31 July 23 तक जो बिल पास हो चुके है उन्हे ही     दर्शाना है ।"]
[null,"© संवेतन, TA  का संशोधित अनुमान संबंधित प्रपत्रो से Automatic Fetch होगा,  TA  का आगामी वर्ष का सम्भावित अनुमान आपको Feed भरना है ।"]
[null,"© यदि आय व व्यय की मदे तथा Head आपके कार्यालय के अनुरूप नही है तो मदो पर Click  कर परिवर्तन कर सक्ते है Password-1234 है ।"]
[null,"© आय की मदे व Head प्रपत्र-10 व चालान मे Show होंगी एव व्यय की मदे व Head  प्रपत्र-9  मे Automatic Show होंगी ।"]
[6,"Estemate-"]
[null,"© केवल पीले रंग की Cells मे ही Data Feeding करने है । कार्यरत पद के सभी कालम की पूर्ति करनी है (विकलांग व अन्य भत्ते के अलावा) "]
[null,"© सर्वप्रथम संबंधित Head मे स्वीकृत पद का चयन करे एवम स्वीकृत पदो की संख्या लिखे जैसे- कनिष्ठ सहायक-2, कनिष्ठ सहायक को दो Row मे Select करे, लेकिन प्रथम पद के     सामने ही पदो की संख्या 2 लिखे ।"]
[null,"© Gazetted के लिए-G, Non-Gazetted के लिए-NG Select करे, शैक्षणिक कार्मिक के लिए-S व अन्य विभाग/मंत्रालयिक/च0श्रे0क0 के लिए-M Select करे । कार्मिक का नाम हिंदी मे लिखे      यदि पद भरा हुआ हो तो अन्यथा \"रिक्त पद\" लिखे और आगे के कालम खाली छोड देवे । "]
[null,"© यदि पद भरा हुआ हो तो कार्मिक का GPF/PRAN No. लिखे, कार्मिक का Gender Select करे, (विकलांग भत्ते के लिए-H, रोकडिया भत्ता के लिए-C, धुलाई भत्ता के लिए-W Select करे       यदि लागू ना हो तो खाली छोडे)"]
[null,"© कार्मिक का Pay- Level Select करे, 01-07-2023 का मूल वेतन लिखे यदि कार्मिक Probation मे है तो Fix मानदेय, Suspand  है तो निर्वाह भत्ता की कुल राशि, संविदा कार्मिक का          मानदेय लिखे ।"]
[null,"© कार्मिक की जन्म तिथि व प्रथम नियुक्ति तिथि \"DD-MM-YY\" Formate  मे ही लिखे, दिनांक को Copy-Past  नही करे । कार्मिक की नियुक्ति नियमित के लिए-R , Probation के लिए-F      , निलंबित के लिए-Suspand ,  संविदा के लिए-Contract Select करे ।"]
[null,"© यदि कोई कार्मिक 31-03-2025 तक सेवानिवृत्त हो रहा हो तो उसकी अवशेष उपार्जित अवकाशो की संख्या लिखे अन्यथा खाली छोड देवे । यदि आपने सेवानिवृत्त नही होने वाले      कार्मिक के इस कालम मे संख्या लिख दी तो कार्मिक का नाम Leave Encashment on Retirement Sheet मे Show करेगा ।"]
[null,"© कालम A-10 मे दिए गए Filter मे से Blank  को Unselect  कर OK करे अनावश्यक Row Hide हो जायेंगी । अब आपका बजट लगभग तैयार है । "]
[7,"Arear-"]
[null,"© यदि किसी कार्मिक का कोई Arear बकाया हो तो जो Estemate मे कार्मिक की क्रम संख्या है वह लिखे कार्मिक का नाम व पद Automatic आयेगा, Arear का प्रकार Select करे, Arear        की अवधि लिखे व Arear की कुल बकाया राशि लिखे ।"]
[8,"यदि कार्मिको का TA  का Bill बकाया हो तो TA प्रपत्र को भरे अन्यथा पूर्व मे भरे हुए Data को Delete कर देवे ।"]
[9,"RSCIT मांग हेतू कार्यालय व्यय-05 में ही मांग करनी है साथ ही RSCIT प्रपत्र भी भरना है "]
[10,"प्रपत्र Building Rent, CCA, P-1B, P-1C यदि आपसे संबंधित हो तो भरे अन्यथा खाली छोड देवे ।"]
[11,"शेष प्रपत्र जो नीले रंग मे है एक DDO  के लिए नही है ।"]
[null," DATA PRINTING "]
[1,"Homepage पर Print करने वाले प्रपत्रो की सूची दी गई है जिसमे अनिवार्य प्रपत्र जो Print करने है दिये गये है, Print करने से पूर्व प्रत्येक प्रपत्र की Heading मे दिये गये Comment Box      को ध्यान से पढकर Filter मे से Blank / 0  को Unselect  कर OK करे अनावश्यक Row Hide हो जायेंगी"]
[2,"एच्छिक प्रपत्रो मे से जिनमे आपसे संबंधित डाटा है उनको ही Print करना है बाकि को नही ।"]
[3,"एच्छिक प्रपत्रो मे से जो नीले रंग मे लिखे है वो प्रपत्र डीडीओ के लिए नही है । यदि फिर भी आपका नियंत्रण अधिकरी मांगे तो आप कर सकते है ।"]
[null," BUDGET SUBMITING "]
[1,"प्रत्येक Budget Headwise एक बजट फाईल बनानी है, जिसमे आवश्यक प्रपत्र एव जो BEFORE DATA FEEDING PREPARATION मे आपने PRINT Download किये है उनको संलग्न करना है ।"]
[]
[]
[]
[]
["Chaturbhuj Jat",null,null,null,null,null,null,null,null,null,null,null,null,null,"Whatsapp No- 9829303549"]
["Teacher",null,null,null,null,null,null,null,null,null,null,null,null,null,"Email- chaturbhujjat76@gmail.com"]
["Govt. Sr Sec Sch Chogai Tonk"]

{"sheet":"Database","index":2,"n_rows":41,"n_cols":273,"rows_kept":41,"cut":false,"hidden":true,"merged":[[2,272,3,272],[1,256,1,268],[2,256,2,258],[2,259,2,265],[2,266,2,267],[2,268,3,268],[1,243,1,255],[2,243,2,245],[2,246,2,252],[2,253,2,254],[2,255,3,255],[2,271,3,271],[2,269,3,269],[2,270,3,270],[1,269,1,271],[1,230,1,242],[2,230,2,232],[2,233,2,239],[2,240,2,241],[2,242,3,242],[1,217,1,229],[2,217,2,219],[2,220,2,226],[2,227,2,228],[2,229,3,229],[1,204,1,216],[2,204,2,206],[2,207,2,213],[2,214,2,215],[2,216,3,216],[2,149,2,150],[2,151,3,151],[1,152,1,164],[2,152,2,154],[2,155,2,161],[2,162,2,163],[2,164,3,164],[2,194,2,200],[2,178,2,180],[2,181,2,187],[2,188,2,189],[2,190,3,190],[2,191,2,193],[1,178,1,190],[1,191,1,203],[2,201,2,202],[2,203,3,203],[1,126,1,138],[2,165,2,167],[2,168,2,174],[2,175,2,176],[2,177,3,177],[2,129,2,135],[2,136,2,137],[2,138,3,138],[2,139,2,141],[2,142,2,148],[1,139,1,151],[1,165,1,177],[2,60,2,66],[2,67,2,73],[1,113,1,125],[2,113,2,115],[2,116,2,122],[2,123,2,124],[2,125,3,125],[2,86,3,86],[1,74,1,86],[1,87,1,99],[2,87,2,89],[2,90,2,96],[2,97,2,98],[2,99,3,99],[1,100,1,112],[2,112,3,112],[6,2,6,4],[7,2,7,4],[7,5,7,6],[19,14,20,14],[9,10,10,10],[9,11,10,11],[9,9,10,9],[9,8,10,8],[9,7,10,7],[9,6,10,6],[9,5,10,5],[19,5,19,11],[19,12,19,13],[10,1,10,4],[19,2,19,4],[3,2,3,4],[4,2,4,4],[5,2,5,4],[0,1,0,4],[2,1,2,4],[1,1,1,14],[0,5,0,11],[2,126,2,128],[2,100,2,102],[2,103,2,109],[2,110,2,111],[2,25,2,31],[2,32,2,38],[2,39,2,45],[2,46,2,52],[2,18,2,24],[1,17,3,17],[1,16,3,16],[1,15,3,15],[1,18,1,73],[2,74,2,76],[2,77,2,83],[2,84,2,85],[2,53,2,59]]}
[null,"dk;kZy;&",null,null,null,{"$f":"A4&\"&\"&A5","v":"jktdh; mPp ek/;fed fo|ky;&pkSxkbZa] Vksad"}]
["eksgj&","vk; O;;d vuqeku&2024&25 rFkk la'kksf/kr vuqeku 2023&24",null,null,null,null,null,null,null,null,null,null,null,null,null,"dz0la0","MhMhvks dksM","uke dk;kZy;","dqy izkIr vk;",null,null,null,null,null,null,null,null,null,null,null,null,null,null,null,null,null,null,null,null,null,null,null,null,null,null,null,null,null,null,null,null,null,null,null,null,null,null,null,null,null,null,null,null,null,null,null,null,null,null,null,null,null,null,null,{"$f":"$A$22","v":"01&laosru"},null,null,null,null,null,null,null,null,null,null,null,null,{"$f":"$A$23","v":"03&;k=k O;;"},null,null,null,null,null,null,null,null,null,null,null,null,{"$f":"$A$24","v":"41&lafonk lsokvksa ij O;;"},null,null,null,null,null,null,null,null,null,null,null,null,{"$f":"$A$25","v":"05‌‌-कार्यालय व्यय"},null,null,null,null,null,null,null,null,null,null,null,null,{"$f":"$A$26","v":"09&fdjk;k dj jk;fYV"},null,null,null,null,null,null,null,null,null,null,null,null,{"$f":"$A$27","v":"05-RSCIT पुनर्भरण राशि"},null,null,null,null,null,null,null,null,null,null,null,null,{"$f":"$A$28","v":"21&j[kj[kko o lq/kkj"},null,null,null,null,null,null,null,null,null,null,null,null,{"$f":"$A$29","v":"28&vU; izHkkj"},null,null,null,null,null,null,null,null,null,null,null,null,{"$f":"$A$30","v":"19&ty ,oa fo|qr O;;"},null,null,null,null,null,null,null,null,null,null,null,null,{"$f":"$A$31","v":"31&iqLrdky;"},null,null,null,null,null,null,null,null,null,null,null,null,{"$f":"$A$32","v":"33&iz;ksx'kkyk"},null,null,null,null,null,null,null,null,null,null,null,null,{"$f":"$A$33","v":"36&okgu fdjk;k"},null,null,null,null,null,null,null,null,null,null,null,null,{"$f":"$A$34","v":"37&ofnZ;ka"},null,null,null,null,null,null,null,null,null,null,null,null,{"$f":"$A$35","v":"57&foHkkxh;lsokvksa ij fof'k\"V O;;"},null,null,null,null,null,null,null,null,null,null,null,null,{"$f":"$A$36","v":"62&dEI;wVjkbZts'ku ,oa lapkj O;;"},null,null,null,null,null,null,null,null,null,null,null,null,"RSCIT Amount",null,null,"Arear"]
["प्रधानाचार्य","eq[; ys[kk 'kh\"kZ&",null,null,null,null,null,null,null,null,null,null,null,null,null,null,null,null,{"$f":"A12","v":"f'k{k.k Qhl o vU; Qhl"},null,null,null,null,null,null,{"$f":"A13","v":"ikB~; iqLrdksa ls vk;"},null,null,null,null,null,null,{"$f":"A14","v":"fofo/k vk;"},null,null,null,null,null,null,{"$f":"A15","v":"vf/kd Hkqxrku dh olwyh ek0f'k0"},null,null,null,null,null,null,{"$f":"A16","v":"vf/kd Hkqxrku dh olwyh izk0f'k0"},null,null,null,null,null,null,{"$f":"A17","v":"vuqi;ksxh lkeku ls vk;"},null,null,null,null,null,null,{"$f":"A18","v":"Nk=o`fRr;ka@lkbZfdy 'ks\"k"},null,null,null,null,null,null,{"$f":"A19","v":"va'knku o o`fRr;ksa ls vk;"},null,null,null,null,null,null,{"$f":"$C$20","v":"Lohd`r ctV 24&25"},null,null,{"$f":"$F$20","v":"[kpksZa dk fooj.k"},null,null,null,null,null,null,{"$f":"$M$20","v":" O;; 04@23 ls 07@23"},null,{"$f":"$O$20","v":"O;; vuqeku 2024&25"},{"$f":"$C$20","v":"Lohd`r ctV 24&25"},null,null,{"$f":"$F$20","v":"[kpksZa dk fooj.k"},null,null,null,null,null,null,{"$f":"$M$20","v":" O;; 04@23 ls 07@23"},null,{"$f":"$O$20","v":"O;; vuqeku 2024&25"},{"$f":"$C$20","v":"Lohd`r ctV 24&25"},null,null,{"$f":"$F$20","v":"[kpksZa dk fooj.k"},null,null,null,null,null,null,{"$f":"$M$20","v":" O;; 04@23 ls 07@23"},null,{"$f":"$O$20","v":"O;; vuqeku 2024&25"},{"$f":"$C$20","v":"Lohd`r ctV 24&25"},null,null,{"$f":"$F$20","v":"[kpksZa dk fooj.k"},null,null,null,null,null,null,{"$f":"$M$20","v":" O;; 04@23 ls 07@23"},null,{"$f":"$O$20","v":"O;; vuqeku 2024&25"},{"$f":"$C$20","v":"Lohd`r ctV 24&25"},null,null,{"$f":"$F$20","v":"[kpksZa dk fooj.k"},null,null,null,null,null,null,{"$f":"$M$20","v":" O;; 04@23 ls 07@23"},null,{"$f":"$O$20","v":"O;; vuqeku 2024&25"},{"$f":"$C$20","v":"Lohd`r ctV 24&25"},null,null,{"$f":"$F$20","v":"[kpksZa dk fooj.k"},null,null,null,null,null,null,{"$f":"$M$20","v":" O;; 04@23 ls 07@23"},null,{"$f":"$O$20","v":"O;; vuqeku 2024&25"},{"$f":"$C$20","v":"Lohd`r ctV 24&25"},null,null,{"$f":"$F$20","v":"[kpksZa dk fooj.k"},null,null,null,null,null,null,{"$f":"$M$20","v":" O;; 04@23 ls 07@23"},null,{"$f":"$O$20","v":"O;; vuqeku 2024&25"},{"$f":"$C$20","v":"Lohd`r ctV 24&25"},null,null,{"$f":"$F$20","v":"[kpksZa dk fooj.k"},null,null,null,null,null,null,{"$f":"$M$20","v":" O;; 04@23 ls 07@23"},null,{"$f":"$O$20","v":"O;; vuqeku 2024&25"},{"$f":"$C$20","v":"Lohd`r ctV 24&25"},null,null,{"$f":"$F$20","v":"[kpksZa dk fooj.k"},null,null,null,null,null,null,{"$f":"$M$20","v":" O;; 04@23 ls 07@23"},null,{"$f":"$O$20","v":"O;; vuqeku 2024&25"},{"$f":"$C$20","v":"Lohd`r ctV 24&25"},null,null,{"$f":"$F$20","v":"[kpksZa dk fooj.k"},null,null,null,null,null,null,{"$f":"$M$20","v":" O;; 04@23 ls 07@23"},null,{"$f":"$O$20","v":"O;; vuqeku 2024&25"},{"$f":"$C$20","v":"Lohd`r ctV 24&25"},null,null,{"$f":"$F$20","v":"[kpksZa dk fooj.k"},null,null,null,null,null,null,{"$f":"$M$20","v":" O;; 04@23 ls 07@23"},null,{"$f":"$O$20","v":"O;; vuqeku 2024&25"},{"$f":"$C$20","v":"Lohd`r ctV 24&25"},null,null,{"$f":"$F$20","v":"[kpksZa dk fooj.k"},null,null,null,null,null,null,{"$f":"$M$20","v":" O;; 04@23 ls 07@23"},null,{"$f":"$O$20","v":"O;; vuqeku 2024&25"},{"$f":"$C$20","v":"Lohd`r ctV 24&25"},null,null,{"$f":"$F$20","v":"[kpksZa dk fooj.k"},null,null,null,null,null,null,{"$f":"$M$20","v":" O;; 04@23 ls 07@23"},null,{"$f":"$O$20","v":"O;; vuqeku 2024&25"},{"$f":"$C$20","v":"Lohd`r ctV 24&25"},null,null,{"$f":"$F$20","v":"[kpksZa dk fooj.k"},null,null,null,null,null,null,{"$f":"$M$20","v":" O;; 04@23 ls 07@23"},null,{"$f":"$O$20","v":"O;; vuqeku 2024&25"},{"$f":"$C$20","v":"Lohd`r ctV 24&25"},null,null,{"$f":"$F$20","v":"[kpksZa dk fooj.k"},null,null,null,null,null,null,{"$f":"$M$20","v":" O;; 04@23 ls 07@23"},null,{"$f":"$O$20","v":"O;; vuqeku 2024&25"},"31-07-23 rd dqy cdk;k","31-07-23 rd dqy Hkqxrku","Amount Received til 31-07-23 ","Arear"]
["jktdh; mPp ek/;fed fo|ky;",2202,"lkekU; f'k{kk",null,null,null,null,"MhMhvks dksM&","uke MhMhvks",null,"eksckbZy ua0",null,null,null,null,null,null,null,{"$f":"$F$10","v":"2020-21"},{"$f":"$G$10","v":"2021-22"},{"$f":"$H$10","v":"2022-23"},{"$f":"$I$10","v":"08/22 to 03/23"},{"$f":"$J$10","v":"04/23 to 07/23"},{"$f":"$K$10","v":"la'kksf/kr vuqeku 2023&24"},{"$f":"$L$10","v":"vk; vuqeku 2024&25"},{"$f":"$F$10","v":"2020-21"},{"$f":"$G$10","v":"2021-22"},{"$f":"$H$10","v":"2022-23"},{"$f":"$I$10","v":"08/22 to 03/23"},{"$f":"$J$10","v":"04/23 to 07/23"},{"$f":"$K$10","v":"la'kksf/kr vuqeku 2023&24"},{"$f":"$L$10","v":"vk; vuqeku 2024&25"},{"$f":"$F$10","v":"2020-21"},{"$f":"$G$10","v":"2021-22"},{"$f":"$H$10","v":"2022-23"},{"$f":"$I$10","v":"08/22 to 03/23"},{"$f":"$J$10","v":"04/23 to 07/23"},{"$f":"$K$10","v":"la'kksf/kr vuqeku 2023&24"},{"$f":"$L$10","v":"vk; vuqeku 2024&25"},{"$f":"$F$10","v":"2020-21"},{"$f":"$G$10","v":"2021-22"},{"$f":"$H$10","v":"2022-23"},{"$f":"$I$10","v":"08/22 to 03/23"},{"$f":"$J$10","v":"04/23 to 07/23"},{"$f":"$K$10","v":"la'kksf/kr vuqeku 2023&24"},{"$f":"$L$10","v":"vk; vuqeku 2024&25"},{"$f":"$F$10","v":"2020-21"},{"$f":"$G$10","v":"2021-22"},{"$f":"$H$10","v":"2022-23"},{"$f":"$I$10","v":"08/22 to 03/23"},{"$f":"$J$10","v":"04/23 to 07/23"},{"$f":"$K$10","v":"la'kksf/kr vuqeku 2023&24"},{"$f":"$L$10","v":"vk; vuqeku 2024&25"},{"$f":"$F$10","v":"2020-21"},{"$f":"$G$10","v":"2021-22"},{"$f":"$H$10","v":"2022-23"},{"$f":"$I$10","v":"08/22 to 03/23"},{"$f":"$J$10","v":"04/23 to 07/23"},{"$f":"$K$10","v":"la'kksf/kr vuqeku 2023&24"},{"$f":"$L$10","v":"vk; vuqeku 2024&25"},{"$f":"$F$10","v":"2020-21"},{"$f":"$G$10","v":"2021-22"},{"$f":"$H$10","v":"2022-23"},{"$f":"$I$10","v":"08/22 to 03/23"},{"$f":"$J$10","v":"04/23 to 07/23"},{"$f":"$K$10","v":"la'kksf/kr vuqeku 2023&24"},{"$f":"$L$10","v":"vk; vuqeku 2024&25"},{"$f":"$F$10","v":"2020-21"},{"$f":"$G$10","v":"2021-22"},{"$f":"$H$10","v":"2022-23"},{"$f":"$I$10","v":"08/22 to 03/23"},{"$f":"$J$10","v":"04/23 to 07/23"},{"$f":"$K$10","v":"la'kksf/kr vuqeku 2023&24"},{"$f":"$L$10","v":"vk; vuqeku 2024&25"},{"$f":"$C$21","v":"dqy ;ksx"},{"$f":"$D$21","v":"राज्य निधि"},{"$f":"$E$21","v":"केंद्रीय सहायता"},{"$f":"$F$21","v":"2020-21"},{"$f":"$G$21","v":"2021-22"},{"$f":"$H$21","v":"2022-23"},{"$f":"$I$21","v":"08/22 to 03/23"},{"$f":"$J$21","v":"04/23 to 07/23"},{"$f":"$K$21","v":"lEHkkfor O;; 2023&24"},{"$f":"$L$21","v":"dqy ;ksx"},{"$f":"$M$21","v":"jkT; fuf/k"},{"$f":"$N$21","v":"dsUnzh; lgk;rk"},null,{"$f":"$C$21","v":"dqy ;ksx"},{"$f":"$D$21","v":"राज्य निधि"},{"$f":"$E$21","v":"केंद्रीय सहायता"},{"$f":"$F$21","v":"2020-21"},{"$f":"$G$21","v":"2021-22"},{"$f":"$H$21","v":"2022-23"},{"$f":"$I$21","v":"08/22 to 03/23"},{"$f":"$J$21","v":"04/23 to 07/23"},{"$f":"$K$21","v":"lEHkkfor O;; 2023&24"},{"$f":"$L$21","v":"dqy ;ksx"},{"$f":"$M$21","v":"jkT; fuf/k"},{"$f":"$N$21","v":"dsUnzh; lgk;rk"},null,{"$f":"$C$21","v":"dqy ;ksx"},{"$f":"$D$21","v":"राज्य निधि"},{"$f":"$E$21","v":"केंद्रीय सहायता"},{"$f":"$F$21","v":"2020-21"},{"$f":"$G$21","v":"2021-22"},{"$f":"$H$21","v":"2022-23"},{"$f":"$I$21","v":"08/22 to 03/23"},{"$f":"$J$21","v":"04/23 to 07/23"},{"$f":"$K$21","v":"lEHkkfor O;; 2023&24"},{"$f":"$L$21","v":"dqy ;ksx"},{"$f":"$M$21","v":"jkT; fuf/k"},{"$f":"$N$21","v":"dsUnzh; lgk;rk"},null,{"$f":"$C$21","v":"dqy ;ksx"},{"$f":"$D$21","v":"राज्य निधि"},{"$f":"$E$21","v":"केंद्रीय सहायता"},{"$f":"$F$21","v":"2020-21"},{"$f":"$G$21","v":"2021-22"},{"$f":"$H$21","v":"2022-23"},{"$f":"$I$21","v":"08/22 to 03/23"},{"$f":"$J$21","v":"04/23 to 07/23"},{"$f":"$K$21","v":"lEHkkfor O;; 2023&24"},{"$f":"$L$21","v":"dqy ;ksx"},{"$f":"$M$21","v":"jkT; fuf/k"},{"$f":"$N$21","v":"dsUnzh; lgk;rk"},null,{"$f":"$C$21","v":"dqy ;ksx"},{"$f":"$D$21","v":"राज्य निधि"},{"$f":"$E$21","v":"केंद्रीय सहायता"},{"$f":"$F$21","v":"2020-21"},{"$f":"$G$21","v":"2021-22"},{"$f":"$H$21","v":"2022-23"},{"$f":"$I$21","v":"08/22 to 03/23"},{"$f":"$J$21","v":"04/23 to 07/23"},{"$f":"$K$21","v":"lEHkkfor O;; 2023&24"},{"$f":"$L$21","v":"dqy ;ksx"},{"$f":"$M$21","v":"jkT; fuf/k"},{"$f":"$N$21","v":"dsUnzh; lgk;rk"},null,{"$f":"$C$21","v":"dqy ;ksx"},{"$f":"$D$21","v":"राज्य निधि"},{"$f":"$E$21","v":"केंद्रीय सहायता"},{"$f":"$F$21","v":"2020-21"},{"$f":"$G$21","v":"2021-22"},{"$f":"$H$21","v":"2022-23"},{"$f":"$I$21","v":"08/22 to 03/23"},{"$f":"$J$21","v":"04/23 to 07/23"},{"$f":"$K$21","v":"lEHkkfor O;; 2023&24"},{"$f":"$L$21","v":"dqy ;ksx"},{"$f":"$M$21","v":"jkT; fuf/k"},{"$f":"$N$21","v":"dsUnzh; lgk;rk"},null,{"$f":"$C$21","v":"dqy ;ksx"},{"$f":"$D$21","v":"राज्य निधि"},{"$f":"$E$21","v":"केंद्रीय सहायता"},{"$f":"$F$21","v":"2020-21"},{"$f":"$G$21","v":"2021-22"},{"$f":"$H$21","v":"2022-23"},{"$f":"$I$21","v":"08/22 to 03/23"},{"$f":"$J$21","v":"04/23 to 07/23"},{"$f":"$K$21","v":"lEHkkfor O;; 2023&24"},{"$f":"$L$21","v":"dqy ;ksx"},{"$f":"$M$21","v":"jkT; fuf/k"},{"$f":"$N$21","v":"dsUnzh; lgk;rk"},null,{"$f":"$C$21","v":"dqy ;ksx"},{"$f":"$D$21","v":"राज्य निधि"},{"$f":"$E$21","v":"केंद्रीय सहायता"},{"$f":"$F$21","v":"2020-21"},{"$f":"$G$21","v":"2021-22"},{"$f":"$H$21","v":"2022-23"},{"$f":"$I$21","v":"08/22 to 03/23"},{"$f":"$J$21","v":"04/23 to 07/23"},{"$f":"$K$21","v":"lEHkkfor O;; 2023&24"},{"$f":"$L$21","v":"dqy ;ksx"},{"$f":"$M$21","v":"jkT; fuf/k"},{"$f":"$N$21","v":"dsUnzh; lgk;rk"},null,{"$f":"$C$21","v":"dqy ;ksx"},{"$f":"$D$21","v":"राज्य निधि"},{"$f":"$E$21","v":"केंद्रीय सहायता"},{"$f":"$F$21","v":"2020-21"},{"$f":"$G$21","v":"2021-22"},{"$f":"$H$21","v":"2022-23"},{"$f":"$I$21","v":"08/22 to 03/23"},{"$f":"$J$21","v":"04/23 to 07/23"},{"$f":"$K$21","v":"lEHkkfor O;; 2023&24"},{"$f":"$L$21","v":"dqy ;ksx"},{"$f":"$M$21","v":"jkT; fuf/k"},{"$f":"$N$21","v":"dsUnzh; lgk;rk"},null,{"$f":"$C$21","v":"dqy ;ksx"},{"$f":"$D$21","v":"राज्य निधि"},{"$f":"$E$21","v":"केंद्रीय सहायता"},{"$f":"$F$21","v":"2020-21"},{"$f":"$G$21","v":"2021-22"},{"$f":"$H$21","v":"2022-23"},{"$f":"$I$21","v":"08/22 to 03/23"},{"$f":"$J$21","v":"04/23 to 07/23"},{"$f":"$K$21","v":"lEHkkfor O;; 2023&24"},{"$f":"$L$21","v":"dqy ;ksx"},{"$f":"$M$21","v":"jkT; fuf/k"},{"$f":"$N$21","v":"dsUnzh; lgk;rk"},null,{"$f":"$C$21","v":"dqy ;ksx"},{"$f":"$D$21","v":"राज्य निधि"},{"$f":"$E$21","v":"केंद्रीय सहायता"},{"$f":"$F$21","v":"2020-21"},{"$f":"$G$21","v":"2021-22"},{"$f":"$H$21","v":"2022-23"},{"$f":"$I$21","v":"08/22 to 03/23"},{"$f":"$J$21","v":"04/23 to 07/23"},{"$f":"$K$21","v":"lEHkkfor O;; 2023&24"},{"$f":"$L$21","v":"dqy ;ksx"},{"$f":"$M$21","v":"jkT; fuf/k"},{"$f":"$N$21","v":"dsUnzh; lgk;rk"},null,{"$f":"$C$21","v":"dqy ;ksx"},{"$f":"$D$21","v":"राज्य निधि"},{"$f":"$E$21","v":"केंद्रीय सहायता"},{"$f":"$F$21","v":"2020-21"},{"$f":"$G$21","v":"2021-22"},{"$f":"$H$21","v":"2022-23"},{"$f":"$I$21","v":"08/22 to 03/23"},{"$f":"$J$21","v":"04/23 to 07/23"},{"$f":"$K$21","v":"lEHkkfor O;; 2023&24"},{"$f":"$L$21","v":"dqy ;ksx"},{"$f":"$M$21","v":"jkT; fuf/k"},{"$f":"$N$21","v":"dsUnzh; lgk;rk"},null,{"$f":"$C$21","v":"dqy ;ksx"},{"$f":"$D$21","v":"राज्य निधि"},{"$f":"$E$21","v":"केंद्रीय सहायता"},{"$f":"$F$21","v":"2020-21"},{"$f":"$G$21","v":"2021-22"},{"$f":"$H$21","v":"2022-23"},{"$f":"$I$21","v":"08/22 to 03/23"},{"$f":"$J$21","v":"04/23 to 07/23"},{"$f":"$K$21","v":"lEHkkfor O;; 2023&24"},{"$f":"$L$21","v":"dqy ;ksx"},{"$f":"$M$21","v":"jkT; fuf/k"},{"$f":"$N$21","v":"dsUnzh; lgk;rk"},null,{"$f":"$C$21","v":"dqy ;ksx"},{"$f":"$D$21","v":"राज्य निधि"},{"$f":"$E$21","v":"केंद्रीय सहायता"},{"$f":"$F$21","v":"2020-21"},{"$f":"$G$21","v":"2021-22"},{"$f":"$H$21","v":"2022-23"},{"$f":"$I$21","v":"08/22 to 03/23"},{"$f":"$J$21","v":"04/23 to 07/23"},{"$f":"$K$21","v":"lEHkkfor O;; 2023&24"},{"$f":"$L$21","v":"dqy ;ksx"},{"$f":"$M$21","v":"jkT; fuf/k"},{"$f":"$N$21","v":"dsUnzh; lgk;rk"},null,{"$f":"$C$21","v":"dqy ;ksx"},{"$f":"$D$21","v":"राज्य निधि"},{"$f":"$E$21","v":"केंद्रीय सहायता"},{"$f":"$F$21","v":"2020-21"},{"$f":"$G$21","v":"2021-22"},{"$f":"$H$21","v":"2022-23"},{"$f":"$I$21","v":"08/22 to 03/23"},{"$f":"$J$21","v":"04/23 to 07/23"},{"$f":"$K$21","v":"lEHkkfor O;; 2023&24"},{"$f":"$L$21","v":"dqy ;ksx"},{"$f":"$M$21","v":"jkT; fuf/k"},{"$f":"$N$21","v":"dsUnzh; lgk;rk"}]
["pkSxkbZa] Vksad",2,"ek/;fed f'k{kk",null,null,null,null,27306,"guqeku izlkn tkV",null,9829989790,null,null,null,null,{"$f":"IF(Q5=\"\",\"\",1)","v":1},{"$f":"H5","v":27306},{"$f":"A7","v":"GSSS Chogai Tonk"},{"$f":"F12","v":0},{"$f":"G12","v":0},0,0,0,0,0,{"$f":"F13","v":0},{"$f":"G13","v":0},0,0,0,0,0,{"$f":"F14","v":0},{"$f":"G14","v":0},0,0,0,0,0,{"$f":"F15","v":0},{"$f":"G15","v":0},0,0,0,0,0,{"$f":"F16","v":0},{"$f":"G16","v":0},0,0,0,0,0,{"$f":"F17","v":0},{"$f":"G17","v":0},0,0,0,0,0,{"$f":"F18","v":0},{"$f":"G18","v":0},0,0,0,0,0,{"$f":"F19","v":0},{"$f":"G19","v":0},0,0,0,0,0,{"$f":"C22","v":0},{"$f":"D22","v":0},0,0,0,0,0,0,0,0,0,0,0,{"$f":"C23","v":0},{"$f":"D23","v":0},0,0,0,0,0,0,0,0,0,0,0,{"$f":"C24","v":0},{"$f":"D24","v":0},0,0,0,0,0,0,0,0,0,0,0,{"$f":"C25","v":0},{"$f":"D25","v":0},0,0,0,0,0,0,0,0,0,0,0,{"$f":"C26","v":0},{"$f":"D26","v":0},0,0,0,0,0,0,0,0,0,0,0,{"$f":"C27","v":0},{"$f":"D27","v":0},0,0,0,0,0,0,0,0,0,0,0,{"$f":"C28","v":0},{"$f":"D28","v":0},0,0,0,0,0,0,0,0,0,0,0,{"$f":"C29","v":0},{"$f":"D29","v":0},0,0,0,0,0,0,0,0,0,0,0,{"$f":"C30","v":0},{"$f":"D30","v":0},0,0,0,0,0,0,0,0,0,0,0,{"$f":"C31","v":0},{"$f":"D31","v":0},0,0,0,0,0,0,0,0,0,0,0,{"$f":"C32","v":0},{"$f":"D32","v":0},0,0,0,0,0,0,0,0,0,0,0,{"$f":"C33","v":0},{"$f":"D33","v":0},0,0,0,0,0,0,0,0,0,0,0,{"$f":"C34","v":0},{"$f":"D34","v":0},0,0,0,0,0,0,0,0,0,0,0,{"$f":"C35","v":0},{"$f":"D35","v":0},0,0,0,0,0,0,0,0,0,0,0,{"$f":"C36","v":0},{"$f":"D36","v":0},0,{"$f":"F36","v":0},0,0,0,0,0,0,0,0,{"$f":"O36","v":0},{"$f":"Medical!F131","v":0},{"$f":"Medical!G131","v":0},{"$f":"C27","v":0},{"$f":"Arear!H31","v":0}]
["Office Name in Short",109,"jktdh; mPp ek/;fed fo|ky;",null,null,null,null,"rS;kj drkZ&","prqHkqZt tkV",null,9829303549,null,null,null,null,{"$f":"IF(Q6=\"\",\"\",P5+1)","v":""}]
["GSSS Chogai Tonk",1,"yMdksa ds fo|ky;",null,null,null,null,null,null,null,null,null,null,null,null,{"$f":"IF(Q7=\"\",\"\",P6+1)","v":""}]
[null,0,"lkekU; O;;",null,null,"Ldhe dk uke&",null,"राज्य निधि",null,null,null,null,null,null,null,""]
[null,null,null,null,"DA Rate",42,"HRA",9,"DA Arear",4,"Arear Months",3,null,null,null,""]
["xr rhu o\"kksZ dh vk; ,oa O;; dk fooj.k",null,null,null,null,{"$f":"F21","v":"2020-21"},{"$f":"G21","v":"2021-22"},{"$f":"H21","v":"2022-23"},{"$f":"I21","v":"08/22 to 03/23"},{"$f":"J21","v":"04/23 to 07/23"},"la'kksf/kr vuqeku 2023&24","vk; vuqeku 2024&25",null,null,null,""]
["vk; en","vk; gsM",null,null,null,null,null,null,null,null,null,null,null,null,null,""]
["f'k{k.k Qhl o vU; Qhl","0202-01",102,1,0,0,0,0,0,0,0,0,null,null,null,""]
["ikB~; iqLrdksa ls vk;","0202-01",102,2,0,0,0,0,0,0,0,0,null,null,null,""]
["fofo/k vk;","0202-01",102,3,1,0,0,0,0,0,0,0,null,null,null,""]
["vf/kd Hkqxrku dh olwyh ek0f'k0","2202-02",911,1,1,0,0,0,0,0,0,0,null,null,null,null,null,"Total",{"$f":"SUM(S5:S14)","v":0},{"$f":"SUM(T5:T14)","v":0},0,0,0,0,0,0,0,0,0,0,0,0,0,0,0,0,0,0,0,0,0,0,0,0,0,0,0,0,0,0,0,0,0,0,0,0,0,0,0,0,0,0,0,0,0,0,0,0,0,0,0,0,0,0,0,0,0,0,0,0,0,0,0,{"$f":"SUM(CF5:CF14)","v":0},0,0,0,0,0,0,0,0,0,0,0,0,0,0,0,0,0,0,0,0,0,0,0,0,0,0,0,0,0,0,0,0,0,0,0,0,0,0,0,0,0,0,0,0,0,0,0,0,0,0,0,0,0,0,0,0,0,0,0,0,0,0,0,{"$f":"SUM(ER5:ER14)","v":0},0,0,0,0,0,0,0,0,0,0,0,0,0,0,0,0,0,0,0,0,0,0,0,0,0,0,0,0,0,0,0,0,0,0,0,0,0,0,0,0,0,0,0,0,0,0,0,0,0,0,0,0,0,0,0,0,0,0,0,0,0,0,0,{"$f":"SUM(HD5:HD14)","v":0},0,0,0,0,0,0,0,0,0,0,0,0,0,0,0,0,0,0,0,0,0,0,0,0,0,0,0,0,0,0,0,0,0,0,0,0,0,0,0,0,0,0,0,0,0,0,0,0,0,0,0,0,0,0,0,0,0,0,0,0,0]
["vf/kd Hkqxrku dh olwyh izk0f'k0","2202-01",911,1,0,0,0,0,0,0,0,0]
["vuqi;ksxh lkeku ls vk;","0202-01",102,50,2,0,0,0,0,0,0,0]
["Nk=o`fRr;ka@lkbZfdy 'ks\"k","0202-01",102,3,1,0,0,0,0,0,0,0]
["va'knku o o`fRr;ksa ls vk;","0202-01",102,3,3,0,0,0,0,0,0,0]
["O;;",null,"Lohd`r ctV 24&25",null,null,"[kpksZa dk fooj.k",null,null,null,null,null,null," O;; 04@23 ls 07@23",null,"O;; vuqeku 2024&25"]
["O;; en","mien","dqy ;ksx","राज्य निधि","केंद्रीय सहायता","2020-21","2021-22","2022-23","08/22 to 03/23","04/23 to 07/23","lEHkkfor O;; 2023&24","dqy ;ksx","jkT; fuf/k","dsUnzh; lgk;rk"]
["01&laosru",1,{"$f":"SUM(D22+E22)","v":0},0,0,0,0,0,0,0,{"$f":"'8'!M172","v":0},{"$f":"SUM(M22+N22)","v":0},0,0,{"$f":"'8'!L172","v":0}]
["03&;k=k O;;",3,{"$f":"SUM(D23+E23)","v":0},0,0,0,0,0,0,0,{"$f":"TA!J26+C23","v":0},{"$f":"SUM(M23+N23)","v":0},0,0,0]
["41&lafonk lsokvksa ij O;;",41,0,0,0,0,0,0,0,0,{"$f":"Contract!J111","v":0},0,0,0,0]
["05‌‌-कार्यालय व्यय",5,0,0,0,0,0,0,0,0,0,0,0,0,0]
["09&fdjk;k dj jk;fYV",9,{"$f":"SUM(D26+E26)","v":0},0,0,0,0,0,0,0,0,0,0,0,0]
["05-RSCIT पुनर्भरण राशि",5,0,0,0,0,0,0,0,{"$f":"Medical!G131","v":0},{"$f":"Medical!F131","v":0},0,0,0,0]
["21&j[kj[kko o lq/kkj",21,0,0,0,0,0,0,0,0,0,0,0,0,0]
["28&vU; izHkkj",28,0,0,0,0,0,0,0,0,0,0,0,0,0]
["19&ty ,oa fo|qr O;;",19,0,0,0,0,0,0,0,0,0,0,0,0,0]
["31&iqLrdky;",31,0,0,0,0,0,0,0,0,0,0,0,0,0]
["33&iz;ksx'kkyk",33,0,0,0,0,0,0,0,0,0,0,0,0,0]
["36&okgu fdjk;k",36,0,0,0,0,0,0,0,0,0,0,0,0,0]
["37&ofnZ;ka",37,0,0,0,0,0,0,0,0,0,0,0,0,0]
["57&foHkkxh;lsokvksa ij fof'k\"V O;;",57,0,0,0,0,0,0,0,0,0,0,0,0,0]
["62&dEI;wVjkbZts'ku ,oa lapkj O;;",62,0,0,0,0,0,0,0,0,0,0,0,0,0]
["Developed & Designed By-"]
["Chaturbhuj Jat",null,null,null,null,null,null,null,null,null,null,null,null,{"$f":"A3","v":"प्रधानाचार्य"}]
["Teacher ",null,null,null,null,null,null,null,null,null,null,null,null,{"$f":"A4","v":"jktdh; mPp ek/;fed fo|ky;"}]
["GSSS Chogai Tonk",null,null,null,null,null,null,null,null,null,null,null,null,{"$f":"A5","v":"pkSxkbZa] Vksad"}]
[9829303549,null,null,null,null,null,null,null,null,null,null,null,null,{"$f":"H5","v":27306}]

{"sheet":"Estemate","index":3,"n_rows":115,"n_cols":122,"rows_kept":115,"cut":false,"hidden":true,"merged":[[114,0,114,2],[113,0,113,2],[112,0,112,2],[111,0,111,2],[110,0,110,2],[8,118,8,119],[7,76,7,115],[7,36,7,75],[0,0,0,3],[0,4,0,18],[1,6,1,13],[7,7,7,8],[2,12,2,13],[2,14,2,15],[2,2,2,5],[8,29,8,30],[8,31,8,32],[8,33,8,34],[8,24,9,24],[8,26,9,26],[8,27,9,27]]}
[{"$f":"Database!B1","v":"dk;kZy;&"},null,null,null,{"$f":"Database!F1","v":"jktdh; mPp ek/;fed fo|ky;&pkSxkbZa] Vksad"},null,null,null,null,null,null,null,null,null,null,null,null,null,null,null,null,null,null,null,null,null,null,null,null,null,null,null,null,null,null,null,null,null,null,null,null,null,null,null,null,null,null,null,null,null,null,null,null,null,null,null,null,null,null,null,null,null,null,null,null,null,null,null,null,null,null,null,null,null,null,null,null,null,null,null,null,null,null,null,null,null,null,null,null,null,null,null,null,null,null,null,null,null,null,null,null,null,{"$f":"[1]DB!CR13","v":0}]
[null,null,null,null,null,null,"dkfeZdksa dk fooj.k",null,null,null,null,null,null,null,null,null,null,null,null,null,null,null,null,null,null,null,null,null,null,null,null,null,null,null,null,null,null,null,null,null,null,null,null,null,null,null,null,null,null,null,null,null,null,null,null,null,null,null,null,null,null,null,null,null,null,null,null,null,null,null,null,null,null,null,null,null,null,null,null,null,null,null,null,null,null,null,null,null,null,null,null,null,null,null,null,null,null,null,null,null,null,null,{"$f":"[1]DB!CR14","v":0}]
[null,null,{"$f":"Database!B3","v":"eq[; ys[kk 'kh\"kZ&"},null,null,null,{"$f":"Database!B4","v":2202},{"$f":"Database!C4","v":"lkekU; f'k{kk"},null,null,null,null,{"$f":"Database!H4","v":"MhMhvks dksM&"},null,{"$f":"Database!H5","v":27306},null,null,null,null,null,null,null,null,null,null,null,null,null,null,null,null,null,null,null,null,null,null,null,null,null,null,null,null,null,null,null,null,null,null,null,null,null,null,null,null,null,null,null,null,null,null,null,null,null,null,null,null,null,null,null,null,null,null,null,null,null,null,null,null,null,null,null,null,null,null,null,null,null,null,null,null,null,null,null,null,null,null,null,null,null,null,null,{"$f":"[1]DB!CR15","v":0}]
[null,null,null,null,null,null,{"$f":"Database!B5","v":2},{"$f":"Database!C5","v":"ek/;fed f'k{kk"},null,null,null,null,null,null,null,null,null,null,null,null,null,null,null,null,null,null,null,null,null,null,null,null,null,null,null,null,null,null,null,null,null,null,null,null,null,null,null,null,null,null,null,null,null,null,null,null,null,null,null,null,null,null,null,null,null,null,null,null,null,null,null,null,null,null,null,null,null,null,null,null,null,null,null,null,null,null,null,null,null,null,null,null,null,null,null,null,null,null,null,null,null,null,{"$f":"[1]DB!CW14","v":0}]
[null,null,null,null,null,null,{"$f":"Database!B6","v":109},{"$f":"Database!C6","v":"jktdh; mPp ek/;fed fo|ky;"}]
[null,null,null,null,null,null,{"$f":"Database!B7","v":1},{"$f":"Database!C7","v":"yMdksa ds fo|ky;"}]
[null,null,null,null,null,null,{"$f":"Database!B8","v":0},{"$f":"Database!C8","v":"lkekU; O;;"}]
[null,null,null,null,null,null,{"$f":"Database!F8","v":"Ldhe dk uke&"},{"$f":"Database!H8","v":"राज्य निधि"},null,null,null,null,null,null,null,null,null,null,null,null,null,null,null,null,null,null,null,null,null,null,null,null,null,null,null,null,"Total Working Post",null,null,null,null,null,null,null,null,null,null,null,null,null,null,null,null,null,null,null,null,null,null,null,null,null,null,null,null,null,null,null,null,null,null,null,null,null,null,null,"Working Post Before 01-01-2004"]
["dz0la0","MhMhvks dksM","inuke IFMS ds vuqlkj LysDV djsa","Lohd`r inksa dh la[;k","jktif=r@ vjktif=r"," 'kSf{kd  S eU=kyf;d o pJsd gsrw M","uke dkfeZd ¼ftudk osru vkids dk;kZy; ls vkgfjr gks jgk gS½","th-ih-,Q-@    izku uEcj","efgyk@ iq:\"k F/M","fodykax gsrw H LysDV djsa","HkÙks jksdfM+;k ds fy, C /kqykbZ ds fy, W LysDV djsa","Slect Level in Paymatrix","ewy osru 01-07-23 dks","tUe frfFk","izFke fu;qfDr frFkh","fu;qfDr fu;fer@ fuyafcr@fQDl is","lsok fuo`fÙk frfFk","31-3-25 rd lsok fuo`Ùk gksus okys dkfeZd dhs vo'ks\"k mik- vodk'k","fjfä dh rkjh[k","Gazzetade","Non Gazzetade","Gazzetade","Non Gazzetade","L-13 Non Gazzetade Regular","Year of Posting","EcPEnF Basic Regular","Washing All            OK","Cash  All    OK","EcPEnF Basic Fix","Liveries Jamadar",null,"Liveries Lab Boy",null,"Liveries Peon",null,null,1,2,3,4,5,6,7,8,9,10,11,12,13,14,15,16,17,18,19,20,21,22,23,24,25,26,27,28,29,30,31,32,33,34,35,36,37,38,39,40,1,2,3,4,5,6,7,8,9,10,11,12,13,14,15,16,17,18,19,20,21,22,23,24,25,26,27,28,29,30,31,32,33,34,35,36,37,38,39,40,"Contract","Suspand","Liveries Driver",null,"EcPenf Back","EcPenf Next"]
[1,2,3,4,5,6,7,8,9,10,11,12,13,14,15,16,17,18,19,"fu;fer","fu;fer","fQDl","fQDl",{"$f":"U111-X111","v":0},null,{"$f":"COUNTIFS(Y11:Y110,\">=2004\",P11:P110,\"R\")+COUNTIFS(Y11:Y110,\">=2004\",P11:P110,\"Suspand\")","v":0},null,null,{"$f":"COUNTIFS(Y11:Y110,\">=2004\",P11:P110,\"F\")","v":0},"MALE"," FEMALE","MALE"," FEMALE","MALE"," FEMALE","Back Increement",{"$f":"Post!$B$11","v":"प्रधानाचार्य"},{"$f":"Post!$B$12","v":"उपप्रधानाचार्य"},{"$f":"Post!$B$13","v":"प्रधानाध्यापक"},{"$f":"Post!$B$14","v":"व्याख्याता स्कूल (शिक्षा)"},{"$f":"Post!$B$15","v":"कृषि शिक्षा प्रभारी"},{"$f":"Post!$B$16","v":"शारीरिक शिक्षक श्रेणी I"},{"$f":"Post!$B$17","v":"पुस्तकालय अध्यक्ष श्रेणी I"},{"$f":"Post!$B$18","v":"वरिष्ठ अध्यापक"},{"$f":"Post!$B$19","v":"वरिष्ठ प्रबोधक"},{"$f":"Post!$B$20","v":"वरिष्ठ विशेष शिक्षक"},{"$f":"Post!$B$21","v":"कृषि अध्यापक"},{"$f":"Post!$B$22","v":"शारीरिक शिक्षक श्रेणी II"},{"$f":"Post!$B$23","v":"पुस्तकालय अध्यक्ष श्रेणी II"},{"$f":"Post!$B$24","v":"अध्यापक"},{"$f":"Post!$B$25","v":"प्रबोधक"},{"$f":"Post!$B$26","v":"शारीरिक शिक्षक श्रेणी III"},{"$f":"Post!$B$27","v":"प्रबोधक शारीरिक शिक्षक"},{"$f":"Post!$B$28","v":"प्रशिक्षु शिक्षक"},{"$f":"Post!$B$29","v":"पुस्तकालय अध्यक्ष श्रेणी III"},{"$f":"Post!$B$30","v":"विशेष शिक्षक"},{"$f":"Post!$B$31","v":"अतिरिक्त प्रशासनिक अधिकारी"},{"$f":"Post!$B$32","v":"सहायक प्रशासनिक अधिकारी"},{"$f":"Post!$B$33","v":"बेसिक कम्प्युटर अनुदेशक"},{"$f":"Post!$B$34","v":"वरिष्ठ कम्प्युटर अनुदेशक"},{"$f":"Post!$B$35","v":"वरिष्ठ सहायक"},{"$f":"Post!$B$36","v":"कनिष्ठ सहायक"},{"$f":"Post!$B$37","v":"प्रयोगशाला सहायक"},{"$f":"Post!$B$38","v":"प्रयोगशाला परिचारक"},{"$f":"Post!$B$39","v":"जमादार"},{"$f":"Post!$B$40","v":"चतुर्थ श्रेणी कर्मचारी"},{"$f":"Post!$B$41","v":0},{"$f":"Post!$B$42","v":0},{"$f":"Post!$B$43","v":0},{"$f":"Post!$B$44","v":0},{"$f":"Post!$B$45","v":0},{"$f":"Post!$B$46","v":0},{"$f":"Post!$B$47","v":0},{"$f":"Post!$B$48","v":0},{"$f":"Post!$B$49","v":0},{"$f":"Post!$B$50","v":0},{"$f":"AK10","v":"प्रधानाचार्य"},{"$f":"AL10","v":"उपप्रधानाचार्य"},{"$f":"AM10","v":"प्रधानाध्यापक"},"व्याख्याता स्कूल (शिक्षा)","कृषि शिक्षा प्रभारी","शारीरिक शिक्षक श्रेणी I","पुस्तकालय अध्यक्ष श्रेणी I","वरिष्ठ अध्यापक","वरिष्ठ प्रबोधक","वरिष्ठ विशेष शिक्षक","कृषि अध्यापक","शारीरिक शिक्षक श्रेणी II","पुस्तकालय अध्यक्ष श्रेणी II","अध्यापक","प्रबोधक","शारीरिक शिक्षक श्रेणी III","प्रबोधक शारीरिक शिक्षक","प्रशिक्षु शिक्षक","पुस्तकालय अध्यक्ष श्रेणी III","विशेष शिक्षक","अतिरिक्त प्रशासनिक अधिकारी","सहायक प्रशासनिक अधिकारी","बेसिक कम्प्युटर अनुदेशक","वरिष्ठ कम्प्युटर अनुदेशक","वरिष्ठ सहायक","कनिष्ठ सहायक","प्रयोगशाला सहायक","प्रयोगशाला परिचारक","जमादार","चतुर्थ श्रेणी कर्मचारी",0,0,0,0,0,0,0,0,0,0,{"$f":"COUNTIF(P11:P110,\"Contract\")","v":0},{"$f":"COUNTIF(P11:P110,\"Suspand\")","v":0},"MALE"," FEMALE"]
[{"$f":"IF(C11=\"\",\"\",1)","v":""},{"$f":"IF(C11=\"\",\"\",Database!H$5)","v":""},null,null,null,null,null,null,null,null,null,null,null,null,null,null,{"$f":"IF(N11=\"\",\"\",DATE(YEAR(N11-1)+60,(MONTH(N11-1))+1,0))","v":""},null,null,{"$f":"(IF(E11=\"g\",1)*(IF(P11=\"r\",1,0)*IF(P11=\"\",0,1)))","v":0},{"$f":"(IF(E11=\"ng\",1,0)*(IF(P11=\"R\",1,0)*IF(P11=\"\",0,1)))","v":0},{"$f":"(IF(E11=\"g\",1,0)*(IF(P11=\"F\",1,0)))","v":0},{"$f":"(IF(E11=\"ng\",1,0)*(IF(P11=\"F\",1,0)*IF(P11=\"\",0,1)))","v":0},{"$f":"(IF(E11=\"ng\",1,0)*(IF(P11=\"r\",1,0)*IF(L11=\"L-13\",1,0)))","v":0},{"$f":"IF(O11=\"\",\"\",YEAR(O11))","v":""},{"$f":"IF(Y11>=2004,M11,0)*IF(P11=\"R\",1,0)","v":0},{"$f":"IF(K11=\"W\",1,0)*IF(P11=\"R\",1,0)*IF(P11=\"\",0,1)*IF(F11=\"M\",1,0)","v":0},{"$f":"IF(K11=\"c\",1,0)*IF(P11=\"\",0,1)*IF(P11=\"R\",1,0)*IF(F11=\"M\",1,0)","v":0},{"$f":"IF(Y11>=2004,M11,0)*IF(P11=\"F\",1,0)","v":0},{"$f":"IF(I11=\"M\",1,0)*(IF(C11=\"जमादार\",1,0)*IF(P11=\"R\",1,0))","v":0},{"$f":"IF(I11=\"F\",1,0)*(IF(C11=\"जमादार\",1,0)*IF(P11=\"R\",1,0))","v":0},{"$f":"IF(I11=\"M\",1,0)*(IF(C11=\"प्रयोगशाला परिचारक\",1,0)*IF(P11=\"R\",1,0))","v":0},{"$f":"IF(I11=\"F\",1,0)*(IF(C11=\"प्रयोगशाला परिचारक\",1,0)*IF(P11=\"R\",1,0))","v":0},{"$f":"IF(I11=\"M\",1,0)*(IF(C11=\"चतुर्थ श्रेणी कर्मचारी\",1,0)*IF(P11=\"R\",1,0))","v":0},{"$f":"IF(I11=\"F\",1,0)*(IF(C11=\"चतुर्थ श्रेणी कर्मचारी\",1,0)*IF(P11=\"R\",1,0))","v":0},{"$f":"IF(AND(M11=\"\"),\"\",M11-ROUNDUP(ROUND((M11*3%)-(M11*3%)*2.9%,-2),0))","v":""},{"$f":"IF($C11=Post!$B$11,1,0)*(IF($P11=\"\",0,1))*(IF($P11=\"Contract\",0,1))","v":0},{"$f":"IF($C11=Post!$B$12,1,0)*(IF($P11=\"\",0,1))*(IF($P11=\"Contract\",0,1))","v":0},{"$f":"IF($C11=Post!$B$13,1,0)*(IF($P11=\"\",0,1))*(IF($P11=\"Contract\",0,1))","v":0},{"$f":"IF($C11=Post!$B$14,1,0)*(IF($P11=\"\",0,1))*(IF($P11=\"Contract\",0,1))","v":0},{"$f":"IF($C11=Post!$B$15,1,0)*(IF($P11=\"\",0,1))*(IF($P11=\"Contract\",0,1))","v":0},{"$f":"IF($C11=Post!$B$16,1,0)*(IF($P11=\"\",0,1))*(IF($P11=\"Contract\",0,1))","v":0},{"$f":"IF($C11=Post!$B$17,1,0)*(IF($P11=\"\",0,1))*(IF($P11=\"Contract\",0,1))","v":0},{"$f":"IF($C11=Post!$B$18,1,0)*(IF($P11=\"\",0,1))*(IF($P11=\"Contract\",0,1))","v":0},{"$f":"IF($C11=Post!$B$19,1,0)*(IF($P11=\"\",0,1))*(IF($P11=\"Contract\",0,1))","v":0},{"$f":"IF($C11=Post!$B$20,1,0)*(IF($P11=\"\",0,1))*(IF($P11=\"Contract\",0,1))","v":0},{"$f":"IF($C11=Post!$B$21,1,0)*(IF($P11=\"\",0,1))*(IF($P11=\"Contract\",0,1))","v":0},{"$f":"IF($C11=Post!$B$2,1,0)*(IF($P11=\"\",0,1))*(IF($P11=\"Contract\",0,1))","v":0},{"$f":"IF($C11=Post!$B$23,1,0)*(IF($P11=\"\",0,1))*(IF($P11=\"Contract\",0,1))","v":0},{"$f":"IF($C11=Post!$B$24,1,0)*(IF($P11=\"\",0,1))*(IF($P11=\"Contract\",0,1))","v":0},{"$f":"IF($C11=Post!$B$25,1,0)*(IF($P11=\"\",0,1))*(IF($P11=\"Contract\",0,1))","v":0},{"$f":"IF($C11=Post!$B$26,1,0)*(IF($P11=\"\",0,1))*(IF($P11=\"Contract\",0,1))","v":0},{"$f":"IF($C11=Post!$B$27,1,0)*(IF($P11=\"\",0,1))*(IF($P11=\"Contract\",0,1))","v":0},{"$f":"IF($C11=Post!$B$28,1,0)*(IF($P11=\"\",0,1))*(IF($P11=\"Contract\",0,1))","v":0},{"$f":"IF($C11=Post!$B$29,1,0)*(IF($P11=\"\",0,1))*(IF($P11=\"Contract\",0,1))","v":0},{"$f":"IF($C11=Post!$B$30,1,0)*(IF($P11=\"\",0,1))*(IF($P11=\"Contract\",0,1))","v":0},{"$f":"IF($C11=Post!$B$31,1,0)*(IF($P11=\"\",0,1))*(IF($P11=\"Contract\",0,1))","v":0},{"$f":"IF($C11=Post!$B$32,1,0)*(IF($P11=\"\",0,1))*(IF($P11=\"Contract\",0,1))","v":0},{"$f":"IF($C11=Post!$B$33,1,0)*(IF($P11=\"\",0,1))*(IF($P11=\"Contract\",0,1))","v":0},{"$f":"IF($C11=Post!$B$34,1,0)*(IF($P11=\"\",0,1))*(IF($P11=\"Contract\",0,1))","v":0},{"$f":"IF($C11=Post!$B$35,1,0)*(IF($P11=\"\",0,1))*(IF($P11=\"Contract\",0,1))","v":0},{"$f":"IF($C11=Post!$B$36,1,0)*(IF($P11=\"\",0,1))*(IF($P11=\"Contract\",0,1))","v":0},{"$f":"IF($C11=Post!$B$37,1,0)*(IF($P11=\"\",0,1))*(IF($P11=\"Contract\",0,1))","v":0},{"$f":"IF($C11=Post!$B$38,1,0)*(IF($P11=\"\",0,1))*(IF($P11=\"Contract\",0,1))","v":0},{"$f":"IF($C11=Post!$B$39,1,0)*(IF($P11=\"\",0,1))*(IF($P11=\"Contract\",0,1))","v":0},{"$f":"IF($C11=Post!$B$40,1,0)*(IF($P11=\"\",0,1))*(IF($P11=\"Contract\",0,1))","v":0},{"$f":"IF($C11=Post!$B$41,1,0)*(IF($P11=\"\",0,1))*(IF($P11=\"Contract\",0,1))","v":0},{"$f":"IF($C11=Post!$B$42,1,0)*(IF($P11=\"\",0,1))*(IF($P11=\"Contract\",0,1))","v":0},{"$f":"IF($C11=Post!$B$43,1,0)*(IF($P11=\"\",0,1))*(IF($P11=\"Contract\",0,1))","v":0},{"$f":"IF($C11=Post!$B$44,1,0)*(IF($P11=\"\",0,1))*(IF($P11=\"Contract\",0,1))","v":0},{"$f":"IF($C11=Post!$B$45,1,0)*(IF($P11=\"\",0,1))*(IF($P11=\"Contract\",0,1))","v":0},{"$f":"IF($C11=Post!$B$46,1,0)*(IF($P11=\"\",0,1))*(IF($P11=\"Contract\",0,1))","v":0},{"$f":"IF($C11=Post!$B$47,1,0)*(IF($P11=\"\",0,1))*(IF($P11=\"Contract\",0,1))","v":0},{"$f":"IF(C11=Post!B$48,1,0)*(IF(P11=\"\",0,1))*(IF($P11=\"Contract\",0,1))","v":0},{"$f":"IF(C11=Post!B$49,1,0)*(IF(P11=\"\",0,1))*(IF($P11=\"Contract\",0,1))","v":0},{"$f":"IF(C11=Post!B$50,1,0)*(IF(P11=\"\",0,1))*(IF($P11=\"Contract\",0,1))","v":0},{"$f":"IF($Z11=0,0,AK11)+IF($AC11=0,0,AK11)+IF($DN11=0,0,AK11)","v":0},0,0,0,0,0,0,0,0,0,0,0,0,0,0,0,{"$f":"IF($Z11=0,0,BA11)+IF($AC11=0,0,BA11)+IF($DN11=0,0,BA11)","v":0},0,0,0,0,0,0,0,0,0,0,0,0,0,0,0,0,0,0,0,0,0,0,0,{"$f":"IF(P11=\"Contract\",M11,0)","v":0},{"$f":"IF(P11=\"Suspand\",M11,0)","v":0},{"$f":"IF(I11=\"M\",1,0)*(IF(C11=\"ड्राईवर\",1,0)*IF(P11=\"R\",1,0))","v":0},{"$f":"IF(I11=\"F\",1,0)*(IF(C11=\"ड्राईवर\",1,0)*IF(P11=\"R\",1,0))","v":0},{"$f":"IF(AND(AC11=\"\"),\"\",AC11-ROUNDUP(ROUND((AC11*3%)-(AC11*3%)*2.9%,-2),0))","v":0},{"$f":"IF(AND(AC11=\"\"),\"\",AC11+ROUNDUP(ROUND((AC11*3%)+(AC11*3%)*2.9%,-2),0))","v":0}]
[{"$f":"IF(C12=\"\",\"\",A11+1)","v":""},{"$f":"IF(C12=\"\",\"\",Database!H$5)","v":""},null,null,null,null,null,null,null,null,null,null,null,null,null,null,{"$f":"IF(N12=\"\",\"\",DATE(YEAR(N12-1)+60,(MONTH(N12-1))+1,0))","v":""},null,null,{"$f":"(IF(E12=\"g\",1)*(IF(P12=\"r\",1,0)*IF(P12=\"\",0,1)))","v":0},{"$f":"(IF(E12=\"ng\",1,0)*(IF(P12=\"R\",1,0)*IF(P12=\"\",0,1)))","v":0},{"$f":"(IF(E12=\"g\",1,0)*(IF(P12=\"F\",1,0)))","v":0},{"$f":"(IF(E12=\"ng\",1,0)*(IF(P12=\"F\",1,0)*IF(P12=\"\",0,1)))","v":0},{"$f":"(IF(E12=\"ng\",1,0)*(IF(P12=\"r\",1,0)*IF(L12=\"L-13\",1,0)))","v":0},{"$f":"IF(O12=\"\",\"\",YEAR(O12))","v":""},{"$f":"IF(Y12>=2004,M12,0)*IF(P12=\"R\",1,0)","v":0},{"$f":"IF(K12=\"W\",1,0)*IF(P12=\"R\",1,0)*IF(P12=\"\",0,1)*IF(F12=\"M\",1,0)","v":0},{"$f":"IF(K12=\"c\",1,0)*IF(P12=\"\",0,1)*IF(P12=\"R\",1,0)*IF(F12=\"M\",1,0)","v":0},{"$f":"IF(Y12>=2004,M12,0)*IF(P12=\"F\",1,0)","v":0},{"$f":"IF(I12=\"M\",1,0)*(IF(C12=\"जमादार\",1,0)*IF(P12=\"R\",1,0))","v":0},{"$f":"IF(I12=\"F\",1,0)*(IF(C12=\"जमादार\",1,0)*IF(P12=\"R\",1,0))","v":0},{"$f":"IF(I12=\"M\",1,0)*(IF(C12=\"प्रयोगशाला परिचारक\",1,0)*IF(P12=\"R\",1,0))","v":0},{"$f":"IF(I12=\"F\",1,0)*(IF(C12=\"प्रयोगशाला परिचारक\",1,0)*IF(P12=\"R\",1,0))","v":0},{"$f":"IF(I12=\"M\",1,0)*(IF(C12=\"चतुर्थ श्रेणी कर्मचारी\",1,0)*IF(P12=\"R\",1,0))","v":0},{"$f":"IF(I12=\"F\",1,0)*(IF(C12=\"चतुर्थ श्रेणी कर्मचारी\",1,0)*IF(P12=\"R\",1,0))","v":0},{"$f":"IF(AND(M12=\"\"),\"\",M12-ROUNDUP(ROUND((M12*3%)-(M12*3%)*2.9%,-2),0))","v":""},{"$f":"IF($C12=Post!$B$11,1,0)*(IF($P12=\"\",0,1))*(IF($P12=\"Contract\",0,1))","v":0},{"$f":"IF($C12=Post!$B$12,1,0)*(IF($P12=\"\",0,1))*(IF($P12=\"Contract\",0,1))","v":0},{"$f":"IF($C12=Post!$B$13,1,0)*(IF($P12=\"\",0,1))*(IF($P12=\"Contract\",0,1))","v":0},{"$f":"IF($C12=Post!$B$14,1,0)*(IF($P12=\"\",0,1))*(IF($P12=\"Contract\",0,1))","v":0},{"$f":"IF($C12=Post!$B$15,1,0)*(IF($P12=\"\",0,1))*(IF($P12=\"Contract\",0,1))","v":0},{"$f":"IF($C12=Post!$B$16,1,0)*(IF($P12=\"\",0,1))*(IF($P12=\"Contract\",0,1))","v":0},{"$f":"IF($C12=Post!$B$17,1,0)*(IF($P12=\"\",0,1))*(IF($P12=\"Contract\",0,1))","v":0},{"$f":"IF($C12=Post!$B$18,1,0)*(IF($P12=\"\",0,1))*(IF($P12=\"Contract\",0,1))","v":0},{"$f":"IF($C12=Post!$B$19,1,0)*(IF($P12=\"\",0,1))*(IF($P12=\"Contract\",0,1))","v":0},{"$f":"IF($C12=Post!$B$20,1,0)*(IF($P12=\"\",0,1))*(IF($P12=\"Contract\",0,1))","v":0},{"$f":"IF($C12=Post!$B$21,1,0)*(IF($P12=\"\",0,1))*(IF($P12=\"Contract\",0,1))","v":0},{"$f":"IF($C12=Post!$B$2,1,0)*(IF($P12=\"\",0,1))*(IF($P12=\"Contract\",0,1))","v":0},{"$f":"IF($C12=Post!$B$23,1,0)*(IF($P12=\"\",0,1))*(IF($P12=\"Contract\",0,1))","v":0},{"$f":"IF($C12=Post!$B$24,1,0)*(IF($P12=\"\",0,1))*(IF($P12=\"Contract\",0,1))","v":0},{"$f":"IF($C12=Post!$B$25,1,0)*(IF($P12=\"\",0,1))*(IF($P12=\"Contract\",0,1))","v":0},{"$f":"IF($C12=Post!$B$26,1,0)*(IF($P12=\"\",0,1))*(IF($P12=\"Contract\",0,1))","v":0},{"$f":"IF($C12=Post!$B$27,1,0)*(IF($P12=\"\",0,1))*(IF($P12=\"Contract\",0,1))","v":0},{"$f":"IF($C12=Post!$B$28,1,0)*(IF($P12=\"\",0,1))*(IF($P12=\"Contract\",0,1))","v":0},{"$f":"IF($C12=Post!$B$29,1,0)*(IF($P12=\"\",0,1))*(IF($P12=\"Contract\",0,1))","v":0},{"$f":"IF($C12=Post!$B$30,1,0)*(IF($P12=\"\",0,1))*(IF($P12=\"Contract\",0,1))","v":0},{"$f":"IF($C12=Post!$B$31,1,0)*(IF($P12=\"\",0,1))*(IF($P12=\"Contract\",0,1))","v":0},{"$f":"IF($C12=Post!$B$32,1,0)*(IF($P12=\"\",0,1))*(IF($P12=\"Contract\",0,1))","v":0},{"$f":"IF($C12=Post!$B$33,1,0)*(IF($P12=\"\",0,1))*(IF($P12=\"Contract\",0,1))","v":0},{"$f":"IF($C12=Post!$B$34,1,0)*(IF($P12=\"\",0,1))*(IF($P12=\"Contract\",0,1))","v":0},{"$f":"IF($C12=Post!$B$35,1,0)*(IF($P12=\"\",0,1))*(IF($P12=\"Contract\",0,1))","v":0},{"$f":"IF($C12=Post!$B$36,1,0)*(IF($P12=\"\",0,1))*(IF($P12=\"Contract\",0,1))","v":0},{"$f":"IF($C12=Post!$B$37,1,0)*(IF($P12=\"\",0,1))*(IF($P12=\"Contract\",0,1))","v":0},{"$f":"IF($C12=Post!$B$38,1,0)*(IF($P12=\"\",0,1))*(IF($P12=\"Contract\",0,1))","v":0},{"$f":"IF($C12=Post!$B$39,1,0)*(IF($P12=\"\",0,1))*(IF($P12=\"Contract\",0,1))","v":0},{"$f":"IF($C12=Post!$B$40,1,0)*(IF($P12=\"\",0,1))*(IF($P12=\"Contract\",0,1))","v":0},{"$f":"IF($C12=Post!$B$41,1,0)*(IF($P12=\"\",0,1))*(IF($P12=\"Contract\",0,1))","v":0},{"$f":"IF($C12=Post!$B$42,1,0)*(IF($P12=\"\",0,1))*(IF($P12=\"Contract\",0,1))","v":0},{"$f":"IF($C12=Post!$B$43,1,0)*(IF($P12=\"\",0,1))*(IF($P12=\"Contract\",0,1))","v":0},{"$f":"IF($C12=Post!$B$44,1,0)*(IF($P12=\"\",0,1))*(IF($P12=\"Contract\",0,1))","v":0},{"$f":"IF($C12=Post!$B$45,1,0)*(IF($P12=\"\",0,1))*(IF($P12=\"Contract\",0,1))","v":0},{"$f":"IF($C12=Post!$B$46,1,0)*(IF($P12=\"\",0,1))*(IF($P12=\"Contract\",0,1))","v":0},{"$f":"IF($C12=Post!$B$47,1,0)*(IF($P12=\"\",0,1))*(IF($P12=\"Contract\",0,1))","v":0},{"$f":"IF(C12=Post!B$48,1,0)*(IF(P12=\"\",0,1))*(IF($P12=\"Contract\",0,1))","v":0},{"$f":"IF(C12=Post!B$49,1,0)*(IF(P12=\"\",0,1))*(IF($P12=\"Contract\",0,1))","v":0},{"$f":"IF(C12=Post!B$50,1,0)*(IF(P12=\"\",0,1))*(IF($P12=\"Contract\",0,1))","v":0},{"$f":"IF($Z12=0,0,AK12)+IF($AC12=0,0,AK12)+IF($DN12=0,0,AK12)","v":0},{"$f":"IF($Z12=0,0,AL12)+IF($AC12=0,0,AL12)+IF($DN12=0,0,AL12)","v":0},{"$f":"IF($Z12=0,0,AM12)+IF($AC12=0,0,AM12)+IF($DN12=0,0,AM12)","v":0},{"$f":"IF($Z12=0,0,AN12)+IF($AC12=0,0,AN12)+IF($DN12=0,0,AN12)","v":0},{"$f":"IF($Z12=0,0,AO12)+IF($AC12=0,0,AO12)+IF($DN12=0,0,AO12)","v":0},{"$f":"IF($Z12=0,0,AP12)+IF($AC12=0,0,AP12)+IF($DN12=0,0,AP12)","v":0},{"$f":"IF($Z12=0,0,AQ12)+IF($AC12=0,0,AQ12)+IF($DN12=0,0,AQ12)","v":0},{"$f":"IF($Z12=0,0,AR12)+IF($AC12=0,0,AR12)+IF($DN12=0,0,AR12)","v":0},{"$f":"IF($Z12=0,0,AS12)+IF($AC12=0,0,AS12)+IF($DN12=0,0,AS12)","v":0},{"$f":"IF($Z12=0,0,AT12)+IF($AC12=0,0,AT12)+IF($DN12=0,0,AT12)","v":0},{"$f":"IF($Z12=0,0,AU12)+IF($AC12=0,0,AU12)+IF($DN12=0,0,AU12)","v":0},{"$f":"IF($Z12=0,0,AV12)+IF($AC12=0,0,AV12)+IF($DN12=0,0,AV12)","v":0},{"$f":"IF($Z12=0,0,AW12)+IF($AC12=0,0,AW12)+IF($DN12=0,0,AW12)","v":0},{"$f":"IF($Z12=0,0,AX12)+IF($AC12=0,0,AX12)+IF($DN12=0,0,AX12)","v":0},{"$f":"IF($Z12=0,0,AY12)+IF($AC12=0,0,AY12)+IF($DN12=0,0,AY12)","v":0},{"$f":"IF($Z12=0,0,AZ12)+IF($AC12=0,0,AZ12)+IF($DN12=0,0,AZ12)","v":0},{"$f":"IF($Z12=0,0,BA12)+IF($AC12=0,0,BA12)+IF($DN12=0,0,BA12)","v":0},{"$f":"IF($Z12=0,0,BB12)+IF($AC12=0,0,BB12)+IF($DN12=0,0,BB12)","v":0},{"$f":"IF($Z12=0,0,BC12)+IF($AC12=0,0,BC12)+IF($DN12=0,0,BC12)","v":0},{"$f":"IF($Z12=0,0,BD12)+IF($AC12=0,0,BD12)+IF($DN12=0,0,BD12)","v":0},{"$f":"IF($Z12=0,0,BE12)+IF($AC12=0,0,BE12)+IF($DN12=0,0,BE12)","v":0},{"$f":"IF($Z12=0,0,BF12)+IF($AC12=0,0,BF12)+IF($DN12=0,0,BF12)","v":0},{"$f":"IF($Z12=0,0,BG12)+IF($AC12=0,0,BG12)+IF($DN12=0,0,BG12)","v":0},{"$f":"IF($Z12=0,0,BH12)+IF($AC12=0,0,BH12)+IF($DN12=0,0,BH12)","v":0},{"$f":"IF($Z12=0,0,BI12)+IF($AC12=0,0,BI12)+IF($DN12=0,0,BI12)","v":0},{"$f":"IF($Z12=0,0,BJ12)+IF($AC12=0,0,BJ12)+IF($DN12=0,0,BJ12)","v":0},{"$f":"IF($Z12=0,0,BK12)+IF($AC12=0,0,BK12)+IF($DN12=0,0,BK12)","v":0},{"$f":"IF($Z12=0,0,BL12)+IF($AC12=0,0,BL12)+IF($DN12=0,0,BL12)","v":0},{"$f":"IF($Z12=0,0,BM12)+IF($AC12=0,0,BM12)+IF($DN12=0,0,BM12)","v":0},{"$f":"IF($Z12=0,0,BN12)+IF($AC12=0,0,BN12)+IF($DN12=0,0,BN12)","v":0},{"$f":"IF($Z12=0,0,BO12)+IF($AC12=0,0,BO12)+IF($DN12=0,0,BO12)","v":0},{"$f":"IF($Z12=0,0,BP12)+IF($AC12=0,0,BP12)+IF($DN12=0,0,BP12)","v":0},{"$f":"IF($Z12=0,0,BQ12)+IF($AC12=0,0,BQ12)+IF($DN12=0,0,BQ12)","v":0},{"$f":"IF($Z12=0,0,BR12)+IF($AC12=0,0,BR12)+IF($DN12=0,0,BR12)","v":0},{"$f":"IF($Z12=0,0,BS12)+IF($AC12=0,0,BS12)+IF($DN12=0,0,BS12)","v":0},{"$f":"IF($Z12=0,0,BT12)+IF($AC12=0,0,BT12)+IF($DN12=0,0,BT12)","v":0},{"$f":"IF($Z12=0,0,BU12)+IF($AC12=0,0,BU12)+IF($DN12=0,0,BU12)","v":0},{"$f":"IF($Z12=0,0,BV12)+IF($AC12=0,0,BV12)+IF($DN12=0,0,BV12)","v":0},{"$f":"IF($Z12=0,0,BW12)+IF($AC12=0,0,BW12)+IF($DN12=0,0,BW12)","v":0},{"$f":"IF($Z12=0,0,BX12)+IF($AC12=0,0,BX12)+IF($DN12=0,0,BX12)","v":0},{"$f":"IF(P12=\"Contract\",M12,0)","v":0},{"$f":"IF(P12=\"Suspand\",M12,0)","v":0},{"$f":"IF(I12=\"M\",1,0)*(IF(C12=\"ड्राईवर\",1,0)*IF(P12=\"R\",1,0))","v":0},{"$f":"IF(I12=\"F\",1,0)*(IF(C12=\"ड्राईवर\",1,0)*IF(P12=\"R\",1,0))","v":0},{"$f":"IF(AND(AC12=\"\"),\"\",AC12-ROUNDUP(ROUND((AC12*3%)-(AC12*3%)*2.9%,-2),0))","v":0},{"$f":"IF(AND(AC12=\"\"),\"\",AC12+ROUNDUP(ROUND((AC12*3%)+(AC12*3%)*2.9%,-2),0))","v":0}]
[{"$f":"IF(C13=\"\",\"\",A12+1)","v":""},{"$f":"IF(C13=\"\",\"\",Database!H$5)","v":""},null,null,null,null,null,null,null,null,null,null,null,null,null,null,{"$f":"IF(N13=\"\",\"\",DATE(YEAR(N13-1)+60,(MONTH(N13-1))+1,0))","v":""},null,null,0,0,0,0,0,"",{"$f":"IF(Y13>=2004,M13,0)*IF(P13=\"R\",1,0)","v":0},0,0,0,0,0,0,0,0,0,"",{"$f":"IF($C13=Post!$B$11,1,0)*(IF($P13=\"\",0,1))*(IF($P13=\"Contract\",0,1))","v":0},{"$f":"IF($C13=Post!$B$12,1,0)*(IF($P13=\"\",0,1))*(IF($P13=\"Contract\",0,1))","v":0},{"$f":"IF($C13=Post!$B$13,1,0)*(IF($P13=\"\",0,1))*(IF($P13=\"Contract\",0,1))","v":0},{"$f":"IF($C13=Post!$B$14,1,0)*(IF($P13=\"\",0,1))*(IF($P13=\"Contract\",0,1))","v":0},{"$f":"IF($C13=Post!$B$15,1,0)*(IF($P13=\"\",0,1))*(IF($P13=\"Contract\",0,1))","v":0},{"$f":"IF($C13=Post!$B$16,1,0)*(IF($P13=\"\",0,1))*(IF($P13=\"Contract\",0,1))","v":0},{"$f":"IF($C13=Post!$B$17,1,0)*(IF($P13=\"\",0,1))*(IF($P13=\"Contract\",0,1))","v":0},{"$f":"IF($C13=Post!$B$18,1,0)*(IF($P13=\"\",0,1))*(IF($P13=\"Contract\",0,1))","v":0},{"$f":"IF($C13=Post!$B$19,1,0)*(IF($P13=\"\",0,1))*(IF($P13=\"Contract\",0,1))","v":0},{"$f":"IF($C13=Post!$B$20,1,0)*(IF($P13=\"\",0,1))*(IF($P13=\"Contract\",0,1))","v":0},{"$f":"IF($C13=Post!$B$21,1,0)*(IF($P13=\"\",0,1))*(IF($P13=\"Contract\",0,1))","v":0},{"$f":"IF($C13=Post!$B$2,1,0)*(IF($P13=\"\",0,1))*(IF($P13=\"Contract\",0,1))","v":0},{"$f":"IF($C13=Post!$B$23,1,0)*(IF($P13=\"\",0,1))*(IF($P13=\"Contract\",0,1))","v":0},{"$f":"IF($C13=Post!$B$24,1,0)*(IF($P13=\"\",0,1))*(IF($P13=\"Contract\",0,1))","v":0},{"$f":"IF($C13=Post!$B$25,1,0)*(IF($P13=\"\",0,1))*(IF($P13=\"Contract\",0,1))","v":0},{"$f":"IF($C13=Post!$B$26,1,0)*(IF($P13=\"\",0,1))*(IF($P13=\"Contract\",0,1))","v":0},{"$f":"IF($C13=Post!$B$27,1,0)*(IF($P13=\"\",0,1))*(IF($P13=\"Contract\",0,1))","v":0},{"$f":"IF($C13=Post!$B$28,1,0)*(IF($P13=\"\",0,1))*(IF($P13=\"Contract\",0,1))","v":0},{"$f":"IF($C13=Post!$B$29,1,0)*(IF($P13=\"\",0,1))*(IF($P13=\"Contract\",0,1))","v":0},{"$f":"IF($C13=Post!$B$30,1,0)*(IF($P13=\"\",0,1))*(IF($P13=\"Contract\",0,1))","v":0},{"$f":"IF($C13=Post!$B$31,1,0)*(IF($P13=\"\",0,1))*(IF($P13=\"Contract\",0,1))","v":0},{"$f":"IF($C13=Post!$B$32,1,0)*(IF($P13=\"\",0,1))*(IF($P13=\"Contract\",0,1))","v":0},{"$f":"IF($C13=Post!$B$33,1,0)*(IF($P13=\"\",0,1))*(IF($P13=\"Contract\",0,1))","v":0},{"$f":"IF($C13=Post!$B$34,1,0)*(IF($P13=\"\",0,1))*(IF($P13=\"Contract\",0,1))","v":0},{"$f":"IF($C13=Post!$B$35,1,0)*(IF($P13=\"\",0,1))*(IF($P13=\"Contract\",0,1))","v":0},{"$f":"IF($C13=Post!$B$36,1,0)*(IF($P13=\"\",0,1))*(IF($P13=\"Contract\",0,1))","v":0},{"$f":"IF($C13=Post!$B$37,1,0)*(IF($P13=\"\",0,1))*(IF($P13=\"Contract\",0,1))","v":0},{"$f":"IF($C13=Post!$B$38,1,0)*(IF($P13=\"\",0,1))*(IF($P13=\"Contract\",0,1))","v":0},{"$f":"IF($C13=Post!$B$39,1,0)*(IF($P13=\"\",0,1))*(IF($P13=\"Contract\",0,1))","v":0},{"$f":"IF($C13=Post!$B$40,1,0)*(IF($P13=\"\",0,1))*(IF($P13=\"Contract\",0,1))","v":0},{"$f":"IF($C13=Post!$B$41,1,0)*(IF($P13=\"\",0,1))*(IF($P13=\"Contract\",0,1))","v":0},{"$f":"IF($C13=Post!$B$42,1,0)*(IF($P13=\"\",0,1))*(IF($P13=\"Contract\",0,1))","v":0},{"$f":"IF($C13=Post!$B$43,1,0)*(IF($P13=\"\",0,1))*(IF($P13=\"Contract\",0,1))","v":0},{"$f":"IF($C13=Post!$B$44,1,0)*(IF($P13=\"\",0,1))*(IF($P13=\"Contract\",0,1))","v":0},{"$f":"IF($C13=Post!$B$45,1,0)*(IF($P13=\"\",0,1))*(IF($P13=\"Contract\",0,1))","v":0},{"$f":"IF($C13=Post!$B$46,1,0)*(IF($P13=\"\",0,1))*(IF($P13=\"Contract\",0,1))","v":0},{"$f":"IF($C13=Post!$B$47,1,0)*(IF($P13=\"\",0,1))*(IF($P13=\"Contract\",0,1))","v":0},{"$f":"IF(C13=Post!B$48,1,0)*(IF(P13=\"\",0,1))*(IF($P13=\"Contract\",0,1))","v":0},{"$f":"IF(C13=Post!B$49,1,0)*(IF(P13=\"\",0,1))*(IF($P13=\"Contract\",0,1))","v":0},{"$f":"IF(C13=Post!B$50,1,0)*(IF(P13=\"\",0,1))*(IF($P13=\"Contract\",0,1))","v":0},0,0,0,0,0,0,0,0,0,0,0,0,0,0,0,0,0,0,0,0,0,0,0,0,0,0,0,0,0,0,0,0,0,0,0,0,0,0,0,0,0,0,0,0,0,0]
["",{"$f":"IF(C14=\"\",\"\",Database!H$5)","v":""},null,null,null,null,null,null,null,null,null,null,null,null,null,null,"",null,null,0,0,0,0,0,"",0,0,0,0,0,0,0,0,0,0,"",{"$f":"IF($C14=Post!$B$11,1,0)*(IF($P14=\"\",0,1))*(IF($P14=\"Contract\",0,1))","v":0},{"$f":"IF($C14=Post!$B$12,1,0)*(IF($P14=\"\",0,1))*(IF($P14=\"Contract\",0,1))","v":0},{"$f":"IF($C14=Post!$B$13,1,0)*(IF($P14=\"\",0,1))*(IF($P14=\"Contract\",0,1))","v":0},{"$f":"IF($C14=Post!$B$14,1,0)*(IF($P14=\"\",0,1))*(IF($P14=\"Contract\",0,1))","v":0},{"$f":"IF($C14=Post!$B$15,1,0)*(IF($P14=\"\",0,1))*(IF($P14=\"Contract\",0,1))","v":0},{"$f":"IF($C14=Post!$B$16,1,0)*(IF($P14=\"\",0,1))*(IF($P14=\"Contract\",0,1))","v":0},{"$f":"IF($C14=Post!$B$17,1,0)*(IF($P14=\"\",0,1))*(IF($P14=\"Contract\",0,1))","v":0},{"$f":"IF($C14=Post!$B$18,1,0)*(IF($P14=\"\",0,1))*(IF($P14=\"Contract\",0,1))","v":0},{"$f":"IF($C14=Post!$B$19,1,0)*(IF($P14=\"\",0,1))*(IF($P14=\"Contract\",0,1))","v":0},{"$f":"IF($C14=Post!$B$20,1,0)*(IF($P14=\"\",0,1))*(IF($P14=\"Contract\",0,1))","v":0},{"$f":"IF($C14=Post!$B$21,1,0)*(IF($P14=\"\",0,1))*(IF($P14=\"Contract\",0,1))","v":0},{"$f":"IF($C14=Post!$B$2,1,0)*(IF($P14=\"\",0,1))*(IF($P14=\"Contract\",0,1))","v":0},{"$f":"IF($C14=Post!$B$23,1,0)*(IF($P14=\"\",0,1))*(IF($P14=\"Contract\",0,1))","v":0},{"$f":"IF($C14=Post!$B$24,1,0)*(IF($P14=\"\",0,1))*(IF($P14=\"Contract\",0,1))","v":0},{"$f":"IF($C14=Post!$B$25,1,0)*(IF($P14=\"\",0,1))*(IF($P14=\"Contract\",0,1))","v":0},{"$f":"IF($C14=Post!$B$26,1,0)*(IF($P14=\"\",0,1))*(IF($P14=\"Contract\",0,1))","v":0},{"$f":"IF($C14=Post!$B$27,1,0)*(IF($P14=\"\",0,1))*(IF($P14=\"Contract\",0,1))","v":0},{"$f":"IF($C14=Post!$B$28,1,0)*(IF($P14=\"\",0,1))*(IF($P14=\"Contract\",0,1))","v":0},{"$f":"IF($C14=Post!$B$29,1,0)*(IF($P14=\"\",0,1))*(IF($P14=\"Contract\",0,1))","v":0},{"$f":"IF($C14=Post!$B$30,1,0)*(IF($P14=\"\",0,1))*(IF($P14=\"Contract\",0,1))","v":0},{"$f":"IF($C14=Post!$B$31,1,0)*(IF($P14=\"\",0,1))*(IF($P14=\"Contract\",0,1))","v":0},{"$f":"IF($C14=Post!$B$32,1,0)*(IF($P14=\"\",0,1))*(IF($P14=\"Contract\",0,1))","v":0},{"$f":"IF($C14=Post!$B$33,1,0)*(IF($P14=\"\",0,1))*(IF($P14=\"Contract\",0,1))","v":0},{"$f":"IF($C14=Post!$B$34,1,0)*(IF($P14=\"\",0,1))*(IF($P14=\"Contract\",0,1))","v":0},{"$f":"IF($C14=Post!$B$35,1,0)*(IF($P14=\"\",0,1))*(IF($P14=\"Contract\",0,1))","v":0},{"$f":"IF($C14=Post!$B$36,1,0)*(IF($P14=\"\",0,1))*(IF($P14=\"Contract\",0,1))","v":0},{"$f":"IF($C14=Post!$B$37,1,0)*(IF($P14=\"\",0,1))*(IF($P14=\"Contract\",0,1))","v":0},{"$f":"IF($C14=Post!$B$38,1,0)*(IF($P14=\"\",0,1))*(IF($P14=\"Contract\",0,1))","v":0},{"$f":"IF($C14=Post!$B$39,1,0)*(IF($P14=\"\",0,1))*(IF($P14=\"Contract\",0,1))","v":0},{"$f":"IF($C14=Post!$B$40,1,0)*(IF($P14=\"\",0,1))*(IF($P14=\"Contract\",0,1))","v":0},{"$f":"IF($C14=Post!$B$41,1,0)*(IF($P14=\"\",0,1))*(IF($P14=\"Contract\",0,1))","v":0},{"$f":"IF($C14=Post!$B$42,1,0)*(IF($P14=\"\",0,1))*(IF($P14=\"Contract\",0,1))","v":0},{"$f":"IF($C14=Post!$B$43,1,0)*(IF($P14=\"\",0,1))*(IF($P14=\"Contract\",0,1))","v":0},{"$f":"IF($C14=Post!$B$44,1,0)*(IF($P14=\"\",0,1))*(IF($P14=\"Contract\",0,1))","v":0},{"$f":"IF($C14=Post!$B$45,1,0)*(IF($P14=\"\",0,1))*(IF($P14=\"Contract\",0,1))","v":0},{"$f":"IF($C14=Post!$B$46,1,0)*(IF($P14=\"\",0,1))*(IF($P14=\"Contract\",0,1))","v":0},{"$f":"IF($C14=Post!$B$47,1,0)*(IF($P14=\"\",0,1))*(IF($P14=\"Contract\",0,1))","v":0},{"$f":"IF(C14=Post!B$48,1,0)*(IF(P14=\"\",0,1))*(IF($P14=\"Contract\",0,1))","v":0},{"$f":"IF(C14=Post!B$49,1,0)*(IF(P14=\"\",0,1))*(IF($P14=\"Contract\",0,1))","v":0},{"$f":"IF(C14=Post!B$50,1,0)*(IF(P14=\"\",0,1))*(IF($P14=\"Contract\",0,1))","v":0},0,0,0,0,0,0,0,0,0,0,0,0,0,0,0,0,0,0,0,0,0,0,0,0,0,0,0,0,0,0,0,0,0,0,0,0,0,0,0,0,0,0,0,0,0,0]
["",{"$f":"IF(C15=\"\",\"\",Database!H$5)","v":""},null,null,null,null,null,null,null,null,null,null,null,null,null,null,"",null,null,0,0,0,0,0,"",0,0,0,0,0,0,0,0,0,0,"",{"$f":"IF($C15=Post!$B$11,1,0)*(IF($P15=\"\",0,1))*(IF($P15=\"Contract\",0,1))","v":0},{"$f":"IF($C15=Post!$B$12,1,0)*(IF($P15=\"\",0,1))*(IF($P15=\"Contract\",0,1))","v":0},{"$f":"IF($C15=Post!$B$13,1,0)*(IF($P15=\"\",0,1))*(IF($P15=\"Contract\",0,1))","v":0},{"$f":"IF($C15=Post!$B$14,1,0)*(IF($P15=\"\",0,1))*(IF($P15=\"Contract\",0,1))","v":0},{"$f":"IF($C15=Post!$B$15,1,0)*(IF($P15=\"\",0,1))*(IF($P15=\"Contract\",0,1))","v":0},{"$f":"IF($C15=Post!$B$16,1,0)*(IF($P15=\"\",0,1))*(IF($P15=\"Contract\",0,1))","v":0},{"$f":"IF($C15=Post!$B$17,1,0)*(IF($P15=\"\",0,1))*(IF($P15=\"Contract\",0,1))","v":0},{"$f":"IF($C15=Post!$B$18,1,0)*(IF($P15=\"\",0,1))*(IF($P15=\"Contract\",0,1))","v":0},{"$f":"IF($C15=Post!$B$19,1,0)*(IF($P15=\"\",0,1))*(IF($P15=\"Contract\",0,1))","v":0},{"$f":"IF($C15=Post!$B$20,1,0)*(IF($P15=\"\",0,1))*(IF($P15=\"Contract\",0,1))","v":0},{"$f":"IF($C15=Post!$B$21,1,0)*(IF($P15=\"\",0,1))*(IF($P15=\"Contract\",0,1))","v":0},{"$f":"IF($C15=Post!$B$2,1,0)*(IF($P15=\"\",0,1))*(IF($P15=\"Contract\",0,1))","v":0},{"$f":"IF($C15=Post!$B$23,1,0)*(IF($P15=\"\",0,1))*(IF($P15=\"Contract\",0,1))","v":0},{"$f":"IF($C15=Post!$B$24,1,0)*(IF($P15=\"\",0,1))*(IF($P15=\"Contract\",0,1))","v":0},{"$f":"IF($C15=Post!$B$25,1,0)*(IF($P15=\"\",0,1))*(IF($P15=\"Contract\",0,1))","v":0},{"$f":"IF($C15=Post!$B$26,1,0)*(IF($P15=\"\",0,1))*(IF($P15=\"Contract\",0,1))","v":0},{"$f":"IF($C15=Post!$B$27,1,0)*(IF($P15=\"\",0,1))*(IF($P15=\"Contract\",0,1))","v":0},{"$f":"IF($C15=Post!$B$28,1,0)*(IF($P15=\"\",0,1))*(IF($P15=\"Contract\",0,1))","v":0},{"$f":"IF($C15=Post!$B$29,1,0)*(IF($P15=\"\",0,1))*(IF($P15=\"Contract\",0,1))","v":0},{"$f":"IF($C15=Post!$B$30,1,0)*(IF($P15=\"\",0,1))*(IF($P15=\"Contract\",0,1))","v":0},{"$f":"IF($C15=Post!$B$31,1,0)*(IF($P15=\"\",0,1))*(IF($P15=\"Contract\",0,1))","v":0},{"$f":"IF($C15=Post!$B$32,1,0)*(IF($P15=\"\",0,1))*(IF($P15=\"Contract\",0,1))","v":0},{"$f":"IF($C15=Post!$B$33,1,0)*(IF($P15=\"\",0,1))*(IF($P15=\"Contract\",0,1))","v":0},{"$f":"IF($C15=Post!$B$34,1,0)*(IF($P15=\"\",0,1))*(IF($P15=\"Contract\",0,1))","v":0},{"$f":"IF($C15=Post!$B$35,1,0)*(IF($P15=\"\",0,1))*(IF($P15=\"Contract\",0,1))","v":0},{"$f":"IF($C15=Post!$B$36,1,0)*(IF($P15=\"\",0,1))*(IF($P15=\"Contract\",0,1))","v":0},{"$f":"IF($C15=Post!$B$37,1,0)*(IF($P15=\"\",0,1))*(IF($P15=\"Contract\",0,1))","v":0},{"$f":"IF($C15=Post!$B$38,1,0)*(IF($P15=\"\",0,1))*(IF($P15=\"Contract\",0,1))","v":0},{"$f":"IF($C15=Post!$B$39,1,0)*(IF($P15=\"\",0,1))*(IF($P15=\"Contract\",0,1))","v":0},{"$f":"IF($C15=Post!$B$40,1,0)*(IF($P15=\"\",0,1))*(IF($P15=\"Contract\",0,1))","v":0},{"$f":"IF($C15=Post!$B$41,1,0)*(IF($P15=\"\",0,1))*(IF($P15=\"Contract\",0,1))","v":0},{"$f":"IF($C15=Post!$B$42,1,0)*(IF($P15=\"\",0,1))*(IF($P15=\"Contract\",0,1))","v":0},{"$f":"IF($C15=Post!$B$43,1,0)*(IF($P15=\"\",0,1))*(IF($P15=\"Contract\",0,1))","v":0},{"$f":"IF($C15=Post!$B$44,1,0)*(IF($P15=\"\",0,1))*(IF($P15=\"Contract\",0,1))","v":0},{"$f":"IF($C15=Post!$B$45,1,0)*(IF($P15=\"\",0,1))*(IF($P15=\"Contract\",0,1))","v":0},{"$f":"IF($C15=Post!$B$46,1,0)*(IF($P15=\"\",0,1))*(IF($P15=\"Contract\",0,1))","v":0},{"$f":"IF($C15=Post!$B$47,1,0)*(IF($P15=\"\",0,1))*(IF($P15=\"Contract\",0,1))","v":0},{"$f":"IF(C15=Post!B$48,1,0)*(IF(P15=\"\",0,1))*(IF($P15=\"Contract\",0,1))","v":0},{"$f":"IF(C15=Post!B$49,1,0)*(IF(P15=\"\",0,1))*(IF($P15=\"Contract\",0,1))","v":0},{"$f":"IF(C15=Post!B$50,1,0)*(IF(P15=\"\",0,1))*(IF($P15=\"Contract\",0,1))","v":0},0,0,0,0,0,0,0,0,0,0,0,0,0,0,0,0,0,0,0,0,0,0,0,0,0,0,0,0,0,0,0,0,0,0,0,0,0,0,0,0,0,0,0,0,{"$f":"IF(AND(AC15=\"\"),\"\",AC15-ROUNDUP(ROUND((AC15*3%)-(AC15*3%)*2.9%,-2),0))","v":0},{"$f":"IF(AND(AC15=\"\"),\"\",AC15+ROUNDUP(ROUND((AC15*3%)+(AC15*3%)*2.9%,-2),0))","v":0}]
["",{"$f":"IF(C16=\"\",\"\",Database!H$5)","v":""},null,null,null,null,null,null,null,null,null,null,null,null,null,null,"",null,null,0,0,0,0,0,"",0,0,0,0,0,0,0,0,0,0,"",{"$f":"IF($C16=Post!$B$11,1,0)*(IF($P16=\"\",0,1))*(IF($P16=\"Contract\",0,1))","v":0},{"$f":"IF($C16=Post!$B$12,1,0)*(IF($P16=\"\",0,1))*(IF($P16=\"Contract\",0,1))","v":0},{"$f":"IF($C16=Post!$B$13,1,0)*(IF($P16=\"\",0,1))*(IF($P16=\"Contract\",0,1))","v":0},{"$f":"IF($C16=Post!$B$14,1,0)*(IF($P16=\"\",0,1))*(IF($P16=\"Contract\",0,1))","v":0},{"$f":"IF($C16=Post!$B$15,1,0)*(IF($P16=\"\",0,1))*(IF($P16=\"Contract\",0,1))","v":0},{"$f":"IF($C16=Post!$B$16,1,0)*(IF($P16=\"\",0,1))*(IF($P16=\"Contract\",0,1))","v":0},{"$f":"IF($C16=Post!$B$17,1,0)*(IF($P16=\"\",0,1))*(IF($P16=\"Contract\",0,1))","v":0},{"$f":"IF($C16=Post!$B$18,1,0)*(IF($P16=\"\",0,1))*(IF($P16=\"Contract\",0,1))","v":0},{"$f":"IF($C16=Post!$B$19,1,0)*(IF($P16=\"\",0,1))*(IF($P16=\"Contract\",0,1))","v":0},{"$f":"IF($C16=Post!$B$20,1,0)*(IF($P16=\"\",0,1))*(IF($P16=\"Contract\",0,1))","v":0},{"$f":"IF($C16=Post!$B$21,1,0)*(IF($P16=\"\",0,1))*(IF($P16=\"Contract\",0,1))","v":0},{"$f":"IF($C16=Post!$B$2,1,0)*(IF($P16=\"\",0,1))*(IF($P16=\"Contract\",0,1))","v":0},{"$f":"IF($C16=Post!$B$23,1,0)*(IF($P16=\"\",0,1))*(IF($P16=\"Contract\",0,1))","v":0},{"$f":"IF($C16=Post!$B$24,1,0)*(IF($P16=\"\",0,1))*(IF($P16=\"Contract\",0,1))","v":0},{"$f":"IF($C16=Post!$B$25,1,0)*(IF($P16=\"\",0,1))*(IF($P16=\"Contract\",0,1))","v":0},{"$f":"IF($C16=Post!$B$26,1,0)*(IF($P16=\"\",0,1))*(IF($P16=\"Contract\",0,1))","v":0},{"$f":"IF($C16=Post!$B$27,1,0)*(IF($P16=\"\",0,1))*(IF($P16=\"Contract\",0,1))","v":0},{"$f":"IF($C16=Post!$B$28,1,0)*(IF($P16=\"\",0,1))*(IF($P16=\"Contract\",0,1))","v":0},{"$f":"IF($C16=Post!$B$29,1,0)*(IF($P16=\"\",0,1))*(IF($P16=\"Contract\",0,1))","v":0},{"$f":"IF($C16=Post!$B$30,1,0)*(IF($P16=\"\",0,1))*(IF($P16=\"Contract\",0,1))","v":0},{"$f":"IF($C16=Post!$B$31,1,0)*(IF($P16=\"\",0,1))*(IF($P16=\"Contract\",0,1))","v":0},{"$f":"IF($C16=Post!$B$32,1,0)*(IF($P16=\"\",0,1))*(IF($P16=\"Contract\",0,1))","v":0},{"$f":"IF($C16=Post!$B$33,1,0)*(IF($P16=\"\",0,1))*(IF($P16=\"Contract\",0,1))","v":0},{"$f":"IF($C16=Post!$B$34,1,0)*(IF($P16=\"\",0,1))*(IF($P16=\"Contract\",0,1))","v":0},{"$f":"IF($C16=Post!$B$35,1,0)*(IF($P16=\"\",0,1))*(IF($P16=\"Contract\",0,1))","v":0},{"$f":"IF($C16=Post!$B$36,1,0)*(IF($P16=\"\",0,1))*(IF($P16=\"Contract\",0,1))","v":0},{"$f":"IF($C16=Post!$B$37,1,0)*(IF($P16=\"\",0,1))*(IF($P16=\"Contract\",0,1))","v":0},{"$f":"IF($C16=Post!$B$38,1,0)*(IF($P16=\"\",0,1))*(IF($P16=\"Contract\",0,1))","v":0},{"$f":"IF($C16=Post!$B$39,1,0)*(IF($P16=\"\",0,1))*(IF($P16=\"Contract\",0,1))","v":0},{"$f":"IF($C16=Post!$B$40,1,0)*(IF($P16=\"\",0,1))*(IF($P16=\"Contract\",0,1))","v":0},{"$f":"IF($C16=Post!$B$41,1,0)*(IF($P16=\"\",0,1))*(IF($P16=\"Contract\",0,1))","v":0},{"$f":"IF($C16=Post!$B$42,1,0)*(IF($P16=\"\",0,1))*(IF($P16=\"Contract\",0,1))","v":0},{"$f":"IF($C16=Post!$B$43,1,0)*(IF($P16=\"\",0,1))*(IF($P16=\"Contract\",0,1))","v":0},{"$f":"IF($C16=Post!$B$44,1,0)*(IF($P16=\"\",0,1))*(IF($P16=\"Contract\",0,1))","v":0},{"$f":"IF($C16=Post!$B$45,1,0)*(IF($P16=\"\",0,1))*(IF($P16=\"Contract\",0,1))","v":0},{"$f":"IF($C16=Post!$B$46,1,0)*(IF($P16=\"\",0,1))*(IF($P16=\"Contract\",0,1))","v":0},{"$f":"IF($C16=Post!$B$47,1,0)*(IF($P16=\"\",0,1))*(IF($P16=\"Contract\",0,1))","v":0},{"$f":"IF(C16=Post!B$48,1,0)*(IF(P16=\"\",0,1))*(IF($P16=\"Contract\",0,1))","v":0},{"$f":"IF(C16=Post!B$49,1,0)*(IF(P16=\"\",0,1))*(IF($P16=\"Contract\",0,1))","v":0},{"$f":"IF(C16=Post!B$50,1,0)*(IF(P16=\"\",0,1))*(IF($P16=\"Contract\",0,1))","v":0},0,0,0,0,0,0,0,0,0,0,0,0,0,0,0,0,0,0,0,0,0,0,0,0,0,0,0,0,0,0,0,0,0,0,0,0,0,0,0,0,0,0,0,0,0,0]
["",{"$f":"IF(C17=\"\",\"\",Database!H$5)","v":""},null,null,null,null,null,null,null,null,null,null,null,null,null,null,"",null,null,0,0,0,0,0,"",0,0,0,0,0,0,0,0,0,0,"",{"$f":"IF($C17=Post!$B$11,1,0)*(IF($P17=\"\",0,1))*(IF($P17=\"Contract\",0,1))","v":0},{"$f":"IF($C17=Post!$B$12,1,0)*(IF($P17=\"\",0,1))*(IF($P17=\"Contract\",0,1))","v":0},{"$f":"IF($C17=Post!$B$13,1,0)*(IF($P17=\"\",0,1))*(IF($P17=\"Contract\",0,1))","v":0},{"$f":"IF($C17=Post!$B$14,1,0)*(IF($P17=\"\",0,1))*(IF($P17=\"Contract\",0,1))","v":0},{"$f":"IF($C17=Post!$B$15,1,0)*(IF($P17=\"\",0,1))*(IF($P17=\"Contract\",0,1))","v":0},{"$f":"IF($C17=Post!$B$16,1,0)*(IF($P17=\"\",0,1))*(IF($P17=\"Contract\",0,1))","v":0},{"$f":"IF($C17=Post!$B$17,1,0)*(IF($P17=\"\",0,1))*(IF($P17=\"Contract\",0,1))","v":0},{"$f":"IF($C17=Post!$B$18,1,0)*(IF($P17=\"\",0,1))*(IF($P17=\"Contract\",0,1))","v":0},{"$f":"IF($C17=Post!$B$19,1,0)*(IF($P17=\"\",0,1))*(IF($P17=\"Contract\",0,1))","v":0},{"$f":"IF($C17=Post!$B$20,1,0)*(IF($P17=\"\",0,1))*(IF($P17=\"Contract\",0,1))","v":0},{"$f":"IF($C17=Post!$B$21,1,0)*(IF($P17=\"\",0,1))*(IF($P17=\"Contract\",0,1))","v":0},{"$f":"IF($C17=Post!$B$2,1,0)*(IF($P17=\"\",0,1))*(IF($P17=\"Contract\",0,1))","v":0},{"$f":"IF($C17=Post!$B$23,1,0)*(IF($P17=\"\",0,1))*(IF($P17=\"Contract\",0,1))","v":0},{"$f":"IF($C17=Post!$B$24,1,0)*(IF($P17=\"\",0,1))*(IF($P17=\"Contract\",0,1))","v":0},{"$f":"IF($C17=Post!$B$25,1,0)*(IF($P17=\"\",0,1))*(IF($P17=\"Contract\",0,1))","v":0},{"$f":"IF($C17=Post!$B$26,1,0)*(IF($P17=\"\",0,1))*(IF($P17=\"Contract\",0,1))","v":0},{"$f":"IF($C17=Post!$B$27,1,0)*(IF($P17=\"\",0,1))*(IF($P17=\"Contract\",0,1))","v":0},{"$f":"IF($C17=Post!$B$28,1,0)*(IF($P17=\"\",0,1))*(IF($P17=\"Contract\",0,1))","v":0},{"$f":"IF($C17=Post!$B$29,1,0)*(IF($P17=\"\",0,1))*(IF($P17=\"Contract\",0,1))","v":0},{"$f":"IF($C17=Post!$B$30,1,0)*(IF($P17=\"\",0,1))*(IF($P17=\"Contract\",0,1))","v":0},{"$f":"IF($C17=Post!$B$31,1,0)*(IF($P17=\"\",0,1))*(IF($P17=\"Contract\",0,1))","v":0},{"$f":"IF($C17=Post!$B$32,1,0)*(IF($P17=\"\",0,1))*(IF($P17=\"Contract\",0,1))","v":0},{"$f":"IF($C17=Post!$B$33,1,0)*(IF($P17=\"\",0,1))*(IF($P17=\"Contract\",0,1))","v":0},{"$f":"IF($C17=Post!$B$34,1,0)*(IF($P17=\"\",0,1))*(IF($P17=\"Contract\",0,1))","v":0},{"$f":"IF($C17=Post!$B$35,1,0)*(IF($P17=\"\",0,1))*(IF($P17=\"Contract\",0,1))","v":0},{"$f":"IF($C17=Post!$B$36,1,0)*(IF($P17=\"\",0,1))*(IF($P17=\"Contract\",0,1))","v":0},{"$f":"IF($C17=Post!$B$37,1,0)*(IF($P17=\"\",0,1))*(IF($P17=\"Contract\",0,1))","v":0},{"$f":"IF($C17=Post!$B$38,1,0)*(IF($P17=\"\",0,1))*(IF($P17=\"Contract\",0,1))","v":0},{"$f":"IF($C17=Post!$B$39,1,0)*(IF($P17=\"\",0,1))*(IF($P17=\"Contract\",0,1))","v":0},{"$f":"IF($C17=Post!$B$40,1,0)*(IF($P17=\"\",0,1))*(IF($P17=\"Contract\",0,1))","v":0},{"$f":"IF($C17=Post!$B$41,1,0)*(IF($P17=\"\",0,1))*(IF($P17=\"Contract\",0,1))","v":0},{"$f":"IF($C17=Post!$B$42,1,0)*(IF($P17=\"\",0,1))*(IF($P17=\"Contract\",0,1))","v":0},{"$f":"IF($C17=Post!$B$43,1,0)*(IF($P17=\"\",0,1))*(IF($P17=\"Contract\",0,1))","v":0},{"$f":"IF($C17=Post!$B$44,1,0)*(IF($P17=\"\",0,1))*(IF($P17=\"Contract\",0,1))","v":0},{"$f":"IF($C17=Post!$B$45,1,0)*(IF($P17=\"\",0,1))*(IF($P17=\"Contract\",0,1))","v":0},{"$f":"IF($C17=Post!$B$46,1,0)*(IF($P17=\"\",0,1))*(IF($P17=\"Contract\",0,1))","v":0},{"$f":"IF($C17=Post!$B$47,1,0)*(IF($P17=\"\",0,1))*(IF($P17=\"Contract\",0,1))","v":0},{"$f":"IF(C17=Post!B$48,1,0)*(IF(P17=\"\",0,1))*(IF($P17=\"Contract\",0,1))","v":0},{"$f":"IF(C17=Post!B$49,1,0)*(IF(P17=\"\",0,1))*(IF($P17=\"Contract\",0,1))","v":0},{"$f":"IF(C17=Post!B$50,1,0)*(IF(P17=\"\",0,1))*(IF($P17=\"Contract\",0,1))","v":0},0,0,0,0,0,0,0,0,0,0,0,0,0,0,0,0,0,0,0,0,0,0,0,0,0,0,0,0,0,0,0,0,0,0,0,0,0,0,0,0,0,0,0,0,0,0]
["",{"$f":"IF(C18=\"\",\"\",Database!H$5)","v":""},null,null,null,null,null,null,null,null,null,null,null,null,null,null,"",null,null,0,0,0,0,0,"",0,0,0,0,0,0,0,0,0,0,"",{"$f":"IF($C18=Post!$B$11,1,0)*(IF($P18=\"\",0,1))*(IF($P18=\"Contract\",0,1))","v":0},{"$f":"IF($C18=Post!$B$12,1,0)*(IF($P18=\"\",0,1))*(IF($P18=\"Contract\",0,1))","v":0},{"$f":"IF($C18=Post!$B$13,1,0)*(IF($P18=\"\",0,1))*(IF($P18=\"Contract\",0,1))","v":0},{"$f":"IF($C18=Post!$B$14,1,0)*(IF($P18=\"\",0,1))*(IF($P18=\"Contract\",0,1))","v":0},{"$f":"IF($C18=Post!$B$15,1,0)*(IF($P18=\"\",0,1))*(IF($P18=\"Contract\",0,1))","v":0},{"$f":"IF($C18=Post!$B$16,1,0)*(IF($P18=\"\",0,1))*(IF($P18=\"Contract\",0,1))","v":0},{"$f":"IF($C18=Post!$B$17,1,0)*(IF($P18=\"\",0,1))*(IF($P18=\"Contract\",0,1))","v":0},{"$f":"IF($C18=Post!$B$18,1,0)*(IF($P18=\"\",0,1))*(IF($P18=\"Contract\",0,1))","v":0},{"$f":"IF($C18=Post!$B$19,1,0)*(IF($P18=\"\",0,1))*(IF($P18=\"Contract\",0,1))","v":0},{"$f":"IF($C18=Post!$B$20,1,0)*(IF($P18=\"\",0,1))*(IF($P18=\"Contract\",0,1))","v":0},{"$f":"IF($C18=Post!$B$21,1,0)*(IF($P18=\"\",0,1))*(IF($P18=\"Contract\",0,1))","v":0},{"$f":"IF($C18=Post!$B$2,1,0)*(IF($P18=\"\",0,1))*(IF($P18=\"Contract\",0,1))","v":0},{"$f":"IF($C18=Post!$B$23,1,0)*(IF($P18=\"\",0,1))*(IF($P18=\"Contract\",0,1))","v":0},{"$f":"IF($C18=Post!$B$24,1,0)*(IF($P18=\"\",0,1))*(IF($P18=\"Contract\",0,1))","v":0},{"$f":"IF($C18=Post!$B$25,1,0)*(IF($P18=\"\",0,1))*(IF($P18=\"Contract\",0,1))","v":0},{"$f":"IF($C18=Post!$B$26,1,0)*(IF($P18=\"\",0,1))*(IF($P18=\"Contract\",0,1))","v":0},{"$f":"IF($C18=Post!$B$27,1,0)*(IF($P18=\"\",0,1))*(IF($P18=\"Contract\",0,1))","v":0},{"$f":"IF($C18=Post!$B$28,1,0)*(IF($P18=\"\",0,1))*(IF($P18=\"Contract\",0,1))","v":0},{"$f":"IF($C18=Post!$B$29,1,0)*(IF($P18=\"\",0,1))*(IF($P18=\"Contract\",0,1))","v":0},{"$f":"IF($C18=Post!$B$30,1,0)*(IF($P18=\"\",0,1))*(IF($P18=\"Contract\",0,1))","v":0},{"$f":"IF($C18=Post!$B$31,1,0)*(IF($P18=\"\",0,1))*(IF($P18=\"Contract\",0,1))","v":0},{"$f":"IF($C18=Post!$B$32,1,0)*(IF($P18=\"\",0,1))*(IF($P18=\"Contract\",0,1))","v":0},{"$f":"IF($C18=Post!$B$33,1,0)*(IF($P18=\"\",0,1))*(IF($P18=\"Contract\",0,1))","v":0},{"$f":"IF($C18=Post!$B$34,1,0)*(IF($P18=\"\",0,1))*(IF($P18=\"Contract\",0,1))","v":0},{"$f":"IF($C18=Post!$B$35,1,0)*(IF($P18=\"\",0,1))*(IF($P18=\"Contract\",0,1))","v":0},{"$f":"IF($C18=Post!$B$36,1,0)*(IF($P18=\"\",0,1))*(IF($P18=\"Contract\",0,1))","v":0},{"$f":"IF($C18=Post!$B$37,1,0)*(IF($P18=\"\",0,1))*(IF($P18=\"Contract\",0,1))","v":0},{"$f":"IF($C18=Post!$B$38,1,0)*(IF($P18=\"\",0,1))*(IF($P18=\"Contract\",0,1))","v":0},{"$f":"IF($C18=Post!$B$39,1,0)*(IF($P18=\"\",0,1))*(IF($P18=\"Contract\",0,1))","v":0},{"$f":"IF($C18=Post!$B$40,1,0)*(IF($P18=\"\",0,1))*(IF($P18=\"Contract\",0,1))","v":0},{"$f":"IF($C18=Post!$B$41,1,0)*(IF($P18=\"\",0,1))*(IF($P18=\"Contract\",0,1))","v":0},{"$f":"IF($C18=Post!$B$42,1,0)*(IF($P18=\"\",0,1))*(IF($P18=\"Contract\",0,1))","v":0},{"$f":"IF($C18=Post!$B$43,1,0)*(IF($P18=\"\",0,1))*(IF($P18=\"Contract\",0,1))","v":0},{"$f":"IF($C18=Post!$B$44,1,0)*(IF($P18=\"\",0,1))*(IF($P18=\"Contract\",0,1))","v":0},{"$f":"IF($C18=Post!$B$45,1,0)*(IF($P18=\"\",0,1))*(IF($P18=\"Contract\",0,1))","v":0},{"$f":"IF($C18=Post!$B$46,1,0)*(IF($P18=\"\",0,1))*(IF($P18=\"Contract\",0,1))","v":0},{"$f":"IF($C18=Post!$B$47,1,0)*(IF($P18=\"\",0,1))*(IF($P18=\"Contract\",0,1))","v":0},{"$f":"IF(C18=Post!B$48,1,0)*(IF(P18=\"\",0,1))*(IF($P18=\"Contract\",0,1))","v":0},{"$f":"IF(C18=Post!B$49,1,0)*(IF(P18=\"\",0,1))*(IF($P18=\"Contract\",0,1))","v":0},{"$f":"IF(C18=Post!B$50,1,0)*(IF(P18=\"\",0,1))*(IF($P18=\"Contract\",0,1))","v":0},0,0,0,0,0,0,0,0,0,0,0,0,0,0,0,0,0,0,0,0,0,0,0,0,0,0,0,0,0,0,0,0,0,0,0,0,0,0,0,0,0,0,0,0,0,0]
["",{"$f":"IF(C19=\"\",\"\",Database!H$5)","v":""},null,null,null,null,null,null,null,null,null,null,null,null,null,null,"",null,null,0,0,0,0,0,"",0,0,0,0,0,0,0,0,0,0,"",{"$f":"IF($C19=Post!$B$11,1,0)*(IF($P19=\"\",0,1))*(IF($P19=\"Contract\",0,1))","v":0},{"$f":"IF($C19=Post!$B$12,1,0)*(IF($P19=\"\",0,1))*(IF($P19=\"Contract\",0,1))","v":0},{"$f":"IF($C19=Post!$B$13,1,0)*(IF($P19=\"\",0,1))*(IF($P19=\"Contract\",0,1))","v":0},{"$f":"IF($C19=Post!$B$14,1,0)*(IF($P19=\"\",0,1))*(IF($P19=\"Contract\",0,1))","v":0},{"$f":"IF($C19=Post!$B$15,1,0)*(IF($P19=\"\",0,1))*(IF($P19=\"Contract\",0,1))","v":0},{"$f":"IF($C19=Post!$B$16,1,0)*(IF($P19=\"\",0,1))*(IF($P19=\"Contract\",0,1))","v":0},{"$f":"IF($C19=Post!$B$17,1,0)*(IF($P19=\"\",0,1))*(IF($P19=\"Contract\",0,1))","v":0},{"$f":"IF($C19=Post!$B$18,1,0)*(IF($P19=\"\",0,1))*(IF($P19=\"Contract\",0,1))","v":0},{"$f":"IF($C19=Post!$B$19,1,0)*(IF($P19=\"\",0,1))*(IF($P19=\"Contract\",0,1))","v":0},{"$f":"IF($C19=Post!$B$20,1,0)*(IF($P19=\"\",0,1))*(IF($P19=\"Contract\",0,1))","v":0},{"$f":"IF($C19=Post!$B$21,1,0)*(IF($P19=\"\",0,1))*(IF($P19=\"Contract\",0,1))","v":0},{"$f":"IF($C19=Post!$B$2,1,0)*(IF($P19=\"\",0,1))*(IF($P19=\"Contract\",0,1))","v":0},{"$f":"IF($C19=Post!$B$23,1,0)*(IF($P19=\"\",0,1))*(IF($P19=\"Contract\",0,1))","v":0},{"$f":"IF($C19=Post!$B$24,1,0)*(IF($P19=\"\",0,1))*(IF($P19=\"Contract\",0,1))","v":0},{"$f":"IF($C19=Post!$B$25,1,0)*(IF($P19=\"\",0,1))*(IF($P19=\"Contract\",0,1))","v":0},{"$f":"IF($C19=Post!$B$26,1,0)*(IF($P19=\"\",0,1))*(IF($P19=\"Contract\",0,1))","v":0},{"$f":"IF($C19=Post!$B$27,1,0)*(IF($P19=\"\",0,1))*(IF($P19=\"Contract\",0,1))","v":0},{"$f":"IF($C19=Post!$B$28,1,0)*(IF($P19=\"\",0,1))*(IF($P19=\"Contract\",0,1))","v":0},{"$f":"IF($C19=Post!$B$29,1,0)*(IF($P19=\"\",0,1))*(IF($P19=\"Contract\",0,1))","v":0},{"$f":"IF($C19=Post!$B$30,1,0)*(IF($P19=\"\",0,1))*(IF($P19=\"Contract\",0,1))","v":0},{"$f":"IF($C19=Post!$B$31,1,0)*(IF($P19=\"\",0,1))*(IF($P19=\"Contract\",0,1))","v":0},{"$f":"IF($C19=Post!$B$32,1,0)*(IF($P19=\"\",0,1))*(IF($P19=\"Contract\",0,1))","v":0},{"$f":"IF($C19=Post!$B$33,1,0)*(IF($P19=\"\",0,1))*(IF($P19=\"Contract\",0,1))","v":0},{"$f":"IF($C19=Post!$B$34,1,0)*(IF($P19=\"\",0,1))*(IF($P19=\"Contract\",0,1))","v":0},{"$f":"IF($C19=Post!$B$35,1,0)*(IF($P19=\"\",0,1))*(IF($P19=\"Contract\",0,1))","v":0},{"$f":"IF($C19=Post!$B$36,1,0)*(IF($P19=\"\",0,1))*(IF($P19=\"Contract\",0,1))","v":0},{"$f":"IF($C19=Post!$B$37,1,0)*(IF($P19=\"\",0,1))*(IF($P19=\"Contract\",0,1))","v":0},{"$f":"IF($C19=Post!$B$38,1,0)*(IF($P19=\"\",0,1))*(IF($P19=\"Contract\",0,1))","v":0},{"$f":"IF($C19=Post!$B$39,1,0)*(IF($P19=\"\",0,1))*(IF($P19=\"Contract\",0,1))","v":0},{"$f":"IF($C19=Post!$B$40,1,0)*(IF($P19=\"\",0,1))*(IF($P19=\"Contract\",0,1))","v":0},{"$f":"IF($C19=Post!$B$41,1,0)*(IF($P19=\"\",0,1))*(IF($P19=\"Contract\",0,1))","v":0},{"$f":"IF($C19=Post!$B$42,1,0)*(IF($P19=\"\",0,1))*(IF($P19=\"Contract\",0,1))","v":0},{"$f":"IF($C19=Post!$B$43,1,0)*(IF($P19=\"\",0,1))*(IF($P19=\"Contract\",0,1))","v":0},{"$f":"IF($C19=Post!$B$44,1,0)*(IF($P19=\"\",0,1))*(IF($P19=\"Contract\",0,1))","v":0},{"$f":"IF($C19=Post!$B$45,1,0)*(IF($P19=\"\",0,1))*(IF($P19=\"Contract\",0,1))","v":0},{"$f":"IF($C19=Post!$B$46,1,0)*(IF($P19=\"\",0,1))*(IF($P19=\"Contract\",0,1))","v":0},{"$f":"IF($C19=Post!$B$47,1,0)*(IF($P19=\"\",0,1))*(IF($P19=\"Contract\",0,1))","v":0},{"$f":"IF(C19=Post!B$48,1,0)*(IF(P19=\"\",0,1))*(IF($P19=\"Contract\",0,1))","v":0},{"$f":"IF(C19=Post!B$49,1,0)*(IF(P19=\"\",0,1))*(IF($P19=\"Contract\",0,1))","v":0},{"$f":"IF(C19=Post!B$50,1,0)*(IF(P19=\"\",0,1))*(IF($P19=\"Contract\",0,1))","v":0},0,0,0,0,0,0,0,0,0,0,0,0,0,0,0,0,0,0,0,0,0,0,0,0,0,0,0,0,0,0,0,0,0,0,0,0,0,0,0,0,0,0,0,0,0,0]
["",{"$f":"IF(C20=\"\",\"\",Database!H$5)","v":""},null,null,null,null,null,null,null,null,null,null,null,null,null,null,"",null,null,0,0,0,0,0,"",0,0,0,0,0,0,0,0,0,0,"",{"$f":"IF($C20=Post!$B$11,1,0)*(IF($P20=\"\",0,1))*(IF($P20=\"Contract\",0,1))","v":0},{"$f":"IF($C20=Post!$B$12,1,0)*(IF($P20=\"\",0,1))*(IF($P20=\"Contract\",0,1))","v":0},{"$f":"IF($C20=Post!$B$13,1,0)*(IF($P20=\"\",0,1))*(IF($P20=\"Contract\",0,1))","v":0},{"$f":"IF($C20=Post!$B$14,1,0)*(IF($P20=\"\",0,1))*(IF($P20=\"Contract\",0,1))","v":0},{"$f":"IF($C20=Post!$B$15,1,0)*(IF($P20=\"\",0,1))*(IF($P20=\"Contract\",0,1))","v":0},{"$f":"IF($C20=Post!$B$16,1,0)*(IF($P20=\"\",0,1))*(IF($P20=\"Contract\",0,1))","v":0},{"$f":"IF($C20=Post!$B$17,1,0)*(IF($P20=\"\",0,1))*(IF($P20=\"Contract\",0,1))","v":0},{"$f":"IF($C20=Post!$B$18,1,0)*(IF($P20=\"\",0,1))*(IF($P20=\"Contract\",0,1))","v":0},{"$f":"IF($C20=Post!$B$19,1,0)*(IF($P20=\"\",0,1))*(IF($P20=\"Contract\",0,1))","v":0},{"$f":"IF($C20=Post!$B$20,1,0)*(IF($P20=\"\",0,1))*(IF($P20=\"Contract\",0,1))","v":0},{"$f":"IF($C20=Post!$B$21,1,0)*(IF($P20=\"\",0,1))*(IF($P20=\"Contract\",0,1))","v":0},{"$f":"IF($C20=Post!$B$2,1,0)*(IF($P20=\"\",0,1))*(IF($P20=\"Contract\",0,1))","v":0},{"$f":"IF($C20=Post!$B$23,1,0)*(IF($P20=\"\",0,1))*(IF($P20=\"Contract\",0,1))","v":0},{"$f":"IF($C20=Post!$B$24,1,0)*(IF($P20=\"\",0,1))*(IF($P20=\"Contract\",0,1))","v":0},{"$f":"IF($C20=Post!$B$25,1,0)*(IF($P20=\"\",0,1))*(IF($P20=\"Contract\",0,1))","v":0},{"$f":"IF($C20=Post!$B$26,1,0)*(IF($P20=\"\",0,1))*(IF($P20=\"Contract\",0,1))","v":0},{"$f":"IF($C20=Post!$B$27,1,0)*(IF($P20=\"\",0,1))*(IF($P20=\"Contract\",0,1))","v":0},{"$f":"IF($C20=Post!$B$28,1,0)*(IF($P20=\"\",0,1))*(IF($P20=\"Contract\",0,1))","v":0},{"$f":"IF($C20=Post!$B$29,1,0)*(IF($P20=\"\",0,1))*(IF($P20=\"Contract\",0,1))","v":0},{"$f":"IF($C20=Post!$B$30,1,0)*(IF($P20=\"\",0,1))*(IF($P20=\"Contract\",0,1))","v":0},{"$f":"IF($C20=Post!$B$31,1,0)*(IF($P20=\"\",0,1))*(IF($P20=\"Contract\",0,1))","v":0},{"$f":"IF($C20=Post!$B$32,1,0)*(IF($P20=\"\",0,1))*(IF($P20=\"Contract\",0,1))","v":0},{"$f":"IF($C20=Post!$B$33,1,0)*(IF($P20=\"\",0,1))*(IF($P20=\"Contract\",0,1))","v":0},{"$f":"IF($C20=Post!$B$34,1,0)*(IF($P20=\"\",0,1))*(IF($P20=\"Contract\",0,1))","v":0},{"$f":"IF($C20=Post!$B$35,1,0)*(IF($P20=\"\",0,1))*(IF($P20=\"Contract\",0,1))","v":0},{"$f":"IF($C20=Post!$B$36,1,0)*(IF($P20=\"\",0,1))*(IF($P20=\"Contract\",0,1))","v":0},{"$f":"IF($C20=Post!$B$37,1,0)*(IF($P20=\"\",0,1))*(IF($P20=\"Contract\",0,1))","v":0},{"$f":"IF($C20=Post!$B$38,1,0)*(IF($P20=\"\",0,1))*(IF($P20=\"Contract\",0,1))","v":0},{"$f":"IF($C20=Post!$B$39,1,0)*(IF($P20=\"\",0,1))*(IF($P20=\"Contract\",0,1))","v":0},{"$f":"IF($C20=Post!$B$40,1,0)*(IF($P20=\"\",0,1))*(IF($P20=\"Contract\",0,1))","v":0},{"$f":"IF($C20=Post!$B$41,1,0)*(IF($P20=\"\",0,1))*(IF($P20=\"Contract\",0,1))","v":0},{"$f":"IF($C20=Post!$B$42,1,0)*(IF($P20=\"\",0,1))*(IF($P20=\"Contract\",0,1))","v":0},{"$f":"IF($C20=Post!$B$43,1,0)*(IF($P20=\"\",0,1))*(IF($P20=\"Contract\",0,1))","v":0},{"$f":"IF($C20=Post!$B$44,1,0)*(IF($P20=\"\",0,1))*(IF($P20=\"Contract\",0,1))","v":0},{"$f":"IF($C20=Post!$B$45,1,0)*(IF($P20=\"\",0,1))*(IF($P20=\"Contract\",0,1))","v":0},{"$f":"IF($C20=Post!$B$46,1,0)*(IF($P20=\"\",0,1))*(IF($P20=\"Contract\",0,1))","v":0},{"$f":"IF($C20=Post!$B$47,1,0)*(IF($P20=\"\",0,1))*(IF($P20=\"Contract\",0,1))","v":0},{"$f":"IF(C20=Post!B$48,1,0)*(IF(P20=\"\",0,1))*(IF($P20=\"Contract\",0,1))","v":0},{"$f":"IF(C20=Post!B$49,1,0)*(IF(P20=\"\",0,1))*(IF($P20=\"Contract\",0,1))","v":0},{"$f":"IF(C20=Post!B$50,1,0)*(IF(P20=\"\",0,1))*(IF($P20=\"Contract\",0,1))","v":0},0,0,0,0,0,0,0,0,0,0,0,0,0,0,0,0,0,0,0,0,0,0,0,0,0,0,0,0,0,0,0,0,0,0,0,0,0,0,0,0,0,0,0,0,0,0]
["",{"$f":"IF(C21=\"\",\"\",Database!H$5)","v":""},null,null,null,null,null,null,null,null,null,null,null,null,null,null,"",null,null,0,0,0,0,0,"",0,0,0,0,0,0,0,0,0,0,"",{"$f":"IF($C21=Post!$B$11,1,0)*(IF($P21=\"\",0,1))*(IF($P21=\"Contract\",0,1))","v":0},{"$f":"IF($C21=Post!$B$12,1,0)*(IF($P21=\"\",0,1))*(IF($P21=\"Contract\",0,1))","v":0},{"$f":"IF($C21=Post!$B$13,1,0)*(IF($P21=\"\",0,1))*(IF($P21=\"Contract\",0,1))","v":0},{"$f":"IF($C21=Post!$B$14,1,0)*(IF($P21=\"\",0,1))*(IF($P21=\"Contract\",0,1))","v":0},{"$f":"IF($C21=Post!$B$15,1,0)*(IF($P21=\"\",0,1))*(IF($P21=\"Contract\",0,1))","v":0},{"$f":"IF($C21=Post!$B$16,1,0)*(IF($P21=\"\",0,1))*(IF($P21=\"Contract\",0,1))","v":0},{"$f":"IF($C21=Post!$B$17,1,0)*(IF($P21=\"\",0,1))*(IF($P21=\"Contract\",0,1))","v":0},{"$f":"IF($C21=Post!$B$18,1,0)*(IF($P21=\"\",0,1))*(IF($P21=\"Contract\",0,1))","v":0},{"$f":"IF($C21=Post!$B$19,1,0)*(IF($P21=\"\",0,1))*(IF($P21=\"Contract\",0,1))","v":0},{"$f":"IF($C21=Post!$B$20,1,0)*(IF($P21=\"\",0,1))*(IF($P21=\"Contract\",0,1))","v":0},{"$f":"IF($C21=Post!$B$21,1,0)*(IF($P21=\"\",0,1))*(IF($P21=\"Contract\",0,1))","v":0},{"$f":"IF($C21=Post!$B$2,1,0)*(IF($P21=\"\",0,1))*(IF($P21=\"Contract\",0,1))","v":0},{"$f":"IF($C21=Post!$B$23,1,0)*(IF($P21=\"\",0,1))*(IF($P21=\"Contract\",0,1))","v":0},{"$f":"IF($C21=Post!$B$24,1,0)*(IF($P21=\"\",0,1))*(IF($P21=\"Contract\",0,1))","v":0},{"$f":"IF($C21=Post!$B$25,1,0)*(IF($P21=\"\",0,1))*(IF($P21=\"Contract\",0,1))","v":0},{"$f":"IF($C21=Post!$B$26,1,0)*(IF($P21=\"\",0,1))*(IF($P21=\"Contract\",0,1))","v":0},{"$f":"IF($C21=Post!$B$27,1,0)*(IF($P21=\"\",0,1))*(IF($P21=\"Contract\",0,1))","v":0},{"$f":"IF($C21=Post!$B$28,1,0)*(IF($P21=\"\",0,1))*(IF($P21=\"Contract\",0,1))","v":0},{"$f":"IF($C21=Post!$B$29,1,0)*(IF($P21=\"\",0,1))*(IF($P21=\"Contract\",0,1))","v":0},{"$f":"IF($C21=Post!$B$30,1,0)*(IF($P21=\"\",0,1))*(IF($P21=\"Contract\",0,1))","v":0},{"$f":"IF($C21=Post!$B$31,1,0)*(IF($P21=\"\",0,1))*(IF($P21=\"Contract\",0,1))","v":0},{"$f":"IF($C21=Post!$B$32,1,0)*(IF($P21=\"\",0,1))*(IF($P21=\"Contract\",0,1))","v":0},{"$f":"IF($C21=Post!$B$33,1,0)*(IF($P21=\"\",0,1))*(IF($P21=\"Contract\",0,1))","v":0},{"$f":"IF($C21=Post!$B$34,1,0)*(IF($P21=\"\",0,1))*(IF($P21=\"Contract\",0,1))","v":0},{"$f":"IF($C21=Post!$B$35,1,0)*(IF($P21=\"\",0,1))*(IF($P21=\"Contract\",0,1))","v":0},{"$f":"IF($C21=Post!$B$36,1,0)*(IF($P21=\"\",0,1))*(IF($P21=\"Contract\",0,1))","v":0},{"$f":"IF($C21=Post!$B$37,1,0)*(IF($P21=\"\",0,1))*(IF($P21=\"Contract\",0,1))","v":0},{"$f":"IF($C21=Post!$B$38,1,0)*(IF($P21=\"\",0,1))*(IF($P21=\"Contract\",0,1))","v":0},{"$f":"IF($C21=Post!$B$39,1,0)*(IF($P21=\"\",0,1))*(IF($P21=\"Contract\",0,1))","v":0},{"$f":"IF($C21=Post!$B$40,1,0)*(IF($P21=\"\",0,1))*(IF($P21=\"Contract\",0,1))","v":0},{"$f":"IF($C21=Post!$B$41,1,0)*(IF($P21=\"\",0,1))*(IF($P21=\"Contract\",0,1))","v":0},{"$f":"IF($C21=Post!$B$42,1,0)*(IF($P21=\"\",0,1))*(IF($P21=\"Contract\",0,1))","v":0},{"$f":"IF($C21=Post!$B$43,1,0)*(IF($P21=\"\",0,1))*(IF($P21=\"Contract\",0,1))","v":0},{"$f":"IF($C21=Post!$B$44,1,0)*(IF($P21=\"\",0,1))*(IF($P21=\"Contract\",0,1))","v":0},{"$f":"IF($C21=Post!$B$45,1,0)*(IF($P21=\"\",0,1))*(IF($P21=\"Contract\",0,1))","v":0},{"$f":"IF($C21=Post!$B$46,1,0)*(IF($P21=\"\",0,1))*(IF($P21=\"Contract\",0,1))","v":0},{"$f":"IF($C21=Post!$B$47,1,0)*(IF($P21=\"\",0,1))*(IF($P21=\"Contract\",0,1))","v":0},{"$f":"IF(C21=Post!B$48,1,0)*(IF(P21=\"\",0,1))*(IF($P21=\"Contract\",0,1))","v":0},{"$f":"IF(C21=Post!B$49,1,0)*(IF(P21=\"\",0,1))*(IF($P21=\"Contract\",0,1))","v":0},{"$f":"IF(C21=Post!B$50,1,0)*(IF(P21=\"\",0,1))*(IF($P21=\"Contract\",0,1))","v":0},0,0,0,0,0,0,0,0,0,0,0,0,0,0,0,0,0,0,0,0,0,0,0,0,0,0,0,0,0,0,0,0,0,0,0,0,0,0,0,0,0,0,0,0,0,0]
["",{"$f":"IF(C22=\"\",\"\",Database!H$5)","v":""},null,null,null,null,null,null,null,null,null,null,null,null,null,null,"",null,null,0,0,0,0,0,"",0,0,0,0,0,0,0,0,0,0,"",{"$f":"IF($C22=Post!$B$11,1,0)*(IF($P22=\"\",0,1))*(IF($P22=\"Contract\",0,1))","v":0},{"$f":"IF($C22=Post!$B$12,1,0)*(IF($P22=\"\",0,1))*(IF($P22=\"Contract\",0,1))","v":0},{"$f":"IF($C22=Post!$B$13,1,0)*(IF($P22=\"\",0,1))*(IF($P22=\"Contract\",0,1))","v":0},{"$f":"IF($C22=Post!$B$14,1,0)*(IF($P22=\"\",0,1))*(IF($P22=\"Contract\",0,1))","v":0},{"$f":"IF($C22=Post!$B$15,1,0)*(IF($P22=\"\",0,1))*(IF($P22=\"Contract\",0,1))","v":0},{"$f":"IF($C22=Post!$B$16,1,0)*(IF($P22=\"\",0,1))*(IF($P22=\"Contract\",0,1))","v":0},{"$f":"IF($C22=Post!$B$17,1,0)*(IF($P22=\"\",0,1))*(IF($P22=\"Contract\",0,1))","v":0},{"$f":"IF($C22=Post!$B$18,1,0)*(IF($P22=\"\",0,1))*(IF($P22=\"Contract\",0,1))","v":0},{"$f":"IF($C22=Post!$B$19,1,0)*(IF($P22=\"\",0,1))*(IF($P22=\"Contract\",0,1))","v":0},{"$f":"IF($C22=Post!$B$20,1,0)*(IF($P22=\"\",0,1))*(IF($P22=\"Contract\",0,1))","v":0},{"$f":"IF($C22=Post!$B$21,1,0)*(IF($P22=\"\",0,1))*(IF($P22=\"Contract\",0,1))","v":0},{"$f":"IF($C22=Post!$B$2,1,0)*(IF($P22=\"\",0,1))*(IF($P22=\"Contract\",0,1))","v":0},{"$f":"IF($C22=Post!$B$23,1,0)*(IF($P22=\"\",0,1))*(IF($P22=\"Contract\",0,1))","v":0},{"$f":"IF($C22=Post!$B$24,1,0)*(IF($P22=\"\",0,1))*(IF($P22=\"Contract\",0,1))","v":0},{"$f":"IF($C22=Post!$B$25,1,0)*(IF($P22=\"\",0,1))*(IF($P22=\"Contract\",0,1))","v":0},{"$f":"IF($C22=Post!$B$26,1,0)*(IF($P22=\"\",0,1))*(IF($P22=\"Contract\",0,1))","v":0},{"$f":"IF($C22=Post!$B$27,1,0)*(IF($P22=\"\",0,1))*(IF($P22=\"Contract\",0,1))","v":0},{"$f":"IF($C22=Post!$B$28,1,0)*(IF($P22=\"\",0,1))*(IF($P22=\"Contract\",0,1))","v":0},{"$f":"IF($C22=Post!$B$29,1,0)*(IF($P22=\"\",0,1))*(IF($P22=\"Contract\",0,1))","v":0},{"$f":"IF($C22=Post!$B$30,1,0)*(IF($P22=\"\",0,1))*(IF($P22=\"Contract\",0,1))","v":0},{"$f":"IF($C22=Post!$B$31,1,0)*(IF($P22=\"\",0,1))*(IF($P22=\"Contract\",0,1))","v":0},{"$f":"IF($C22=Post!$B$32,1,0)*(IF($P22=\"\",0,1))*(IF($P22=\"Contract\",0,1))","v":0},{"$f":"IF($C22=Post!$B$33,1,0)*(IF($P22=\"\",0,1))*(IF($P22=\"Contract\",0,1))","v":0},{"$f":"IF($C22=Post!$B$34,1,0)*(IF($P22=\"\",0,1))*(IF($P22=\"Contract\",0,1))","v":0},{"$f":"IF($C22=Post!$B$35,1,0)*(IF($P22=\"\",0,1))*(IF($P22=\"Contract\",0,1))","v":0},{"$f":"IF($C22=Post!$B$36,1,0)*(IF($P22=\"\",0,1))*(IF($P22=\"Contract\",0,1))","v":0},{"$f":"IF($C22=Post!$B$37,1,0)*(IF($P22=\"\",0,1))*(IF($P22=\"Contract\",0,1))","v":0},{"$f":"IF($C22=Post!$B$38,1,0)*(IF($P22=\"\",0,1))*(IF($P22=\"Contract\",0,1))","v":0},{"$f":"IF($C22=Post!$B$39,1,0)*(IF($P22=\"\",0,1))*(IF($P22=\"Contract\",0,1))","v":0},{"$f":"IF($C22=Post!$B$40,1,0)*(IF($P22=\"\",0,1))*(IF($P22=\"Contract\",0,1))","v":0},{"$f":"IF($C22=Post!$B$41,1,0)*(IF($P22=\"\",0,1))*(IF($P22=\"Contract\",0,1))","v":0},{"$f":"IF($C22=Post!$B$42,1,0)*(IF($P22=\"\",0,1))*(IF($P22=\"Contract\",0,1))","v":0},{"$f":"IF($C22=Post!$B$43,1,0)*(IF($P22=\"\",0,1))*(IF($P22=\"Contract\",0,1))","v":0},{"$f":"IF($C22=Post!$B$44,1,0)*(IF($P22=\"\",0,1))*(IF($P22=\"Contract\",0,1))","v":0},{"$f":"IF($C22=Post!$B$45,1,0)*(IF($P22=\"\",0,1))*(IF($P22=\"Contract\",0,1))","v":0},{"$f":"IF($C22=Post!$B$46,1,0)*(IF($P22=\"\",0,1))*(IF($P22=\"Contract\",0,1))","v":0},{"$f":"IF($C22=Post!$B$47,1,0)*(IF($P22=\"\",0,1))*(IF($P22=\"Contract\",0,1))","v":0},{"$f":"IF(C22=Post!B$48,1,0)*(IF(P22=\"\",0,1))*(IF($P22=\"Contract\",0,1))","v":0},{"$f":"IF(C22=Post!B$49,1,0)*(IF(P22=\"\",0,1))*(IF($P22=\"Contract\",0,1))","v":0},{"$f":"IF(C22=Post!B$50,1,0)*(IF(P22=\"\",0,1))*(IF($P22=\"Contract\",0,1))","v":0},0,0,0,0,0,0,0,0,0,0,0,0,0,0,0,0,0,0,0,0,0,0,0,0,0,0,0,0,0,0,0,0,0,0,0,0,0,0,0,0,0,0,0,0,0,0]
["",{"$f":"IF(C23=\"\",\"\",Database!H$5)","v":""},null,null,null,null,null,null,null,null,null,null,null,null,null,null,"",null,null,0,0,0,0,0,"",0,0,0,0,0,0,0,0,0,0,"",{"$f":"IF($C23=Post!$B$11,1,0)*(IF($P23=\"\",0,1))*(IF($P23=\"Contract\",0,1))","v":0},{"$f":"IF($C23=Post!$B$12,1,0)*(IF($P23=\"\",0,1))*(IF($P23=\"Contract\",0,1))","v":0},{"$f":"IF($C23=Post!$B$13,1,0)*(IF($P23=\"\",0,1))*(IF($P23=\"Contract\",0,1))","v":0},{"$f":"IF($C23=Post!$B$14,1,0)*(IF($P23=\"\",0,1))*(IF($P23=\"Contract\",0,1))","v":0},{"$f":"IF($C23=Post!$B$15,1,0)*(IF($P23=\"\",0,1))*(IF($P23=\"Contract\",0,1))","v":0},{"$f":"IF($C23=Post!$B$16,1,0)*(IF($P23=\"\",0,1))*(IF($P23=\"Contract\",0,1))","v":0},{"$f":"IF($C23=Post!$B$17,1,0)*(IF($P23=\"\",0,1))*(IF($P23=\"Contract\",0,1))","v":0},{"$f":"IF($C23=Post!$B$18,1,0)*(IF($P23=\"\",0,1))*(IF($P23=\"Contract\",0,1))","v":0},{"$f":"IF($C23=Post!$B$19,1,0)*(IF($P23=\"\",0,1))*(IF($P23=\"Contract\",0,1))","v":0},{"$f":"IF($C23=Post!$B$20,1,0)*(IF($P23=\"\",0,1))*(IF($P23=\"Contract\",0,1))","v":0},{"$f":"IF($C23=Post!$B$21,1,0)*(IF($P23=\"\",0,1))*(IF($P23=\"Contract\",0,1))","v":0},{"$f":"IF($C23=Post!$B$2,1,0)*(IF($P23=\"\",0,1))*(IF($P23=\"Contract\",0,1))","v":0},{"$f":"IF($C23=Post!$B$23,1,0)*(IF($P23=\"\",0,1))*(IF($P23=\"Contract\",0,1))","v":0},{"$f":"IF($C23=Post!$B$24,1,0)*(IF($P23=\"\",0,1))*(IF($P23=\"Contract\",0,1))","v":0},{"$f":"IF($C23=Post!$B$25,1,0)*(IF($P23=\"\",0,1))*(IF($P23=\"Contract\",0,1))","v":0},{"$f":"IF($C23=Post!$B$26,1,0)*(IF($P23=\"\",0,1))*(IF($P23=\"Contract\",0,1))","v":0},{"$f":"IF($C23=Post!$B$27,1,0)*(IF($P23=\"\",0,1))*(IF($P23=\"Contract\",0,1))","v":0},{"$f":"IF($C23=Post!$B$28,1,0)*(IF($P23=\"\",0,1))*(IF($P23=\"Contract\",0,1))","v":0},{"$f":"IF($C23=Post!$B$29,1,0)*(IF($P23=\"\",0,1))*(IF($P23=\"Contract\",0,1))","v":0},{"$f":"IF($C23=Post!$B$30,1,0)*(IF($P23=\"\",0,1))*(IF($P23=\"Contract\",0,1))","v":0},{"$f":"IF($C23=Post!$B$31,1,0)*(IF($P23=\"\",0,1))*(IF($P23=\"Contract\",0,1))","v":0},{"$f":"IF($C23=Post!$B$32,1,0)*(IF($P23=\"\",0,1))*(IF($P23=\"Contract\",0,1))","v":0},{"$f":"IF($C23=Post!$B$33,1,0)*(IF($P23=\"\",0,1))*(IF($P23=\"Contract\",0,1))","v":0},{"$f":"IF($C23=Post!$B$34,1,0)*(IF($P23=\"\",0,1))*(IF($P23=\"Contract\",0,1))","v":0},{"$f":"IF($C23=Post!$B$35,1,0)*(IF($P23=\"\",0,1))*(IF($P23=\"Contract\",0,1))","v":0},{"$f":"IF($C23=Post!$B$36,1,0)*(IF($P23=\"\",0,1))*(IF($P23=\"Contract\",0,1))","v":0},{"$f":"IF($C23=Post!$B$37,1,0)*(IF($P23=\"\",0,1))*(IF($P23=\"Contract\",0,1))","v":0},{"$f":"IF($C23=Post!$B$38,1,0)*(IF($P23=\"\",0,1))*(IF($P23=\"Contract\",0,1))","v":0},{"$f":"IF($C23=Post!$B$39,1,0)*(IF($P23=\"\",0,1))*(IF($P23=\"Contract\",0,1))","v":0},{"$f":"IF($C23=Post!$B$40,1,0)*(IF($P23=\"\",0,1))*(IF($P23=\"Contract\",0,1))","v":0},{"$f":"IF($C23=Post!$B$41,1,0)*(IF($P23=\"\",0,1))*(IF($P23=\"Contract\",0,1))","v":0},{"$f":"IF($C23=Post!$B$42,1,0)*(IF($P23=\"\",0,1))*(IF($P23=\"Contract\",0,1))","v":0},{"$f":"IF($C23=Post!$B$43,1,0)*(IF($P23=\"\",0,1))*(IF($P23=\"Contract\",0,1))","v":0},{"$f":"IF($C23=Post!$B$44,1,0)*(IF($P23=\"\",0,1))*(IF($P23=\"Contract\",0,1))","v":0},{"$f":"IF($C23=Post!$B$45,1,0)*(IF($P23=\"\",0,1))*(IF($P23=\"Contract\",0,1))","v":0},{"$f":"IF($C23=Post!$B$46,1,0)*(IF($P23=\"\",0,1))*(IF($P23=\"Contract\",0,1))","v":0},{"$f":"IF($C23=Post!$B$47,1,0)*(IF($P23=\"\",0,1))*(IF($P23=\"Contract\",0,1))","v":0},{"$f":"IF(C23=Post!B$48,1,0)*(IF(P23=\"\",0,1))*(IF($P23=\"Contract\",0,1))","v":0},{"$f":"IF(C23=Post!B$49,1,0)*(IF(P23=\"\",0,1))*(IF($P23=\"Contract\",0,1))","v":0},{"$f":"IF(C23=Post!B$50,1,0)*(IF(P23=\"\",0,1))*(IF($P23=\"Contract\",0,1))","v":0},0,0,0,0,0,0,0,0,0,0,0,0,0,0,0,0,0,0,0,0,0,0,0,0,0,0,0,0,0,0,0,0,0,0,0,0,0,0,0,0,0,0,0,0,0,0]
["",{"$f":"IF(C24=\"\",\"\",Database!H$5)","v":""},null,null,null,null,null,null,null,null,null,null,null,null,null,null,"",null,null,0,0,0,0,0,"",0,0,0,0,0,0,0,0,0,0,"",{"$f":"IF($C24=Post!$B$11,1,0)*(IF($P24=\"\",0,1))*(IF($P24=\"Contract\",0,1))","v":0},{"$f":"IF($C24=Post!$B$12,1,0)*(IF($P24=\"\",0,1))*(IF($P24=\"Contract\",0,1))","v":0},{"$f":"IF($C24=Post!$B$13,1,0)*(IF($P24=\"\",0,1))*(IF($P24=\"Contract\",0,1))","v":0},{"$f":"IF($C24=Post!$B$14,1,0)*(IF($P24=\"\",0,1))*(IF($P24=\"Contract\",0,1))","v":0},{"$f":"IF($C24=Post!$B$15,1,0)*(IF($P24=\"\",0,1))*(IF($P24=\"Contract\",0,1))","v":0},{"$f":"IF($C24=Post!$B$16,1,0)*(IF($P24=\"\",0,1))*(IF($P24=\"Contract\",0,1))","v":0},{"$f":"IF($C24=Post!$B$17,1,0)*(IF($P24=\"\",0,1))*(IF($P24=\"Contract\",0,1))","v":0},{"$f":"IF($C24=Post!$B$18,1,0)*(IF($P24=\"\",0,1))*(IF($P24=\"Contract\",0,1))","v":0},{"$f":"IF($C24=Post!$B$19,1,0)*(IF($P24=\"\",0,1))*(IF($P24=\"Contract\",0,1))","v":0},{"$f":"IF($C24=Post!$B$20,1,0)*(IF($P24=\"\",0,1))*(IF($P24=\"Contract\",0,1))","v":0},{"$f":"IF($C24=Post!$B$21,1,0)*(IF($P24=\"\",0,1))*(IF($P24=\"Contract\",0,1))","v":0},{"$f":"IF($C24=Post!$B$2,1,0)*(IF($P24=\"\",0,1))*(IF($P24=\"Contract\",0,1))","v":0},{"$f":"IF($C24=Post!$B$23,1,0)*(IF($P24=\"\",0,1))*(IF($P24=\"Contract\",0,1))","v":0},{"$f":"IF($C24=Post!$B$24,1,0)*(IF($P24=\"\",0,1))*(IF($P24=\"Contract\",0,1))","v":0},{"$f":"IF($C24=Post!$B$25,1,0)*(IF($P24=\"\",0,1))*(IF($P24=\"Contract\",0,1))","v":0},{"$f":"IF($C24=Post!$B$26,1,0)*(IF($P24=\"\",0,1))*(IF($P24=\"Contract\",0,1))","v":0},{"$f":"IF($C24=Post!$B$27,1,0)*(IF($P24=\"\",0,1))*(IF($P24=\"Contract\",0,1))","v":0},{"$f":"IF($C24=Post!$B$28,1,0)*(IF($P24=\"\",0,1))*(IF($P24=\"Contract\",0,1))","v":0},{"$f":"IF($C24=Post!$B$29,1,0)*(IF($P24=\"\",0,1))*(IF($P24=\"Contract\",0,1))","v":0},{"$f":"IF($C24=Post!$B$30,1,0)*(IF($P24=\"\",0,1))*(IF($P24=\"Contract\",0,1))","v":0},{"$f":"IF($C24=Post!$B$31,1,0)*(IF($P24=\"\",0,1))*(IF($P24=\"Contract\",0,1))","v":0},{"$f":"IF($C24=Post!$B$32,1,0)*(IF($P24=\"\",0,1))*(IF($P24=\"Contract\",0,1))","v":0},{"$f":"IF($C24=Post!$B$33,1,0)*(IF($P24=\"\",0,1))*(IF($P24=\"Contract\",0,1))","v":0},{"$f":"IF($C24=Post!$B$34,1,0)*(IF($P24=\"\",0,1))*(IF($P24=\"Contract\",0,1))","v":0},{"$f":"IF($C24=Post!$B$35,1,0)*(IF($P24=\"\",0,1))*(IF($P24=\"Contract\",0,1))","v":0},{"$f":"IF($C24=Post!$B$36,1,0)*(IF($P24=\"\",0,1))*(IF($P24=\"Contract\",0,1))","v":0},{"$f":"IF($C24=Post!$B$37,1,0)*(IF($P24=\"\",0,1))*(IF($P24=\"Contract\",0,1))","v":0},{"$f":"IF($C24=Post!$B$38,1,0)*(IF($P24=\"\",0,1))*(IF($P24=\"Contract\",0,1))","v":0},{"$f":"IF($C24=Post!$B$39,1,0)*(IF($P24=\"\",0,1))*(IF($P24=\"Contract\",0,1))","v":0},{"$f":"IF($C24=Post!$B$40,1,0)*(IF($P24=\"\",0,1))*(IF($P24=\"Contract\",0,1))","v":0},{"$f":"IF($C24=Post!$B$41,1,0)*(IF($P24=\"\",0,1))*(IF($P24=\"Contract\",0,1))","v":0},{"$f":"IF($C24=Post!$B$42,1,0)*(IF($P24=\"\",0,1))*(IF($P24=\"Contract\",0,1))","v":0},{"$f":"IF($C24=Post!$B$43,1,0)*(IF($P24=\"\",0,1))*(IF($P24=\"Contract\",0,1))","v":0},{"$f":"IF($C24=Post!$B$44,1,0)*(IF($P24=\"\",0,1))*(IF($P24=\"Contract\",0,1))","v":0},{"$f":"IF($C24=Post!$B$45,1,0)*(IF($P24=\"\",0,1))*(IF($P24=\"Contract\",0,1))","v":0},{"$f":"IF($C24=Post!$B$46,1,0)*(IF($P24=\"\",0,1))*(IF($P24=\"Contract\",0,1))","v":0},{"$f":"IF($C24=Post!$B$47,1,0)*(IF($P24=\"\",0,1))*(IF($P24=\"Contract\",0,1))","v":0},{"$f":"IF(C24=Post!B$48,1,0)*(IF(P24=\"\",0,1))*(IF($P24=\"Contract\",0,1))","v":0},{"$f":"IF(C24=Post!B$49,1,0)*(IF(P24=\"\",0,1))*(IF($P24=\"Contract\",0,1))","v":0},{"$f":"IF(C24=Post!B$50,1,0)*(IF(P24=\"\",0,1))*(IF($P24=\"Contract\",0,1))","v":0},0,0,0,0,0,0,0,0,0,0,0,0,0,0,0,0,0,0,0,0,0,0,0,0,0,0,0,0,0,0,0,0,0,0,0,0,0,0,0,0,0,0,0,0,0,0]
["",{"$f":"IF(C25=\"\",\"\",Database!H$5)","v":""},null,null,null,null,null,null,null,null,null,null,null,null,null,null,"",null,null,0,0,0,0,0,"",0,0,0,0,0,0,0,0,0,0,"",{"$f":"IF($C25=Post!$B$11,1,0)*(IF($P25=\"\",0,1))*(IF($P25=\"Contract\",0,1))","v":0},{"$f":"IF($C25=Post!$B$12,1,0)*(IF($P25=\"\",0,1))*(IF($P25=\"Contract\",0,1))","v":0},{"$f":"IF($C25=Post!$B$13,1,0)*(IF($P25=\"\",0,1))*(IF($P25=\"Contract\",0,1))","v":0},{"$f":"IF($C25=Post!$B$14,1,0)*(IF($P25=\"\",0,1))*(IF($P25=\"Contract\",0,1))","v":0},{"$f":"IF($C25=Post!$B$15,1,0)*(IF($P25=\"\",0,1))*(IF($P25=\"Contract\",0,1))","v":0},{"$f":"IF($C25=Post!$B$16,1,0)*(IF($P25=\"\",0,1))*(IF($P25=\"Contract\",0,1))","v":0},{"$f":"IF($C25=Post!$B$17,1,0)*(IF($P25=\"\",0,1))*(IF($P25=\"Contract\",0,1))","v":0},{"$f":"IF($C25=Post!$B$18,1,0)*(IF($P25=\"\",0,1))*(IF($P25=\"Contract\",0,1))","v":0},{"$f":"IF($C25=Post!$B$19,1,0)*(IF($P25=\"\",0,1))*(IF($P25=\"Contract\",0,1))","v":0},{"$f":"IF($C25=Post!$B$20,1,0)*(IF($P25=\"\",0,1))*(IF($P25=\"Contract\",0,1))","v":0},{"$f":"IF($C25=Post!$B$21,1,0)*(IF($P25=\"\",0,1))*(IF($P25=\"Contract\",0,1))","v":0},{"$f":"IF($C25=Post!$B$2,1,0)*(IF($P25=\"\",0,1))*(IF($P25=\"Contract\",0,1))","v":0},{"$f":"IF($C25=Post!$B$23,1,0)*(IF($P25=\"\",0,1))*(IF($P25=\"Contract\",0,1))","v":0},{"$f":"IF($C25=Post!$B$24,1,0)*(IF($P25=\"\",0,1))*(IF($P25=\"Contract\",0,1))","v":0},{"$f":"IF($C25=Post!$B$25,1,0)*(IF($P25=\"\",0,1))*(IF($P25=\"Contract\",0,1))","v":0},{"$f":"IF($C25=Post!$B$26,1,0)*(IF($P25=\"\",0,1))*(IF($P25=\"Contract\",0,1))","v":0},{"$f":"IF($C25=Post!$B$27,1,0)*(IF($P25=\"\",0,1))*(IF($P25=\"Contract\",0,1))","v":0},{"$f":"IF($C25=Post!$B$28,1,0)*(IF($P25=\"\",0,1))*(IF($P25=\"Contract\",0,1))","v":0},{"$f":"IF($C25=Post!$B$29,1,0)*(IF($P25=\"\",0,1))*(IF($P25=\"Contract\",0,1))","v":0},{"$f":"IF($C25=Post!$B$30,1,0)*(IF($P25=\"\",0,1))*(IF($P25=\"Contract\",0,1))","v":0},{"$f":"IF($C25=Post!$B$31,1,0)*(IF($P25=\"\",0,1))*(IF($P25=\"Contract\",0,1))","v":0},{"$f":"IF($C25=Post!$B$32,1,0)*(IF($P25=\"\",0,1))*(IF($P25=\"Contract\",0,1))","v":0},{"$f":"IF($C25=Post!$B$33,1,0)*(IF($P25=\"\",0,1))*(IF($P25=\"Contract\",0,1))","v":0},{"$f":"IF($C25=Post!$B$34,1,0)*(IF($P25=\"\",0,1))*(IF($P25=\"Contract\",0,1))","v":0},{"$f":"IF($C25=Post!$B$35,1,0)*(IF($P25=\"\",0,1))*(IF($P25=\"Contract\",0,1))","v":0},{"$f":"IF($C25=Post!$B$36,1,0)*(IF($P25=\"\",0,1))*(IF($P25=\"Contract\",0,1))","v":0},{"$f":"IF($C25=Post!$B$37,1,0)*(IF($P25=\"\",0,1))*(IF($P25=\"Contract\",0,1))","v":0},{"$f":"IF($C25=Post!$B$38,1,0)*(IF($P25=\"\",0,1))*(IF($P25=\"Contract\",0,1))","v":0},{"$f":"IF($C25=Post!$B$39,1,0)*(IF($P25=\"\",0,1))*(IF($P25=\"Contract\",0,1))","v":0},{"$f":"IF($C25=Post!$B$40,1,0)*(IF($P25=\"\",0,1))*(IF($P25=\"Contract\",0,1))","v":0},{"$f":"IF($C25=Post!$B$41,1,0)*(IF($P25=\"\",0,1))*(IF($P25=\"Contract\",0,1))","v":0},{"$f":"IF($C25=Post!$B$42,1,0)*(IF($P25=\"\",0,1))*(IF($P25=\"Contract\",0,1))","v":0},{"$f":"IF($C25=Post!$B$43,1,0)*(IF($P25=\"\",0,1))*(IF($P25=\"Contract\",0,1))","v":0},{"$f":"IF($C25=Post!$B$44,1,0)*(IF($P25=\"\",0,1))*(IF($P25=\"Contract\",0,1))","v":0},{"$f":"IF($C25=Post!$B$45,1,0)*(IF($P25=\"\",0,1))*(IF($P25=\"Contract\",0,1))","v":0},{"$f":"IF($C25=Post!$B$46,1,0)*(IF($P25=\"\",0,1))*(IF($P25=\"Contract\",0,1))","v":0},{"$f":"IF($C25=Post!$B$47,1,0)*(IF($P25=\"\",0,1))*(IF($P25=\"Contract\",0,1))","v":0},{"$f":"IF(C25=Post!B$48,1,0)*(IF(P25=\"\",0,1))*(IF($P25=\"Contract\",0,1))","v":0},{"$f":"IF(C25=Post!B$49,1,0)*(IF(P25=\"\",0,1))*(IF($P25=\"Contract\",0,1))","v":0},{"$f":"IF(C25=Post!B$50,1,0)*(IF(P25=\"\",0,1))*(IF($P25=\"Contract\",0,1))","v":0},0,0,0,0,0,0,0,0,0,0,0,0,0,0,0,0,0,0,0,0,0,0,0,0,0,0,0,0,0,0,0,0,0,0,0,0,0,0,0,0,0,0,0,0,0,0]
["",{"$f":"IF(C26=\"\",\"\",Database!H$5)","v":""},null,null,null,null,null,null,null,null,null,null,null,null,null,null,"",null,null,0,0,0,0,0,"",0,0,0,0,0,0,0,0,0,0,"",{"$f":"IF($C26=Post!$B$11,1,0)*(IF($P26=\"\",0,1))*(IF($P26=\"Contract\",0,1))","v":0},{"$f":"IF($C26=Post!$B$12,1,0)*(IF($P26=\"\",0,1))*(IF($P26=\"Contract\",0,1))","v":0},{"$f":"IF($C26=Post!$B$13,1,0)*(IF($P26=\"\",0,1))*(IF($P26=\"Contract\",0,1))","v":0},{"$f":"IF($C26=Post!$B$14,1,0)*(IF($P26=\"\",0,1))*(IF($P26=\"Contract\",0,1))","v":0},{"$f":"IF($C26=Post!$B$15,1,0)*(IF($P26=\"\",0,1))*(IF($P26=\"Contract\",0,1))","v":0},{"$f":"IF($C26=Post!$B$16,1,0)*(IF($P26=\"\",0,1))*(IF($P26=\"Contract\",0,1))","v":0},{"$f":"IF($C26=Post!$B$17,1,0)*(IF($P26=\"\",0,1))*(IF($P26=\"Contract\",0,1))","v":0},{"$f":"IF($C26=Post!$B$18,1,0)*(IF($P26=\"\",0,1))*(IF($P26=\"Contract\",0,1))","v":0},{"$f":"IF($C26=Post!$B$19,1,0)*(IF($P26=\"\",0,1))*(IF($P26=\"Contract\",0,1))","v":0},{"$f":"IF($C26=Post!$B$20,1,0)*(IF($P26=\"\",0,1))*(IF($P26=\"Contract\",0,1))","v":0},{"$f":"IF($C26=Post!$B$21,1,0)*(IF($P26=\"\",0,1))*(IF($P26=\"Contract\",0,1))","v":0},{"$f":"IF($C26=Post!$B$2,1,0)*(IF($P26=\"\",0,1))*(IF($P26=\"Contract\",0,1))","v":0},{"$f":"IF($C26=Post!$B$23,1,0)*(IF($P26=\"\",0,1))*(IF($P26=\"Contract\",0,1))","v":0},{"$f":"IF($C26=Post!$B$24,1,0)*(IF($P26=\"\",0,1))*(IF($P26=\"Contract\",0,1))","v":0},{"$f":"IF($C26=Post!$B$25,1,0)*(IF($P26=\"\",0,1))*(IF($P26=\"Contract\",0,1))","v":0},{"$f":"IF($C26=Post!$B$26,1,0)*(IF($P26=\"\",0,1))*(IF($P26=\"Contract\",0,1))","v":0},{"$f":"IF($C26=Post!$B$27,1,0)*(IF($P26=\"\",0,1))*(IF($P26=\"Contract\",0,1))","v":0},{"$f":"IF($C26=Post!$B$28,1,0)*(IF($P26=\"\",0,1))*(IF($P26=\"Contract\",0,1))","v":0},{"$f":"IF($C26=Post!$B$29,1,0)*(IF($P26=\"\",0,1))*(IF($P26=\"Contract\",0,1))","v":0},{"$f":"IF($C26=Post!$B$30,1,0)*(IF($P26=\"\",0,1))*(IF($P26=\"Contract\",0,1))","v":0},{"$f":"IF($C26=Post!$B$31,1,0)*(IF($P26=\"\",0,1))*(IF($P26=\"Contract\",0,1))","v":0},{"$f":"IF($C26=Post!$B$32,1,0)*(IF($P26=\"\",0,1))*(IF($P26=\"Contract\",0,1))","v":0},{"$f":"IF($C26=Post!$B$33,1,0)*(IF($P26=\"\",0,1))*(IF($P26=\"Contract\",0,1))","v":0},{"$f":"IF($C26=Post!$B$34,1,0)*(IF($P26=\"\",0,1))*(IF($P26=\"Contract\",0,1))","v":0},{"$f":"IF($C26=Post!$B$35,1,0)*(IF($P26=\"\",0,1))*(IF($P26=\"Contract\",0,1))","v":0},{"$f":"IF($C26=Post!$B$36,1,0)*(IF($P26=\"\",0,1))*(IF($P26=\"Contract\",0,1))","v":0},{"$f":"IF($C26=Post!$B$37,1,0)*(IF($P26=\"\",0,1))*(IF($P26=\"Contract\",0,1))","v":0},{"$f":"IF($C26=Post!$B$38,1,0)*(IF($P26=\"\",0,1))*(IF($P26=\"Contract\",0,1))","v":0},{"$f":"IF($C26=Post!$B$39,1,0)*(IF($P26=\"\",0,1))*(IF($P26=\"Contract\",0,1))","v":0},{"$f":"IF($C26=Post!$B$40,1,0)*(IF($P26=\"\",0,1))*(IF($P26=\"Contract\",0,1))","v":0},{"$f":"IF($C26=Post!$B$41,1,0)*(IF($P26=\"\",0,1))*(IF($P26=\"Contract\",0,1))","v":0},{"$f":"IF($C26=Post!$B$42,1,0)*(IF($P26=\"\",0,1))*(IF($P26=\"Contract\",0,1))","v":0},{"$f":"IF($C26=Post!$B$43,1,0)*(IF($P26=\"\",0,1))*(IF($P26=\"Contract\",0,1))","v":0},{"$f":"IF($C26=Post!$B$44,1,0)*(IF($P26=\"\",0,1))*(IF($P26=\"Contract\",0,1))","v":0},{"$f":"IF($C26=Post!$B$45,1,0)*(IF($P26=\"\",0,1))*(IF($P26=\"Contract\",0,1))","v":0},{"$f":"IF($C26=Post!$B$46,1,0)*(IF($P26=\"\",0,1))*(IF($P26=\"Contract\",0,1))","v":0},{"$f":"IF($C26=Post!$B$47,1,0)*(IF($P26=\"\",0,1))*(IF($P26=\"Contract\",0,1))","v":0},{"$f":"IF(C26=Post!B$48,1,0)*(IF(P26=\"\",0,1))*(IF($P26=\"Contract\",0,1))","v":0},{"$f":"IF(C26=Post!B$49,1,0)*(IF(P26=\"\",0,1))*(IF($P26=\"Contract\",0,1))","v":0},{"$f":"IF(C26=Post!B$50,1,0)*(IF(P26=\"\",0,1))*(IF($P26=\"Contract\",0,1))","v":0},0,0,0,0,0,0,0,0,0,0,0,0,0,0,0,0,0,0,0,0,0,0,0,0,0,0,0,0,0,0,0,0,0,0,0,0,0,0,0,0,0,0,0,0,0,0]
["",{"$f":"IF(C27=\"\",\"\",Database!H$5)","v":""},null,null,null,null,null,null,null,null,null,null,null,null,null,null,"",null,null,0,0,0,0,0,"",0,0,0,0,0,0,0,0,0,0,"",{"$f":"IF($C27=Post!$B$11,1,0)*(IF($P27=\"\",0,1))*(IF($P27=\"Contract\",0,1))","v":0},{"$f":"IF($C27=Post!$B$12,1,0)*(IF($P27=\"\",0,1))*(IF($P27=\"Contract\",0,1))","v":0},{"$f":"IF($C27=Post!$B$13,1,0)*(IF($P27=\"\",0,1))*(IF($P27=\"Contract\",0,1))","v":0},{"$f":"IF($C27=Post!$B$14,1,0)*(IF($P27=\"\",0,1))*(IF($P27=\"Contract\",0,1))","v":0},{"$f":"IF($C27=Post!$B$15,1,0)*(IF($P27=\"\",0,1))*(IF($P27=\"Contract\",0,1))","v":0},{"$f":"IF($C27=Post!$B$16,1,0)*(IF($P27=\"\",0,1))*(IF($P27=\"Contract\",0,1))","v":0},{"$f":"IF($C27=Post!$B$17,1,0)*(IF($P27=\"\",0,1))*(IF($P27=\"Contract\",0,1))","v":0},{"$f":"IF($C27=Post!$B$18,1,0)*(IF($P27=\"\",0,1))*(IF($P27=\"Contract\",0,1))","v":0},{"$f":"IF($C27=Post!$B$19,1,0)*(IF($P27=\"\",0,1))*(IF($P27=\"Contract\",0,1))","v":0},{"$f":"IF($C27=Post!$B$20,1,0)*(IF($P27=\"\",0,1))*(IF($P27=\"Contract\",0,1))","v":0},{"$f":"IF($C27=Post!$B$21,1,0)*(IF($P27=\"\",0,1))*(IF($P27=\"Contract\",0,1))","v":0},{"$f":"IF($C27=Post!$B$2,1,0)*(IF($P27=\"\",0,1))*(IF($P27=\"Contract\",0,1))","v":0},{"$f":"IF($C27=Post!$B$23,1,0)*(IF($P27=\"\",0,1))*(IF($P27=\"Contract\",0,1))","v":0},{"$f":"IF($C27=Post!$B$24,1,0)*(IF($P27=\"\",0,1))*(IF($P27=\"Contract\",0,1))","v":0},{"$f":"IF($C27=Post!$B$25,1,0)*(IF($P27=\"\",0,1))*(IF($P27=\"Contract\",0,1))","v":0},{"$f":"IF($C27=Post!$B$26,1,0)*(IF($P27=\"\",0,1))*(IF($P27=\"Contract\",0,1))","v":0},{"$f":"IF($C27=Post!$B$27,1,0)*(IF($P27=\"\",0,1))*(IF($P27=\"Contract\",0,1))","v":0},{"$f":"IF($C27=Post!$B$28,1,0)*(IF($P27=\"\",0,1))*(IF($P27=\"Contract\",0,1))","v":0},{"$f":"IF($C27=Post!$B$29,1,0)*(IF($P27=\"\",0,1))*(IF($P27=\"Contract\",0,1))","v":0},{"$f":"IF($C27=Post!$B$30,1,0)*(IF($P27=\"\",0,1))*(IF($P27=\"Contract\",0,1))","v":0},{"$f":"IF($C27=Post!$B$31,1,0)*(IF($P27=\"\",0,1))*(IF($P27=\"Contract\",0,1))","v":0},{"$f":"IF($C27=Post!$B$32,1,0)*(IF($P27=\"\",0,1))*(IF($P27=\"Contract\",0,1))","v":0},{"$f":"IF($C27=Post!$B$33,1,0)*(IF($P27=\"\",0,1))*(IF($P27=\"Contract\",0,1))","v":0},{"$f":"IF($C27=Post!$B$34,1,0)*(IF($P27=\"\",0,1))*(IF($P27=\"Contract\",0,1))","v":0},{"$f":"IF($C27=Post!$B$35,1,0)*(IF($P27=\"\",0,1))*(IF($P27=\"Contract\",0,1))","v":0},{"$f":"IF($C27=Post!$B$36,1,0)*(IF($P27=\"\",0,1))*(IF($P27=\"Contract\",0,1))","v":0},{"$f":"IF($C27=Post!$B$37,1,0)*(IF($P27=\"\",0,1))*(IF($P27=\"Contract\",0,1))","v":0},{"$f":"IF($C27=Post!$B$38,1,0)*(IF($P27=\"\",0,1))*(IF($P27=\"Contract\",0,1))","v":0},{"$f":"IF($C27=Post!$B$39,1,0)*(IF($P27=\"\",0,1))*(IF($P27=\"Contract\",0,1))","v":0},{"$f":"IF($C27=Post!$B$40,1,0)*(IF($P27=\"\",0,1))*(IF($P27=\"Contract\",0,1))","v":0},{"$f":"IF($C27=Post!$B$41,1,0)*(IF($P27=\"\",0,1))*(IF($P27=\"Contract\",0,1))","v":0},{"$f":"IF($C27=Post!$B$42,1,0)*(IF($P27=\"\",0,1))*(IF($P27=\"Contract\",0,1))","v":0},{"$f":"IF($C27=Post!$B$43,1,0)*(IF($P27=\"\",0,1))*(IF($P27=\"Contract\",0,1))","v":0},{"$f":"IF($C27=Post!$B$44,1,0)*(IF($P27=\"\",0,1))*(IF($P27=\"Contract\",0,1))","v":0},{"$f":"IF($C27=Post!$B$45,1,0)*(IF($P27=\"\",0,1))*(IF($P27=\"Contract\",0,1))","v":0},{"$f":"IF($C27=Post!$B$46,1,0)*(IF($P27=\"\",0,1))*(IF($P27=\"Contract\",0,1))","v":0},{"$f":"IF($C27=Post!$B$47,1,0)*(IF($P27=\"\",0,1))*(IF($P27=\"Contract\",0,1))","v":0},{"$f":"IF(C27=Post!B$48,1,0)*(IF(P27=\"\",0,1))*(IF($P27=\"Contract\",0,1))","v":0},{"$f":"IF(C27=Post!B$49,1,0)*(IF(P27=\"\",0,1))*(IF($P27=\"Contract\",0,1))","v":0},{"$f":"IF(C27=Post!B$50,1,0)*(IF(P27=\"\",0,1))*(IF($P27=\"Contract\",0,1))","v":0},0,0,0,0,0,0,0,0,0,0,0,0,0,0,0,0,0,0,0,0,0,0,0,0,0,0,0,0,0,0,0,0,0,0,0,0,0,0,0,0,0,0,0,0,0,0]
["",{"$f":"IF(C28=\"\",\"\",Database!H$5)","v":""},null,null,null,null,null,null,null,null,null,null,null,null,null,null,"",null,null,0,0,0,0,0,"",0,0,0,0,0,0,0,0,0,0,"",{"$f":"IF($C28=Post!$B$11,1,0)*(IF($P28=\"\",0,1))*(IF($P28=\"Contract\",0,1))","v":0},{"$f":"IF($C28=Post!$B$12,1,0)*(IF($P28=\"\",0,1))*(IF($P28=\"Contract\",0,1))","v":0},{"$f":"IF($C28=Post!$B$13,1,0)*(IF($P28=\"\",0,1))*(IF($P28=\"Contract\",0,1))","v":0},{"$f":"IF($C28=Post!$B$14,1,0)*(IF($P28=\"\",0,1))*(IF($P28=\"Contract\",0,1))","v":0},{"$f":"IF($C28=Post!$B$15,1,0)*(IF($P28=\"\",0,1))*(IF($P28=\"Contract\",0,1))","v":0},{"$f":"IF($C28=Post!$B$16,1,0)*(IF($P28=\"\",0,1))*(IF($P28=\"Contract\",0,1))","v":0},{"$f":"IF($C28=Post!$B$17,1,0)*(IF($P28=\"\",0,1))*(IF($P28=\"Contract\",0,1))","v":0},{"$f":"IF($C28=Post!$B$18,1,0)*(IF($P28=\"\",0,1))*(IF($P28=\"Contract\",0,1))","v":0},{"$f":"IF($C28=Post!$B$19,1,0)*(IF($P28=\"\",0,1))*(IF($P28=\"Contract\",0,1))","v":0},{"$f":"IF($C28=Post!$B$20,1,0)*(IF($P28=\"\",0,1))*(IF($P28=\"Contract\",0,1))","v":0},{"$f":"IF($C28=Post!$B$21,1,0)*(IF($P28=\"\",0,1))*(IF($P28=\"Contract\",0,1))","v":0},{"$f":"IF($C28=Post!$B$2,1,0)*(IF($P28=\"\",0,1))*(IF($P28=\"Contract\",0,1))","v":0},{"$f":"IF($C28=Post!$B$23,1,0)*(IF($P28=\"\",0,1))*(IF($P28=\"Contract\",0,1))","v":0},{"$f":"IF($C28=Post!$B$24,1,0)*(IF($P28=\"\",0,1))*(IF($P28=\"Contract\",0,1))","v":0},{"$f":"IF($C28=Post!$B$25,1,0)*(IF($P28=\"\",0,1))*(IF($P28=\"Contract\",0,1))","v":0},{"$f":"IF($C28=Post!$B$26,1,0)*(IF($P28=\"\",0,1))*(IF($P28=\"Contract\",0,1))","v":0},{"$f":"IF($C28=Post!$B$27,1,0)*(IF($P28=\"\",0,1))*(IF($P28=\"Contract\",0,1))","v":0},{"$f":"IF($C28=Post!$B$28,1,0)*(IF($P28=\"\",0,1))*(IF($P28=\"Contract\",0,1))","v":0},{"$f":"IF($C28=Post!$B$29,1,0)*(IF($P28=\"\",0,1))*(IF($P28=\"Contract\",0,1))","v":0},{"$f":"IF($C28=Post!$B$30,1,0)*(IF($P28=\"\",0,1))*(IF($P28=\"Contract\",0,1))","v":0},{"$f":"IF($C28=Post!$B$31,1,0)*(IF($P28=\"\",0,1))*(IF($P28=\"Contract\",0,1))","v":0},{"$f":"IF($C28=Post!$B$32,1,0)*(IF($P28=\"\",0,1))*(IF($P28=\"Contract\",0,1))","v":0},{"$f":"IF($C28=Post!$B$33,1,0)*(IF($P28=\"\",0,1))*(IF($P28=\"Contract\",0,1))","v":0},{"$f":"IF($C28=Post!$B$34,1,0)*(IF($P28=\"\",0,1))*(IF($P28=\"Contract\",0,1))","v":0},{"$f":"IF($C28=Post!$B$35,1,0)*(IF($P28=\"\",0,1))*(IF($P28=\"Contract\",0,1))","v":0},{"$f":"IF($C28=Post!$B$36,1,0)*(IF($P28=\"\",0,1))*(IF($P28=\"Contract\",0,1))","v":0},{"$f":"IF($C28=Post!$B$37,1,0)*(IF($P28=\"\",0,1))*(IF($P28=\"Contract\",0,1))","v":0},{"$f":"IF($C28=Post!$B$38,1,0)*(IF($P28=\"\",0,1))*(IF($P28=\"Contract\",0,1))","v":0},{"$f":"IF($C28=Post!$B$39,1,0)*(IF($P28=\"\",0,1))*(IF($P28=\"Contract\",0,1))","v":0},{"$f":"IF($C28=Post!$B$40,1,0)*(IF($P28=\"\",0,1))*(IF($P28=\"Contract\",0,1))","v":0},{"$f":"IF($C28=Post!$B$41,1,0)*(IF($P28=\"\",0,1))*(IF($P28=\"Contract\",0,1))","v":0},{"$f":"IF($C28=Post!$B$42,1,0)*(IF($P28=\"\",0,1))*(IF($P28=\"Contract\",0,1))","v":0},{"$f":"IF($C28=Post!$B$43,1,0)*(IF($P28=\"\",0,1))*(IF($P28=\"Contract\",0,1))","v":0},{"$f":"IF($C28=Post!$B$44,1,0)*(IF($P28=\"\",0,1))*(IF($P28=\"Contract\",0,1))","v":0},{"$f":"IF($C28=Post!$B$45,1,0)*(IF($P28=\"\",0,1))*(IF($P28=\"Contract\",0,1))","v":0},{"$f":"IF($C28=Post!$B$46,1,0)*(IF($P28=\"\",0,1))*(IF($P28=\"Contract\",0,1))","v":0},{"$f":"IF($C28=Post!$B$47,1,0)*(IF($P28=\"\",0,1))*(IF($P28=\"Contract\",0,1))","v":0},{"$f":"IF(C28=Post!B$48,1,0)*(IF(P28=\"\",0,1))*(IF($P28=\"Contract\",0,1))","v":0},{"$f":"IF(C28=Post!B$49,1,0)*(IF(P28=\"\",0,1))*(IF($P28=\"Contract\",0,1))","v":0},{"$f":"IF(C28=Post!B$50,1,0)*(IF(P28=\"\",0,1))*(IF($P28=\"Contract\",0,1))","v":0},0,0,0,0,0,0,0,0,0,0,0,0,0,0,0,0,0,0,0,0,0,0,0,0,0,0,0,0,0,0,0,0,0,0,0,0,0,0,0,0,0,0,0,0,0,0]
[{"$f":"IF(C29=\"\",\"\",A28+1)","v":""},{"$f":"IF(C29=\"\",\"\",Database!H$5)","v":""},null,null,null,null,null,null,null,null,null,null,null,null,null,null,"",null,null,0,0,0,0,0,"",0,0,0,0,0,0,0,0,0,0,"",{"$f":"IF($C29=Post!$B$11,1,0)*(IF($P29=\"\",0,1))*(IF($P29=\"Contract\",0,1))","v":0},{"$f":"IF($C29=Post!$B$12,1,0)*(IF($P29=\"\",0,1))*(IF($P29=\"Contract\",0,1))","v":0},{"$f":"IF($C29=Post!$B$13,1,0)*(IF($P29=\"\",0,1))*(IF($P29=\"Contract\",0,1))","v":0},{"$f":"IF($C29=Post!$B$14,1,0)*(IF($P29=\"\",0,1))*(IF($P29=\"Contract\",0,1))","v":0},{"$f":"IF($C29=Post!$B$15,1,0)*(IF($P29=\"\",0,1))*(IF($P29=\"Contract\",0,1))","v":0},{"$f":"IF($C29=Post!$B$16,1,0)*(IF($P29=\"\",0,1))*(IF($P29=\"Contract\",0,1))","v":0},{"$f":"IF($C29=Post!$B$17,1,0)*(IF($P29=\"\",0,1))*(IF($P29=\"Contract\",0,1))","v":0},{"$f":"IF($C29=Post!$B$18,1,0)*(IF($P29=\"\",0,1))*(IF($P29=\"Contract\",0,1))","v":0},{"$f":"IF($C29=Post!$B$19,1,0)*(IF($P29=\"\",0,1))*(IF($P29=\"Contract\",0,1))","v":0},{"$f":"IF($C29=Post!$B$20,1,0)*(IF($P29=\"\",0,1))*(IF($P29=\"Contract\",0,1))","v":0},{"$f":"IF($C29=Post!$B$21,1,0)*(IF($P29=\"\",0,1))*(IF($P29=\"Contract\",0,1))","v":0},{"$f":"IF($C29=Post!$B$2,1,0)*(IF($P29=\"\",0,1))*(IF($P29=\"Contract\",0,1))","v":0},{"$f":"IF($C29=Post!$B$23,1,0)*(IF($P29=\"\",0,1))*(IF($P29=\"Contract\",0,1))","v":0},{"$f":"IF($C29=Post!$B$24,1,0)*(IF($P29=\"\",0,1))*(IF($P29=\"Contract\",0,1))","v":0},{"$f":"IF($C29=Post!$B$25,1,0)*(IF($P29=\"\",0,1))*(IF($P29=\"Contract\",0,1))","v":0},{"$f":"IF($C29=Post!$B$26,1,0)*(IF($P29=\"\",0,1))*(IF($P29=\"Contract\",0,1))","v":0},{"$f":"IF($C29=Post!$B$27,1,0)*(IF($P29=\"\",0,1))*(IF($P29=\"Contract\",0,1))","v":0},{"$f":"IF($C29=Post!$B$28,1,0)*(IF($P29=\"\",0,1))*(IF($P29=\"Contract\",0,1))","v":0},{"$f":"IF($C29=Post!$B$29,1,0)*(IF($P29=\"\",0,1))*(IF($P29=\"Contract\",0,1))","v":0},{"$f":"IF($C29=Post!$B$30,1,0)*(IF($P29=\"\",0,1))*(IF($P29=\"Contract\",0,1))","v":0},{"$f":"IF($C29=Post!$B$31,1,0)*(IF($P29=\"\",0,1))*(IF($P29=\"Contract\",0,1))","v":0},{"$f":"IF($C29=Post!$B$32,1,0)*(IF($P29=\"\",0,1))*(IF($P29=\"Contract\",0,1))","v":0},{"$f":"IF($C29=Post!$B$33,1,0)*(IF($P29=\"\",0,1))*(IF($P29=\"Contract\",0,1))","v":0},{"$f":"IF($C29=Post!$B$34,1,0)*(IF($P29=\"\",0,1))*(IF($P29=\"Contract\",0,1))","v":0},{"$f":"IF($C29=Post!$B$35,1,0)*(IF($P29=\"\",0,1))*(IF($P29=\"Contract\",0,1))","v":0},{"$f":"IF($C29=Post!$B$36,1,0)*(IF($P29=\"\",0,1))*(IF($P29=\"Contract\",0,1))","v":0},{"$f":"IF($C29=Post!$B$37,1,0)*(IF($P29=\"\",0,1))*(IF($P29=\"Contract\",0,1))","v":0},{"$f":"IF($C29=Post!$B$38,1,0)*(IF($P29=\"\",0,1))*(IF($P29=\"Contract\",0,1))","v":0},{"$f":"IF($C29=Post!$B$39,1,0)*(IF($P29=\"\",0,1))*(IF($P29=\"Contract\",0,1))","v":0},{"$f":"IF($C29=Post!$B$40,1,0)*(IF($P29=\"\",0,1))*(IF($P29=\"Contract\",0,1))","v":0},{"$f":"IF($C29=Post!$B$41,1,0)*(IF($P29=\"\",0,1))*(IF($P29=\"Contract\",0,1))","v":0},{"$f":"IF($C29=Post!$B$42,1,0)*(IF($P29=\"\",0,1))*(IF($P29=\"Contract\",0,1))","v":0},{"$f":"IF($C29=Post!$B$43,1,0)*(IF($P29=\"\",0,1))*(IF($P29=\"Contract\",0,1))","v":0},{"$f":"IF($C29=Post!$B$44,1,0)*(IF($P29=\"\",0,1))*(IF($P29=\"Contract\",0,1))","v":0},{"$f":"IF($C29=Post!$B$45,1,0)*(IF($P29=\"\",0,1))*(IF($P29=\"Contract\",0,1))","v":0},{"$f":"IF($C29=Post!$B$46,1,0)*(IF($P29=\"\",0,1))*(IF($P29=\"Contract\",0,1))","v":0},{"$f":"IF($C29=Post!$B$47,1,0)*(IF($P29=\"\",0,1))*(IF($P29=\"Contract\",0,1))","v":0},{"$f":"IF(C29=Post!B$48,1,0)*(IF(P29=\"\",0,1))*(IF($P29=\"Contract\",0,1))","v":0},{"$f":"IF(C29=Post!B$49,1,0)*(IF(P29=\"\",0,1))*(IF($P29=\"Contract\",0,1))","v":0},{"$f":"IF(C29=Post!B$50,1,0)*(IF(P29=\"\",0,1))*(IF($P29=\"Contract\",0,1))","v":0},0,0,0,0,0,0,0,0,0,0,0,0,0,0,0,0,0,0,0,0,0,0,0,0,0,0,0,0,0,0,0,0,0,0,0,0,0,0,0,0,0,0,0,0,0,0]
["",{"$f":"IF(C30=\"\",\"\",Database!H$5)","v":""},null,null,null,null,null,null,null,null,null,null,null,null,null,null,"",null,null,0,0,0,0,0,"",0,0,0,0,0,0,0,0,0,0,"",{"$f":"IF($C30=Post!$B$11,1,0)*(IF($P30=\"\",0,1))*(IF($P30=\"Contract\",0,1))","v":0},{"$f":"IF($C30=Post!$B$12,1,0)*(IF($P30=\"\",0,1))*(IF($P30=\"Contract\",0,1))","v":0},{"$f":"IF($C30=Post!$B$13,1,0)*(IF($P30=\"\",0,1))*(IF($P30=\"Contract\",0,1))","v":0},{"$f":"IF($C30=Post!$B$14,1,0)*(IF($P30=\"\",0,1))*(IF($P30=\"Contract\",0,1))","v":0},{"$f":"IF($C30=Post!$B$15,1,0)*(IF($P30=\"\",0,1))*(IF($P30=\"Contract\",0,1))","v":0},{"$f":"IF($C30=Post!$B$16,1,0)*(IF($P30=\"\",0,1))*(IF($P30=\"Contract\",0,1))","v":0},{"$f":"IF($C30=Post!$B$17,1,0)*(IF($P30=\"\",0,1))*(IF($P30=\"Contract\",0,1))","v":0},{"$f":"IF($C30=Post!$B$18,1,0)*(IF($P30=\"\",0,1))*(IF($P30=\"Contract\",0,1))","v":0},{"$f":"IF($C30=Post!$B$19,1,0)*(IF($P30=\"\",0,1))*(IF($P30=\"Contract\",0,1))","v":0},{"$f":"IF($C30=Post!$B$20,1,0)*(IF($P30=\"\",0,1))*(IF($P30=\"Contract\",0,1))","v":0},{"$f":"IF($C30=Post!$B$21,1,0)*(IF($P30=\"\",0,1))*(IF($P30=\"Contract\",0,1))","v":0},{"$f":"IF($C30=Post!$B$2,1,0)*(IF($P30=\"\",0,1))*(IF($P30=\"Contract\",0,1))","v":0},{"$f":"IF($C30=Post!$B$23,1,0)*(IF($P30=\"\",0,1))*(IF($P30=\"Contract\",0,1))","v":0},{"$f":"IF($C30=Post!$B$24,1,0)*(IF($P30=\"\",0,1))*(IF($P30=\"Contract\",0,1))","v":0},{"$f":"IF($C30=Post!$B$25,1,0)*(IF($P30=\"\",0,1))*(IF($P30=\"Contract\",0,1))","v":0},{"$f":"IF($C30=Post!$B$26,1,0)*(IF($P30=\"\",0,1))*(IF($P30=\"Contract\",0,1))","v":0},{"$f":"IF($C30=Post!$B$27,1,0)*(IF($P30=\"\",0,1))*(IF($P30=\"Contract\",0,1))","v":0},{"$f":"IF($C30=Post!$B$28,1,0)*(IF($P30=\"\",0,1))*(IF($P30=\"Contract\",0,1))","v":0},{"$f":"IF($C30=Post!$B$29,1,0)*(IF($P30=\"\",0,1))*(IF($P30=\"Contract\",0,1))","v":0},{"$f":"IF($C30=Post!$B$30,1,0)*(IF($P30=\"\",0,1))*(IF($P30=\"Contract\",0,1))","v":0},{"$f":"IF($C30=Post!$B$31,1,0)*(IF($P30=\"\",0,1))*(IF($P30=\"Contract\",0,1))","v":0},{"$f":"IF($C30=Post!$B$32,1,0)*(IF($P30=\"\",0,1))*(IF($P30=\"Contract\",0,1))","v":0},{"$f":"IF($C30=Post!$B$33,1,0)*(IF($P30=\"\",0,1))*(IF($P30=\"Contract\",0,1))","v":0},{"$f":"IF($C30=Post!$B$34,1,0)*(IF($P30=\"\",0,1))*(IF($P30=\"Contract\",0,1))","v":0},{"$f":"IF($C30=Post!$B$35,1,0)*(IF($P30=\"\",0,1))*(IF($P30=\"Contract\",0,1))","v":0},{"$f":"IF($C30=Post!$B$36,1,0)*(IF($P30=\"\",0,1))*(IF($P30=\"Contract\",0,1))","v":0},{"$f":"IF($C30=Post!$B$37,1,0)*(IF($P30=\"\",0,1))*(IF($P30=\"Contract\",0,1))","v":0},{"$f":"IF($C30=Post!$B$38,1,0)*(IF($P30=\"\",0,1))*(IF($P30=\"Contract\",0,1))","v":0},{"$f":"IF($C30=Post!$B$39,1,0)*(IF($P30=\"\",0,1))*(IF($P30=\"Contract\",0,1))","v":0},{"$f":"IF($C30=Post!$B$40,1,0)*(IF($P30=\"\",0,1))*(IF($P30=\"Contract\",0,1))","v":0},{"$f":"IF($C30=Post!$B$41,1,0)*(IF($P30=\"\",0,1))*(IF($P30=\"Contract\",0,1))","v":0},{"$f":"IF($C30=Post!$B$42,1,0)*(IF($P30=\"\",0,1))*(IF($P30=\"Contract\",0,1))","v":0},{"$f":"IF($C30=Post!$B$43,1,0)*(IF($P30=\"\",0,1))*(IF($P30=\"Contract\",0,1))","v":0},{"$f":"IF($C30=Post!$B$44,1,0)*(IF($P30=\"\",0,1))*(IF($P30=\"Contract\",0,1))","v":0},{"$f":"IF($C30=Post!$B$45,1,0)*(IF($P30=\"\",0,1))*(IF($P30=\"Contract\",0,1))","v":0},{"$f":"IF($C30=Post!$B$46,1,0)*(IF($P30=\"\",0,1))*(IF($P30=\"Contract\",0,1))","v":0},{"$f":"IF($C30=Post!$B$47,1,0)*(IF($P30=\"\",0,1))*(IF($P30=\"Contract\",0,1))","v":0},{"$f":"IF(C30=Post!B$48,1,0)*(IF(P30=\"\",0,1))*(IF($P30=\"Contract\",0,1))","v":0},{"$f":"IF(C30=Post!B$49,1,0)*(IF(P30=\"\",0,1))*(IF($P30=\"Contract\",0,1))","v":0},{"$f":"IF(C30=Post!B$50,1,0)*(IF(P30=\"\",0,1))*(IF($P30=\"Contract\",0,1))","v":0},0,0,0,0,0,0,0,0,0,0,0,0,0,0,0,0,0,0,0,0,0,0,0,0,0,0,0,0,0,0,0,0,0,0,0,0,0,0,0,0,0,0,0,0,0,0]
["",{"$f":"IF(C31=\"\",\"\",Database!H$5)","v":""},null,null,null,null,null,null,null,null,null,null,null,null,null,null,"",null,null,0,0,0,0,0,"",0,0,0,0,0,0,0,0,0,0,"",{"$f":"IF($C31=Post!$B$11,1,0)*(IF($P31=\"\",0,1))*(IF($P31=\"Contract\",0,1))","v":0},{"$f":"IF($C31=Post!$B$12,1,0)*(IF($P31=\"\",0,1))*(IF($P31=\"Contract\",0,1))","v":0},{"$f":"IF($C31=Post!$B$13,1,0)*(IF($P31=\"\",0,1))*(IF($P31=\"Contract\",0,1))","v":0},{"$f":"IF($C31=Post!$B$14,1,0)*(IF($P31=\"\",0,1))*(IF($P31=\"Contract\",0,1))","v":0},{"$f":"IF($C31=Post!$B$15,1,0)*(IF($P31=\"\",0,1))*(IF($P31=\"Contract\",0,1))","v":0},{"$f":"IF($C31=Post!$B$16,1,0)*(IF($P31=\"\",0,1))*(IF($P31=\"Contract\",0,1))","v":0},{"$f":"IF($C31=Post!$B$17,1,0)*(IF($P31=\"\",0,1))*(IF($P31=\"Contract\",0,1))","v":0},{"$f":"IF($C31=Post!$B$18,1,0)*(IF($P31=\"\",0,1))*(IF($P31=\"Contract\",0,1))","v":0},{"$f":"IF($C31=Post!$B$19,1,0)*(IF($P31=\"\",0,1))*(IF($P31=\"Contract\",0,1))","v":0},{"$f":"IF($C31=Post!$B$20,1,0)*(IF($P31=\"\",0,1))*(IF($P31=\"Contract\",0,1))","v":0},{"$f":"IF($C31=Post!$B$21,1,0)*(IF($P31=\"\",0,1))*(IF($P31=\"Contract\",0,1))","v":0},{"$f":"IF($C31=Post!$B$2,1,0)*(IF($P31=\"\",0,1))*(IF($P31=\"Contract\",0,1))","v":0},{"$f":"IF($C31=Post!$B$23,1,0)*(IF($P31=\"\",0,1))*(IF($P31=\"Contract\",0,1))","v":0},{"$f":"IF($C31=Post!$B$24,1,0)*(IF($P31=\"\",0,1))*(IF($P31=\"Contract\",0,1))","v":0},{"$f":"IF($C31=Post!$B$25,1,0)*(IF($P31=\"\",0,1))*(IF($P31=\"Contract\",0,1))","v":0},{"$f":"IF($C31=Post!$B$26,1,0)*(IF($P31=\"\",0,1))*(IF($P31=\"Contract\",0,1))","v":0},{"$f":"IF($C31=Post!$B$27,1,0)*(IF($P31=\"\",0,1))*(IF($P31=\"Contract\",0,1))","v":0},{"$f":"IF($C31=Post!$B$28,1,0)*(IF($P31=\"\",0,1))*(IF($P31=\"Contract\",0,1))","v":0},{"$f":"IF($C31=Post!$B$29,1,0)*(IF($P31=\"\",0,1))*(IF($P31=\"Contract\",0,1))","v":0},{"$f":"IF($C31=Post!$B$30,1,0)*(IF($P31=\"\",0,1))*(IF($P31=\"Contract\",0,1))","v":0},{"$f":"IF($C31=Post!$B$31,1,0)*(IF($P31=\"\",0,1))*(IF($P31=\"Contract\",0,1))","v":0},{"$f":"IF($C31=Post!$B$32,1,0)*(IF($P31=\"\",0,1))*(IF($P31=\"Contract\",0,1))","v":0},{"$f":"IF($C31=Post!$B$33,1,0)*(IF($P31=\"\",0,1))*(IF($P31=\"Contract\",0,1))","v":0},{"$f":"IF($C31=Post!$B$34,1,0)*(IF($P31=\"\",0,1))*(IF($P31=\"Contract\",0,1))","v":0},{"$f":"IF($C31=Post!$B$35,1,0)*(IF($P31=\"\",0,1))*(IF($P31=\"Contract\",0,1))","v":0},{"$f":"IF($C31=Post!$B$36,1,0)*(IF($P31=\"\",0,1))*(IF($P31=\"Contract\",0,1))","v":0},{"$f":"IF($C31=Post!$B$37,1,0)*(IF($P31=\"\",0,1))*(IF($P31=\"Contract\",0,1))","v":0},{"$f":"IF($C31=Post!$B$38,1,0)*(IF($P31=\"\",0,1))*(IF($P31=\"Contract\",0,1))","v":0},{"$f":"IF($C31=Post!$B$39,1,0)*(IF($P31=\"\",0,1))*(IF($P31=\"Contract\",0,1))","v":0},{"$f":"IF($C31=Post!$B$40,1,0)*(IF($P31=\"\",0,1))*(IF($P31=\"Contract\",0,1))","v":0},{"$f":"IF($C31=Post!$B$41,1,0)*(IF($P31=\"\",0,1))*(IF($P31=\"Contract\",0,1))","v":0},{"$f":"IF($C31=Post!$B$42,1,0)*(IF($P31=\"\",0,1))*(IF($P31=\"Contract\",0,1))","v":0},{"$f":"IF($C31=Post!$B$43,1,0)*(IF($P31=\"\",0,1))*(IF($P31=\"Contract\",0,1))","v":0},{"$f":"IF($C31=Post!$B$44,1,0)*(IF($P31=\"\",0,1))*(IF($P31=\"Contract\",0,1))","v":0},{"$f":"IF($C31=Post!$B$45,1,0)*(IF($P31=\"\",0,1))*(IF($P31=\"Contract\",0,1))","v":0},{"$f":"IF($C31=Post!$B$46,1,0)*(IF($P31=\"\",0,1))*(IF($P31=\"Contract\",0,1))","v":0},{"$f":"IF($C31=Post!$B$47,1,0)*(IF($P31=\"\",0,1))*(IF($P31=\"Contract\",0,1))","v":0},{"$f":"IF(C31=Post!B$48,1,0)*(IF(P31=\"\",0,1))*(IF($P31=\"Contract\",0,1))","v":0},{"$f":"IF(C31=Post!B$49,1,0)*(IF(P31=\"\",0,1))*(IF($P31=\"Contract\",0,1))","v":0},{"$f":"IF(C31=Post!B$50,1,0)*(IF(P31=\"\",0,1))*(IF($P31=\"Contract\",0,1))","v":0},0,0,0,0,0,0,0,0,0,0,0,0,0,0,0,0,0,0,0,0,0,0,0,0,0,0,0,0,0,0,0,0,0,0,0,0,0,0,0,0,0,0,0,0,0,0]
["",{"$f":"IF(C32=\"\",\"\",Database!H$5)","v":""},null,null,null,null,null,null,null,null,null,null,null,null,null,null,"",null,null,0,0,0,0,0,"",0,0,0,0,0,0,0,0,0,0,"",{"$f":"IF($C32=Post!$B$11,1,0)*(IF($P32=\"\",0,1))*(IF($P32=\"Contract\",0,1))","v":0},{"$f":"IF($C32=Post!$B$12,1,0)*(IF($P32=\"\",0,1))*(IF($P32=\"Contract\",0,1))","v":0},{"$f":"IF($C32=Post!$B$13,1,0)*(IF($P32=\"\",0,1))*(IF($P32=\"Contract\",0,1))","v":0},{"$f":"IF($C32=Post!$B$14,1,0)*(IF($P32=\"\",0,1))*(IF($P32=\"Contract\",0,1))","v":0},{"$f":"IF($C32=Post!$B$15,1,0)*(IF($P32=\"\",0,1))*(IF($P32=\"Contract\",0,1))","v":0},{"$f":"IF($C32=Post!$B$16,1,0)*(IF($P32=\"\",0,1))*(IF($P32=\"Contract\",0,1))","v":0},{"$f":"IF($C32=Post!$B$17,1,0)*(IF($P32=\"\",0,1))*(IF($P32=\"Contract\",0,1))","v":0},{"$f":"IF($C32=Post!$B$18,1,0)*(IF($P32=\"\",0,1))*(IF($P32=\"Contract\",0,1))","v":0},{"$f":"IF($C32=Post!$B$19,1,0)*(IF($P32=\"\",0,1))*(IF($P32=\"Contract\",0,1))","v":0},{"$f":"IF($C32=Post!$B$20,1,0)*(IF($P32=\"\",0,1))*(IF($P32=\"Contract\",0,1))","v":0},{"$f":"IF($C32=Post!$B$21,1,0)*(IF($P32=\"\",0,1))*(IF($P32=\"Contract\",0,1))","v":0},{"$f":"IF($C32=Post!$B$2,1,0)*(IF($P32=\"\",0,1))*(IF($P32=\"Contract\",0,1))","v":0},{"$f":"IF($C32=Post!$B$23,1,0)*(IF($P32=\"\",0,1))*(IF($P32=\"Contract\",0,1))","v":0},{"$f":"IF($C32=Post!$B$24,1,0)*(IF($P32=\"\",0,1))*(IF($P32=\"Contract\",0,1))","v":0},{"$f":"IF($C32=Post!$B$25,1,0)*(IF($P32=\"\",0,1))*(IF($P32=\"Contract\",0,1))","v":0},{"$f":"IF($C32=Post!$B$26,1,0)*(IF($P32=\"\",0,1))*(IF($P32=\"Contract\",0,1))","v":0},{"$f":"IF($C32=Post!$B$27,1,0)*(IF($P32=\"\",0,1))*(IF($P32=\"Contract\",0,1))","v":0},{"$f":"IF($C32=Post!$B$28,1,0)*(IF($P32=\"\",0,1))*(IF($P32=\"Contract\",0,1))","v":0},{"$f":"IF($C32=Post!$B$29,1,0)*(IF($P32=\"\",0,1))*(IF($P32=\"Contract\",0,1))","v":0},{"$f":"IF($C32=Post!$B$30,1,0)*(IF($P32=\"\",0,1))*(IF($P32=\"Contract\",0,1))","v":0},{"$f":"IF($C32=Post!$B$31,1,0)*(IF($P32=\"\",0,1))*(IF($P32=\"Contract\",0,1))","v":0},{"$f":"IF($C32=Post!$B$32,1,0)*(IF($P32=\"\",0,1))*(IF($P32=\"Contract\",0,1))","v":0},{"$f":"IF($C32=Post!$B$33,1,0)*(IF($P32=\"\",0,1))*(IF($P32=\"Contract\",0,1))","v":0},{"$f":"IF($C32=Post!$B$34,1,0)*(IF($P32=\"\",0,1))*(IF($P32=\"Contract\",0,1))","v":0},{"$f":"IF($C32=Post!$B$35,1,0)*(IF($P32=\"\",0,1))*(IF($P32=\"Contract\",0,1))","v":0},{"$f":"IF($C32=Post!$B$36,1,0)*(IF($P32=\"\",0,1))*(IF($P32=\"Contract\",0,1))","v":0},{"$f":"IF($C32=Post!$B$37,1,0)*(IF($P32=\"\",0,1))*(IF($P32=\"Contract\",0,1))","v":0},{"$f":"IF($C32=Post!$B$38,1,0)*(IF($P32=\"\",0,1))*(IF($P32=\"Contract\",0,1))","v":0},{"$f":"IF($C32=Post!$B$39,1,0)*(IF($P32=\"\",0,1))*(IF($P32=\"Contract\",0,1))","v":0},{"$f":"IF($C32=Post!$B$40,1,0)*(IF($P32=\"\",0,1))*(IF($P32=\"Contract\",0,1))","v":0},{"$f":"IF($C32=Post!$B$41,1,0)*(IF($P32=\"\",0,1))*(IF($P32=\"Contract\",0,1))","v":0},{"$f":"IF($C32=Post!$B$42,1,0)*(IF($P32=\"\",0,1))*(IF($P32=\"Contract\",0,1))","v":0},{"$f":"IF($C32=Post!$B$43,1,0)*(IF($P32=\"\",0,1))*(IF($P32=\"Contract\",0,1))","v":0},{"$f":"IF($C32=Post!$B$44,1,0)*(IF($P32=\"\",0,1))*(IF($P32=\"Contract\",0,1))","v":0},{"$f":"IF($C32=Post!$B$45,1,0)*(IF($P32=\"\",0,1))*(IF($P32=\"Contract\",0,1))","v":0},{"$f":"IF($C32=Post!$B$46,1,0)*(IF($P32=\"\",0,1))*(IF($P32=\"Contract\",0,1))","v":0},{"$f":"IF($C32=Post!$B$47,1,0)*(IF($P32=\"\",0,1))*(IF($P32=\"Contract\",0,1))","v":0},{"$f":"IF(C32=Post!B$48,1,0)*(IF(P32=\"\",0,1))*(IF($P32=\"Contract\",0,1))","v":0},{"$f":"IF(C32=Post!B$49,1,0)*(IF(P32=\"\",0,1))*(IF($P32=\"Contract\",0,1))","v":0},{"$f":"IF(C32=Post!B$50,1,0)*(IF(P32=\"\",0,1))*(IF($P32=\"Contract\",0,1))","v":0},0,0,0,0,0,0,0,0,0,0,0,0,0,0,0,0,0,0,0,0,0,0,0,0,0,0,0,0,0,0,0,0,0,0,0,0,0,0,0,0,0,0,0,0,0,0]
["",{"$f":"IF(C33=\"\",\"\",Database!H$5)","v":""},null,null,null,null,null,null,null,null,null,null,null,null,null,null,"",null,null,0,0,0,0,0,"",0,0,0,0,0,0,0,0,0,0,"",{"$f":"IF($C33=Post!$B$11,1,0)*(IF($P33=\"\",0,1))*(IF($P33=\"Contract\",0,1))","v":0},{"$f":"IF($C33=Post!$B$12,1,0)*(IF($P33=\"\",0,1))*(IF($P33=\"Contract\",0,1))","v":0},{"$f":"IF($C33=Post!$B$13,1,0)*(IF($P33=\"\",0,1))*(IF($P33=\"Contract\",0,1))","v":0},{"$f":"IF($C33=Post!$B$14,1,0)*(IF($P33=\"\",0,1))*(IF($P33=\"Contract\",0,1))","v":0},{"$f":"IF($C33=Post!$B$15,1,0)*(IF($P33=\"\",0,1))*(IF($P33=\"Contract\",0,1))","v":0},{"$f":"IF($C33=Post!$B$16,1,0)*(IF($P33=\"\",0,1))*(IF($P33=\"Contract\",0,1))","v":0},{"$f":"IF($C33=Post!$B$17,1,0)*(IF($P33=\"\",0,1))*(IF($P33=\"Contract\",0,1))","v":0},{"$f":"IF($C33=Post!$B$18,1,0)*(IF($P33=\"\",0,1))*(IF($P33=\"Contract\",0,1))","v":0},{"$f":"IF($C33=Post!$B$19,1,0)*(IF($P33=\"\",0,1))*(IF($P33=\"Contract\",0,1))","v":0},{"$f":"IF($C33=Post!$B$20,1,0)*(IF($P33=\"\",0,1))*(IF($P33=\"Contract\",0,1))","v":0},{"$f":"IF($C33=Post!$B$21,1,0)*(IF($P33=\"\",0,1))*(IF($P33=\"Contract\",0,1))","v":0},{"$f":"IF($C33=Post!$B$2,1,0)*(IF($P33=\"\",0,1))*(IF($P33=\"Contract\",0,1))","v":0},{"$f":"IF($C33=Post!$B$23,1,0)*(IF($P33=\"\",0,1))*(IF($P33=\"Contract\",0,1))","v":0},{"$f":"IF($C33=Post!$B$24,1,0)*(IF($P33=\"\",0,1))*(IF($P33=\"Contract\",0,1))","v":0},{"$f":"IF($C33=Post!$B$25,1,0)*(IF($P33=\"\",0,1))*(IF($P33=\"Contract\",0,1))","v":0},{"$f":"IF($C33=Post!$B$26,1,0)*(IF($P33=\"\",0,1))*(IF($P33=\"Contract\",0,1))","v":0},{"$f":"IF($C33=Post!$B$27,1,0)*(IF($P33=\"\",0,1))*(IF($P33=\"Contract\",0,1))","v":0},{"$f":"IF($C33=Post!$B$28,1,0)*(IF($P33=\"\",0,1))*(IF($P33=\"Contract\",0,1))","v":0},{"$f":"IF($C33=Post!$B$29,1,0)*(IF($P33=\"\",0,1))*(IF($P33=\"Contract\",0,1))","v":0},{"$f":"IF($C33=Post!$B$30,1,0)*(IF($P33=\"\",0,1))*(IF($P33=\"Contract\",0,1))","v":0},{"$f":"IF($C33=Post!$B$31,1,0)*(IF($P33=\"\",0,1))*(IF($P33=\"Contract\",0,1))","v":0},{"$f":"IF($C33=Post!$B$32,1,0)*(IF($P33=\"\",0,1))*(IF($P33=\"Contract\",0,1))","v":0},{"$f":"IF($C33=Post!$B$33,1,0)*(IF($P33=\"\",0,1))*(IF($P33=\"Contract\",0,1))","v":0},{"$f":"IF($C33=Post!$B$34,1,0)*(IF($P33=\"\",0,1))*(IF($P33=\"Contract\",0,1))","v":0},{"$f":"IF($C33=Post!$B$35,1,0)*(IF($P33=\"\",0,1))*(IF($P33=\"Contract\",0,1))","v":0},{"$f":"IF($C33=Post!$B$36,1,0)*(IF($P33=\"\",0,1))*(IF($P33=\"Contract\",0,1))","v":0},{"$f":"IF($C33=Post!$B$37,1,0)*(IF($P33=\"\",0,1))*(IF($P33=\"Contract\",0,1))","v":0},{"$f":"IF($C33=Post!$B$38,1,0)*(IF($P33=\"\",0,1))*(IF($P33=\"Contract\",0,1))","v":0},{"$f":"IF($C33=Post!$B$39,1,0)*(IF($P33=\"\",0,1))*(IF($P33=\"Contract\",0,1))","v":0},{"$f":"IF($C33=Post!$B$40,1,0)*(IF($P33=\"\",0,1))*(IF($P33=\"Contract\",0,1))","v":0},{"$f":"IF($C33=Post!$B$41,1,0)*(IF($P33=\"\",0,1))*(IF($P33=\"Contract\",0,1))","v":0},{"$f":"IF($C33=Post!$B$42,1,0)*(IF($P33=\"\",0,1))*(IF($P33=\"Contract\",0,1))","v":0},{"$f":"IF($C33=Post!$B$43,1,0)*(IF($P33=\"\",0,1))*(IF($P33=\"Contract\",0,1))","v":0},{"$f":"IF($C33=Post!$B$44,1,0)*(IF($P33=\"\",0,1))*(IF($P33=\"Contract\",0,1))","v":0},{"$f":"IF($C33=Post!$B$45,1,0)*(IF($P33=\"\",0,1))*(IF($P33=\"Contract\",0,1))","v":0},{"$f":"IF($C33=Post!$B$46,1,0)*(IF($P33=\"\",0,1))*(IF($P33=\"Contract\",0,1))","v":0},{"$f":"IF($C33=Post!$B$47,1,0)*(IF($P33=\"\",0,1))*(IF($P33=\"Contract\",0,1))","v":0},{"$f":"IF(C33=Post!B$48,1,0)*(IF(P33=\"\",0,1))*(IF($P33=\"Contract\",0,1))","v":0},{"$f":"IF(C33=Post!B$49,1,0)*(IF(P33=\"\",0,1))*(IF($P33=\"Contract\",0,1))","v":0},{"$f":"IF(C33=Post!B$50,1,0)*(IF(P33=\"\",0,1))*(IF($P33=\"Contract\",0,1))","v":0},0,0,0,0,0,0,0,0,0,0,0,0,0,0,0,0,0,0,0,0,0,0,0,0,0,0,0,0,0,0,0,0,0,0,0,0,0,0,0,0,0,0,0,0,0,0]
["",{"$f":"IF(C34=\"\",\"\",Database!H$5)","v":""},null,null,null,null,null,null,null,null,null,null,null,null,null,null,"",null,null,0,0,0,0,0,"",0,0,0,0,0,0,0,0,0,0,"",{"$f":"IF($C34=Post!$B$11,1,0)*(IF($P34=\"\",0,1))*(IF($P34=\"Contract\",0,1))","v":0},{"$f":"IF($C34=Post!$B$12,1,0)*(IF($P34=\"\",0,1))*(IF($P34=\"Contract\",0,1))","v":0},{"$f":"IF($C34=Post!$B$13,1,0)*(IF($P34=\"\",0,1))*(IF($P34=\"Contract\",0,1))","v":0},{"$f":"IF($C34=Post!$B$14,1,0)*(IF($P34=\"\",0,1))*(IF($P34=\"Contract\",0,1))","v":0},{"$f":"IF($C34=Post!$B$15,1,0)*(IF($P34=\"\",0,1))*(IF($P34=\"Contract\",0,1))","v":0},{"$f":"IF($C34=Post!$B$16,1,0)*(IF($P34=\"\",0,1))*(IF($P34=\"Contract\",0,1))","v":0},{"$f":"IF($C34=Post!$B$17,1,0)*(IF($P34=\"\",0,1))*(IF($P34=\"Contract\",0,1))","v":0},{"$f":"IF($C34=Post!$B$18,1,0)*(IF($P34=\"\",0,1))*(IF($P34=\"Contract\",0,1))","v":0},{"$f":"IF($C34=Post!$B$19,1,0)*(IF($P34=\"\",0,1))*(IF($P34=\"Contract\",0,1))","v":0},{"$f":"IF($C34=Post!$B$20,1,0)*(IF($P34=\"\",0,1))*(IF($P34=\"Contract\",0,1))","v":0},{"$f":"IF($C34=Post!$B$21,1,0)*(IF($P34=\"\",0,1))*(IF($P34=\"Contract\",0,1))","v":0},{"$f":"IF($C34=Post!$B$2,1,0)*(IF($P34=\"\",0,1))*(IF($P34=\"Contract\",0,1))","v":0},{"$f":"IF($C34=Post!$B$23,1,0)*(IF($P34=\"\",0,1))*(IF($P34=\"Contract\",0,1))","v":0},{"$f":"IF($C34=Post!$B$24,1,0)*(IF($P34=\"\",0,1))*(IF($P34=\"Contract\",0,1))","v":0},{"$f":"IF($C34=Post!$B$25,1,0)*(IF($P34=\"\",0,1))*(IF($P34=\"Contract\",0,1))","v":0},{"$f":"IF($C34=Post!$B$26,1,0)*(IF($P34=\"\",0,1))*(IF($P34=\"Contract\",0,1))","v":0},{"$f":"IF($C34=Post!$B$27,1,0)*(IF($P34=\"\",0,1))*(IF($P34=\"Contract\",0,1))","v":0},{"$f":"IF($C34=Post!$B$28,1,0)*(IF($P34=\"\",0,1))*(IF($P34=\"Contract\",0,1))","v":0},{"$f":"IF($C34=Post!$B$29,1,0)*(IF($P34=\"\",0,1))*(IF($P34=\"Contract\",0,1))","v":0},{"$f":"IF($C34=Post!$B$30,1,0)*(IF($P34=\"\",0,1))*(IF($P34=\"Contract\",0,1))","v":0},{"$f":"IF($C34=Post!$B$31,1,0)*(IF($P34=\"\",0,1))*(IF($P34=\"Contract\",0,1))","v":0},{"$f":"IF($C34=Post!$B$32,1,0)*(IF($P34=\"\",0,1))*(IF($P34=\"Contract\",0,1))","v":0},{"$f":"IF($C34=Post!$B$33,1,0)*(IF($P34=\"\",0,1))*(IF($P34=\"Contract\",0,1))","v":0},{"$f":"IF($C34=Post!$B$34,1,0)*(IF($P34=\"\",0,1))*(IF($P34=\"Contract\",0,1))","v":0},{"$f":"IF($C34=Post!$B$35,1,0)*(IF($P34=\"\",0,1))*(IF($P34=\"Contract\",0,1))","v":0},{"$f":"IF($C34=Post!$B$36,1,0)*(IF($P34=\"\",0,1))*(IF($P34=\"Contract\",0,1))","v":0},{"$f":"IF($C34=Post!$B$37,1,0)*(IF($P34=\"\",0,1))*(IF($P34=\"Contract\",0,1))","v":0},{"$f":"IF($C34=Post!$B$38,1,0)*(IF($P34=\"\",0,1))*(IF($P34=\"Contract\",0,1))","v":0},{"$f":"IF($C34=Post!$B$39,1,0)*(IF($P34=\"\",0,1))*(IF($P34=\"Contract\",0,1))","v":0},{"$f":"IF($C34=Post!$B$40,1,0)*(IF($P34=\"\",0,1))*(IF($P34=\"Contract\",0,1))","v":0},{"$f":"IF($C34=Post!$B$41,1,0)*(IF($P34=\"\",0,1))*(IF($P34=\"Contract\",0,1))","v":0},{"$f":"IF($C34=Post!$B$42,1,0)*(IF($P34=\"\",0,1))*(IF($P34=\"Contract\",0,1))","v":0},{"$f":"IF($C34=Post!$B$43,1,0)*(IF($P34=\"\",0,1))*(IF($P34=\"Contract\",0,1))","v":0},{"$f":"IF($C34=Post!$B$44,1,0)*(IF($P34=\"\",0,1))*(IF($P34=\"Contract\",0,1))","v":0},{"$f":"IF($C34=Post!$B$45,1,0)*(IF($P34=\"\",0,1))*(IF($P34=\"Contract\",0,1))","v":0},{"$f":"IF($C34=Post!$B$46,1,0)*(IF($P34=\"\",0,1))*(IF($P34=\"Contract\",0,1))","v":0},{"$f":"IF($C34=Post!$B$47,1,0)*(IF($P34=\"\",0,1))*(IF($P34=\"Contract\",0,1))","v":0},{"$f":"IF(C34=Post!B$48,1,0)*(IF(P34=\"\",0,1))*(IF($P34=\"Contract\",0,1))","v":0},{"$f":"IF(C34=Post!B$49,1,0)*(IF(P34=\"\",0,1))*(IF($P34=\"Contract\",0,1))","v":0},{"$f":"IF(C34=Post!B$50,1,0)*(IF(P34=\"\",0,1))*(IF($P34=\"Contract\",0,1))","v":0},0,0,0,0,0,0,0,0,0,0,0,0,0,0,0,0,0,0,0,0,0,0,0,0,0,0,0,0,0,0,0,0,0,0,0,0,0,0,0,0,0,0,0,0,0,0]
["",{"$f":"IF(C35=\"\",\"\",Database!H$5)","v":""},null,null,null,null,null,null,null,null,null,null,null,null,null,null,"",null,null,0,0,0,0,0,"",0,0,0,0,0,0,0,0,0,0,"",{"$f":"IF($C35=Post!$B$11,1,0)*(IF($P35=\"\",0,1))*(IF($P35=\"Contract\",0,1))","v":0},{"$f":"IF($C35=Post!$B$12,1,0)*(IF($P35=\"\",0,1))*(IF($P35=\"Contract\",0,1))","v":0},{"$f":"IF($C35=Post!$B$13,1,0)*(IF($P35=\"\",0,1))*(IF($P35=\"Contract\",0,1))","v":0},{"$f":"IF($C35=Post!$B$14,1,0)*(IF($P35=\"\",0,1))*(IF($P35=\"Contract\",0,1))","v":0},{"$f":"IF($C35=Post!$B$15,1,0)*(IF($P35=\"\",0,1))*(IF($P35=\"Contract\",0,1))","v":0},{"$f":"IF($C35=Post!$B$16,1,0)*(IF($P35=\"\",0,1))*(IF($P35=\"Contract\",0,1))","v":0},{"$f":"IF($C35=Post!$B$17,1,0)*(IF($P35=\"\",0,1))*(IF($P35=\"Contract\",0,1))","v":0},{"$f":"IF($C35=Post!$B$18,1,0)*(IF($P35=\"\",0,1))*(IF($P35=\"Contract\",0,1))","v":0},{"$f":"IF($C35=Post!$B$19,1,0)*(IF($P35=\"\",0,1))*(IF($P35=\"Contract\",0,1))","v":0},{"$f":"IF($C35=Post!$B$20,1,0)*(IF($P35=\"\",0,1))*(IF($P35=\"Contract\",0,1))","v":0},{"$f":"IF($C35=Post!$B$21,1,0)*(IF($P35=\"\",0,1))*(IF($P35=\"Contract\",0,1))","v":0},{"$f":"IF($C35=Post!$B$2,1,0)*(IF($P35=\"\",0,1))*(IF($P35=\"Contract\",0,1))","v":0},{"$f":"IF($C35=Post!$B$23,1,0)*(IF($P35=\"\",0,1))*(IF($P35=\"Contract\",0,1))","v":0},{"$f":"IF($C35=Post!$B$24,1,0)*(IF($P35=\"\",0,1))*(IF($P35=\"Contract\",0,1))","v":0},{"$f":"IF($C35=Post!$B$25,1,0)*(IF($P35=\"\",0,1))*(IF($P35=\"Contract\",0,1))","v":0},{"$f":"IF($C35=Post!$B$26,1,0)*(IF($P35=\"\",0,1))*(IF($P35=\"Contract\",0,1))","v":0},{"$f":"IF($C35=Post!$B$27,1,0)*(IF($P35=\"\",0,1))*(IF($P35=\"Contract\",0,1))","v":0},{"$f":"IF($C35=Post!$B$28,1,0)*(IF($P35=\"\",0,1))*(IF($P35=\"Contract\",0,1))","v":0},{"$f":"IF($C35=Post!$B$29,1,0)*(IF($P35=\"\",0,1))*(IF($P35=\"Contract\",0,1))","v":0},{"$f":"IF($C35=Post!$B$30,1,0)*(IF($P35=\"\",0,1))*(IF($P35=\"Contract\",0,1))","v":0},{"$f":"IF($C35=Post!$B$31,1,0)*(IF($P35=\"\",0,1))*(IF($P35=\"Contract\",0,1))","v":0},{"$f":"IF($C35=Post!$B$32,1,0)*(IF($P35=\"\",0,1))*(IF($P35=\"Contract\",0,1))","v":0},{"$f":"IF($C35=Post!$B$33,1,0)*(IF($P35=\"\",0,1))*(IF($P35=\"Contract\",0,1))","v":0},{"$f":"IF($C35=Post!$B$34,1,0)*(IF($P35=\"\",0,1))*(IF($P35=\"Contract\",0,1))","v":0},{"$f":"IF($C35=Post!$B$35,1,0)*(IF($P35=\"\",0,1))*(IF($P35=\"Contract\",0,1))","v":0},{"$f":"IF($C35=Post!$B$36,1,0)*(IF($P35=\"\",0,1))*(IF($P35=\"Contract\",0,1))","v":0},{"$f":"IF($C35=Post!$B$37,1,0)*(IF($P35=\"\",0,1))*(IF($P35=\"Contract\",0,1))","v":0},{"$f":"IF($C35=Post!$B$38,1,0)*(IF($P35=\"\",0,1))*(IF($P35=\"Contract\",0,1))","v":0},{"$f":"IF($C35=Post!$B$39,1,0)*(IF($P35=\"\",0,1))*(IF($P35=\"Contract\",0,1))","v":0},{"$f":"IF($C35=Post!$B$40,1,0)*(IF($P35=\"\",0,1))*(IF($P35=\"Contract\",0,1))","v":0},{"$f":"IF($C35=Post!$B$41,1,0)*(IF($P35=\"\",0,1))*(IF($P35=\"Contract\",0,1))","v":0},{"$f":"IF($C35=Post!$B$42,1,0)*(IF($P35=\"\",0,1))*(IF($P35=\"Contract\",0,1))","v":0},{"$f":"IF($C35=Post!$B$43,1,0)*(IF($P35=\"\",0,1))*(IF($P35=\"Contract\",0,1))","v":0},{"$f":"IF($C35=Post!$B$44,1,0)*(IF($P35=\"\",0,1))*(IF($P35=\"Contract\",0,1))","v":0},{"$f":"IF($C35=Post!$B$45,1,0)*(IF($P35=\"\",0,1))*(IF($P35=\"Contract\",0,1))","v":0},{"$f":"IF($C35=Post!$B$46,1,0)*(IF($P35=\"\",0,1))*(IF($P35=\"Contract\",0,1))","v":0},{"$f":"IF($C35=Post!$B$47,1,0)*(IF($P35=\"\",0,1))*(IF($P35=\"Contract\",0,1))","v":0},{"$f":"IF(C35=Post!B$48,1,0)*(IF(P35=\"\",0,1))*(IF($P35=\"Contract\",0,1))","v":0},{"$f":"IF(C35=Post!B$49,1,0)*(IF(P35=\"\",0,1))*(IF($P35=\"Contract\",0,1))","v":0},{"$f":"IF(C35=Post!B$50,1,0)*(IF(P35=\"\",0,1))*(IF($P35=\"Contract\",0,1))","v":0},0,0,0,0,0,0,0,0,0,0,0,0,0,0,0,0,0,0,0,0,0,0,0,0,0,0,0,0,0,0,0,0,0,0,0,0,0,0,0,0,0,0,0,0,0,0]
["",{"$f":"IF(C36=\"\",\"\",Database!H$5)","v":""},null,null,null,null,null,null,null,null,null,null,null,null,null,null,"",null,null,0,0,0,0,0,"",0,0,0,0,0,0,0,0,0,0,"",{"$f":"IF($C36=Post!$B$11,1,0)*(IF($P36=\"\",0,1))*(IF($P36=\"Contract\",0,1))","v":0},{"$f":"IF($C36=Post!$B$12,1,0)*(IF($P36=\"\",0,1))*(IF($P36=\"Contract\",0,1))","v":0},{"$f":"IF($C36=Post!$B$13,1,0)*(IF($P36=\"\",0,1))*(IF($P36=\"Contract\",0,1))","v":0},{"$f":"IF($C36=Post!$B$14,1,0)*(IF($P36=\"\",0,1))*(IF($P36=\"Contract\",0,1))","v":0},{"$f":"IF($C36=Post!$B$15,1,0)*(IF($P36=\"\",0,1))*(IF($P36=\"Contract\",0,1))","v":0},{"$f":"IF($C36=Post!$B$16,1,0)*(IF($P36=\"\",0,1))*(IF($P36=\"Contract\",0,1))","v":0},{"$f":"IF($C36=Post!$B$17,1,0)*(IF($P36=\"\",0,1))*(IF($P36=\"Contract\",0,1))","v":0},{"$f":"IF($C36=Post!$B$18,1,0)*(IF($P36=\"\",0,1))*(IF($P36=\"Contract\",0,1))","v":0},{"$f":"IF($C36=Post!$B$19,1,0)*(IF($P36=\"\",0,1))*(IF($P36=\"Contract\",0,1))","v":0},{"$f":"IF($C36=Post!$B$20,1,0)*(IF($P36=\"\",0,1))*(IF($P36=\"Contract\",0,1))","v":0},{"$f":"IF($C36=Post!$B$21,1,0)*(IF($P36=\"\",0,1))*(IF($P36=\"Contract\",0,1))","v":0},{"$f":"IF($C36=Post!$B$2,1,0)*(IF($P36=\"\",0,1))*(IF($P36=\"Contract\",0,1))","v":0},{"$f":"IF($C36=Post!$B$23,1,0)*(IF($P36=\"\",0,1))*(IF($P36=\"Contract\",0,1))","v":0},{"$f":"IF($C36=Post!$B$24,1,0)*(IF($P36=\"\",0,1))*(IF($P36=\"Contract\",0,1))","v":0},{"$f":"IF($C36=Post!$B$25,1,0)*(IF($P36=\"\",0,1))*(IF($P36=\"Contract\",0,1))","v":0},{"$f":"IF($C36=Post!$B$26,1,0)*(IF($P36=\"\",0,1))*(IF($P36=\"Contract\",0,1))","v":0},{"$f":"IF($C36=Post!$B$27,1,0)*(IF($P36=\"\",0,1))*(IF($P36=\"Contract\",0,1))","v":0},{"$f":"IF($C36=Post!$B$28,1,0)*(IF($P36=\"\",0,1))*(IF($P36=\"Contract\",0,1))","v":0},{"$f":"IF($C36=Post!$B$29,1,0)*(IF($P36=\"\",0,1))*(IF($P36=\"Contract\",0,1))","v":0},{"$f":"IF($C36=Post!$B$30,1,0)*(IF($P36=\"\",0,1))*(IF($P36=\"Contract\",0,1))","v":0},{"$f":"IF($C36=Post!$B$31,1,0)*(IF($P36=\"\",0,1))*(IF($P36=\"Contract\",0,1))","v":0},{"$f":"IF($C36=Post!$B$32,1,0)*(IF($P36=\"\",0,1))*(IF($P36=\"Contract\",0,1))","v":0},{"$f":"IF($C36=Post!$B$33,1,0)*(IF($P36=\"\",0,1))*(IF($P36=\"Contract\",0,1))","v":0},{"$f":"IF($C36=Post!$B$34,1,0)*(IF($P36=\"\",0,1))*(IF($P36=\"Contract\",0,1))","v":0},{"$f":"IF($C36=Post!$B$35,1,0)*(IF($P36=\"\",0,1))*(IF($P36=\"Contract\",0,1))","v":0},{"$f":"IF($C36=Post!$B$36,1,0)*(IF($P36=\"\",0,1))*(IF($P36=\"Contract\",0,1))","v":0},{"$f":"IF($C36=Post!$B$37,1,0)*(IF($P36=\"\",0,1))*(IF($P36=\"Contract\",0,1))","v":0},{"$f":"IF($C36=Post!$B$38,1,0)*(IF($P36=\"\",0,1))*(IF($P36=\"Contract\",0,1))","v":0},{"$f":"IF($C36=Post!$B$39,1,0)*(IF($P36=\"\",0,1))*(IF($P36=\"Contract\",0,1))","v":0},{"$f":"IF($C36=Post!$B$40,1,0)*(IF($P36=\"\",0,1))*(IF($P36=\"Contract\",0,1))","v":0},{"$f":"IF($C36=Post!$B$41,1,0)*(IF($P36=\"\",0,1))*(IF($P36=\"Contract\",0,1))","v":0},{"$f":"IF($C36=Post!$B$42,1,0)*(IF($P36=\"\",0,1))*(IF($P36=\"Contract\",0,1))","v":0},{"$f":"IF($C36=Post!$B$43,1,0)*(IF($P36=\"\",0,1))*(IF($P36=\"Contract\",0,1))","v":0},{"$f":"IF($C36=Post!$B$44,1,0)*(IF($P36=\"\",0,1))*(IF($P36=\"Contract\",0,1))","v":0},{"$f":"IF($C36=Post!$B$45,1,0)*(IF($P36=\"\",0,1))*(IF($P36=\"Contract\",0,1))","v":0},{"$f":"IF($C36=Post!$B$46,1,0)*(IF($P36=\"\",0,1))*(IF($P36=\"Contract\",0,1))","v":0},{"$f":"IF($C36=Post!$B$47,1,0)*(IF($P36=\"\",0,1))*(IF($P36=\"Contract\",0,1))","v":0},{"$f":"IF(C36=Post!B$48,1,0)*(IF(P36=\"\",0,1))*(IF($P36=\"Contract\",0,1))","v":0},{"$f":"IF(C36=Post!B$49,1,0)*(IF(P36=\"\",0,1))*(IF($P36=\"Contract\",0,1))","v":0},{"$f":"IF(C36=Post!B$50,1,0)*(IF(P36=\"\",0,1))*(IF($P36=\"Contract\",0,1))","v":0},0,0,0,0,0,0,0,0,0,0,0,0,0,0,0,0,0,0,0,0,0,0,0,0,0,0,0,0,0,0,0,0,0,0,0,0,0,0,0,0,0,0,0,0,0,0]
["",{"$f":"IF(C37=\"\",\"\",Database!H$5)","v":""},null,null,null,null,null,null,null,null,null,null,null,null,null,null,"",null,null,0,0,0,0,0,"",0,0,0,0,0,0,0,0,0,0,"",{"$f":"IF($C37=Post!$B$11,1,0)*(IF($P37=\"\",0,1))*(IF($P37=\"Contract\",0,1))","v":0},{"$f":"IF($C37=Post!$B$12,1,0)*(IF($P37=\"\",0,1))*(IF($P37=\"Contract\",0,1))","v":0},{"$f":"IF($C37=Post!$B$13,1,0)*(IF($P37=\"\",0,1))*(IF($P37=\"Contract\",0,1))","v":0},{"$f":"IF($C37=Post!$B$14,1,0)*(IF($P37=\"\",0,1))*(IF($P37=\"Contract\",0,1))","v":0},{"$f":"IF($C37=Post!$B$15,1,0)*(IF($P37=\"\",0,1))*(IF($P37=\"Contract\",0,1))","v":0},{"$f":"IF($C37=Post!$B$16,1,0)*(IF($P37=\"\",0,1))*(IF($P37=\"Contract\",0,1))","v":0},{"$f":"IF($C37=Post!$B$17,1,0)*(IF($P37=\"\",0,1))*(IF($P37=\"Contract\",0,1))","v":0},{"$f":"IF($C37=Post!$B$18,1,0)*(IF($P37=\"\",0,1))*(IF($P37=\"Contract\",0,1))","v":0},{"$f":"IF($C37=Post!$B$19,1,0)*(IF($P37=\"\",0,1))*(IF($P37=\"Contract\",0,1))","v":0},{"$f":"IF($C37=Post!$B$20,1,0)*(IF($P37=\"\",0,1))*(IF($P37=\"Contract\",0,1))","v":0},{"$f":"IF($C37=Post!$B$21,1,0)*(IF($P37=\"\",0,1))*(IF($P37=\"Contract\",0,1))","v":0},{"$f":"IF($C37=Post!$B$2,1,0)*(IF($P37=\"\",0,1))*(IF($P37=\"Contract\",0,1))","v":0},{"$f":"IF($C37=Post!$B$23,1,0)*(IF($P37=\"\",0,1))*(IF($P37=\"Contract\",0,1))","v":0},{"$f":"IF($C37=Post!$B$24,1,0)*(IF($P37=\"\",0,1))*(IF($P37=\"Contract\",0,1))","v":0},{"$f":"IF($C37=Post!$B$25,1,0)*(IF($P37=\"\",0,1))*(IF($P37=\"Contract\",0,1))","v":0},{"$f":"IF($C37=Post!$B$26,1,0)*(IF($P37=\"\",0,1))*(IF($P37=\"Contract\",0,1))","v":0},{"$f":"IF($C37=Post!$B$27,1,0)*(IF($P37=\"\",0,1))*(IF($P37=\"Contract\",0,1))","v":0},{"$f":"IF($C37=Post!$B$28,1,0)*(IF($P37=\"\",0,1))*(IF($P37=\"Contract\",0,1))","v":0},{"$f":"IF($C37=Post!$B$29,1,0)*(IF($P37=\"\",0,1))*(IF($P37=\"Contract\",0,1))","v":0},{"$f":"IF($C37=Post!$B$30,1,0)*(IF($P37=\"\",0,1))*(IF($P37=\"Contract\",0,1))","v":0},{"$f":"IF($C37=Post!$B$31,1,0)*(IF($P37=\"\",0,1))*(IF($P37=\"Contract\",0,1))","v":0},{"$f":"IF($C37=Post!$B$32,1,0)*(IF($P37=\"\",0,1))*(IF($P37=\"Contract\",0,1))","v":0},{"$f":"IF($C37=Post!$B$33,1,0)*(IF($P37=\"\",0,1))*(IF($P37=\"Contract\",0,1))","v":0},{"$f":"IF($C37=Post!$B$34,1,0)*(IF($P37=\"\",0,1))*(IF($P37=\"Contract\",0,1))","v":0},{"$f":"IF($C37=Post!$B$35,1,0)*(IF($P37=\"\",0,1))*(IF($P37=\"Contract\",0,1))","v":0},{"$f":"IF($C37=Post!$B$36,1,0)*(IF($P37=\"\",0,1))*(IF($P37=\"Contract\",0,1))","v":0},{"$f":"IF($C37=Post!$B$37,1,0)*(IF($P37=\"\",0,1))*(IF($P37=\"Contract\",0,1))","v":0},{"$f":"IF($C37=Post!$B$38,1,0)*(IF($P37=\"\",0,1))*(IF($P37=\"Contract\",0,1))","v":0},{"$f":"IF($C37=Post!$B$39,1,0)*(IF($P37=\"\",0,1))*(IF($P37=\"Contract\",0,1))","v":0},{"$f":"IF($C37=Post!$B$40,1,0)*(IF($P37=\"\",0,1))*(IF($P37=\"Contract\",0,1))","v":0},{"$f":"IF($C37=Post!$B$41,1,0)*(IF($P37=\"\",0,1))*(IF($P37=\"Contract\",0,1))","v":0},{"$f":"IF($C37=Post!$B$42,1,0)*(IF($P37=\"\",0,1))*(IF($P37=\"Contract\",0,1))","v":0},{"$f":"IF($C37=Post!$B$43,1,0)*(IF($P37=\"\",0,1))*(IF($P37=\"Contract\",0,1))","v":0},{"$f":"IF($C37=Post!$B$44,1,0)*(IF($P37=\"\",0,1))*(IF($P37=\"Contract\",0,1))","v":0},{"$f":"IF($C37=Post!$B$45,1,0)*(IF($P37=\"\",0,1))*(IF($P37=\"Contract\",0,1))","v":0},{"$f":"IF($C37=Post!$B$46,1,0)*(IF($P37=\"\",0,1))*(IF($P37=\"Contract\",0,1))","v":0},{"$f":"IF($C37=Post!$B$47,1,0)*(IF($P37=\"\",0,1))*(IF($P37=\"Contract\",0,1))","v":0},{"$f":"IF(C37=Post!B$48,1,0)*(IF(P37=\"\",0,1))*(IF($P37=\"Contract\",0,1))","v":0},{"$f":"IF(C37=Post!B$49,1,0)*(IF(P37=\"\",0,1))*(IF($P37=\"Contract\",0,1))","v":0},{"$f":"IF(C37=Post!B$50,1,0)*(IF(P37=\"\",0,1))*(IF($P37=\"Contract\",0,1))","v":0},0,0,0,0,0,0,0,0,0,0,0,0,0,0,0,0,0,0,0,0,0,0,0,0,0,0,0,0,0,0,0,0,0,0,0,0,0,0,0,0,0,0,0,0,0,0]
["",{"$f":"IF(C38=\"\",\"\",Database!H$5)","v":""},null,null,null,null,null,null,null,null,null,null,null,null,null,null,"",null,null,0,0,0,0,0,"",0,0,0,0,0,0,0,0,0,0,"",{"$f":"IF($C38=Post!$B$11,1,0)*(IF($P38=\"\",0,1))*(IF($P38=\"Contract\",0,1))","v":0},{"$f":"IF($C38=Post!$B$12,1,0)*(IF($P38=\"\",0,1))*(IF($P38=\"Contract\",0,1))","v":0},{"$f":"IF($C38=Post!$B$13,1,0)*(IF($P38=\"\",0,1))*(IF($P38=\"Contract\",0,1))","v":0},{"$f":"IF($C38=Post!$B$14,1,0)*(IF($P38=\"\",0,1))*(IF($P38=\"Contract\",0,1))","v":0},{"$f":"IF($C38=Post!$B$15,1,0)*(IF($P38=\"\",0,1))*(IF($P38=\"Contract\",0,1))","v":0},{"$f":"IF($C38=Post!$B$16,1,0)*(IF($P38=\"\",0,1))*(IF($P38=\"Contract\",0,1))","v":0},{"$f":"IF($C38=Post!$B$17,1,0)*(IF($P38=\"\",0,1))*(IF($P38=\"Contract\",0,1))","v":0},{"$f":"IF($C38=Post!$B$18,1,0)*(IF($P38=\"\",0,1))*(IF($P38=\"Contract\",0,1))","v":0},{"$f":"IF($C38=Post!$B$19,1,0)*(IF($P38=\"\",0,1))*(IF($P38=\"Contract\",0,1))","v":0},{"$f":"IF($C38=Post!$B$20,1,0)*(IF($P38=\"\",0,1))*(IF($P38=\"Contract\",0,1))","v":0},{"$f":"IF($C38=Post!$B$21,1,0)*(IF($P38=\"\",0,1))*(IF($P38=\"Contract\",0,1))","v":0},{"$f":"IF($C38=Post!$B$2,1,0)*(IF($P38=\"\",0,1))*(IF($P38=\"Contract\",0,1))","v":0},{"$f":"IF($C38=Post!$B$23,1,0)*(IF($P38=\"\",0,1))*(IF($P38=\"Contract\",0,1))","v":0},{"$f":"IF($C38=Post!$B$24,1,0)*(IF($P38=\"\",0,1))*(IF($P38=\"Contract\",0,1))","v":0},{"$f":"IF($C38=Post!$B$25,1,0)*(IF($P38=\"\",0,1))*(IF($P38=\"Contract\",0,1))","v":0},{"$f":"IF($C38=Post!$B$26,1,0)*(IF($P38=\"\",0,1))*(IF($P38=\"Contract\",0,1))","v":0},{"$f":"IF($C38=Post!$B$27,1,0)*(IF($P38=\"\",0,1))*(IF($P38=\"Contract\",0,1))","v":0},{"$f":"IF($C38=Post!$B$28,1,0)*(IF($P38=\"\",0,1))*(IF($P38=\"Contract\",0,1))","v":0},{"$f":"IF($C38=Post!$B$29,1,0)*(IF($P38=\"\",0,1))*(IF($P38=\"Contract\",0,1))","v":0},{"$f":"IF($C38=Post!$B$30,1,0)*(IF($P38=\"\",0,1))*(IF($P38=\"Contract\",0,1))","v":0},{"$f":"IF($C38=Post!$B$31,1,0)*(IF($P38=\"\",0,1))*(IF($P38=\"Contract\",0,1))","v":0},{"$f":"IF($C38=Post!$B$32,1,0)*(IF($P38=\"\",0,1))*(IF($P38=\"Contract\",0,1))","v":0},{"$f":"IF($C38=Post!$B$33,1,0)*(IF($P38=\"\",0,1))*(IF($P38=\"Contract\",0,1))","v":0},{"$f":"IF($C38=Post!$B$34,1,0)*(IF($P38=\"\",0,1))*(IF($P38=\"Contract\",0,1))","v":0},{"$f":"IF($C38=Post!$B$35,1,0)*(IF($P38=\"\",0,1))*(IF($P38=\"Contract\",0,1))","v":0},{"$f":"IF($C38=Post!$B$36,1,0)*(IF($P38=\"\",0,1))*(IF($P38=\"Contract\",0,1))","v":0},{"$f":"IF($C38=Post!$B$37,1,0)*(IF($P38=\"\",0,1))*(IF($P38=\"Contract\",0,1))","v":0},{"$f":"IF($C38=Post!$B$38,1,0)*(IF($P38=\"\",0,1))*(IF($P38=\"Contract\",0,1))","v":0},{"$f":"IF($C38=Post!$B$39,1,0)*(IF($P38=\"\",0,1))*(IF($P38=\"Contract\",0,1))","v":0},{"$f":"IF($C38=Post!$B$40,1,0)*(IF($P38=\"\",0,1))*(IF($P38=\"Contract\",0,1))","v":0},{"$f":"IF($C38=Post!$B$41,1,0)*(IF($P38=\"\",0,1))*(IF($P38=\"Contract\",0,1))","v":0},{"$f":"IF($C38=Post!$B$42,1,0)*(IF($P38=\"\",0,1))*(IF($P38=\"Contract\",0,1))","v":0},{"$f":"IF($C38=Post!$B$43,1,0)*(IF($P38=\"\",0,1))*(IF($P38=\"Contract\",0,1))","v":0},{"$f":"IF($C38=Post!$B$44,1,0)*(IF($P38=\"\",0,1))*(IF($P38=\"Contract\",0,1))","v":0},{"$f":"IF($C38=Post!$B$45,1,0)*(IF($P38=\"\",0,1))*(IF($P38=\"Contract\",0,1))","v":0},{"$f":"IF($C38=Post!$B$46,1,0)*(IF($P38=\"\",0,1))*(IF($P38=\"Contract\",0,1))","v":0},{"$f":"IF($C38=Post!$B$47,1,0)*(IF($P38=\"\",0,1))*(IF($P38=\"Contract\",0,1))","v":0},{"$f":"IF(C38=Post!B$48,1,0)*(IF(P38=\"\",0,1))*(IF($P38=\"Contract\",0,1))","v":0},{"$f":"IF(C38=Post!B$49,1,0)*(IF(P38=\"\",0,1))*(IF($P38=\"Contract\",0,1))","v":0},{"$f":"IF(C38=Post!B$50,1,0)*(IF(P38=\"\",0,1))*(IF($P38=\"Contract\",0,1))","v":0},0,0,0,0,0,0,0,0,0,0,0,0,0,0,0,0,0,0,0,0,0,0,0,0,0,0,0,0,0,0,0,0,0,0,0,0,0,0,0,0,0,0,0,0,0,0]
["",{"$f":"IF(C39=\"\",\"\",Database!H$5)","v":""},null,null,null,null,null,null,null,null,null,null,null,null,null,null,"",null,null,0,0,0,0,0,"",0,0,0,0,0,0,0,0,0,0,"",{"$f":"IF($C39=Post!$B$11,1,0)*(IF($P39=\"\",0,1))*(IF($P39=\"Contract\",0,1))","v":0},{"$f":"IF($C39=Post!$B$12,1,0)*(IF($P39=\"\",0,1))*(IF($P39=\"Contract\",0,1))","v":0},{"$f":"IF($C39=Post!$B$13,1,0)*(IF($P39=\"\",0,1))*(IF($P39=\"Contract\",0,1))","v":0},{"$f":"IF($C39=Post!$B$14,1,0)*(IF($P39=\"\",0,1))*(IF($P39=\"Contract\",0,1))","v":0},{"$f":"IF($C39=Post!$B$15,1,0)*(IF($P39=\"\",0,1))*(IF($P39=\"Contract\",0,1))","v":0},{"$f":"IF($C39=Post!$B$16,1,0)*(IF($P39=\"\",0,1))*(IF($P39=\"Contract\",0,1))","v":0},{"$f":"IF($C39=Post!$B$17,1,0)*(IF($P39=\"\",0,1))*(IF($P39=\"Contract\",0,1))","v":0},{"$f":"IF($C39=Post!$B$18,1,0)*(IF($P39=\"\",0,1))*(IF($P39=\"Contract\",0,1))","v":0},{"$f":"IF($C39=Post!$B$19,1,0)*(IF($P39=\"\",0,1))*(IF($P39=\"Contract\",0,1))","v":0},{"$f":"IF($C39=Post!$B$20,1,0)*(IF($P39=\"\",0,1))*(IF($P39=\"Contract\",0,1))","v":0},{"$f":"IF($C39=Post!$B$21,1,0)*(IF($P39=\"\",0,1))*(IF($P39=\"Contract\",0,1))","v":0},{"$f":"IF($C39=Post!$B$2,1,0)*(IF($P39=\"\",0,1))*(IF($P39=\"Contract\",0,1))","v":0},{"$f":"IF($C39=Post!$B$23,1,0)*(IF($P39=\"\",0,1))*(IF($P39=\"Contract\",0,1))","v":0},{"$f":"IF($C39=Post!$B$24,1,0)*(IF($P39=\"\",0,1))*(IF($P39=\"Contract\",0,1))","v":0},{"$f":"IF($C39=Post!$B$25,1,0)*(IF($P39=\"\",0,1))*(IF($P39=\"Contract\",0,1))","v":0},{"$f":"IF($C39=Post!$B$26,1,0)*(IF($P39=\"\",0,1))*(IF($P39=\"Contract\",0,1))","v":0},{"$f":"IF($C39=Post!$B$27,1,0)*(IF($P39=\"\",0,1))*(IF($P39=\"Contract\",0,1))","v":0},{"$f":"IF($C39=Post!$B$28,1,0)*(IF($P39=\"\",0,1))*(IF($P39=\"Contract\",0,1))","v":0},{"$f":"IF($C39=Post!$B$29,1,0)*(IF($P39=\"\",0,1))*(IF($P39=\"Contract\",0,1))","v":0},{"$f":"IF($C39=Post!$B$30,1,0)*(IF($P39=\"\",0,1))*(IF($P39=\"Contract\",0,1))","v":0},{"$f":"IF($C39=Post!$B$31,1,0)*(IF($P39=\"\",0,1))*(IF($P39=\"Contract\",0,1))","v":0},{"$f":"IF($C39=Post!$B$32,1,0)*(IF($P39=\"\",0,1))*(IF($P39=\"Contract\",0,1))","v":0},{"$f":"IF($C39=Post!$B$33,1,0)*(IF($P39=\"\",0,1))*(IF($P39=\"Contract\",0,1))","v":0},{"$f":"IF($C39=Post!$B$34,1,0)*(IF($P39=\"\",0,1))*(IF($P39=\"Contract\",0,1))","v":0},{"$f":"IF($C39=Post!$B$35,1,0)*(IF($P39=\"\",0,1))*(IF($P39=\"Contract\",0,1))","v":0},{"$f":"IF($C39=Post!$B$36,1,0)*(IF($P39=\"\",0,1))*(IF($P39=\"Contract\",0,1))","v":0},{"$f":"IF($C39=Post!$B$37,1,0)*(IF($P39=\"\",0,1))*(IF($P39=\"Contract\",0,1))","v":0},{"$f":"IF($C39=Post!$B$38,1,0)*(IF($P39=\"\",0,1))*(IF($P39=\"Contract\",0,1))","v":0},{"$f":"IF($C39=Post!$B$39,1,0)*(IF($P39=\"\",0,1))*(IF($P39=\"Contract\",0,1))","v":0},{"$f":"IF($C39=Post!$B$40,1,0)*(IF($P39=\"\",0,1))*(IF($P39=\"Contract\",0,1))","v":0},{"$f":"IF($C39=Post!$B$41,1,0)*(IF($P39=\"\",0,1))*(IF($P39=\"Contract\",0,1))","v":0},{"$f":"IF($C39=Post!$B$42,1,0)*(IF($P39=\"\",0,1))*(IF($P39=\"Contract\",0,1))","v":0},{"$f":"IF($C39=Post!$B$43,1,0)*(IF($P39=\"\",0,1))*(IF($P39=\"Contract\",0,1))","v":0},{"$f":"IF($C39=Post!$B$44,1,0)*(IF($P39=\"\",0,1))*(IF($P39=\"Contract\",0,1))","v":0},{"$f":"IF($C39=Post!$B$45,1,0)*(IF($P39=\"\",0,1))*(IF($P39=\"Contract\",0,1))","v":0},{"$f":"IF($C39=Post!$B$46,1,0)*(IF($P39=\"\",0,1))*(IF($P39=\"Contract\",0,1))","v":0},{"$f":"IF($C39=Post!$B$47,1,0)*(IF($P39=\"\",0,1))*(IF($P39=\"Contract\",0,1))","v":0},{"$f":"IF(C39=Post!B$48,1,0)*(IF(P39=\"\",0,1))*(IF($P39=\"Contract\",0,1))","v":0},{"$f":"IF(C39=Post!B$49,1,0)*(IF(P39=\"\",0,1))*(IF($P39=\"Contract\",0,1))","v":0},{"$f":"IF(C39=Post!B$50,1,0)*(IF(P39=\"\",0,1))*(IF($P39=\"Contract\",0,1))","v":0},0,0,0,0,0,0,0,0,0,0,0,0,0,0,0,0,0,0,0,0,0,0,0,0,0,0,0,0,0,0,0,0,0,0,0,0,0,0,0,0,0,0,0,0,0,0]
["",{"$f":"IF(C40=\"\",\"\",Database!H$5)","v":""},null,null,null,null,null,null,null,null,null,null,null,null,null,null,"",null,null,0,0,0,0,0,"",0,0,0,0,0,0,0,0,0,0,"",{"$f":"IF($C40=Post!$B$11,1,0)*(IF($P40=\"\",0,1))*(IF($P40=\"Contract\",0,1))","v":0},{"$f":"IF($C40=Post!$B$12,1,0)*(IF($P40=\"\",0,1))*(IF($P40=\"Contract\",0,1))","v":0},{"$f":"IF($C40=Post!$B$13,1,0)*(IF($P40=\"\",0,1))*(IF($P40=\"Contract\",0,1))","v":0},{"$f":"IF($C40=Post!$B$14,1,0)*(IF($P40=\"\",0,1))*(IF($P40=\"Contract\",0,1))","v":0},{"$f":"IF($C40=Post!$B$15,1,0)*(IF($P40=\"\",0,1))*(IF($P40=\"Contract\",0,1))","v":0},{"$f":"IF($C40=Post!$B$16,1,0)*(IF($P40=\"\",0,1))*(IF($P40=\"Contract\",0,1))","v":0},{"$f":"IF($C40=Post!$B$17,1,0)*(IF($P40=\"\",0,1))*(IF($P40=\"Contract\",0,1))","v":0},{"$f":"IF($C40=Post!$B$18,1,0)*(IF($P40=\"\",0,1))*(IF($P40=\"Contract\",0,1))","v":0},{"$f":"IF($C40=Post!$B$19,1,0)*(IF($P40=\"\",0,1))*(IF($P40=\"Contract\",0,1))","v":0},{"$f":"IF($C40=Post!$B$20,1,0)*(IF($P40=\"\",0,1))*(IF($P40=\"Contract\",0,1))","v":0},{"$f":"IF($C40=Post!$B$21,1,0)*(IF($P40=\"\",0,1))*(IF($P40=\"Contract\",0,1))","v":0},{"$f":"IF($C40=Post!$B$2,1,0)*(IF($P40=\"\",0,1))*(IF($P40=\"Contract\",0,1))","v":0},{"$f":"IF($C40=Post!$B$23,1,0)*(IF($P40=\"\",0,1))*(IF($P40=\"Contract\",0,1))","v":0},{"$f":"IF($C40=Post!$B$24,1,0)*(IF($P40=\"\",0,1))*(IF($P40=\"Contract\",0,1))","v":0},{"$f":"IF($C40=Post!$B$25,1,0)*(IF($P40=\"\",0,1))*(IF($P40=\"Contract\",0,1))","v":0},{"$f":"IF($C40=Post!$B$26,1,0)*(IF($P40=\"\",0,1))*(IF($P40=\"Contract\",0,1))","v":0},{"$f":"IF($C40=Post!$B$27,1,0)*(IF($P40=\"\",0,1))*(IF($P40=\"Contract\",0,1))","v":0},{"$f":"IF($C40=Post!$B$28,1,0)*(IF($P40=\"\",0,1))*(IF($P40=\"Contract\",0,1))","v":0},{"$f":"IF($C40=Post!$B$29,1,0)*(IF($P40=\"\",0,1))*(IF($P40=\"Contract\",0,1))","v":0},{"$f":"IF($C40=Post!$B$30,1,0)*(IF($P40=\"\",0,1))*(IF($P40=\"Contract\",0,1))","v":0},{"$f":"IF($C40=Post!$B$31,1,0)*(IF($P40=\"\",0,1))*(IF($P40=\"Contract\",0,1))","v":0},{"$f":"IF($C40=Post!$B$32,1,0)*(IF($P40=\"\",0,1))*(IF($P40=\"Contract\",0,1))","v":0},{"$f":"IF($C40=Post!$B$33,1,0)*(IF($P40=\"\",0,1))*(IF($P40=\"Contract\",0,1))","v":0},{"$f":"IF($C40=Post!$B$34,1,0)*(IF($P40=\"\",0,1))*(IF($P40=\"Contract\",0,1))","v":0},{"$f":"IF($C40=Post!$B$35,1,0)*(IF($P40=\"\",0,1))*(IF($P40=\"Contract\",0,1))","v":0},{"$f":"IF($C40=Post!$B$36,1,0)*(IF($P40=\"\",0,1))*(IF($P40=\"Contract\",0,1))","v":0},{"$f":"IF($C40=Post!$B$37,1,0)*(IF($P40=\"\",0,1))*(IF($P40=\"Contract\",0,1))","v":0},{"$f":"IF($C40=Post!$B$38,1,0)*(IF($P40=\"\",0,1))*(IF($P40=\"Contract\",0,1))","v":0},{"$f":"IF($C40=Post!$B$39,1,0)*(IF($P40=\"\",0,1))*(IF($P40=\"Contract\",0,1))","v":0},{"$f":"IF($C40=Post!$B$40,1,0)*(IF($P40=\"\",0,1))*(IF($P40=\"Contract\",0,1))","v":0},{"$f":"IF($C40=Post!$B$41,1,0)*(IF($P40=\"\",0,1))*(IF($P40=\"Contract\",0,1))","v":0},{"$f":"IF($C40=Post!$B$42,1,0)*(IF($P40=\"\",0,1))*(IF($P40=\"Contract\",0,1))","v":0},{"$f":"IF($C40=Post!$B$43,1,0)*(IF($P40=\"\",0,1))*(IF($P40=\"Contract\",0,1))","v":0},{"$f":"IF($C40=Post!$B$44,1,0)*(IF($P40=\"\",0,1))*(IF($P40=\"Contract\",0,1))","v":0},{"$f":"IF($C40=Post!$B$45,1,0)*(IF($P40=\"\",0,1))*(IF($P40=\"Contract\",0,1))","v":0},{"$f":"IF($C40=Post!$B$46,1,0)*(IF($P40=\"\",0,1))*(IF($P40=\"Contract\",0,1))","v":0},{"$f":"IF($C40=Post!$B$47,1,0)*(IF($P40=\"\",0,1))*(IF($P40=\"Contract\",0,1))","v":0},{"$f":"IF(C40=Post!B$48,1,0)*(IF(P40=\"\",0,1))*(IF($P40=\"Contract\",0,1))","v":0},{"$f":"IF(C40=Post!B$49,1,0)*(IF(P40=\"\",0,1))*(IF($P40=\"Contract\",0,1))","v":0},{"$f":"IF(C40=Post!B$50,1,0)*(IF(P40=\"\",0,1))*(IF($P40=\"Contract\",0,1))","v":0},0,0,0,0,0,0,0,0,0,0,0,0,0,0,0,0,0,0,0,0,0,0,0,0,0,0,0,0,0,0,0,0,0,0,0,0,0,0,0,0,0,0,0,0,0,0]
["",{"$f":"IF(C41=\"\",\"\",Database!H$5)","v":""},null,null,null,null,null,null,null,null,null,null,null,null,null,null,"",null,null,0,0,0,0,0,"",0,0,0,0,0,0,0,0,0,0,"",{"$f":"IF($C41=Post!$B$11,1,0)*(IF($P41=\"\",0,1))*(IF($P41=\"Contract\",0,1))","v":0},{"$f":"IF($C41=Post!$B$12,1,0)*(IF($P41=\"\",0,1))*(IF($P41=\"Contract\",0,1))","v":0},{"$f":"IF($C41=Post!$B$13,1,0)*(IF($P41=\"\",0,1))*(IF($P41=\"Contract\",0,1))","v":0},{"$f":"IF($C41=Post!$B$14,1,0)*(IF($P41=\"\",0,1))*(IF($P41=\"Contract\",0,1))","v":0},{"$f":"IF($C41=Post!$B$15,1,0)*(IF($P41=\"\",0,1))*(IF($P41=\"Contract\",0,1))","v":0},{"$f":"IF($C41=Post!$B$16,1,0)*(IF($P41=\"\",0,1))*(IF($P41=\"Contract\",0,1))","v":0},{"$f":"IF($C41=Post!$B$17,1,0)*(IF($P41=\"\",0,1))*(IF($P41=\"Contract\",0,1))","v":0},{"$f":"IF($C41=Post!$B$18,1,0)*(IF($P41=\"\",0,1))*(IF($P41=\"Contract\",0,1))","v":0},{"$f":"IF($C41=Post!$B$19,1,0)*(IF($P41=\"\",0,1))*(IF($P41=\"Contract\",0,1))","v":0},{"$f":"IF($C41=Post!$B$20,1,0)*(IF($P41=\"\",0,1))*(IF($P41=\"Contract\",0,1))","v":0},{"$f":"IF($C41=Post!$B$21,1,0)*(IF($P41=\"\",0,1))*(IF($P41=\"Contract\",0,1))","v":0},{"$f":"IF($C41=Post!$B$2,1,0)*(IF($P41=\"\",0,1))*(IF($P41=\"Contract\",0,1))","v":0},{"$f":"IF($C41=Post!$B$23,1,0)*(IF($P41=\"\",0,1))*(IF($P41=\"Contract\",0,1))","v":0},{"$f":"IF($C41=Post!$B$24,1,0)*(IF($P41=\"\",0,1))*(IF($P41=\"Contract\",0,1))","v":0},{"$f":"IF($C41=Post!$B$25,1,0)*(IF($P41=\"\",0,1))*(IF($P41=\"Contract\",0,1))","v":0},{"$f":"IF($C41=Post!$B$26,1,0)*(IF($P41=\"\",0,1))*(IF($P41=\"Contract\",0,1))","v":0},{"$f":"IF($C41=Post!$B$27,1,0)*(IF($P41=\"\",0,1))*(IF($P41=\"Contract\",0,1))","v":0},{"$f":"IF($C41=Post!$B$28,1,0)*(IF($P41=\"\",0,1))*(IF($P41=\"Contract\",0,1))","v":0},{"$f":"IF($C41=Post!$B$29,1,0)*(IF($P41=\"\",0,1))*(IF($P41=\"Contract\",0,1))","v":0},{"$f":"IF($C41=Post!$B$30,1,0)*(IF($P41=\"\",0,1))*(IF($P41=\"Contract\",0,1))","v":0},{"$f":"IF($C41=Post!$B$31,1,0)*(IF($P41=\"\",0,1))*(IF($P41=\"Contract\",0,1))","v":0},{"$f":"IF($C41=Post!$B$32,1,0)*(IF($P41=\"\",0,1))*(IF($P41=\"Contract\",0,1))","v":0},{"$f":"IF($C41=Post!$B$33,1,0)*(IF($P41=\"\",0,1))*(IF($P41=\"Contract\",0,1))","v":0},{"$f":"IF($C41=Post!$B$34,1,0)*(IF($P41=\"\",0,1))*(IF($P41=\"Contract\",0,1))","v":0},{"$f":"IF($C41=Post!$B$35,1,0)*(IF($P41=\"\",0,1))*(IF($P41=\"Contract\",0,1))","v":0},{"$f":"IF($C41=Post!$B$36,1,0)*(IF($P41=\"\",0,1))*(IF($P41=\"Contract\",0,1))","v":0},{"$f":"IF($C41=Post!$B$37,1,0)*(IF($P41=\"\",0,1))*(IF($P41=\"Contract\",0,1))","v":0},{"$f":"IF($C41=Post!$B$38,1,0)*(IF($P41=\"\",0,1))*(IF($P41=\"Contract\",0,1))","v":0},{"$f":"IF($C41=Post!$B$39,1,0)*(IF($P41=\"\",0,1))*(IF($P41=\"Contract\",0,1))","v":0},{"$f":"IF($C41=Post!$B$40,1,0)*(IF($P41=\"\",0,1))*(IF($P41=\"Contract\",0,1))","v":0},{"$f":"IF($C41=Post!$B$41,1,0)*(IF($P41=\"\",0,1))*(IF($P41=\"Contract\",0,1))","v":0},{"$f":"IF($C41=Post!$B$42,1,0)*(IF($P41=\"\",0,1))*(IF($P41=\"Contract\",0,1))","v":0},{"$f":"IF($C41=Post!$B$43,1,0)*(IF($P41=\"\",0,1))*(IF($P41=\"Contract\",0,1))","v":0},{"$f":"IF($C41=Post!$B$44,1,0)*(IF($P41=\"\",0,1))*(IF($P41=\"Contract\",0,1))","v":0},{"$f":"IF($C41=Post!$B$45,1,0)*(IF($P41=\"\",0,1))*(IF($P41=\"Contract\",0,1))","v":0},{"$f":"IF($C41=Post!$B$46,1,0)*(IF($P41=\"\",0,1))*(IF($P41=\"Contract\",0,1))","v":0},{"$f":"IF($C41=Post!$B$47,1,0)*(IF($P41=\"\",0,1))*(IF($P41=\"Contract\",0,1))","v":0},{"$f":"IF(C41=Post!B$48,1,0)*(IF(P41=\"\",0,1))*(IF($P41=\"Contract\",0,1))","v":0},{"$f":"IF(C41=Post!B$49,1,0)*(IF(P41=\"\",0,1))*(IF($P41=\"Contract\",0,1))","v":0},{"$f":"IF(C41=Post!B$50,1,0)*(IF(P41=\"\",0,1))*(IF($P41=\"Contract\",0,1))","v":0},0,0,0,0,0,0,0,0,0,0,0,0,0,0,0,0,0,0,0,0,0,0,0,0,0,0,0,0,0,0,0,0,0,0,0,0,0,0,0,0,0,0,0,0,0,0]
["",{"$f":"IF(C42=\"\",\"\",Database!H$5)","v":""},null,null,null,null,null,null,null,null,null,null,null,null,null,null,"",null,null,0,0,0,0,0,"",0,0,0,0,0,0,0,0,0,0,"",{"$f":"IF($C42=Post!$B$11,1,0)*(IF($P42=\"\",0,1))*(IF($P42=\"Contract\",0,1))","v":0},{"$f":"IF($C42=Post!$B$12,1,0)*(IF($P42=\"\",0,1))*(IF($P42=\"Contract\",0,1))","v":0},{"$f":"IF($C42=Post!$B$13,1,0)*(IF($P42=\"\",0,1))*(IF($P42=\"Contract\",0,1))","v":0},{"$f":"IF($C42=Post!$B$14,1,0)*(IF($P42=\"\",0,1))*(IF($P42=\"Contract\",0,1))","v":0},{"$f":"IF($C42=Post!$B$15,1,0)*(IF($P42=\"\",0,1))*(IF($P42=\"Contract\",0,1))","v":0},{"$f":"IF($C42=Post!$B$16,1,0)*(IF($P42=\"\",0,1))*(IF($P42=\"Contract\",0,1))","v":0},{"$f":"IF($C42=Post!$B$17,1,0)*(IF($P42=\"\",0,1))*(IF($P42=\"Contract\",0,1))","v":0},{"$f":"IF($C42=Post!$B$18,1,0)*(IF($P42=\"\",0,1))*(IF($P42=\"Contract\",0,1))","v":0},{"$f":"IF($C42=Post!$B$19,1,0)*(IF($P42=\"\",0,1))*(IF($P42=\"Contract\",0,1))","v":0},{"$f":"IF($C42=Post!$B$20,1,0)*(IF($P42=\"\",0,1))*(IF($P42=\"Contract\",0,1))","v":0},{"$f":"IF($C42=Post!$B$21,1,0)*(IF($P42=\"\",0,1))*(IF($P42=\"Contract\",0,1))","v":0},{"$f":"IF($C42=Post!$B$2,1,0)*(IF($P42=\"\",0,1))*(IF($P42=\"Contract\",0,1))","v":0},{"$f":"IF($C42=Post!$B$23,1,0)*(IF($P42=\"\",0,1))*(IF($P42=\"Contract\",0,1))","v":0},{"$f":"IF($C42=Post!$B$24,1,0)*(IF($P42=\"\",0,1))*(IF($P42=\"Contract\",0,1))","v":0},{"$f":"IF($C42=Post!$B$25,1,0)*(IF($P42=\"\",0,1))*(IF($P42=\"Contract\",0,1))","v":0},{"$f":"IF($C42=Post!$B$26,1,0)*(IF($P42=\"\",0,1))*(IF($P42=\"Contract\",0,1))","v":0},{"$f":"IF($C42=Post!$B$27,1,0)*(IF($P42=\"\",0,1))*(IF($P42=\"Contract\",0,1))","v":0},{"$f":"IF($C42=Post!$B$28,1,0)*(IF($P42=\"\",0,1))*(IF($P42=\"Contract\",0,1))","v":0},{"$f":"IF($C42=Post!$B$29,1,0)*(IF($P42=\"\",0,1))*(IF($P42=\"Contract\",0,1))","v":0},{"$f":"IF($C42=Post!$B$30,1,0)*(IF($P42=\"\",0,1))*(IF($P42=\"Contract\",0,1))","v":0},{"$f":"IF($C42=Post!$B$31,1,0)*(IF($P42=\"\",0,1))*(IF($P42=\"Contract\",0,1))","v":0},{"$f":"IF($C42=Post!$B$32,1,0)*(IF($P42=\"\",0,1))*(IF($P42=\"Contract\",0,1))","v":0},{"$f":"IF($C42=Post!$B$33,1,0)*(IF($P42=\"\",0,1))*(IF($P42=\"Contract\",0,1))","v":0},{"$f":"IF($C42=Post!$B$34,1,0)*(IF($P42=\"\",0,1))*(IF($P42=\"Contract\",0,1))","v":0},{"$f":"IF($C42=Post!$B$35,1,0)*(IF($P42=\"\",0,1))*(IF($P42=\"Contract\",0,1))","v":0},{"$f":"IF($C42=Post!$B$36,1,0)*(IF($P42=\"\",0,1))*(IF($P42=\"Contract\",0,1))","v":0},{"$f":"IF($C42=Post!$B$37,1,0)*(IF($P42=\"\",0,1))*(IF($P42=\"Contract\",0,1))","v":0},{"$f":"IF($C42=Post!$B$38,1,0)*(IF($P42=\"\",0,1))*(IF($P42=\"Contract\",0,1))","v":0},{"$f":"IF($C42=Post!$B$39,1,0)*(IF($P42=\"\",0,1))*(IF($P42=\"Contract\",0,1))","v":0},{"$f":"IF($C42=Post!$B$40,1,0)*(IF($P42=\"\",0,1))*(IF($P42=\"Contract\",0,1))","v":0},{"$f":"IF($C42=Post!$B$41,1,0)*(IF($P42=\"\",0,1))*(IF($P42=\"Contract\",0,1))","v":0},{"$f":"IF($C42=Post!$B$42,1,0)*(IF($P42=\"\",0,1))*(IF($P42=\"Contract\",0,1))","v":0},{"$f":"IF($C42=Post!$B$43,1,0)*(IF($P42=\"\",0,1))*(IF($P42=\"Contract\",0,1))","v":0},{"$f":"IF($C42=Post!$B$44,1,0)*(IF($P42=\"\",0,1))*(IF($P42=\"Contract\",0,1))","v":0},{"$f":"IF($C42=Post!$B$45,1,0)*(IF($P42=\"\",0,1))*(IF($P42=\"Contract\",0,1))","v":0},{"$f":"IF($C42=Post!$B$46,1,0)*(IF($P42=\"\",0,1))*(IF($P42=\"Contract\",0,1))","v":0},{"$f":"IF($C42=Post!$B$47,1,0)*(IF($P42=\"\",0,1))*(IF($P42=\"Contract\",0,1))","v":0},{"$f":"IF(C42=Post!B$48,1,0)*(IF(P42=\"\",0,1))*(IF($P42=\"Contract\",0,1))","v":0},{"$f":"IF(C42=Post!B$49,1,0)*(IF(P42=\"\",0,1))*(IF($P42=\"Contract\",0,1))","v":0},{"$f":"IF(C42=Post!B$50,1,0)*(IF(P42=\"\",0,1))*(IF($P42=\"Contract\",0,1))","v":0},0,0,0,0,0,0,0,0,0,0,0,0,0,0,0,0,0,0,0,0,0,0,0,0,0,0,0,0,0,0,0,0,0,0,0,0,0,0,0,0,0,0,0,0,0,0]
["",{"$f":"IF(C43=\"\",\"\",Database!H$5)","v":""},null,null,null,null,null,null,null,null,null,null,null,null,null,null,"",null,null,0,0,0,0,0,"",0,0,0,0,0,0,0,0,0,0,"",{"$f":"IF($C43=Post!$B$11,1,0)*(IF($P43=\"\",0,1))*(IF($P43=\"Contract\",0,1))","v":0},{"$f":"IF($C43=Post!$B$12,1,0)*(IF($P43=\"\",0,1))*(IF($P43=\"Contract\",0,1))","v":0},{"$f":"IF($C43=Post!$B$13,1,0)*(IF($P43=\"\",0,1))*(IF($P43=\"Contract\",0,1))","v":0},{"$f":"IF($C43=Post!$B$14,1,0)*(IF($P43=\"\",0,1))*(IF($P43=\"Contract\",0,1))","v":0},{"$f":"IF($C43=Post!$B$15,1,0)*(IF($P43=\"\",0,1))*(IF($P43=\"Contract\",0,1))","v":0},{"$f":"IF($C43=Post!$B$16,1,0)*(IF($P43=\"\",0,1))*(IF($P43=\"Contract\",0,1))","v":0},{"$f":"IF($C43=Post!$B$17,1,0)*(IF($P43=\"\",0,1))*(IF($P43=\"Contract\",0,1))","v":0},{"$f":"IF($C43=Post!$B$18,1,0)*(IF($P43=\"\",0,1))*(IF($P43=\"Contract\",0,1))","v":0},{"$f":"IF($C43=Post!$B$19,1,0)*(IF($P43=\"\",0,1))*(IF($P43=\"Contract\",0,1))","v":0},{"$f":"IF($C43=Post!$B$20,1,0)*(IF($P43=\"\",0,1))*(IF($P43=\"Contract\",0,1))","v":0},{"$f":"IF($C43=Post!$B$21,1,0)*(IF($P43=\"\",0,1))*(IF($P43=\"Contract\",0,1))","v":0},{"$f":"IF($C43=Post!$B$2,1,0)*(IF($P43=\"\",0,1))*(IF($P43=\"Contract\",0,1))","v":0},{"$f":"IF($C43=Post!$B$23,1,0)*(IF($P43=\"\",0,1))*(IF($P43=\"Contract\",0,1))","v":0},{"$f":"IF($C43=Post!$B$24,1,0)*(IF($P43=\"\",0,1))*(IF($P43=\"Contract\",0,1))","v":0},{"$f":"IF($C43=Post!$B$25,1,0)*(IF($P43=\"\",0,1))*(IF($P43=\"Contract\",0,1))","v":0},{"$f":"IF($C43=Post!$B$26,1,0)*(IF($P43=\"\",0,1))*(IF($P43=\"Contract\",0,1))","v":0},{"$f":"IF($C43=Post!$B$27,1,0)*(IF($P43=\"\",0,1))*(IF($P43=\"Contract\",0,1))","v":0},{"$f":"IF($C43=Post!$B$28,1,0)*(IF($P43=\"\",0,1))*(IF($P43=\"Contract\",0,1))","v":0},{"$f":"IF($C43=Post!$B$29,1,0)*(IF($P43=\"\",0,1))*(IF($P43=\"Contract\",0,1))","v":0},{"$f":"IF($C43=Post!$B$30,1,0)*(IF($P43=\"\",0,1))*(IF($P43=\"Contract\",0,1))","v":0},{"$f":"IF($C43=Post!$B$31,1,0)*(IF($P43=\"\",0,1))*(IF($P43=\"Contract\",0,1))","v":0},{"$f":"IF($C43=Post!$B$32,1,0)*(IF($P43=\"\",0,1))*(IF($P43=\"Contract\",0,1))","v":0},{"$f":"IF($C43=Post!$B$33,1,0)*(IF($P43=\"\",0,1))*(IF($P43=\"Contract\",0,1))","v":0},{"$f":"IF($C43=Post!$B$34,1,0)*(IF($P43=\"\",0,1))*(IF($P43=\"Contract\",0,1))","v":0},{"$f":"IF($C43=Post!$B$35,1,0)*(IF($P43=\"\",0,1))*(IF($P43=\"Contract\",0,1))","v":0},{"$f":"IF($C43=Post!$B$36,1,0)*(IF($P43=\"\",0,1))*(IF($P43=\"Contract\",0,1))","v":0},{"$f":"IF($C43=Post!$B$37,1,0)*(IF($P43=\"\",0,1))*(IF($P43=\"Contract\",0,1))","v":0},{"$f":"IF($C43=Post!$B$38,1,0)*(IF($P43=\"\",0,1))*(IF($P43=\"Contract\",0,1))","v":0},{"$f":"IF($C43=Post!$B$39,1,0)*(IF($P43=\"\",0,1))*(IF($P43=\"Contract\",0,1))","v":0},{"$f":"IF($C43=Post!$B$40,1,0)*(IF($P43=\"\",0,1))*(IF($P43=\"Contract\",0,1))","v":0},{"$f":"IF($C43=Post!$B$41,1,0)*(IF($P43=\"\",0,1))*(IF($P43=\"Contract\",0,1))","v":0},{"$f":"IF($C43=Post!$B$42,1,0)*(IF($P43=\"\",0,1))*(IF($P43=\"Contract\",0,1))","v":0},{"$f":"IF($C43=Post!$B$43,1,0)*(IF($P43=\"\",0,1))*(IF($P43=\"Contract\",0,1))","v":0},{"$f":"IF($C43=Post!$B$44,1,0)*(IF($P43=\"\",0,1))*(IF($P43=\"Contract\",0,1))","v":0},{"$f":"IF($C43=Post!$B$45,1,0)*(IF($P43=\"\",0,1))*(IF($P43=\"Contract\",0,1))","v":0},{"$f":"IF($C43=Post!$B$46,1,0)*(IF($P43=\"\",0,1))*(IF($P43=\"Contract\",0,1))","v":0},{"$f":"IF($C43=Post!$B$47,1,0)*(IF($P43=\"\",0,1))*(IF($P43=\"Contract\",0,1))","v":0},{"$f":"IF(C43=Post!B$48,1,0)*(IF(P43=\"\",0,1))*(IF($P43=\"Contract\",0,1))","v":0},{"$f":"IF(C43=Post!B$49,1,0)*(IF(P43=\"\",0,1))*(IF($P43=\"Contract\",0,1))","v":0},{"$f":"IF(C43=Post!B$50,1,0)*(IF(P43=\"\",0,1))*(IF($P43=\"Contract\",0,1))","v":0},0,0,0,0,0,0,0,0,0,0,0,0,0,0,0,0,0,0,0,0,0,0,0,0,0,0,0,0,0,0,0,0,0,0,0,0,0,0,0,0,0,0,0,0,0,0]
["",{"$f":"IF(C44=\"\",\"\",Database!H$5)","v":""},null,null,null,null,null,null,null,null,null,null,null,null,null,null,"",null,null,0,0,0,0,0,"",0,0,0,0,0,0,0,0,0,0,"",{"$f":"IF($C44=Post!$B$11,1,0)*(IF($P44=\"\",0,1))*(IF($P44=\"Contract\",0,1))","v":0},{"$f":"IF($C44=Post!$B$12,1,0)*(IF($P44=\"\",0,1))*(IF($P44=\"Contract\",0,1))","v":0},{"$f":"IF($C44=Post!$B$13,1,0)*(IF($P44=\"\",0,1))*(IF($P44=\"Contract\",0,1))","v":0},{"$f":"IF($C44=Post!$B$14,1,0)*(IF($P44=\"\",0,1))*(IF($P44=\"Contract\",0,1))","v":0},{"$f":"IF($C44=Post!$B$15,1,0)*(IF($P44=\"\",0,1))*(IF($P44=\"Contract\",0,1))","v":0},{"$f":"IF($C44=Post!$B$16,1,0)*(IF($P44=\"\",0,1))*(IF($P44=\"Contract\",0,1))","v":0},{"$f":"IF($C44=Post!$B$17,1,0)*(IF($P44=\"\",0,1))*(IF($P44=\"Contract\",0,1))","v":0},{"$f":"IF($C44=Post!$B$18,1,0)*(IF($P44=\"\",0,1))*(IF($P44=\"Contract\",0,1))","v":0},{"$f":"IF($C44=Post!$B$19,1,0)*(IF($P44=\"\",0,1))*(IF($P44=\"Contract\",0,1))","v":0},{"$f":"IF($C44=Post!$B$20,1,0)*(IF($P44=\"\",0,1))*(IF($P44=\"Contract\",0,1))","v":0},{"$f":"IF($C44=Post!$B$21,1,0)*(IF($P44=\"\",0,1))*(IF($P44=\"Contract\",0,1))","v":0},{"$f":"IF($C44=Post!$B$2,1,0)*(IF($P44=\"\",0,1))*(IF($P44=\"Contract\",0,1))","v":0},{"$f":"IF($C44=Post!$B$23,1,0)*(IF($P44=\"\",0,1))*(IF($P44=\"Contract\",0,1))","v":0},{"$f":"IF($C44=Post!$B$24,1,0)*(IF($P44=\"\",0,1))*(IF($P44=\"Contract\",0,1))","v":0},{"$f":"IF($C44=Post!$B$25,1,0)*(IF($P44=\"\",0,1))*(IF($P44=\"Contract\",0,1))","v":0},{"$f":"IF($C44=Post!$B$26,1,0)*(IF($P44=\"\",0,1))*(IF($P44=\"Contract\",0,1))","v":0},{"$f":"IF($C44=Post!$B$27,1,0)*(IF($P44=\"\",0,1))*(IF($P44=\"Contract\",0,1))","v":0},{"$f":"IF($C44=Post!$B$28,1,0)*(IF($P44=\"\",0,1))*(IF($P44=\"Contract\",0,1))","v":0},{"$f":"IF($C44=Post!$B$29,1,0)*(IF($P44=\"\",0,1))*(IF($P44=\"Contract\",0,1))","v":0},{"$f":"IF($C44=Post!$B$30,1,0)*(IF($P44=\"\",0,1))*(IF($P44=\"Contract\",0,1))","v":0},{"$f":"IF($C44=Post!$B$31,1,0)*(IF($P44=\"\",0,1))*(IF($P44=\"Contract\",0,1))","v":0},{"$f":"IF($C44=Post!$B$32,1,0)*(IF($P44=\"\",0,1))*(IF($P44=\"Contract\",0,1))","v":0},{"$f":"IF($C44=Post!$B$33,1,0)*(IF($P44=\"\",0,1))*(IF($P44=\"Contract\",0,1))","v":0},{"$f":"IF($C44=Post!$B$34,1,0)*(IF($P44=\"\",0,1))*(IF($P44=\"Contract\",0,1))","v":0},{"$f":"IF($C44=Post!$B$35,1,0)*(IF($P44=\"\",0,1))*(IF($P44=\"Contract\",0,1))","v":0},{"$f":"IF($C44=Post!$B$36,1,0)*(IF($P44=\"\",0,1))*(IF($P44=\"Contract\",0,1))","v":0},{"$f":"IF($C44=Post!$B$37,1,0)*(IF($P44=\"\",0,1))*(IF($P44=\"Contract\",0,1))","v":0},{"$f":"IF($C44=Post!$B$38,1,0)*(IF($P44=\"\",0,1))*(IF($P44=\"Contract\",0,1))","v":0},{"$f":"IF($C44=Post!$B$39,1,0)*(IF($P44=\"\",0,1))*(IF($P44=\"Contract\",0,1))","v":0},{"$f":"IF($C44=Post!$B$40,1,0)*(IF($P44=\"\",0,1))*(IF($P44=\"Contract\",0,1))","v":0},{"$f":"IF($C44=Post!$B$41,1,0)*(IF($P44=\"\",0,1))*(IF($P44=\"Contract\",0,1))","v":0},{"$f":"IF($C44=Post!$B$42,1,0)*(IF($P44=\"\",0,1))*(IF($P44=\"Contract\",0,1))","v":0},{"$f":"IF($C44=Post!$B$43,1,0)*(IF($P44=\"\",0,1))*(IF($P44=\"Contract\",0,1))","v":0},{"$f":"IF($C44=Post!$B$44,1,0)*(IF($P44=\"\",0,1))*(IF($P44=\"Contract\",0,1))","v":0},{"$f":"IF($C44=Post!$B$45,1,0)*(IF($P44=\"\",0,1))*(IF($P44=\"Contract\",0,1))","v":0},{"$f":"IF($C44=Post!$B$46,1,0)*(IF($P44=\"\",0,1))*(IF($P44=\"Contract\",0,1))","v":0},{"$f":"IF($C44=Post!$B$47,1,0)*(IF($P44=\"\",0,1))*(IF($P44=\"Contract\",0,1))","v":0},{"$f":"IF(C44=Post!B$48,1,0)*(IF(P44=\"\",0,1))*(IF($P44=\"Contract\",0,1))","v":0},{"$f":"IF(C44=Post!B$49,1,0)*(IF(P44=\"\",0,1))*(IF($P44=\"Contract\",0,1))","v":0},{"$f":"IF(C44=Post!B$50,1,0)*(IF(P44=\"\",0,1))*(IF($P44=\"Contract\",0,1))","v":0},0,0,0,0,0,0,0,0,0,0,0,0,0,0,0,0,0,0,0,0,0,0,0,0,0,0,0,0,0,0,0,0,0,0,0,0,0,0,0,0,0,0,0,0,0,0]
["",{"$f":"IF(C45=\"\",\"\",Database!H$5)","v":""},null,null,null,null,null,null,null,null,null,null,null,null,null,null,"",null,null,0,0,0,0,0,"",0,0,0,0,0,0,0,0,0,0,"",{"$f":"IF($C45=Post!$B$11,1,0)*(IF($P45=\"\",0,1))*(IF($P45=\"Contract\",0,1))","v":0},{"$f":"IF($C45=Post!$B$12,1,0)*(IF($P45=\"\",0,1))*(IF($P45=\"Contract\",0,1))","v":0},{"$f":"IF($C45=Post!$B$13,1,0)*(IF($P45=\"\",0,1))*(IF($P45=\"Contract\",0,1))","v":0},{"$f":"IF($C45=Post!$B$14,1,0)*(IF($P45=\"\",0,1))*(IF($P45=\"Contract\",0,1))","v":0},{"$f":"IF($C45=Post!$B$15,1,0)*(IF($P45=\"\",0,1))*(IF($P45=\"Contract\",0,1))","v":0},{"$f":"IF($C45=Post!$B$16,1,0)*(IF($P45=\"\",0,1))*(IF($P45=\"Contract\",0,1))","v":0},{"$f":"IF($C45=Post!$B$17,1,0)*(IF($P45=\"\",0,1))*(IF($P45=\"Contract\",0,1))","v":0},{"$f":"IF($C45=Post!$B$18,1,0)*(IF($P45=\"\",0,1))*(IF($P45=\"Contract\",0,1))","v":0},{"$f":"IF($C45=Post!$B$19,1,0)*(IF($P45=\"\",0,1))*(IF($P45=\"Contract\",0,1))","v":0},{"$f":"IF($C45=Post!$B$20,1,0)*(IF($P45=\"\",0,1))*(IF($P45=\"Contract\",0,1))","v":0},{"$f":"IF($C45=Post!$B$21,1,0)*(IF($P45=\"\",0,1))*(IF($P45=\"Contract\",0,1))","v":0},{"$f":"IF($C45=Post!$B$2,1,0)*(IF($P45=\"\",0,1))*(IF($P45=\"Contract\",0,1))","v":0},{"$f":"IF($C45=Post!$B$23,1,0)*(IF($P45=\"\",0,1))*(IF($P45=\"Contract\",0,1))","v":0},{"$f":"IF($C45=Post!$B$24,1,0)*(IF($P45=\"\",0,1))*(IF($P45=\"Contract\",0,1))","v":0},{"$f":"IF($C45=Post!$B$25,1,0)*(IF($P45=\"\",0,1))*(IF($P45=\"Contract\",0,1))","v":0},{"$f":"IF($C45=Post!$B$26,1,0)*(IF($P45=\"\",0,1))*(IF($P45=\"Contract\",0,1))","v":0},{"$f":"IF($C45=Post!$B$27,1,0)*(IF($P45=\"\",0,1))*(IF($P45=\"Contract\",0,1))","v":0},{"$f":"IF($C45=Post!$B$28,1,0)*(IF($P45=\"\",0,1))*(IF($P45=\"Contract\",0,1))","v":0},{"$f":"IF($C45=Post!$B$29,1,0)*(IF($P45=\"\",0,1))*(IF($P45=\"Contract\",0,1))","v":0},{"$f":"IF($C45=Post!$B$30,1,0)*(IF($P45=\"\",0,1))*(IF($P45=\"Contract\",0,1))","v":0},{"$f":"IF($C45=Post!$B$31,1,0)*(IF($P45=\"\",0,1))*(IF($P45=\"Contract\",0,1))","v":0},{"$f":"IF($C45=Post!$B$32,1,0)*(IF($P45=\"\",0,1))*(IF($P45=\"Contract\",0,1))","v":0},{"$f":"IF($C45=Post!$B$33,1,0)*(IF($P45=\"\",0,1))*(IF($P45=\"Contract\",0,1))","v":0},{"$f":"IF($C45=Post!$B$34,1,0)*(IF($P45=\"\",0,1))*(IF($P45=\"Contract\",0,1))","v":0},{"$f":"IF($C45=Post!$B$35,1,0)*(IF($P45=\"\",0,1))*(IF($P45=\"Contract\",0,1))","v":0},{"$f":"IF($C45=Post!$B$36,1,0)*(IF($P45=\"\",0,1))*(IF($P45=\"Contract\",0,1))","v":0},{"$f":"IF($C45=Post!$B$37,1,0)*(IF($P45=\"\",0,1))*(IF($P45=\"Contract\",0,1))","v":0},{"$f":"IF($C45=Post!$B$38,1,0)*(IF($P45=\"\",0,1))*(IF($P45=\"Contract\",0,1))","v":0},{"$f":"IF($C45=Post!$B$39,1,0)*(IF($P45=\"\",0,1))*(IF($P45=\"Contract\",0,1))","v":0},{"$f":"IF($C45=Post!$B$40,1,0)*(IF($P45=\"\",0,1))*(IF($P45=\"Contract\",0,1))","v":0},{"$f":"IF($C45=Post!$B$41,1,0)*(IF($P45=\"\",0,1))*(IF($P45=\"Contract\",0,1))","v":0},{"$f":"IF($C45=Post!$B$42,1,0)*(IF($P45=\"\",0,1))*(IF($P45=\"Contract\",0,1))","v":0},{"$f":"IF($C45=Post!$B$43,1,0)*(IF($P45=\"\",0,1))*(IF($P45=\"Contract\",0,1))","v":0},{"$f":"IF($C45=Post!$B$44,1,0)*(IF($P45=\"\",0,1))*(IF($P45=\"Contract\",0,1))","v":0},{"$f":"IF($C45=Post!$B$45,1,0)*(IF($P45=\"\",0,1))*(IF($P45=\"Contract\",0,1))","v":0},{"$f":"IF($C45=Post!$B$46,1,0)*(IF($P45=\"\",0,1))*(IF($P45=\"Contract\",0,1))","v":0},{"$f":"IF($C45=Post!$B$47,1,0)*(IF($P45=\"\",0,1))*(IF($P45=\"Contract\",0,1))","v":0},{"$f":"IF(C45=Post!B$48,1,0)*(IF(P45=\"\",0,1))*(IF($P45=\"Contract\",0,1))","v":0},{"$f":"IF(C45=Post!B$49,1,0)*(IF(P45=\"\",0,1))*(IF($P45=\"Contract\",0,1))","v":0},{"$f":"IF(C45=Post!B$50,1,0)*(IF(P45=\"\",0,1))*(IF($P45=\"Contract\",0,1))","v":0},0,0,0,0,0,0,0,0,0,0,0,0,0,0,0,0,0,0,0,0,0,0,0,0,0,0,0,0,0,0,0,0,0,0,0,0,0,0,0,0,0,0,0,0,0,0]
["",{"$f":"IF(C46=\"\",\"\",Database!H$5)","v":""},null,null,null,null,null,null,null,null,null,null,null,null,null,null,"",null,null,0,0,0,0,0,"",0,0,0,0,0,0,0,0,0,0,"",{"$f":"IF($C46=Post!$B$11,1,0)*(IF($P46=\"\",0,1))*(IF($P46=\"Contract\",0,1))","v":0},{"$f":"IF($C46=Post!$B$12,1,0)*(IF($P46=\"\",0,1))*(IF($P46=\"Contract\",0,1))","v":0},{"$f":"IF($C46=Post!$B$13,1,0)*(IF($P46=\"\",0,1))*(IF($P46=\"Contract\",0,1))","v":0},{"$f":"IF($C46=Post!$B$14,1,0)*(IF($P46=\"\",0,1))*(IF($P46=\"Contract\",0,1))","v":0},{"$f":"IF($C46=Post!$B$15,1,0)*(IF($P46=\"\",0,1))*(IF($P46=\"Contract\",0,1))","v":0},{"$f":"IF($C46=Post!$B$16,1,0)*(IF($P46=\"\",0,1))*(IF($P46=\"Contract\",0,1))","v":0},{"$f":"IF($C46=Post!$B$17,1,0)*(IF($P46=\"\",0,1))*(IF($P46=\"Contract\",0,1))","v":0},{"$f":"IF($C46=Post!$B$18,1,0)*(IF($P46=\"\",0,1))*(IF($P46=\"Contract\",0,1))","v":0},{"$f":"IF($C46=Post!$B$19,1,0)*(IF($P46=\"\",0,1))*(IF($P46=\"Contract\",0,1))","v":0},{"$f":"IF($C46=Post!$B$20,1,0)*(IF($P46=\"\",0,1))*(IF($P46=\"Contract\",0,1))","v":0},{"$f":"IF($C46=Post!$B$21,1,0)*(IF($P46=\"\",0,1))*(IF($P46=\"Contract\",0,1))","v":0},{"$f":"IF($C46=Post!$B$2,1,0)*(IF($P46=\"\",0,1))*(IF($P46=\"Contract\",0,1))","v":0},{"$f":"IF($C46=Post!$B$23,1,0)*(IF($P46=\"\",0,1))*(IF($P46=\"Contract\",0,1))","v":0},{"$f":"IF($C46=Post!$B$24,1,0)*(IF($P46=\"\",0,1))*(IF($P46=\"Contract\",0,1))","v":0},{"$f":"IF($C46=Post!$B$25,1,0)*(IF($P46=\"\",0,1))*(IF($P46=\"Contract\",0,1))","v":0},{"$f":"IF($C46=Post!$B$26,1,0)*(IF($P46=\"\",0,1))*(IF($P46=\"Contract\",0,1))","v":0},{"$f":"IF($C46=Post!$B$27,1,0)*(IF($P46=\"\",0,1))*(IF($P46=\"Contract\",0,1))","v":0},{"$f":"IF($C46=Post!$B$28,1,0)*(IF($P46=\"\",0,1))*(IF($P46=\"Contract\",0,1))","v":0},{"$f":"IF($C46=Post!$B$29,1,0)*(IF($P46=\"\",0,1))*(IF($P46=\"Contract\",0,1))","v":0},{"$f":"IF($C46=Post!$B$30,1,0)*(IF($P46=\"\",0,1))*(IF($P46=\"Contract\",0,1))","v":0},{"$f":"IF($C46=Post!$B$31,1,0)*(IF($P46=\"\",0,1))*(IF($P46=\"Contract\",0,1))","v":0},{"$f":"IF($C46=Post!$B$32,1,0)*(IF($P46=\"\",0,1))*(IF($P46=\"Contract\",0,1))","v":0},{"$f":"IF($C46=Post!$B$33,1,0)*(IF($P46=\"\",0,1))*(IF($P46=\"Contract\",0,1))","v":0},{"$f":"IF($C46=Post!$B$34,1,0)*(IF($P46=\"\",0,1))*(IF($P46=\"Contract\",0,1))","v":0},{"$f":"IF($C46=Post!$B$35,1,0)*(IF($P46=\"\",0,1))*(IF($P46=\"Contract\",0,1))","v":0},{"$f":"IF($C46=Post!$B$36,1,0)*(IF($P46=\"\",0,1))*(IF($P46=\"Contract\",0,1))","v":0},{"$f":"IF($C46=Post!$B$37,1,0)*(IF($P46=\"\",0,1))*(IF($P46=\"Contract\",0,1))","v":0},{"$f":"IF($C46=Post!$B$38,1,0)*(IF($P46=\"\",0,1))*(IF($P46=\"Contract\",0,1))","v":0},{"$f":"IF($C46=Post!$B$39,1,0)*(IF($P46=\"\",0,1))*(IF($P46=\"Contract\",0,1))","v":0},{"$f":"IF($C46=Post!$B$40,1,0)*(IF($P46=\"\",0,1))*(IF($P46=\"Contract\",0,1))","v":0},{"$f":"IF($C46=Post!$B$41,1,0)*(IF($P46=\"\",0,1))*(IF($P46=\"Contract\",0,1))","v":0},{"$f":"IF($C46=Post!$B$42,1,0)*(IF($P46=\"\",0,1))*(IF($P46=\"Contract\",0,1))","v":0},{"$f":"IF($C46=Post!$B$43,1,0)*(IF($P46=\"\",0,1))*(IF($P46=\"Contract\",0,1))","v":0},{"$f":"IF($C46=Post!$B$44,1,0)*(IF($P46=\"\",0,1))*(IF($P46=\"Contract\",0,1))","v":0},{"$f":"IF($C46=Post!$B$45,1,0)*(IF($P46=\"\",0,1))*(IF($P46=\"Contract\",0,1))","v":0},{"$f":"IF($C46=Post!$B$46,1,0)*(IF($P46=\"\",0,1))*(IF($P46=\"Contract\",0,1))","v":0},{"$f":"IF($C46=Post!$B$47,1,0)*(IF($P46=\"\",0,1))*(IF($P46=\"Contract\",0,1))","v":0},{"$f":"IF(C46=Post!B$48,1,0)*(IF(P46=\"\",0,1))*(IF($P46=\"Contract\",0,1))","v":0},{"$f":"IF(C46=Post!B$49,1,0)*(IF(P46=\"\",0,1))*(IF($P46=\"Contract\",0,1))","v":0},{"$f":"IF(C46=Post!B$50,1,0)*(IF(P46=\"\",0,1))*(IF($P46=\"Contract\",0,1))","v":0},0,0,0,0,0,0,0,0,0,0,0,0,0,0,0,0,0,0,0,0,0,0,0,0,0,0,0,0,0,0,0,0,0,0,0,0,0,0,0,0,0,0,0,0,0,0]
["",{"$f":"IF(C47=\"\",\"\",Database!H$5)","v":""},null,null,null,null,null,null,null,null,null,null,null,null,null,null,"",null,null,0,0,0,0,0,"",0,0,0,0,0,0,0,0,0,0,"",{"$f":"IF($C47=Post!$B$11,1,0)*(IF($P47=\"\",0,1))*(IF($P47=\"Contract\",0,1))","v":0},{"$f":"IF($C47=Post!$B$12,1,0)*(IF($P47=\"\",0,1))*(IF($P47=\"Contract\",0,1))","v":0},{"$f":"IF($C47=Post!$B$13,1,0)*(IF($P47=\"\",0,1))*(IF($P47=\"Contract\",0,1))","v":0},{"$f":"IF($C47=Post!$B$14,1,0)*(IF($P47=\"\",0,1))*(IF($P47=\"Contract\",0,1))","v":0},{"$f":"IF($C47=Post!$B$15,1,0)*(IF($P47=\"\",0,1))*(IF($P47=\"Contract\",0,1))","v":0},{"$f":"IF($C47=Post!$B$16,1,0)*(IF($P47=\"\",0,1))*(IF($P47=\"Contract\",0,1))","v":0},{"$f":"IF($C47=Post!$B$17,1,0)*(IF($P47=\"\",0,1))*(IF($P47=\"Contract\",0,1))","v":0},{"$f":"IF($C47=Post!$B$18,1,0)*(IF($P47=\"\",0,1))*(IF($P47=\"Contract\",0,1))","v":0},{"$f":"IF($C47=Post!$B$19,1,0)*(IF($P47=\"\",0,1))*(IF($P47=\"Contract\",0,1))","v":0},{"$f":"IF($C47=Post!$B$20,1,0)*(IF($P47=\"\",0,1))*(IF($P47=\"Contract\",0,1))","v":0},{"$f":"IF($C47=Post!$B$21,1,0)*(IF($P47=\"\",0,1))*(IF($P47=\"Contract\",0,1))","v":0},{"$f":"IF($C47=Post!$B$2,1,0)*(IF($P47=\"\",0,1))*(IF($P47=\"Contract\",0,1))","v":0},{"$f":"IF($C47=Post!$B$23,1,0)*(IF($P47=\"\",0,1))*(IF($P47=\"Contract\",0,1))","v":0},{"$f":"IF($C47=Post!$B$24,1,0)*(IF($P47=\"\",0,1))*(IF($P47=\"Contract\",0,1))","v":0},{"$f":"IF($C47=Post!$B$25,1,0)*(IF($P47=\"\",0,1))*(IF($P47=\"Contract\",0,1))","v":0},{"$f":"IF($C47=Post!$B$26,1,0)*(IF($P47=\"\",0,1))*(IF($P47=\"Contract\",0,1))","v":0},{"$f":"IF($C47=Post!$B$27,1,0)*(IF($P47=\"\",0,1))*(IF($P47=\"Contract\",0,1))","v":0},{"$f":"IF($C47=Post!$B$28,1,0)*(IF($P47=\"\",0,1))*(IF($P47=\"Contract\",0,1))","v":0},{"$f":"IF($C47=Post!$B$29,1,0)*(IF($P47=\"\",0,1))*(IF($P47=\"Contract\",0,1))","v":0},{"$f":"IF($C47=Post!$B$30,1,0)*(IF($P47=\"\",0,1))*(IF($P47=\"Contract\",0,1))","v":0},{"$f":"IF($C47=Post!$B$31,1,0)*(IF($P47=\"\",0,1))*(IF($P47=\"Contract\",0,1))","v":0},{"$f":"IF($C47=Post!$B$32,1,0)*(IF($P47=\"\",0,1))*(IF($P47=\"Contract\",0,1))","v":0},{"$f":"IF($C47=Post!$B$33,1,0)*(IF($P47=\"\",0,1))*(IF($P47=\"Contract\",0,1))","v":0},{"$f":"IF($C47=Post!$B$34,1,0)*(IF($P47=\"\",0,1))*(IF($P47=\"Contract\",0,1))","v":0},{"$f":"IF($C47=Post!$B$35,1,0)*(IF($P47=\"\",0,1))*(IF($P47=\"Contract\",0,1))","v":0},{"$f":"IF($C47=Post!$B$36,1,0)*(IF($P47=\"\",0,1))*(IF($P47=\"Contract\",0,1))","v":0},{"$f":"IF($C47=Post!$B$37,1,0)*(IF($P47=\"\",0,1))*(IF($P47=\"Contract\",0,1))","v":0},{"$f":"IF($C47=Post!$B$38,1,0)*(IF($P47=\"\",0,1))*(IF($P47=\"Contract\",0,1))","v":0},{"$f":"IF($C47=Post!$B$39,1,0)*(IF($P47=\"\",0,1))*(IF($P47=\"Contract\",0,1))","v":0},{"$f":"IF($C47=Post!$B$40,1,0)*(IF($P47=\"\",0,1))*(IF($P47=\"Contract\",0,1))","v":0},{"$f":"IF($C47=Post!$B$41,1,0)*(IF($P47=\"\",0,1))*(IF($P47=\"Contract\",0,1))","v":0},{"$f":"IF($C47=Post!$B$42,1,0)*(IF($P47=\"\",0,1))*(IF($P47=\"Contract\",0,1))","v":0},{"$f":"IF($C47=Post!$B$43,1,0)*(IF($P47=\"\",0,1))*(IF($P47=\"Contract\",0,1))","v":0},{"$f":"IF($C47=Post!$B$44,1,0)*(IF($P47=\"\",0,1))*(IF($P47=\"Contract\",0,1))","v":0},{"$f":"IF($C47=Post!$B$45,1,0)*(IF($P47=\"\",0,1))*(IF($P47=\"Contract\",0,1))","v":0},{"$f":"IF($C47=Post!$B$46,1,0)*(IF($P47=\"\",0,1))*(IF($P47=\"Contract\",0,1))","v":0},{"$f":"IF($C47=Post!$B$47,1,0)*(IF($P47=\"\",0,1))*(IF($P47=\"Contract\",0,1))","v":0},{"$f":"IF(C47=Post!B$48,1,0)*(IF(P47=\"\",0,1))*(IF($P47=\"Contract\",0,1))","v":0},{"$f":"IF(C47=Post!B$49,1,0)*(IF(P47=\"\",0,1))*(IF($P47=\"Contract\",0,1))","v":0},{"$f":"IF(C47=Post!B$50,1,0)*(IF(P47=\"\",0,1))*(IF($P47=\"Contract\",0,1))","v":0},0,0,0,0,0,0,0,0,0,0,0,0,0,0,0,0,0,0,0,0,0,0,0,0,0,0,0,0,0,0,0,0,0,0,0,0,0,0,0,0,0,0,0,0,0,0]
["",{"$f":"IF(C48=\"\",\"\",Database!H$5)","v":""},null,null,null,null,null,null,null,null,null,null,null,null,null,null,"",null,null,0,0,0,0,0,"",0,0,0,0,0,0,0,0,0,0,"",{"$f":"IF($C48=Post!$B$11,1,0)*(IF($P48=\"\",0,1))*(IF($P48=\"Contract\",0,1))","v":0},{"$f":"IF($C48=Post!$B$12,1,0)*(IF($P48=\"\",0,1))*(IF($P48=\"Contract\",0,1))","v":0},{"$f":"IF($C48=Post!$B$13,1,0)*(IF($P48=\"\",0,1))*(IF($P48=\"Contract\",0,1))","v":0},{"$f":"IF($C48=Post!$B$14,1,0)*(IF($P48=\"\",0,1))*(IF($P48=\"Contract\",0,1))","v":0},{"$f":"IF($C48=Post!$B$15,1,0)*(IF($P48=\"\",0,1))*(IF($P48=\"Contract\",0,1))","v":0},{"$f":"IF($C48=Post!$B$16,1,0)*(IF($P48=\"\",0,1))*(IF($P48=\"Contract\",0,1))","v":0},{"$f":"IF($C48=Post!$B$17,1,0)*(IF($P48=\"\",0,1))*(IF($P48=\"Contract\",0,1))","v":0},{"$f":"IF($C48=Post!$B$18,1,0)*(IF($P48=\"\",0,1))*(IF($P48=\"Contract\",0,1))","v":0},{"$f":"IF($C48=Post!$B$19,1,0)*(IF($P48=\"\",0,1))*(IF($P48=\"Contract\",0,1))","v":0},{"$f":"IF($C48=Post!$B$20,1,0)*(IF($P48=\"\",0,1))*(IF($P48=\"Contract\",0,1))","v":0},{"$f":"IF($C48=Post!$B$21,1,0)*(IF($P48=\"\",0,1))*(IF($P48=\"Contract\",0,1))","v":0},{"$f":"IF($C48=Post!$B$2,1,0)*(IF($P48=\"\",0,1))*(IF($P48=\"Contract\",0,1))","v":0},{"$f":"IF($C48=Post!$B$23,1,0)*(IF($P48=\"\",0,1))*(IF($P48=\"Contract\",0,1))","v":0},{"$f":"IF($C48=Post!$B$24,1,0)*(IF($P48=\"\",0,1))*(IF($P48=\"Contract\",0,1))","v":0},{"$f":"IF($C48=Post!$B$25,1,0)*(IF($P48=\"\",0,1))*(IF($P48=\"Contract\",0,1))","v":0},{"$f":"IF($C48=Post!$B$26,1,0)*(IF($P48=\"\",0,1))*(IF($P48=\"Contract\",0,1))","v":0},{"$f":"IF($C48=Post!$B$27,1,0)*(IF($P48=\"\",0,1))*(IF($P48=\"Contract\",0,1))","v":0},{"$f":"IF($C48=Post!$B$28,1,0)*(IF($P48=\"\",0,1))*(IF($P48=\"Contract\",0,1))","v":0},{"$f":"IF($C48=Post!$B$29,1,0)*(IF($P48=\"\",0,1))*(IF($P48=\"Contract\",0,1))","v":0},{"$f":"IF($C48=Post!$B$30,1,0)*(IF($P48=\"\",0,1))*(IF($P48=\"Contract\",0,1))","v":0},{"$f":"IF($C48=Post!$B$31,1,0)*(IF($P48=\"\",0,1))*(IF($P48=\"Contract\",0,1))","v":0},{"$f":"IF($C48=Post!$B$32,1,0)*(IF($P48=\"\",0,1))*(IF($P48=\"Contract\",0,1))","v":0},{"$f":"IF($C48=Post!$B$33,1,0)*(IF($P48=\"\",0,1))*(IF($P48=\"Contract\",0,1))","v":0},{"$f":"IF($C48=Post!$B$34,1,0)*(IF($P48=\"\",0,1))*(IF($P48=\"Contract\",0,1))","v":0},{"$f":"IF($C48=Post!$B$35,1,0)*(IF($P48=\"\",0,1))*(IF($P48=\"Contract\",0,1))","v":0},{"$f":"IF($C48=Post!$B$36,1,0)*(IF($P48=\"\",0,1))*(IF($P48=\"Contract\",0,1))","v":0},{"$f":"IF($C48=Post!$B$37,1,0)*(IF($P48=\"\",0,1))*(IF($P48=\"Contract\",0,1))","v":0},{"$f":"IF($C48=Post!$B$38,1,0)*(IF($P48=\"\",0,1))*(IF($P48=\"Contract\",0,1))","v":0},{"$f":"IF($C48=Post!$B$39,1,0)*(IF($P48=\"\",0,1))*(IF($P48=\"Contract\",0,1))","v":0},{"$f":"IF($C48=Post!$B$40,1,0)*(IF($P48=\"\",0,1))*(IF($P48=\"Contract\",0,1))","v":0},{"$f":"IF($C48=Post!$B$41,1,0)*(IF($P48=\"\",0,1))*(IF($P48=\"Contract\",0,1))","v":0},{"$f":"IF($C48=Post!$B$42,1,0)*(IF($P48=\"\",0,1))*(IF($P48=\"Contract\",0,1))","v":0},{"$f":"IF($C48=Post!$B$43,1,0)*(IF($P48=\"\",0,1))*(IF($P48=\"Contract\",0,1))","v":0},{"$f":"IF($C48=Post!$B$44,1,0)*(IF($P48=\"\",0,1))*(IF($P48=\"Contract\",0,1))","v":0},{"$f":"IF($C48=Post!$B$45,1,0)*(IF($P48=\"\",0,1))*(IF($P48=\"Contract\",0,1))","v":0},{"$f":"IF($C48=Post!$B$46,1,0)*(IF($P48=\"\",0,1))*(IF($P48=\"Contract\",0,1))","v":0},{"$f":"IF($C48=Post!$B$47,1,0)*(IF($P48=\"\",0,1))*(IF($P48=\"Contract\",0,1))","v":0},{"$f":"IF(C48=Post!B$48,1,0)*(IF(P48=\"\",0,1))*(IF($P48=\"Contract\",0,1))","v":0},{"$f":"IF(C48=Post!B$49,1,0)*(IF(P48=\"\",0,1))*(IF($P48=\"Contract\",0,1))","v":0},{"$f":"IF(C48=Post!B$50,1,0)*(IF(P48=\"\",0,1))*(IF($P48=\"Contract\",0,1))","v":0},0,0,0,0,0,0,0,0,0,0,0,0,0,0,0,0,0,0,0,0,0,0,0,0,0,0,0,0,0,0,0,0,0,0,0,0,0,0,0,0,0,0,0,0,0,0]
["",{"$f":"IF(C49=\"\",\"\",Database!H$5)","v":""},null,null,null,null,null,null,null,null,null,null,null,null,null,null,"",null,null,0,0,0,0,0,"",0,0,0,0,0,0,0,0,0,0,"",{"$f":"IF($C49=Post!$B$11,1,0)*(IF($P49=\"\",0,1))*(IF($P49=\"Contract\",0,1))","v":0},{"$f":"IF($C49=Post!$B$12,1,0)*(IF($P49=\"\",0,1))*(IF($P49=\"Contract\",0,1))","v":0},{"$f":"IF($C49=Post!$B$13,1,0)*(IF($P49=\"\",0,1))*(IF($P49=\"Contract\",0,1))","v":0},{"$f":"IF($C49=Post!$B$14,1,0)*(IF($P49=\"\",0,1))*(IF($P49=\"Contract\",0,1))","v":0},{"$f":"IF($C49=Post!$B$15,1,0)*(IF($P49=\"\",0,1))*(IF($P49=\"Contract\",0,1))","v":0},{"$f":"IF($C49=Post!$B$16,1,0)*(IF($P49=\"\",0,1))*(IF($P49=\"Contract\",0,1))","v":0},{"$f":"IF($C49=Post!$B$17,1,0)*(IF($P49=\"\",0,1))*(IF($P49=\"Contract\",0,1))","v":0},{"$f":"IF($C49=Post!$B$18,1,0)*(IF($P49=\"\",0,1))*(IF($P49=\"Contract\",0,1))","v":0},{"$f":"IF($C49=Post!$B$19,1,0)*(IF($P49=\"\",0,1))*(IF($P49=\"Contract\",0,1))","v":0},{"$f":"IF($C49=Post!$B$20,1,0)*(IF($P49=\"\",0,1))*(IF($P49=\"Contract\",0,1))","v":0},{"$f":"IF($C49=Post!$B$21,1,0)*(IF($P49=\"\",0,1))*(IF($P49=\"Contract\",0,1))","v":0},{"$f":"IF($C49=Post!$B$2,1,0)*(IF($P49=\"\",0,1))*(IF($P49=\"Contract\",0,1))","v":0},{"$f":"IF($C49=Post!$B$23,1,0)*(IF($P49=\"\",0,1))*(IF($P49=\"Contract\",0,1))","v":0},{"$f":"IF($C49=Post!$B$24,1,0)*(IF($P49=\"\",0,1))*(IF($P49=\"Contract\",0,1))","v":0},{"$f":"IF($C49=Post!$B$25,1,0)*(IF($P49=\"\",0,1))*(IF($P49=\"Contract\",0,1))","v":0},{"$f":"IF($C49=Post!$B$26,1,0)*(IF($P49=\"\",0,1))*(IF($P49=\"Contract\",0,1))","v":0},{"$f":"IF($C49=Post!$B$27,1,0)*(IF($P49=\"\",0,1))*(IF($P49=\"Contract\",0,1))","v":0},{"$f":"IF($C49=Post!$B$28,1,0)*(IF($P49=\"\",0,1))*(IF($P49=\"Contract\",0,1))","v":0},{"$f":"IF($C49=Post!$B$29,1,0)*(IF($P49=\"\",0,1))*(IF($P49=\"Contract\",0,1))","v":0},{"$f":"IF($C49=Post!$B$30,1,0)*(IF($P49=\"\",0,1))*(IF($P49=\"Contract\",0,1))","v":0},{"$f":"IF($C49=Post!$B$31,1,0)*(IF($P49=\"\",0,1))*(IF($P49=\"Contract\",0,1))","v":0},{"$f":"IF($C49=Post!$B$32,1,0)*(IF($P49=\"\",0,1))*(IF($P49=\"Contract\",0,1))","v":0},{"$f":"IF($C49=Post!$B$33,1,0)*(IF($P49=\"\",0,1))*(IF($P49=\"Contract\",0,1))","v":0},{"$f":"IF($C49=Post!$B$34,1,0)*(IF($P49=\"\",0,1))*(IF($P49=\"Contract\",0,1))","v":0},{"$f":"IF($C49=Post!$B$35,1,0)*(IF($P49=\"\",0,1))*(IF($P49=\"Contract\",0,1))","v":0},{"$f":"IF($C49=Post!$B$36,1,0)*(IF($P49=\"\",0,1))*(IF($P49=\"Contract\",0,1))","v":0},{"$f":"IF($C49=Post!$B$37,1,0)*(IF($P49=\"\",0,1))*(IF($P49=\"Contract\",0,1))","v":0},{"$f":"IF($C49=Post!$B$38,1,0)*(IF($P49=\"\",0,1))*(IF($P49=\"Contract\",0,1))","v":0},{"$f":"IF($C49=Post!$B$39,1,0)*(IF($P49=\"\",0,1))*(IF($P49=\"Contract\",0,1))","v":0},{"$f":"IF($C49=Post!$B$40,1,0)*(IF($P49=\"\",0,1))*(IF($P49=\"Contract\",0,1))","v":0},{"$f":"IF($C49=Post!$B$41,1,0)*(IF($P49=\"\",0,1))*(IF($P49=\"Contract\",0,1))","v":0},{"$f":"IF($C49=Post!$B$42,1,0)*(IF($P49=\"\",0,1))*(IF($P49=\"Contract\",0,1))","v":0},{"$f":"IF($C49=Post!$B$43,1,0)*(IF($P49=\"\",0,1))*(IF($P49=\"Contract\",0,1))","v":0},{"$f":"IF($C49=Post!$B$44,1,0)*(IF($P49=\"\",0,1))*(IF($P49=\"Contract\",0,1))","v":0},{"$f":"IF($C49=Post!$B$45,1,0)*(IF($P49=\"\",0,1))*(IF($P49=\"Contract\",0,1))","v":0},{"$f":"IF($C49=Post!$B$46,1,0)*(IF($P49=\"\",0,1))*(IF($P49=\"Contract\",0,1))","v":0},{"$f":"IF($C49=Post!$B$47,1,0)*(IF($P49=\"\",0,1))*(IF($P49=\"Contract\",0,1))","v":0},{"$f":"IF(C49=Post!B$48,1,0)*(IF(P49=\"\",0,1))*(IF($P49=\"Contract\",0,1))","v":0},{"$f":"IF(C49=Post!B$49,1,0)*(IF(P49=\"\",0,1))*(IF($P49=\"Contract\",0,1))","v":0},{"$f":"IF(C49=Post!B$50,1,0)*(IF(P49=\"\",0,1))*(IF($P49=\"Contract\",0,1))","v":0},0,0,0,0,0,0,0,0,0,0,0,0,0,0,0,0,0,0,0,0,0,0,0,0,0,0,0,0,0,0,0,0,0,0,0,0,0,0,0,0,0,0,0,0,0,0]
["",{"$f":"IF(C50=\"\",\"\",Database!H$5)","v":""},null,null,null,null,null,null,null,null,null,null,null,null,null,null,"",null,null,0,0,0,0,0,"",0,0,0,0,0,0,0,0,0,0,"",{"$f":"IF($C50=Post!$B$11,1,0)*(IF($P50=\"\",0,1))*(IF($P50=\"Contract\",0,1))","v":0},{"$f":"IF($C50=Post!$B$12,1,0)*(IF($P50=\"\",0,1))*(IF($P50=\"Contract\",0,1))","v":0},{"$f":"IF($C50=Post!$B$13,1,0)*(IF($P50=\"\",0,1))*(IF($P50=\"Contract\",0,1))","v":0},{"$f":"IF($C50=Post!$B$14,1,0)*(IF($P50=\"\",0,1))*(IF($P50=\"Contract\",0,1))","v":0},{"$f":"IF($C50=Post!$B$15,1,0)*(IF($P50=\"\",0,1))*(IF($P50=\"Contract\",0,1))","v":0},{"$f":"IF($C50=Post!$B$16,1,0)*(IF($P50=\"\",0,1))*(IF($P50=\"Contract\",0,1))","v":0},{"$f":"IF($C50=Post!$B$17,1,0)*(IF($P50=\"\",0,1))*(IF($P50=\"Contract\",0,1))","v":0},{"$f":"IF($C50=Post!$B$18,1,0)*(IF($P50=\"\",0,1))*(IF($P50=\"Contract\",0,1))","v":0},{"$f":"IF($C50=Post!$B$19,1,0)*(IF($P50=\"\",0,1))*(IF($P50=\"Contract\",0,1))","v":0},{"$f":"IF($C50=Post!$B$20,1,0)*(IF($P50=\"\",0,1))*(IF($P50=\"Contract\",0,1))","v":0},{"$f":"IF($C50=Post!$B$21,1,0)*(IF($P50=\"\",0,1))*(IF($P50=\"Contract\",0,1))","v":0},{"$f":"IF($C50=Post!$B$2,1,0)*(IF($P50=\"\",0,1))*(IF($P50=\"Contract\",0,1))","v":0},{"$f":"IF($C50=Post!$B$23,1,0)*(IF($P50=\"\",0,1))*(IF($P50=\"Contract\",0,1))","v":0},{"$f":"IF($C50=Post!$B$24,1,0)*(IF($P50=\"\",0,1))*(IF($P50=\"Contract\",0,1))","v":0},{"$f":"IF($C50=Post!$B$25,1,0)*(IF($P50=\"\",0,1))*(IF($P50=\"Contract\",0,1))","v":0},{"$f":"IF($C50=Post!$B$26,1,0)*(IF($P50=\"\",0,1))*(IF($P50=\"Contract\",0,1))","v":0},{"$f":"IF($C50=Post!$B$27,1,0)*(IF($P50=\"\",0,1))*(IF($P50=\"Contract\",0,1))","v":0},{"$f":"IF($C50=Post!$B$28,1,0)*(IF($P50=\"\",0,1))*(IF($P50=\"Contract\",0,1))","v":0},{"$f":"IF($C50=Post!$B$29,1,0)*(IF($P50=\"\",0,1))*(IF($P50=\"Contract\",0,1))","v":0},{"$f":"IF($C50=Post!$B$30,1,0)*(IF($P50=\"\",0,1))*(IF($P50=\"Contract\",0,1))","v":0},{"$f":"IF($C50=Post!$B$31,1,0)*(IF($P50=\"\",0,1))*(IF($P50=\"Contract\",0,1))","v":0},{"$f":"IF($C50=Post!$B$32,1,0)*(IF($P50=\"\",0,1))*(IF($P50=\"Contract\",0,1))","v":0},{"$f":"IF($C50=Post!$B$33,1,0)*(IF($P50=\"\",0,1))*(IF($P50=\"Contract\",0,1))","v":0},{"$f":"IF($C50=Post!$B$34,1,0)*(IF($P50=\"\",0,1))*(IF($P50=\"Contract\",0,1))","v":0},{"$f":"IF($C50=Post!$B$35,1,0)*(IF($P50=\"\",0,1))*(IF($P50=\"Contract\",0,1))","v":0},{"$f":"IF($C50=Post!$B$36,1,0)*(IF($P50=\"\",0,1))*(IF($P50=\"Contract\",0,1))","v":0},{"$f":"IF($C50=Post!$B$37,1,0)*(IF($P50=\"\",0,1))*(IF($P50=\"Contract\",0,1))","v":0},{"$f":"IF($C50=Post!$B$38,1,0)*(IF($P50=\"\",0,1))*(IF($P50=\"Contract\",0,1))","v":0},{"$f":"IF($C50=Post!$B$39,1,0)*(IF($P50=\"\",0,1))*(IF($P50=\"Contract\",0,1))","v":0},{"$f":"IF($C50=Post!$B$40,1,0)*(IF($P50=\"\",0,1))*(IF($P50=\"Contract\",0,1))","v":0},{"$f":"IF($C50=Post!$B$41,1,0)*(IF($P50=\"\",0,1))*(IF($P50=\"Contract\",0,1))","v":0},{"$f":"IF($C50=Post!$B$42,1,0)*(IF($P50=\"\",0,1))*(IF($P50=\"Contract\",0,1))","v":0},{"$f":"IF($C50=Post!$B$43,1,0)*(IF($P50=\"\",0,1))*(IF($P50=\"Contract\",0,1))","v":0},{"$f":"IF($C50=Post!$B$44,1,0)*(IF($P50=\"\",0,1))*(IF($P50=\"Contract\",0,1))","v":0},{"$f":"IF($C50=Post!$B$45,1,0)*(IF($P50=\"\",0,1))*(IF($P50=\"Contract\",0,1))","v":0},{"$f":"IF($C50=Post!$B$46,1,0)*(IF($P50=\"\",0,1))*(IF($P50=\"Contract\",0,1))","v":0},{"$f":"IF($C50=Post!$B$47,1,0)*(IF($P50=\"\",0,1))*(IF($P50=\"Contract\",0,1))","v":0},{"$f":"IF(C50=Post!B$48,1,0)*(IF(P50=\"\",0,1))*(IF($P50=\"Contract\",0,1))","v":0},{"$f":"IF(C50=Post!B$49,1,0)*(IF(P50=\"\",0,1))*(IF($P50=\"Contract\",0,1))","v":0},{"$f":"IF(C50=Post!B$50,1,0)*(IF(P50=\"\",0,1))*(IF($P50=\"Contract\",0,1))","v":0},0,0,0,0,0,0,0,0,0,0,0,0,0,0,0,0,0,0,0,0,0,0,0,0,0,0,0,0,0,0,0,0,0,0,0,0,0,0,0,0,0,0,0,0,0,0]
["",{"$f":"IF(C51=\"\",\"\",Database!H$5)","v":""},null,null,null,null,null,null,null,null,null,null,null,null,null,null,"",null,null,0,0,0,0,0,"",0,0,0,0,0,0,0,0,0,0,"",{"$f":"IF($C51=Post!$B$11,1,0)*(IF($P51=\"\",0,1))*(IF($P51=\"Contract\",0,1))","v":0},{"$f":"IF($C51=Post!$B$12,1,0)*(IF($P51=\"\",0,1))*(IF($P51=\"Contract\",0,1))","v":0},{"$f":"IF($C51=Post!$B$13,1,0)*(IF($P51=\"\",0,1))*(IF($P51=\"Contract\",0,1))","v":0},{"$f":"IF($C51=Post!$B$14,1,0)*(IF($P51=\"\",0,1))*(IF($P51=\"Contract\",0,1))","v":0},{"$f":"IF($C51=Post!$B$15,1,0)*(IF($P51=\"\",0,1))*(IF($P51=\"Contract\",0,1))","v":0},{"$f":"IF($C51=Post!$B$16,1,0)*(IF($P51=\"\",0,1))*(IF($P51=\"Contract\",0,1))","v":0},{"$f":"IF($C51=Post!$B$17,1,0)*(IF($P51=\"\",0,1))*(IF($P51=\"Contract\",0,1))","v":0},{"$f":"IF($C51=Post!$B$18,1,0)*(IF($P51=\"\",0,1))*(IF($P51=\"Contract\",0,1))","v":0},{"$f":"IF($C51=Post!$B$19,1,0)*(IF($P51=\"\",0,1))*(IF($P51=\"Contract\",0,1))","v":0},{"$f":"IF($C51=Post!$B$20,1,0)*(IF($P51=\"\",0,1))*(IF($P51=\"Contract\",0,1))","v":0},{"$f":"IF($C51=Post!$B$21,1,0)*(IF($P51=\"\",0,1))*(IF($P51=\"Contract\",0,1))","v":0},{"$f":"IF($C51=Post!$B$2,1,0)*(IF($P51=\"\",0,1))*(IF($P51=\"Contract\",0,1))","v":0},{"$f":"IF($C51=Post!$B$23,1,0)*(IF($P51=\"\",0,1))*(IF($P51=\"Contract\",0,1))","v":0},{"$f":"IF($C51=Post!$B$24,1,0)*(IF($P51=\"\",0,1))*(IF($P51=\"Contract\",0,1))","v":0},{"$f":"IF($C51=Post!$B$25,1,0)*(IF($P51=\"\",0,1))*(IF($P51=\"Contract\",0,1))","v":0},{"$f":"IF($C51=Post!$B$26,1,0)*(IF($P51=\"\",0,1))*(IF($P51=\"Contract\",0,1))","v":0},{"$f":"IF($C51=Post!$B$27,1,0)*(IF($P51=\"\",0,1))*(IF($P51=\"Contract\",0,1))","v":0},{"$f":"IF($C51=Post!$B$28,1,0)*(IF($P51=\"\",0,1))*(IF($P51=\"Contract\",0,1))","v":0},{"$f":"IF($C51=Post!$B$29,1,0)*(IF($P51=\"\",0,1))*(IF($P51=\"Contract\",0,1))","v":0},{"$f":"IF($C51=Post!$B$30,1,0)*(IF($P51=\"\",0,1))*(IF($P51=\"Contract\",0,1))","v":0},{"$f":"IF($C51=Post!$B$31,1,0)*(IF($P51=\"\",0,1))*(IF($P51=\"Contract\",0,1))","v":0},{"$f":"IF($C51=Post!$B$32,1,0)*(IF($P51=\"\",0,1))*(IF($P51=\"Contract\",0,1))","v":0},{"$f":"IF($C51=Post!$B$33,1,0)*(IF($P51=\"\",0,1))*(IF($P51=\"Contract\",0,1))","v":0},{"$f":"IF($C51=Post!$B$34,1,0)*(IF($P51=\"\",0,1))*(IF($P51=\"Contract\",0,1))","v":0},{"$f":"IF($C51=Post!$B$35,1,0)*(IF($P51=\"\",0,1))*(IF($P51=\"Contract\",0,1))","v":0},{"$f":"IF($C51=Post!$B$36,1,0)*(IF($P51=\"\",0,1))*(IF($P51=\"Contract\",0,1))","v":0},{"$f":"IF($C51=Post!$B$37,1,0)*(IF($P51=\"\",0,1))*(IF($P51=\"Contract\",0,1))","v":0},{"$f":"IF($C51=Post!$B$38,1,0)*(IF($P51=\"\",0,1))*(IF($P51=\"Contract\",0,1))","v":0},{"$f":"IF($C51=Post!$B$39,1,0)*(IF($P51=\"\",0,1))*(IF($P51=\"Contract\",0,1))","v":0},{"$f":"IF($C51=Post!$B$40,1,0)*(IF($P51=\"\",0,1))*(IF($P51=\"Contract\",0,1))","v":0},{"$f":"IF($C51=Post!$B$41,1,0)*(IF($P51=\"\",0,1))*(IF($P51=\"Contract\",0,1))","v":0},{"$f":"IF($C51=Post!$B$42,1,0)*(IF($P51=\"\",0,1))*(IF($P51=\"Contract\",0,1))","v":0},{"$f":"IF($C51=Post!$B$43,1,0)*(IF($P51=\"\",0,1))*(IF($P51=\"Contract\",0,1))","v":0},{"$f":"IF($C51=Post!$B$44,1,0)*(IF($P51=\"\",0,1))*(IF($P51=\"Contract\",0,1))","v":0},{"$f":"IF($C51=Post!$B$45,1,0)*(IF($P51=\"\",0,1))*(IF($P51=\"Contract\",0,1))","v":0},{"$f":"IF($C51=Post!$B$46,1,0)*(IF($P51=\"\",0,1))*(IF($P51=\"Contract\",0,1))","v":0},{"$f":"IF($C51=Post!$B$47,1,0)*(IF($P51=\"\",0,1))*(IF($P51=\"Contract\",0,1))","v":0},{"$f":"IF(C51=Post!B$48,1,0)*(IF(P51=\"\",0,1))*(IF($P51=\"Contract\",0,1))","v":0},{"$f":"IF(C51=Post!B$49,1,0)*(IF(P51=\"\",0,1))*(IF($P51=\"Contract\",0,1))","v":0},{"$f":"IF(C51=Post!B$50,1,0)*(IF(P51=\"\",0,1))*(IF($P51=\"Contract\",0,1))","v":0},0,0,0,0,0,0,0,0,0,0,0,0,0,0,0,0,0,0,0,0,0,0,0,0,0,0,0,0,0,0,0,0,0,0,0,0,0,0,0,0,0,0,0,0,0,0]
["",{"$f":"IF(C52=\"\",\"\",Database!H$5)","v":""},null,null,null,null,null,null,null,null,null,null,null,null,null,null,"",null,null,0,0,0,0,0,"",0,0,0,0,0,0,0,0,0,0,"",{"$f":"IF($C52=Post!$B$11,1,0)*(IF($P52=\"\",0,1))*(IF($P52=\"Contract\",0,1))","v":0},{"$f":"IF($C52=Post!$B$12,1,0)*(IF($P52=\"\",0,1))*(IF($P52=\"Contract\",0,1))","v":0},{"$f":"IF($C52=Post!$B$13,1,0)*(IF($P52=\"\",0,1))*(IF($P52=\"Contract\",0,1))","v":0},{"$f":"IF($C52=Post!$B$14,1,0)*(IF($P52=\"\",0,1))*(IF($P52=\"Contract\",0,1))","v":0},{"$f":"IF($C52=Post!$B$15,1,0)*(IF($P52=\"\",0,1))*(IF($P52=\"Contract\",0,1))","v":0},{"$f":"IF($C52=Post!$B$16,1,0)*(IF($P52=\"\",0,1))*(IF($P52=\"Contract\",0,1))","v":0},{"$f":"IF($C52=Post!$B$17,1,0)*(IF($P52=\"\",0,1))*(IF($P52=\"Contract\",0,1))","v":0},{"$f":"IF($C52=Post!$B$18,1,0)*(IF($P52=\"\",0,1))*(IF($P52=\"Contract\",0,1))","v":0},{"$f":"IF($C52=Post!$B$19,1,0)*(IF($P52=\"\",0,1))*(IF($P52=\"Contract\",0,1))","v":0},{"$f":"IF($C52=Post!$B$20,1,0)*(IF($P52=\"\",0,1))*(IF($P52=\"Contract\",0,1))","v":0},{"$f":"IF($C52=Post!$B$21,1,0)*(IF($P52=\"\",0,1))*(IF($P52=\"Contract\",0,1))","v":0},{"$f":"IF($C52=Post!$B$2,1,0)*(IF($P52=\"\",0,1))*(IF($P52=\"Contract\",0,1))","v":0},{"$f":"IF($C52=Post!$B$23,1,0)*(IF($P52=\"\",0,1))*(IF($P52=\"Contract\",0,1))","v":0},{"$f":"IF($C52=Post!$B$24,1,0)*(IF($P52=\"\",0,1))*(IF($P52=\"Contract\",0,1))","v":0},{"$f":"IF($C52=Post!$B$25,1,0)*(IF($P52=\"\",0,1))*(IF($P52=\"Contract\",0,1))","v":0},{"$f":"IF($C52=Post!$B$26,1,0)*(IF($P52=\"\",0,1))*(IF($P52=\"Contract\",0,1))","v":0},{"$f":"IF($C52=Post!$B$27,1,0)*(IF($P52=\"\",0,1))*(IF($P52=\"Contract\",0,1))","v":0},{"$f":"IF($C52=Post!$B$28,1,0)*(IF($P52=\"\",0,1))*(IF($P52=\"Contract\",0,1))","v":0},{"$f":"IF($C52=Post!$B$29,1,0)*(IF($P52=\"\",0,1))*(IF($P52=\"Contract\",0,1))","v":0},{"$f":"IF($C52=Post!$B$30,1,0)*(IF($P52=\"\",0,1))*(IF($P52=\"Contract\",0,1))","v":0},{"$f":"IF($C52=Post!$B$31,1,0)*(IF($P52=\"\",0,1))*(IF($P52=\"Contract\",0,1))","v":0},{"$f":"IF($C52=Post!$B$32,1,0)*(IF($P52=\"\",0,1))*(IF($P52=\"Contract\",0,1))","v":0},{"$f":"IF($C52=Post!$B$33,1,0)*(IF($P52=\"\",0,1))*(IF($P52=\"Contract\",0,1))","v":0},{"$f":"IF($C52=Post!$B$34,1,0)*(IF($P52=\"\",0,1))*(IF($P52=\"Contract\",0,1))","v":0},{"$f":"IF($C52=Post!$B$35,1,0)*(IF($P52=\"\",0,1))*(IF($P52=\"Contract\",0,1))","v":0},{"$f":"IF($C52=Post!$B$36,1,0)*(IF($P52=\"\",0,1))*(IF($P52=\"Contract\",0,1))","v":0},{"$f":"IF($C52=Post!$B$37,1,0)*(IF($P52=\"\",0,1))*(IF($P52=\"Contract\",0,1))","v":0},{"$f":"IF($C52=Post!$B$38,1,0)*(IF($P52=\"\",0,1))*(IF($P52=\"Contract\",0,1))","v":0},{"$f":"IF($C52=Post!$B$39,1,0)*(IF($P52=\"\",0,1))*(IF($P52=\"Contract\",0,1))","v":0},{"$f":"IF($C52=Post!$B$40,1,0)*(IF($P52=\"\",0,1))*(IF($P52=\"Contract\",0,1))","v":0},{"$f":"IF($C52=Post!$B$41,1,0)*(IF($P52=\"\",0,1))*(IF($P52=\"Contract\",0,1))","v":0},{"$f":"IF($C52=Post!$B$42,1,0)*(IF($P52=\"\",0,1))*(IF($P52=\"Contract\",0,1))","v":0},{"$f":"IF($C52=Post!$B$43,1,0)*(IF($P52=\"\",0,1))*(IF($P52=\"Contract\",0,1))","v":0},{"$f":"IF($C52=Post!$B$44,1,0)*(IF($P52=\"\",0,1))*(IF($P52=\"Contract\",0,1))","v":0},{"$f":"IF($C52=Post!$B$45,1,0)*(IF($P52=\"\",0,1))*(IF($P52=\"Contract\",0,1))","v":0},{"$f":"IF($C52=Post!$B$46,1,0)*(IF($P52=\"\",0,1))*(IF($P52=\"Contract\",0,1))","v":0},{"$f":"IF($C52=Post!$B$47,1,0)*(IF($P52=\"\",0,1))*(IF($P52=\"Contract\",0,1))","v":0},{"$f":"IF(C52=Post!B$48,1,0)*(IF(P52=\"\",0,1))*(IF($P52=\"Contract\",0,1))","v":0},{"$f":"IF(C52=Post!B$49,1,0)*(IF(P52=\"\",0,1))*(IF($P52=\"Contract\",0,1))","v":0},{"$f":"IF(C52=Post!B$50,1,0)*(IF(P52=\"\",0,1))*(IF($P52=\"Contract\",0,1))","v":0},0,0,0,0,0,0,0,0,0,0,0,0,0,0,0,0,0,0,0,0,0,0,0,0,0,0,0,0,0,0,0,0,0,0,0,0,0,0,0,0,0,0,0,0,0,0]
["",{"$f":"IF(C53=\"\",\"\",Database!H$5)","v":""},null,null,null,null,null,null,null,null,null,null,null,null,null,null,"",null,null,0,0,0,0,0,"",0,0,0,0,0,0,0,0,0,0,"",{"$f":"IF($C53=Post!$B$11,1,0)*(IF($P53=\"\",0,1))*(IF($P53=\"Contract\",0,1))","v":0},{"$f":"IF($C53=Post!$B$12,1,0)*(IF($P53=\"\",0,1))*(IF($P53=\"Contract\",0,1))","v":0},{"$f":"IF($C53=Post!$B$13,1,0)*(IF($P53=\"\",0,1))*(IF($P53=\"Contract\",0,1))","v":0},{"$f":"IF($C53=Post!$B$14,1,0)*(IF($P53=\"\",0,1))*(IF($P53=\"Contract\",0,1))","v":0},{"$f":"IF($C53=Post!$B$15,1,0)*(IF($P53=\"\",0,1))*(IF($P53=\"Contract\",0,1))","v":0},{"$f":"IF($C53=Post!$B$16,1,0)*(IF($P53=\"\",0,1))*(IF($P53=\"Contract\",0,1))","v":0},{"$f":"IF($C53=Post!$B$17,1,0)*(IF($P53=\"\",0,1))*(IF($P53=\"Contract\",0,1))","v":0},{"$f":"IF($C53=Post!$B$18,1,0)*(IF($P53=\"\",0,1))*(IF($P53=\"Contract\",0,1))","v":0},{"$f":"IF($C53=Post!$B$19,1,0)*(IF($P53=\"\",0,1))*(IF($P53=\"Contract\",0,1))","v":0},{"$f":"IF($C53=Post!$B$20,1,0)*(IF($P53=\"\",0,1))*(IF($P53=\"Contract\",0,1))","v":0},{"$f":"IF($C53=Post!$B$21,1,0)*(IF($P53=\"\",0,1))*(IF($P53=\"Contract\",0,1))","v":0},{"$f":"IF($C53=Post!$B$2,1,0)*(IF($P53=\"\",0,1))*(IF($P53=\"Contract\",0,1))","v":0},{"$f":"IF($C53=Post!$B$23,1,0)*(IF($P53=\"\",0,1))*(IF($P53=\"Contract\",0,1))","v":0},{"$f":"IF($C53=Post!$B$24,1,0)*(IF($P53=\"\",0,1))*(IF($P53=\"Contract\",0,1))","v":0},{"$f":"IF($C53=Post!$B$25,1,0)*(IF($P53=\"\",0,1))*(IF($P53=\"Contract\",0,1))","v":0},{"$f":"IF($C53=Post!$B$26,1,0)*(IF($P53=\"\",0,1))*(IF($P53=\"Contract\",0,1))","v":0},{"$f":"IF($C53=Post!$B$27,1,0)*(IF($P53=\"\",0,1))*(IF($P53=\"Contract\",0,1))","v":0},{"$f":"IF($C53=Post!$B$28,1,0)*(IF($P53=\"\",0,1))*(IF($P53=\"Contract\",0,1))","v":0},{"$f":"IF($C53=Post!$B$29,1,0)*(IF($P53=\"\",0,1))*(IF($P53=\"Contract\",0,1))","v":0},{"$f":"IF($C53=Post!$B$30,1,0)*(IF($P53=\"\",0,1))*(IF($P53=\"Contract\",0,1))","v":0},{"$f":"IF($C53=Post!$B$31,1,0)*(IF($P53=\"\",0,1))*(IF($P53=\"Contract\",0,1))","v":0},{"$f":"IF($C53=Post!$B$32,1,0)*(IF($P53=\"\",0,1))*(IF($P53=\"Contract\",0,1))","v":0},{"$f":"IF($C53=Post!$B$33,1,0)*(IF($P53=\"\",0,1))*(IF($P53=\"Contract\",0,1))","v":0},{"$f":"IF($C53=Post!$B$34,1,0)*(IF($P53=\"\",0,1))*(IF($P53=\"Contract\",0,1))","v":0},{"$f":"IF($C53=Post!$B$35,1,0)*(IF($P53=\"\",0,1))*(IF($P53=\"Contract\",0,1))","v":0},{"$f":"IF($C53=Post!$B$36,1,0)*(IF($P53=\"\",0,1))*(IF($P53=\"Contract\",0,1))","v":0},{"$f":"IF($C53=Post!$B$37,1,0)*(IF($P53=\"\",0,1))*(IF($P53=\"Contract\",0,1))","v":0},{"$f":"IF($C53=Post!$B$38,1,0)*(IF($P53=\"\",0,1))*(IF($P53=\"Contract\",0,1))","v":0},{"$f":"IF($C53=Post!$B$39,1,0)*(IF($P53=\"\",0,1))*(IF($P53=\"Contract\",0,1))","v":0},{"$f":"IF($C53=Post!$B$40,1,0)*(IF($P53=\"\",0,1))*(IF($P53=\"Contract\",0,1))","v":0},{"$f":"IF($C53=Post!$B$41,1,0)*(IF($P53=\"\",0,1))*(IF($P53=\"Contract\",0,1))","v":0},{"$f":"IF($C53=Post!$B$42,1,0)*(IF($P53=\"\",0,1))*(IF($P53=\"Contract\",0,1))","v":0},{"$f":"IF($C53=Post!$B$43,1,0)*(IF($P53=\"\",0,1))*(IF($P53=\"Contract\",0,1))","v":0},{"$f":"IF($C53=Post!$B$44,1,0)*(IF($P53=\"\",0,1))*(IF($P53=\"Contract\",0,1))","v":0},{"$f":"IF($C53=Post!$B$45,1,0)*(IF($P53=\"\",0,1))*(IF($P53=\"Contract\",0,1))","v":0},{"$f":"IF($C53=Post!$B$46,1,0)*(IF($P53=\"\",0,1))*(IF($P53=\"Contract\",0,1))","v":0},{"$f":"IF($C53=Post!$B$47,1,0)*(IF($P53=\"\",0,1))*(IF($P53=\"Contract\",0,1))","v":0},{"$f":"IF(C53=Post!B$48,1,0)*(IF(P53=\"\",0,1))*(IF($P53=\"Contract\",0,1))","v":0},{"$f":"IF(C53=Post!B$49,1,0)*(IF(P53=\"\",0,1))*(IF($P53=\"Contract\",0,1))","v":0},{"$f":"IF(C53=Post!B$50,1,0)*(IF(P53=\"\",0,1))*(IF($P53=\"Contract\",0,1))","v":0},0,0,0,0,0,0,0,0,0,0,0,0,0,0,0,0,0,0,0,0,0,0,0,0,0,0,0,0,0,0,0,0,0,0,0,0,0,0,0,0,0,0,0,0,0,0]
["",{"$f":"IF(C54=\"\",\"\",Database!H$5)","v":""},null,null,null,null,null,null,null,null,null,null,null,null,null,null,"",null,null,0,0,0,0,0,"",0,0,0,0,0,0,0,0,0,0,"",{"$f":"IF($C54=Post!$B$11,1,0)*(IF($P54=\"\",0,1))*(IF($P54=\"Contract\",0,1))","v":0},{"$f":"IF($C54=Post!$B$12,1,0)*(IF($P54=\"\",0,1))*(IF($P54=\"Contract\",0,1))","v":0},{"$f":"IF($C54=Post!$B$13,1,0)*(IF($P54=\"\",0,1))*(IF($P54=\"Contract\",0,1))","v":0},{"$f":"IF($C54=Post!$B$14,1,0)*(IF($P54=\"\",0,1))*(IF($P54=\"Contract\",0,1))","v":0},{"$f":"IF($C54=Post!$B$15,1,0)*(IF($P54=\"\",0,1))*(IF($P54=\"Contract\",0,1))","v":0},{"$f":"IF($C54=Post!$B$16,1,0)*(IF($P54=\"\",0,1))*(IF($P54=\"Contract\",0,1))","v":0},{"$f":"IF($C54=Post!$B$17,1,0)*(IF($P54=\"\",0,1))*(IF($P54=\"Contract\",0,1))","v":0},{"$f":"IF($C54=Post!$B$18,1,0)*(IF($P54=\"\",0,1))*(IF($P54=\"Contract\",0,1))","v":0},{"$f":"IF($C54=Post!$B$19,1,0)*(IF($P54=\"\",0,1))*(IF($P54=\"Contract\",0,1))","v":0},{"$f":"IF($C54=Post!$B$20,1,0)*(IF($P54=\"\",0,1))*(IF($P54=\"Contract\",0,1))","v":0},{"$f":"IF($C54=Post!$B$21,1,0)*(IF($P54=\"\",0,1))*(IF($P54=\"Contract\",0,1))","v":0},{"$f":"IF($C54=Post!$B$2,1,0)*(IF($P54=\"\",0,1))*(IF($P54=\"Contract\",0,1))","v":0},{"$f":"IF($C54=Post!$B$23,1,0)*(IF($P54=\"\",0,1))*(IF($P54=\"Contract\",0,1))","v":0},{"$f":"IF($C54=Post!$B$24,1,0)*(IF($P54=\"\",0,1))*(IF($P54=\"Contract\",0,1))","v":0},{"$f":"IF($C54=Post!$B$25,1,0)*(IF($P54=\"\",0,1))*(IF($P54=\"Contract\",0,1))","v":0},{"$f":"IF($C54=Post!$B$26,1,0)*(IF($P54=\"\",0,1))*(IF($P54=\"Contract\",0,1))","v":0},{"$f":"IF($C54=Post!$B$27,1,0)*(IF($P54=\"\",0,1))*(IF($P54=\"Contract\",0,1))","v":0},{"$f":"IF($C54=Post!$B$28,1,0)*(IF($P54=\"\",0,1))*(IF($P54=\"Contract\",0,1))","v":0},{"$f":"IF($C54=Post!$B$29,1,0)*(IF($P54=\"\",0,1))*(IF($P54=\"Contract\",0,1))","v":0},{"$f":"IF($C54=Post!$B$30,1,0)*(IF($P54=\"\",0,1))*(IF($P54=\"Contract\",0,1))","v":0},{"$f":"IF($C54=Post!$B$31,1,0)*(IF($P54=\"\",0,1))*(IF($P54=\"Contract\",0,1))","v":0},{"$f":"IF($C54=Post!$B$32,1,0)*(IF($P54=\"\",0,1))*(IF($P54=\"Contract\",0,1))","v":0},{"$f":"IF($C54=Post!$B$33,1,0)*(IF($P54=\"\",0,1))*(IF($P54=\"Contract\",0,1))","v":0},{"$f":"IF($C54=Post!$B$34,1,0)*(IF($P54=\"\",0,1))*(IF($P54=\"Contract\",0,1))","v":0},{"$f":"IF($C54=Post!$B$35,1,0)*(IF($P54=\"\",0,1))*(IF($P54=\"Contract\",0,1))","v":0},{"$f":"IF($C54=Post!$B$36,1,0)*(IF($P54=\"\",0,1))*(IF($P54=\"Contract\",0,1))","v":0},{"$f":"IF($C54=Post!$B$37,1,0)*(IF($P54=\"\",0,1))*(IF($P54=\"Contract\",0,1))","v":0},{"$f":"IF($C54=Post!$B$38,1,0)*(IF($P54=\"\",0,1))*(IF($P54=\"Contract\",0,1))","v":0},{"$f":"IF($C54=Post!$B$39,1,0)*(IF($P54=\"\",0,1))*(IF($P54=\"Contract\",0,1))","v":0},{"$f":"IF($C54=Post!$B$40,1,0)*(IF($P54=\"\",0,1))*(IF($P54=\"Contract\",0,1))","v":0},{"$f":"IF($C54=Post!$B$41,1,0)*(IF($P54=\"\",0,1))*(IF($P54=\"Contract\",0,1))","v":0},{"$f":"IF($C54=Post!$B$42,1,0)*(IF($P54=\"\",0,1))*(IF($P54=\"Contract\",0,1))","v":0},{"$f":"IF($C54=Post!$B$43,1,0)*(IF($P54=\"\",0,1))*(IF($P54=\"Contract\",0,1))","v":0},{"$f":"IF($C54=Post!$B$44,1,0)*(IF($P54=\"\",0,1))*(IF($P54=\"Contract\",0,1))","v":0},{"$f":"IF($C54=Post!$B$45,1,0)*(IF($P54=\"\",0,1))*(IF($P54=\"Contract\",0,1))","v":0},{"$f":"IF($C54=Post!$B$46,1,0)*(IF($P54=\"\",0,1))*(IF($P54=\"Contract\",0,1))","v":0},{"$f":"IF($C54=Post!$B$47,1,0)*(IF($P54=\"\",0,1))*(IF($P54=\"Contract\",0,1))","v":0},{"$f":"IF(C54=Post!B$48,1,0)*(IF(P54=\"\",0,1))*(IF($P54=\"Contract\",0,1))","v":0},{"$f":"IF(C54=Post!B$49,1,0)*(IF(P54=\"\",0,1))*(IF($P54=\"Contract\",0,1))","v":0},{"$f":"IF(C54=Post!B$50,1,0)*(IF(P54=\"\",0,1))*(IF($P54=\"Contract\",0,1))","v":0},0,0,0,0,0,0,0,0,0,0,0,0,0,0,0,0,0,0,0,0,0,0,0,0,0,0,0,0,0,0,0,0,0,0,0,0,0,0,0,0,0,0,0,0,0,0]
["",{"$f":"IF(C55=\"\",\"\",Database!H$5)","v":""},null,null,null,null,null,null,null,null,null,null,null,null,null,null,"",null,null,0,0,0,0,0,"",0,0,0,0,0,0,0,0,0,0,"",{"$f":"IF($C55=Post!$B$11,1,0)*(IF($P55=\"\",0,1))*(IF($P55=\"Contract\",0,1))","v":0},{"$f":"IF($C55=Post!$B$12,1,0)*(IF($P55=\"\",0,1))*(IF($P55=\"Contract\",0,1))","v":0},{"$f":"IF($C55=Post!$B$13,1,0)*(IF($P55=\"\",0,1))*(IF($P55=\"Contract\",0,1))","v":0},{"$f":"IF($C55=Post!$B$14,1,0)*(IF($P55=\"\",0,1))*(IF($P55=\"Contract\",0,1))","v":0},{"$f":"IF($C55=Post!$B$15,1,0)*(IF($P55=\"\",0,1))*(IF($P55=\"Contract\",0,1))","v":0},{"$f":"IF($C55=Post!$B$16,1,0)*(IF($P55=\"\",0,1))*(IF($P55=\"Contract\",0,1))","v":0},{"$f":"IF($C55=Post!$B$17,1,0)*(IF($P55=\"\",0,1))*(IF($P55=\"Contract\",0,1))","v":0},{"$f":"IF($C55=Post!$B$18,1,0)*(IF($P55=\"\",0,1))*(IF($P55=\"Contract\",0,1))","v":0},{"$f":"IF($C55=Post!$B$19,1,0)*(IF($P55=\"\",0,1))*(IF($P55=\"Contract\",0,1))","v":0},{"$f":"IF($C55=Post!$B$20,1,0)*(IF($P55=\"\",0,1))*(IF($P55=\"Contract\",0,1))","v":0},{"$f":"IF($C55=Post!$B$21,1,0)*(IF($P55=\"\",0,1))*(IF($P55=\"Contract\",0,1))","v":0},{"$f":"IF($C55=Post!$B$2,1,0)*(IF($P55=\"\",0,1))*(IF($P55=\"Contract\",0,1))","v":0},{"$f":"IF($C55=Post!$B$23,1,0)*(IF($P55=\"\",0,1))*(IF($P55=\"Contract\",0,1))","v":0},{"$f":"IF($C55=Post!$B$24,1,0)*(IF($P55=\"\",0,1))*(IF($P55=\"Contract\",0,1))","v":0},{"$f":"IF($C55=Post!$B$25,1,0)*(IF($P55=\"\",0,1))*(IF($P55=\"Contract\",0,1))","v":0},{"$f":"IF($C55=Post!$B$26,1,0)*(IF($P55=\"\",0,1))*(IF($P55=\"Contract\",0,1))","v":0},{"$f":"IF($C55=Post!$B$27,1,0)*(IF($P55=\"\",0,1))*(IF($P55=\"Contract\",0,1))","v":0},{"$f":"IF($C55=Post!$B$28,1,0)*(IF($P55=\"\",0,1))*(IF($P55=\"Contract\",0,1))","v":0},{"$f":"IF($C55=Post!$B$29,1,0)*(IF($P55=\"\",0,1))*(IF($P55=\"Contract\",0,1))","v":0},{"$f":"IF($C55=Post!$B$30,1,0)*(IF($P55=\"\",0,1))*(IF($P55=\"Contract\",0,1))","v":0},{"$f":"IF($C55=Post!$B$31,1,0)*(IF($P55=\"\",0,1))*(IF($P55=\"Contract\",0,1))","v":0},{"$f":"IF($C55=Post!$B$32,1,0)*(IF($P55=\"\",0,1))*(IF($P55=\"Contract\",0,1))","v":0},{"$f":"IF($C55=Post!$B$33,1,0)*(IF($P55=\"\",0,1))*(IF($P55=\"Contract\",0,1))","v":0},{"$f":"IF($C55=Post!$B$34,1,0)*(IF($P55=\"\",0,1))*(IF($P55=\"Contract\",0,1))","v":0},{"$f":"IF($C55=Post!$B$35,1,0)*(IF($P55=\"\",0,1))*(IF($P55=\"Contract\",0,1))","v":0},{"$f":"IF($C55=Post!$B$36,1,0)*(IF($P55=\"\",0,1))*(IF($P55=\"Contract\",0,1))","v":0},{"$f":"IF($C55=Post!$B$37,1,0)*(IF($P55=\"\",0,1))*(IF($P55=\"Contract\",0,1))","v":0},{"$f":"IF($C55=Post!$B$38,1,0)*(IF($P55=\"\",0,1))*(IF($P55=\"Contract\",0,1))","v":0},{"$f":"IF($C55=Post!$B$39,1,0)*(IF($P55=\"\",0,1))*(IF($P55=\"Contract\",0,1))","v":0},{"$f":"IF($C55=Post!$B$40,1,0)*(IF($P55=\"\",0,1))*(IF($P55=\"Contract\",0,1))","v":0},{"$f":"IF($C55=Post!$B$41,1,0)*(IF($P55=\"\",0,1))*(IF($P55=\"Contract\",0,1))","v":0},{"$f":"IF($C55=Post!$B$42,1,0)*(IF($P55=\"\",0,1))*(IF($P55=\"Contract\",0,1))","v":0},{"$f":"IF($C55=Post!$B$43,1,0)*(IF($P55=\"\",0,1))*(IF($P55=\"Contract\",0,1))","v":0},{"$f":"IF($C55=Post!$B$44,1,0)*(IF($P55=\"\",0,1))*(IF($P55=\"Contract\",0,1))","v":0},{"$f":"IF($C55=Post!$B$45,1,0)*(IF($P55=\"\",0,1))*(IF($P55=\"Contract\",0,1))","v":0},{"$f":"IF($C55=Post!$B$46,1,0)*(IF($P55=\"\",0,1))*(IF($P55=\"Contract\",0,1))","v":0},{"$f":"IF($C55=Post!$B$47,1,0)*(IF($P55=\"\",0,1))*(IF($P55=\"Contract\",0,1))","v":0},{"$f":"IF(C55=Post!B$48,1,0)*(IF(P55=\"\",0,1))*(IF($P55=\"Contract\",0,1))","v":0},{"$f":"IF(C55=Post!B$49,1,0)*(IF(P55=\"\",0,1))*(IF($P55=\"Contract\",0,1))","v":0},{"$f":"IF(C55=Post!B$50,1,0)*(IF(P55=\"\",0,1))*(IF($P55=\"Contract\",0,1))","v":0},0,0,0,0,0,0,0,0,0,0,0,0,0,0,0,0,0,0,0,0,0,0,0,0,0,0,0,0,0,0,0,0,0,0,0,0,0,0,0,0,0,0,0,0,0,0]
["",{"$f":"IF(C56=\"\",\"\",Database!H$5)","v":""},null,null,null,null,null,null,null,null,null,null,null,null,null,null,"",null,null,0,0,0,0,0,"",0,0,0,0,0,0,0,0,0,0,"",{"$f":"IF($C56=Post!$B$11,1,0)*(IF($P56=\"\",0,1))*(IF($P56=\"Contract\",0,1))","v":0},{"$f":"IF($C56=Post!$B$12,1,0)*(IF($P56=\"\",0,1))*(IF($P56=\"Contract\",0,1))","v":0},{"$f":"IF($C56=Post!$B$13,1,0)*(IF($P56=\"\",0,1))*(IF($P56=\"Contract\",0,1))","v":0},{"$f":"IF($C56=Post!$B$14,1,0)*(IF($P56=\"\",0,1))*(IF($P56=\"Contract\",0,1))","v":0},{"$f":"IF($C56=Post!$B$15,1,0)*(IF($P56=\"\",0,1))*(IF($P56=\"Contract\",0,1))","v":0},{"$f":"IF($C56=Post!$B$16,1,0)*(IF($P56=\"\",0,1))*(IF($P56=\"Contract\",0,1))","v":0},{"$f":"IF($C56=Post!$B$17,1,0)*(IF($P56=\"\",0,1))*(IF($P56=\"Contract\",0,1))","v":0},{"$f":"IF($C56=Post!$B$18,1,0)*(IF($P56=\"\",0,1))*(IF($P56=\"Contract\",0,1))","v":0},{"$f":"IF($C56=Post!$B$19,1,0)*(IF($P56=\"\",0,1))*(IF($P56=\"Contract\",0,1))","v":0},{"$f":"IF($C56=Post!$B$20,1,0)*(IF($P56=\"\",0,1))*(IF($P56=\"Contract\",0,1))","v":0},{"$f":"IF($C56=Post!$B$21,1,0)*(IF($P56=\"\",0,1))*(IF($P56=\"Contract\",0,1))","v":0},{"$f":"IF($C56=Post!$B$2,1,0)*(IF($P56=\"\",0,1))*(IF($P56=\"Contract\",0,1))","v":0},{"$f":"IF($C56=Post!$B$23,1,0)*(IF($P56=\"\",0,1))*(IF($P56=\"Contract\",0,1))","v":0},{"$f":"IF($C56=Post!$B$24,1,0)*(IF($P56=\"\",0,1))*(IF($P56=\"Contract\",0,1))","v":0},{"$f":"IF($C56=Post!$B$25,1,0)*(IF($P56=\"\",0,1))*(IF($P56=\"Contract\",0,1))","v":0},{"$f":"IF($C56=Post!$B$26,1,0)*(IF($P56=\"\",0,1))*(IF($P56=\"Contract\",0,1))","v":0},{"$f":"IF($C56=Post!$B$27,1,0)*(IF($P56=\"\",0,1))*(IF($P56=\"Contract\",0,1))","v":0},{"$f":"IF($C56=Post!$B$28,1,0)*(IF($P56=\"\",0,1))*(IF($P56=\"Contract\",0,1))","v":0},{"$f":"IF($C56=Post!$B$29,1,0)*(IF($P56=\"\",0,1))*(IF($P56=\"Contract\",0,1))","v":0},{"$f":"IF($C56=Post!$B$30,1,0)*(IF($P56=\"\",0,1))*(IF($P56=\"Contract\",0,1))","v":0},{"$f":"IF($C56=Post!$B$31,1,0)*(IF($P56=\"\",0,1))*(IF($P56=\"Contract\",0,1))","v":0},{"$f":"IF($C56=Post!$B$32,1,0)*(IF($P56=\"\",0,1))*(IF($P56=\"Contract\",0,1))","v":0},{"$f":"IF($C56=Post!$B$33,1,0)*(IF($P56=\"\",0,1))*(IF($P56=\"Contract\",0,1))","v":0},{"$f":"IF($C56=Post!$B$34,1,0)*(IF($P56=\"\",0,1))*(IF($P56=\"Contract\",0,1))","v":0},{"$f":"IF($C56=Post!$B$35,1,0)*(IF($P56=\"\",0,1))*(IF($P56=\"Contract\",0,1))","v":0},{"$f":"IF($C56=Post!$B$36,1,0)*(IF($P56=\"\",0,1))*(IF($P56=\"Contract\",0,1))","v":0},{"$f":"IF($C56=Post!$B$37,1,0)*(IF($P56=\"\",0,1))*(IF($P56=\"Contract\",0,1))","v":0},{"$f":"IF($C56=Post!$B$38,1,0)*(IF($P56=\"\",0,1))*(IF($P56=\"Contract\",0,1))","v":0},{"$f":"IF($C56=Post!$B$39,1,0)*(IF($P56=\"\",0,1))*(IF($P56=\"Contract\",0,1))","v":0},{"$f":"IF($C56=Post!$B$40,1,0)*(IF($P56=\"\",0,1))*(IF($P56=\"Contract\",0,1))","v":0},{"$f":"IF($C56=Post!$B$41,1,0)*(IF($P56=\"\",0,1))*(IF($P56=\"Contract\",0,1))","v":0},{"$f":"IF($C56=Post!$B$42,1,0)*(IF($P56=\"\",0,1))*(IF($P56=\"Contract\",0,1))","v":0},{"$f":"IF($C56=Post!$B$43,1,0)*(IF($P56=\"\",0,1))*(IF($P56=\"Contract\",0,1))","v":0},{"$f":"IF($C56=Post!$B$44,1,0)*(IF($P56=\"\",0,1))*(IF($P56=\"Contract\",0,1))","v":0},{"$f":"IF($C56=Post!$B$45,1,0)*(IF($P56=\"\",0,1))*(IF($P56=\"Contract\",0,1))","v":0},{"$f":"IF($C56=Post!$B$46,1,0)*(IF($P56=\"\",0,1))*(IF($P56=\"Contract\",0,1))","v":0},{"$f":"IF($C56=Post!$B$47,1,0)*(IF($P56=\"\",0,1))*(IF($P56=\"Contract\",0,1))","v":0},{"$f":"IF(C56=Post!B$48,1,0)*(IF(P56=\"\",0,1))*(IF($P56=\"Contract\",0,1))","v":0},{"$f":"IF(C56=Post!B$49,1,0)*(IF(P56=\"\",0,1))*(IF($P56=\"Contract\",0,1))","v":0},{"$f":"IF(C56=Post!B$50,1,0)*(IF(P56=\"\",0,1))*(IF($P56=\"Contract\",0,1))","v":0},0,0,0,0,0,0,0,0,0,0,0,0,0,0,0,0,0,0,0,0,0,0,0,0,0,0,0,0,0,0,0,0,0,0,0,0,0,0,0,0,0,0,0,0,0,0]
["",{"$f":"IF(C57=\"\",\"\",Database!H$5)","v":""},null,null,null,null,null,null,null,null,null,null,null,null,null,null,"",null,null,0,0,0,0,0,"",0,0,0,0,0,0,0,0,0,0,"",{"$f":"IF($C57=Post!$B$11,1,0)*(IF($P57=\"\",0,1))*(IF($P57=\"Contract\",0,1))","v":0},{"$f":"IF($C57=Post!$B$12,1,0)*(IF($P57=\"\",0,1))*(IF($P57=\"Contract\",0,1))","v":0},{"$f":"IF($C57=Post!$B$13,1,0)*(IF($P57=\"\",0,1))*(IF($P57=\"Contract\",0,1))","v":0},{"$f":"IF($C57=Post!$B$14,1,0)*(IF($P57=\"\",0,1))*(IF($P57=\"Contract\",0,1))","v":0},{"$f":"IF($C57=Post!$B$15,1,0)*(IF($P57=\"\",0,1))*(IF($P57=\"Contract\",0,1))","v":0},{"$f":"IF($C57=Post!$B$16,1,0)*(IF($P57=\"\",0,1))*(IF($P57=\"Contract\",0,1))","v":0},{"$f":"IF($C57=Post!$B$17,1,0)*(IF($P57=\"\",0,1))*(IF($P57=\"Contract\",0,1))","v":0},{"$f":"IF($C57=Post!$B$18,1,0)*(IF($P57=\"\",0,1))*(IF($P57=\"Contract\",0,1))","v":0},{"$f":"IF($C57=Post!$B$19,1,0)*(IF($P57=\"\",0,1))*(IF($P57=\"Contract\",0,1))","v":0},{"$f":"IF($C57=Post!$B$20,1,0)*(IF($P57=\"\",0,1))*(IF($P57=\"Contract\",0,1))","v":0},{"$f":"IF($C57=Post!$B$21,1,0)*(IF($P57=\"\",0,1))*(IF($P57=\"Contract\",0,1))","v":0},{"$f":"IF($C57=Post!$B$2,1,0)*(IF($P57=\"\",0,1))*(IF($P57=\"Contract\",0,1))","v":0},{"$f":"IF($C57=Post!$B$23,1,0)*(IF($P57=\"\",0,1))*(IF($P57=\"Contract\",0,1))","v":0},{"$f":"IF($C57=Post!$B$24,1,0)*(IF($P57=\"\",0,1))*(IF($P57=\"Contract\",0,1))","v":0},{"$f":"IF($C57=Post!$B$25,1,0)*(IF($P57=\"\",0,1))*(IF($P57=\"Contract\",0,1))","v":0},{"$f":"IF($C57=Post!$B$26,1,0)*(IF($P57=\"\",0,1))*(IF($P57=\"Contract\",0,1))","v":0},{"$f":"IF($C57=Post!$B$27,1,0)*(IF($P57=\"\",0,1))*(IF($P57=\"Contract\",0,1))","v":0},{"$f":"IF($C57=Post!$B$28,1,0)*(IF($P57=\"\",0,1))*(IF($P57=\"Contract\",0,1))","v":0},{"$f":"IF($C57=Post!$B$29,1,0)*(IF($P57=\"\",0,1))*(IF($P57=\"Contract\",0,1))","v":0},{"$f":"IF($C57=Post!$B$30,1,0)*(IF($P57=\"\",0,1))*(IF($P57=\"Contract\",0,1))","v":0},{"$f":"IF($C57=Post!$B$31,1,0)*(IF($P57=\"\",0,1))*(IF($P57=\"Contract\",0,1))","v":0},{"$f":"IF($C57=Post!$B$32,1,0)*(IF($P57=\"\",0,1))*(IF($P57=\"Contract\",0,1))","v":0},{"$f":"IF($C57=Post!$B$33,1,0)*(IF($P57=\"\",0,1))*(IF($P57=\"Contract\",0,1))","v":0},{"$f":"IF($C57=Post!$B$34,1,0)*(IF($P57=\"\",0,1))*(IF($P57=\"Contract\",0,1))","v":0},{"$f":"IF($C57=Post!$B$35,1,0)*(IF($P57=\"\",0,1))*(IF($P57=\"Contract\",0,1))","v":0},{"$f":"IF($C57=Post!$B$36,1,0)*(IF($P57=\"\",0,1))*(IF($P57=\"Contract\",0,1))","v":0},{"$f":"IF($C57=Post!$B$37,1,0)*(IF($P57=\"\",0,1))*(IF($P57=\"Contract\",0,1))","v":0},{"$f":"IF($C57=Post!$B$38,1,0)*(IF($P57=\"\",0,1))*(IF($P57=\"Contract\",0,1))","v":0},{"$f":"IF($C57=Post!$B$39,1,0)*(IF($P57=\"\",0,1))*(IF($P57=\"Contract\",0,1))","v":0},{"$f":"IF($C57=Post!$B$40,1,0)*(IF($P57=\"\",0,1))*(IF($P57=\"Contract\",0,1))","v":0},{"$f":"IF($C57=Post!$B$41,1,0)*(IF($P57=\"\",0,1))*(IF($P57=\"Contract\",0,1))","v":0},{"$f":"IF($C57=Post!$B$42,1,0)*(IF($P57=\"\",0,1))*(IF($P57=\"Contract\",0,1))","v":0},{"$f":"IF($C57=Post!$B$43,1,0)*(IF($P57=\"\",0,1))*(IF($P57=\"Contract\",0,1))","v":0},{"$f":"IF($C57=Post!$B$44,1,0)*(IF($P57=\"\",0,1))*(IF($P57=\"Contract\",0,1))","v":0},{"$f":"IF($C57=Post!$B$45,1,0)*(IF($P57=\"\",0,1))*(IF($P57=\"Contract\",0,1))","v":0},{"$f":"IF($C57=Post!$B$46,1,0)*(IF($P57=\"\",0,1))*(IF($P57=\"Contract\",0,1))","v":0},{"$f":"IF($C57=Post!$B$47,1,0)*(IF($P57=\"\",0,1))*(IF($P57=\"Contract\",0,1))","v":0},{"$f":"IF(C57=Post!B$48,1,0)*(IF(P57=\"\",0,1))*(IF($P57=\"Contract\",0,1))","v":0},{"$f":"IF(C57=Post!B$49,1,0)*(IF(P57=\"\",0,1))*(IF($P57=\"Contract\",0,1))","v":0},{"$f":"IF(C57=Post!B$50,1,0)*(IF(P57=\"\",0,1))*(IF($P57=\"Contract\",0,1))","v":0},0,0,0,0,0,0,0,0,0,0,0,0,0,0,0,0,0,0,0,0,0,0,0,0,0,0,0,0,0,0,0,0,0,0,0,0,0,0,0,0,0,0,0,0,0,0]
["",{"$f":"IF(C58=\"\",\"\",Database!H$5)","v":""},null,null,null,null,null,null,null,null,null,null,null,null,null,null,"",null,null,0,0,0,0,0,"",0,0,0,0,0,0,0,0,0,0,"",{"$f":"IF($C58=Post!$B$11,1,0)*(IF($P58=\"\",0,1))*(IF($P58=\"Contract\",0,1))","v":0},{"$f":"IF($C58=Post!$B$12,1,0)*(IF($P58=\"\",0,1))*(IF($P58=\"Contract\",0,1))","v":0},{"$f":"IF($C58=Post!$B$13,1,0)*(IF($P58=\"\",0,1))*(IF($P58=\"Contract\",0,1))","v":0},{"$f":"IF($C58=Post!$B$14,1,0)*(IF($P58=\"\",0,1))*(IF($P58=\"Contract\",0,1))","v":0},{"$f":"IF($C58=Post!$B$15,1,0)*(IF($P58=\"\",0,1))*(IF($P58=\"Contract\",0,1))","v":0},{"$f":"IF($C58=Post!$B$16,1,0)*(IF($P58=\"\",0,1))*(IF($P58=\"Contract\",0,1))","v":0},{"$f":"IF($C58=Post!$B$17,1,0)*(IF($P58=\"\",0,1))*(IF($P58=\"Contract\",0,1))","v":0},{"$f":"IF($C58=Post!$B$18,1,0)*(IF($P58=\"\",0,1))*(IF($P58=\"Contract\",0,1))","v":0},{"$f":"IF($C58=Post!$B$19,1,0)*(IF($P58=\"\",0,1))*(IF($P58=\"Contract\",0,1))","v":0},{"$f":"IF($C58=Post!$B$20,1,0)*(IF($P58=\"\",0,1))*(IF($P58=\"Contract\",0,1))","v":0},{"$f":"IF($C58=Post!$B$21,1,0)*(IF($P58=\"\",0,1))*(IF($P58=\"Contract\",0,1))","v":0},{"$f":"IF($C58=Post!$B$2,1,0)*(IF($P58=\"\",0,1))*(IF($P58=\"Contract\",0,1))","v":0},{"$f":"IF($C58=Post!$B$23,1,0)*(IF($P58=\"\",0,1))*(IF($P58=\"Contract\",0,1))","v":0},{"$f":"IF($C58=Post!$B$24,1,0)*(IF($P58=\"\",0,1))*(IF($P58=\"Contract\",0,1))","v":0},{"$f":"IF($C58=Post!$B$25,1,0)*(IF($P58=\"\",0,1))*(IF($P58=\"Contract\",0,1))","v":0},{"$f":"IF($C58=Post!$B$26,1,0)*(IF($P58=\"\",0,1))*(IF($P58=\"Contract\",0,1))","v":0},{"$f":"IF($C58=Post!$B$27,1,0)*(IF($P58=\"\",0,1))*(IF($P58=\"Contract\",0,1))","v":0},{"$f":"IF($C58=Post!$B$28,1,0)*(IF($P58=\"\",0,1))*(IF($P58=\"Contract\",0,1))","v":0},{"$f":"IF($C58=Post!$B$29,1,0)*(IF($P58=\"\",0,1))*(IF($P58=\"Contract\",0,1))","v":0},{"$f":"IF($C58=Post!$B$30,1,0)*(IF($P58=\"\",0,1))*(IF($P58=\"Contract\",0,1))","v":0},{"$f":"IF($C58=Post!$B$31,1,0)*(IF($P58=\"\",0,1))*(IF($P58=\"Contract\",0,1))","v":0},{"$f":"IF($C58=Post!$B$32,1,0)*(IF($P58=\"\",0,1))*(IF($P58=\"Contract\",0,1))","v":0},{"$f":"IF($C58=Post!$B$33,1,0)*(IF($P58=\"\",0,1))*(IF($P58=\"Contract\",0,1))","v":0},{"$f":"IF($C58=Post!$B$34,1,0)*(IF($P58=\"\",0,1))*(IF($P58=\"Contract\",0,1))","v":0},{"$f":"IF($C58=Post!$B$35,1,0)*(IF($P58=\"\",0,1))*(IF($P58=\"Contract\",0,1))","v":0},{"$f":"IF($C58=Post!$B$36,1,0)*(IF($P58=\"\",0,1))*(IF($P58=\"Contract\",0,1))","v":0},{"$f":"IF($C58=Post!$B$37,1,0)*(IF($P58=\"\",0,1))*(IF($P58=\"Contract\",0,1))","v":0},{"$f":"IF($C58=Post!$B$38,1,0)*(IF($P58=\"\",0,1))*(IF($P58=\"Contract\",0,1))","v":0},{"$f":"IF($C58=Post!$B$39,1,0)*(IF($P58=\"\",0,1))*(IF($P58=\"Contract\",0,1))","v":0},{"$f":"IF($C58=Post!$B$40,1,0)*(IF($P58=\"\",0,1))*(IF($P58=\"Contract\",0,1))","v":0},{"$f":"IF($C58=Post!$B$41,1,0)*(IF($P58=\"\",0,1))*(IF($P58=\"Contract\",0,1))","v":0},{"$f":"IF($C58=Post!$B$42,1,0)*(IF($P58=\"\",0,1))*(IF($P58=\"Contract\",0,1))","v":0},{"$f":"IF($C58=Post!$B$43,1,0)*(IF($P58=\"\",0,1))*(IF($P58=\"Contract\",0,1))","v":0},{"$f":"IF($C58=Post!$B$44,1,0)*(IF($P58=\"\",0,1))*(IF($P58=\"Contract\",0,1))","v":0},{"$f":"IF($C58=Post!$B$45,1,0)*(IF($P58=\"\",0,1))*(IF($P58=\"Contract\",0,1))","v":0},{"$f":"IF($C58=Post!$B$46,1,0)*(IF($P58=\"\",0,1))*(IF($P58=\"Contract\",0,1))","v":0},{"$f":"IF($C58=Post!$B$47,1,0)*(IF($P58=\"\",0,1))*(IF($P58=\"Contract\",0,1))","v":0},{"$f":"IF(C58=Post!B$48,1,0)*(IF(P58=\"\",0,1))*(IF($P58=\"Contract\",0,1))","v":0},{"$f":"IF(C58=Post!B$49,1,0)*(IF(P58=\"\",0,1))*(IF($P58=\"Contract\",0,1))","v":0},{"$f":"IF(C58=Post!B$50,1,0)*(IF(P58=\"\",0,1))*(IF($P58=\"Contract\",0,1))","v":0},0,0,0,0,0,0,0,0,0,0,0,0,0,0,0,0,0,0,0,0,0,0,0,0,0,0,0,0,0,0,0,0,0,0,0,0,0,0,0,0,0,0,0,0,0,0]
["",{"$f":"IF(C59=\"\",\"\",Database!H$5)","v":""},null,null,null,null,null,null,null,null,null,null,null,null,null,null,"",null,null,0,0,0,0,0,"",0,0,0,0,0,0,0,0,0,0,"",{"$f":"IF($C59=Post!$B$11,1,0)*(IF($P59=\"\",0,1))*(IF($P59=\"Contract\",0,1))","v":0},{"$f":"IF($C59=Post!$B$12,1,0)*(IF($P59=\"\",0,1))*(IF($P59=\"Contract\",0,1))","v":0},{"$f":"IF($C59=Post!$B$13,1,0)*(IF($P59=\"\",0,1))*(IF($P59=\"Contract\",0,1))","v":0},{"$f":"IF($C59=Post!$B$14,1,0)*(IF($P59=\"\",0,1))*(IF($P59=\"Contract\",0,1))","v":0},{"$f":"IF($C59=Post!$B$15,1,0)*(IF($P59=\"\",0,1))*(IF($P59=\"Contract\",0,1))","v":0},{"$f":"IF($C59=Post!$B$16,1,0)*(IF($P59=\"\",0,1))*(IF($P59=\"Contract\",0,1))","v":0},{"$f":"IF($C59=Post!$B$17,1,0)*(IF($P59=\"\",0,1))*(IF($P59=\"Contract\",0,1))","v":0},{"$f":"IF($C59=Post!$B$18,1,0)*(IF($P59=\"\",0,1))*(IF($P59=\"Contract\",0,1))","v":0},{"$f":"IF($C59=Post!$B$19,1,0)*(IF($P59=\"\",0,1))*(IF($P59=\"Contract\",0,1))","v":0},{"$f":"IF($C59=Post!$B$20,1,0)*(IF($P59=\"\",0,1))*(IF($P59=\"Contract\",0,1))","v":0},{"$f":"IF($C59=Post!$B$21,1,0)*(IF($P59=\"\",0,1))*(IF($P59=\"Contract\",0,1))","v":0},{"$f":"IF($C59=Post!$B$2,1,0)*(IF($P59=\"\",0,1))*(IF($P59=\"Contract\",0,1))","v":0},{"$f":"IF($C59=Post!$B$23,1,0)*(IF($P59=\"\",0,1))*(IF($P59=\"Contract\",0,1))","v":0},{"$f":"IF($C59=Post!$B$24,1,0)*(IF($P59=\"\",0,1))*(IF($P59=\"Contract\",0,1))","v":0},{"$f":"IF($C59=Post!$B$25,1,0)*(IF($P59=\"\",0,1))*(IF($P59=\"Contract\",0,1))","v":0},{"$f":"IF($C59=Post!$B$26,1,0)*(IF($P59=\"\",0,1))*(IF($P59=\"Contract\",0,1))","v":0},{"$f":"IF($C59=Post!$B$27,1,0)*(IF($P59=\"\",0,1))*(IF($P59=\"Contract\",0,1))","v":0},{"$f":"IF($C59=Post!$B$28,1,0)*(IF($P59=\"\",0,1))*(IF($P59=\"Contract\",0,1))","v":0},{"$f":"IF($C59=Post!$B$29,1,0)*(IF($P59=\"\",0,1))*(IF($P59=\"Contract\",0,1))","v":0},{"$f":"IF($C59=Post!$B$30,1,0)*(IF($P59=\"\",0,1))*(IF($P59=\"Contract\",0,1))","v":0},{"$f":"IF($C59=Post!$B$31,1,0)*(IF($P59=\"\",0,1))*(IF($P59=\"Contract\",0,1))","v":0},{"$f":"IF($C59=Post!$B$32,1,0)*(IF($P59=\"\",0,1))*(IF($P59=\"Contract\",0,1))","v":0},{"$f":"IF($C59=Post!$B$33,1,0)*(IF($P59=\"\",0,1))*(IF($P59=\"Contract\",0,1))","v":0},{"$f":"IF($C59=Post!$B$34,1,0)*(IF($P59=\"\",0,1))*(IF($P59=\"Contract\",0,1))","v":0},{"$f":"IF($C59=Post!$B$35,1,0)*(IF($P59=\"\",0,1))*(IF($P59=\"Contract\",0,1))","v":0},{"$f":"IF($C59=Post!$B$36,1,0)*(IF($P59=\"\",0,1))*(IF($P59=\"Contract\",0,1))","v":0},{"$f":"IF($C59=Post!$B$37,1,0)*(IF($P59=\"\",0,1))*(IF($P59=\"Contract\",0,1))","v":0},{"$f":"IF($C59=Post!$B$38,1,0)*(IF($P59=\"\",0,1))*(IF($P59=\"Contract\",0,1))","v":0},{"$f":"IF($C59=Post!$B$39,1,0)*(IF($P59=\"\",0,1))*(IF($P59=\"Contract\",0,1))","v":0},{"$f":"IF($C59=Post!$B$40,1,0)*(IF($P59=\"\",0,1))*(IF($P59=\"Contract\",0,1))","v":0},{"$f":"IF($C59=Post!$B$41,1,0)*(IF($P59=\"\",0,1))*(IF($P59=\"Contract\",0,1))","v":0},{"$f":"IF($C59=Post!$B$42,1,0)*(IF($P59=\"\",0,1))*(IF($P59=\"Contract\",0,1))","v":0},{"$f":"IF($C59=Post!$B$43,1,0)*(IF($P59=\"\",0,1))*(IF($P59=\"Contract\",0,1))","v":0},{"$f":"IF($C59=Post!$B$44,1,0)*(IF($P59=\"\",0,1))*(IF($P59=\"Contract\",0,1))","v":0},{"$f":"IF($C59=Post!$B$45,1,0)*(IF($P59=\"\",0,1))*(IF($P59=\"Contract\",0,1))","v":0},{"$f":"IF($C59=Post!$B$46,1,0)*(IF($P59=\"\",0,1))*(IF($P59=\"Contract\",0,1))","v":0},{"$f":"IF($C59=Post!$B$47,1,0)*(IF($P59=\"\",0,1))*(IF($P59=\"Contract\",0,1))","v":0},{"$f":"IF(C59=Post!B$48,1,0)*(IF(P59=\"\",0,1))*(IF($P59=\"Contract\",0,1))","v":0},{"$f":"IF(C59=Post!B$49,1,0)*(IF(P59=\"\",0,1))*(IF($P59=\"Contract\",0,1))","v":0},{"$f":"IF(C59=Post!B$50,1,0)*(IF(P59=\"\",0,1))*(IF($P59=\"Contract\",0,1))","v":0},0,0,0,0,0,0,0,0,0,0,0,0,0,0,0,0,0,0,0,0,0,0,0,0,0,0,0,0,0,0,0,0,0,0,0,0,0,0,0,0,0,0,0,0,0,0]
["",{"$f":"IF(C60=\"\",\"\",Database!H$5)","v":""},null,null,null,null,null,null,null,null,null,null,null,null,null,null,"",null,null,0,0,0,0,0,"",0,0,0,0,0,0,0,0,0,0,"",{"$f":"IF($C60=Post!$B$11,1,0)*(IF($P60=\"\",0,1))*(IF($P60=\"Contract\",0,1))","v":0},{"$f":"IF($C60=Post!$B$12,1,0)*(IF($P60=\"\",0,1))*(IF($P60=\"Contract\",0,1))","v":0},{"$f":"IF($C60=Post!$B$13,1,0)*(IF($P60=\"\",0,1))*(IF($P60=\"Contract\",0,1))","v":0},{"$f":"IF($C60=Post!$B$14,1,0)*(IF($P60=\"\",0,1))*(IF($P60=\"Contract\",0,1))","v":0},{"$f":"IF($C60=Post!$B$15,1,0)*(IF($P60=\"\",0,1))*(IF($P60=\"Contract\",0,1))","v":0},{"$f":"IF($C60=Post!$B$16,1,0)*(IF($P60=\"\",0,1))*(IF($P60=\"Contract\",0,1))","v":0},{"$f":"IF($C60=Post!$B$17,1,0)*(IF($P60=\"\",0,1))*(IF($P60=\"Contract\",0,1))","v":0},{"$f":"IF($C60=Post!$B$18,1,0)*(IF($P60=\"\",0,1))*(IF($P60=\"Contract\",0,1))","v":0},{"$f":"IF($C60=Post!$B$19,1,0)*(IF($P60=\"\",0,1))*(IF($P60=\"Contract\",0,1))","v":0},{"$f":"IF($C60=Post!$B$20,1,0)*(IF($P60=\"\",0,1))*(IF($P60=\"Contract\",0,1))","v":0},{"$f":"IF($C60=Post!$B$21,1,0)*(IF($P60=\"\",0,1))*(IF($P60=\"Contract\",0,1))","v":0},{"$f":"IF($C60=Post!$B$2,1,0)*(IF($P60=\"\",0,1))*(IF($P60=\"Contract\",0,1))","v":0},{"$f":"IF($C60=Post!$B$23,1,0)*(IF($P60=\"\",0,1))*(IF($P60=\"Contract\",0,1))","v":0},{"$f":"IF($C60=Post!$B$24,1,0)*(IF($P60=\"\",0,1))*(IF($P60=\"Contract\",0,1))","v":0},{"$f":"IF($C60=Post!$B$25,1,0)*(IF($P60=\"\",0,1))*(IF($P60=\"Contract\",0,1))","v":0},{"$f":"IF($C60=Post!$B$26,1,0)*(IF($P60=\"\",0,1))*(IF($P60=\"Contract\",0,1))","v":0},{"$f":"IF($C60=Post!$B$27,1,0)*(IF($P60=\"\",0,1))*(IF($P60=\"Contract\",0,1))","v":0},{"$f":"IF($C60=Post!$B$28,1,0)*(IF($P60=\"\",0,1))*(IF($P60=\"Contract\",0,1))","v":0},{"$f":"IF($C60=Post!$B$29,1,0)*(IF($P60=\"\",0,1))*(IF($P60=\"Contract\",0,1))","v":0},{"$f":"IF($C60=Post!$B$30,1,0)*(IF($P60=\"\",0,1))*(IF($P60=\"Contract\",0,1))","v":0},{"$f":"IF($C60=Post!$B$31,1,0)*(IF($P60=\"\",0,1))*(IF($P60=\"Contract\",0,1))","v":0},{"$f":"IF($C60=Post!$B$32,1,0)*(IF($P60=\"\",0,1))*(IF($P60=\"Contract\",0,1))","v":0},{"$f":"IF($C60=Post!$B$33,1,0)*(IF($P60=\"\",0,1))*(IF($P60=\"Contract\",0,1))","v":0},{"$f":"IF($C60=Post!$B$34,1,0)*(IF($P60=\"\",0,1))*(IF($P60=\"Contract\",0,1))","v":0},{"$f":"IF($C60=Post!$B$35,1,0)*(IF($P60=\"\",0,1))*(IF($P60=\"Contract\",0,1))","v":0},{"$f":"IF($C60=Post!$B$36,1,0)*(IF($P60=\"\",0,1))*(IF($P60=\"Contract\",0,1))","v":0},{"$f":"IF($C60=Post!$B$37,1,0)*(IF($P60=\"\",0,1))*(IF($P60=\"Contract\",0,1))","v":0},{"$f":"IF($C60=Post!$B$38,1,0)*(IF($P60=\"\",0,1))*(IF($P60=\"Contract\",0,1))","v":0},{"$f":"IF($C60=Post!$B$39,1,0)*(IF($P60=\"\",0,1))*(IF($P60=\"Contract\",0,1))","v":0},{"$f":"IF($C60=Post!$B$40,1,0)*(IF($P60=\"\",0,1))*(IF($P60=\"Contract\",0,1))","v":0},{"$f":"IF($C60=Post!$B$41,1,0)*(IF($P60=\"\",0,1))*(IF($P60=\"Contract\",0,1))","v":0},{"$f":"IF($C60=Post!$B$42,1,0)*(IF($P60=\"\",0,1))*(IF($P60=\"Contract\",0,1))","v":0},{"$f":"IF($C60=Post!$B$43,1,0)*(IF($P60=\"\",0,1))*(IF($P60=\"Contract\",0,1))","v":0},{"$f":"IF($C60=Post!$B$44,1,0)*(IF($P60=\"\",0,1))*(IF($P60=\"Contract\",0,1))","v":0},{"$f":"IF($C60=Post!$B$45,1,0)*(IF($P60=\"\",0,1))*(IF($P60=\"Contract\",0,1))","v":0},{"$f":"IF($C60=Post!$B$46,1,0)*(IF($P60=\"\",0,1))*(IF($P60=\"Contract\",0,1))","v":0},{"$f":"IF($C60=Post!$B$47,1,0)*(IF($P60=\"\",0,1))*(IF($P60=\"Contract\",0,1))","v":0},{"$f":"IF(C60=Post!B$48,1,0)*(IF(P60=\"\",0,1))*(IF($P60=\"Contract\",0,1))","v":0},{"$f":"IF(C60=Post!B$49,1,0)*(IF(P60=\"\",0,1))*(IF($P60=\"Contract\",0,1))","v":0},{"$f":"IF(C60=Post!B$50,1,0)*(IF(P60=\"\",0,1))*(IF($P60=\"Contract\",0,1))","v":0},0,0,0,0,0,0,0,0,0,0,0,0,0,0,0,0,0,0,0,0,0,0,0,0,0,0,0,0,0,0,0,0,0,0,0,0,0,0,0,0,0,0,0,0,0,0]
["",{"$f":"IF(C61=\"\",\"\",Database!H$5)","v":""},null,null,null,null,null,null,null,null,null,null,null,null,null,null,"",null,null,0,0,0,0,0,"",0,0,0,0,0,0,0,0,0,0,"",{"$f":"IF($C61=Post!$B$11,1,0)*(IF($P61=\"\",0,1))*(IF($P61=\"Contract\",0,1))","v":0},{"$f":"IF($C61=Post!$B$12,1,0)*(IF($P61=\"\",0,1))*(IF($P61=\"Contract\",0,1))","v":0},{"$f":"IF($C61=Post!$B$13,1,0)*(IF($P61=\"\",0,1))*(IF($P61=\"Contract\",0,1))","v":0},{"$f":"IF($C61=Post!$B$14,1,0)*(IF($P61=\"\",0,1))*(IF($P61=\"Contract\",0,1))","v":0},{"$f":"IF($C61=Post!$B$15,1,0)*(IF($P61=\"\",0,1))*(IF($P61=\"Contract\",0,1))","v":0},{"$f":"IF($C61=Post!$B$16,1,0)*(IF($P61=\"\",0,1))*(IF($P61=\"Contract\",0,1))","v":0},{"$f":"IF($C61=Post!$B$17,1,0)*(IF($P61=\"\",0,1))*(IF($P61=\"Contract\",0,1))","v":0},{"$f":"IF($C61=Post!$B$18,1,0)*(IF($P61=\"\",0,1))*(IF($P61=\"Contract\",0,1))","v":0},{"$f":"IF($C61=Post!$B$19,1,0)*(IF($P61=\"\",0,1))*(IF($P61=\"Contract\",0,1))","v":0},{"$f":"IF($C61=Post!$B$20,1,0)*(IF($P61=\"\",0,1))*(IF($P61=\"Contract\",0,1))","v":0},{"$f":"IF($C61=Post!$B$21,1,0)*(IF($P61=\"\",0,1))*(IF($P61=\"Contract\",0,1))","v":0},{"$f":"IF($C61=Post!$B$2,1,0)*(IF($P61=\"\",0,1))*(IF($P61=\"Contract\",0,1))","v":0},{"$f":"IF($C61=Post!$B$23,1,0)*(IF($P61=\"\",0,1))*(IF($P61=\"Contract\",0,1))","v":0},{"$f":"IF($C61=Post!$B$24,1,0)*(IF($P61=\"\",0,1))*(IF($P61=\"Contract\",0,1))","v":0},{"$f":"IF($C61=Post!$B$25,1,0)*(IF($P61=\"\",0,1))*(IF($P61=\"Contract\",0,1))","v":0},{"$f":"IF($C61=Post!$B$26,1,0)*(IF($P61=\"\",0,1))*(IF($P61=\"Contract\",0,1))","v":0},{"$f":"IF($C61=Post!$B$27,1,0)*(IF($P61=\"\",0,1))*(IF($P61=\"Contract\",0,1))","v":0},{"$f":"IF($C61=Post!$B$28,1,0)*(IF($P61=\"\",0,1))*(IF($P61=\"Contract\",0,1))","v":0},{"$f":"IF($C61=Post!$B$29,1,0)*(IF($P61=\"\",0,1))*(IF($P61=\"Contract\",0,1))","v":0},{"$f":"IF($C61=Post!$B$30,1,0)*(IF($P61=\"\",0,1))*(IF($P61=\"Contract\",0,1))","v":0},{"$f":"IF($C61=Post!$B$31,1,0)*(IF($P61=\"\",0,1))*(IF($P61=\"Contract\",0,1))","v":0},{"$f":"IF($C61=Post!$B$32,1,0)*(IF($P61=\"\",0,1))*(IF($P61=\"Contract\",0,1))","v":0},{"$f":"IF($C61=Post!$B$33,1,0)*(IF($P61=\"\",0,1))*(IF($P61=\"Contract\",0,1))","v":0},{"$f":"IF($C61=Post!$B$34,1,0)*(IF($P61=\"\",0,1))*(IF($P61=\"Contract\",0,1))","v":0},{"$f":"IF($C61=Post!$B$35,1,0)*(IF($P61=\"\",0,1))*(IF($P61=\"Contract\",0,1))","v":0},{"$f":"IF($C61=Post!$B$36,1,0)*(IF($P61=\"\",0,1))*(IF($P61=\"Contract\",0,1))","v":0},{"$f":"IF($C61=Post!$B$37,1,0)*(IF($P61=\"\",0,1))*(IF($P61=\"Contract\",0,1))","v":0},{"$f":"IF($C61=Post!$B$38,1,0)*(IF($P61=\"\",0,1))*(IF($P61=\"Contract\",0,1))","v":0},{"$f":"IF($C61=Post!$B$39,1,0)*(IF($P61=\"\",0,1))*(IF($P61=\"Contract\",0,1))","v":0},{"$f":"IF($C61=Post!$B$40,1,0)*(IF($P61=\"\",0,1))*(IF($P61=\"Contract\",0,1))","v":0},{"$f":"IF($C61=Post!$B$41,1,0)*(IF($P61=\"\",0,1))*(IF($P61=\"Contract\",0,1))","v":0},{"$f":"IF($C61=Post!$B$42,1,0)*(IF($P61=\"\",0,1))*(IF($P61=\"Contract\",0,1))","v":0},{"$f":"IF($C61=Post!$B$43,1,0)*(IF($P61=\"\",0,1))*(IF($P61=\"Contract\",0,1))","v":0},{"$f":"IF($C61=Post!$B$44,1,0)*(IF($P61=\"\",0,1))*(IF($P61=\"Contract\",0,1))","v":0},{"$f":"IF($C61=Post!$B$45,1,0)*(IF($P61=\"\",0,1))*(IF($P61=\"Contract\",0,1))","v":0},{"$f":"IF($C61=Post!$B$46,1,0)*(IF($P61=\"\",0,1))*(IF($P61=\"Contract\",0,1))","v":0},{"$f":"IF($C61=Post!$B$47,1,0)*(IF($P61=\"\",0,1))*(IF($P61=\"Contract\",0,1))","v":0},{"$f":"IF(C61=Post!B$48,1,0)*(IF(P61=\"\",0,1))*(IF($P61=\"Contract\",0,1))","v":0},{"$f":"IF(C61=Post!B$49,1,0)*(IF(P61=\"\",0,1))*(IF($P61=\"Contract\",0,1))","v":0},{"$f":"IF(C61=Post!B$50,1,0)*(IF(P61=\"\",0,1))*(IF($P61=\"Contract\",0,1))","v":0},0,0,0,0,0,0,0,0,0,0,0,0,0,0,0,0,0,0,0,0,0,0,0,0,0,0,0,0,0,0,0,0,0,0,0,0,0,0,0,0,0,0,0,0,0,0]
["",{"$f":"IF(C62=\"\",\"\",Database!H$5)","v":""},null,null,null,null,null,null,null,null,null,null,null,null,null,null,"",null,null,0,0,0,0,0,"",0,0,0,0,0,0,0,0,0,0,"",{"$f":"IF($C62=Post!$B$11,1,0)*(IF($P62=\"\",0,1))*(IF($P62=\"Contract\",0,1))","v":0},{"$f":"IF($C62=Post!$B$12,1,0)*(IF($P62=\"\",0,1))*(IF($P62=\"Contract\",0,1))","v":0},{"$f":"IF($C62=Post!$B$13,1,0)*(IF($P62=\"\",0,1))*(IF($P62=\"Contract\",0,1))","v":0},{"$f":"IF($C62=Post!$B$14,1,0)*(IF($P62=\"\",0,1))*(IF($P62=\"Contract\",0,1))","v":0},{"$f":"IF($C62=Post!$B$15,1,0)*(IF($P62=\"\",0,1))*(IF($P62=\"Contract\",0,1))","v":0},{"$f":"IF($C62=Post!$B$16,1,0)*(IF($P62=\"\",0,1))*(IF($P62=\"Contract\",0,1))","v":0},{"$f":"IF($C62=Post!$B$17,1,0)*(IF($P62=\"\",0,1))*(IF($P62=\"Contract\",0,1))","v":0},{"$f":"IF($C62=Post!$B$18,1,0)*(IF($P62=\"\",0,1))*(IF($P62=\"Contract\",0,1))","v":0},{"$f":"IF($C62=Post!$B$19,1,0)*(IF($P62=\"\",0,1))*(IF($P62=\"Contract\",0,1))","v":0},{"$f":"IF($C62=Post!$B$20,1,0)*(IF($P62=\"\",0,1))*(IF($P62=\"Contract\",0,1))","v":0},{"$f":"IF($C62=Post!$B$21,1,0)*(IF($P62=\"\",0,1))*(IF($P62=\"Contract\",0,1))","v":0},{"$f":"IF($C62=Post!$B$2,1,0)*(IF($P62=\"\",0,1))*(IF($P62=\"Contract\",0,1))","v":0},{"$f":"IF($C62=Post!$B$23,1,0)*(IF($P62=\"\",0,1))*(IF($P62=\"Contract\",0,1))","v":0},{"$f":"IF($C62=Post!$B$24,1,0)*(IF($P62=\"\",0,1))*(IF($P62=\"Contract\",0,1))","v":0},{"$f":"IF($C62=Post!$B$25,1,0)*(IF($P62=\"\",0,1))*(IF($P62=\"Contract\",0,1))","v":0},{"$f":"IF($C62=Post!$B$26,1,0)*(IF($P62=\"\",0,1))*(IF($P62=\"Contract\",0,1))","v":0},{"$f":"IF($C62=Post!$B$27,1,0)*(IF($P62=\"\",0,1))*(IF($P62=\"Contract\",0,1))","v":0},{"$f":"IF($C62=Post!$B$28,1,0)*(IF($P62=\"\",0,1))*(IF($P62=\"Contract\",0,1))","v":0},{"$f":"IF($C62=Post!$B$29,1,0)*(IF($P62=\"\",0,1))*(IF($P62=\"Contract\",0,1))","v":0},{"$f":"IF($C62=Post!$B$30,1,0)*(IF($P62=\"\",0,1))*(IF($P62=\"Contract\",0,1))","v":0},{"$f":"IF($C62=Post!$B$31,1,0)*(IF($P62=\"\",0,1))*(IF($P62=\"Contract\",0,1))","v":0},{"$f":"IF($C62=Post!$B$32,1,0)*(IF($P62=\"\",0,1))*(IF($P62=\"Contract\",0,1))","v":0},{"$f":"IF($C62=Post!$B$33,1,0)*(IF($P62=\"\",0,1))*(IF($P62=\"Contract\",0,1))","v":0},{"$f":"IF($C62=Post!$B$34,1,0)*(IF($P62=\"\",0,1))*(IF($P62=\"Contract\",0,1))","v":0},{"$f":"IF($C62=Post!$B$35,1,0)*(IF($P62=\"\",0,1))*(IF($P62=\"Contract\",0,1))","v":0},{"$f":"IF($C62=Post!$B$36,1,0)*(IF($P62=\"\",0,1))*(IF($P62=\"Contract\",0,1))","v":0},{"$f":"IF($C62=Post!$B$37,1,0)*(IF($P62=\"\",0,1))*(IF($P62=\"Contract\",0,1))","v":0},{"$f":"IF($C62=Post!$B$38,1,0)*(IF($P62=\"\",0,1))*(IF($P62=\"Contract\",0,1))","v":0},{"$f":"IF($C62=Post!$B$39,1,0)*(IF($P62=\"\",0,1))*(IF($P62=\"Contract\",0,1))","v":0},{"$f":"IF($C62=Post!$B$40,1,0)*(IF($P62=\"\",0,1))*(IF($P62=\"Contract\",0,1))","v":0},{"$f":"IF($C62=Post!$B$41,1,0)*(IF($P62=\"\",0,1))*(IF($P62=\"Contract\",0,1))","v":0},{"$f":"IF($C62=Post!$B$42,1,0)*(IF($P62=\"\",0,1))*(IF($P62=\"Contract\",0,1))","v":0},{"$f":"IF($C62=Post!$B$43,1,0)*(IF($P62=\"\",0,1))*(IF($P62=\"Contract\",0,1))","v":0},{"$f":"IF($C62=Post!$B$44,1,0)*(IF($P62=\"\",0,1))*(IF($P62=\"Contract\",0,1))","v":0},{"$f":"IF($C62=Post!$B$45,1,0)*(IF($P62=\"\",0,1))*(IF($P62=\"Contract\",0,1))","v":0},{"$f":"IF($C62=Post!$B$46,1,0)*(IF($P62=\"\",0,1))*(IF($P62=\"Contract\",0,1))","v":0},{"$f":"IF($C62=Post!$B$47,1,0)*(IF($P62=\"\",0,1))*(IF($P62=\"Contract\",0,1))","v":0},{"$f":"IF(C62=Post!B$48,1,0)*(IF(P62=\"\",0,1))*(IF($P62=\"Contract\",0,1))","v":0},{"$f":"IF(C62=Post!B$49,1,0)*(IF(P62=\"\",0,1))*(IF($P62=\"Contract\",0,1))","v":0},{"$f":"IF(C62=Post!B$50,1,0)*(IF(P62=\"\",0,1))*(IF($P62=\"Contract\",0,1))","v":0},0,0,0,0,0,0,0,0,0,0,0,0,0,0,0,0,0,0,0,0,0,0,0,0,0,0,0,0,0,0,0,0,0,0,0,0,0,0,0,0,0,0,0,0,0,0]
["",{"$f":"IF(C63=\"\",\"\",Database!H$5)","v":""},null,null,null,null,null,null,null,null,null,null,null,null,null,null,"",null,null,0,0,0,0,0,"",0,0,0,0,0,0,0,0,0,0,"",{"$f":"IF($C63=Post!$B$11,1,0)*(IF($P63=\"\",0,1))*(IF($P63=\"Contract\",0,1))","v":0},{"$f":"IF($C63=Post!$B$12,1,0)*(IF($P63=\"\",0,1))*(IF($P63=\"Contract\",0,1))","v":0},{"$f":"IF($C63=Post!$B$13,1,0)*(IF($P63=\"\",0,1))*(IF($P63=\"Contract\",0,1))","v":0},{"$f":"IF($C63=Post!$B$14,1,0)*(IF($P63=\"\",0,1))*(IF($P63=\"Contract\",0,1))","v":0},{"$f":"IF($C63=Post!$B$15,1,0)*(IF($P63=\"\",0,1))*(IF($P63=\"Contract\",0,1))","v":0},{"$f":"IF($C63=Post!$B$16,1,0)*(IF($P63=\"\",0,1))*(IF($P63=\"Contract\",0,1))","v":0},{"$f":"IF($C63=Post!$B$17,1,0)*(IF($P63=\"\",0,1))*(IF($P63=\"Contract\",0,1))","v":0},{"$f":"IF($C63=Post!$B$18,1,0)*(IF($P63=\"\",0,1))*(IF($P63=\"Contract\",0,1))","v":0},{"$f":"IF($C63=Post!$B$19,1,0)*(IF($P63=\"\",0,1))*(IF($P63=\"Contract\",0,1))","v":0},{"$f":"IF($C63=Post!$B$20,1,0)*(IF($P63=\"\",0,1))*(IF($P63=\"Contract\",0,1))","v":0},{"$f":"IF($C63=Post!$B$21,1,0)*(IF($P63=\"\",0,1))*(IF($P63=\"Contract\",0,1))","v":0},{"$f":"IF($C63=Post!$B$2,1,0)*(IF($P63=\"\",0,1))*(IF($P63=\"Contract\",0,1))","v":0},{"$f":"IF($C63=Post!$B$23,1,0)*(IF($P63=\"\",0,1))*(IF($P63=\"Contract\",0,1))","v":0},{"$f":"IF($C63=Post!$B$24,1,0)*(IF($P63=\"\",0,1))*(IF($P63=\"Contract\",0,1))","v":0},{"$f":"IF($C63=Post!$B$25,1,0)*(IF($P63=\"\",0,1))*(IF($P63=\"Contract\",0,1))","v":0},{"$f":"IF($C63=Post!$B$26,1,0)*(IF($P63=\"\",0,1))*(IF($P63=\"Contract\",0,1))","v":0},{"$f":"IF($C63=Post!$B$27,1,0)*(IF($P63=\"\",0,1))*(IF($P63=\"Contract\",0,1))","v":0},{"$f":"IF($C63=Post!$B$28,1,0)*(IF($P63=\"\",0,1))*(IF($P63=\"Contract\",0,1))","v":0},{"$f":"IF($C63=Post!$B$29,1,0)*(IF($P63=\"\",0,1))*(IF($P63=\"Contract\",0,1))","v":0},{"$f":"IF($C63=Post!$B$30,1,0)*(IF($P63=\"\",0,1))*(IF($P63=\"Contract\",0,1))","v":0},{"$f":"IF($C63=Post!$B$31,1,0)*(IF($P63=\"\",0,1))*(IF($P63=\"Contract\",0,1))","v":0},{"$f":"IF($C63=Post!$B$32,1,0)*(IF($P63=\"\",0,1))*(IF($P63=\"Contract\",0,1))","v":0},{"$f":"IF($C63=Post!$B$33,1,0)*(IF($P63=\"\",0,1))*(IF($P63=\"Contract\",0,1))","v":0},{"$f":"IF($C63=Post!$B$34,1,0)*(IF($P63=\"\",0,1))*(IF($P63=\"Contract\",0,1))","v":0},{"$f":"IF($C63=Post!$B$35,1,0)*(IF($P63=\"\",0,1))*(IF($P63=\"Contract\",0,1))","v":0},{"$f":"IF($C63=Post!$B$36,1,0)*(IF($P63=\"\",0,1))*(IF($P63=\"Contract\",0,1))","v":0},{"$f":"IF($C63=Post!$B$37,1,0)*(IF($P63=\"\",0,1))*(IF($P63=\"Contract\",0,1))","v":0},{"$f":"IF($C63=Post!$B$38,1,0)*(IF($P63=\"\",0,1))*(IF($P63=\"Contract\",0,1))","v":0},{"$f":"IF($C63=Post!$B$39,1,0)*(IF($P63=\"\",0,1))*(IF($P63=\"Contract\",0,1))","v":0},{"$f":"IF($C63=Post!$B$40,1,0)*(IF($P63=\"\",0,1))*(IF($P63=\"Contract\",0,1))","v":0},{"$f":"IF($C63=Post!$B$41,1,0)*(IF($P63=\"\",0,1))*(IF($P63=\"Contract\",0,1))","v":0},{"$f":"IF($C63=Post!$B$42,1,0)*(IF($P63=\"\",0,1))*(IF($P63=\"Contract\",0,1))","v":0},{"$f":"IF($C63=Post!$B$43,1,0)*(IF($P63=\"\",0,1))*(IF($P63=\"Contract\",0,1))","v":0},{"$f":"IF($C63=Post!$B$44,1,0)*(IF($P63=\"\",0,1))*(IF($P63=\"Contract\",0,1))","v":0},{"$f":"IF($C63=Post!$B$45,1,0)*(IF($P63=\"\",0,1))*(IF($P63=\"Contract\",0,1))","v":0},{"$f":"IF($C63=Post!$B$46,1,0)*(IF($P63=\"\",0,1))*(IF($P63=\"Contract\",0,1))","v":0},{"$f":"IF($C63=Post!$B$47,1,0)*(IF($P63=\"\",0,1))*(IF($P63=\"Contract\",0,1))","v":0},{"$f":"IF(C63=Post!B$48,1,0)*(IF(P63=\"\",0,1))*(IF($P63=\"Contract\",0,1))","v":0},{"$f":"IF(C63=Post!B$49,1,0)*(IF(P63=\"\",0,1))*(IF($P63=\"Contract\",0,1))","v":0},{"$f":"IF(C63=Post!B$50,1,0)*(IF(P63=\"\",0,1))*(IF($P63=\"Contract\",0,1))","v":0},0,0,0,0,0,0,0,0,0,0,0,0,0,0,0,0,0,0,0,0,0,0,0,0,0,0,0,0,0,0,0,0,0,0,0,0,0,0,0,0,0,0,0,0,0,0]
["",{"$f":"IF(C64=\"\",\"\",Database!H$5)","v":""},null,null,null,null,null,null,null,null,null,null,null,null,null,null,"",null,null,0,0,0,0,0,"",0,0,0,0,0,0,0,0,0,0,"",{"$f":"IF($C64=Post!$B$11,1,0)*(IF($P64=\"\",0,1))*(IF($P64=\"Contract\",0,1))","v":0},{"$f":"IF($C64=Post!$B$12,1,0)*(IF($P64=\"\",0,1))*(IF($P64=\"Contract\",0,1))","v":0},{"$f":"IF($C64=Post!$B$13,1,0)*(IF($P64=\"\",0,1))*(IF($P64=\"Contract\",0,1))","v":0},{"$f":"IF($C64=Post!$B$14,1,0)*(IF($P64=\"\",0,1))*(IF($P64=\"Contract\",0,1))","v":0},{"$f":"IF($C64=Post!$B$15,1,0)*(IF($P64=\"\",0,1))*(IF($P64=\"Contract\",0,1))","v":0},{"$f":"IF($C64=Post!$B$16,1,0)*(IF($P64=\"\",0,1))*(IF($P64=\"Contract\",0,1))","v":0},{"$f":"IF($C64=Post!$B$17,1,0)*(IF($P64=\"\",0,1))*(IF($P64=\"Contract\",0,1))","v":0},{"$f":"IF($C64=Post!$B$18,1,0)*(IF($P64=\"\",0,1))*(IF($P64=\"Contract\",0,1))","v":0},{"$f":"IF($C64=Post!$B$19,1,0)*(IF($P64=\"\",0,1))*(IF($P64=\"Contract\",0,1))","v":0},{"$f":"IF($C64=Post!$B$20,1,0)*(IF($P64=\"\",0,1))*(IF($P64=\"Contract\",0,1))","v":0},{"$f":"IF($C64=Post!$B$21,1,0)*(IF($P64=\"\",0,1))*(IF($P64=\"Contract\",0,1))","v":0},{"$f":"IF($C64=Post!$B$2,1,0)*(IF($P64=\"\",0,1))*(IF($P64=\"Contract\",0,1))","v":0},{"$f":"IF($C64=Post!$B$23,1,0)*(IF($P64=\"\",0,1))*(IF($P64=\"Contract\",0,1))","v":0},{"$f":"IF($C64=Post!$B$24,1,0)*(IF($P64=\"\",0,1))*(IF($P64=\"Contract\",0,1))","v":0},{"$f":"IF($C64=Post!$B$25,1,0)*(IF($P64=\"\",0,1))*(IF($P64=\"Contract\",0,1))","v":0},{"$f":"IF($C64=Post!$B$26,1,0)*(IF($P64=\"\",0,1))*(IF($P64=\"Contract\",0,1))","v":0},{"$f":"IF($C64=Post!$B$27,1,0)*(IF($P64=\"\",0,1))*(IF($P64=\"Contract\",0,1))","v":0},{"$f":"IF($C64=Post!$B$28,1,0)*(IF($P64=\"\",0,1))*(IF($P64=\"Contract\",0,1))","v":0},{"$f":"IF($C64=Post!$B$29,1,0)*(IF($P64=\"\",0,1))*(IF($P64=\"Contract\",0,1))","v":0},{"$f":"IF($C64=Post!$B$30,1,0)*(IF($P64=\"\",0,1))*(IF($P64=\"Contract\",0,1))","v":0},{"$f":"IF($C64=Post!$B$31,1,0)*(IF($P64=\"\",0,1))*(IF($P64=\"Contract\",0,1))","v":0},{"$f":"IF($C64=Post!$B$32,1,0)*(IF($P64=\"\",0,1))*(IF($P64=\"Contract\",0,1))","v":0},{"$f":"IF($C64=Post!$B$33,1,0)*(IF($P64=\"\",0,1))*(IF($P64=\"Contract\",0,1))","v":0},{"$f":"IF($C64=Post!$B$34,1,0)*(IF($P64=\"\",0,1))*(IF($P64=\"Contract\",0,1))","v":0},{"$f":"IF($C64=Post!$B$35,1,0)*(IF($P64=\"\",0,1))*(IF($P64=\"Contract\",0,1))","v":0},{"$f":"IF($C64=Post!$B$36,1,0)*(IF($P64=\"\",0,1))*(IF($P64=\"Contract\",0,1))","v":0},{"$f":"IF($C64=Post!$B$37,1,0)*(IF($P64=\"\",0,1))*(IF($P64=\"Contract\",0,1))","v":0},{"$f":"IF($C64=Post!$B$38,1,0)*(IF($P64=\"\",0,1))*(IF($P64=\"Contract\",0,1))","v":0},{"$f":"IF($C64=Post!$B$39,1,0)*(IF($P64=\"\",0,1))*(IF($P64=\"Contract\",0,1))","v":0},{"$f":"IF($C64=Post!$B$40,1,0)*(IF($P64=\"\",0,1))*(IF($P64=\"Contract\",0,1))","v":0},{"$f":"IF($C64=Post!$B$41,1,0)*(IF($P64=\"\",0,1))*(IF($P64=\"Contract\",0,1))","v":0},{"$f":"IF($C64=Post!$B$42,1,0)*(IF($P64=\"\",0,1))*(IF($P64=\"Contract\",0,1))","v":0},{"$f":"IF($C64=Post!$B$43,1,0)*(IF($P64=\"\",0,1))*(IF($P64=\"Contract\",0,1))","v":0},{"$f":"IF($C64=Post!$B$44,1,0)*(IF($P64=\"\",0,1))*(IF($P64=\"Contract\",0,1))","v":0},{"$f":"IF($C64=Post!$B$45,1,0)*(IF($P64=\"\",0,1))*(IF($P64=\"Contract\",0,1))","v":0},{"$f":"IF($C64=Post!$B$46,1,0)*(IF($P64=\"\",0,1))*(IF($P64=\"Contract\",0,1))","v":0},{"$f":"IF($C64=Post!$B$47,1,0)*(IF($P64=\"\",0,1))*(IF($P64=\"Contract\",0,1))","v":0},{"$f":"IF(C64=Post!B$48,1,0)*(IF(P64=\"\",0,1))*(IF($P64=\"Contract\",0,1))","v":0},{"$f":"IF(C64=Post!B$49,1,0)*(IF(P64=\"\",0,1))*(IF($P64=\"Contract\",0,1))","v":0},{"$f":"IF(C64=Post!B$50,1,0)*(IF(P64=\"\",0,1))*(IF($P64=\"Contract\",0,1))","v":0},0,0,0,0,0,0,0,0,0,0,0,0,0,0,0,0,0,0,0,0,0,0,0,0,0,0,0,0,0,0,0,0,0,0,0,0,0,0,0,0,0,0,0,0,0,0]
["",{"$f":"IF(C65=\"\",\"\",Database!H$5)","v":""},null,null,null,null,null,null,null,null,null,null,null,null,null,null,"",null,null,0,0,0,0,0,"",0,0,0,0,0,0,0,0,0,0,"",{"$f":"IF($C65=Post!$B$11,1,0)*(IF($P65=\"\",0,1))*(IF($P65=\"Contract\",0,1))","v":0},{"$f":"IF($C65=Post!$B$12,1,0)*(IF($P65=\"\",0,1))*(IF($P65=\"Contract\",0,1))","v":0},{"$f":"IF($C65=Post!$B$13,1,0)*(IF($P65=\"\",0,1))*(IF($P65=\"Contract\",0,1))","v":0},{"$f":"IF($C65=Post!$B$14,1,0)*(IF($P65=\"\",0,1))*(IF($P65=\"Contract\",0,1))","v":0},{"$f":"IF($C65=Post!$B$15,1,0)*(IF($P65=\"\",0,1))*(IF($P65=\"Contract\",0,1))","v":0},{"$f":"IF($C65=Post!$B$16,1,0)*(IF($P65=\"\",0,1))*(IF($P65=\"Contract\",0,1))","v":0},{"$f":"IF($C65=Post!$B$17,1,0)*(IF($P65=\"\",0,1))*(IF($P65=\"Contract\",0,1))","v":0},{"$f":"IF($C65=Post!$B$18,1,0)*(IF($P65=\"\",0,1))*(IF($P65=\"Contract\",0,1))","v":0},{"$f":"IF($C65=Post!$B$19,1,0)*(IF($P65=\"\",0,1))*(IF($P65=\"Contract\",0,1))","v":0},{"$f":"IF($C65=Post!$B$20,1,0)*(IF($P65=\"\",0,1))*(IF($P65=\"Contract\",0,1))","v":0},{"$f":"IF($C65=Post!$B$21,1,0)*(IF($P65=\"\",0,1))*(IF($P65=\"Contract\",0,1))","v":0},{"$f":"IF($C65=Post!$B$2,1,0)*(IF($P65=\"\",0,1))*(IF($P65=\"Contract\",0,1))","v":0},{"$f":"IF($C65=Post!$B$23,1,0)*(IF($P65=\"\",0,1))*(IF($P65=\"Contract\",0,1))","v":0},{"$f":"IF($C65=Post!$B$24,1,0)*(IF($P65=\"\",0,1))*(IF($P65=\"Contract\",0,1))","v":0},{"$f":"IF($C65=Post!$B$25,1,0)*(IF($P65=\"\",0,1))*(IF($P65=\"Contract\",0,1))","v":0},{"$f":"IF($C65=Post!$B$26,1,0)*(IF($P65=\"\",0,1))*(IF($P65=\"Contract\",0,1))","v":0},{"$f":"IF($C65=Post!$B$27,1,0)*(IF($P65=\"\",0,1))*(IF($P65=\"Contract\",0,1))","v":0},{"$f":"IF($C65=Post!$B$28,1,0)*(IF($P65=\"\",0,1))*(IF($P65=\"Contract\",0,1))","v":0},{"$f":"IF($C65=Post!$B$29,1,0)*(IF($P65=\"\",0,1))*(IF($P65=\"Contract\",0,1))","v":0},{"$f":"IF($C65=Post!$B$30,1,0)*(IF($P65=\"\",0,1))*(IF($P65=\"Contract\",0,1))","v":0},{"$f":"IF($C65=Post!$B$31,1,0)*(IF($P65=\"\",0,1))*(IF($P65=\"Contract\",0,1))","v":0},{"$f":"IF($C65=Post!$B$32,1,0)*(IF($P65=\"\",0,1))*(IF($P65=\"Contract\",0,1))","v":0},{"$f":"IF($C65=Post!$B$33,1,0)*(IF($P65=\"\",0,1))*(IF($P65=\"Contract\",0,1))","v":0},{"$f":"IF($C65=Post!$B$34,1,0)*(IF($P65=\"\",0,1))*(IF($P65=\"Contract\",0,1))","v":0},{"$f":"IF($C65=Post!$B$35,1,0)*(IF($P65=\"\",0,1))*(IF($P65=\"Contract\",0,1))","v":0},{"$f":"IF($C65=Post!$B$36,1,0)*(IF($P65=\"\",0,1))*(IF($P65=\"Contract\",0,1))","v":0},{"$f":"IF($C65=Post!$B$37,1,0)*(IF($P65=\"\",0,1))*(IF($P65=\"Contract\",0,1))","v":0},{"$f":"IF($C65=Post!$B$38,1,0)*(IF($P65=\"\",0,1))*(IF($P65=\"Contract\",0,1))","v":0},{"$f":"IF($C65=Post!$B$39,1,0)*(IF($P65=\"\",0,1))*(IF($P65=\"Contract\",0,1))","v":0},{"$f":"IF($C65=Post!$B$40,1,0)*(IF($P65=\"\",0,1))*(IF($P65=\"Contract\",0,1))","v":0},{"$f":"IF($C65=Post!$B$41,1,0)*(IF($P65=\"\",0,1))*(IF($P65=\"Contract\",0,1))","v":0},{"$f":"IF($C65=Post!$B$42,1,0)*(IF($P65=\"\",0,1))*(IF($P65=\"Contract\",0,1))","v":0},{"$f":"IF($C65=Post!$B$43,1,0)*(IF($P65=\"\",0,1))*(IF($P65=\"Contract\",0,1))","v":0},{"$f":"IF($C65=Post!$B$44,1,0)*(IF($P65=\"\",0,1))*(IF($P65=\"Contract\",0,1))","v":0},{"$f":"IF($C65=Post!$B$45,1,0)*(IF($P65=\"\",0,1))*(IF($P65=\"Contract\",0,1))","v":0},{"$f":"IF($C65=Post!$B$46,1,0)*(IF($P65=\"\",0,1))*(IF($P65=\"Contract\",0,1))","v":0},{"$f":"IF($C65=Post!$B$47,1,0)*(IF($P65=\"\",0,1))*(IF($P65=\"Contract\",0,1))","v":0},{"$f":"IF(C65=Post!B$48,1,0)*(IF(P65=\"\",0,1))*(IF($P65=\"Contract\",0,1))","v":0},{"$f":"IF(C65=Post!B$49,1,0)*(IF(P65=\"\",0,1))*(IF($P65=\"Contract\",0,1))","v":0},{"$f":"IF(C65=Post!B$50,1,0)*(IF(P65=\"\",0,1))*(IF($P65=\"Contract\",0,1))","v":0},0,0,0,0,0,0,0,0,0,0,0,0,0,0,0,0,0,0,0,0,0,0,0,0,0,0,0,0,0,0,0,0,0,0,0,0,0,0,0,0,0,0,0,0,0,0]
["",{"$f":"IF(C66=\"\",\"\",Database!H$5)","v":""},null,null,null,null,null,null,null,null,null,null,null,null,null,null,"",null,null,0,0,0,0,0,"",0,0,0,0,0,0,0,0,0,0,"",{"$f":"IF($C66=Post!$B$11,1,0)*(IF($P66=\"\",0,1))*(IF($P66=\"Contract\",0,1))","v":0},{"$f":"IF($C66=Post!$B$12,1,0)*(IF($P66=\"\",0,1))*(IF($P66=\"Contract\",0,1))","v":0},{"$f":"IF($C66=Post!$B$13,1,0)*(IF($P66=\"\",0,1))*(IF($P66=\"Contract\",0,1))","v":0},{"$f":"IF($C66=Post!$B$14,1,0)*(IF($P66=\"\",0,1))*(IF($P66=\"Contract\",0,1))","v":0},{"$f":"IF($C66=Post!$B$15,1,0)*(IF($P66=\"\",0,1))*(IF($P66=\"Contract\",0,1))","v":0},{"$f":"IF($C66=Post!$B$16,1,0)*(IF($P66=\"\",0,1))*(IF($P66=\"Contract\",0,1))","v":0},{"$f":"IF($C66=Post!$B$17,1,0)*(IF($P66=\"\",0,1))*(IF($P66=\"Contract\",0,1))","v":0},{"$f":"IF($C66=Post!$B$18,1,0)*(IF($P66=\"\",0,1))*(IF($P66=\"Contract\",0,1))","v":0},{"$f":"IF($C66=Post!$B$19,1,0)*(IF($P66=\"\",0,1))*(IF($P66=\"Contract\",0,1))","v":0},{"$f":"IF($C66=Post!$B$20,1,0)*(IF($P66=\"\",0,1))*(IF($P66=\"Contract\",0,1))","v":0},{"$f":"IF($C66=Post!$B$21,1,0)*(IF($P66=\"\",0,1))*(IF($P66=\"Contract\",0,1))","v":0},{"$f":"IF($C66=Post!$B$2,1,0)*(IF($P66=\"\",0,1))*(IF($P66=\"Contract\",0,1))","v":0},{"$f":"IF($C66=Post!$B$23,1,0)*(IF($P66=\"\",0,1))*(IF($P66=\"Contract\",0,1))","v":0},{"$f":"IF($C66=Post!$B$24,1,0)*(IF($P66=\"\",0,1))*(IF($P66=\"Contract\",0,1))","v":0},{"$f":"IF($C66=Post!$B$25,1,0)*(IF($P66=\"\",0,1))*(IF($P66=\"Contract\",0,1))","v":0},{"$f":"IF($C66=Post!$B$26,1,0)*(IF($P66=\"\",0,1))*(IF($P66=\"Contract\",0,1))","v":0},{"$f":"IF($C66=Post!$B$27,1,0)*(IF($P66=\"\",0,1))*(IF($P66=\"Contract\",0,1))","v":0},{"$f":"IF($C66=Post!$B$28,1,0)*(IF($P66=\"\",0,1))*(IF($P66=\"Contract\",0,1))","v":0},{"$f":"IF($C66=Post!$B$29,1,0)*(IF($P66=\"\",0,1))*(IF($P66=\"Contract\",0,1))","v":0},{"$f":"IF($C66=Post!$B$30,1,0)*(IF($P66=\"\",0,1))*(IF($P66=\"Contract\",0,1))","v":0},{"$f":"IF($C66=Post!$B$31,1,0)*(IF($P66=\"\",0,1))*(IF($P66=\"Contract\",0,1))","v":0},{"$f":"IF($C66=Post!$B$32,1,0)*(IF($P66=\"\",0,1))*(IF($P66=\"Contract\",0,1))","v":0},{"$f":"IF($C66=Post!$B$33,1,0)*(IF($P66=\"\",0,1))*(IF($P66=\"Contract\",0,1))","v":0},{"$f":"IF($C66=Post!$B$34,1,0)*(IF($P66=\"\",0,1))*(IF($P66=\"Contract\",0,1))","v":0},{"$f":"IF($C66=Post!$B$35,1,0)*(IF($P66=\"\",0,1))*(IF($P66=\"Contract\",0,1))","v":0},{"$f":"IF($C66=Post!$B$36,1,0)*(IF($P66=\"\",0,1))*(IF($P66=\"Contract\",0,1))","v":0},{"$f":"IF($C66=Post!$B$37,1,0)*(IF($P66=\"\",0,1))*(IF($P66=\"Contract\",0,1))","v":0},{"$f":"IF($C66=Post!$B$38,1,0)*(IF($P66=\"\",0,1))*(IF($P66=\"Contract\",0,1))","v":0},{"$f":"IF($C66=Post!$B$39,1,0)*(IF($P66=\"\",0,1))*(IF($P66=\"Contract\",0,1))","v":0},{"$f":"IF($C66=Post!$B$40,1,0)*(IF($P66=\"\",0,1))*(IF($P66=\"Contract\",0,1))","v":0},{"$f":"IF($C66=Post!$B$41,1,0)*(IF($P66=\"\",0,1))*(IF($P66=\"Contract\",0,1))","v":0},{"$f":"IF($C66=Post!$B$42,1,0)*(IF($P66=\"\",0,1))*(IF($P66=\"Contract\",0,1))","v":0},{"$f":"IF($C66=Post!$B$43,1,0)*(IF($P66=\"\",0,1))*(IF($P66=\"Contract\",0,1))","v":0},{"$f":"IF($C66=Post!$B$44,1,0)*(IF($P66=\"\",0,1))*(IF($P66=\"Contract\",0,1))","v":0},{"$f":"IF($C66=Post!$B$45,1,0)*(IF($P66=\"\",0,1))*(IF($P66=\"Contract\",0,1))","v":0},{"$f":"IF($C66=Post!$B$46,1,0)*(IF($P66=\"\",0,1))*(IF($P66=\"Contract\",0,1))","v":0},{"$f":"IF($C66=Post!$B$47,1,0)*(IF($P66=\"\",0,1))*(IF($P66=\"Contract\",0,1))","v":0},{"$f":"IF(C66=Post!B$48,1,0)*(IF(P66=\"\",0,1))*(IF($P66=\"Contract\",0,1))","v":0},{"$f":"IF(C66=Post!B$49,1,0)*(IF(P66=\"\",0,1))*(IF($P66=\"Contract\",0,1))","v":0},{"$f":"IF(C66=Post!B$50,1,0)*(IF(P66=\"\",0,1))*(IF($P66=\"Contract\",0,1))","v":0},0,0,0,0,0,0,0,0,0,0,0,0,0,0,0,0,0,0,0,0,0,0,0,0,0,0,0,0,0,0,0,0,0,0,0,0,0,0,0,0,0,0,0,0,0,0]
["",{"$f":"IF(C67=\"\",\"\",Database!H$5)","v":""},null,null,null,null,null,null,null,null,null,null,null,null,null,null,"",null,null,0,0,0,0,0,"",0,0,0,0,0,0,0,0,0,0,"",{"$f":"IF($C67=Post!$B$11,1,0)*(IF($P67=\"\",0,1))*(IF($P67=\"Contract\",0,1))","v":0},{"$f":"IF($C67=Post!$B$12,1,0)*(IF($P67=\"\",0,1))*(IF($P67=\"Contract\",0,1))","v":0},{"$f":"IF($C67=Post!$B$13,1,0)*(IF($P67=\"\",0,1))*(IF($P67=\"Contract\",0,1))","v":0},{"$f":"IF($C67=Post!$B$14,1,0)*(IF($P67=\"\",0,1))*(IF($P67=\"Contract\",0,1))","v":0},{"$f":"IF($C67=Post!$B$15,1,0)*(IF($P67=\"\",0,1))*(IF($P67=\"Contract\",0,1))","v":0},{"$f":"IF($C67=Post!$B$16,1,0)*(IF($P67=\"\",0,1))*(IF($P67=\"Contract\",0,1))","v":0},{"$f":"IF($C67=Post!$B$17,1,0)*(IF($P67=\"\",0,1))*(IF($P67=\"Contract\",0,1))","v":0},{"$f":"IF($C67=Post!$B$18,1,0)*(IF($P67=\"\",0,1))*(IF($P67=\"Contract\",0,1))","v":0},{"$f":"IF($C67=Post!$B$19,1,0)*(IF($P67=\"\",0,1))*(IF($P67=\"Contract\",0,1))","v":0},{"$f":"IF($C67=Post!$B$20,1,0)*(IF($P67=\"\",0,1))*(IF($P67=\"Contract\",0,1))","v":0},{"$f":"IF($C67=Post!$B$21,1,0)*(IF($P67=\"\",0,1))*(IF($P67=\"Contract\",0,1))","v":0},{"$f":"IF($C67=Post!$B$2,1,0)*(IF($P67=\"\",0,1))*(IF($P67=\"Contract\",0,1))","v":0},{"$f":"IF($C67=Post!$B$23,1,0)*(IF($P67=\"\",0,1))*(IF($P67=\"Contract\",0,1))","v":0},{"$f":"IF($C67=Post!$B$24,1,0)*(IF($P67=\"\",0,1))*(IF($P67=\"Contract\",0,1))","v":0},{"$f":"IF($C67=Post!$B$25,1,0)*(IF($P67=\"\",0,1))*(IF($P67=\"Contract\",0,1))","v":0},{"$f":"IF($C67=Post!$B$26,1,0)*(IF($P67=\"\",0,1))*(IF($P67=\"Contract\",0,1))","v":0},{"$f":"IF($C67=Post!$B$27,1,0)*(IF($P67=\"\",0,1))*(IF($P67=\"Contract\",0,1))","v":0},{"$f":"IF($C67=Post!$B$28,1,0)*(IF($P67=\"\",0,1))*(IF($P67=\"Contract\",0,1))","v":0},{"$f":"IF($C67=Post!$B$29,1,0)*(IF($P67=\"\",0,1))*(IF($P67=\"Contract\",0,1))","v":0},{"$f":"IF($C67=Post!$B$30,1,0)*(IF($P67=\"\",0,1))*(IF($P67=\"Contract\",0,1))","v":0},{"$f":"IF($C67=Post!$B$31,1,0)*(IF($P67=\"\",0,1))*(IF($P67=\"Contract\",0,1))","v":0},{"$f":"IF($C67=Post!$B$32,1,0)*(IF($P67=\"\",0,1))*(IF($P67=\"Contract\",0,1))","v":0},{"$f":"IF($C67=Post!$B$33,1,0)*(IF($P67=\"\",0,1))*(IF($P67=\"Contract\",0,1))","v":0},{"$f":"IF($C67=Post!$B$34,1,0)*(IF($P67=\"\",0,1))*(IF($P67=\"Contract\",0,1))","v":0},{"$f":"IF($C67=Post!$B$35,1,0)*(IF($P67=\"\",0,1))*(IF($P67=\"Contract\",0,1))","v":0},{"$f":"IF($C67=Post!$B$36,1,0)*(IF($P67=\"\",0,1))*(IF($P67=\"Contract\",0,1))","v":0},{"$f":"IF($C67=Post!$B$37,1,0)*(IF($P67=\"\",0,1))*(IF($P67=\"Contract\",0,1))","v":0},{"$f":"IF($C67=Post!$B$38,1,0)*(IF($P67=\"\",0,1))*(IF($P67=\"Contract\",0,1))","v":0},{"$f":"IF($C67=Post!$B$39,1,0)*(IF($P67=\"\",0,1))*(IF($P67=\"Contract\",0,1))","v":0},{"$f":"IF($C67=Post!$B$40,1,0)*(IF($P67=\"\",0,1))*(IF($P67=\"Contract\",0,1))","v":0},{"$f":"IF($C67=Post!$B$41,1,0)*(IF($P67=\"\",0,1))*(IF($P67=\"Contract\",0,1))","v":0},{"$f":"IF($C67=Post!$B$42,1,0)*(IF($P67=\"\",0,1))*(IF($P67=\"Contract\",0,1))","v":0},{"$f":"IF($C67=Post!$B$43,1,0)*(IF($P67=\"\",0,1))*(IF($P67=\"Contract\",0,1))","v":0},{"$f":"IF($C67=Post!$B$44,1,0)*(IF($P67=\"\",0,1))*(IF($P67=\"Contract\",0,1))","v":0},{"$f":"IF($C67=Post!$B$45,1,0)*(IF($P67=\"\",0,1))*(IF($P67=\"Contract\",0,1))","v":0},{"$f":"IF($C67=Post!$B$46,1,0)*(IF($P67=\"\",0,1))*(IF($P67=\"Contract\",0,1))","v":0},{"$f":"IF($C67=Post!$B$47,1,0)*(IF($P67=\"\",0,1))*(IF($P67=\"Contract\",0,1))","v":0},{"$f":"IF(C67=Post!B$48,1,0)*(IF(P67=\"\",0,1))*(IF($P67=\"Contract\",0,1))","v":0},{"$f":"IF(C67=Post!B$49,1,0)*(IF(P67=\"\",0,1))*(IF($P67=\"Contract\",0,1))","v":0},{"$f":"IF(C67=Post!B$50,1,0)*(IF(P67=\"\",0,1))*(IF($P67=\"Contract\",0,1))","v":0},0,0,0,0,0,0,0,0,0,0,0,0,0,0,0,0,0,0,0,0,0,0,0,0,0,0,0,0,0,0,0,0,0,0,0,0,0,0,0,0,0,0,0,0,0,0]
["",{"$f":"IF(C68=\"\",\"\",Database!H$5)","v":""},null,null,null,null,null,null,null,null,null,null,null,null,null,null,"",null,null,0,0,0,0,0,"",0,0,0,0,0,0,0,0,0,0,"",{"$f":"IF($C68=Post!$B$11,1,0)*(IF($P68=\"\",0,1))*(IF($P68=\"Contract\",0,1))","v":0},{"$f":"IF($C68=Post!$B$12,1,0)*(IF($P68=\"\",0,1))*(IF($P68=\"Contract\",0,1))","v":0},{"$f":"IF($C68=Post!$B$13,1,0)*(IF($P68=\"\",0,1))*(IF($P68=\"Contract\",0,1))","v":0},{"$f":"IF($C68=Post!$B$14,1,0)*(IF($P68=\"\",0,1))*(IF($P68=\"Contract\",0,1))","v":0},{"$f":"IF($C68=Post!$B$15,1,0)*(IF($P68=\"\",0,1))*(IF($P68=\"Contract\",0,1))","v":0},{"$f":"IF($C68=Post!$B$16,1,0)*(IF($P68=\"\",0,1))*(IF($P68=\"Contract\",0,1))","v":0},{"$f":"IF($C68=Post!$B$17,1,0)*(IF($P68=\"\",0,1))*(IF($P68=\"Contract\",0,1))","v":0},{"$f":"IF($C68=Post!$B$18,1,0)*(IF($P68=\"\",0,1))*(IF($P68=\"Contract\",0,1))","v":0},{"$f":"IF($C68=Post!$B$19,1,0)*(IF($P68=\"\",0,1))*(IF($P68=\"Contract\",0,1))","v":0},{"$f":"IF($C68=Post!$B$20,1,0)*(IF($P68=\"\",0,1))*(IF($P68=\"Contract\",0,1))","v":0},{"$f":"IF($C68=Post!$B$21,1,0)*(IF($P68=\"\",0,1))*(IF($P68=\"Contract\",0,1))","v":0},{"$f":"IF($C68=Post!$B$2,1,0)*(IF($P68=\"\",0,1))*(IF($P68=\"Contract\",0,1))","v":0},{"$f":"IF($C68=Post!$B$23,1,0)*(IF($P68=\"\",0,1))*(IF($P68=\"Contract\",0,1))","v":0},{"$f":"IF($C68=Post!$B$24,1,0)*(IF($P68=\"\",0,1))*(IF($P68=\"Contract\",0,1))","v":0},{"$f":"IF($C68=Post!$B$25,1,0)*(IF($P68=\"\",0,1))*(IF($P68=\"Contract\",0,1))","v":0},{"$f":"IF($C68=Post!$B$26,1,0)*(IF($P68=\"\",0,1))*(IF($P68=\"Contract\",0,1))","v":0},{"$f":"IF($C68=Post!$B$27,1,0)*(IF($P68=\"\",0,1))*(IF($P68=\"Contract\",0,1))","v":0},{"$f":"IF($C68=Post!$B$28,1,0)*(IF($P68=\"\",0,1))*(IF($P68=\"Contract\",0,1))","v":0},{"$f":"IF($C68=Post!$B$29,1,0)*(IF($P68=\"\",0,1))*(IF($P68=\"Contract\",0,1))","v":0},{"$f":"IF($C68=Post!$B$30,1,0)*(IF($P68=\"\",0,1))*(IF($P68=\"Contract\",0,1))","v":0},{"$f":"IF($C68=Post!$B$31,1,0)*(IF($P68=\"\",0,1))*(IF($P68=\"Contract\",0,1))","v":0},{"$f":"IF($C68=Post!$B$32,1,0)*(IF($P68=\"\",0,1))*(IF($P68=\"Contract\",0,1))","v":0},{"$f":"IF($C68=Post!$B$33,1,0)*(IF($P68=\"\",0,1))*(IF($P68=\"Contract\",0,1))","v":0},{"$f":"IF($C68=Post!$B$34,1,0)*(IF($P68=\"\",0,1))*(IF($P68=\"Contract\",0,1))","v":0},{"$f":"IF($C68=Post!$B$35,1,0)*(IF($P68=\"\",0,1))*(IF($P68=\"Contract\",0,1))","v":0},{"$f":"IF($C68=Post!$B$36,1,0)*(IF($P68=\"\",0,1))*(IF($P68=\"Contract\",0,1))","v":0},{"$f":"IF($C68=Post!$B$37,1,0)*(IF($P68=\"\",0,1))*(IF($P68=\"Contract\",0,1))","v":0},{"$f":"IF($C68=Post!$B$38,1,0)*(IF($P68=\"\",0,1))*(IF($P68=\"Contract\",0,1))","v":0},{"$f":"IF($C68=Post!$B$39,1,0)*(IF($P68=\"\",0,1))*(IF($P68=\"Contract\",0,1))","v":0},{"$f":"IF($C68=Post!$B$40,1,0)*(IF($P68=\"\",0,1))*(IF($P68=\"Contract\",0,1))","v":0},{"$f":"IF($C68=Post!$B$41,1,0)*(IF($P68=\"\",0,1))*(IF($P68=\"Contract\",0,1))","v":0},{"$f":"IF($C68=Post!$B$42,1,0)*(IF($P68=\"\",0,1))*(IF($P68=\"Contract\",0,1))","v":0},{"$f":"IF($C68=Post!$B$43,1,0)*(IF($P68=\"\",0,1))*(IF($P68=\"Contract\",0,1))","v":0},{"$f":"IF($C68=Post!$B$44,1,0)*(IF($P68=\"\",0,1))*(IF($P68=\"Contract\",0,1))","v":0},{"$f":"IF($C68=Post!$B$45,1,0)*(IF($P68=\"\",0,1))*(IF($P68=\"Contract\",0,1))","v":0},{"$f":"IF($C68=Post!$B$46,1,0)*(IF($P68=\"\",0,1))*(IF($P68=\"Contract\",0,1))","v":0},{"$f":"IF($C68=Post!$B$47,1,0)*(IF($P68=\"\",0,1))*(IF($P68=\"Contract\",0,1))","v":0},{"$f":"IF(C68=Post!B$48,1,0)*(IF(P68=\"\",0,1))*(IF($P68=\"Contract\",0,1))","v":0},{"$f":"IF(C68=Post!B$49,1,0)*(IF(P68=\"\",0,1))*(IF($P68=\"Contract\",0,1))","v":0},{"$f":"IF(C68=Post!B$50,1,0)*(IF(P68=\"\",0,1))*(IF($P68=\"Contract\",0,1))","v":0},0,0,0,0,0,0,0,0,0,0,0,0,0,0,0,0,0,0,0,0,0,0,0,0,0,0,0,0,0,0,0,0,0,0,0,0,0,0,0,0,0,0,0,0,0,0]
["",{"$f":"IF(C69=\"\",\"\",Database!H$5)","v":""},null,null,null,null,null,null,null,null,null,null,null,null,null,null,"",null,null,0,0,0,0,0,"",0,0,0,0,0,0,0,0,0,0,"",{"$f":"IF($C69=Post!$B$11,1,0)*(IF($P69=\"\",0,1))*(IF($P69=\"Contract\",0,1))","v":0},{"$f":"IF($C69=Post!$B$12,1,0)*(IF($P69=\"\",0,1))*(IF($P69=\"Contract\",0,1))","v":0},{"$f":"IF($C69=Post!$B$13,1,0)*(IF($P69=\"\",0,1))*(IF($P69=\"Contract\",0,1))","v":0},{"$f":"IF($C69=Post!$B$14,1,0)*(IF($P69=\"\",0,1))*(IF($P69=\"Contract\",0,1))","v":0},{"$f":"IF($C69=Post!$B$15,1,0)*(IF($P69=\"\",0,1))*(IF($P69=\"Contract\",0,1))","v":0},{"$f":"IF($C69=Post!$B$16,1,0)*(IF($P69=\"\",0,1))*(IF($P69=\"Contract\",0,1))","v":0},{"$f":"IF($C69=Post!$B$17,1,0)*(IF($P69=\"\",0,1))*(IF($P69=\"Contract\",0,1))","v":0},{"$f":"IF($C69=Post!$B$18,1,0)*(IF($P69=\"\",0,1))*(IF($P69=\"Contract\",0,1))","v":0},{"$f":"IF($C69=Post!$B$19,1,0)*(IF($P69=\"\",0,1))*(IF($P69=\"Contract\",0,1))","v":0},{"$f":"IF($C69=Post!$B$20,1,0)*(IF($P69=\"\",0,1))*(IF($P69=\"Contract\",0,1))","v":0},{"$f":"IF($C69=Post!$B$21,1,0)*(IF($P69=\"\",0,1))*(IF($P69=\"Contract\",0,1))","v":0},{"$f":"IF($C69=Post!$B$2,1,0)*(IF($P69=\"\",0,1))*(IF($P69=\"Contract\",0,1))","v":0},{"$f":"IF($C69=Post!$B$23,1,0)*(IF($P69=\"\",0,1))*(IF($P69=\"Contract\",0,1))","v":0},{"$f":"IF($C69=Post!$B$24,1,0)*(IF($P69=\"\",0,1))*(IF($P69=\"Contract\",0,1))","v":0},{"$f":"IF($C69=Post!$B$25,1,0)*(IF($P69=\"\",0,1))*(IF($P69=\"Contract\",0,1))","v":0},{"$f":"IF($C69=Post!$B$26,1,0)*(IF($P69=\"\",0,1))*(IF($P69=\"Contract\",0,1))","v":0},{"$f":"IF($C69=Post!$B$27,1,0)*(IF($P69=\"\",0,1))*(IF($P69=\"Contract\",0,1))","v":0},{"$f":"IF($C69=Post!$B$28,1,0)*(IF($P69=\"\",0,1))*(IF($P69=\"Contract\",0,1))","v":0},{"$f":"IF($C69=Post!$B$29,1,0)*(IF($P69=\"\",0,1))*(IF($P69=\"Contract\",0,1))","v":0},{"$f":"IF($C69=Post!$B$30,1,0)*(IF($P69=\"\",0,1))*(IF($P69=\"Contract\",0,1))","v":0},{"$f":"IF($C69=Post!$B$31,1,0)*(IF($P69=\"\",0,1))*(IF($P69=\"Contract\",0,1))","v":0},{"$f":"IF($C69=Post!$B$32,1,0)*(IF($P69=\"\",0,1))*(IF($P69=\"Contract\",0,1))","v":0},{"$f":"IF($C69=Post!$B$33,1,0)*(IF($P69=\"\",0,1))*(IF($P69=\"Contract\",0,1))","v":0},{"$f":"IF($C69=Post!$B$34,1,0)*(IF($P69=\"\",0,1))*(IF($P69=\"Contract\",0,1))","v":0},{"$f":"IF($C69=Post!$B$35,1,0)*(IF($P69=\"\",0,1))*(IF($P69=\"Contract\",0,1))","v":0},{"$f":"IF($C69=Post!$B$36,1,0)*(IF($P69=\"\",0,1))*(IF($P69=\"Contract\",0,1))","v":0},{"$f":"IF($C69=Post!$B$37,1,0)*(IF($P69=\"\",0,1))*(IF($P69=\"Contract\",0,1))","v":0},{"$f":"IF($C69=Post!$B$38,1,0)*(IF($P69=\"\",0,1))*(IF($P69=\"Contract\",0,1))","v":0},{"$f":"IF($C69=Post!$B$39,1,0)*(IF($P69=\"\",0,1))*(IF($P69=\"Contract\",0,1))","v":0},{"$f":"IF($C69=Post!$B$40,1,0)*(IF($P69=\"\",0,1))*(IF($P69=\"Contract\",0,1))","v":0},{"$f":"IF($C69=Post!$B$41,1,0)*(IF($P69=\"\",0,1))*(IF($P69=\"Contract\",0,1))","v":0},{"$f":"IF($C69=Post!$B$42,1,0)*(IF($P69=\"\",0,1))*(IF($P69=\"Contract\",0,1))","v":0},{"$f":"IF($C69=Post!$B$43,1,0)*(IF($P69=\"\",0,1))*(IF($P69=\"Contract\",0,1))","v":0},{"$f":"IF($C69=Post!$B$44,1,0)*(IF($P69=\"\",0,1))*(IF($P69=\"Contract\",0,1))","v":0},{"$f":"IF($C69=Post!$B$45,1,0)*(IF($P69=\"\",0,1))*(IF($P69=\"Contract\",0,1))","v":0},{"$f":"IF($C69=Post!$B$46,1,0)*(IF($P69=\"\",0,1))*(IF($P69=\"Contract\",0,1))","v":0},{"$f":"IF($C69=Post!$B$47,1,0)*(IF($P69=\"\",0,1))*(IF($P69=\"Contract\",0,1))","v":0},{"$f":"IF(C69=Post!B$48,1,0)*(IF(P69=\"\",0,1))*(IF($P69=\"Contract\",0,1))","v":0},{"$f":"IF(C69=Post!B$49,1,0)*(IF(P69=\"\",0,1))*(IF($P69=\"Contract\",0,1))","v":0},{"$f":"IF(C69=Post!B$50,1,0)*(IF(P69=\"\",0,1))*(IF($P69=\"Contract\",0,1))","v":0},0,0,0,0,0,0,0,0,0,0,0,0,0,0,0,0,0,0,0,0,0,0,0,0,0,0,0,0,0,0,0,0,0,0,0,0,0,0,0,0,0,0,0,0,0,0]
["",{"$f":"IF(C70=\"\",\"\",Database!H$5)","v":""},null,null,null,null,null,null,null,null,null,null,null,null,null,null,"",null,null,0,0,0,0,0,"",0,0,0,0,0,0,0,0,0,0,"",{"$f":"IF($C70=Post!$B$11,1,0)*(IF($P70=\"\",0,1))*(IF($P70=\"Contract\",0,1))","v":0},{"$f":"IF($C70=Post!$B$12,1,0)*(IF($P70=\"\",0,1))*(IF($P70=\"Contract\",0,1))","v":0},{"$f":"IF($C70=Post!$B$13,1,0)*(IF($P70=\"\",0,1))*(IF($P70=\"Contract\",0,1))","v":0},{"$f":"IF($C70=Post!$B$14,1,0)*(IF($P70=\"\",0,1))*(IF($P70=\"Contract\",0,1))","v":0},{"$f":"IF($C70=Post!$B$15,1,0)*(IF($P70=\"\",0,1))*(IF($P70=\"Contract\",0,1))","v":0},{"$f":"IF($C70=Post!$B$16,1,0)*(IF($P70=\"\",0,1))*(IF($P70=\"Contract\",0,1))","v":0},{"$f":"IF($C70=Post!$B$17,1,0)*(IF($P70=\"\",0,1))*(IF($P70=\"Contract\",0,1))","v":0},{"$f":"IF($C70=Post!$B$18,1,0)*(IF($P70=\"\",0,1))*(IF($P70=\"Contract\",0,1))","v":0},{"$f":"IF($C70=Post!$B$19,1,0)*(IF($P70=\"\",0,1))*(IF($P70=\"Contract\",0,1))","v":0},{"$f":"IF($C70=Post!$B$20,1,0)*(IF($P70=\"\",0,1))*(IF($P70=\"Contract\",0,1))","v":0},{"$f":"IF($C70=Post!$B$21,1,0)*(IF($P70=\"\",0,1))*(IF($P70=\"Contract\",0,1))","v":0},{"$f":"IF($C70=Post!$B$2,1,0)*(IF($P70=\"\",0,1))*(IF($P70=\"Contract\",0,1))","v":0},{"$f":"IF($C70=Post!$B$23,1,0)*(IF($P70=\"\",0,1))*(IF($P70=\"Contract\",0,1))","v":0},{"$f":"IF($C70=Post!$B$24,1,0)*(IF($P70=\"\",0,1))*(IF($P70=\"Contract\",0,1))","v":0},{"$f":"IF($C70=Post!$B$25,1,0)*(IF($P70=\"\",0,1))*(IF($P70=\"Contract\",0,1))","v":0},{"$f":"IF($C70=Post!$B$26,1,0)*(IF($P70=\"\",0,1))*(IF($P70=\"Contract\",0,1))","v":0},{"$f":"IF($C70=Post!$B$27,1,0)*(IF($P70=\"\",0,1))*(IF($P70=\"Contract\",0,1))","v":0},{"$f":"IF($C70=Post!$B$28,1,0)*(IF($P70=\"\",0,1))*(IF($P70=\"Contract\",0,1))","v":0},{"$f":"IF($C70=Post!$B$29,1,0)*(IF($P70=\"\",0,1))*(IF($P70=\"Contract\",0,1))","v":0},{"$f":"IF($C70=Post!$B$30,1,0)*(IF($P70=\"\",0,1))*(IF($P70=\"Contract\",0,1))","v":0},{"$f":"IF($C70=Post!$B$31,1,0)*(IF($P70=\"\",0,1))*(IF($P70=\"Contract\",0,1))","v":0},{"$f":"IF($C70=Post!$B$32,1,0)*(IF($P70=\"\",0,1))*(IF($P70=\"Contract\",0,1))","v":0},{"$f":"IF($C70=Post!$B$33,1,0)*(IF($P70=\"\",0,1))*(IF($P70=\"Contract\",0,1))","v":0},{"$f":"IF($C70=Post!$B$34,1,0)*(IF($P70=\"\",0,1))*(IF($P70=\"Contract\",0,1))","v":0},{"$f":"IF($C70=Post!$B$35,1,0)*(IF($P70=\"\",0,1))*(IF($P70=\"Contract\",0,1))","v":0},{"$f":"IF($C70=Post!$B$36,1,0)*(IF($P70=\"\",0,1))*(IF($P70=\"Contract\",0,1))","v":0},{"$f":"IF($C70=Post!$B$37,1,0)*(IF($P70=\"\",0,1))*(IF($P70=\"Contract\",0,1))","v":0},{"$f":"IF($C70=Post!$B$38,1,0)*(IF($P70=\"\",0,1))*(IF($P70=\"Contract\",0,1))","v":0},{"$f":"IF($C70=Post!$B$39,1,0)*(IF($P70=\"\",0,1))*(IF($P70=\"Contract\",0,1))","v":0},{"$f":"IF($C70=Post!$B$40,1,0)*(IF($P70=\"\",0,1))*(IF($P70=\"Contract\",0,1))","v":0},{"$f":"IF($C70=Post!$B$41,1,0)*(IF($P70=\"\",0,1))*(IF($P70=\"Contract\",0,1))","v":0},{"$f":"IF($C70=Post!$B$42,1,0)*(IF($P70=\"\",0,1))*(IF($P70=\"Contract\",0,1))","v":0},{"$f":"IF($C70=Post!$B$43,1,0)*(IF($P70=\"\",0,1))*(IF($P70=\"Contract\",0,1))","v":0},{"$f":"IF($C70=Post!$B$44,1,0)*(IF($P70=\"\",0,1))*(IF($P70=\"Contract\",0,1))","v":0},{"$f":"IF($C70=Post!$B$45,1,0)*(IF($P70=\"\",0,1))*(IF($P70=\"Contract\",0,1))","v":0},{"$f":"IF($C70=Post!$B$46,1,0)*(IF($P70=\"\",0,1))*(IF($P70=\"Contract\",0,1))","v":0},{"$f":"IF($C70=Post!$B$47,1,0)*(IF($P70=\"\",0,1))*(IF($P70=\"Contract\",0,1))","v":0},{"$f":"IF(C70=Post!B$48,1,0)*(IF(P70=\"\",0,1))*(IF($P70=\"Contract\",0,1))","v":0},{"$f":"IF(C70=Post!B$49,1,0)*(IF(P70=\"\",0,1))*(IF($P70=\"Contract\",0,1))","v":0},{"$f":"IF(C70=Post!B$50,1,0)*(IF(P70=\"\",0,1))*(IF($P70=\"Contract\",0,1))","v":0},0,0,0,0,0,0,0,0,0,0,0,0,0,0,0,0,0,0,0,0,0,0,0,0,0,0,0,0,0,0,0,0,0,0,0,0,0,0,0,0,0,0,0,0,0,0]
["",{"$f":"IF(C71=\"\",\"\",Database!H$5)","v":""},null,null,null,null,null,null,null,null,null,null,null,null,null,null,"",null,null,0,0,0,0,0,"",0,0,0,0,0,0,0,0,0,0,"",{"$f":"IF($C71=Post!$B$11,1,0)*(IF($P71=\"\",0,1))*(IF($P71=\"Contract\",0,1))","v":0},{"$f":"IF($C71=Post!$B$12,1,0)*(IF($P71=\"\",0,1))*(IF($P71=\"Contract\",0,1))","v":0},{"$f":"IF($C71=Post!$B$13,1,0)*(IF($P71=\"\",0,1))*(IF($P71=\"Contract\",0,1))","v":0},{"$f":"IF($C71=Post!$B$14,1,0)*(IF($P71=\"\",0,1))*(IF($P71=\"Contract\",0,1))","v":0},{"$f":"IF($C71=Post!$B$15,1,0)*(IF($P71=\"\",0,1))*(IF($P71=\"Contract\",0,1))","v":0},{"$f":"IF($C71=Post!$B$16,1,0)*(IF($P71=\"\",0,1))*(IF($P71=\"Contract\",0,1))","v":0},{"$f":"IF($C71=Post!$B$17,1,0)*(IF($P71=\"\",0,1))*(IF($P71=\"Contract\",0,1))","v":0},{"$f":"IF($C71=Post!$B$18,1,0)*(IF($P71=\"\",0,1))*(IF($P71=\"Contract\",0,1))","v":0},{"$f":"IF($C71=Post!$B$19,1,0)*(IF($P71=\"\",0,1))*(IF($P71=\"Contract\",0,1))","v":0},{"$f":"IF($C71=Post!$B$20,1,0)*(IF($P71=\"\",0,1))*(IF($P71=\"Contract\",0,1))","v":0},{"$f":"IF($C71=Post!$B$21,1,0)*(IF($P71=\"\",0,1))*(IF($P71=\"Contract\",0,1))","v":0},{"$f":"IF($C71=Post!$B$2,1,0)*(IF($P71=\"\",0,1))*(IF($P71=\"Contract\",0,1))","v":0},{"$f":"IF($C71=Post!$B$23,1,0)*(IF($P71=\"\",0,1))*(IF($P71=\"Contract\",0,1))","v":0},{"$f":"IF($C71=Post!$B$24,1,0)*(IF($P71=\"\",0,1))*(IF($P71=\"Contract\",0,1))","v":0},{"$f":"IF($C71=Post!$B$25,1,0)*(IF($P71=\"\",0,1))*(IF($P71=\"Contract\",0,1))","v":0},{"$f":"IF($C71=Post!$B$26,1,0)*(IF($P71=\"\",0,1))*(IF($P71=\"Contract\",0,1))","v":0},{"$f":"IF($C71=Post!$B$27,1,0)*(IF($P71=\"\",0,1))*(IF($P71=\"Contract\",0,1))","v":0},{"$f":"IF($C71=Post!$B$28,1,0)*(IF($P71=\"\",0,1))*(IF($P71=\"Contract\",0,1))","v":0},{"$f":"IF($C71=Post!$B$29,1,0)*(IF($P71=\"\",0,1))*(IF($P71=\"Contract\",0,1))","v":0},{"$f":"IF($C71=Post!$B$30,1,0)*(IF($P71=\"\",0,1))*(IF($P71=\"Contract\",0,1))","v":0},{"$f":"IF($C71=Post!$B$31,1,0)*(IF($P71=\"\",0,1))*(IF($P71=\"Contract\",0,1))","v":0},{"$f":"IF($C71=Post!$B$32,1,0)*(IF($P71=\"\",0,1))*(IF($P71=\"Contract\",0,1))","v":0},{"$f":"IF($C71=Post!$B$33,1,0)*(IF($P71=\"\",0,1))*(IF($P71=\"Contract\",0,1))","v":0},{"$f":"IF($C71=Post!$B$34,1,0)*(IF($P71=\"\",0,1))*(IF($P71=\"Contract\",0,1))","v":0},{"$f":"IF($C71=Post!$B$35,1,0)*(IF($P71=\"\",0,1))*(IF($P71=\"Contract\",0,1))","v":0},{"$f":"IF($C71=Post!$B$36,1,0)*(IF($P71=\"\",0,1))*(IF($P71=\"Contract\",0,1))","v":0},{"$f":"IF($C71=Post!$B$37,1,0)*(IF($P71=\"\",0,1))*(IF($P71=\"Contract\",0,1))","v":0},{"$f":"IF($C71=Post!$B$38,1,0)*(IF($P71=\"\",0,1))*(IF($P71=\"Contract\",0,1))","v":0},{"$f":"IF($C71=Post!$B$39,1,0)*(IF($P71=\"\",0,1))*(IF($P71=\"Contract\",0,1))","v":0},{"$f":"IF($C71=Post!$B$40,1,0)*(IF($P71=\"\",0,1))*(IF($P71=\"Contract\",0,1))","v":0},{"$f":"IF($C71=Post!$B$41,1,0)*(IF($P71=\"\",0,1))*(IF($P71=\"Contract\",0,1))","v":0},{"$f":"IF($C71=Post!$B$42,1,0)*(IF($P71=\"\",0,1))*(IF($P71=\"Contract\",0,1))","v":0},{"$f":"IF($C71=Post!$B$43,1,0)*(IF($P71=\"\",0,1))*(IF($P71=\"Contract\",0,1))","v":0},{"$f":"IF($C71=Post!$B$44,1,0)*(IF($P71=\"\",0,1))*(IF($P71=\"Contract\",0,1))","v":0},{"$f":"IF($C71=Post!$B$45,1,0)*(IF($P71=\"\",0,1))*(IF($P71=\"Contract\",0,1))","v":0},{"$f":"IF($C71=Post!$B$46,1,0)*(IF($P71=\"\",0,1))*(IF($P71=\"Contract\",0,1))","v":0},{"$f":"IF($C71=Post!$B$47,1,0)*(IF($P71=\"\",0,1))*(IF($P71=\"Contract\",0,1))","v":0},{"$f":"IF(C71=Post!B$48,1,0)*(IF(P71=\"\",0,1))*(IF($P71=\"Contract\",0,1))","v":0},{"$f":"IF(C71=Post!B$49,1,0)*(IF(P71=\"\",0,1))*(IF($P71=\"Contract\",0,1))","v":0},{"$f":"IF(C71=Post!B$50,1,0)*(IF(P71=\"\",0,1))*(IF($P71=\"Contract\",0,1))","v":0},0,0,0,0,0,0,0,0,0,0,0,0,0,0,0,0,0,0,0,0,0,0,0,0,0,0,0,0,0,0,0,0,0,0,0,0,0,0,0,0,0,0,0,0,0,0]
["",{"$f":"IF(C72=\"\",\"\",Database!H$5)","v":""},null,null,null,null,null,null,null,null,null,null,null,null,null,null,"",null,null,0,0,0,0,0,"",0,0,0,0,0,0,0,0,0,0,"",{"$f":"IF($C72=Post!$B$11,1,0)*(IF($P72=\"\",0,1))*(IF($P72=\"Contract\",0,1))","v":0},{"$f":"IF($C72=Post!$B$12,1,0)*(IF($P72=\"\",0,1))*(IF($P72=\"Contract\",0,1))","v":0},{"$f":"IF($C72=Post!$B$13,1,0)*(IF($P72=\"\",0,1))*(IF($P72=\"Contract\",0,1))","v":0},{"$f":"IF($C72=Post!$B$14,1,0)*(IF($P72=\"\",0,1))*(IF($P72=\"Contract\",0,1))","v":0},{"$f":"IF($C72=Post!$B$15,1,0)*(IF($P72=\"\",0,1))*(IF($P72=\"Contract\",0,1))","v":0},{"$f":"IF($C72=Post!$B$16,1,0)*(IF($P72=\"\",0,1))*(IF($P72=\"Contract\",0,1))","v":0},{"$f":"IF($C72=Post!$B$17,1,0)*(IF($P72=\"\",0,1))*(IF($P72=\"Contract\",0,1))","v":0},{"$f":"IF($C72=Post!$B$18,1,0)*(IF($P72=\"\",0,1))*(IF($P72=\"Contract\",0,1))","v":0},{"$f":"IF($C72=Post!$B$19,1,0)*(IF($P72=\"\",0,1))*(IF($P72=\"Contract\",0,1))","v":0},{"$f":"IF($C72=Post!$B$20,1,0)*(IF($P72=\"\",0,1))*(IF($P72=\"Contract\",0,1))","v":0},{"$f":"IF($C72=Post!$B$21,1,0)*(IF($P72=\"\",0,1))*(IF($P72=\"Contract\",0,1))","v":0},{"$f":"IF($C72=Post!$B$2,1,0)*(IF($P72=\"\",0,1))*(IF($P72=\"Contract\",0,1))","v":0},{"$f":"IF($C72=Post!$B$23,1,0)*(IF($P72=\"\",0,1))*(IF($P72=\"Contract\",0,1))","v":0},{"$f":"IF($C72=Post!$B$24,1,0)*(IF($P72=\"\",0,1))*(IF($P72=\"Contract\",0,1))","v":0},{"$f":"IF($C72=Post!$B$25,1,0)*(IF($P72=\"\",0,1))*(IF($P72=\"Contract\",0,1))","v":0},{"$f":"IF($C72=Post!$B$26,1,0)*(IF($P72=\"\",0,1))*(IF($P72=\"Contract\",0,1))","v":0},{"$f":"IF($C72=Post!$B$27,1,0)*(IF($P72=\"\",0,1))*(IF($P72=\"Contract\",0,1))","v":0},{"$f":"IF($C72=Post!$B$28,1,0)*(IF($P72=\"\",0,1))*(IF($P72=\"Contract\",0,1))","v":0},{"$f":"IF($C72=Post!$B$29,1,0)*(IF($P72=\"\",0,1))*(IF($P72=\"Contract\",0,1))","v":0},{"$f":"IF($C72=Post!$B$30,1,0)*(IF($P72=\"\",0,1))*(IF($P72=\"Contract\",0,1))","v":0},{"$f":"IF($C72=Post!$B$31,1,0)*(IF($P72=\"\",0,1))*(IF($P72=\"Contract\",0,1))","v":0},{"$f":"IF($C72=Post!$B$32,1,0)*(IF($P72=\"\",0,1))*(IF($P72=\"Contract\",0,1))","v":0},{"$f":"IF($C72=Post!$B$33,1,0)*(IF($P72=\"\",0,1))*(IF($P72=\"Contract\",0,1))","v":0},{"$f":"IF($C72=Post!$B$34,1,0)*(IF($P72=\"\",0,1))*(IF($P72=\"Contract\",0,1))","v":0},{"$f":"IF($C72=Post!$B$35,1,0)*(IF($P72=\"\",0,1))*(IF($P72=\"Contract\",0,1))","v":0},{"$f":"IF($C72=Post!$B$36,1,0)*(IF($P72=\"\",0,1))*(IF($P72=\"Contract\",0,1))","v":0},{"$f":"IF($C72=Post!$B$37,1,0)*(IF($P72=\"\",0,1))*(IF($P72=\"Contract\",0,1))","v":0},{"$f":"IF($C72=Post!$B$38,1,0)*(IF($P72=\"\",0,1))*(IF($P72=\"Contract\",0,1))","v":0},{"$f":"IF($C72=Post!$B$39,1,0)*(IF($P72=\"\",0,1))*(IF($P72=\"Contract\",0,1))","v":0},{"$f":"IF($C72=Post!$B$40,1,0)*(IF($P72=\"\",0,1))*(IF($P72=\"Contract\",0,1))","v":0},{"$f":"IF($C72=Post!$B$41,1,0)*(IF($P72=\"\",0,1))*(IF($P72=\"Contract\",0,1))","v":0},{"$f":"IF($C72=Post!$B$42,1,0)*(IF($P72=\"\",0,1))*(IF($P72=\"Contract\",0,1))","v":0},{"$f":"IF($C72=Post!$B$43,1,0)*(IF($P72=\"\",0,1))*(IF($P72=\"Contract\",0,1))","v":0},{"$f":"IF($C72=Post!$B$44,1,0)*(IF($P72=\"\",0,1))*(IF($P72=\"Contract\",0,1))","v":0},{"$f":"IF($C72=Post!$B$45,1,0)*(IF($P72=\"\",0,1))*(IF($P72=\"Contract\",0,1))","v":0},{"$f":"IF($C72=Post!$B$46,1,0)*(IF($P72=\"\",0,1))*(IF($P72=\"Contract\",0,1))","v":0},{"$f":"IF($C72=Post!$B$47,1,0)*(IF($P72=\"\",0,1))*(IF($P72=\"Contract\",0,1))","v":0},{"$f":"IF(C72=Post!B$48,1,0)*(IF(P72=\"\",0,1))*(IF($P72=\"Contract\",0,1))","v":0},{"$f":"IF(C72=Post!B$49,1,0)*(IF(P72=\"\",0,1))*(IF($P72=\"Contract\",0,1))","v":0},{"$f":"IF(C72=Post!B$50,1,0)*(IF(P72=\"\",0,1))*(IF($P72=\"Contract\",0,1))","v":0},0,0,0,0,0,0,0,0,0,0,0,0,0,0,0,0,0,0,0,0,0,0,0,0,0,0,0,0,0,0,0,0,0,0,0,0,0,0,0,0,0,0,0,0,0,0]
["",{"$f":"IF(C73=\"\",\"\",Database!H$5)","v":""},null,null,null,null,null,null,null,null,null,null,null,null,null,null,"",null,null,0,0,0,0,0,"",0,0,0,0,0,0,0,0,0,0,"",{"$f":"IF($C73=Post!$B$11,1,0)*(IF($P73=\"\",0,1))*(IF($P73=\"Contract\",0,1))","v":0},{"$f":"IF($C73=Post!$B$12,1,0)*(IF($P73=\"\",0,1))*(IF($P73=\"Contract\",0,1))","v":0},{"$f":"IF($C73=Post!$B$13,1,0)*(IF($P73=\"\",0,1))*(IF($P73=\"Contract\",0,1))","v":0},{"$f":"IF($C73=Post!$B$14,1,0)*(IF($P73=\"\",0,1))*(IF($P73=\"Contract\",0,1))","v":0},{"$f":"IF($C73=Post!$B$15,1,0)*(IF($P73=\"\",0,1))*(IF($P73=\"Contract\",0,1))","v":0},{"$f":"IF($C73=Post!$B$16,1,0)*(IF($P73=\"\",0,1))*(IF($P73=\"Contract\",0,1))","v":0},{"$f":"IF($C73=Post!$B$17,1,0)*(IF($P73=\"\",0,1))*(IF($P73=\"Contract\",0,1))","v":0},{"$f":"IF($C73=Post!$B$18,1,0)*(IF($P73=\"\",0,1))*(IF($P73=\"Contract\",0,1))","v":0},{"$f":"IF($C73=Post!$B$19,1,0)*(IF($P73=\"\",0,1))*(IF($P73=\"Contract\",0,1))","v":0},{"$f":"IF($C73=Post!$B$20,1,0)*(IF($P73=\"\",0,1))*(IF($P73=\"Contract\",0,1))","v":0},{"$f":"IF($C73=Post!$B$21,1,0)*(IF($P73=\"\",0,1))*(IF($P73=\"Contract\",0,1))","v":0},{"$f":"IF($C73=Post!$B$2,1,0)*(IF($P73=\"\",0,1))*(IF($P73=\"Contract\",0,1))","v":0},{"$f":"IF($C73=Post!$B$23,1,0)*(IF($P73=\"\",0,1))*(IF($P73=\"Contract\",0,1))","v":0},{"$f":"IF($C73=Post!$B$24,1,0)*(IF($P73=\"\",0,1))*(IF($P73=\"Contract\",0,1))","v":0},{"$f":"IF($C73=Post!$B$25,1,0)*(IF($P73=\"\",0,1))*(IF($P73=\"Contract\",0,1))","v":0},{"$f":"IF($C73=Post!$B$26,1,0)*(IF($P73=\"\",0,1))*(IF($P73=\"Contract\",0,1))","v":0},{"$f":"IF($C73=Post!$B$27,1,0)*(IF($P73=\"\",0,1))*(IF($P73=\"Contract\",0,1))","v":0},{"$f":"IF($C73=Post!$B$28,1,0)*(IF($P73=\"\",0,1))*(IF($P73=\"Contract\",0,1))","v":0},{"$f":"IF($C73=Post!$B$29,1,0)*(IF($P73=\"\",0,1))*(IF($P73=\"Contract\",0,1))","v":0},{"$f":"IF($C73=Post!$B$30,1,0)*(IF($P73=\"\",0,1))*(IF($P73=\"Contract\",0,1))","v":0},{"$f":"IF($C73=Post!$B$31,1,0)*(IF($P73=\"\",0,1))*(IF($P73=\"Contract\",0,1))","v":0},{"$f":"IF($C73=Post!$B$32,1,0)*(IF($P73=\"\",0,1))*(IF($P73=\"Contract\",0,1))","v":0},{"$f":"IF($C73=Post!$B$33,1,0)*(IF($P73=\"\",0,1))*(IF($P73=\"Contract\",0,1))","v":0},{"$f":"IF($C73=Post!$B$34,1,0)*(IF($P73=\"\",0,1))*(IF($P73=\"Contract\",0,1))","v":0},{"$f":"IF($C73=Post!$B$35,1,0)*(IF($P73=\"\",0,1))*(IF($P73=\"Contract\",0,1))","v":0},{"$f":"IF($C73=Post!$B$36,1,0)*(IF($P73=\"\",0,1))*(IF($P73=\"Contract\",0,1))","v":0},{"$f":"IF($C73=Post!$B$37,1,0)*(IF($P73=\"\",0,1))*(IF($P73=\"Contract\",0,1))","v":0},{"$f":"IF($C73=Post!$B$38,1,0)*(IF($P73=\"\",0,1))*(IF($P73=\"Contract\",0,1))","v":0},{"$f":"IF($C73=Post!$B$39,1,0)*(IF($P73=\"\",0,1))*(IF($P73=\"Contract\",0,1))","v":0},{"$f":"IF($C73=Post!$B$40,1,0)*(IF($P73=\"\",0,1))*(IF($P73=\"Contract\",0,1))","v":0},{"$f":"IF($C73=Post!$B$41,1,0)*(IF($P73=\"\",0,1))*(IF($P73=\"Contract\",0,1))","v":0},{"$f":"IF($C73=Post!$B$42,1,0)*(IF($P73=\"\",0,1))*(IF($P73=\"Contract\",0,1))","v":0},{"$f":"IF($C73=Post!$B$43,1,0)*(IF($P73=\"\",0,1))*(IF($P73=\"Contract\",0,1))","v":0},{"$f":"IF($C73=Post!$B$44,1,0)*(IF($P73=\"\",0,1))*(IF($P73=\"Contract\",0,1))","v":0},{"$f":"IF($C73=Post!$B$45,1,0)*(IF($P73=\"\",0,1))*(IF($P73=\"Contract\",0,1))","v":0},{"$f":"IF($C73=Post!$B$46,1,0)*(IF($P73=\"\",0,1))*(IF($P73=\"Contract\",0,1))","v":0},{"$f":"IF($C73=Post!$B$47,1,0)*(IF($P73=\"\",0,1))*(IF($P73=\"Contract\",0,1))","v":0},{"$f":"IF(C73=Post!B$48,1,0)*(IF(P73=\"\",0,1))*(IF($P73=\"Contract\",0,1))","v":0},{"$f":"IF(C73=Post!B$49,1,0)*(IF(P73=\"\",0,1))*(IF($P73=\"Contract\",0,1))","v":0},{"$f":"IF(C73=Post!B$50,1,0)*(IF(P73=\"\",0,1))*(IF($P73=\"Contract\",0,1))","v":0},0,0,0,0,0,0,0,0,0,0,0,0,0,0,0,0,0,0,0,0,0,0,0,0,0,0,0,0,0,0,0,0,0,0,0,0,0,0,0,0,0,0,0,0,0,0]
["",{"$f":"IF(C74=\"\",\"\",Database!H$5)","v":""},null,null,null,null,null,null,null,null,null,null,null,null,null,null,"",null,null,0,0,0,0,0,"",0,0,0,0,0,0,0,0,0,0,"",{"$f":"IF($C74=Post!$B$11,1,0)*(IF($P74=\"\",0,1))*(IF($P74=\"Contract\",0,1))","v":0},{"$f":"IF($C74=Post!$B$12,1,0)*(IF($P74=\"\",0,1))*(IF($P74=\"Contract\",0,1))","v":0},{"$f":"IF($C74=Post!$B$13,1,0)*(IF($P74=\"\",0,1))*(IF($P74=\"Contract\",0,1))","v":0},{"$f":"IF($C74=Post!$B$14,1,0)*(IF($P74=\"\",0,1))*(IF($P74=\"Contract\",0,1))","v":0},{"$f":"IF($C74=Post!$B$15,1,0)*(IF($P74=\"\",0,1))*(IF($P74=\"Contract\",0,1))","v":0},{"$f":"IF($C74=Post!$B$16,1,0)*(IF($P74=\"\",0,1))*(IF($P74=\"Contract\",0,1))","v":0},{"$f":"IF($C74=Post!$B$17,1,0)*(IF($P74=\"\",0,1))*(IF($P74=\"Contract\",0,1))","v":0},{"$f":"IF($C74=Post!$B$18,1,0)*(IF($P74=\"\",0,1))*(IF($P74=\"Contract\",0,1))","v":0},{"$f":"IF($C74=Post!$B$19,1,0)*(IF($P74=\"\",0,1))*(IF($P74=\"Contract\",0,1))","v":0},{"$f":"IF($C74=Post!$B$20,1,0)*(IF($P74=\"\",0,1))*(IF($P74=\"Contract\",0,1))","v":0},{"$f":"IF($C74=Post!$B$21,1,0)*(IF($P74=\"\",0,1))*(IF($P74=\"Contract\",0,1))","v":0},{"$f":"IF($C74=Post!$B$2,1,0)*(IF($P74=\"\",0,1))*(IF($P74=\"Contract\",0,1))","v":0},{"$f":"IF($C74=Post!$B$23,1,0)*(IF($P74=\"\",0,1))*(IF($P74=\"Contract\",0,1))","v":0},{"$f":"IF($C74=Post!$B$24,1,0)*(IF($P74=\"\",0,1))*(IF($P74=\"Contract\",0,1))","v":0},{"$f":"IF($C74=Post!$B$25,1,0)*(IF($P74=\"\",0,1))*(IF($P74=\"Contract\",0,1))","v":0},{"$f":"IF($C74=Post!$B$26,1,0)*(IF($P74=\"\",0,1))*(IF($P74=\"Contract\",0,1))","v":0},{"$f":"IF($C74=Post!$B$27,1,0)*(IF($P74=\"\",0,1))*(IF($P74=\"Contract\",0,1))","v":0},{"$f":"IF($C74=Post!$B$28,1,0)*(IF($P74=\"\",0,1))*(IF($P74=\"Contract\",0,1))","v":0},{"$f":"IF($C74=Post!$B$29,1,0)*(IF($P74=\"\",0,1))*(IF($P74=\"Contract\",0,1))","v":0},{"$f":"IF($C74=Post!$B$30,1,0)*(IF($P74=\"\",0,1))*(IF($P74=\"Contract\",0,1))","v":0},{"$f":"IF($C74=Post!$B$31,1,0)*(IF($P74=\"\",0,1))*(IF($P74=\"Contract\",0,1))","v":0},{"$f":"IF($C74=Post!$B$32,1,0)*(IF($P74=\"\",0,1))*(IF($P74=\"Contract\",0,1))","v":0},{"$f":"IF($C74=Post!$B$33,1,0)*(IF($P74=\"\",0,1))*(IF($P74=\"Contract\",0,1))","v":0},{"$f":"IF($C74=Post!$B$34,1,0)*(IF($P74=\"\",0,1))*(IF($P74=\"Contract\",0,1))","v":0},{"$f":"IF($C74=Post!$B$35,1,0)*(IF($P74=\"\",0,1))*(IF($P74=\"Contract\",0,1))","v":0},{"$f":"IF($C74=Post!$B$36,1,0)*(IF($P74=\"\",0,1))*(IF($P74=\"Contract\",0,1))","v":0},{"$f":"IF($C74=Post!$B$37,1,0)*(IF($P74=\"\",0,1))*(IF($P74=\"Contract\",0,1))","v":0},{"$f":"IF($C74=Post!$B$38,1,0)*(IF($P74=\"\",0,1))*(IF($P74=\"Contract\",0,1))","v":0},{"$f":"IF($C74=Post!$B$39,1,0)*(IF($P74=\"\",0,1))*(IF($P74=\"Contract\",0,1))","v":0},{"$f":"IF($C74=Post!$B$40,1,0)*(IF($P74=\"\",0,1))*(IF($P74=\"Contract\",0,1))","v":0},{"$f":"IF($C74=Post!$B$41,1,0)*(IF($P74=\"\",0,1))*(IF($P74=\"Contract\",0,1))","v":0},{"$f":"IF($C74=Post!$B$42,1,0)*(IF($P74=\"\",0,1))*(IF($P74=\"Contract\",0,1))","v":0},{"$f":"IF($C74=Post!$B$43,1,0)*(IF($P74=\"\",0,1))*(IF($P74=\"Contract\",0,1))","v":0},{"$f":"IF($C74=Post!$B$44,1,0)*(IF($P74=\"\",0,1))*(IF($P74=\"Contract\",0,1))","v":0},{"$f":"IF($C74=Post!$B$45,1,0)*(IF($P74=\"\",0,1))*(IF($P74=\"Contract\",0,1))","v":0},{"$f":"IF($C74=Post!$B$46,1,0)*(IF($P74=\"\",0,1))*(IF($P74=\"Contract\",0,1))","v":0},{"$f":"IF($C74=Post!$B$47,1,0)*(IF($P74=\"\",0,1))*(IF($P74=\"Contract\",0,1))","v":0},{"$f":"IF(C74=Post!B$48,1,0)*(IF(P74=\"\",0,1))*(IF($P74=\"Contract\",0,1))","v":0},{"$f":"IF(C74=Post!B$49,1,0)*(IF(P74=\"\",0,1))*(IF($P74=\"Contract\",0,1))","v":0},{"$f":"IF(C74=Post!B$50,1,0)*(IF(P74=\"\",0,1))*(IF($P74=\"Contract\",0,1))","v":0},0,0,0,0,0,0,0,0,0,0,0,0,0,0,0,0,0,0,0,0,0,0,0,0,0,0,0,0,0,0,0,0,0,0,0,0,0,0,0,0,0,0,0,0,0,0]
["",{"$f":"IF(C75=\"\",\"\",Database!H$5)","v":""},null,null,null,null,null,null,null,null,null,null,null,null,null,null,"",null,null,0,0,0,0,0,"",0,0,0,0,0,0,0,0,0,0,"",{"$f":"IF($C75=Post!$B$11,1,0)*(IF($P75=\"\",0,1))*(IF($P75=\"Contract\",0,1))","v":0},{"$f":"IF($C75=Post!$B$12,1,0)*(IF($P75=\"\",0,1))*(IF($P75=\"Contract\",0,1))","v":0},{"$f":"IF($C75=Post!$B$13,1,0)*(IF($P75=\"\",0,1))*(IF($P75=\"Contract\",0,1))","v":0},{"$f":"IF($C75=Post!$B$14,1,0)*(IF($P75=\"\",0,1))*(IF($P75=\"Contract\",0,1))","v":0},{"$f":"IF($C75=Post!$B$15,1,0)*(IF($P75=\"\",0,1))*(IF($P75=\"Contract\",0,1))","v":0},{"$f":"IF($C75=Post!$B$16,1,0)*(IF($P75=\"\",0,1))*(IF($P75=\"Contract\",0,1))","v":0},{"$f":"IF($C75=Post!$B$17,1,0)*(IF($P75=\"\",0,1))*(IF($P75=\"Contract\",0,1))","v":0},{"$f":"IF($C75=Post!$B$18,1,0)*(IF($P75=\"\",0,1))*(IF($P75=\"Contract\",0,1))","v":0},{"$f":"IF($C75=Post!$B$19,1,0)*(IF($P75=\"\",0,1))*(IF($P75=\"Contract\",0,1))","v":0},{"$f":"IF($C75=Post!$B$20,1,0)*(IF($P75=\"\",0,1))*(IF($P75=\"Contract\",0,1))","v":0},{"$f":"IF($C75=Post!$B$21,1,0)*(IF($P75=\"\",0,1))*(IF($P75=\"Contract\",0,1))","v":0},{"$f":"IF($C75=Post!$B$2,1,0)*(IF($P75=\"\",0,1))*(IF($P75=\"Contract\",0,1))","v":0},{"$f":"IF($C75=Post!$B$23,1,0)*(IF($P75=\"\",0,1))*(IF($P75=\"Contract\",0,1))","v":0},{"$f":"IF($C75=Post!$B$24,1,0)*(IF($P75=\"\",0,1))*(IF($P75=\"Contract\",0,1))","v":0},{"$f":"IF($C75=Post!$B$25,1,0)*(IF($P75=\"\",0,1))*(IF($P75=\"Contract\",0,1))","v":0},{"$f":"IF($C75=Post!$B$26,1,0)*(IF($P75=\"\",0,1))*(IF($P75=\"Contract\",0,1))","v":0},{"$f":"IF($C75=Post!$B$27,1,0)*(IF($P75=\"\",0,1))*(IF($P75=\"Contract\",0,1))","v":0},{"$f":"IF($C75=Post!$B$28,1,0)*(IF($P75=\"\",0,1))*(IF($P75=\"Contract\",0,1))","v":0},{"$f":"IF($C75=Post!$B$29,1,0)*(IF($P75=\"\",0,1))*(IF($P75=\"Contract\",0,1))","v":0},{"$f":"IF($C75=Post!$B$30,1,0)*(IF($P75=\"\",0,1))*(IF($P75=\"Contract\",0,1))","v":0},{"$f":"IF($C75=Post!$B$31,1,0)*(IF($P75=\"\",0,1))*(IF($P75=\"Contract\",0,1))","v":0},{"$f":"IF($C75=Post!$B$32,1,0)*(IF($P75=\"\",0,1))*(IF($P75=\"Contract\",0,1))","v":0},{"$f":"IF($C75=Post!$B$33,1,0)*(IF($P75=\"\",0,1))*(IF($P75=\"Contract\",0,1))","v":0},{"$f":"IF($C75=Post!$B$34,1,0)*(IF($P75=\"\",0,1))*(IF($P75=\"Contract\",0,1))","v":0},{"$f":"IF($C75=Post!$B$35,1,0)*(IF($P75=\"\",0,1))*(IF($P75=\"Contract\",0,1))","v":0},{"$f":"IF($C75=Post!$B$36,1,0)*(IF($P75=\"\",0,1))*(IF($P75=\"Contract\",0,1))","v":0},{"$f":"IF($C75=Post!$B$37,1,0)*(IF($P75=\"\",0,1))*(IF($P75=\"Contract\",0,1))","v":0},{"$f":"IF($C75=Post!$B$38,1,0)*(IF($P75=\"\",0,1))*(IF($P75=\"Contract\",0,1))","v":0},{"$f":"IF($C75=Post!$B$39,1,0)*(IF($P75=\"\",0,1))*(IF($P75=\"Contract\",0,1))","v":0},{"$f":"IF($C75=Post!$B$40,1,0)*(IF($P75=\"\",0,1))*(IF($P75=\"Contract\",0,1))","v":0},{"$f":"IF($C75=Post!$B$41,1,0)*(IF($P75=\"\",0,1))*(IF($P75=\"Contract\",0,1))","v":0},{"$f":"IF($C75=Post!$B$42,1,0)*(IF($P75=\"\",0,1))*(IF($P75=\"Contract\",0,1))","v":0},{"$f":"IF($C75=Post!$B$43,1,0)*(IF($P75=\"\",0,1))*(IF($P75=\"Contract\",0,1))","v":0},{"$f":"IF($C75=Post!$B$44,1,0)*(IF($P75=\"\",0,1))*(IF($P75=\"Contract\",0,1))","v":0},{"$f":"IF($C75=Post!$B$45,1,0)*(IF($P75=\"\",0,1))*(IF($P75=\"Contract\",0,1))","v":0},{"$f":"IF($C75=Post!$B$46,1,0)*(IF($P75=\"\",0,1))*(IF($P75=\"Contract\",0,1))","v":0},{"$f":"IF($C75=Post!$B$47,1,0)*(IF($P75=\"\",0,1))*(IF($P75=\"Contract\",0,1))","v":0},{"$f":"IF(C75=Post!B$48,1,0)*(IF(P75=\"\",0,1))*(IF($P75=\"Contract\",0,1))","v":0},{"$f":"IF(C75=Post!B$49,1,0)*(IF(P75=\"\",0,1))*(IF($P75=\"Contract\",0,1))","v":0},{"$f":"IF(C75=Post!B$50,1,0)*(IF(P75=\"\",0,1))*(IF($P75=\"Contract\",0,1))","v":0},0,0,0,0,0,0,0,0,0,0,0,0,0,0,0,0,0,0,0,0,0,0,0,0,0,0,0,0,0,0,0,0,0,0,0,0,0,0,0,0,0,0,0,0,0,0]
["",{"$f":"IF(C76=\"\",\"\",Database!H$5)","v":""},null,null,null,null,null,null,null,null,null,null,null,null,null,null,{"$f":"IF(N76=\"\",\"\",DATE(YEAR(N76-1)+60,(MONTH(N76-1))+1,0))","v":""},null,null,{"$f":"(IF(E76=\"g\",1)*(IF(P76=\"r\",1,0)*IF(P76=\"\",0,1)))","v":0},{"$f":"(IF(E76=\"ng\",1,0)*(IF(P76=\"R\",1,0)*IF(P76=\"\",0,1)))","v":0},{"$f":"(IF(E76=\"g\",1,0)*(IF(P76=\"F\",1,0)))","v":0},{"$f":"(IF(E76=\"ng\",1,0)*(IF(P76=\"F\",1,0)*IF(P76=\"\",0,1)))","v":0},{"$f":"(IF(E76=\"ng\",1,0)*(IF(P76=\"r\",1,0)*IF(L76=\"L-13\",1,0)))","v":0},{"$f":"IF(O76=\"\",\"\",YEAR(O76))","v":""},{"$f":"IF(Y76>=2004,M76,0)*IF(P76=\"R\",1,0)","v":0},{"$f":"IF(K76=\"W\",1,0)*IF(P76=\"R\",1,0)*IF(P76=\"\",0,1)*IF(F76=\"M\",1,0)","v":0},{"$f":"IF(K76=\"c\",1,0)*IF(P76=\"\",0,1)*IF(P76=\"R\",1,0)*IF(F76=\"M\",1,0)","v":0},{"$f":"IF(Y76>=2004,M76,0)*IF(P76=\"F\",1,0)","v":0},{"$f":"IF(I76=\"M\",1,0)*(IF(C76=\"जमादार\",1,0)*IF(P76=\"R\",1,0))","v":0},{"$f":"IF(I76=\"F\",1,0)*(IF(C76=\"जमादार\",1,0)*IF(P76=\"R\",1,0))","v":0},{"$f":"IF(I76=\"M\",1,0)*(IF(C76=\"प्रयोगशाला परिचारक\",1,0)*IF(P76=\"R\",1,0))","v":0},{"$f":"IF(I76=\"F\",1,0)*(IF(C76=\"प्रयोगशाला परिचारक\",1,0)*IF(P76=\"R\",1,0))","v":0},{"$f":"IF(I76=\"M\",1,0)*(IF(C76=\"चतुर्थ श्रेणी कर्मचारी\",1,0)*IF(P76=\"R\",1,0))","v":0},{"$f":"IF(I76=\"F\",1,0)*(IF(C76=\"चतुर्थ श्रेणी कर्मचारी\",1,0)*IF(P76=\"R\",1,0))","v":0},{"$f":"IF(AND(M76=\"\"),\"\",M76-ROUNDUP(ROUND((M76*3%)-(M76*3%)*2.9%,-2),0))","v":""},{"$f":"IF($C76=Post!$B$11,1,0)*(IF($P76=\"\",0,1))*(IF($P76=\"Contract\",0,1))","v":0},{"$f":"IF($C76=Post!$B$12,1,0)*(IF($P76=\"\",0,1))*(IF($P76=\"Contract\",0,1))","v":0},{"$f":"IF($C76=Post!$B$13,1,0)*(IF($P76=\"\",0,1))*(IF($P76=\"Contract\",0,1))","v":0},{"$f":"IF($C76=Post!$B$14,1,0)*(IF($P76=\"\",0,1))*(IF($P76=\"Contract\",0,1))","v":0},{"$f":"IF($C76=Post!$B$15,1,0)*(IF($P76=\"\",0,1))*(IF($P76=\"Contract\",0,1))","v":0},{"$f":"IF($C76=Post!$B$16,1,0)*(IF($P76=\"\",0,1))*(IF($P76=\"Contract\",0,1))","v":0},{"$f":"IF($C76=Post!$B$17,1,0)*(IF($P76=\"\",0,1))*(IF($P76=\"Contract\",0,1))","v":0},{"$f":"IF($C76=Post!$B$18,1,0)*(IF($P76=\"\",0,1))*(IF($P76=\"Contract\",0,1))","v":0},{"$f":"IF($C76=Post!$B$19,1,0)*(IF($P76=\"\",0,1))*(IF($P76=\"Contract\",0,1))","v":0},{"$f":"IF($C76=Post!$B$20,1,0)*(IF($P76=\"\",0,1))*(IF($P76=\"Contract\",0,1))","v":0},{"$f":"IF($C76=Post!$B$21,1,0)*(IF($P76=\"\",0,1))*(IF($P76=\"Contract\",0,1))","v":0},{"$f":"IF($C76=Post!$B$2,1,0)*(IF($P76=\"\",0,1))*(IF($P76=\"Contract\",0,1))","v":0},{"$f":"IF($C76=Post!$B$23,1,0)*(IF($P76=\"\",0,1))*(IF($P76=\"Contract\",0,1))","v":0},{"$f":"IF($C76=Post!$B$24,1,0)*(IF($P76=\"\",0,1))*(IF($P76=\"Contract\",0,1))","v":0},{"$f":"IF($C76=Post!$B$25,1,0)*(IF($P76=\"\",0,1))*(IF($P76=\"Contract\",0,1))","v":0},{"$f":"IF($C76=Post!$B$26,1,0)*(IF($P76=\"\",0,1))*(IF($P76=\"Contract\",0,1))","v":0},{"$f":"IF($C76=Post!$B$27,1,0)*(IF($P76=\"\",0,1))*(IF($P76=\"Contract\",0,1))","v":0},{"$f":"IF($C76=Post!$B$28,1,0)*(IF($P76=\"\",0,1))*(IF($P76=\"Contract\",0,1))","v":0},{"$f":"IF($C76=Post!$B$29,1,0)*(IF($P76=\"\",0,1))*(IF($P76=\"Contract\",0,1))","v":0},{"$f":"IF($C76=Post!$B$30,1,0)*(IF($P76=\"\",0,1))*(IF($P76=\"Contract\",0,1))","v":0},{"$f":"IF($C76=Post!$B$31,1,0)*(IF($P76=\"\",0,1))*(IF($P76=\"Contract\",0,1))","v":0},{"$f":"IF($C76=Post!$B$32,1,0)*(IF($P76=\"\",0,1))*(IF($P76=\"Contract\",0,1))","v":0},{"$f":"IF($C76=Post!$B$33,1,0)*(IF($P76=\"\",0,1))*(IF($P76=\"Contract\",0,1))","v":0},{"$f":"IF($C76=Post!$B$34,1,0)*(IF($P76=\"\",0,1))*(IF($P76=\"Contract\",0,1))","v":0},{"$f":"IF($C76=Post!$B$35,1,0)*(IF($P76=\"\",0,1))*(IF($P76=\"Contract\",0,1))","v":0},{"$f":"IF($C76=Post!$B$36,1,0)*(IF($P76=\"\",0,1))*(IF($P76=\"Contract\",0,1))","v":0},{"$f":"IF($C76=Post!$B$37,1,0)*(IF($P76=\"\",0,1))*(IF($P76=\"Contract\",0,1))","v":0},{"$f":"IF($C76=Post!$B$38,1,0)*(IF($P76=\"\",0,1))*(IF($P76=\"Contract\",0,1))","v":0},{"$f":"IF($C76=Post!$B$39,1,0)*(IF($P76=\"\",0,1))*(IF($P76=\"Contract\",0,1))","v":0},{"$f":"IF($C76=Post!$B$40,1,0)*(IF($P76=\"\",0,1))*(IF($P76=\"Contract\",0,1))","v":0},{"$f":"IF($C76=Post!$B$41,1,0)*(IF($P76=\"\",0,1))*(IF($P76=\"Contract\",0,1))","v":0},{"$f":"IF($C76=Post!$B$42,1,0)*(IF($P76=\"\",0,1))*(IF($P76=\"Contract\",0,1))","v":0},{"$f":"IF($C76=Post!$B$43,1,0)*(IF($P76=\"\",0,1))*(IF($P76=\"Contract\",0,1))","v":0},{"$f":"IF($C76=Post!$B$44,1,0)*(IF($P76=\"\",0,1))*(IF($P76=\"Contract\",0,1))","v":0},{"$f":"IF($C76=Post!$B$45,1,0)*(IF($P76=\"\",0,1))*(IF($P76=\"Contract\",0,1))","v":0},{"$f":"IF($C76=Post!$B$46,1,0)*(IF($P76=\"\",0,1))*(IF($P76=\"Contract\",0,1))","v":0},{"$f":"IF($C76=Post!$B$47,1,0)*(IF($P76=\"\",0,1))*(IF($P76=\"Contract\",0,1))","v":0},{"$f":"IF(C76=Post!B$48,1,0)*(IF(P76=\"\",0,1))*(IF($P76=\"Contract\",0,1))","v":0},{"$f":"IF(C76=Post!B$49,1,0)*(IF(P76=\"\",0,1))*(IF($P76=\"Contract\",0,1))","v":0},{"$f":"IF(C76=Post!B$50,1,0)*(IF(P76=\"\",0,1))*(IF($P76=\"Contract\",0,1))","v":0},{"$f":"IF($Z76=0,0,AK76)+IF($AC76=0,0,AK76)+IF($DN76=0,0,AK76)","v":0},{"$f":"IF($Z76=0,0,AL76)+IF($AC76=0,0,AL76)+IF($DN76=0,0,AL76)","v":0},{"$f":"IF($Z76=0,0,AM76)+IF($AC76=0,0,AM76)+IF($DN76=0,0,AM76)","v":0},{"$f":"IF($Z76=0,0,AN76)+IF($AC76=0,0,AN76)+IF($DN76=0,0,AN76)","v":0},{"$f":"IF($Z76=0,0,AO76)+IF($AC76=0,0,AO76)+IF($DN76=0,0,AO76)","v":0},{"$f":"IF($Z76=0,0,AP76)+IF($AC76=0,0,AP76)+IF($DN76=0,0,AP76)","v":0},{"$f":"IF($Z76=0,0,AQ76)+IF($AC76=0,0,AQ76)+IF($DN76=0,0,AQ76)","v":0},{"$f":"IF($Z76=0,0,AR76)+IF($AC76=0,0,AR76)+IF($DN76=0,0,AR76)","v":0},{"$f":"IF($Z76=0,0,AS76)+IF($AC76=0,0,AS76)+IF($DN76=0,0,AS76)","v":0},{"$f":"IF($Z76=0,0,AT76)+IF($AC76=0,0,AT76)+IF($DN76=0,0,AT76)","v":0},{"$f":"IF($Z76=0,0,AU76)+IF($AC76=0,0,AU76)+IF($DN76=0,0,AU76)","v":0},{"$f":"IF($Z76=0,0,AV76)+IF($AC76=0,0,AV76)+IF($DN76=0,0,AV76)","v":0},{"$f":"IF($Z76=0,0,AW76)+IF($AC76=0,0,AW76)+IF($DN76=0,0,AW76)","v":0},{"$f":"IF($Z76=0,0,AX76)+IF($AC76=0,0,AX76)+IF($DN76=0,0,AX76)","v":0},{"$f":"IF($Z76=0,0,AY76)+IF($AC76=0,0,AY76)+IF($DN76=0,0,AY76)","v":0},{"$f":"IF($Z76=0,0,AZ76)+IF($AC76=0,0,AZ76)+IF($DN76=0,0,AZ76)","v":0},{"$f":"IF($Z76=0,0,BA76)+IF($AC76=0,0,BA76)+IF($DN76=0,0,BA76)","v":0},{"$f":"IF($Z76=0,0,BB76)+IF($AC76=0,0,BB76)+IF($DN76=0,0,BB76)","v":0},{"$f":"IF($Z76=0,0,BC76)+IF($AC76=0,0,BC76)+IF($DN76=0,0,BC76)","v":0},{"$f":"IF($Z76=0,0,BD76)+IF($AC76=0,0,BD76)+IF($DN76=0,0,BD76)","v":0},{"$f":"IF($Z76=0,0,BE76)+IF($AC76=0,0,BE76)+IF($DN76=0,0,BE76)","v":0},{"$f":"IF($Z76=0,0,BF76)+IF($AC76=0,0,BF76)+IF($DN76=0,0,BF76)","v":0},{"$f":"IF($Z76=0,0,BG76)+IF($AC76=0,0,BG76)+IF($DN76=0,0,BG76)","v":0},{"$f":"IF($Z76=0,0,BH76)+IF($AC76=0,0,BH76)+IF($DN76=0,0,BH76)","v":0},{"$f":"IF($Z76=0,0,BI76)+IF($AC76=0,0,BI76)+IF($DN76=0,0,BI76)","v":0},{"$f":"IF($Z76=0,0,BJ76)+IF($AC76=0,0,BJ76)+IF($DN76=0,0,BJ76)","v":0},{"$f":"IF($Z76=0,0,BK76)+IF($AC76=0,0,BK76)+IF($DN76=0,0,BK76)","v":0},{"$f":"IF($Z76=0,0,BL76)+IF($AC76=0,0,BL76)+IF($DN76=0,0,BL76)","v":0},{"$f":"IF($Z76=0,0,BM76)+IF($AC76=0,0,BM76)+IF($DN76=0,0,BM76)","v":0},{"$f":"IF($Z76=0,0,BN76)+IF($AC76=0,0,BN76)+IF($DN76=0,0,BN76)","v":0},{"$f":"IF($Z76=0,0,BO76)+IF($AC76=0,0,BO76)+IF($DN76=0,0,BO76)","v":0},{"$f":"IF($Z76=0,0,BP76)+IF($AC76=0,0,BP76)+IF($DN76=0,0,BP76)","v":0},{"$f":"IF($Z76=0,0,BQ76)+IF($AC76=0,0,BQ76)+IF($DN76=0,0,BQ76)","v":0},{"$f":"IF($Z76=0,0,BR76)+IF($AC76=0,0,BR76)+IF($DN76=0,0,BR76)","v":0},{"$f":"IF($Z76=0,0,BS76)+IF($AC76=0,0,BS76)+IF($DN76=0,0,BS76)","v":0},{"$f":"IF($Z76=0,0,BT76)+IF($AC76=0,0,BT76)+IF($DN76=0,0,BT76)","v":0},{"$f":"IF($Z76=0,0,BU76)+IF($AC76=0,0,BU76)+IF($DN76=0,0,BU76)","v":0},{"$f":"IF($Z76=0,0,BV76)+IF($AC76=0,0,BV76)+IF($DN76=0,0,BV76)","v":0},{"$f":"IF($Z76=0,0,BW76)+IF($AC76=0,0,BW76)+IF($DN76=0,0,BW76)","v":0},{"$f":"IF($Z76=0,0,BX76)+IF($AC76=0,0,BX76)+IF($DN76=0,0,BX76)","v":0},{"$f":"IF(P76=\"Contract\",M76,0)","v":0},{"$f":"IF(P76=\"Suspand\",M76,0)","v":0},{"$f":"IF(I76=\"M\",1,0)*(IF(C76=\"ड्राईवर\",1,0)*IF(P76=\"R\",1,0))","v":0},{"$f":"IF(I76=\"F\",1,0)*(IF(C76=\"ड्राईवर\",1,0)*IF(P76=\"R\",1,0))","v":0},0,0]
["",{"$f":"IF(C77=\"\",\"\",Database!H$5)","v":""},null,null,null,null,null,null,null,null,null,null,null,null,null,null,"",null,null,0,0,0,0,0,"",0,0,0,0,0,0,0,0,0,0,"",{"$f":"IF($C77=Post!$B$11,1,0)*(IF($P77=\"\",0,1))*(IF($P77=\"Contract\",0,1))","v":0},{"$f":"IF($C77=Post!$B$12,1,0)*(IF($P77=\"\",0,1))*(IF($P77=\"Contract\",0,1))","v":0},{"$f":"IF($C77=Post!$B$13,1,0)*(IF($P77=\"\",0,1))*(IF($P77=\"Contract\",0,1))","v":0},{"$f":"IF($C77=Post!$B$14,1,0)*(IF($P77=\"\",0,1))*(IF($P77=\"Contract\",0,1))","v":0},{"$f":"IF($C77=Post!$B$15,1,0)*(IF($P77=\"\",0,1))*(IF($P77=\"Contract\",0,1))","v":0},{"$f":"IF($C77=Post!$B$16,1,0)*(IF($P77=\"\",0,1))*(IF($P77=\"Contract\",0,1))","v":0},{"$f":"IF($C77=Post!$B$17,1,0)*(IF($P77=\"\",0,1))*(IF($P77=\"Contract\",0,1))","v":0},{"$f":"IF($C77=Post!$B$18,1,0)*(IF($P77=\"\",0,1))*(IF($P77=\"Contract\",0,1))","v":0},{"$f":"IF($C77=Post!$B$19,1,0)*(IF($P77=\"\",0,1))*(IF($P77=\"Contract\",0,1))","v":0},{"$f":"IF($C77=Post!$B$20,1,0)*(IF($P77=\"\",0,1))*(IF($P77=\"Contract\",0,1))","v":0},{"$f":"IF($C77=Post!$B$21,1,0)*(IF($P77=\"\",0,1))*(IF($P77=\"Contract\",0,1))","v":0},{"$f":"IF($C77=Post!$B$2,1,0)*(IF($P77=\"\",0,1))*(IF($P77=\"Contract\",0,1))","v":0},{"$f":"IF($C77=Post!$B$23,1,0)*(IF($P77=\"\",0,1))*(IF($P77=\"Contract\",0,1))","v":0},{"$f":"IF($C77=Post!$B$24,1,0)*(IF($P77=\"\",0,1))*(IF($P77=\"Contract\",0,1))","v":0},{"$f":"IF($C77=Post!$B$25,1,0)*(IF($P77=\"\",0,1))*(IF($P77=\"Contract\",0,1))","v":0},{"$f":"IF($C77=Post!$B$26,1,0)*(IF($P77=\"\",0,1))*(IF($P77=\"Contract\",0,1))","v":0},{"$f":"IF($C77=Post!$B$27,1,0)*(IF($P77=\"\",0,1))*(IF($P77=\"Contract\",0,1))","v":0},{"$f":"IF($C77=Post!$B$28,1,0)*(IF($P77=\"\",0,1))*(IF($P77=\"Contract\",0,1))","v":0},{"$f":"IF($C77=Post!$B$29,1,0)*(IF($P77=\"\",0,1))*(IF($P77=\"Contract\",0,1))","v":0},{"$f":"IF($C77=Post!$B$30,1,0)*(IF($P77=\"\",0,1))*(IF($P77=\"Contract\",0,1))","v":0},{"$f":"IF($C77=Post!$B$31,1,0)*(IF($P77=\"\",0,1))*(IF($P77=\"Contract\",0,1))","v":0},{"$f":"IF($C77=Post!$B$32,1,0)*(IF($P77=\"\",0,1))*(IF($P77=\"Contract\",0,1))","v":0},{"$f":"IF($C77=Post!$B$33,1,0)*(IF($P77=\"\",0,1))*(IF($P77=\"Contract\",0,1))","v":0},{"$f":"IF($C77=Post!$B$34,1,0)*(IF($P77=\"\",0,1))*(IF($P77=\"Contract\",0,1))","v":0},{"$f":"IF($C77=Post!$B$35,1,0)*(IF($P77=\"\",0,1))*(IF($P77=\"Contract\",0,1))","v":0},{"$f":"IF($C77=Post!$B$36,1,0)*(IF($P77=\"\",0,1))*(IF($P77=\"Contract\",0,1))","v":0},{"$f":"IF($C77=Post!$B$37,1,0)*(IF($P77=\"\",0,1))*(IF($P77=\"Contract\",0,1))","v":0},{"$f":"IF($C77=Post!$B$38,1,0)*(IF($P77=\"\",0,1))*(IF($P77=\"Contract\",0,1))","v":0},{"$f":"IF($C77=Post!$B$39,1,0)*(IF($P77=\"\",0,1))*(IF($P77=\"Contract\",0,1))","v":0},{"$f":"IF($C77=Post!$B$40,1,0)*(IF($P77=\"\",0,1))*(IF($P77=\"Contract\",0,1))","v":0},{"$f":"IF($C77=Post!$B$41,1,0)*(IF($P77=\"\",0,1))*(IF($P77=\"Contract\",0,1))","v":0},{"$f":"IF($C77=Post!$B$42,1,0)*(IF($P77=\"\",0,1))*(IF($P77=\"Contract\",0,1))","v":0},{"$f":"IF($C77=Post!$B$43,1,0)*(IF($P77=\"\",0,1))*(IF($P77=\"Contract\",0,1))","v":0},{"$f":"IF($C77=Post!$B$44,1,0)*(IF($P77=\"\",0,1))*(IF($P77=\"Contract\",0,1))","v":0},{"$f":"IF($C77=Post!$B$45,1,0)*(IF($P77=\"\",0,1))*(IF($P77=\"Contract\",0,1))","v":0},{"$f":"IF($C77=Post!$B$46,1,0)*(IF($P77=\"\",0,1))*(IF($P77=\"Contract\",0,1))","v":0},{"$f":"IF($C77=Post!$B$47,1,0)*(IF($P77=\"\",0,1))*(IF($P77=\"Contract\",0,1))","v":0},{"$f":"IF(C77=Post!B$48,1,0)*(IF(P77=\"\",0,1))*(IF($P77=\"Contract\",0,1))","v":0},{"$f":"IF(C77=Post!B$49,1,0)*(IF(P77=\"\",0,1))*(IF($P77=\"Contract\",0,1))","v":0},{"$f":"IF(C77=Post!B$50,1,0)*(IF(P77=\"\",0,1))*(IF($P77=\"Contract\",0,1))","v":0},0,0,0,0,0,0,0,0,0,0,0,0,0,0,0,0,0,0,0,0,0,0,0,0,0,0,0,0,0,0,0,0,0,0,0,0,0,0,0,0,0,0,0,0,0,0]
["",{"$f":"IF(C78=\"\",\"\",Database!H$5)","v":""},null,null,null,null,null,null,null,null,null,null,null,null,null,null,"",null,null,0,0,0,0,0,"",0,0,0,0,0,0,0,0,0,0,"",{"$f":"IF($C78=Post!$B$11,1,0)*(IF($P78=\"\",0,1))*(IF($P78=\"Contract\",0,1))","v":0},{"$f":"IF($C78=Post!$B$12,1,0)*(IF($P78=\"\",0,1))*(IF($P78=\"Contract\",0,1))","v":0},{"$f":"IF($C78=Post!$B$13,1,0)*(IF($P78=\"\",0,1))*(IF($P78=\"Contract\",0,1))","v":0},{"$f":"IF($C78=Post!$B$14,1,0)*(IF($P78=\"\",0,1))*(IF($P78=\"Contract\",0,1))","v":0},{"$f":"IF($C78=Post!$B$15,1,0)*(IF($P78=\"\",0,1))*(IF($P78=\"Contract\",0,1))","v":0},{"$f":"IF($C78=Post!$B$16,1,0)*(IF($P78=\"\",0,1))*(IF($P78=\"Contract\",0,1))","v":0},{"$f":"IF($C78=Post!$B$17,1,0)*(IF($P78=\"\",0,1))*(IF($P78=\"Contract\",0,1))","v":0},{"$f":"IF($C78=Post!$B$18,1,0)*(IF($P78=\"\",0,1))*(IF($P78=\"Contract\",0,1))","v":0},{"$f":"IF($C78=Post!$B$19,1,0)*(IF($P78=\"\",0,1))*(IF($P78=\"Contract\",0,1))","v":0},{"$f":"IF($C78=Post!$B$20,1,0)*(IF($P78=\"\",0,1))*(IF($P78=\"Contract\",0,1))","v":0},{"$f":"IF($C78=Post!$B$21,1,0)*(IF($P78=\"\",0,1))*(IF($P78=\"Contract\",0,1))","v":0},{"$f":"IF($C78=Post!$B$2,1,0)*(IF($P78=\"\",0,1))*(IF($P78=\"Contract\",0,1))","v":0},{"$f":"IF($C78=Post!$B$23,1,0)*(IF($P78=\"\",0,1))*(IF($P78=\"Contract\",0,1))","v":0},{"$f":"IF($C78=Post!$B$24,1,0)*(IF($P78=\"\",0,1))*(IF($P78=\"Contract\",0,1))","v":0},{"$f":"IF($C78=Post!$B$25,1,0)*(IF($P78=\"\",0,1))*(IF($P78=\"Contract\",0,1))","v":0},{"$f":"IF($C78=Post!$B$26,1,0)*(IF($P78=\"\",0,1))*(IF($P78=\"Contract\",0,1))","v":0},{"$f":"IF($C78=Post!$B$27,1,0)*(IF($P78=\"\",0,1))*(IF($P78=\"Contract\",0,1))","v":0},{"$f":"IF($C78=Post!$B$28,1,0)*(IF($P78=\"\",0,1))*(IF($P78=\"Contract\",0,1))","v":0},{"$f":"IF($C78=Post!$B$29,1,0)*(IF($P78=\"\",0,1))*(IF($P78=\"Contract\",0,1))","v":0},{"$f":"IF($C78=Post!$B$30,1,0)*(IF($P78=\"\",0,1))*(IF($P78=\"Contract\",0,1))","v":0},{"$f":"IF($C78=Post!$B$31,1,0)*(IF($P78=\"\",0,1))*(IF($P78=\"Contract\",0,1))","v":0},{"$f":"IF($C78=Post!$B$32,1,0)*(IF($P78=\"\",0,1))*(IF($P78=\"Contract\",0,1))","v":0},{"$f":"IF($C78=Post!$B$33,1,0)*(IF($P78=\"\",0,1))*(IF($P78=\"Contract\",0,1))","v":0},{"$f":"IF($C78=Post!$B$34,1,0)*(IF($P78=\"\",0,1))*(IF($P78=\"Contract\",0,1))","v":0},{"$f":"IF($C78=Post!$B$35,1,0)*(IF($P78=\"\",0,1))*(IF($P78=\"Contract\",0,1))","v":0},{"$f":"IF($C78=Post!$B$36,1,0)*(IF($P78=\"\",0,1))*(IF($P78=\"Contract\",0,1))","v":0},{"$f":"IF($C78=Post!$B$37,1,0)*(IF($P78=\"\",0,1))*(IF($P78=\"Contract\",0,1))","v":0},{"$f":"IF($C78=Post!$B$38,1,0)*(IF($P78=\"\",0,1))*(IF($P78=\"Contract\",0,1))","v":0},{"$f":"IF($C78=Post!$B$39,1,0)*(IF($P78=\"\",0,1))*(IF($P78=\"Contract\",0,1))","v":0},{"$f":"IF($C78=Post!$B$40,1,0)*(IF($P78=\"\",0,1))*(IF($P78=\"Contract\",0,1))","v":0},{"$f":"IF($C78=Post!$B$41,1,0)*(IF($P78=\"\",0,1))*(IF($P78=\"Contract\",0,1))","v":0},{"$f":"IF($C78=Post!$B$42,1,0)*(IF($P78=\"\",0,1))*(IF($P78=\"Contract\",0,1))","v":0},{"$f":"IF($C78=Post!$B$43,1,0)*(IF($P78=\"\",0,1))*(IF($P78=\"Contract\",0,1))","v":0},{"$f":"IF($C78=Post!$B$44,1,0)*(IF($P78=\"\",0,1))*(IF($P78=\"Contract\",0,1))","v":0},{"$f":"IF($C78=Post!$B$45,1,0)*(IF($P78=\"\",0,1))*(IF($P78=\"Contract\",0,1))","v":0},{"$f":"IF($C78=Post!$B$46,1,0)*(IF($P78=\"\",0,1))*(IF($P78=\"Contract\",0,1))","v":0},{"$f":"IF($C78=Post!$B$47,1,0)*(IF($P78=\"\",0,1))*(IF($P78=\"Contract\",0,1))","v":0},{"$f":"IF(C78=Post!B$48,1,0)*(IF(P78=\"\",0,1))*(IF($P78=\"Contract\",0,1))","v":0},{"$f":"IF(C78=Post!B$49,1,0)*(IF(P78=\"\",0,1))*(IF($P78=\"Contract\",0,1))","v":0},{"$f":"IF(C78=Post!B$50,1,0)*(IF(P78=\"\",0,1))*(IF($P78=\"Contract\",0,1))","v":0},0,0,0,0,0,0,0,0,0,0,0,0,0,0,0,0,0,0,0,0,0,0,0,0,0,0,0,0,0,0,0,0,0,0,0,0,0,0,0,0,0,0,0,0,0,0]
["",{"$f":"IF(C79=\"\",\"\",Database!H$5)","v":""},null,null,null,null,null,null,null,null,null,null,null,null,null,null,"",null,null,0,0,0,0,0,"",0,0,0,0,0,0,0,0,0,0,"",{"$f":"IF($C79=Post!$B$11,1,0)*(IF($P79=\"\",0,1))*(IF($P79=\"Contract\",0,1))","v":0},{"$f":"IF($C79=Post!$B$12,1,0)*(IF($P79=\"\",0,1))*(IF($P79=\"Contract\",0,1))","v":0},{"$f":"IF($C79=Post!$B$13,1,0)*(IF($P79=\"\",0,1))*(IF($P79=\"Contract\",0,1))","v":0},{"$f":"IF($C79=Post!$B$14,1,0)*(IF($P79=\"\",0,1))*(IF($P79=\"Contract\",0,1))","v":0},{"$f":"IF($C79=Post!$B$15,1,0)*(IF($P79=\"\",0,1))*(IF($P79=\"Contract\",0,1))","v":0},{"$f":"IF($C79=Post!$B$16,1,0)*(IF($P79=\"\",0,1))*(IF($P79=\"Contract\",0,1))","v":0},{"$f":"IF($C79=Post!$B$17,1,0)*(IF($P79=\"\",0,1))*(IF($P79=\"Contract\",0,1))","v":0},{"$f":"IF($C79=Post!$B$18,1,0)*(IF($P79=\"\",0,1))*(IF($P79=\"Contract\",0,1))","v":0},{"$f":"IF($C79=Post!$B$19,1,0)*(IF($P79=\"\",0,1))*(IF($P79=\"Contract\",0,1))","v":0},{"$f":"IF($C79=Post!$B$20,1,0)*(IF($P79=\"\",0,1))*(IF($P79=\"Contract\",0,1))","v":0},{"$f":"IF($C79=Post!$B$21,1,0)*(IF($P79=\"\",0,1))*(IF($P79=\"Contract\",0,1))","v":0},{"$f":"IF($C79=Post!$B$2,1,0)*(IF($P79=\"\",0,1))*(IF($P79=\"Contract\",0,1))","v":0},{"$f":"IF($C79=Post!$B$23,1,0)*(IF($P79=\"\",0,1))*(IF($P79=\"Contract\",0,1))","v":0},{"$f":"IF($C79=Post!$B$24,1,0)*(IF($P79=\"\",0,1))*(IF($P79=\"Contract\",0,1))","v":0},{"$f":"IF($C79=Post!$B$25,1,0)*(IF($P79=\"\",0,1))*(IF($P79=\"Contract\",0,1))","v":0},{"$f":"IF($C79=Post!$B$26,1,0)*(IF($P79=\"\",0,1))*(IF($P79=\"Contract\",0,1))","v":0},{"$f":"IF($C79=Post!$B$27,1,0)*(IF($P79=\"\",0,1))*(IF($P79=\"Contract\",0,1))","v":0},{"$f":"IF($C79=Post!$B$28,1,0)*(IF($P79=\"\",0,1))*(IF($P79=\"Contract\",0,1))","v":0},{"$f":"IF($C79=Post!$B$29,1,0)*(IF($P79=\"\",0,1))*(IF($P79=\"Contract\",0,1))","v":0},{"$f":"IF($C79=Post!$B$30,1,0)*(IF($P79=\"\",0,1))*(IF($P79=\"Contract\",0,1))","v":0},{"$f":"IF($C79=Post!$B$31,1,0)*(IF($P79=\"\",0,1))*(IF($P79=\"Contract\",0,1))","v":0},{"$f":"IF($C79=Post!$B$32,1,0)*(IF($P79=\"\",0,1))*(IF($P79=\"Contract\",0,1))","v":0},{"$f":"IF($C79=Post!$B$33,1,0)*(IF($P79=\"\",0,1))*(IF($P79=\"Contract\",0,1))","v":0},{"$f":"IF($C79=Post!$B$34,1,0)*(IF($P79=\"\",0,1))*(IF($P79=\"Contract\",0,1))","v":0},{"$f":"IF($C79=Post!$B$35,1,0)*(IF($P79=\"\",0,1))*(IF($P79=\"Contract\",0,1))","v":0},{"$f":"IF($C79=Post!$B$36,1,0)*(IF($P79=\"\",0,1))*(IF($P79=\"Contract\",0,1))","v":0},{"$f":"IF($C79=Post!$B$37,1,0)*(IF($P79=\"\",0,1))*(IF($P79=\"Contract\",0,1))","v":0},{"$f":"IF($C79=Post!$B$38,1,0)*(IF($P79=\"\",0,1))*(IF($P79=\"Contract\",0,1))","v":0},{"$f":"IF($C79=Post!$B$39,1,0)*(IF($P79=\"\",0,1))*(IF($P79=\"Contract\",0,1))","v":0},{"$f":"IF($C79=Post!$B$40,1,0)*(IF($P79=\"\",0,1))*(IF($P79=\"Contract\",0,1))","v":0},{"$f":"IF($C79=Post!$B$41,1,0)*(IF($P79=\"\",0,1))*(IF($P79=\"Contract\",0,1))","v":0},{"$f":"IF($C79=Post!$B$42,1,0)*(IF($P79=\"\",0,1))*(IF($P79=\"Contract\",0,1))","v":0},{"$f":"IF($C79=Post!$B$43,1,0)*(IF($P79=\"\",0,1))*(IF($P79=\"Contract\",0,1))","v":0},{"$f":"IF($C79=Post!$B$44,1,0)*(IF($P79=\"\",0,1))*(IF($P79=\"Contract\",0,1))","v":0},{"$f":"IF($C79=Post!$B$45,1,0)*(IF($P79=\"\",0,1))*(IF($P79=\"Contract\",0,1))","v":0},{"$f":"IF($C79=Post!$B$46,1,0)*(IF($P79=\"\",0,1))*(IF($P79=\"Contract\",0,1))","v":0},{"$f":"IF($C79=Post!$B$47,1,0)*(IF($P79=\"\",0,1))*(IF($P79=\"Contract\",0,1))","v":0},{"$f":"IF(C79=Post!B$48,1,0)*(IF(P79=\"\",0,1))*(IF($P79=\"Contract\",0,1))","v":0},{"$f":"IF(C79=Post!B$49,1,0)*(IF(P79=\"\",0,1))*(IF($P79=\"Contract\",0,1))","v":0},{"$f":"IF(C79=Post!B$50,1,0)*(IF(P79=\"\",0,1))*(IF($P79=\"Contract\",0,1))","v":0},0,0,0,0,0,0,0,0,0,0,0,0,0,0,0,0,0,0,0,0,0,0,0,0,0,0,0,0,0,0,0,0,0,0,0,0,0,0,0,0,0,0,0,0,{"$f":"IF(AND(AC79=\"\"),\"\",AC79-ROUNDUP(ROUND((AC79*3%)-(AC79*3%)*2.9%,-2),0))","v":0},{"$f":"IF(AND(AC79=\"\"),\"\",AC79+ROUNDUP(ROUND((AC79*3%)+(AC79*3%)*2.9%,-2),0))","v":0}]
["",{"$f":"IF(C80=\"\",\"\",Database!H$5)","v":""},null,null,null,null,null,null,null,null,null,null,null,null,null,null,"",null,null,0,0,0,0,0,"",0,0,0,0,0,0,0,0,0,0,"",{"$f":"IF($C80=Post!$B$11,1,0)*(IF($P80=\"\",0,1))*(IF($P80=\"Contract\",0,1))","v":0},{"$f":"IF($C80=Post!$B$12,1,0)*(IF($P80=\"\",0,1))*(IF($P80=\"Contract\",0,1))","v":0},{"$f":"IF($C80=Post!$B$13,1,0)*(IF($P80=\"\",0,1))*(IF($P80=\"Contract\",0,1))","v":0},{"$f":"IF($C80=Post!$B$14,1,0)*(IF($P80=\"\",0,1))*(IF($P80=\"Contract\",0,1))","v":0},{"$f":"IF($C80=Post!$B$15,1,0)*(IF($P80=\"\",0,1))*(IF($P80=\"Contract\",0,1))","v":0},{"$f":"IF($C80=Post!$B$16,1,0)*(IF($P80=\"\",0,1))*(IF($P80=\"Contract\",0,1))","v":0},{"$f":"IF($C80=Post!$B$17,1,0)*(IF($P80=\"\",0,1))*(IF($P80=\"Contract\",0,1))","v":0},{"$f":"IF($C80=Post!$B$18,1,0)*(IF($P80=\"\",0,1))*(IF($P80=\"Contract\",0,1))","v":0},{"$f":"IF($C80=Post!$B$19,1,0)*(IF($P80=\"\",0,1))*(IF($P80=\"Contract\",0,1))","v":0},{"$f":"IF($C80=Post!$B$20,1,0)*(IF($P80=\"\",0,1))*(IF($P80=\"Contract\",0,1))","v":0},{"$f":"IF($C80=Post!$B$21,1,0)*(IF($P80=\"\",0,1))*(IF($P80=\"Contract\",0,1))","v":0},{"$f":"IF($C80=Post!$B$2,1,0)*(IF($P80=\"\",0,1))*(IF($P80=\"Contract\",0,1))","v":0},{"$f":"IF($C80=Post!$B$23,1,0)*(IF($P80=\"\",0,1))*(IF($P80=\"Contract\",0,1))","v":0},{"$f":"IF($C80=Post!$B$24,1,0)*(IF($P80=\"\",0,1))*(IF($P80=\"Contract\",0,1))","v":0},{"$f":"IF($C80=Post!$B$25,1,0)*(IF($P80=\"\",0,1))*(IF($P80=\"Contract\",0,1))","v":0},{"$f":"IF($C80=Post!$B$26,1,0)*(IF($P80=\"\",0,1))*(IF($P80=\"Contract\",0,1))","v":0},{"$f":"IF($C80=Post!$B$27,1,0)*(IF($P80=\"\",0,1))*(IF($P80=\"Contract\",0,1))","v":0},{"$f":"IF($C80=Post!$B$28,1,0)*(IF($P80=\"\",0,1))*(IF($P80=\"Contract\",0,1))","v":0},{"$f":"IF($C80=Post!$B$29,1,0)*(IF($P80=\"\",0,1))*(IF($P80=\"Contract\",0,1))","v":0},{"$f":"IF($C80=Post!$B$30,1,0)*(IF($P80=\"\",0,1))*(IF($P80=\"Contract\",0,1))","v":0},{"$f":"IF($C80=Post!$B$31,1,0)*(IF($P80=\"\",0,1))*(IF($P80=\"Contract\",0,1))","v":0},{"$f":"IF($C80=Post!$B$32,1,0)*(IF($P80=\"\",0,1))*(IF($P80=\"Contract\",0,1))","v":0},{"$f":"IF($C80=Post!$B$33,1,0)*(IF($P80=\"\",0,1))*(IF($P80=\"Contract\",0,1))","v":0},{"$f":"IF($C80=Post!$B$34,1,0)*(IF($P80=\"\",0,1))*(IF($P80=\"Contract\",0,1))","v":0},{"$f":"IF($C80=Post!$B$35,1,0)*(IF($P80=\"\",0,1))*(IF($P80=\"Contract\",0,1))","v":0},{"$f":"IF($C80=Post!$B$36,1,0)*(IF($P80=\"\",0,1))*(IF($P80=\"Contract\",0,1))","v":0},{"$f":"IF($C80=Post!$B$37,1,0)*(IF($P80=\"\",0,1))*(IF($P80=\"Contract\",0,1))","v":0},{"$f":"IF($C80=Post!$B$38,1,0)*(IF($P80=\"\",0,1))*(IF($P80=\"Contract\",0,1))","v":0},{"$f":"IF($C80=Post!$B$39,1,0)*(IF($P80=\"\",0,1))*(IF($P80=\"Contract\",0,1))","v":0},{"$f":"IF($C80=Post!$B$40,1,0)*(IF($P80=\"\",0,1))*(IF($P80=\"Contract\",0,1))","v":0},{"$f":"IF($C80=Post!$B$41,1,0)*(IF($P80=\"\",0,1))*(IF($P80=\"Contract\",0,1))","v":0},{"$f":"IF($C80=Post!$B$42,1,0)*(IF($P80=\"\",0,1))*(IF($P80=\"Contract\",0,1))","v":0},{"$f":"IF($C80=Post!$B$43,1,0)*(IF($P80=\"\",0,1))*(IF($P80=\"Contract\",0,1))","v":0},{"$f":"IF($C80=Post!$B$44,1,0)*(IF($P80=\"\",0,1))*(IF($P80=\"Contract\",0,1))","v":0},{"$f":"IF($C80=Post!$B$45,1,0)*(IF($P80=\"\",0,1))*(IF($P80=\"Contract\",0,1))","v":0},{"$f":"IF($C80=Post!$B$46,1,0)*(IF($P80=\"\",0,1))*(IF($P80=\"Contract\",0,1))","v":0},{"$f":"IF($C80=Post!$B$47,1,0)*(IF($P80=\"\",0,1))*(IF($P80=\"Contract\",0,1))","v":0},{"$f":"IF(C80=Post!B$48,1,0)*(IF(P80=\"\",0,1))*(IF($P80=\"Contract\",0,1))","v":0},{"$f":"IF(C80=Post!B$49,1,0)*(IF(P80=\"\",0,1))*(IF($P80=\"Contract\",0,1))","v":0},{"$f":"IF(C80=Post!B$50,1,0)*(IF(P80=\"\",0,1))*(IF($P80=\"Contract\",0,1))","v":0},0,0,0,0,0,0,0,0,0,0,0,0,0,0,0,0,0,0,0,0,0,0,0,0,0,0,0,0,0,0,0,0,0,0,0,0,0,0,0,0,0,0,0,0,0,0]
["",{"$f":"IF(C81=\"\",\"\",Database!H$5)","v":""},null,null,null,null,null,null,null,null,null,null,null,null,null,null,"",null,null,0,0,0,0,0,"",0,0,0,0,0,0,0,0,0,0,"",{"$f":"IF($C81=Post!$B$11,1,0)*(IF($P81=\"\",0,1))*(IF($P81=\"Contract\",0,1))","v":0},{"$f":"IF($C81=Post!$B$12,1,0)*(IF($P81=\"\",0,1))*(IF($P81=\"Contract\",0,1))","v":0},{"$f":"IF($C81=Post!$B$13,1,0)*(IF($P81=\"\",0,1))*(IF($P81=\"Contract\",0,1))","v":0},{"$f":"IF($C81=Post!$B$14,1,0)*(IF($P81=\"\",0,1))*(IF($P81=\"Contract\",0,1))","v":0},{"$f":"IF($C81=Post!$B$15,1,0)*(IF($P81=\"\",0,1))*(IF($P81=\"Contract\",0,1))","v":0},{"$f":"IF($C81=Post!$B$16,1,0)*(IF($P81=\"\",0,1))*(IF($P81=\"Contract\",0,1))","v":0},{"$f":"IF($C81=Post!$B$17,1,0)*(IF($P81=\"\",0,1))*(IF($P81=\"Contract\",0,1))","v":0},{"$f":"IF($C81=Post!$B$18,1,0)*(IF($P81=\"\",0,1))*(IF($P81=\"Contract\",0,1))","v":0},{"$f":"IF($C81=Post!$B$19,1,0)*(IF($P81=\"\",0,1))*(IF($P81=\"Contract\",0,1))","v":0},{"$f":"IF($C81=Post!$B$20,1,0)*(IF($P81=\"\",0,1))*(IF($P81=\"Contract\",0,1))","v":0},{"$f":"IF($C81=Post!$B$21,1,0)*(IF($P81=\"\",0,1))*(IF($P81=\"Contract\",0,1))","v":0},{"$f":"IF($C81=Post!$B$2,1,0)*(IF($P81=\"\",0,1))*(IF($P81=\"Contract\",0,1))","v":0},{"$f":"IF($C81=Post!$B$23,1,0)*(IF($P81=\"\",0,1))*(IF($P81=\"Contract\",0,1))","v":0},{"$f":"IF($C81=Post!$B$24,1,0)*(IF($P81=\"\",0,1))*(IF($P81=\"Contract\",0,1))","v":0},{"$f":"IF($C81=Post!$B$25,1,0)*(IF($P81=\"\",0,1))*(IF($P81=\"Contract\",0,1))","v":0},{"$f":"IF($C81=Post!$B$26,1,0)*(IF($P81=\"\",0,1))*(IF($P81=\"Contract\",0,1))","v":0},{"$f":"IF($C81=Post!$B$27,1,0)*(IF($P81=\"\",0,1))*(IF($P81=\"Contract\",0,1))","v":0},{"$f":"IF($C81=Post!$B$28,1,0)*(IF($P81=\"\",0,1))*(IF($P81=\"Contract\",0,1))","v":0},{"$f":"IF($C81=Post!$B$29,1,0)*(IF($P81=\"\",0,1))*(IF($P81=\"Contract\",0,1))","v":0},{"$f":"IF($C81=Post!$B$30,1,0)*(IF($P81=\"\",0,1))*(IF($P81=\"Contract\",0,1))","v":0},{"$f":"IF($C81=Post!$B$31,1,0)*(IF($P81=\"\",0,1))*(IF($P81=\"Contract\",0,1))","v":0},{"$f":"IF($C81=Post!$B$32,1,0)*(IF($P81=\"\",0,1))*(IF($P81=\"Contract\",0,1))","v":0},{"$f":"IF($C81=Post!$B$33,1,0)*(IF($P81=\"\",0,1))*(IF($P81=\"Contract\",0,1))","v":0},{"$f":"IF($C81=Post!$B$34,1,0)*(IF($P81=\"\",0,1))*(IF($P81=\"Contract\",0,1))","v":0},{"$f":"IF($C81=Post!$B$35,1,0)*(IF($P81=\"\",0,1))*(IF($P81=\"Contract\",0,1))","v":0},{"$f":"IF($C81=Post!$B$36,1,0)*(IF($P81=\"\",0,1))*(IF($P81=\"Contract\",0,1))","v":0},{"$f":"IF($C81=Post!$B$37,1,0)*(IF($P81=\"\",0,1))*(IF($P81=\"Contract\",0,1))","v":0},{"$f":"IF($C81=Post!$B$38,1,0)*(IF($P81=\"\",0,1))*(IF($P81=\"Contract\",0,1))","v":0},{"$f":"IF($C81=Post!$B$39,1,0)*(IF($P81=\"\",0,1))*(IF($P81=\"Contract\",0,1))","v":0},{"$f":"IF($C81=Post!$B$40,1,0)*(IF($P81=\"\",0,1))*(IF($P81=\"Contract\",0,1))","v":0},{"$f":"IF($C81=Post!$B$41,1,0)*(IF($P81=\"\",0,1))*(IF($P81=\"Contract\",0,1))","v":0},{"$f":"IF($C81=Post!$B$42,1,0)*(IF($P81=\"\",0,1))*(IF($P81=\"Contract\",0,1))","v":0},{"$f":"IF($C81=Post!$B$43,1,0)*(IF($P81=\"\",0,1))*(IF($P81=\"Contract\",0,1))","v":0},{"$f":"IF($C81=Post!$B$44,1,0)*(IF($P81=\"\",0,1))*(IF($P81=\"Contract\",0,1))","v":0},{"$f":"IF($C81=Post!$B$45,1,0)*(IF($P81=\"\",0,1))*(IF($P81=\"Contract\",0,1))","v":0},{"$f":"IF($C81=Post!$B$46,1,0)*(IF($P81=\"\",0,1))*(IF($P81=\"Contract\",0,1))","v":0},{"$f":"IF($C81=Post!$B$47,1,0)*(IF($P81=\"\",0,1))*(IF($P81=\"Contract\",0,1))","v":0},{"$f":"IF(C81=Post!B$48,1,0)*(IF(P81=\"\",0,1))*(IF($P81=\"Contract\",0,1))","v":0},{"$f":"IF(C81=Post!B$49,1,0)*(IF(P81=\"\",0,1))*(IF($P81=\"Contract\",0,1))","v":0},{"$f":"IF(C81=Post!B$50,1,0)*(IF(P81=\"\",0,1))*(IF($P81=\"Contract\",0,1))","v":0},0,0,0,0,0,0,0,0,0,0,0,0,0,0,0,0,0,0,0,0,0,0,0,0,0,0,0,0,0,0,0,0,0,0,0,0,0,0,0,0,0,0,0,0,0,0]
["",{"$f":"IF(C82=\"\",\"\",Database!H$5)","v":""},null,null,null,null,null,null,null,null,null,null,null,null,null,null,"",null,null,0,0,0,0,0,"",0,0,0,0,0,0,0,0,0,0,"",{"$f":"IF($C82=Post!$B$11,1,0)*(IF($P82=\"\",0,1))*(IF($P82=\"Contract\",0,1))","v":0},{"$f":"IF($C82=Post!$B$12,1,0)*(IF($P82=\"\",0,1))*(IF($P82=\"Contract\",0,1))","v":0},{"$f":"IF($C82=Post!$B$13,1,0)*(IF($P82=\"\",0,1))*(IF($P82=\"Contract\",0,1))","v":0},{"$f":"IF($C82=Post!$B$14,1,0)*(IF($P82=\"\",0,1))*(IF($P82=\"Contract\",0,1))","v":0},{"$f":"IF($C82=Post!$B$15,1,0)*(IF($P82=\"\",0,1))*(IF($P82=\"Contract\",0,1))","v":0},{"$f":"IF($C82=Post!$B$16,1,0)*(IF($P82=\"\",0,1))*(IF($P82=\"Contract\",0,1))","v":0},{"$f":"IF($C82=Post!$B$17,1,0)*(IF($P82=\"\",0,1))*(IF($P82=\"Contract\",0,1))","v":0},{"$f":"IF($C82=Post!$B$18,1,0)*(IF($P82=\"\",0,1))*(IF($P82=\"Contract\",0,1))","v":0},{"$f":"IF($C82=Post!$B$19,1,0)*(IF($P82=\"\",0,1))*(IF($P82=\"Contract\",0,1))","v":0},{"$f":"IF($C82=Post!$B$20,1,0)*(IF($P82=\"\",0,1))*(IF($P82=\"Contract\",0,1))","v":0},{"$f":"IF($C82=Post!$B$21,1,0)*(IF($P82=\"\",0,1))*(IF($P82=\"Contract\",0,1))","v":0},{"$f":"IF($C82=Post!$B$2,1,0)*(IF($P82=\"\",0,1))*(IF($P82=\"Contract\",0,1))","v":0},{"$f":"IF($C82=Post!$B$23,1,0)*(IF($P82=\"\",0,1))*(IF($P82=\"Contract\",0,1))","v":0},{"$f":"IF($C82=Post!$B$24,1,0)*(IF($P82=\"\",0,1))*(IF($P82=\"Contract\",0,1))","v":0},{"$f":"IF($C82=Post!$B$25,1,0)*(IF($P82=\"\",0,1))*(IF($P82=\"Contract\",0,1))","v":0},{"$f":"IF($C82=Post!$B$26,1,0)*(IF($P82=\"\",0,1))*(IF($P82=\"Contract\",0,1))","v":0},{"$f":"IF($C82=Post!$B$27,1,0)*(IF($P82=\"\",0,1))*(IF($P82=\"Contract\",0,1))","v":0},{"$f":"IF($C82=Post!$B$28,1,0)*(IF($P82=\"\",0,1))*(IF($P82=\"Contract\",0,1))","v":0},{"$f":"IF($C82=Post!$B$29,1,0)*(IF($P82=\"\",0,1))*(IF($P82=\"Contract\",0,1))","v":0},{"$f":"IF($C82=Post!$B$30,1,0)*(IF($P82=\"\",0,1))*(IF($P82=\"Contract\",0,1))","v":0},{"$f":"IF($C82=Post!$B$31,1,0)*(IF($P82=\"\",0,1))*(IF($P82=\"Contract\",0,1))","v":0},{"$f":"IF($C82=Post!$B$32,1,0)*(IF($P82=\"\",0,1))*(IF($P82=\"Contract\",0,1))","v":0},{"$f":"IF($C82=Post!$B$33,1,0)*(IF($P82=\"\",0,1))*(IF($P82=\"Contract\",0,1))","v":0},{"$f":"IF($C82=Post!$B$34,1,0)*(IF($P82=\"\",0,1))*(IF($P82=\"Contract\",0,1))","v":0},{"$f":"IF($C82=Post!$B$35,1,0)*(IF($P82=\"\",0,1))*(IF($P82=\"Contract\",0,1))","v":0},{"$f":"IF($C82=Post!$B$36,1,0)*(IF($P82=\"\",0,1))*(IF($P82=\"Contract\",0,1))","v":0},{"$f":"IF($C82=Post!$B$37,1,0)*(IF($P82=\"\",0,1))*(IF($P82=\"Contract\",0,1))","v":0},{"$f":"IF($C82=Post!$B$38,1,0)*(IF($P82=\"\",0,1))*(IF($P82=\"Contract\",0,1))","v":0},{"$f":"IF($C82=Post!$B$39,1,0)*(IF($P82=\"\",0,1))*(IF($P82=\"Contract\",0,1))","v":0},{"$f":"IF($C82=Post!$B$40,1,0)*(IF($P82=\"\",0,1))*(IF($P82=\"Contract\",0,1))","v":0},{"$f":"IF($C82=Post!$B$41,1,0)*(IF($P82=\"\",0,1))*(IF($P82=\"Contract\",0,1))","v":0},{"$f":"IF($C82=Post!$B$42,1,0)*(IF($P82=\"\",0,1))*(IF($P82=\"Contract\",0,1))","v":0},{"$f":"IF($C82=Post!$B$43,1,0)*(IF($P82=\"\",0,1))*(IF($P82=\"Contract\",0,1))","v":0},{"$f":"IF($C82=Post!$B$44,1,0)*(IF($P82=\"\",0,1))*(IF($P82=\"Contract\",0,1))","v":0},{"$f":"IF($C82=Post!$B$45,1,0)*(IF($P82=\"\",0,1))*(IF($P82=\"Contract\",0,1))","v":0},{"$f":"IF($C82=Post!$B$46,1,0)*(IF($P82=\"\",0,1))*(IF($P82=\"Contract\",0,1))","v":0},{"$f":"IF($C82=Post!$B$47,1,0)*(IF($P82=\"\",0,1))*(IF($P82=\"Contract\",0,1))","v":0},{"$f":"IF(C82=Post!B$48,1,0)*(IF(P82=\"\",0,1))*(IF($P82=\"Contract\",0,1))","v":0},{"$f":"IF(C82=Post!B$49,1,0)*(IF(P82=\"\",0,1))*(IF($P82=\"Contract\",0,1))","v":0},{"$f":"IF(C82=Post!B$50,1,0)*(IF(P82=\"\",0,1))*(IF($P82=\"Contract\",0,1))","v":0},0,0,0,0,0,0,0,0,0,0,0,0,0,0,0,0,0,0,0,0,0,0,0,0,0,0,0,0,0,0,0,0,0,0,0,0,0,0,0,0,0,0,0,0,0,0]
["",{"$f":"IF(C83=\"\",\"\",Database!H$5)","v":""},null,null,null,null,null,null,null,null,null,null,null,null,null,null,"",null,null,0,0,0,0,0,"",0,0,0,0,0,0,0,0,0,0,"",{"$f":"IF($C83=Post!$B$11,1,0)*(IF($P83=\"\",0,1))*(IF($P83=\"Contract\",0,1))","v":0},{"$f":"IF($C83=Post!$B$12,1,0)*(IF($P83=\"\",0,1))*(IF($P83=\"Contract\",0,1))","v":0},{"$f":"IF($C83=Post!$B$13,1,0)*(IF($P83=\"\",0,1))*(IF($P83=\"Contract\",0,1))","v":0},{"$f":"IF($C83=Post!$B$14,1,0)*(IF($P83=\"\",0,1))*(IF($P83=\"Contract\",0,1))","v":0},{"$f":"IF($C83=Post!$B$15,1,0)*(IF($P83=\"\",0,1))*(IF($P83=\"Contract\",0,1))","v":0},{"$f":"IF($C83=Post!$B$16,1,0)*(IF($P83=\"\",0,1))*(IF($P83=\"Contract\",0,1))","v":0},{"$f":"IF($C83=Post!$B$17,1,0)*(IF($P83=\"\",0,1))*(IF($P83=\"Contract\",0,1))","v":0},{"$f":"IF($C83=Post!$B$18,1,0)*(IF($P83=\"\",0,1))*(IF($P83=\"Contract\",0,1))","v":0},{"$f":"IF($C83=Post!$B$19,1,0)*(IF($P83=\"\",0,1))*(IF($P83=\"Contract\",0,1))","v":0},{"$f":"IF($C83=Post!$B$20,1,0)*(IF($P83=\"\",0,1))*(IF($P83=\"Contract\",0,1))","v":0},{"$f":"IF($C83=Post!$B$21,1,0)*(IF($P83=\"\",0,1))*(IF($P83=\"Contract\",0,1))","v":0},{"$f":"IF($C83=Post!$B$2,1,0)*(IF($P83=\"\",0,1))*(IF($P83=\"Contract\",0,1))","v":0},{"$f":"IF($C83=Post!$B$23,1,0)*(IF($P83=\"\",0,1))*(IF($P83=\"Contract\",0,1))","v":0},{"$f":"IF($C83=Post!$B$24,1,0)*(IF($P83=\"\",0,1))*(IF($P83=\"Contract\",0,1))","v":0},{"$f":"IF($C83=Post!$B$25,1,0)*(IF($P83=\"\",0,1))*(IF($P83=\"Contract\",0,1))","v":0},{"$f":"IF($C83=Post!$B$26,1,0)*(IF($P83=\"\",0,1))*(IF($P83=\"Contract\",0,1))","v":0},{"$f":"IF($C83=Post!$B$27,1,0)*(IF($P83=\"\",0,1))*(IF($P83=\"Contract\",0,1))","v":0},{"$f":"IF($C83=Post!$B$28,1,0)*(IF($P83=\"\",0,1))*(IF($P83=\"Contract\",0,1))","v":0},{"$f":"IF($C83=Post!$B$29,1,0)*(IF($P83=\"\",0,1))*(IF($P83=\"Contract\",0,1))","v":0},{"$f":"IF($C83=Post!$B$30,1,0)*(IF($P83=\"\",0,1))*(IF($P83=\"Contract\",0,1))","v":0},{"$f":"IF($C83=Post!$B$31,1,0)*(IF($P83=\"\",0,1))*(IF($P83=\"Contract\",0,1))","v":0},{"$f":"IF($C83=Post!$B$32,1,0)*(IF($P83=\"\",0,1))*(IF($P83=\"Contract\",0,1))","v":0},{"$f":"IF($C83=Post!$B$33,1,0)*(IF($P83=\"\",0,1))*(IF($P83=\"Contract\",0,1))","v":0},{"$f":"IF($C83=Post!$B$34,1,0)*(IF($P83=\"\",0,1))*(IF($P83=\"Contract\",0,1))","v":0},{"$f":"IF($C83=Post!$B$35,1,0)*(IF($P83=\"\",0,1))*(IF($P83=\"Contract\",0,1))","v":0},{"$f":"IF($C83=Post!$B$36,1,0)*(IF($P83=\"\",0,1))*(IF($P83=\"Contract\",0,1))","v":0},{"$f":"IF($C83=Post!$B$37,1,0)*(IF($P83=\"\",0,1))*(IF($P83=\"Contract\",0,1))","v":0},{"$f":"IF($C83=Post!$B$38,1,0)*(IF($P83=\"\",0,1))*(IF($P83=\"Contract\",0,1))","v":0},{"$f":"IF($C83=Post!$B$39,1,0)*(IF($P83=\"\",0,1))*(IF($P83=\"Contract\",0,1))","v":0},{"$f":"IF($C83=Post!$B$40,1,0)*(IF($P83=\"\",0,1))*(IF($P83=\"Contract\",0,1))","v":0},{"$f":"IF($C83=Post!$B$41,1,0)*(IF($P83=\"\",0,1))*(IF($P83=\"Contract\",0,1))","v":0},{"$f":"IF($C83=Post!$B$42,1,0)*(IF($P83=\"\",0,1))*(IF($P83=\"Contract\",0,1))","v":0},{"$f":"IF($C83=Post!$B$43,1,0)*(IF($P83=\"\",0,1))*(IF($P83=\"Contract\",0,1))","v":0},{"$f":"IF($C83=Post!$B$44,1,0)*(IF($P83=\"\",0,1))*(IF($P83=\"Contract\",0,1))","v":0},{"$f":"IF($C83=Post!$B$45,1,0)*(IF($P83=\"\",0,1))*(IF($P83=\"Contract\",0,1))","v":0},{"$f":"IF($C83=Post!$B$46,1,0)*(IF($P83=\"\",0,1))*(IF($P83=\"Contract\",0,1))","v":0},{"$f":"IF($C83=Post!$B$47,1,0)*(IF($P83=\"\",0,1))*(IF($P83=\"Contract\",0,1))","v":0},{"$f":"IF(C83=Post!B$48,1,0)*(IF(P83=\"\",0,1))*(IF($P83=\"Contract\",0,1))","v":0},{"$f":"IF(C83=Post!B$49,1,0)*(IF(P83=\"\",0,1))*(IF($P83=\"Contract\",0,1))","v":0},{"$f":"IF(C83=Post!B$50,1,0)*(IF(P83=\"\",0,1))*(IF($P83=\"Contract\",0,1))","v":0},0,0,0,0,0,0,0,0,0,0,0,0,0,0,0,0,0,0,0,0,0,0,0,0,0,0,0,0,0,0,0,0,0,0,0,0,0,0,0,0,0,0,0,0,0,0]
["",{"$f":"IF(C84=\"\",\"\",Database!H$5)","v":""},null,null,null,null,null,null,null,null,null,null,null,null,null,null,"",null,null,0,0,0,0,0,"",0,0,0,0,0,0,0,0,0,0,"",{"$f":"IF($C84=Post!$B$11,1,0)*(IF($P84=\"\",0,1))*(IF($P84=\"Contract\",0,1))","v":0},{"$f":"IF($C84=Post!$B$12,1,0)*(IF($P84=\"\",0,1))*(IF($P84=\"Contract\",0,1))","v":0},{"$f":"IF($C84=Post!$B$13,1,0)*(IF($P84=\"\",0,1))*(IF($P84=\"Contract\",0,1))","v":0},{"$f":"IF($C84=Post!$B$14,1,0)*(IF($P84=\"\",0,1))*(IF($P84=\"Contract\",0,1))","v":0},{"$f":"IF($C84=Post!$B$15,1,0)*(IF($P84=\"\",0,1))*(IF($P84=\"Contract\",0,1))","v":0},{"$f":"IF($C84=Post!$B$16,1,0)*(IF($P84=\"\",0,1))*(IF($P84=\"Contract\",0,1))","v":0},{"$f":"IF($C84=Post!$B$17,1,0)*(IF($P84=\"\",0,1))*(IF($P84=\"Contract\",0,1))","v":0},{"$f":"IF($C84=Post!$B$18,1,0)*(IF($P84=\"\",0,1))*(IF($P84=\"Contract\",0,1))","v":0},{"$f":"IF($C84=Post!$B$19,1,0)*(IF($P84=\"\",0,1))*(IF($P84=\"Contract\",0,1))","v":0},{"$f":"IF($C84=Post!$B$20,1,0)*(IF($P84=\"\",0,1))*(IF($P84=\"Contract\",0,1))","v":0},{"$f":"IF($C84=Post!$B$21,1,0)*(IF($P84=\"\",0,1))*(IF($P84=\"Contract\",0,1))","v":0},{"$f":"IF($C84=Post!$B$2,1,0)*(IF($P84=\"\",0,1))*(IF($P84=\"Contract\",0,1))","v":0},{"$f":"IF($C84=Post!$B$23,1,0)*(IF($P84=\"\",0,1))*(IF($P84=\"Contract\",0,1))","v":0},{"$f":"IF($C84=Post!$B$24,1,0)*(IF($P84=\"\",0,1))*(IF($P84=\"Contract\",0,1))","v":0},{"$f":"IF($C84=Post!$B$25,1,0)*(IF($P84=\"\",0,1))*(IF($P84=\"Contract\",0,1))","v":0},{"$f":"IF($C84=Post!$B$26,1,0)*(IF($P84=\"\",0,1))*(IF($P84=\"Contract\",0,1))","v":0},{"$f":"IF($C84=Post!$B$27,1,0)*(IF($P84=\"\",0,1))*(IF($P84=\"Contract\",0,1))","v":0},{"$f":"IF($C84=Post!$B$28,1,0)*(IF($P84=\"\",0,1))*(IF($P84=\"Contract\",0,1))","v":0},{"$f":"IF($C84=Post!$B$29,1,0)*(IF($P84=\"\",0,1))*(IF($P84=\"Contract\",0,1))","v":0},{"$f":"IF($C84=Post!$B$30,1,0)*(IF($P84=\"\",0,1))*(IF($P84=\"Contract\",0,1))","v":0},{"$f":"IF($C84=Post!$B$31,1,0)*(IF($P84=\"\",0,1))*(IF($P84=\"Contract\",0,1))","v":0},{"$f":"IF($C84=Post!$B$32,1,0)*(IF($P84=\"\",0,1))*(IF($P84=\"Contract\",0,1))","v":0},{"$f":"IF($C84=Post!$B$33,1,0)*(IF($P84=\"\",0,1))*(IF($P84=\"Contract\",0,1))","v":0},{"$f":"IF($C84=Post!$B$34,1,0)*(IF($P84=\"\",0,1))*(IF($P84=\"Contract\",0,1))","v":0},{"$f":"IF($C84=Post!$B$35,1,0)*(IF($P84=\"\",0,1))*(IF($P84=\"Contract\",0,1))","v":0},{"$f":"IF($C84=Post!$B$36,1,0)*(IF($P84=\"\",0,1))*(IF($P84=\"Contract\",0,1))","v":0},{"$f":"IF($C84=Post!$B$37,1,0)*(IF($P84=\"\",0,1))*(IF($P84=\"Contract\",0,1))","v":0},{"$f":"IF($C84=Post!$B$38,1,0)*(IF($P84=\"\",0,1))*(IF($P84=\"Contract\",0,1))","v":0},{"$f":"IF($C84=Post!$B$39,1,0)*(IF($P84=\"\",0,1))*(IF($P84=\"Contract\",0,1))","v":0},{"$f":"IF($C84=Post!$B$40,1,0)*(IF($P84=\"\",0,1))*(IF($P84=\"Contract\",0,1))","v":0},{"$f":"IF($C84=Post!$B$41,1,0)*(IF($P84=\"\",0,1))*(IF($P84=\"Contract\",0,1))","v":0},{"$f":"IF($C84=Post!$B$42,1,0)*(IF($P84=\"\",0,1))*(IF($P84=\"Contract\",0,1))","v":0},{"$f":"IF($C84=Post!$B$43,1,0)*(IF($P84=\"\",0,1))*(IF($P84=\"Contract\",0,1))","v":0},{"$f":"IF($C84=Post!$B$44,1,0)*(IF($P84=\"\",0,1))*(IF($P84=\"Contract\",0,1))","v":0},{"$f":"IF($C84=Post!$B$45,1,0)*(IF($P84=\"\",0,1))*(IF($P84=\"Contract\",0,1))","v":0},{"$f":"IF($C84=Post!$B$46,1,0)*(IF($P84=\"\",0,1))*(IF($P84=\"Contract\",0,1))","v":0},{"$f":"IF($C84=Post!$B$47,1,0)*(IF($P84=\"\",0,1))*(IF($P84=\"Contract\",0,1))","v":0},{"$f":"IF(C84=Post!B$48,1,0)*(IF(P84=\"\",0,1))*(IF($P84=\"Contract\",0,1))","v":0},{"$f":"IF(C84=Post!B$49,1,0)*(IF(P84=\"\",0,1))*(IF($P84=\"Contract\",0,1))","v":0},{"$f":"IF(C84=Post!B$50,1,0)*(IF(P84=\"\",0,1))*(IF($P84=\"Contract\",0,1))","v":0},0,0,0,0,0,0,0,0,0,0,0,0,0,0,0,0,0,0,0,0,0,0,0,0,0,0,0,0,0,0,0,0,0,0,0,0,0,0,0,0,0,0,0,0,0,0]
["",{"$f":"IF(C85=\"\",\"\",Database!H$5)","v":""},null,null,null,null,null,null,null,null,null,null,null,null,null,null,"",null,null,0,0,0,0,0,"",0,0,0,0,0,0,0,0,0,0,"",{"$f":"IF($C85=Post!$B$11,1,0)*(IF($P85=\"\",0,1))*(IF($P85=\"Contract\",0,1))","v":0},{"$f":"IF($C85=Post!$B$12,1,0)*(IF($P85=\"\",0,1))*(IF($P85=\"Contract\",0,1))","v":0},{"$f":"IF($C85=Post!$B$13,1,0)*(IF($P85=\"\",0,1))*(IF($P85=\"Contract\",0,1))","v":0},{"$f":"IF($C85=Post!$B$14,1,0)*(IF($P85=\"\",0,1))*(IF($P85=\"Contract\",0,1))","v":0},{"$f":"IF($C85=Post!$B$15,1,0)*(IF($P85=\"\",0,1))*(IF($P85=\"Contract\",0,1))","v":0},{"$f":"IF($C85=Post!$B$16,1,0)*(IF($P85=\"\",0,1))*(IF($P85=\"Contract\",0,1))","v":0},{"$f":"IF($C85=Post!$B$17,1,0)*(IF($P85=\"\",0,1))*(IF($P85=\"Contract\",0,1))","v":0},{"$f":"IF($C85=Post!$B$18,1,0)*(IF($P85=\"\",0,1))*(IF($P85=\"Contract\",0,1))","v":0},{"$f":"IF($C85=Post!$B$19,1,0)*(IF($P85=\"\",0,1))*(IF($P85=\"Contract\",0,1))","v":0},{"$f":"IF($C85=Post!$B$20,1,0)*(IF($P85=\"\",0,1))*(IF($P85=\"Contract\",0,1))","v":0},{"$f":"IF($C85=Post!$B$21,1,0)*(IF($P85=\"\",0,1))*(IF($P85=\"Contract\",0,1))","v":0},{"$f":"IF($C85=Post!$B$2,1,0)*(IF($P85=\"\",0,1))*(IF($P85=\"Contract\",0,1))","v":0},{"$f":"IF($C85=Post!$B$23,1,0)*(IF($P85=\"\",0,1))*(IF($P85=\"Contract\",0,1))","v":0},{"$f":"IF($C85=Post!$B$24,1,0)*(IF($P85=\"\",0,1))*(IF($P85=\"Contract\",0,1))","v":0},{"$f":"IF($C85=Post!$B$25,1,0)*(IF($P85=\"\",0,1))*(IF($P85=\"Contract\",0,1))","v":0},{"$f":"IF($C85=Post!$B$26,1,0)*(IF($P85=\"\",0,1))*(IF($P85=\"Contract\",0,1))","v":0},{"$f":"IF($C85=Post!$B$27,1,0)*(IF($P85=\"\",0,1))*(IF($P85=\"Contract\",0,1))","v":0},{"$f":"IF($C85=Post!$B$28,1,0)*(IF($P85=\"\",0,1))*(IF($P85=\"Contract\",0,1))","v":0},{"$f":"IF($C85=Post!$B$29,1,0)*(IF($P85=\"\",0,1))*(IF($P85=\"Contract\",0,1))","v":0},{"$f":"IF($C85=Post!$B$30,1,0)*(IF($P85=\"\",0,1))*(IF($P85=\"Contract\",0,1))","v":0},{"$f":"IF($C85=Post!$B$31,1,0)*(IF($P85=\"\",0,1))*(IF($P85=\"Contract\",0,1))","v":0},{"$f":"IF($C85=Post!$B$32,1,0)*(IF($P85=\"\",0,1))*(IF($P85=\"Contract\",0,1))","v":0},{"$f":"IF($C85=Post!$B$33,1,0)*(IF($P85=\"\",0,1))*(IF($P85=\"Contract\",0,1))","v":0},{"$f":"IF($C85=Post!$B$34,1,0)*(IF($P85=\"\",0,1))*(IF($P85=\"Contract\",0,1))","v":0},{"$f":"IF($C85=Post!$B$35,1,0)*(IF($P85=\"\",0,1))*(IF($P85=\"Contract\",0,1))","v":0},{"$f":"IF($C85=Post!$B$36,1,0)*(IF($P85=\"\",0,1))*(IF($P85=\"Contract\",0,1))","v":0},{"$f":"IF($C85=Post!$B$37,1,0)*(IF($P85=\"\",0,1))*(IF($P85=\"Contract\",0,1))","v":0},{"$f":"IF($C85=Post!$B$38,1,0)*(IF($P85=\"\",0,1))*(IF($P85=\"Contract\",0,1))","v":0},{"$f":"IF($C85=Post!$B$39,1,0)*(IF($P85=\"\",0,1))*(IF($P85=\"Contract\",0,1))","v":0},{"$f":"IF($C85=Post!$B$40,1,0)*(IF($P85=\"\",0,1))*(IF($P85=\"Contract\",0,1))","v":0},{"$f":"IF($C85=Post!$B$41,1,0)*(IF($P85=\"\",0,1))*(IF($P85=\"Contract\",0,1))","v":0},{"$f":"IF($C85=Post!$B$42,1,0)*(IF($P85=\"\",0,1))*(IF($P85=\"Contract\",0,1))","v":0},{"$f":"IF($C85=Post!$B$43,1,0)*(IF($P85=\"\",0,1))*(IF($P85=\"Contract\",0,1))","v":0},{"$f":"IF($C85=Post!$B$44,1,0)*(IF($P85=\"\",0,1))*(IF($P85=\"Contract\",0,1))","v":0},{"$f":"IF($C85=Post!$B$45,1,0)*(IF($P85=\"\",0,1))*(IF($P85=\"Contract\",0,1))","v":0},{"$f":"IF($C85=Post!$B$46,1,0)*(IF($P85=\"\",0,1))*(IF($P85=\"Contract\",0,1))","v":0},{"$f":"IF($C85=Post!$B$47,1,0)*(IF($P85=\"\",0,1))*(IF($P85=\"Contract\",0,1))","v":0},{"$f":"IF(C85=Post!B$48,1,0)*(IF(P85=\"\",0,1))*(IF($P85=\"Contract\",0,1))","v":0},{"$f":"IF(C85=Post!B$49,1,0)*(IF(P85=\"\",0,1))*(IF($P85=\"Contract\",0,1))","v":0},{"$f":"IF(C85=Post!B$50,1,0)*(IF(P85=\"\",0,1))*(IF($P85=\"Contract\",0,1))","v":0},0,0,0,0,0,0,0,0,0,0,0,0,0,0,0,0,0,0,0,0,0,0,0,0,0,0,0,0,0,0,0,0,0,0,0,0,0,0,0,0,0,0,0,0,0,0]
["",{"$f":"IF(C86=\"\",\"\",Database!H$5)","v":""},null,null,null,null,null,null,null,null,null,null,null,null,null,null,"",null,null,0,0,0,0,0,"",0,0,0,0,0,0,0,0,0,0,"",{"$f":"IF($C86=Post!$B$11,1,0)*(IF($P86=\"\",0,1))*(IF($P86=\"Contract\",0,1))","v":0},{"$f":"IF($C86=Post!$B$12,1,0)*(IF($P86=\"\",0,1))*(IF($P86=\"Contract\",0,1))","v":0},{"$f":"IF($C86=Post!$B$13,1,0)*(IF($P86=\"\",0,1))*(IF($P86=\"Contract\",0,1))","v":0},{"$f":"IF($C86=Post!$B$14,1,0)*(IF($P86=\"\",0,1))*(IF($P86=\"Contract\",0,1))","v":0},{"$f":"IF($C86=Post!$B$15,1,0)*(IF($P86=\"\",0,1))*(IF($P86=\"Contract\",0,1))","v":0},{"$f":"IF($C86=Post!$B$16,1,0)*(IF($P86=\"\",0,1))*(IF($P86=\"Contract\",0,1))","v":0},{"$f":"IF($C86=Post!$B$17,1,0)*(IF($P86=\"\",0,1))*(IF($P86=\"Contract\",0,1))","v":0},{"$f":"IF($C86=Post!$B$18,1,0)*(IF($P86=\"\",0,1))*(IF($P86=\"Contract\",0,1))","v":0},{"$f":"IF($C86=Post!$B$19,1,0)*(IF($P86=\"\",0,1))*(IF($P86=\"Contract\",0,1))","v":0},{"$f":"IF($C86=Post!$B$20,1,0)*(IF($P86=\"\",0,1))*(IF($P86=\"Contract\",0,1))","v":0},{"$f":"IF($C86=Post!$B$21,1,0)*(IF($P86=\"\",0,1))*(IF($P86=\"Contract\",0,1))","v":0},{"$f":"IF($C86=Post!$B$2,1,0)*(IF($P86=\"\",0,1))*(IF($P86=\"Contract\",0,1))","v":0},{"$f":"IF($C86=Post!$B$23,1,0)*(IF($P86=\"\",0,1))*(IF($P86=\"Contract\",0,1))","v":0},{"$f":"IF($C86=Post!$B$24,1,0)*(IF($P86=\"\",0,1))*(IF($P86=\"Contract\",0,1))","v":0},{"$f":"IF($C86=Post!$B$25,1,0)*(IF($P86=\"\",0,1))*(IF($P86=\"Contract\",0,1))","v":0},{"$f":"IF($C86=Post!$B$26,1,0)*(IF($P86=\"\",0,1))*(IF($P86=\"Contract\",0,1))","v":0},{"$f":"IF($C86=Post!$B$27,1,0)*(IF($P86=\"\",0,1))*(IF($P86=\"Contract\",0,1))","v":0},{"$f":"IF($C86=Post!$B$28,1,0)*(IF($P86=\"\",0,1))*(IF($P86=\"Contract\",0,1))","v":0},{"$f":"IF($C86=Post!$B$29,1,0)*(IF($P86=\"\",0,1))*(IF($P86=\"Contract\",0,1))","v":0},{"$f":"IF($C86=Post!$B$30,1,0)*(IF($P86=\"\",0,1))*(IF($P86=\"Contract\",0,1))","v":0},{"$f":"IF($C86=Post!$B$31,1,0)*(IF($P86=\"\",0,1))*(IF($P86=\"Contract\",0,1))","v":0},{"$f":"IF($C86=Post!$B$32,1,0)*(IF($P86=\"\",0,1))*(IF($P86=\"Contract\",0,1))","v":0},{"$f":"IF($C86=Post!$B$33,1,0)*(IF($P86=\"\",0,1))*(IF($P86=\"Contract\",0,1))","v":0},{"$f":"IF($C86=Post!$B$34,1,0)*(IF($P86=\"\",0,1))*(IF($P86=\"Contract\",0,1))","v":0},{"$f":"IF($C86=Post!$B$35,1,0)*(IF($P86=\"\",0,1))*(IF($P86=\"Contract\",0,1))","v":0},{"$f":"IF($C86=Post!$B$36,1,0)*(IF($P86=\"\",0,1))*(IF($P86=\"Contract\",0,1))","v":0},{"$f":"IF($C86=Post!$B$37,1,0)*(IF($P86=\"\",0,1))*(IF($P86=\"Contract\",0,1))","v":0},{"$f":"IF($C86=Post!$B$38,1,0)*(IF($P86=\"\",0,1))*(IF($P86=\"Contract\",0,1))","v":0},{"$f":"IF($C86=Post!$B$39,1,0)*(IF($P86=\"\",0,1))*(IF($P86=\"Contract\",0,1))","v":0},{"$f":"IF($C86=Post!$B$40,1,0)*(IF($P86=\"\",0,1))*(IF($P86=\"Contract\",0,1))","v":0},{"$f":"IF($C86=Post!$B$41,1,0)*(IF($P86=\"\",0,1))*(IF($P86=\"Contract\",0,1))","v":0},{"$f":"IF($C86=Post!$B$42,1,0)*(IF($P86=\"\",0,1))*(IF($P86=\"Contract\",0,1))","v":0},{"$f":"IF($C86=Post!$B$43,1,0)*(IF($P86=\"\",0,1))*(IF($P86=\"Contract\",0,1))","v":0},{"$f":"IF($C86=Post!$B$44,1,0)*(IF($P86=\"\",0,1))*(IF($P86=\"Contract\",0,1))","v":0},{"$f":"IF($C86=Post!$B$45,1,0)*(IF($P86=\"\",0,1))*(IF($P86=\"Contract\",0,1))","v":0},{"$f":"IF($C86=Post!$B$46,1,0)*(IF($P86=\"\",0,1))*(IF($P86=\"Contract\",0,1))","v":0},{"$f":"IF($C86=Post!$B$47,1,0)*(IF($P86=\"\",0,1))*(IF($P86=\"Contract\",0,1))","v":0},{"$f":"IF(C86=Post!B$48,1,0)*(IF(P86=\"\",0,1))*(IF($P86=\"Contract\",0,1))","v":0},{"$f":"IF(C86=Post!B$49,1,0)*(IF(P86=\"\",0,1))*(IF($P86=\"Contract\",0,1))","v":0},{"$f":"IF(C86=Post!B$50,1,0)*(IF(P86=\"\",0,1))*(IF($P86=\"Contract\",0,1))","v":0},0,0,0,0,0,0,0,0,0,0,0,0,0,0,0,0,0,0,0,0,0,0,0,0,0,0,0,0,0,0,0,0,0,0,0,0,0,0,0,0,0,0,0,0,0,0]
["",{"$f":"IF(C87=\"\",\"\",Database!H$5)","v":""},null,null,null,null,null,null,null,null,null,null,null,null,null,null,"",null,null,0,0,0,0,0,"",0,0,0,0,0,0,0,0,0,0,"",{"$f":"IF($C87=Post!$B$11,1,0)*(IF($P87=\"\",0,1))*(IF($P87=\"Contract\",0,1))","v":0},{"$f":"IF($C87=Post!$B$12,1,0)*(IF($P87=\"\",0,1))*(IF($P87=\"Contract\",0,1))","v":0},{"$f":"IF($C87=Post!$B$13,1,0)*(IF($P87=\"\",0,1))*(IF($P87=\"Contract\",0,1))","v":0},{"$f":"IF($C87=Post!$B$14,1,0)*(IF($P87=\"\",0,1))*(IF($P87=\"Contract\",0,1))","v":0},{"$f":"IF($C87=Post!$B$15,1,0)*(IF($P87=\"\",0,1))*(IF($P87=\"Contract\",0,1))","v":0},{"$f":"IF($C87=Post!$B$16,1,0)*(IF($P87=\"\",0,1))*(IF($P87=\"Contract\",0,1))","v":0},{"$f":"IF($C87=Post!$B$17,1,0)*(IF($P87=\"\",0,1))*(IF($P87=\"Contract\",0,1))","v":0},{"$f":"IF($C87=Post!$B$18,1,0)*(IF($P87=\"\",0,1))*(IF($P87=\"Contract\",0,1))","v":0},{"$f":"IF($C87=Post!$B$19,1,0)*(IF($P87=\"\",0,1))*(IF($P87=\"Contract\",0,1))","v":0},{"$f":"IF($C87=Post!$B$20,1,0)*(IF($P87=\"\",0,1))*(IF($P87=\"Contract\",0,1))","v":0},{"$f":"IF($C87=Post!$B$21,1,0)*(IF($P87=\"\",0,1))*(IF($P87=\"Contract\",0,1))","v":0},{"$f":"IF($C87=Post!$B$2,1,0)*(IF($P87=\"\",0,1))*(IF($P87=\"Contract\",0,1))","v":0},{"$f":"IF($C87=Post!$B$23,1,0)*(IF($P87=\"\",0,1))*(IF($P87=\"Contract\",0,1))","v":0},{"$f":"IF($C87=Post!$B$24,1,0)*(IF($P87=\"\",0,1))*(IF($P87=\"Contract\",0,1))","v":0},{"$f":"IF($C87=Post!$B$25,1,0)*(IF($P87=\"\",0,1))*(IF($P87=\"Contract\",0,1))","v":0},{"$f":"IF($C87=Post!$B$26,1,0)*(IF($P87=\"\",0,1))*(IF($P87=\"Contract\",0,1))","v":0},{"$f":"IF($C87=Post!$B$27,1,0)*(IF($P87=\"\",0,1))*(IF($P87=\"Contract\",0,1))","v":0},{"$f":"IF($C87=Post!$B$28,1,0)*(IF($P87=\"\",0,1))*(IF($P87=\"Contract\",0,1))","v":0},{"$f":"IF($C87=Post!$B$29,1,0)*(IF($P87=\"\",0,1))*(IF($P87=\"Contract\",0,1))","v":0},{"$f":"IF($C87=Post!$B$30,1,0)*(IF($P87=\"\",0,1))*(IF($P87=\"Contract\",0,1))","v":0},{"$f":"IF($C87=Post!$B$31,1,0)*(IF($P87=\"\",0,1))*(IF($P87=\"Contract\",0,1))","v":0},{"$f":"IF($C87=Post!$B$32,1,0)*(IF($P87=\"\",0,1))*(IF($P87=\"Contract\",0,1))","v":0},{"$f":"IF($C87=Post!$B$33,1,0)*(IF($P87=\"\",0,1))*(IF($P87=\"Contract\",0,1))","v":0},{"$f":"IF($C87=Post!$B$34,1,0)*(IF($P87=\"\",0,1))*(IF($P87=\"Contract\",0,1))","v":0},{"$f":"IF($C87=Post!$B$35,1,0)*(IF($P87=\"\",0,1))*(IF($P87=\"Contract\",0,1))","v":0},{"$f":"IF($C87=Post!$B$36,1,0)*(IF($P87=\"\",0,1))*(IF($P87=\"Contract\",0,1))","v":0},{"$f":"IF($C87=Post!$B$37,1,0)*(IF($P87=\"\",0,1))*(IF($P87=\"Contract\",0,1))","v":0},{"$f":"IF($C87=Post!$B$38,1,0)*(IF($P87=\"\",0,1))*(IF($P87=\"Contract\",0,1))","v":0},{"$f":"IF($C87=Post!$B$39,1,0)*(IF($P87=\"\",0,1))*(IF($P87=\"Contract\",0,1))","v":0},{"$f":"IF($C87=Post!$B$40,1,0)*(IF($P87=\"\",0,1))*(IF($P87=\"Contract\",0,1))","v":0},{"$f":"IF($C87=Post!$B$41,1,0)*(IF($P87=\"\",0,1))*(IF($P87=\"Contract\",0,1))","v":0},{"$f":"IF($C87=Post!$B$42,1,0)*(IF($P87=\"\",0,1))*(IF($P87=\"Contract\",0,1))","v":0},{"$f":"IF($C87=Post!$B$43,1,0)*(IF($P87=\"\",0,1))*(IF($P87=\"Contract\",0,1))","v":0},{"$f":"IF($C87=Post!$B$44,1,0)*(IF($P87=\"\",0,1))*(IF($P87=\"Contract\",0,1))","v":0},{"$f":"IF($C87=Post!$B$45,1,0)*(IF($P87=\"\",0,1))*(IF($P87=\"Contract\",0,1))","v":0},{"$f":"IF($C87=Post!$B$46,1,0)*(IF($P87=\"\",0,1))*(IF($P87=\"Contract\",0,1))","v":0},{"$f":"IF($C87=Post!$B$47,1,0)*(IF($P87=\"\",0,1))*(IF($P87=\"Contract\",0,1))","v":0},{"$f":"IF(C87=Post!B$48,1,0)*(IF(P87=\"\",0,1))*(IF($P87=\"Contract\",0,1))","v":0},{"$f":"IF(C87=Post!B$49,1,0)*(IF(P87=\"\",0,1))*(IF($P87=\"Contract\",0,1))","v":0},{"$f":"IF(C87=Post!B$50,1,0)*(IF(P87=\"\",0,1))*(IF($P87=\"Contract\",0,1))","v":0},0,0,0,0,0,0,0,0,0,0,0,0,0,0,0,0,0,0,0,0,0,0,0,0,0,0,0,0,0,0,0,0,0,0,0,0,0,0,0,0,0,0,0,0,0,0]
["",{"$f":"IF(C88=\"\",\"\",Database!H$5)","v":""},null,null,null,null,null,null,null,null,null,null,null,null,null,null,"",null,null,0,0,0,0,0,"",0,0,0,0,0,0,0,0,0,0,"",{"$f":"IF($C88=Post!$B$11,1,0)*(IF($P88=\"\",0,1))*(IF($P88=\"Contract\",0,1))","v":0},{"$f":"IF($C88=Post!$B$12,1,0)*(IF($P88=\"\",0,1))*(IF($P88=\"Contract\",0,1))","v":0},{"$f":"IF($C88=Post!$B$13,1,0)*(IF($P88=\"\",0,1))*(IF($P88=\"Contract\",0,1))","v":0},{"$f":"IF($C88=Post!$B$14,1,0)*(IF($P88=\"\",0,1))*(IF($P88=\"Contract\",0,1))","v":0},{"$f":"IF($C88=Post!$B$15,1,0)*(IF($P88=\"\",0,1))*(IF($P88=\"Contract\",0,1))","v":0},{"$f":"IF($C88=Post!$B$16,1,0)*(IF($P88=\"\",0,1))*(IF($P88=\"Contract\",0,1))","v":0},{"$f":"IF($C88=Post!$B$17,1,0)*(IF($P88=\"\",0,1))*(IF($P88=\"Contract\",0,1))","v":0},{"$f":"IF($C88=Post!$B$18,1,0)*(IF($P88=\"\",0,1))*(IF($P88=\"Contract\",0,1))","v":0},{"$f":"IF($C88=Post!$B$19,1,0)*(IF($P88=\"\",0,1))*(IF($P88=\"Contract\",0,1))","v":0},{"$f":"IF($C88=Post!$B$20,1,0)*(IF($P88=\"\",0,1))*(IF($P88=\"Contract\",0,1))","v":0},{"$f":"IF($C88=Post!$B$21,1,0)*(IF($P88=\"\",0,1))*(IF($P88=\"Contract\",0,1))","v":0},{"$f":"IF($C88=Post!$B$2,1,0)*(IF($P88=\"\",0,1))*(IF($P88=\"Contract\",0,1))","v":0},{"$f":"IF($C88=Post!$B$23,1,0)*(IF($P88=\"\",0,1))*(IF($P88=\"Contract\",0,1))","v":0},{"$f":"IF($C88=Post!$B$24,1,0)*(IF($P88=\"\",0,1))*(IF($P88=\"Contract\",0,1))","v":0},{"$f":"IF($C88=Post!$B$25,1,0)*(IF($P88=\"\",0,1))*(IF($P88=\"Contract\",0,1))","v":0},{"$f":"IF($C88=Post!$B$26,1,0)*(IF($P88=\"\",0,1))*(IF($P88=\"Contract\",0,1))","v":0},{"$f":"IF($C88=Post!$B$27,1,0)*(IF($P88=\"\",0,1))*(IF($P88=\"Contract\",0,1))","v":0},{"$f":"IF($C88=Post!$B$28,1,0)*(IF($P88=\"\",0,1))*(IF($P88=\"Contract\",0,1))","v":0},{"$f":"IF($C88=Post!$B$29,1,0)*(IF($P88=\"\",0,1))*(IF($P88=\"Contract\",0,1))","v":0},{"$f":"IF($C88=Post!$B$30,1,0)*(IF($P88=\"\",0,1))*(IF($P88=\"Contract\",0,1))","v":0},{"$f":"IF($C88=Post!$B$31,1,0)*(IF($P88=\"\",0,1))*(IF($P88=\"Contract\",0,1))","v":0},{"$f":"IF($C88=Post!$B$32,1,0)*(IF($P88=\"\",0,1))*(IF($P88=\"Contract\",0,1))","v":0},{"$f":"IF($C88=Post!$B$33,1,0)*(IF($P88=\"\",0,1))*(IF($P88=\"Contract\",0,1))","v":0},{"$f":"IF($C88=Post!$B$34,1,0)*(IF($P88=\"\",0,1))*(IF($P88=\"Contract\",0,1))","v":0},{"$f":"IF($C88=Post!$B$35,1,0)*(IF($P88=\"\",0,1))*(IF($P88=\"Contract\",0,1))","v":0},{"$f":"IF($C88=Post!$B$36,1,0)*(IF($P88=\"\",0,1))*(IF($P88=\"Contract\",0,1))","v":0},{"$f":"IF($C88=Post!$B$37,1,0)*(IF($P88=\"\",0,1))*(IF($P88=\"Contract\",0,1))","v":0},{"$f":"IF($C88=Post!$B$38,1,0)*(IF($P88=\"\",0,1))*(IF($P88=\"Contract\",0,1))","v":0},{"$f":"IF($C88=Post!$B$39,1,0)*(IF($P88=\"\",0,1))*(IF($P88=\"Contract\",0,1))","v":0},{"$f":"IF($C88=Post!$B$40,1,0)*(IF($P88=\"\",0,1))*(IF($P88=\"Contract\",0,1))","v":0},{"$f":"IF($C88=Post!$B$41,1,0)*(IF($P88=\"\",0,1))*(IF($P88=\"Contract\",0,1))","v":0},{"$f":"IF($C88=Post!$B$42,1,0)*(IF($P88=\"\",0,1))*(IF($P88=\"Contract\",0,1))","v":0},{"$f":"IF($C88=Post!$B$43,1,0)*(IF($P88=\"\",0,1))*(IF($P88=\"Contract\",0,1))","v":0},{"$f":"IF($C88=Post!$B$44,1,0)*(IF($P88=\"\",0,1))*(IF($P88=\"Contract\",0,1))","v":0},{"$f":"IF($C88=Post!$B$45,1,0)*(IF($P88=\"\",0,1))*(IF($P88=\"Contract\",0,1))","v":0},{"$f":"IF($C88=Post!$B$46,1,0)*(IF($P88=\"\",0,1))*(IF($P88=\"Contract\",0,1))","v":0},{"$f":"IF($C88=Post!$B$47,1,0)*(IF($P88=\"\",0,1))*(IF($P88=\"Contract\",0,1))","v":0},{"$f":"IF(C88=Post!B$48,1,0)*(IF(P88=\"\",0,1))*(IF($P88=\"Contract\",0,1))","v":0},{"$f":"IF(C88=Post!B$49,1,0)*(IF(P88=\"\",0,1))*(IF($P88=\"Contract\",0,1))","v":0},{"$f":"IF(C88=Post!B$50,1,0)*(IF(P88=\"\",0,1))*(IF($P88=\"Contract\",0,1))","v":0},0,0,0,0,0,0,0,0,0,0,0,0,0,0,0,0,0,0,0,0,0,0,0,0,0,0,0,0,0,0,0,0,0,0,0,0,0,0,0,0,0,0,0,0,0,0]
["",{"$f":"IF(C89=\"\",\"\",Database!H$5)","v":""},null,null,null,null,null,null,null,null,null,null,null,null,null,null,"",null,null,0,0,0,0,0,"",0,0,0,0,0,0,0,0,0,0,"",{"$f":"IF($C89=Post!$B$11,1,0)*(IF($P89=\"\",0,1))*(IF($P89=\"Contract\",0,1))","v":0},{"$f":"IF($C89=Post!$B$12,1,0)*(IF($P89=\"\",0,1))*(IF($P89=\"Contract\",0,1))","v":0},{"$f":"IF($C89=Post!$B$13,1,0)*(IF($P89=\"\",0,1))*(IF($P89=\"Contract\",0,1))","v":0},{"$f":"IF($C89=Post!$B$14,1,0)*(IF($P89=\"\",0,1))*(IF($P89=\"Contract\",0,1))","v":0},{"$f":"IF($C89=Post!$B$15,1,0)*(IF($P89=\"\",0,1))*(IF($P89=\"Contract\",0,1))","v":0},{"$f":"IF($C89=Post!$B$16,1,0)*(IF($P89=\"\",0,1))*(IF($P89=\"Contract\",0,1))","v":0},{"$f":"IF($C89=Post!$B$17,1,0)*(IF($P89=\"\",0,1))*(IF($P89=\"Contract\",0,1))","v":0},{"$f":"IF($C89=Post!$B$18,1,0)*(IF($P89=\"\",0,1))*(IF($P89=\"Contract\",0,1))","v":0},{"$f":"IF($C89=Post!$B$19,1,0)*(IF($P89=\"\",0,1))*(IF($P89=\"Contract\",0,1))","v":0},{"$f":"IF($C89=Post!$B$20,1,0)*(IF($P89=\"\",0,1))*(IF($P89=\"Contract\",0,1))","v":0},{"$f":"IF($C89=Post!$B$21,1,0)*(IF($P89=\"\",0,1))*(IF($P89=\"Contract\",0,1))","v":0},{"$f":"IF($C89=Post!$B$2,1,0)*(IF($P89=\"\",0,1))*(IF($P89=\"Contract\",0,1))","v":0},{"$f":"IF($C89=Post!$B$23,1,0)*(IF($P89=\"\",0,1))*(IF($P89=\"Contract\",0,1))","v":0},{"$f":"IF($C89=Post!$B$24,1,0)*(IF($P89=\"\",0,1))*(IF($P89=\"Contract\",0,1))","v":0},{"$f":"IF($C89=Post!$B$25,1,0)*(IF($P89=\"\",0,1))*(IF($P89=\"Contract\",0,1))","v":0},{"$f":"IF($C89=Post!$B$26,1,0)*(IF($P89=\"\",0,1))*(IF($P89=\"Contract\",0,1))","v":0},{"$f":"IF($C89=Post!$B$27,1,0)*(IF($P89=\"\",0,1))*(IF($P89=\"Contract\",0,1))","v":0},{"$f":"IF($C89=Post!$B$28,1,0)*(IF($P89=\"\",0,1))*(IF($P89=\"Contract\",0,1))","v":0},{"$f":"IF($C89=Post!$B$29,1,0)*(IF($P89=\"\",0,1))*(IF($P89=\"Contract\",0,1))","v":0},{"$f":"IF($C89=Post!$B$30,1,0)*(IF($P89=\"\",0,1))*(IF($P89=\"Contract\",0,1))","v":0},{"$f":"IF($C89=Post!$B$31,1,0)*(IF($P89=\"\",0,1))*(IF($P89=\"Contract\",0,1))","v":0},{"$f":"IF($C89=Post!$B$32,1,0)*(IF($P89=\"\",0,1))*(IF($P89=\"Contract\",0,1))","v":0},{"$f":"IF($C89=Post!$B$33,1,0)*(IF($P89=\"\",0,1))*(IF($P89=\"Contract\",0,1))","v":0},{"$f":"IF($C89=Post!$B$34,1,0)*(IF($P89=\"\",0,1))*(IF($P89=\"Contract\",0,1))","v":0},{"$f":"IF($C89=Post!$B$35,1,0)*(IF($P89=\"\",0,1))*(IF($P89=\"Contract\",0,1))","v":0},{"$f":"IF($C89=Post!$B$36,1,0)*(IF($P89=\"\",0,1))*(IF($P89=\"Contract\",0,1))","v":0},{"$f":"IF($C89=Post!$B$37,1,0)*(IF($P89=\"\",0,1))*(IF($P89=\"Contract\",0,1))","v":0},{"$f":"IF($C89=Post!$B$38,1,0)*(IF($P89=\"\",0,1))*(IF($P89=\"Contract\",0,1))","v":0},{"$f":"IF($C89=Post!$B$39,1,0)*(IF($P89=\"\",0,1))*(IF($P89=\"Contract\",0,1))","v":0},{"$f":"IF($C89=Post!$B$40,1,0)*(IF($P89=\"\",0,1))*(IF($P89=\"Contract\",0,1))","v":0},{"$f":"IF($C89=Post!$B$41,1,0)*(IF($P89=\"\",0,1))*(IF($P89=\"Contract\",0,1))","v":0},{"$f":"IF($C89=Post!$B$42,1,0)*(IF($P89=\"\",0,1))*(IF($P89=\"Contract\",0,1))","v":0},{"$f":"IF($C89=Post!$B$43,1,0)*(IF($P89=\"\",0,1))*(IF($P89=\"Contract\",0,1))","v":0},{"$f":"IF($C89=Post!$B$44,1,0)*(IF($P89=\"\",0,1))*(IF($P89=\"Contract\",0,1))","v":0},{"$f":"IF($C89=Post!$B$45,1,0)*(IF($P89=\"\",0,1))*(IF($P89=\"Contract\",0,1))","v":0},{"$f":"IF($C89=Post!$B$46,1,0)*(IF($P89=\"\",0,1))*(IF($P89=\"Contract\",0,1))","v":0},{"$f":"IF($C89=Post!$B$47,1,0)*(IF($P89=\"\",0,1))*(IF($P89=\"Contract\",0,1))","v":0},{"$f":"IF(C89=Post!B$48,1,0)*(IF(P89=\"\",0,1))*(IF($P89=\"Contract\",0,1))","v":0},{"$f":"IF(C89=Post!B$49,1,0)*(IF(P89=\"\",0,1))*(IF($P89=\"Contract\",0,1))","v":0},{"$f":"IF(C89=Post!B$50,1,0)*(IF(P89=\"\",0,1))*(IF($P89=\"Contract\",0,1))","v":0},0,0,0,0,0,0,0,0,0,0,0,0,0,0,0,0,0,0,0,0,0,0,0,0,0,0,0,0,0,0,0,0,0,0,0,0,0,0,0,0,0,0,0,0,0,0]
["",{"$f":"IF(C90=\"\",\"\",Database!H$5)","v":""},null,null,null,null,null,null,null,null,null,null,null,null,null,null,"",null,null,0,0,0,0,0,"",0,0,0,0,0,0,0,0,0,0,"",{"$f":"IF($C90=Post!$B$11,1,0)*(IF($P90=\"\",0,1))*(IF($P90=\"Contract\",0,1))","v":0},{"$f":"IF($C90=Post!$B$12,1,0)*(IF($P90=\"\",0,1))*(IF($P90=\"Contract\",0,1))","v":0},{"$f":"IF($C90=Post!$B$13,1,0)*(IF($P90=\"\",0,1))*(IF($P90=\"Contract\",0,1))","v":0},{"$f":"IF($C90=Post!$B$14,1,0)*(IF($P90=\"\",0,1))*(IF($P90=\"Contract\",0,1))","v":0},{"$f":"IF($C90=Post!$B$15,1,0)*(IF($P90=\"\",0,1))*(IF($P90=\"Contract\",0,1))","v":0},{"$f":"IF($C90=Post!$B$16,1,0)*(IF($P90=\"\",0,1))*(IF($P90=\"Contract\",0,1))","v":0},{"$f":"IF($C90=Post!$B$17,1,0)*(IF($P90=\"\",0,1))*(IF($P90=\"Contract\",0,1))","v":0},{"$f":"IF($C90=Post!$B$18,1,0)*(IF($P90=\"\",0,1))*(IF($P90=\"Contract\",0,1))","v":0},{"$f":"IF($C90=Post!$B$19,1,0)*(IF($P90=\"\",0,1))*(IF($P90=\"Contract\",0,1))","v":0},{"$f":"IF($C90=Post!$B$20,1,0)*(IF($P90=\"\",0,1))*(IF($P90=\"Contract\",0,1))","v":0},{"$f":"IF($C90=Post!$B$21,1,0)*(IF($P90=\"\",0,1))*(IF($P90=\"Contract\",0,1))","v":0},{"$f":"IF($C90=Post!$B$2,1,0)*(IF($P90=\"\",0,1))*(IF($P90=\"Contract\",0,1))","v":0},{"$f":"IF($C90=Post!$B$23,1,0)*(IF($P90=\"\",0,1))*(IF($P90=\"Contract\",0,1))","v":0},{"$f":"IF($C90=Post!$B$24,1,0)*(IF($P90=\"\",0,1))*(IF($P90=\"Contract\",0,1))","v":0},{"$f":"IF($C90=Post!$B$25,1,0)*(IF($P90=\"\",0,1))*(IF($P90=\"Contract\",0,1))","v":0},{"$f":"IF($C90=Post!$B$26,1,0)*(IF($P90=\"\",0,1))*(IF($P90=\"Contract\",0,1))","v":0},{"$f":"IF($C90=Post!$B$27,1,0)*(IF($P90=\"\",0,1))*(IF($P90=\"Contract\",0,1))","v":0},{"$f":"IF($C90=Post!$B$28,1,0)*(IF($P90=\"\",0,1))*(IF($P90=\"Contract\",0,1))","v":0},{"$f":"IF($C90=Post!$B$29,1,0)*(IF($P90=\"\",0,1))*(IF($P90=\"Contract\",0,1))","v":0},{"$f":"IF($C90=Post!$B$30,1,0)*(IF($P90=\"\",0,1))*(IF($P90=\"Contract\",0,1))","v":0},{"$f":"IF($C90=Post!$B$31,1,0)*(IF($P90=\"\",0,1))*(IF($P90=\"Contract\",0,1))","v":0},{"$f":"IF($C90=Post!$B$32,1,0)*(IF($P90=\"\",0,1))*(IF($P90=\"Contract\",0,1))","v":0},{"$f":"IF($C90=Post!$B$33,1,0)*(IF($P90=\"\",0,1))*(IF($P90=\"Contract\",0,1))","v":0},{"$f":"IF($C90=Post!$B$34,1,0)*(IF($P90=\"\",0,1))*(IF($P90=\"Contract\",0,1))","v":0},{"$f":"IF($C90=Post!$B$35,1,0)*(IF($P90=\"\",0,1))*(IF($P90=\"Contract\",0,1))","v":0},{"$f":"IF($C90=Post!$B$36,1,0)*(IF($P90=\"\",0,1))*(IF($P90=\"Contract\",0,1))","v":0},{"$f":"IF($C90=Post!$B$37,1,0)*(IF($P90=\"\",0,1))*(IF($P90=\"Contract\",0,1))","v":0},{"$f":"IF($C90=Post!$B$38,1,0)*(IF($P90=\"\",0,1))*(IF($P90=\"Contract\",0,1))","v":0},{"$f":"IF($C90=Post!$B$39,1,0)*(IF($P90=\"\",0,1))*(IF($P90=\"Contract\",0,1))","v":0},{"$f":"IF($C90=Post!$B$40,1,0)*(IF($P90=\"\",0,1))*(IF($P90=\"Contract\",0,1))","v":0},{"$f":"IF($C90=Post!$B$41,1,0)*(IF($P90=\"\",0,1))*(IF($P90=\"Contract\",0,1))","v":0},{"$f":"IF($C90=Post!$B$42,1,0)*(IF($P90=\"\",0,1))*(IF($P90=\"Contract\",0,1))","v":0},{"$f":"IF($C90=Post!$B$43,1,0)*(IF($P90=\"\",0,1))*(IF($P90=\"Contract\",0,1))","v":0},{"$f":"IF($C90=Post!$B$44,1,0)*(IF($P90=\"\",0,1))*(IF($P90=\"Contract\",0,1))","v":0},{"$f":"IF($C90=Post!$B$45,1,0)*(IF($P90=\"\",0,1))*(IF($P90=\"Contract\",0,1))","v":0},{"$f":"IF($C90=Post!$B$46,1,0)*(IF($P90=\"\",0,1))*(IF($P90=\"Contract\",0,1))","v":0},{"$f":"IF($C90=Post!$B$47,1,0)*(IF($P90=\"\",0,1))*(IF($P90=\"Contract\",0,1))","v":0},{"$f":"IF(C90=Post!B$48,1,0)*(IF(P90=\"\",0,1))*(IF($P90=\"Contract\",0,1))","v":0},{"$f":"IF(C90=Post!B$49,1,0)*(IF(P90=\"\",0,1))*(IF($P90=\"Contract\",0,1))","v":0},{"$f":"IF(C90=Post!B$50,1,0)*(IF(P90=\"\",0,1))*(IF($P90=\"Contract\",0,1))","v":0},0,0,0,0,0,0,0,0,0,0,0,0,0,0,0,0,0,0,0,0,0,0,0,0,0,0,0,0,0,0,0,0,0,0,0,0,0,0,0,0,0,0,0,0,0,0]
["",{"$f":"IF(C91=\"\",\"\",Database!H$5)","v":""},null,null,null,null,null,null,null,null,null,null,null,null,null,null,"",null,null,0,0,0,0,0,"",0,0,0,0,0,0,0,0,0,0,"",{"$f":"IF($C91=Post!$B$11,1,0)*(IF($P91=\"\",0,1))*(IF($P91=\"Contract\",0,1))","v":0},{"$f":"IF($C91=Post!$B$12,1,0)*(IF($P91=\"\",0,1))*(IF($P91=\"Contract\",0,1))","v":0},{"$f":"IF($C91=Post!$B$13,1,0)*(IF($P91=\"\",0,1))*(IF($P91=\"Contract\",0,1))","v":0},{"$f":"IF($C91=Post!$B$14,1,0)*(IF($P91=\"\",0,1))*(IF($P91=\"Contract\",0,1))","v":0},{"$f":"IF($C91=Post!$B$15,1,0)*(IF($P91=\"\",0,1))*(IF($P91=\"Contract\",0,1))","v":0},{"$f":"IF($C91=Post!$B$16,1,0)*(IF($P91=\"\",0,1))*(IF($P91=\"Contract\",0,1))","v":0},{"$f":"IF($C91=Post!$B$17,1,0)*(IF($P91=\"\",0,1))*(IF($P91=\"Contract\",0,1))","v":0},{"$f":"IF($C91=Post!$B$18,1,0)*(IF($P91=\"\",0,1))*(IF($P91=\"Contract\",0,1))","v":0},{"$f":"IF($C91=Post!$B$19,1,0)*(IF($P91=\"\",0,1))*(IF($P91=\"Contract\",0,1))","v":0},{"$f":"IF($C91=Post!$B$20,1,0)*(IF($P91=\"\",0,1))*(IF($P91=\"Contract\",0,1))","v":0},{"$f":"IF($C91=Post!$B$21,1,0)*(IF($P91=\"\",0,1))*(IF($P91=\"Contract\",0,1))","v":0},{"$f":"IF($C91=Post!$B$2,1,0)*(IF($P91=\"\",0,1))*(IF($P91=\"Contract\",0,1))","v":0},{"$f":"IF($C91=Post!$B$23,1,0)*(IF($P91=\"\",0,1))*(IF($P91=\"Contract\",0,1))","v":0},{"$f":"IF($C91=Post!$B$24,1,0)*(IF($P91=\"\",0,1))*(IF($P91=\"Contract\",0,1))","v":0},{"$f":"IF($C91=Post!$B$25,1,0)*(IF($P91=\"\",0,1))*(IF($P91=\"Contract\",0,1))","v":0},{"$f":"IF($C91=Post!$B$26,1,0)*(IF($P91=\"\",0,1))*(IF($P91=\"Contract\",0,1))","v":0},{"$f":"IF($C91=Post!$B$27,1,0)*(IF($P91=\"\",0,1))*(IF($P91=\"Contract\",0,1))","v":0},{"$f":"IF($C91=Post!$B$28,1,0)*(IF($P91=\"\",0,1))*(IF($P91=\"Contract\",0,1))","v":0},{"$f":"IF($C91=Post!$B$29,1,0)*(IF($P91=\"\",0,1))*(IF($P91=\"Contract\",0,1))","v":0},{"$f":"IF($C91=Post!$B$30,1,0)*(IF($P91=\"\",0,1))*(IF($P91=\"Contract\",0,1))","v":0},{"$f":"IF($C91=Post!$B$31,1,0)*(IF($P91=\"\",0,1))*(IF($P91=\"Contract\",0,1))","v":0},{"$f":"IF($C91=Post!$B$32,1,0)*(IF($P91=\"\",0,1))*(IF($P91=\"Contract\",0,1))","v":0},{"$f":"IF($C91=Post!$B$33,1,0)*(IF($P91=\"\",0,1))*(IF($P91=\"Contract\",0,1))","v":0},{"$f":"IF($C91=Post!$B$34,1,0)*(IF($P91=\"\",0,1))*(IF($P91=\"Contract\",0,1))","v":0},{"$f":"IF($C91=Post!$B$35,1,0)*(IF($P91=\"\",0,1))*(IF($P91=\"Contract\",0,1))","v":0},{"$f":"IF($C91=Post!$B$36,1,0)*(IF($P91=\"\",0,1))*(IF($P91=\"Contract\",0,1))","v":0},{"$f":"IF($C91=Post!$B$37,1,0)*(IF($P91=\"\",0,1))*(IF($P91=\"Contract\",0,1))","v":0},{"$f":"IF($C91=Post!$B$38,1,0)*(IF($P91=\"\",0,1))*(IF($P91=\"Contract\",0,1))","v":0},{"$f":"IF($C91=Post!$B$39,1,0)*(IF($P91=\"\",0,1))*(IF($P91=\"Contract\",0,1))","v":0},{"$f":"IF($C91=Post!$B$40,1,0)*(IF($P91=\"\",0,1))*(IF($P91=\"Contract\",0,1))","v":0},{"$f":"IF($C91=Post!$B$41,1,0)*(IF($P91=\"\",0,1))*(IF($P91=\"Contract\",0,1))","v":0},{"$f":"IF($C91=Post!$B$42,1,0)*(IF($P91=\"\",0,1))*(IF($P91=\"Contract\",0,1))","v":0},{"$f":"IF($C91=Post!$B$43,1,0)*(IF($P91=\"\",0,1))*(IF($P91=\"Contract\",0,1))","v":0},{"$f":"IF($C91=Post!$B$44,1,0)*(IF($P91=\"\",0,1))*(IF($P91=\"Contract\",0,1))","v":0},{"$f":"IF($C91=Post!$B$45,1,0)*(IF($P91=\"\",0,1))*(IF($P91=\"Contract\",0,1))","v":0},{"$f":"IF($C91=Post!$B$46,1,0)*(IF($P91=\"\",0,1))*(IF($P91=\"Contract\",0,1))","v":0},{"$f":"IF($C91=Post!$B$47,1,0)*(IF($P91=\"\",0,1))*(IF($P91=\"Contract\",0,1))","v":0},{"$f":"IF(C91=Post!B$48,1,0)*(IF(P91=\"\",0,1))*(IF($P91=\"Contract\",0,1))","v":0},{"$f":"IF(C91=Post!B$49,1,0)*(IF(P91=\"\",0,1))*(IF($P91=\"Contract\",0,1))","v":0},{"$f":"IF(C91=Post!B$50,1,0)*(IF(P91=\"\",0,1))*(IF($P91=\"Contract\",0,1))","v":0},0,0,0,0,0,0,0,0,0,0,0,0,0,0,0,0,0,0,0,0,0,0,0,0,0,0,0,0,0,0,0,0,0,0,0,0,0,0,0,0,0,0,0,0,0,0]
["",{"$f":"IF(C92=\"\",\"\",Database!H$5)","v":""},null,null,null,null,null,null,null,null,null,null,null,null,null,null,"",null,null,0,0,0,0,0,"",0,0,0,0,0,0,0,0,0,0,"",{"$f":"IF($C92=Post!$B$11,1,0)*(IF($P92=\"\",0,1))*(IF($P92=\"Contract\",0,1))","v":0},{"$f":"IF($C92=Post!$B$12,1,0)*(IF($P92=\"\",0,1))*(IF($P92=\"Contract\",0,1))","v":0},{"$f":"IF($C92=Post!$B$13,1,0)*(IF($P92=\"\",0,1))*(IF($P92=\"Contract\",0,1))","v":0},{"$f":"IF($C92=Post!$B$14,1,0)*(IF($P92=\"\",0,1))*(IF($P92=\"Contract\",0,1))","v":0},{"$f":"IF($C92=Post!$B$15,1,0)*(IF($P92=\"\",0,1))*(IF($P92=\"Contract\",0,1))","v":0},{"$f":"IF($C92=Post!$B$16,1,0)*(IF($P92=\"\",0,1))*(IF($P92=\"Contract\",0,1))","v":0},{"$f":"IF($C92=Post!$B$17,1,0)*(IF($P92=\"\",0,1))*(IF($P92=\"Contract\",0,1))","v":0},{"$f":"IF($C92=Post!$B$18,1,0)*(IF($P92=\"\",0,1))*(IF($P92=\"Contract\",0,1))","v":0},{"$f":"IF($C92=Post!$B$19,1,0)*(IF($P92=\"\",0,1))*(IF($P92=\"Contract\",0,1))","v":0},{"$f":"IF($C92=Post!$B$20,1,0)*(IF($P92=\"\",0,1))*(IF($P92=\"Contract\",0,1))","v":0},{"$f":"IF($C92=Post!$B$21,1,0)*(IF($P92=\"\",0,1))*(IF($P92=\"Contract\",0,1))","v":0},{"$f":"IF($C92=Post!$B$2,1,0)*(IF($P92=\"\",0,1))*(IF($P92=\"Contract\",0,1))","v":0},{"$f":"IF($C92=Post!$B$23,1,0)*(IF($P92=\"\",0,1))*(IF($P92=\"Contract\",0,1))","v":0},{"$f":"IF($C92=Post!$B$24,1,0)*(IF($P92=\"\",0,1))*(IF($P92=\"Contract\",0,1))","v":0},{"$f":"IF($C92=Post!$B$25,1,0)*(IF($P92=\"\",0,1))*(IF($P92=\"Contract\",0,1))","v":0},{"$f":"IF($C92=Post!$B$26,1,0)*(IF($P92=\"\",0,1))*(IF($P92=\"Contract\",0,1))","v":0},{"$f":"IF($C92=Post!$B$27,1,0)*(IF($P92=\"\",0,1))*(IF($P92=\"Contract\",0,1))","v":0},{"$f":"IF($C92=Post!$B$28,1,0)*(IF($P92=\"\",0,1))*(IF($P92=\"Contract\",0,1))","v":0},{"$f":"IF($C92=Post!$B$29,1,0)*(IF($P92=\"\",0,1))*(IF($P92=\"Contract\",0,1))","v":0},{"$f":"IF($C92=Post!$B$30,1,0)*(IF($P92=\"\",0,1))*(IF($P92=\"Contract\",0,1))","v":0},{"$f":"IF($C92=Post!$B$31,1,0)*(IF($P92=\"\",0,1))*(IF($P92=\"Contract\",0,1))","v":0},{"$f":"IF($C92=Post!$B$32,1,0)*(IF($P92=\"\",0,1))*(IF($P92=\"Contract\",0,1))","v":0},{"$f":"IF($C92=Post!$B$33,1,0)*(IF($P92=\"\",0,1))*(IF($P92=\"Contract\",0,1))","v":0},{"$f":"IF($C92=Post!$B$34,1,0)*(IF($P92=\"\",0,1))*(IF($P92=\"Contract\",0,1))","v":0},{"$f":"IF($C92=Post!$B$35,1,0)*(IF($P92=\"\",0,1))*(IF($P92=\"Contract\",0,1))","v":0},{"$f":"IF($C92=Post!$B$36,1,0)*(IF($P92=\"\",0,1))*(IF($P92=\"Contract\",0,1))","v":0},{"$f":"IF($C92=Post!$B$37,1,0)*(IF($P92=\"\",0,1))*(IF($P92=\"Contract\",0,1))","v":0},{"$f":"IF($C92=Post!$B$38,1,0)*(IF($P92=\"\",0,1))*(IF($P92=\"Contract\",0,1))","v":0},{"$f":"IF($C92=Post!$B$39,1,0)*(IF($P92=\"\",0,1))*(IF($P92=\"Contract\",0,1))","v":0},{"$f":"IF($C92=Post!$B$40,1,0)*(IF($P92=\"\",0,1))*(IF($P92=\"Contract\",0,1))","v":0},{"$f":"IF($C92=Post!$B$41,1,0)*(IF($P92=\"\",0,1))*(IF($P92=\"Contract\",0,1))","v":0},{"$f":"IF($C92=Post!$B$42,1,0)*(IF($P92=\"\",0,1))*(IF($P92=\"Contract\",0,1))","v":0},{"$f":"IF($C92=Post!$B$43,1,0)*(IF($P92=\"\",0,1))*(IF($P92=\"Contract\",0,1))","v":0},{"$f":"IF($C92=Post!$B$44,1,0)*(IF($P92=\"\",0,1))*(IF($P92=\"Contract\",0,1))","v":0},{"$f":"IF($C92=Post!$B$45,1,0)*(IF($P92=\"\",0,1))*(IF($P92=\"Contract\",0,1))","v":0},{"$f":"IF($C92=Post!$B$46,1,0)*(IF($P92=\"\",0,1))*(IF($P92=\"Contract\",0,1))","v":0},{"$f":"IF($C92=Post!$B$47,1,0)*(IF($P92=\"\",0,1))*(IF($P92=\"Contract\",0,1))","v":0},{"$f":"IF(C92=Post!B$48,1,0)*(IF(P92=\"\",0,1))*(IF($P92=\"Contract\",0,1))","v":0},{"$f":"IF(C92=Post!B$49,1,0)*(IF(P92=\"\",0,1))*(IF($P92=\"Contract\",0,1))","v":0},{"$f":"IF(C92=Post!B$50,1,0)*(IF(P92=\"\",0,1))*(IF($P92=\"Contract\",0,1))","v":0},0,0,0,0,0,0,0,0,0,0,0,0,0,0,0,0,0,0,0,0,0,0,0,0,0,0,0,0,0,0,0,0,0,0,0,0,0,0,0,0,0,0,0,0,0,0]
[{"$f":"IF(C93=\"\",\"\",A92+1)","v":""},{"$f":"IF(C93=\"\",\"\",Database!H$5)","v":""},null,null,null,null,null,null,null,null,null,null,null,null,null,null,"",null,null,0,0,0,0,0,"",0,0,0,0,0,0,0,0,0,0,"",{"$f":"IF($C93=Post!$B$11,1,0)*(IF($P93=\"\",0,1))*(IF($P93=\"Contract\",0,1))","v":0},{"$f":"IF($C93=Post!$B$12,1,0)*(IF($P93=\"\",0,1))*(IF($P93=\"Contract\",0,1))","v":0},{"$f":"IF($C93=Post!$B$13,1,0)*(IF($P93=\"\",0,1))*(IF($P93=\"Contract\",0,1))","v":0},{"$f":"IF($C93=Post!$B$14,1,0)*(IF($P93=\"\",0,1))*(IF($P93=\"Contract\",0,1))","v":0},{"$f":"IF($C93=Post!$B$15,1,0)*(IF($P93=\"\",0,1))*(IF($P93=\"Contract\",0,1))","v":0},{"$f":"IF($C93=Post!$B$16,1,0)*(IF($P93=\"\",0,1))*(IF($P93=\"Contract\",0,1))","v":0},{"$f":"IF($C93=Post!$B$17,1,0)*(IF($P93=\"\",0,1))*(IF($P93=\"Contract\",0,1))","v":0},{"$f":"IF($C93=Post!$B$18,1,0)*(IF($P93=\"\",0,1))*(IF($P93=\"Contract\",0,1))","v":0},{"$f":"IF($C93=Post!$B$19,1,0)*(IF($P93=\"\",0,1))*(IF($P93=\"Contract\",0,1))","v":0},{"$f":"IF($C93=Post!$B$20,1,0)*(IF($P93=\"\",0,1))*(IF($P93=\"Contract\",0,1))","v":0},{"$f":"IF($C93=Post!$B$21,1,0)*(IF($P93=\"\",0,1))*(IF($P93=\"Contract\",0,1))","v":0},{"$f":"IF($C93=Post!$B$2,1,0)*(IF($P93=\"\",0,1))*(IF($P93=\"Contract\",0,1))","v":0},{"$f":"IF($C93=Post!$B$23,1,0)*(IF($P93=\"\",0,1))*(IF($P93=\"Contract\",0,1))","v":0},{"$f":"IF($C93=Post!$B$24,1,0)*(IF($P93=\"\",0,1))*(IF($P93=\"Contract\",0,1))","v":0},{"$f":"IF($C93=Post!$B$25,1,0)*(IF($P93=\"\",0,1))*(IF($P93=\"Contract\",0,1))","v":0},{"$f":"IF($C93=Post!$B$26,1,0)*(IF($P93=\"\",0,1))*(IF($P93=\"Contract\",0,1))","v":0},{"$f":"IF($C93=Post!$B$27,1,0)*(IF($P93=\"\",0,1))*(IF($P93=\"Contract\",0,1))","v":0},{"$f":"IF($C93=Post!$B$28,1,0)*(IF($P93=\"\",0,1))*(IF($P93=\"Contract\",0,1))","v":0},{"$f":"IF($C93=Post!$B$29,1,0)*(IF($P93=\"\",0,1))*(IF($P93=\"Contract\",0,1))","v":0},{"$f":"IF($C93=Post!$B$30,1,0)*(IF($P93=\"\",0,1))*(IF($P93=\"Contract\",0,1))","v":0},{"$f":"IF($C93=Post!$B$31,1,0)*(IF($P93=\"\",0,1))*(IF($P93=\"Contract\",0,1))","v":0},{"$f":"IF($C93=Post!$B$32,1,0)*(IF($P93=\"\",0,1))*(IF($P93=\"Contract\",0,1))","v":0},{"$f":"IF($C93=Post!$B$33,1,0)*(IF($P93=\"\",0,1))*(IF($P93=\"Contract\",0,1))","v":0},{"$f":"IF($C93=Post!$B$34,1,0)*(IF($P93=\"\",0,1))*(IF($P93=\"Contract\",0,1))","v":0},{"$f":"IF($C93=Post!$B$35,1,0)*(IF($P93=\"\",0,1))*(IF($P93=\"Contract\",0,1))","v":0},{"$f":"IF($C93=Post!$B$36,1,0)*(IF($P93=\"\",0,1))*(IF($P93=\"Contract\",0,1))","v":0},{"$f":"IF($C93=Post!$B$37,1,0)*(IF($P93=\"\",0,1))*(IF($P93=\"Contract\",0,1))","v":0},{"$f":"IF($C93=Post!$B$38,1,0)*(IF($P93=\"\",0,1))*(IF($P93=\"Contract\",0,1))","v":0},{"$f":"IF($C93=Post!$B$39,1,0)*(IF($P93=\"\",0,1))*(IF($P93=\"Contract\",0,1))","v":0},{"$f":"IF($C93=Post!$B$40,1,0)*(IF($P93=\"\",0,1))*(IF($P93=\"Contract\",0,1))","v":0},{"$f":"IF($C93=Post!$B$41,1,0)*(IF($P93=\"\",0,1))*(IF($P93=\"Contract\",0,1))","v":0},{"$f":"IF($C93=Post!$B$42,1,0)*(IF($P93=\"\",0,1))*(IF($P93=\"Contract\",0,1))","v":0},{"$f":"IF($C93=Post!$B$43,1,0)*(IF($P93=\"\",0,1))*(IF($P93=\"Contract\",0,1))","v":0},{"$f":"IF($C93=Post!$B$44,1,0)*(IF($P93=\"\",0,1))*(IF($P93=\"Contract\",0,1))","v":0},{"$f":"IF($C93=Post!$B$45,1,0)*(IF($P93=\"\",0,1))*(IF($P93=\"Contract\",0,1))","v":0},{"$f":"IF($C93=Post!$B$46,1,0)*(IF($P93=\"\",0,1))*(IF($P93=\"Contract\",0,1))","v":0},{"$f":"IF($C93=Post!$B$47,1,0)*(IF($P93=\"\",0,1))*(IF($P93=\"Contract\",0,1))","v":0},{"$f":"IF(C93=Post!B$48,1,0)*(IF(P93=\"\",0,1))*(IF($P93=\"Contract\",0,1))","v":0},{"$f":"IF(C93=Post!B$49,1,0)*(IF(P93=\"\",0,1))*(IF($P93=\"Contract\",0,1))","v":0},{"$f":"IF(C93=Post!B$50,1,0)*(IF(P93=\"\",0,1))*(IF($P93=\"Contract\",0,1))","v":0},0,0,0,0,0,0,0,0,0,0,0,0,0,0,0,0,0,0,0,0,0,0,0,0,0,0,0,0,0,0,0,0,0,0,0,0,0,0,0,0,0,0,0,0,0,0]
["",{"$f":"IF(C94=\"\",\"\",Database!H$5)","v":""},null,null,null,null,null,null,null,null,null,null,null,null,null,null,"",null,null,0,0,0,0,0,"",0,0,0,0,0,0,0,0,0,0,"",{"$f":"IF($C94=Post!$B$11,1,0)*(IF($P94=\"\",0,1))*(IF($P94=\"Contract\",0,1))","v":0},{"$f":"IF($C94=Post!$B$12,1,0)*(IF($P94=\"\",0,1))*(IF($P94=\"Contract\",0,1))","v":0},{"$f":"IF($C94=Post!$B$13,1,0)*(IF($P94=\"\",0,1))*(IF($P94=\"Contract\",0,1))","v":0},{"$f":"IF($C94=Post!$B$14,1,0)*(IF($P94=\"\",0,1))*(IF($P94=\"Contract\",0,1))","v":0},{"$f":"IF($C94=Post!$B$15,1,0)*(IF($P94=\"\",0,1))*(IF($P94=\"Contract\",0,1))","v":0},{"$f":"IF($C94=Post!$B$16,1,0)*(IF($P94=\"\",0,1))*(IF($P94=\"Contract\",0,1))","v":0},{"$f":"IF($C94=Post!$B$17,1,0)*(IF($P94=\"\",0,1))*(IF($P94=\"Contract\",0,1))","v":0},{"$f":"IF($C94=Post!$B$18,1,0)*(IF($P94=\"\",0,1))*(IF($P94=\"Contract\",0,1))","v":0},{"$f":"IF($C94=Post!$B$19,1,0)*(IF($P94=\"\",0,1))*(IF($P94=\"Contract\",0,1))","v":0},{"$f":"IF($C94=Post!$B$20,1,0)*(IF($P94=\"\",0,1))*(IF($P94=\"Contract\",0,1))","v":0},{"$f":"IF($C94=Post!$B$21,1,0)*(IF($P94=\"\",0,1))*(IF($P94=\"Contract\",0,1))","v":0},{"$f":"IF($C94=Post!$B$2,1,0)*(IF($P94=\"\",0,1))*(IF($P94=\"Contract\",0,1))","v":0},{"$f":"IF($C94=Post!$B$23,1,0)*(IF($P94=\"\",0,1))*(IF($P94=\"Contract\",0,1))","v":0},{"$f":"IF($C94=Post!$B$24,1,0)*(IF($P94=\"\",0,1))*(IF($P94=\"Contract\",0,1))","v":0},{"$f":"IF($C94=Post!$B$25,1,0)*(IF($P94=\"\",0,1))*(IF($P94=\"Contract\",0,1))","v":0},{"$f":"IF($C94=Post!$B$26,1,0)*(IF($P94=\"\",0,1))*(IF($P94=\"Contract\",0,1))","v":0},{"$f":"IF($C94=Post!$B$27,1,0)*(IF($P94=\"\",0,1))*(IF($P94=\"Contract\",0,1))","v":0},{"$f":"IF($C94=Post!$B$28,1,0)*(IF($P94=\"\",0,1))*(IF($P94=\"Contract\",0,1))","v":0},{"$f":"IF($C94=Post!$B$29,1,0)*(IF($P94=\"\",0,1))*(IF($P94=\"Contract\",0,1))","v":0},{"$f":"IF($C94=Post!$B$30,1,0)*(IF($P94=\"\",0,1))*(IF($P94=\"Contract\",0,1))","v":0},{"$f":"IF($C94=Post!$B$31,1,0)*(IF($P94=\"\",0,1))*(IF($P94=\"Contract\",0,1))","v":0},{"$f":"IF($C94=Post!$B$32,1,0)*(IF($P94=\"\",0,1))*(IF($P94=\"Contract\",0,1))","v":0},{"$f":"IF($C94=Post!$B$33,1,0)*(IF($P94=\"\",0,1))*(IF($P94=\"Contract\",0,1))","v":0},{"$f":"IF($C94=Post!$B$34,1,0)*(IF($P94=\"\",0,1))*(IF($P94=\"Contract\",0,1))","v":0},{"$f":"IF($C94=Post!$B$35,1,0)*(IF($P94=\"\",0,1))*(IF($P94=\"Contract\",0,1))","v":0},{"$f":"IF($C94=Post!$B$36,1,0)*(IF($P94=\"\",0,1))*(IF($P94=\"Contract\",0,1))","v":0},{"$f":"IF($C94=Post!$B$37,1,0)*(IF($P94=\"\",0,1))*(IF($P94=\"Contract\",0,1))","v":0},{"$f":"IF($C94=Post!$B$38,1,0)*(IF($P94=\"\",0,1))*(IF($P94=\"Contract\",0,1))","v":0},{"$f":"IF($C94=Post!$B$39,1,0)*(IF($P94=\"\",0,1))*(IF($P94=\"Contract\",0,1))","v":0},{"$f":"IF($C94=Post!$B$40,1,0)*(IF($P94=\"\",0,1))*(IF($P94=\"Contract\",0,1))","v":0},{"$f":"IF($C94=Post!$B$41,1,0)*(IF($P94=\"\",0,1))*(IF($P94=\"Contract\",0,1))","v":0},{"$f":"IF($C94=Post!$B$42,1,0)*(IF($P94=\"\",0,1))*(IF($P94=\"Contract\",0,1))","v":0},{"$f":"IF($C94=Post!$B$43,1,0)*(IF($P94=\"\",0,1))*(IF($P94=\"Contract\",0,1))","v":0},{"$f":"IF($C94=Post!$B$44,1,0)*(IF($P94=\"\",0,1))*(IF($P94=\"Contract\",0,1))","v":0},{"$f":"IF($C94=Post!$B$45,1,0)*(IF($P94=\"\",0,1))*(IF($P94=\"Contract\",0,1))","v":0},{"$f":"IF($C94=Post!$B$46,1,0)*(IF($P94=\"\",0,1))*(IF($P94=\"Contract\",0,1))","v":0},{"$f":"IF($C94=Post!$B$47,1,0)*(IF($P94=\"\",0,1))*(IF($P94=\"Contract\",0,1))","v":0},{"$f":"IF(C94=Post!B$48,1,0)*(IF(P94=\"\",0,1))*(IF($P94=\"Contract\",0,1))","v":0},{"$f":"IF(C94=Post!B$49,1,0)*(IF(P94=\"\",0,1))*(IF($P94=\"Contract\",0,1))","v":0},{"$f":"IF(C94=Post!B$50,1,0)*(IF(P94=\"\",0,1))*(IF($P94=\"Contract\",0,1))","v":0},0,0,0,0,0,0,0,0,0,0,0,0,0,0,0,0,0,0,0,0,0,0,0,0,0,0,0,0,0,0,0,0,0,0,0,0,0,0,0,0,0,0,0,0,0,0]
["",{"$f":"IF(C95=\"\",\"\",Database!H$5)","v":""},null,null,null,null,null,null,null,null,null,null,null,null,null,null,"",null,null,0,0,0,0,0,"",0,0,0,0,0,0,0,0,0,0,"",{"$f":"IF($C95=Post!$B$11,1,0)*(IF($P95=\"\",0,1))*(IF($P95=\"Contract\",0,1))","v":0},{"$f":"IF($C95=Post!$B$12,1,0)*(IF($P95=\"\",0,1))*(IF($P95=\"Contract\",0,1))","v":0},{"$f":"IF($C95=Post!$B$13,1,0)*(IF($P95=\"\",0,1))*(IF($P95=\"Contract\",0,1))","v":0},{"$f":"IF($C95=Post!$B$14,1,0)*(IF($P95=\"\",0,1))*(IF($P95=\"Contract\",0,1))","v":0},{"$f":"IF($C95=Post!$B$15,1,0)*(IF($P95=\"\",0,1))*(IF($P95=\"Contract\",0,1))","v":0},{"$f":"IF($C95=Post!$B$16,1,0)*(IF($P95=\"\",0,1))*(IF($P95=\"Contract\",0,1))","v":0},{"$f":"IF($C95=Post!$B$17,1,0)*(IF($P95=\"\",0,1))*(IF($P95=\"Contract\",0,1))","v":0},{"$f":"IF($C95=Post!$B$18,1,0)*(IF($P95=\"\",0,1))*(IF($P95=\"Contract\",0,1))","v":0},{"$f":"IF($C95=Post!$B$19,1,0)*(IF($P95=\"\",0,1))*(IF($P95=\"Contract\",0,1))","v":0},{"$f":"IF($C95=Post!$B$20,1,0)*(IF($P95=\"\",0,1))*(IF($P95=\"Contract\",0,1))","v":0},{"$f":"IF($C95=Post!$B$21,1,0)*(IF($P95=\"\",0,1))*(IF($P95=\"Contract\",0,1))","v":0},{"$f":"IF($C95=Post!$B$2,1,0)*(IF($P95=\"\",0,1))*(IF($P95=\"Contract\",0,1))","v":0},{"$f":"IF($C95=Post!$B$23,1,0)*(IF($P95=\"\",0,1))*(IF($P95=\"Contract\",0,1))","v":0},{"$f":"IF($C95=Post!$B$24,1,0)*(IF($P95=\"\",0,1))*(IF($P95=\"Contract\",0,1))","v":0},{"$f":"IF($C95=Post!$B$25,1,0)*(IF($P95=\"\",0,1))*(IF($P95=\"Contract\",0,1))","v":0},{"$f":"IF($C95=Post!$B$26,1,0)*(IF($P95=\"\",0,1))*(IF($P95=\"Contract\",0,1))","v":0},{"$f":"IF($C95=Post!$B$27,1,0)*(IF($P95=\"\",0,1))*(IF($P95=\"Contract\",0,1))","v":0},{"$f":"IF($C95=Post!$B$28,1,0)*(IF($P95=\"\",0,1))*(IF($P95=\"Contract\",0,1))","v":0},{"$f":"IF($C95=Post!$B$29,1,0)*(IF($P95=\"\",0,1))*(IF($P95=\"Contract\",0,1))","v":0},{"$f":"IF($C95=Post!$B$30,1,0)*(IF($P95=\"\",0,1))*(IF($P95=\"Contract\",0,1))","v":0},{"$f":"IF($C95=Post!$B$31,1,0)*(IF($P95=\"\",0,1))*(IF($P95=\"Contract\",0,1))","v":0},{"$f":"IF($C95=Post!$B$32,1,0)*(IF($P95=\"\",0,1))*(IF($P95=\"Contract\",0,1))","v":0},{"$f":"IF($C95=Post!$B$33,1,0)*(IF($P95=\"\",0,1))*(IF($P95=\"Contract\",0,1))","v":0},{"$f":"IF($C95=Post!$B$34,1,0)*(IF($P95=\"\",0,1))*(IF($P95=\"Contract\",0,1))","v":0},{"$f":"IF($C95=Post!$B$35,1,0)*(IF($P95=\"\",0,1))*(IF($P95=\"Contract\",0,1))","v":0},{"$f":"IF($C95=Post!$B$36,1,0)*(IF($P95=\"\",0,1))*(IF($P95=\"Contract\",0,1))","v":0},{"$f":"IF($C95=Post!$B$37,1,0)*(IF($P95=\"\",0,1))*(IF($P95=\"Contract\",0,1))","v":0},{"$f":"IF($C95=Post!$B$38,1,0)*(IF($P95=\"\",0,1))*(IF($P95=\"Contract\",0,1))","v":0},{"$f":"IF($C95=Post!$B$39,1,0)*(IF($P95=\"\",0,1))*(IF($P95=\"Contract\",0,1))","v":0},{"$f":"IF($C95=Post!$B$40,1,0)*(IF($P95=\"\",0,1))*(IF($P95=\"Contract\",0,1))","v":0},{"$f":"IF($C95=Post!$B$41,1,0)*(IF($P95=\"\",0,1))*(IF($P95=\"Contract\",0,1))","v":0},{"$f":"IF($C95=Post!$B$42,1,0)*(IF($P95=\"\",0,1))*(IF($P95=\"Contract\",0,1))","v":0},{"$f":"IF($C95=Post!$B$43,1,0)*(IF($P95=\"\",0,1))*(IF($P95=\"Contract\",0,1))","v":0},{"$f":"IF($C95=Post!$B$44,1,0)*(IF($P95=\"\",0,1))*(IF($P95=\"Contract\",0,1))","v":0},{"$f":"IF($C95=Post!$B$45,1,0)*(IF($P95=\"\",0,1))*(IF($P95=\"Contract\",0,1))","v":0},{"$f":"IF($C95=Post!$B$46,1,0)*(IF($P95=\"\",0,1))*(IF($P95=\"Contract\",0,1))","v":0},{"$f":"IF($C95=Post!$B$47,1,0)*(IF($P95=\"\",0,1))*(IF($P95=\"Contract\",0,1))","v":0},{"$f":"IF(C95=Post!B$48,1,0)*(IF(P95=\"\",0,1))*(IF($P95=\"Contract\",0,1))","v":0},{"$f":"IF(C95=Post!B$49,1,0)*(IF(P95=\"\",0,1))*(IF($P95=\"Contract\",0,1))","v":0},{"$f":"IF(C95=Post!B$50,1,0)*(IF(P95=\"\",0,1))*(IF($P95=\"Contract\",0,1))","v":0},0,0,0,0,0,0,0,0,0,0,0,0,0,0,0,0,0,0,0,0,0,0,0,0,0,0,0,0,0,0,0,0,0,0,0,0,0,0,0,0,0,0,0,0,0,0]
["",{"$f":"IF(C96=\"\",\"\",Database!H$5)","v":""},null,null,null,null,null,null,null,null,null,null,null,null,null,null,"",null,null,0,0,0,0,0,"",0,0,0,0,0,0,0,0,0,0,"",{"$f":"IF($C96=Post!$B$11,1,0)*(IF($P96=\"\",0,1))*(IF($P96=\"Contract\",0,1))","v":0},{"$f":"IF($C96=Post!$B$12,1,0)*(IF($P96=\"\",0,1))*(IF($P96=\"Contract\",0,1))","v":0},{"$f":"IF($C96=Post!$B$13,1,0)*(IF($P96=\"\",0,1))*(IF($P96=\"Contract\",0,1))","v":0},{"$f":"IF($C96=Post!$B$14,1,0)*(IF($P96=\"\",0,1))*(IF($P96=\"Contract\",0,1))","v":0},{"$f":"IF($C96=Post!$B$15,1,0)*(IF($P96=\"\",0,1))*(IF($P96=\"Contract\",0,1))","v":0},{"$f":"IF($C96=Post!$B$16,1,0)*(IF($P96=\"\",0,1))*(IF($P96=\"Contract\",0,1))","v":0},{"$f":"IF($C96=Post!$B$17,1,0)*(IF($P96=\"\",0,1))*(IF($P96=\"Contract\",0,1))","v":0},{"$f":"IF($C96=Post!$B$18,1,0)*(IF($P96=\"\",0,1))*(IF($P96=\"Contract\",0,1))","v":0},{"$f":"IF($C96=Post!$B$19,1,0)*(IF($P96=\"\",0,1))*(IF($P96=\"Contract\",0,1))","v":0},{"$f":"IF($C96=Post!$B$20,1,0)*(IF($P96=\"\",0,1))*(IF($P96=\"Contract\",0,1))","v":0},{"$f":"IF($C96=Post!$B$21,1,0)*(IF($P96=\"\",0,1))*(IF($P96=\"Contract\",0,1))","v":0},{"$f":"IF($C96=Post!$B$2,1,0)*(IF($P96=\"\",0,1))*(IF($P96=\"Contract\",0,1))","v":0},{"$f":"IF($C96=Post!$B$23,1,0)*(IF($P96=\"\",0,1))*(IF($P96=\"Contract\",0,1))","v":0},{"$f":"IF($C96=Post!$B$24,1,0)*(IF($P96=\"\",0,1))*(IF($P96=\"Contract\",0,1))","v":0},{"$f":"IF($C96=Post!$B$25,1,0)*(IF($P96=\"\",0,1))*(IF($P96=\"Contract\",0,1))","v":0},{"$f":"IF($C96=Post!$B$26,1,0)*(IF($P96=\"\",0,1))*(IF($P96=\"Contract\",0,1))","v":0},{"$f":"IF($C96=Post!$B$27,1,0)*(IF($P96=\"\",0,1))*(IF($P96=\"Contract\",0,1))","v":0},{"$f":"IF($C96=Post!$B$28,1,0)*(IF($P96=\"\",0,1))*(IF($P96=\"Contract\",0,1))","v":0},{"$f":"IF($C96=Post!$B$29,1,0)*(IF($P96=\"\",0,1))*(IF($P96=\"Contract\",0,1))","v":0},{"$f":"IF($C96=Post!$B$30,1,0)*(IF($P96=\"\",0,1))*(IF($P96=\"Contract\",0,1))","v":0},{"$f":"IF($C96=Post!$B$31,1,0)*(IF($P96=\"\",0,1))*(IF($P96=\"Contract\",0,1))","v":0},{"$f":"IF($C96=Post!$B$32,1,0)*(IF($P96=\"\",0,1))*(IF($P96=\"Contract\",0,1))","v":0},{"$f":"IF($C96=Post!$B$33,1,0)*(IF($P96=\"\",0,1))*(IF($P96=\"Contract\",0,1))","v":0},{"$f":"IF($C96=Post!$B$34,1,0)*(IF($P96=\"\",0,1))*(IF($P96=\"Contract\",0,1))","v":0},{"$f":"IF($C96=Post!$B$35,1,0)*(IF($P96=\"\",0,1))*(IF($P96=\"Contract\",0,1))","v":0},{"$f":"IF($C96=Post!$B$36,1,0)*(IF($P96=\"\",0,1))*(IF($P96=\"Contract\",0,1))","v":0},{"$f":"IF($C96=Post!$B$37,1,0)*(IF($P96=\"\",0,1))*(IF($P96=\"Contract\",0,1))","v":0},{"$f":"IF($C96=Post!$B$38,1,0)*(IF($P96=\"\",0,1))*(IF($P96=\"Contract\",0,1))","v":0},{"$f":"IF($C96=Post!$B$39,1,0)*(IF($P96=\"\",0,1))*(IF($P96=\"Contract\",0,1))","v":0},{"$f":"IF($C96=Post!$B$40,1,0)*(IF($P96=\"\",0,1))*(IF($P96=\"Contract\",0,1))","v":0},{"$f":"IF($C96=Post!$B$41,1,0)*(IF($P96=\"\",0,1))*(IF($P96=\"Contract\",0,1))","v":0},{"$f":"IF($C96=Post!$B$42,1,0)*(IF($P96=\"\",0,1))*(IF($P96=\"Contract\",0,1))","v":0},{"$f":"IF($C96=Post!$B$43,1,0)*(IF($P96=\"\",0,1))*(IF($P96=\"Contract\",0,1))","v":0},{"$f":"IF($C96=Post!$B$44,1,0)*(IF($P96=\"\",0,1))*(IF($P96=\"Contract\",0,1))","v":0},{"$f":"IF($C96=Post!$B$45,1,0)*(IF($P96=\"\",0,1))*(IF($P96=\"Contract\",0,1))","v":0},{"$f":"IF($C96=Post!$B$46,1,0)*(IF($P96=\"\",0,1))*(IF($P96=\"Contract\",0,1))","v":0},{"$f":"IF($C96=Post!$B$47,1,0)*(IF($P96=\"\",0,1))*(IF($P96=\"Contract\",0,1))","v":0},{"$f":"IF(C96=Post!B$48,1,0)*(IF(P96=\"\",0,1))*(IF($P96=\"Contract\",0,1))","v":0},{"$f":"IF(C96=Post!B$49,1,0)*(IF(P96=\"\",0,1))*(IF($P96=\"Contract\",0,1))","v":0},{"$f":"IF(C96=Post!B$50,1,0)*(IF(P96=\"\",0,1))*(IF($P96=\"Contract\",0,1))","v":0},0,0,0,0,0,0,0,0,0,0,0,0,0,0,0,0,0,0,0,0,0,0,0,0,0,0,0,0,0,0,0,0,0,0,0,0,0,0,0,0,0,0,0,0,0,0]
["",{"$f":"IF(C97=\"\",\"\",Database!H$5)","v":""},null,null,null,null,null,null,null,null,null,null,null,null,null,null,"",null,null,0,0,0,0,0,"",0,0,0,0,0,0,0,0,0,0,"",{"$f":"IF($C97=Post!$B$11,1,0)*(IF($P97=\"\",0,1))*(IF($P97=\"Contract\",0,1))","v":0},{"$f":"IF($C97=Post!$B$12,1,0)*(IF($P97=\"\",0,1))*(IF($P97=\"Contract\",0,1))","v":0},{"$f":"IF($C97=Post!$B$13,1,0)*(IF($P97=\"\",0,1))*(IF($P97=\"Contract\",0,1))","v":0},{"$f":"IF($C97=Post!$B$14,1,0)*(IF($P97=\"\",0,1))*(IF($P97=\"Contract\",0,1))","v":0},{"$f":"IF($C97=Post!$B$15,1,0)*(IF($P97=\"\",0,1))*(IF($P97=\"Contract\",0,1))","v":0},{"$f":"IF($C97=Post!$B$16,1,0)*(IF($P97=\"\",0,1))*(IF($P97=\"Contract\",0,1))","v":0},{"$f":"IF($C97=Post!$B$17,1,0)*(IF($P97=\"\",0,1))*(IF($P97=\"Contract\",0,1))","v":0},{"$f":"IF($C97=Post!$B$18,1,0)*(IF($P97=\"\",0,1))*(IF($P97=\"Contract\",0,1))","v":0},{"$f":"IF($C97=Post!$B$19,1,0)*(IF($P97=\"\",0,1))*(IF($P97=\"Contract\",0,1))","v":0},{"$f":"IF($C97=Post!$B$20,1,0)*(IF($P97=\"\",0,1))*(IF($P97=\"Contract\",0,1))","v":0},{"$f":"IF($C97=Post!$B$21,1,0)*(IF($P97=\"\",0,1))*(IF($P97=\"Contract\",0,1))","v":0},{"$f":"IF($C97=Post!$B$2,1,0)*(IF($P97=\"\",0,1))*(IF($P97=\"Contract\",0,1))","v":0},{"$f":"IF($C97=Post!$B$23,1,0)*(IF($P97=\"\",0,1))*(IF($P97=\"Contract\",0,1))","v":0},{"$f":"IF($C97=Post!$B$24,1,0)*(IF($P97=\"\",0,1))*(IF($P97=\"Contract\",0,1))","v":0},{"$f":"IF($C97=Post!$B$25,1,0)*(IF($P97=\"\",0,1))*(IF($P97=\"Contract\",0,1))","v":0},{"$f":"IF($C97=Post!$B$26,1,0)*(IF($P97=\"\",0,1))*(IF($P97=\"Contract\",0,1))","v":0},{"$f":"IF($C97=Post!$B$27,1,0)*(IF($P97=\"\",0,1))*(IF($P97=\"Contract\",0,1))","v":0},{"$f":"IF($C97=Post!$B$28,1,0)*(IF($P97=\"\",0,1))*(IF($P97=\"Contract\",0,1))","v":0},{"$f":"IF($C97=Post!$B$29,1,0)*(IF($P97=\"\",0,1))*(IF($P97=\"Contract\",0,1))","v":0},{"$f":"IF($C97=Post!$B$30,1,0)*(IF($P97=\"\",0,1))*(IF($P97=\"Contract\",0,1))","v":0},{"$f":"IF($C97=Post!$B$31,1,0)*(IF($P97=\"\",0,1))*(IF($P97=\"Contract\",0,1))","v":0},{"$f":"IF($C97=Post!$B$32,1,0)*(IF($P97=\"\",0,1))*(IF($P97=\"Contract\",0,1))","v":0},{"$f":"IF($C97=Post!$B$33,1,0)*(IF($P97=\"\",0,1))*(IF($P97=\"Contract\",0,1))","v":0},{"$f":"IF($C97=Post!$B$34,1,0)*(IF($P97=\"\",0,1))*(IF($P97=\"Contract\",0,1))","v":0},{"$f":"IF($C97=Post!$B$35,1,0)*(IF($P97=\"\",0,1))*(IF($P97=\"Contract\",0,1))","v":0},{"$f":"IF($C97=Post!$B$36,1,0)*(IF($P97=\"\",0,1))*(IF($P97=\"Contract\",0,1))","v":0},{"$f":"IF($C97=Post!$B$37,1,0)*(IF($P97=\"\",0,1))*(IF($P97=\"Contract\",0,1))","v":0},{"$f":"IF($C97=Post!$B$38,1,0)*(IF($P97=\"\",0,1))*(IF($P97=\"Contract\",0,1))","v":0},{"$f":"IF($C97=Post!$B$39,1,0)*(IF($P97=\"\",0,1))*(IF($P97=\"Contract\",0,1))","v":0},{"$f":"IF($C97=Post!$B$40,1,0)*(IF($P97=\"\",0,1))*(IF($P97=\"Contract\",0,1))","v":0},{"$f":"IF($C97=Post!$B$41,1,0)*(IF($P97=\"\",0,1))*(IF($P97=\"Contract\",0,1))","v":0},{"$f":"IF($C97=Post!$B$42,1,0)*(IF($P97=\"\",0,1))*(IF($P97=\"Contract\",0,1))","v":0},{"$f":"IF($C97=Post!$B$43,1,0)*(IF($P97=\"\",0,1))*(IF($P97=\"Contract\",0,1))","v":0},{"$f":"IF($C97=Post!$B$44,1,0)*(IF($P97=\"\",0,1))*(IF($P97=\"Contract\",0,1))","v":0},{"$f":"IF($C97=Post!$B$45,1,0)*(IF($P97=\"\",0,1))*(IF($P97=\"Contract\",0,1))","v":0},{"$f":"IF($C97=Post!$B$46,1,0)*(IF($P97=\"\",0,1))*(IF($P97=\"Contract\",0,1))","v":0},{"$f":"IF($C97=Post!$B$47,1,0)*(IF($P97=\"\",0,1))*(IF($P97=\"Contract\",0,1))","v":0},{"$f":"IF(C97=Post!B$48,1,0)*(IF(P97=\"\",0,1))*(IF($P97=\"Contract\",0,1))","v":0},{"$f":"IF(C97=Post!B$49,1,0)*(IF(P97=\"\",0,1))*(IF($P97=\"Contract\",0,1))","v":0},{"$f":"IF(C97=Post!B$50,1,0)*(IF(P97=\"\",0,1))*(IF($P97=\"Contract\",0,1))","v":0},0,0,0,0,0,0,0,0,0,0,0,0,0,0,0,0,0,0,0,0,0,0,0,0,0,0,0,0,0,0,0,0,0,0,0,0,0,0,0,0,0,0,0,0,0,0]
["",{"$f":"IF(C98=\"\",\"\",Database!H$5)","v":""},null,null,null,null,null,null,null,null,null,null,null,null,null,null,"",null,null,0,0,0,0,0,"",0,0,0,0,0,0,0,0,0,0,"",{"$f":"IF($C98=Post!$B$11,1,0)*(IF($P98=\"\",0,1))*(IF($P98=\"Contract\",0,1))","v":0},{"$f":"IF($C98=Post!$B$12,1,0)*(IF($P98=\"\",0,1))*(IF($P98=\"Contract\",0,1))","v":0},{"$f":"IF($C98=Post!$B$13,1,0)*(IF($P98=\"\",0,1))*(IF($P98=\"Contract\",0,1))","v":0},{"$f":"IF($C98=Post!$B$14,1,0)*(IF($P98=\"\",0,1))*(IF($P98=\"Contract\",0,1))","v":0},{"$f":"IF($C98=Post!$B$15,1,0)*(IF($P98=\"\",0,1))*(IF($P98=\"Contract\",0,1))","v":0},{"$f":"IF($C98=Post!$B$16,1,0)*(IF($P98=\"\",0,1))*(IF($P98=\"Contract\",0,1))","v":0},{"$f":"IF($C98=Post!$B$17,1,0)*(IF($P98=\"\",0,1))*(IF($P98=\"Contract\",0,1))","v":0},{"$f":"IF($C98=Post!$B$18,1,0)*(IF($P98=\"\",0,1))*(IF($P98=\"Contract\",0,1))","v":0},{"$f":"IF($C98=Post!$B$19,1,0)*(IF($P98=\"\",0,1))*(IF($P98=\"Contract\",0,1))","v":0},{"$f":"IF($C98=Post!$B$20,1,0)*(IF($P98=\"\",0,1))*(IF($P98=\"Contract\",0,1))","v":0},{"$f":"IF($C98=Post!$B$21,1,0)*(IF($P98=\"\",0,1))*(IF($P98=\"Contract\",0,1))","v":0},{"$f":"IF($C98=Post!$B$2,1,0)*(IF($P98=\"\",0,1))*(IF($P98=\"Contract\",0,1))","v":0},{"$f":"IF($C98=Post!$B$23,1,0)*(IF($P98=\"\",0,1))*(IF($P98=\"Contract\",0,1))","v":0},{"$f":"IF($C98=Post!$B$24,1,0)*(IF($P98=\"\",0,1))*(IF($P98=\"Contract\",0,1))","v":0},{"$f":"IF($C98=Post!$B$25,1,0)*(IF($P98=\"\",0,1))*(IF($P98=\"Contract\",0,1))","v":0},{"$f":"IF($C98=Post!$B$26,1,0)*(IF($P98=\"\",0,1))*(IF($P98=\"Contract\",0,1))","v":0},{"$f":"IF($C98=Post!$B$27,1,0)*(IF($P98=\"\",0,1))*(IF($P98=\"Contract\",0,1))","v":0},{"$f":"IF($C98=Post!$B$28,1,0)*(IF($P98=\"\",0,1))*(IF($P98=\"Contract\",0,1))","v":0},{"$f":"IF($C98=Post!$B$29,1,0)*(IF($P98=\"\",0,1))*(IF($P98=\"Contract\",0,1))","v":0},{"$f":"IF($C98=Post!$B$30,1,0)*(IF($P98=\"\",0,1))*(IF($P98=\"Contract\",0,1))","v":0},{"$f":"IF($C98=Post!$B$31,1,0)*(IF($P98=\"\",0,1))*(IF($P98=\"Contract\",0,1))","v":0},{"$f":"IF($C98=Post!$B$32,1,0)*(IF($P98=\"\",0,1))*(IF($P98=\"Contract\",0,1))","v":0},{"$f":"IF($C98=Post!$B$33,1,0)*(IF($P98=\"\",0,1))*(IF($P98=\"Contract\",0,1))","v":0},{"$f":"IF($C98=Post!$B$34,1,0)*(IF($P98=\"\",0,1))*(IF($P98=\"Contract\",0,1))","v":0},{"$f":"IF($C98=Post!$B$35,1,0)*(IF($P98=\"\",0,1))*(IF($P98=\"Contract\",0,1))","v":0},{"$f":"IF($C98=Post!$B$36,1,0)*(IF($P98=\"\",0,1))*(IF($P98=\"Contract\",0,1))","v":0},{"$f":"IF($C98=Post!$B$37,1,0)*(IF($P98=\"\",0,1))*(IF($P98=\"Contract\",0,1))","v":0},{"$f":"IF($C98=Post!$B$38,1,0)*(IF($P98=\"\",0,1))*(IF($P98=\"Contract\",0,1))","v":0},{"$f":"IF($C98=Post!$B$39,1,0)*(IF($P98=\"\",0,1))*(IF($P98=\"Contract\",0,1))","v":0},{"$f":"IF($C98=Post!$B$40,1,0)*(IF($P98=\"\",0,1))*(IF($P98=\"Contract\",0,1))","v":0},{"$f":"IF($C98=Post!$B$41,1,0)*(IF($P98=\"\",0,1))*(IF($P98=\"Contract\",0,1))","v":0},{"$f":"IF($C98=Post!$B$42,1,0)*(IF($P98=\"\",0,1))*(IF($P98=\"Contract\",0,1))","v":0},{"$f":"IF($C98=Post!$B$43,1,0)*(IF($P98=\"\",0,1))*(IF($P98=\"Contract\",0,1))","v":0},{"$f":"IF($C98=Post!$B$44,1,0)*(IF($P98=\"\",0,1))*(IF($P98=\"Contract\",0,1))","v":0},{"$f":"IF($C98=Post!$B$45,1,0)*(IF($P98=\"\",0,1))*(IF($P98=\"Contract\",0,1))","v":0},{"$f":"IF($C98=Post!$B$46,1,0)*(IF($P98=\"\",0,1))*(IF($P98=\"Contract\",0,1))","v":0},{"$f":"IF($C98=Post!$B$47,1,0)*(IF($P98=\"\",0,1))*(IF($P98=\"Contract\",0,1))","v":0},{"$f":"IF(C98=Post!B$48,1,0)*(IF(P98=\"\",0,1))*(IF($P98=\"Contract\",0,1))","v":0},{"$f":"IF(C98=Post!B$49,1,0)*(IF(P98=\"\",0,1))*(IF($P98=\"Contract\",0,1))","v":0},{"$f":"IF(C98=Post!B$50,1,0)*(IF(P98=\"\",0,1))*(IF($P98=\"Contract\",0,1))","v":0},0,0,0,0,0,0,0,0,0,0,0,0,0,0,0,0,0,0,0,0,0,0,0,0,0,0,0,0,0,0,0,0,0,0,0,0,0,0,0,0,0,0,0,0,0,0]
["",{"$f":"IF(C99=\"\",\"\",Database!H$5)","v":""},null,null,null,null,null,null,null,null,null,null,null,null,null,null,"",null,null,0,0,0,0,0,"",0,0,0,0,0,0,0,0,0,0,"",{"$f":"IF($C99=Post!$B$11,1,0)*(IF($P99=\"\",0,1))*(IF($P99=\"Contract\",0,1))","v":0},{"$f":"IF($C99=Post!$B$12,1,0)*(IF($P99=\"\",0,1))*(IF($P99=\"Contract\",0,1))","v":0},{"$f":"IF($C99=Post!$B$13,1,0)*(IF($P99=\"\",0,1))*(IF($P99=\"Contract\",0,1))","v":0},{"$f":"IF($C99=Post!$B$14,1,0)*(IF($P99=\"\",0,1))*(IF($P99=\"Contract\",0,1))","v":0},{"$f":"IF($C99=Post!$B$15,1,0)*(IF($P99=\"\",0,1))*(IF($P99=\"Contract\",0,1))","v":0},{"$f":"IF($C99=Post!$B$16,1,0)*(IF($P99=\"\",0,1))*(IF($P99=\"Contract\",0,1))","v":0},{"$f":"IF($C99=Post!$B$17,1,0)*(IF($P99=\"\",0,1))*(IF($P99=\"Contract\",0,1))","v":0},{"$f":"IF($C99=Post!$B$18,1,0)*(IF($P99=\"\",0,1))*(IF($P99=\"Contract\",0,1))","v":0},{"$f":"IF($C99=Post!$B$19,1,0)*(IF($P99=\"\",0,1))*(IF($P99=\"Contract\",0,1))","v":0},{"$f":"IF($C99=Post!$B$20,1,0)*(IF($P99=\"\",0,1))*(IF($P99=\"Contract\",0,1))","v":0},{"$f":"IF($C99=Post!$B$21,1,0)*(IF($P99=\"\",0,1))*(IF($P99=\"Contract\",0,1))","v":0},{"$f":"IF($C99=Post!$B$2,1,0)*(IF($P99=\"\",0,1))*(IF($P99=\"Contract\",0,1))","v":0},{"$f":"IF($C99=Post!$B$23,1,0)*(IF($P99=\"\",0,1))*(IF($P99=\"Contract\",0,1))","v":0},{"$f":"IF($C99=Post!$B$24,1,0)*(IF($P99=\"\",0,1))*(IF($P99=\"Contract\",0,1))","v":0},{"$f":"IF($C99=Post!$B$25,1,0)*(IF($P99=\"\",0,1))*(IF($P99=\"Contract\",0,1))","v":0},{"$f":"IF($C99=Post!$B$26,1,0)*(IF($P99=\"\",0,1))*(IF($P99=\"Contract\",0,1))","v":0},{"$f":"IF($C99=Post!$B$27,1,0)*(IF($P99=\"\",0,1))*(IF($P99=\"Contract\",0,1))","v":0},{"$f":"IF($C99=Post!$B$28,1,0)*(IF($P99=\"\",0,1))*(IF($P99=\"Contract\",0,1))","v":0},{"$f":"IF($C99=Post!$B$29,1,0)*(IF($P99=\"\",0,1))*(IF($P99=\"Contract\",0,1))","v":0},{"$f":"IF($C99=Post!$B$30,1,0)*(IF($P99=\"\",0,1))*(IF($P99=\"Contract\",0,1))","v":0},{"$f":"IF($C99=Post!$B$31,1,0)*(IF($P99=\"\",0,1))*(IF($P99=\"Contract\",0,1))","v":0},{"$f":"IF($C99=Post!$B$32,1,0)*(IF($P99=\"\",0,1))*(IF($P99=\"Contract\",0,1))","v":0},{"$f":"IF($C99=Post!$B$33,1,0)*(IF($P99=\"\",0,1))*(IF($P99=\"Contract\",0,1))","v":0},{"$f":"IF($C99=Post!$B$34,1,0)*(IF($P99=\"\",0,1))*(IF($P99=\"Contract\",0,1))","v":0},{"$f":"IF($C99=Post!$B$35,1,0)*(IF($P99=\"\",0,1))*(IF($P99=\"Contract\",0,1))","v":0},{"$f":"IF($C99=Post!$B$36,1,0)*(IF($P99=\"\",0,1))*(IF($P99=\"Contract\",0,1))","v":0},{"$f":"IF($C99=Post!$B$37,1,0)*(IF($P99=\"\",0,1))*(IF($P99=\"Contract\",0,1))","v":0},{"$f":"IF($C99=Post!$B$38,1,0)*(IF($P99=\"\",0,1))*(IF($P99=\"Contract\",0,1))","v":0},{"$f":"IF($C99=Post!$B$39,1,0)*(IF($P99=\"\",0,1))*(IF($P99=\"Contract\",0,1))","v":0},{"$f":"IF($C99=Post!$B$40,1,0)*(IF($P99=\"\",0,1))*(IF($P99=\"Contract\",0,1))","v":0},{"$f":"IF($C99=Post!$B$41,1,0)*(IF($P99=\"\",0,1))*(IF($P99=\"Contract\",0,1))","v":0},{"$f":"IF($C99=Post!$B$42,1,0)*(IF($P99=\"\",0,1))*(IF($P99=\"Contract\",0,1))","v":0},{"$f":"IF($C99=Post!$B$43,1,0)*(IF($P99=\"\",0,1))*(IF($P99=\"Contract\",0,1))","v":0},{"$f":"IF($C99=Post!$B$44,1,0)*(IF($P99=\"\",0,1))*(IF($P99=\"Contract\",0,1))","v":0},{"$f":"IF($C99=Post!$B$45,1,0)*(IF($P99=\"\",0,1))*(IF($P99=\"Contract\",0,1))","v":0},{"$f":"IF($C99=Post!$B$46,1,0)*(IF($P99=\"\",0,1))*(IF($P99=\"Contract\",0,1))","v":0},{"$f":"IF($C99=Post!$B$47,1,0)*(IF($P99=\"\",0,1))*(IF($P99=\"Contract\",0,1))","v":0},{"$f":"IF(C99=Post!B$48,1,0)*(IF(P99=\"\",0,1))*(IF($P99=\"Contract\",0,1))","v":0},{"$f":"IF(C99=Post!B$49,1,0)*(IF(P99=\"\",0,1))*(IF($P99=\"Contract\",0,1))","v":0},{"$f":"IF(C99=Post!B$50,1,0)*(IF(P99=\"\",0,1))*(IF($P99=\"Contract\",0,1))","v":0},0,0,0,0,0,0,0,0,0,0,0,0,0,0,0,0,0,0,0,0,0,0,0,0,0,0,0,0,0,0,0,0,0,0,0,0,0,0,0,0,0,0,0,0,0,0]
["",{"$f":"IF(C100=\"\",\"\",Database!H$5)","v":""},null,null,null,null,null,null,null,null,null,null,null,null,null,null,"",null,null,0,0,0,0,0,"",0,0,0,0,0,0,0,0,0,0,"",{"$f":"IF($C100=Post!$B$11,1,0)*(IF($P100=\"\",0,1))*(IF($P100=\"Contract\",0,1))","v":0},{"$f":"IF($C100=Post!$B$12,1,0)*(IF($P100=\"\",0,1))*(IF($P100=\"Contract\",0,1))","v":0},{"$f":"IF($C100=Post!$B$13,1,0)*(IF($P100=\"\",0,1))*(IF($P100=\"Contract\",0,1))","v":0},{"$f":"IF($C100=Post!$B$14,1,0)*(IF($P100=\"\",0,1))*(IF($P100=\"Contract\",0,1))","v":0},{"$f":"IF($C100=Post!$B$15,1,0)*(IF($P100=\"\",0,1))*(IF($P100=\"Contract\",0,1))","v":0},{"$f":"IF($C100=Post!$B$16,1,0)*(IF($P100=\"\",0,1))*(IF($P100=\"Contract\",0,1))","v":0},{"$f":"IF($C100=Post!$B$17,1,0)*(IF($P100=\"\",0,1))*(IF($P100=\"Contract\",0,1))","v":0},{"$f":"IF($C100=Post!$B$18,1,0)*(IF($P100=\"\",0,1))*(IF($P100=\"Contract\",0,1))","v":0},{"$f":"IF($C100=Post!$B$19,1,0)*(IF($P100=\"\",0,1))*(IF($P100=\"Contract\",0,1))","v":0},{"$f":"IF($C100=Post!$B$20,1,0)*(IF($P100=\"\",0,1))*(IF($P100=\"Contract\",0,1))","v":0},{"$f":"IF($C100=Post!$B$21,1,0)*(IF($P100=\"\",0,1))*(IF($P100=\"Contract\",0,1))","v":0},{"$f":"IF($C100=Post!$B$2,1,0)*(IF($P100=\"\",0,1))*(IF($P100=\"Contract\",0,1))","v":0},{"$f":"IF($C100=Post!$B$23,1,0)*(IF($P100=\"\",0,1))*(IF($P100=\"Contract\",0,1))","v":0},{"$f":"IF($C100=Post!$B$24,1,0)*(IF($P100=\"\",0,1))*(IF($P100=\"Contract\",0,1))","v":0},{"$f":"IF($C100=Post!$B$25,1,0)*(IF($P100=\"\",0,1))*(IF($P100=\"Contract\",0,1))","v":0},{"$f":"IF($C100=Post!$B$26,1,0)*(IF($P100=\"\",0,1))*(IF($P100=\"Contract\",0,1))","v":0},{"$f":"IF($C100=Post!$B$27,1,0)*(IF($P100=\"\",0,1))*(IF($P100=\"Contract\",0,1))","v":0},{"$f":"IF($C100=Post!$B$28,1,0)*(IF($P100=\"\",0,1))*(IF($P100=\"Contract\",0,1))","v":0},{"$f":"IF($C100=Post!$B$29,1,0)*(IF($P100=\"\",0,1))*(IF($P100=\"Contract\",0,1))","v":0},{"$f":"IF($C100=Post!$B$30,1,0)*(IF($P100=\"\",0,1))*(IF($P100=\"Contract\",0,1))","v":0},{"$f":"IF($C100=Post!$B$31,1,0)*(IF($P100=\"\",0,1))*(IF($P100=\"Contract\",0,1))","v":0},{"$f":"IF($C100=Post!$B$32,1,0)*(IF($P100=\"\",0,1))*(IF($P100=\"Contract\",0,1))","v":0},{"$f":"IF($C100=Post!$B$33,1,0)*(IF($P100=\"\",0,1))*(IF($P100=\"Contract\",0,1))","v":0},{"$f":"IF($C100=Post!$B$34,1,0)*(IF($P100=\"\",0,1))*(IF($P100=\"Contract\",0,1))","v":0},{"$f":"IF($C100=Post!$B$35,1,0)*(IF($P100=\"\",0,1))*(IF($P100=\"Contract\",0,1))","v":0},{"$f":"IF($C100=Post!$B$36,1,0)*(IF($P100=\"\",0,1))*(IF($P100=\"Contract\",0,1))","v":0},{"$f":"IF($C100=Post!$B$37,1,0)*(IF($P100=\"\",0,1))*(IF($P100=\"Contract\",0,1))","v":0},{"$f":"IF($C100=Post!$B$38,1,0)*(IF($P100=\"\",0,1))*(IF($P100=\"Contract\",0,1))","v":0},{"$f":"IF($C100=Post!$B$39,1,0)*(IF($P100=\"\",0,1))*(IF($P100=\"Contract\",0,1))","v":0},{"$f":"IF($C100=Post!$B$40,1,0)*(IF($P100=\"\",0,1))*(IF($P100=\"Contract\",0,1))","v":0},{"$f":"IF($C100=Post!$B$41,1,0)*(IF($P100=\"\",0,1))*(IF($P100=\"Contract\",0,1))","v":0},{"$f":"IF($C100=Post!$B$42,1,0)*(IF($P100=\"\",0,1))*(IF($P100=\"Contract\",0,1))","v":0},{"$f":"IF($C100=Post!$B$43,1,0)*(IF($P100=\"\",0,1))*(IF($P100=\"Contract\",0,1))","v":0},{"$f":"IF($C100=Post!$B$44,1,0)*(IF($P100=\"\",0,1))*(IF($P100=\"Contract\",0,1))","v":0},{"$f":"IF($C100=Post!$B$45,1,0)*(IF($P100=\"\",0,1))*(IF($P100=\"Contract\",0,1))","v":0},{"$f":"IF($C100=Post!$B$46,1,0)*(IF($P100=\"\",0,1))*(IF($P100=\"Contract\",0,1))","v":0},{"$f":"IF($C100=Post!$B$47,1,0)*(IF($P100=\"\",0,1))*(IF($P100=\"Contract\",0,1))","v":0},{"$f":"IF(C100=Post!B$48,1,0)*(IF(P100=\"\",0,1))*(IF($P100=\"Contract\",0,1))","v":0},{"$f":"IF(C100=Post!B$49,1,0)*(IF(P100=\"\",0,1))*(IF($P100=\"Contract\",0,1))","v":0},{"$f":"IF(C100=Post!B$50,1,0)*(IF(P100=\"\",0,1))*(IF($P100=\"Contract\",0,1))","v":0},0,0,0,0,0,0,0,0,0,0,0,0,0,0,0,0,0,0,0,0,0,0,0,0,0,0,0,0,0,0,0,0,0,0,0,0,0,0,0,0,0,0,0,0,0,0]
["",{"$f":"IF(C101=\"\",\"\",Database!H$5)","v":""},null,null,null,null,null,null,null,null,null,null,null,null,null,null,"",null,null,0,0,0,0,0,"",0,0,0,0,0,0,0,0,0,0,"",{"$f":"IF($C101=Post!$B$11,1,0)*(IF($P101=\"\",0,1))*(IF($P101=\"Contract\",0,1))","v":0},{"$f":"IF($C101=Post!$B$12,1,0)*(IF($P101=\"\",0,1))*(IF($P101=\"Contract\",0,1))","v":0},{"$f":"IF($C101=Post!$B$13,1,0)*(IF($P101=\"\",0,1))*(IF($P101=\"Contract\",0,1))","v":0},{"$f":"IF($C101=Post!$B$14,1,0)*(IF($P101=\"\",0,1))*(IF($P101=\"Contract\",0,1))","v":0},{"$f":"IF($C101=Post!$B$15,1,0)*(IF($P101=\"\",0,1))*(IF($P101=\"Contract\",0,1))","v":0},{"$f":"IF($C101=Post!$B$16,1,0)*(IF($P101=\"\",0,1))*(IF($P101=\"Contract\",0,1))","v":0},{"$f":"IF($C101=Post!$B$17,1,0)*(IF($P101=\"\",0,1))*(IF($P101=\"Contract\",0,1))","v":0},{"$f":"IF($C101=Post!$B$18,1,0)*(IF($P101=\"\",0,1))*(IF($P101=\"Contract\",0,1))","v":0},{"$f":"IF($C101=Post!$B$19,1,0)*(IF($P101=\"\",0,1))*(IF($P101=\"Contract\",0,1))","v":0},{"$f":"IF($C101=Post!$B$20,1,0)*(IF($P101=\"\",0,1))*(IF($P101=\"Contract\",0,1))","v":0},{"$f":"IF($C101=Post!$B$21,1,0)*(IF($P101=\"\",0,1))*(IF($P101=\"Contract\",0,1))","v":0},{"$f":"IF($C101=Post!$B$2,1,0)*(IF($P101=\"\",0,1))*(IF($P101=\"Contract\",0,1))","v":0},{"$f":"IF($C101=Post!$B$23,1,0)*(IF($P101=\"\",0,1))*(IF($P101=\"Contract\",0,1))","v":0},{"$f":"IF($C101=Post!$B$24,1,0)*(IF($P101=\"\",0,1))*(IF($P101=\"Contract\",0,1))","v":0},{"$f":"IF($C101=Post!$B$25,1,0)*(IF($P101=\"\",0,1))*(IF($P101=\"Contract\",0,1))","v":0},{"$f":"IF($C101=Post!$B$26,1,0)*(IF($P101=\"\",0,1))*(IF($P101=\"Contract\",0,1))","v":0},{"$f":"IF($C101=Post!$B$27,1,0)*(IF($P101=\"\",0,1))*(IF($P101=\"Contract\",0,1))","v":0},{"$f":"IF($C101=Post!$B$28,1,0)*(IF($P101=\"\",0,1))*(IF($P101=\"Contract\",0,1))","v":0},{"$f":"IF($C101=Post!$B$29,1,0)*(IF($P101=\"\",0,1))*(IF($P101=\"Contract\",0,1))","v":0},{"$f":"IF($C101=Post!$B$30,1,0)*(IF($P101=\"\",0,1))*(IF($P101=\"Contract\",0,1))","v":0},{"$f":"IF($C101=Post!$B$31,1,0)*(IF($P101=\"\",0,1))*(IF($P101=\"Contract\",0,1))","v":0},{"$f":"IF($C101=Post!$B$32,1,0)*(IF($P101=\"\",0,1))*(IF($P101=\"Contract\",0,1))","v":0},{"$f":"IF($C101=Post!$B$33,1,0)*(IF($P101=\"\",0,1))*(IF($P101=\"Contract\",0,1))","v":0},{"$f":"IF($C101=Post!$B$34,1,0)*(IF($P101=\"\",0,1))*(IF($P101=\"Contract\",0,1))","v":0},{"$f":"IF($C101=Post!$B$35,1,0)*(IF($P101=\"\",0,1))*(IF($P101=\"Contract\",0,1))","v":0},{"$f":"IF($C101=Post!$B$36,1,0)*(IF($P101=\"\",0,1))*(IF($P101=\"Contract\",0,1))","v":0},{"$f":"IF($C101=Post!$B$37,1,0)*(IF($P101=\"\",0,1))*(IF($P101=\"Contract\",0,1))","v":0},{"$f":"IF($C101=Post!$B$38,1,0)*(IF($P101=\"\",0,1))*(IF($P101=\"Contract\",0,1))","v":0},{"$f":"IF($C101=Post!$B$39,1,0)*(IF($P101=\"\",0,1))*(IF($P101=\"Contract\",0,1))","v":0},{"$f":"IF($C101=Post!$B$40,1,0)*(IF($P101=\"\",0,1))*(IF($P101=\"Contract\",0,1))","v":0},{"$f":"IF($C101=Post!$B$41,1,0)*(IF($P101=\"\",0,1))*(IF($P101=\"Contract\",0,1))","v":0},{"$f":"IF($C101=Post!$B$42,1,0)*(IF($P101=\"\",0,1))*(IF($P101=\"Contract\",0,1))","v":0},{"$f":"IF($C101=Post!$B$43,1,0)*(IF($P101=\"\",0,1))*(IF($P101=\"Contract\",0,1))","v":0},{"$f":"IF($C101=Post!$B$44,1,0)*(IF($P101=\"\",0,1))*(IF($P101=\"Contract\",0,1))","v":0},{"$f":"IF($C101=Post!$B$45,1,0)*(IF($P101=\"\",0,1))*(IF($P101=\"Contract\",0,1))","v":0},{"$f":"IF($C101=Post!$B$46,1,0)*(IF($P101=\"\",0,1))*(IF($P101=\"Contract\",0,1))","v":0},{"$f":"IF($C101=Post!$B$47,1,0)*(IF($P101=\"\",0,1))*(IF($P101=\"Contract\",0,1))","v":0},{"$f":"IF(C101=Post!B$48,1,0)*(IF(P101=\"\",0,1))*(IF($P101=\"Contract\",0,1))","v":0},{"$f":"IF(C101=Post!B$49,1,0)*(IF(P101=\"\",0,1))*(IF($P101=\"Contract\",0,1))","v":0},{"$f":"IF(C101=Post!B$50,1,0)*(IF(P101=\"\",0,1))*(IF($P101=\"Contract\",0,1))","v":0},0,0,0,0,0,0,0,0,0,0,0,0,0,0,0,0,0,0,0,0,0,0,0,0,0,0,0,0,0,0,0,0,0,0,0,0,0,0,0,0,0,0,0,0,0,0]
["",{"$f":"IF(C102=\"\",\"\",Database!H$5)","v":""},null,null,null,null,null,null,null,null,null,null,null,null,null,null,"",null,null,0,0,0,0,0,"",0,0,0,0,0,0,0,0,0,0,"",{"$f":"IF($C102=Post!$B$11,1,0)*(IF($P102=\"\",0,1))*(IF($P102=\"Contract\",0,1))","v":0},{"$f":"IF($C102=Post!$B$12,1,0)*(IF($P102=\"\",0,1))*(IF($P102=\"Contract\",0,1))","v":0},{"$f":"IF($C102=Post!$B$13,1,0)*(IF($P102=\"\",0,1))*(IF($P102=\"Contract\",0,1))","v":0},{"$f":"IF($C102=Post!$B$14,1,0)*(IF($P102=\"\",0,1))*(IF($P102=\"Contract\",0,1))","v":0},{"$f":"IF($C102=Post!$B$15,1,0)*(IF($P102=\"\",0,1))*(IF($P102=\"Contract\",0,1))","v":0},{"$f":"IF($C102=Post!$B$16,1,0)*(IF($P102=\"\",0,1))*(IF($P102=\"Contract\",0,1))","v":0},{"$f":"IF($C102=Post!$B$17,1,0)*(IF($P102=\"\",0,1))*(IF($P102=\"Contract\",0,1))","v":0},{"$f":"IF($C102=Post!$B$18,1,0)*(IF($P102=\"\",0,1))*(IF($P102=\"Contract\",0,1))","v":0},{"$f":"IF($C102=Post!$B$19,1,0)*(IF($P102=\"\",0,1))*(IF($P102=\"Contract\",0,1))","v":0},{"$f":"IF($C102=Post!$B$20,1,0)*(IF($P102=\"\",0,1))*(IF($P102=\"Contract\",0,1))","v":0},{"$f":"IF($C102=Post!$B$21,1,0)*(IF($P102=\"\",0,1))*(IF($P102=\"Contract\",0,1))","v":0},{"$f":"IF($C102=Post!$B$2,1,0)*(IF($P102=\"\",0,1))*(IF($P102=\"Contract\",0,1))","v":0},{"$f":"IF($C102=Post!$B$23,1,0)*(IF($P102=\"\",0,1))*(IF($P102=\"Contract\",0,1))","v":0},{"$f":"IF($C102=Post!$B$24,1,0)*(IF($P102=\"\",0,1))*(IF($P102=\"Contract\",0,1))","v":0},{"$f":"IF($C102=Post!$B$25,1,0)*(IF($P102=\"\",0,1))*(IF($P102=\"Contract\",0,1))","v":0},{"$f":"IF($C102=Post!$B$26,1,0)*(IF($P102=\"\",0,1))*(IF($P102=\"Contract\",0,1))","v":0},{"$f":"IF($C102=Post!$B$27,1,0)*(IF($P102=\"\",0,1))*(IF($P102=\"Contract\",0,1))","v":0},{"$f":"IF($C102=Post!$B$28,1,0)*(IF($P102=\"\",0,1))*(IF($P102=\"Contract\",0,1))","v":0},{"$f":"IF($C102=Post!$B$29,1,0)*(IF($P102=\"\",0,1))*(IF($P102=\"Contract\",0,1))","v":0},{"$f":"IF($C102=Post!$B$30,1,0)*(IF($P102=\"\",0,1))*(IF($P102=\"Contract\",0,1))","v":0},{"$f":"IF($C102=Post!$B$31,1,0)*(IF($P102=\"\",0,1))*(IF($P102=\"Contract\",0,1))","v":0},{"$f":"IF($C102=Post!$B$32,1,0)*(IF($P102=\"\",0,1))*(IF($P102=\"Contract\",0,1))","v":0},{"$f":"IF($C102=Post!$B$33,1,0)*(IF($P102=\"\",0,1))*(IF($P102=\"Contract\",0,1))","v":0},{"$f":"IF($C102=Post!$B$34,1,0)*(IF($P102=\"\",0,1))*(IF($P102=\"Contract\",0,1))","v":0},{"$f":"IF($C102=Post!$B$35,1,0)*(IF($P102=\"\",0,1))*(IF($P102=\"Contract\",0,1))","v":0},{"$f":"IF($C102=Post!$B$36,1,0)*(IF($P102=\"\",0,1))*(IF($P102=\"Contract\",0,1))","v":0},{"$f":"IF($C102=Post!$B$37,1,0)*(IF($P102=\"\",0,1))*(IF($P102=\"Contract\",0,1))","v":0},{"$f":"IF($C102=Post!$B$38,1,0)*(IF($P102=\"\",0,1))*(IF($P102=\"Contract\",0,1))","v":0},{"$f":"IF($C102=Post!$B$39,1,0)*(IF($P102=\"\",0,1))*(IF($P102=\"Contract\",0,1))","v":0},{"$f":"IF($C102=Post!$B$40,1,0)*(IF($P102=\"\",0,1))*(IF($P102=\"Contract\",0,1))","v":0},{"$f":"IF($C102=Post!$B$41,1,0)*(IF($P102=\"\",0,1))*(IF($P102=\"Contract\",0,1))","v":0},{"$f":"IF($C102=Post!$B$42,1,0)*(IF($P102=\"\",0,1))*(IF($P102=\"Contract\",0,1))","v":0},{"$f":"IF($C102=Post!$B$43,1,0)*(IF($P102=\"\",0,1))*(IF($P102=\"Contract\",0,1))","v":0},{"$f":"IF($C102=Post!$B$44,1,0)*(IF($P102=\"\",0,1))*(IF($P102=\"Contract\",0,1))","v":0},{"$f":"IF($C102=Post!$B$45,1,0)*(IF($P102=\"\",0,1))*(IF($P102=\"Contract\",0,1))","v":0},{"$f":"IF($C102=Post!$B$46,1,0)*(IF($P102=\"\",0,1))*(IF($P102=\"Contract\",0,1))","v":0},{"$f":"IF($C102=Post!$B$47,1,0)*(IF($P102=\"\",0,1))*(IF($P102=\"Contract\",0,1))","v":0},{"$f":"IF(C102=Post!B$48,1,0)*(IF(P102=\"\",0,1))*(IF($P102=\"Contract\",0,1))","v":0},{"$f":"IF(C102=Post!B$49,1,0)*(IF(P102=\"\",0,1))*(IF($P102=\"Contract\",0,1))","v":0},{"$f":"IF(C102=Post!B$50,1,0)*(IF(P102=\"\",0,1))*(IF($P102=\"Contract\",0,1))","v":0},0,0,0,0,0,0,0,0,0,0,0,0,0,0,0,0,0,0,0,0,0,0,0,0,0,0,0,0,0,0,0,0,0,0,0,0,0,0,0,0,0,0,0,0,0,0]
["",{"$f":"IF(C103=\"\",\"\",Database!H$5)","v":""},null,null,null,null,null,null,null,null,null,null,null,null,null,null,"",null,null,0,0,0,0,0,"",0,0,0,0,0,0,0,0,0,0,"",{"$f":"IF($C103=Post!$B$11,1,0)*(IF($P103=\"\",0,1))*(IF($P103=\"Contract\",0,1))","v":0},{"$f":"IF($C103=Post!$B$12,1,0)*(IF($P103=\"\",0,1))*(IF($P103=\"Contract\",0,1))","v":0},{"$f":"IF($C103=Post!$B$13,1,0)*(IF($P103=\"\",0,1))*(IF($P103=\"Contract\",0,1))","v":0},{"$f":"IF($C103=Post!$B$14,1,0)*(IF($P103=\"\",0,1))*(IF($P103=\"Contract\",0,1))","v":0},{"$f":"IF($C103=Post!$B$15,1,0)*(IF($P103=\"\",0,1))*(IF($P103=\"Contract\",0,1))","v":0},{"$f":"IF($C103=Post!$B$16,1,0)*(IF($P103=\"\",0,1))*(IF($P103=\"Contract\",0,1))","v":0},{"$f":"IF($C103=Post!$B$17,1,0)*(IF($P103=\"\",0,1))*(IF($P103=\"Contract\",0,1))","v":0},{"$f":"IF($C103=Post!$B$18,1,0)*(IF($P103=\"\",0,1))*(IF($P103=\"Contract\",0,1))","v":0},{"$f":"IF($C103=Post!$B$19,1,0)*(IF($P103=\"\",0,1))*(IF($P103=\"Contract\",0,1))","v":0},{"$f":"IF($C103=Post!$B$20,1,0)*(IF($P103=\"\",0,1))*(IF($P103=\"Contract\",0,1))","v":0},{"$f":"IF($C103=Post!$B$21,1,0)*(IF($P103=\"\",0,1))*(IF($P103=\"Contract\",0,1))","v":0},{"$f":"IF($C103=Post!$B$2,1,0)*(IF($P103=\"\",0,1))*(IF($P103=\"Contract\",0,1))","v":0},{"$f":"IF($C103=Post!$B$23,1,0)*(IF($P103=\"\",0,1))*(IF($P103=\"Contract\",0,1))","v":0},{"$f":"IF($C103=Post!$B$24,1,0)*(IF($P103=\"\",0,1))*(IF($P103=\"Contract\",0,1))","v":0},{"$f":"IF($C103=Post!$B$25,1,0)*(IF($P103=\"\",0,1))*(IF($P103=\"Contract\",0,1))","v":0},{"$f":"IF($C103=Post!$B$26,1,0)*(IF($P103=\"\",0,1))*(IF($P103=\"Contract\",0,1))","v":0},{"$f":"IF($C103=Post!$B$27,1,0)*(IF($P103=\"\",0,1))*(IF($P103=\"Contract\",0,1))","v":0},{"$f":"IF($C103=Post!$B$28,1,0)*(IF($P103=\"\",0,1))*(IF($P103=\"Contract\",0,1))","v":0},{"$f":"IF($C103=Post!$B$29,1,0)*(IF($P103=\"\",0,1))*(IF($P103=\"Contract\",0,1))","v":0},{"$f":"IF($C103=Post!$B$30,1,0)*(IF($P103=\"\",0,1))*(IF($P103=\"Contract\",0,1))","v":0},{"$f":"IF($C103=Post!$B$31,1,0)*(IF($P103=\"\",0,1))*(IF($P103=\"Contract\",0,1))","v":0},{"$f":"IF($C103=Post!$B$32,1,0)*(IF($P103=\"\",0,1))*(IF($P103=\"Contract\",0,1))","v":0},{"$f":"IF($C103=Post!$B$33,1,0)*(IF($P103=\"\",0,1))*(IF($P103=\"Contract\",0,1))","v":0},{"$f":"IF($C103=Post!$B$34,1,0)*(IF($P103=\"\",0,1))*(IF($P103=\"Contract\",0,1))","v":0},{"$f":"IF($C103=Post!$B$35,1,0)*(IF($P103=\"\",0,1))*(IF($P103=\"Contract\",0,1))","v":0},{"$f":"IF($C103=Post!$B$36,1,0)*(IF($P103=\"\",0,1))*(IF($P103=\"Contract\",0,1))","v":0},{"$f":"IF($C103=Post!$B$37,1,0)*(IF($P103=\"\",0,1))*(IF($P103=\"Contract\",0,1))","v":0},{"$f":"IF($C103=Post!$B$38,1,0)*(IF($P103=\"\",0,1))*(IF($P103=\"Contract\",0,1))","v":0},{"$f":"IF($C103=Post!$B$39,1,0)*(IF($P103=\"\",0,1))*(IF($P103=\"Contract\",0,1))","v":0},{"$f":"IF($C103=Post!$B$40,1,0)*(IF($P103=\"\",0,1))*(IF($P103=\"Contract\",0,1))","v":0},{"$f":"IF($C103=Post!$B$41,1,0)*(IF($P103=\"\",0,1))*(IF($P103=\"Contract\",0,1))","v":0},{"$f":"IF($C103=Post!$B$42,1,0)*(IF($P103=\"\",0,1))*(IF($P103=\"Contract\",0,1))","v":0},{"$f":"IF($C103=Post!$B$43,1,0)*(IF($P103=\"\",0,1))*(IF($P103=\"Contract\",0,1))","v":0},{"$f":"IF($C103=Post!$B$44,1,0)*(IF($P103=\"\",0,1))*(IF($P103=\"Contract\",0,1))","v":0},{"$f":"IF($C103=Post!$B$45,1,0)*(IF($P103=\"\",0,1))*(IF($P103=\"Contract\",0,1))","v":0},{"$f":"IF($C103=Post!$B$46,1,0)*(IF($P103=\"\",0,1))*(IF($P103=\"Contract\",0,1))","v":0},{"$f":"IF($C103=Post!$B$47,1,0)*(IF($P103=\"\",0,1))*(IF($P103=\"Contract\",0,1))","v":0},{"$f":"IF(C103=Post!B$48,1,0)*(IF(P103=\"\",0,1))*(IF($P103=\"Contract\",0,1))","v":0},{"$f":"IF(C103=Post!B$49,1,0)*(IF(P103=\"\",0,1))*(IF($P103=\"Contract\",0,1))","v":0},{"$f":"IF(C103=Post!B$50,1,0)*(IF(P103=\"\",0,1))*(IF($P103=\"Contract\",0,1))","v":0},0,0,0,0,0,0,0,0,0,0,0,0,0,0,0,0,0,0,0,0,0,0,0,0,0,0,0,0,0,0,0,0,0,0,0,0,0,0,0,0,0,0,0,0,0,0]
["",{"$f":"IF(C104=\"\",\"\",Database!H$5)","v":""},null,null,null,null,null,null,null,null,null,null,null,null,null,null,"",null,null,0,0,0,0,0,"",0,0,0,0,0,0,0,0,0,0,"",{"$f":"IF($C104=Post!$B$11,1,0)*(IF($P104=\"\",0,1))*(IF($P104=\"Contract\",0,1))","v":0},{"$f":"IF($C104=Post!$B$12,1,0)*(IF($P104=\"\",0,1))*(IF($P104=\"Contract\",0,1))","v":0},{"$f":"IF($C104=Post!$B$13,1,0)*(IF($P104=\"\",0,1))*(IF($P104=\"Contract\",0,1))","v":0},{"$f":"IF($C104=Post!$B$14,1,0)*(IF($P104=\"\",0,1))*(IF($P104=\"Contract\",0,1))","v":0},{"$f":"IF($C104=Post!$B$15,1,0)*(IF($P104=\"\",0,1))*(IF($P104=\"Contract\",0,1))","v":0},{"$f":"IF($C104=Post!$B$16,1,0)*(IF($P104=\"\",0,1))*(IF($P104=\"Contract\",0,1))","v":0},{"$f":"IF($C104=Post!$B$17,1,0)*(IF($P104=\"\",0,1))*(IF($P104=\"Contract\",0,1))","v":0},{"$f":"IF($C104=Post!$B$18,1,0)*(IF($P104=\"\",0,1))*(IF($P104=\"Contract\",0,1))","v":0},{"$f":"IF($C104=Post!$B$19,1,0)*(IF($P104=\"\",0,1))*(IF($P104=\"Contract\",0,1))","v":0},{"$f":"IF($C104=Post!$B$20,1,0)*(IF($P104=\"\",0,1))*(IF($P104=\"Contract\",0,1))","v":0},{"$f":"IF($C104=Post!$B$21,1,0)*(IF($P104=\"\",0,1))*(IF($P104=\"Contract\",0,1))","v":0},{"$f":"IF($C104=Post!$B$2,1,0)*(IF($P104=\"\",0,1))*(IF($P104=\"Contract\",0,1))","v":0},{"$f":"IF($C104=Post!$B$23,1,0)*(IF($P104=\"\",0,1))*(IF($P104=\"Contract\",0,1))","v":0},{"$f":"IF($C104=Post!$B$24,1,0)*(IF($P104=\"\",0,1))*(IF($P104=\"Contract\",0,1))","v":0},{"$f":"IF($C104=Post!$B$25,1,0)*(IF($P104=\"\",0,1))*(IF($P104=\"Contract\",0,1))","v":0},{"$f":"IF($C104=Post!$B$26,1,0)*(IF($P104=\"\",0,1))*(IF($P104=\"Contract\",0,1))","v":0},{"$f":"IF($C104=Post!$B$27,1,0)*(IF($P104=\"\",0,1))*(IF($P104=\"Contract\",0,1))","v":0},{"$f":"IF($C104=Post!$B$28,1,0)*(IF($P104=\"\",0,1))*(IF($P104=\"Contract\",0,1))","v":0},{"$f":"IF($C104=Post!$B$29,1,0)*(IF($P104=\"\",0,1))*(IF($P104=\"Contract\",0,1))","v":0},{"$f":"IF($C104=Post!$B$30,1,0)*(IF($P104=\"\",0,1))*(IF($P104=\"Contract\",0,1))","v":0},{"$f":"IF($C104=Post!$B$31,1,0)*(IF($P104=\"\",0,1))*(IF($P104=\"Contract\",0,1))","v":0},{"$f":"IF($C104=Post!$B$32,1,0)*(IF($P104=\"\",0,1))*(IF($P104=\"Contract\",0,1))","v":0},{"$f":"IF($C104=Post!$B$33,1,0)*(IF($P104=\"\",0,1))*(IF($P104=\"Contract\",0,1))","v":0},{"$f":"IF($C104=Post!$B$34,1,0)*(IF($P104=\"\",0,1))*(IF($P104=\"Contract\",0,1))","v":0},{"$f":"IF($C104=Post!$B$35,1,0)*(IF($P104=\"\",0,1))*(IF($P104=\"Contract\",0,1))","v":0},{"$f":"IF($C104=Post!$B$36,1,0)*(IF($P104=\"\",0,1))*(IF($P104=\"Contract\",0,1))","v":0},{"$f":"IF($C104=Post!$B$37,1,0)*(IF($P104=\"\",0,1))*(IF($P104=\"Contract\",0,1))","v":0},{"$f":"IF($C104=Post!$B$38,1,0)*(IF($P104=\"\",0,1))*(IF($P104=\"Contract\",0,1))","v":0},{"$f":"IF($C104=Post!$B$39,1,0)*(IF($P104=\"\",0,1))*(IF($P104=\"Contract\",0,1))","v":0},{"$f":"IF($C104=Post!$B$40,1,0)*(IF($P104=\"\",0,1))*(IF($P104=\"Contract\",0,1))","v":0},{"$f":"IF($C104=Post!$B$41,1,0)*(IF($P104=\"\",0,1))*(IF($P104=\"Contract\",0,1))","v":0},{"$f":"IF($C104=Post!$B$42,1,0)*(IF($P104=\"\",0,1))*(IF($P104=\"Contract\",0,1))","v":0},{"$f":"IF($C104=Post!$B$43,1,0)*(IF($P104=\"\",0,1))*(IF($P104=\"Contract\",0,1))","v":0},{"$f":"IF($C104=Post!$B$44,1,0)*(IF($P104=\"\",0,1))*(IF($P104=\"Contract\",0,1))","v":0},{"$f":"IF($C104=Post!$B$45,1,0)*(IF($P104=\"\",0,1))*(IF($P104=\"Contract\",0,1))","v":0},{"$f":"IF($C104=Post!$B$46,1,0)*(IF($P104=\"\",0,1))*(IF($P104=\"Contract\",0,1))","v":0},{"$f":"IF($C104=Post!$B$47,1,0)*(IF($P104=\"\",0,1))*(IF($P104=\"Contract\",0,1))","v":0},{"$f":"IF(C104=Post!B$48,1,0)*(IF(P104=\"\",0,1))*(IF($P104=\"Contract\",0,1))","v":0},{"$f":"IF(C104=Post!B$49,1,0)*(IF(P104=\"\",0,1))*(IF($P104=\"Contract\",0,1))","v":0},{"$f":"IF(C104=Post!B$50,1,0)*(IF(P104=\"\",0,1))*(IF($P104=\"Contract\",0,1))","v":0},0,0,0,0,0,0,0,0,0,0,0,0,0,0,0,0,0,0,0,0,0,0,0,0,0,0,0,0,0,0,0,0,0,0,0,0,0,0,0,0,0,0,0,0,0,0]
["",{"$f":"IF(C105=\"\",\"\",Database!H$5)","v":""},null,null,null,null,null,null,null,null,null,null,null,null,null,null,"",null,null,0,0,0,0,0,"",0,0,0,0,0,0,0,0,0,0,"",{"$f":"IF($C105=Post!$B$11,1,0)*(IF($P105=\"\",0,1))*(IF($P105=\"Contract\",0,1))","v":0},{"$f":"IF($C105=Post!$B$12,1,0)*(IF($P105=\"\",0,1))*(IF($P105=\"Contract\",0,1))","v":0},{"$f":"IF($C105=Post!$B$13,1,0)*(IF($P105=\"\",0,1))*(IF($P105=\"Contract\",0,1))","v":0},{"$f":"IF($C105=Post!$B$14,1,0)*(IF($P105=\"\",0,1))*(IF($P105=\"Contract\",0,1))","v":0},{"$f":"IF($C105=Post!$B$15,1,0)*(IF($P105=\"\",0,1))*(IF($P105=\"Contract\",0,1))","v":0},{"$f":"IF($C105=Post!$B$16,1,0)*(IF($P105=\"\",0,1))*(IF($P105=\"Contract\",0,1))","v":0},{"$f":"IF($C105=Post!$B$17,1,0)*(IF($P105=\"\",0,1))*(IF($P105=\"Contract\",0,1))","v":0},{"$f":"IF($C105=Post!$B$18,1,0)*(IF($P105=\"\",0,1))*(IF($P105=\"Contract\",0,1))","v":0},{"$f":"IF($C105=Post!$B$19,1,0)*(IF($P105=\"\",0,1))*(IF($P105=\"Contract\",0,1))","v":0},{"$f":"IF($C105=Post!$B$20,1,0)*(IF($P105=\"\",0,1))*(IF($P105=\"Contract\",0,1))","v":0},{"$f":"IF($C105=Post!$B$21,1,0)*(IF($P105=\"\",0,1))*(IF($P105=\"Contract\",0,1))","v":0},{"$f":"IF($C105=Post!$B$2,1,0)*(IF($P105=\"\",0,1))*(IF($P105=\"Contract\",0,1))","v":0},{"$f":"IF($C105=Post!$B$23,1,0)*(IF($P105=\"\",0,1))*(IF($P105=\"Contract\",0,1))","v":0},{"$f":"IF($C105=Post!$B$24,1,0)*(IF($P105=\"\",0,1))*(IF($P105=\"Contract\",0,1))","v":0},{"$f":"IF($C105=Post!$B$25,1,0)*(IF($P105=\"\",0,1))*(IF($P105=\"Contract\",0,1))","v":0},{"$f":"IF($C105=Post!$B$26,1,0)*(IF($P105=\"\",0,1))*(IF($P105=\"Contract\",0,1))","v":0},{"$f":"IF($C105=Post!$B$27,1,0)*(IF($P105=\"\",0,1))*(IF($P105=\"Contract\",0,1))","v":0},{"$f":"IF($C105=Post!$B$28,1,0)*(IF($P105=\"\",0,1))*(IF($P105=\"Contract\",0,1))","v":0},{"$f":"IF($C105=Post!$B$29,1,0)*(IF($P105=\"\",0,1))*(IF($P105=\"Contract\",0,1))","v":0},{"$f":"IF($C105=Post!$B$30,1,0)*(IF($P105=\"\",0,1))*(IF($P105=\"Contract\",0,1))","v":0},{"$f":"IF($C105=Post!$B$31,1,0)*(IF($P105=\"\",0,1))*(IF($P105=\"Contract\",0,1))","v":0},{"$f":"IF($C105=Post!$B$32,1,0)*(IF($P105=\"\",0,1))*(IF($P105=\"Contract\",0,1))","v":0},{"$f":"IF($C105=Post!$B$33,1,0)*(IF($P105=\"\",0,1))*(IF($P105=\"Contract\",0,1))","v":0},{"$f":"IF($C105=Post!$B$34,1,0)*(IF($P105=\"\",0,1))*(IF($P105=\"Contract\",0,1))","v":0},{"$f":"IF($C105=Post!$B$35,1,0)*(IF($P105=\"\",0,1))*(IF($P105=\"Contract\",0,1))","v":0},{"$f":"IF($C105=Post!$B$36,1,0)*(IF($P105=\"\",0,1))*(IF($P105=\"Contract\",0,1))","v":0},{"$f":"IF($C105=Post!$B$37,1,0)*(IF($P105=\"\",0,1))*(IF($P105=\"Contract\",0,1))","v":0},{"$f":"IF($C105=Post!$B$38,1,0)*(IF($P105=\"\",0,1))*(IF($P105=\"Contract\",0,1))","v":0},{"$f":"IF($C105=Post!$B$39,1,0)*(IF($P105=\"\",0,1))*(IF($P105=\"Contract\",0,1))","v":0},{"$f":"IF($C105=Post!$B$40,1,0)*(IF($P105=\"\",0,1))*(IF($P105=\"Contract\",0,1))","v":0},{"$f":"IF($C105=Post!$B$41,1,0)*(IF($P105=\"\",0,1))*(IF($P105=\"Contract\",0,1))","v":0},{"$f":"IF($C105=Post!$B$42,1,0)*(IF($P105=\"\",0,1))*(IF($P105=\"Contract\",0,1))","v":0},{"$f":"IF($C105=Post!$B$43,1,0)*(IF($P105=\"\",0,1))*(IF($P105=\"Contract\",0,1))","v":0},{"$f":"IF($C105=Post!$B$44,1,0)*(IF($P105=\"\",0,1))*(IF($P105=\"Contract\",0,1))","v":0},{"$f":"IF($C105=Post!$B$45,1,0)*(IF($P105=\"\",0,1))*(IF($P105=\"Contract\",0,1))","v":0},{"$f":"IF($C105=Post!$B$46,1,0)*(IF($P105=\"\",0,1))*(IF($P105=\"Contract\",0,1))","v":0},{"$f":"IF($C105=Post!$B$47,1,0)*(IF($P105=\"\",0,1))*(IF($P105=\"Contract\",0,1))","v":0},{"$f":"IF(C105=Post!B$48,1,0)*(IF(P105=\"\",0,1))*(IF($P105=\"Contract\",0,1))","v":0},{"$f":"IF(C105=Post!B$49,1,0)*(IF(P105=\"\",0,1))*(IF($P105=\"Contract\",0,1))","v":0},{"$f":"IF(C105=Post!B$50,1,0)*(IF(P105=\"\",0,1))*(IF($P105=\"Contract\",0,1))","v":0},0,0,0,0,0,0,0,0,0,0,0,0,0,0,0,0,0,0,0,0,0,0,0,0,0,0,0,0,0,0,0,0,0,0,0,0,0,0,0,0,0,0,0,0,0,0]
["",{"$f":"IF(C106=\"\",\"\",Database!H$5)","v":""},null,null,null,null,null,null,null,null,null,null,null,null,null,null,"",null,null,0,0,0,0,0,"",0,0,0,0,0,0,0,0,0,0,"",{"$f":"IF($C106=Post!$B$11,1,0)*(IF($P106=\"\",0,1))*(IF($P106=\"Contract\",0,1))","v":0},{"$f":"IF($C106=Post!$B$12,1,0)*(IF($P106=\"\",0,1))*(IF($P106=\"Contract\",0,1))","v":0},{"$f":"IF($C106=Post!$B$13,1,0)*(IF($P106=\"\",0,1))*(IF($P106=\"Contract\",0,1))","v":0},{"$f":"IF($C106=Post!$B$14,1,0)*(IF($P106=\"\",0,1))*(IF($P106=\"Contract\",0,1))","v":0},{"$f":"IF($C106=Post!$B$15,1,0)*(IF($P106=\"\",0,1))*(IF($P106=\"Contract\",0,1))","v":0},{"$f":"IF($C106=Post!$B$16,1,0)*(IF($P106=\"\",0,1))*(IF($P106=\"Contract\",0,1))","v":0},{"$f":"IF($C106=Post!$B$17,1,0)*(IF($P106=\"\",0,1))*(IF($P106=\"Contract\",0,1))","v":0},{"$f":"IF($C106=Post!$B$18,1,0)*(IF($P106=\"\",0,1))*(IF($P106=\"Contract\",0,1))","v":0},{"$f":"IF($C106=Post!$B$19,1,0)*(IF($P106=\"\",0,1))*(IF($P106=\"Contract\",0,1))","v":0},{"$f":"IF($C106=Post!$B$20,1,0)*(IF($P106=\"\",0,1))*(IF($P106=\"Contract\",0,1))","v":0},{"$f":"IF($C106=Post!$B$21,1,0)*(IF($P106=\"\",0,1))*(IF($P106=\"Contract\",0,1))","v":0},{"$f":"IF($C106=Post!$B$2,1,0)*(IF($P106=\"\",0,1))*(IF($P106=\"Contract\",0,1))","v":0},{"$f":"IF($C106=Post!$B$23,1,0)*(IF($P106=\"\",0,1))*(IF($P106=\"Contract\",0,1))","v":0},{"$f":"IF($C106=Post!$B$24,1,0)*(IF($P106=\"\",0,1))*(IF($P106=\"Contract\",0,1))","v":0},{"$f":"IF($C106=Post!$B$25,1,0)*(IF($P106=\"\",0,1))*(IF($P106=\"Contract\",0,1))","v":0},{"$f":"IF($C106=Post!$B$26,1,0)*(IF($P106=\"\",0,1))*(IF($P106=\"Contract\",0,1))","v":0},{"$f":"IF($C106=Post!$B$27,1,0)*(IF($P106=\"\",0,1))*(IF($P106=\"Contract\",0,1))","v":0},{"$f":"IF($C106=Post!$B$28,1,0)*(IF($P106=\"\",0,1))*(IF($P106=\"Contract\",0,1))","v":0},{"$f":"IF($C106=Post!$B$29,1,0)*(IF($P106=\"\",0,1))*(IF($P106=\"Contract\",0,1))","v":0},{"$f":"IF($C106=Post!$B$30,1,0)*(IF($P106=\"\",0,1))*(IF($P106=\"Contract\",0,1))","v":0},{"$f":"IF($C106=Post!$B$31,1,0)*(IF($P106=\"\",0,1))*(IF($P106=\"Contract\",0,1))","v":0},{"$f":"IF($C106=Post!$B$32,1,0)*(IF($P106=\"\",0,1))*(IF($P106=\"Contract\",0,1))","v":0},{"$f":"IF($C106=Post!$B$33,1,0)*(IF($P106=\"\",0,1))*(IF($P106=\"Contract\",0,1))","v":0},{"$f":"IF($C106=Post!$B$34,1,0)*(IF($P106=\"\",0,1))*(IF($P106=\"Contract\",0,1))","v":0},{"$f":"IF($C106=Post!$B$35,1,0)*(IF($P106=\"\",0,1))*(IF($P106=\"Contract\",0,1))","v":0},{"$f":"IF($C106=Post!$B$36,1,0)*(IF($P106=\"\",0,1))*(IF($P106=\"Contract\",0,1))","v":0},{"$f":"IF($C106=Post!$B$37,1,0)*(IF($P106=\"\",0,1))*(IF($P106=\"Contract\",0,1))","v":0},{"$f":"IF($C106=Post!$B$38,1,0)*(IF($P106=\"\",0,1))*(IF($P106=\"Contract\",0,1))","v":0},{"$f":"IF($C106=Post!$B$39,1,0)*(IF($P106=\"\",0,1))*(IF($P106=\"Contract\",0,1))","v":0},{"$f":"IF($C106=Post!$B$40,1,0)*(IF($P106=\"\",0,1))*(IF($P106=\"Contract\",0,1))","v":0},{"$f":"IF($C106=Post!$B$41,1,0)*(IF($P106=\"\",0,1))*(IF($P106=\"Contract\",0,1))","v":0},{"$f":"IF($C106=Post!$B$42,1,0)*(IF($P106=\"\",0,1))*(IF($P106=\"Contract\",0,1))","v":0},{"$f":"IF($C106=Post!$B$43,1,0)*(IF($P106=\"\",0,1))*(IF($P106=\"Contract\",0,1))","v":0},{"$f":"IF($C106=Post!$B$44,1,0)*(IF($P106=\"\",0,1))*(IF($P106=\"Contract\",0,1))","v":0},{"$f":"IF($C106=Post!$B$45,1,0)*(IF($P106=\"\",0,1))*(IF($P106=\"Contract\",0,1))","v":0},{"$f":"IF($C106=Post!$B$46,1,0)*(IF($P106=\"\",0,1))*(IF($P106=\"Contract\",0,1))","v":0},{"$f":"IF($C106=Post!$B$47,1,0)*(IF($P106=\"\",0,1))*(IF($P106=\"Contract\",0,1))","v":0},{"$f":"IF(C106=Post!B$48,1,0)*(IF(P106=\"\",0,1))*(IF($P106=\"Contract\",0,1))","v":0},{"$f":"IF(C106=Post!B$49,1,0)*(IF(P106=\"\",0,1))*(IF($P106=\"Contract\",0,1))","v":0},{"$f":"IF(C106=Post!B$50,1,0)*(IF(P106=\"\",0,1))*(IF($P106=\"Contract\",0,1))","v":0},0,0,0,0,0,0,0,0,0,0,0,0,0,0,0,0,0,0,0,0,0,0,0,0,0,0,0,0,0,0,0,0,0,0,0,0,0,0,0,0,0,0,0,0,0,0]
["",{"$f":"IF(C107=\"\",\"\",Database!H$5)","v":""},null,null,null,null,null,null,null,null,null,null,null,null,null,null,"",null,null,0,0,0,0,0,"",0,0,0,0,0,0,0,0,0,0,"",{"$f":"IF($C107=Post!$B$11,1,0)*(IF($P107=\"\",0,1))*(IF($P107=\"Contract\",0,1))","v":0},{"$f":"IF($C107=Post!$B$12,1,0)*(IF($P107=\"\",0,1))*(IF($P107=\"Contract\",0,1))","v":0},{"$f":"IF($C107=Post!$B$13,1,0)*(IF($P107=\"\",0,1))*(IF($P107=\"Contract\",0,1))","v":0},{"$f":"IF($C107=Post!$B$14,1,0)*(IF($P107=\"\",0,1))*(IF($P107=\"Contract\",0,1))","v":0},{"$f":"IF($C107=Post!$B$15,1,0)*(IF($P107=\"\",0,1))*(IF($P107=\"Contract\",0,1))","v":0},{"$f":"IF($C107=Post!$B$16,1,0)*(IF($P107=\"\",0,1))*(IF($P107=\"Contract\",0,1))","v":0},{"$f":"IF($C107=Post!$B$17,1,0)*(IF($P107=\"\",0,1))*(IF($P107=\"Contract\",0,1))","v":0},{"$f":"IF($C107=Post!$B$18,1,0)*(IF($P107=\"\",0,1))*(IF($P107=\"Contract\",0,1))","v":0},{"$f":"IF($C107=Post!$B$19,1,0)*(IF($P107=\"\",0,1))*(IF($P107=\"Contract\",0,1))","v":0},{"$f":"IF($C107=Post!$B$20,1,0)*(IF($P107=\"\",0,1))*(IF($P107=\"Contract\",0,1))","v":0},{"$f":"IF($C107=Post!$B$21,1,0)*(IF($P107=\"\",0,1))*(IF($P107=\"Contract\",0,1))","v":0},{"$f":"IF($C107=Post!$B$2,1,0)*(IF($P107=\"\",0,1))*(IF($P107=\"Contract\",0,1))","v":0},{"$f":"IF($C107=Post!$B$23,1,0)*(IF($P107=\"\",0,1))*(IF($P107=\"Contract\",0,1))","v":0},{"$f":"IF($C107=Post!$B$24,1,0)*(IF($P107=\"\",0,1))*(IF($P107=\"Contract\",0,1))","v":0},{"$f":"IF($C107=Post!$B$25,1,0)*(IF($P107=\"\",0,1))*(IF($P107=\"Contract\",0,1))","v":0},{"$f":"IF($C107=Post!$B$26,1,0)*(IF($P107=\"\",0,1))*(IF($P107=\"Contract\",0,1))","v":0},{"$f":"IF($C107=Post!$B$27,1,0)*(IF($P107=\"\",0,1))*(IF($P107=\"Contract\",0,1))","v":0},{"$f":"IF($C107=Post!$B$28,1,0)*(IF($P107=\"\",0,1))*(IF($P107=\"Contract\",0,1))","v":0},{"$f":"IF($C107=Post!$B$29,1,0)*(IF($P107=\"\",0,1))*(IF($P107=\"Contract\",0,1))","v":0},{"$f":"IF($C107=Post!$B$30,1,0)*(IF($P107=\"\",0,1))*(IF($P107=\"Contract\",0,1))","v":0},{"$f":"IF($C107=Post!$B$31,1,0)*(IF($P107=\"\",0,1))*(IF($P107=\"Contract\",0,1))","v":0},{"$f":"IF($C107=Post!$B$32,1,0)*(IF($P107=\"\",0,1))*(IF($P107=\"Contract\",0,1))","v":0},{"$f":"IF($C107=Post!$B$33,1,0)*(IF($P107=\"\",0,1))*(IF($P107=\"Contract\",0,1))","v":0},{"$f":"IF($C107=Post!$B$34,1,0)*(IF($P107=\"\",0,1))*(IF($P107=\"Contract\",0,1))","v":0},{"$f":"IF($C107=Post!$B$35,1,0)*(IF($P107=\"\",0,1))*(IF($P107=\"Contract\",0,1))","v":0},{"$f":"IF($C107=Post!$B$36,1,0)*(IF($P107=\"\",0,1))*(IF($P107=\"Contract\",0,1))","v":0},{"$f":"IF($C107=Post!$B$37,1,0)*(IF($P107=\"\",0,1))*(IF($P107=\"Contract\",0,1))","v":0},{"$f":"IF($C107=Post!$B$38,1,0)*(IF($P107=\"\",0,1))*(IF($P107=\"Contract\",0,1))","v":0},{"$f":"IF($C107=Post!$B$39,1,0)*(IF($P107=\"\",0,1))*(IF($P107=\"Contract\",0,1))","v":0},{"$f":"IF($C107=Post!$B$40,1,0)*(IF($P107=\"\",0,1))*(IF($P107=\"Contract\",0,1))","v":0},{"$f":"IF($C107=Post!$B$41,1,0)*(IF($P107=\"\",0,1))*(IF($P107=\"Contract\",0,1))","v":0},{"$f":"IF($C107=Post!$B$42,1,0)*(IF($P107=\"\",0,1))*(IF($P107=\"Contract\",0,1))","v":0},{"$f":"IF($C107=Post!$B$43,1,0)*(IF($P107=\"\",0,1))*(IF($P107=\"Contract\",0,1))","v":0},{"$f":"IF($C107=Post!$B$44,1,0)*(IF($P107=\"\",0,1))*(IF($P107=\"Contract\",0,1))","v":0},{"$f":"IF($C107=Post!$B$45,1,0)*(IF($P107=\"\",0,1))*(IF($P107=\"Contract\",0,1))","v":0},{"$f":"IF($C107=Post!$B$46,1,0)*(IF($P107=\"\",0,1))*(IF($P107=\"Contract\",0,1))","v":0},{"$f":"IF($C107=Post!$B$47,1,0)*(IF($P107=\"\",0,1))*(IF($P107=\"Contract\",0,1))","v":0},{"$f":"IF(C107=Post!B$48,1,0)*(IF(P107=\"\",0,1))*(IF($P107=\"Contract\",0,1))","v":0},{"$f":"IF(C107=Post!B$49,1,0)*(IF(P107=\"\",0,1))*(IF($P107=\"Contract\",0,1))","v":0},{"$f":"IF(C107=Post!B$50,1,0)*(IF(P107=\"\",0,1))*(IF($P107=\"Contract\",0,1))","v":0},0,0,0,0,0,0,0,0,0,0,0,0,0,0,0,0,0,0,0,0,0,0,0,0,0,0,0,0,0,0,0,0,0,0,0,0,0,0,0,0,0,0,0,0,0,0]
["",{"$f":"IF(C108=\"\",\"\",Database!H$5)","v":""},null,null,null,null,null,null,null,null,null,null,null,null,null,null,"",null,null,0,0,0,0,0,"",0,0,0,0,0,0,0,0,0,0,"",{"$f":"IF($C108=Post!$B$11,1,0)*(IF($P108=\"\",0,1))*(IF($P108=\"Contract\",0,1))","v":0},{"$f":"IF($C108=Post!$B$12,1,0)*(IF($P108=\"\",0,1))*(IF($P108=\"Contract\",0,1))","v":0},{"$f":"IF($C108=Post!$B$13,1,0)*(IF($P108=\"\",0,1))*(IF($P108=\"Contract\",0,1))","v":0},{"$f":"IF($C108=Post!$B$14,1,0)*(IF($P108=\"\",0,1))*(IF($P108=\"Contract\",0,1))","v":0},{"$f":"IF($C108=Post!$B$15,1,0)*(IF($P108=\"\",0,1))*(IF($P108=\"Contract\",0,1))","v":0},{"$f":"IF($C108=Post!$B$16,1,0)*(IF($P108=\"\",0,1))*(IF($P108=\"Contract\",0,1))","v":0},{"$f":"IF($C108=Post!$B$17,1,0)*(IF($P108=\"\",0,1))*(IF($P108=\"Contract\",0,1))","v":0},{"$f":"IF($C108=Post!$B$18,1,0)*(IF($P108=\"\",0,1))*(IF($P108=\"Contract\",0,1))","v":0},{"$f":"IF($C108=Post!$B$19,1,0)*(IF($P108=\"\",0,1))*(IF($P108=\"Contract\",0,1))","v":0},{"$f":"IF($C108=Post!$B$20,1,0)*(IF($P108=\"\",0,1))*(IF($P108=\"Contract\",0,1))","v":0},{"$f":"IF($C108=Post!$B$21,1,0)*(IF($P108=\"\",0,1))*(IF($P108=\"Contract\",0,1))","v":0},{"$f":"IF($C108=Post!$B$2,1,0)*(IF($P108=\"\",0,1))*(IF($P108=\"Contract\",0,1))","v":0},{"$f":"IF($C108=Post!$B$23,1,0)*(IF($P108=\"\",0,1))*(IF($P108=\"Contract\",0,1))","v":0},{"$f":"IF($C108=Post!$B$24,1,0)*(IF($P108=\"\",0,1))*(IF($P108=\"Contract\",0,1))","v":0},{"$f":"IF($C108=Post!$B$25,1,0)*(IF($P108=\"\",0,1))*(IF($P108=\"Contract\",0,1))","v":0},{"$f":"IF($C108=Post!$B$26,1,0)*(IF($P108=\"\",0,1))*(IF($P108=\"Contract\",0,1))","v":0},{"$f":"IF($C108=Post!$B$27,1,0)*(IF($P108=\"\",0,1))*(IF($P108=\"Contract\",0,1))","v":0},{"$f":"IF($C108=Post!$B$28,1,0)*(IF($P108=\"\",0,1))*(IF($P108=\"Contract\",0,1))","v":0},{"$f":"IF($C108=Post!$B$29,1,0)*(IF($P108=\"\",0,1))*(IF($P108=\"Contract\",0,1))","v":0},{"$f":"IF($C108=Post!$B$30,1,0)*(IF($P108=\"\",0,1))*(IF($P108=\"Contract\",0,1))","v":0},{"$f":"IF($C108=Post!$B$31,1,0)*(IF($P108=\"\",0,1))*(IF($P108=\"Contract\",0,1))","v":0},{"$f":"IF($C108=Post!$B$32,1,0)*(IF($P108=\"\",0,1))*(IF($P108=\"Contract\",0,1))","v":0},{"$f":"IF($C108=Post!$B$33,1,0)*(IF($P108=\"\",0,1))*(IF($P108=\"Contract\",0,1))","v":0},{"$f":"IF($C108=Post!$B$34,1,0)*(IF($P108=\"\",0,1))*(IF($P108=\"Contract\",0,1))","v":0},{"$f":"IF($C108=Post!$B$35,1,0)*(IF($P108=\"\",0,1))*(IF($P108=\"Contract\",0,1))","v":0},{"$f":"IF($C108=Post!$B$36,1,0)*(IF($P108=\"\",0,1))*(IF($P108=\"Contract\",0,1))","v":0},{"$f":"IF($C108=Post!$B$37,1,0)*(IF($P108=\"\",0,1))*(IF($P108=\"Contract\",0,1))","v":0},{"$f":"IF($C108=Post!$B$38,1,0)*(IF($P108=\"\",0,1))*(IF($P108=\"Contract\",0,1))","v":0},{"$f":"IF($C108=Post!$B$39,1,0)*(IF($P108=\"\",0,1))*(IF($P108=\"Contract\",0,1))","v":0},{"$f":"IF($C108=Post!$B$40,1,0)*(IF($P108=\"\",0,1))*(IF($P108=\"Contract\",0,1))","v":0},{"$f":"IF($C108=Post!$B$41,1,0)*(IF($P108=\"\",0,1))*(IF($P108=\"Contract\",0,1))","v":0},{"$f":"IF($C108=Post!$B$42,1,0)*(IF($P108=\"\",0,1))*(IF($P108=\"Contract\",0,1))","v":0},{"$f":"IF($C108=Post!$B$43,1,0)*(IF($P108=\"\",0,1))*(IF($P108=\"Contract\",0,1))","v":0},{"$f":"IF($C108=Post!$B$44,1,0)*(IF($P108=\"\",0,1))*(IF($P108=\"Contract\",0,1))","v":0},{"$f":"IF($C108=Post!$B$45,1,0)*(IF($P108=\"\",0,1))*(IF($P108=\"Contract\",0,1))","v":0},{"$f":"IF($C108=Post!$B$46,1,0)*(IF($P108=\"\",0,1))*(IF($P108=\"Contract\",0,1))","v":0},{"$f":"IF($C108=Post!$B$47,1,0)*(IF($P108=\"\",0,1))*(IF($P108=\"Contract\",0,1))","v":0},{"$f":"IF(C108=Post!B$48,1,0)*(IF(P108=\"\",0,1))*(IF($P108=\"Contract\",0,1))","v":0},{"$f":"IF(C108=Post!B$49,1,0)*(IF(P108=\"\",0,1))*(IF($P108=\"Contract\",0,1))","v":0},{"$f":"IF(C108=Post!B$50,1,0)*(IF(P108=\"\",0,1))*(IF($P108=\"Contract\",0,1))","v":0},0,0,0,0,0,0,0,0,0,0,0,0,0,0,0,0,0,0,0,0,0,0,0,0,0,0,0,0,0,0,0,0,0,0,0,0,0,0,0,0,0,0,0,0,0,0]
["",{"$f":"IF(C109=\"\",\"\",Database!H$5)","v":""},null,null,null,null,null,null,null,null,null,null,null,null,null,null,"",null,null,0,0,0,0,0,"",0,0,0,0,0,0,0,0,0,0,"",{"$f":"IF($C109=Post!$B$11,1,0)*(IF($P109=\"\",0,1))*(IF($P109=\"Contract\",0,1))","v":0},{"$f":"IF($C109=Post!$B$12,1,0)*(IF($P109=\"\",0,1))*(IF($P109=\"Contract\",0,1))","v":0},{"$f":"IF($C109=Post!$B$13,1,0)*(IF($P109=\"\",0,1))*(IF($P109=\"Contract\",0,1))","v":0},{"$f":"IF($C109=Post!$B$14,1,0)*(IF($P109=\"\",0,1))*(IF($P109=\"Contract\",0,1))","v":0},{"$f":"IF($C109=Post!$B$15,1,0)*(IF($P109=\"\",0,1))*(IF($P109=\"Contract\",0,1))","v":0},{"$f":"IF($C109=Post!$B$16,1,0)*(IF($P109=\"\",0,1))*(IF($P109=\"Contract\",0,1))","v":0},{"$f":"IF($C109=Post!$B$17,1,0)*(IF($P109=\"\",0,1))*(IF($P109=\"Contract\",0,1))","v":0},{"$f":"IF($C109=Post!$B$18,1,0)*(IF($P109=\"\",0,1))*(IF($P109=\"Contract\",0,1))","v":0},{"$f":"IF($C109=Post!$B$19,1,0)*(IF($P109=\"\",0,1))*(IF($P109=\"Contract\",0,1))","v":0},{"$f":"IF($C109=Post!$B$20,1,0)*(IF($P109=\"\",0,1))*(IF($P109=\"Contract\",0,1))","v":0},{"$f":"IF($C109=Post!$B$21,1,0)*(IF($P109=\"\",0,1))*(IF($P109=\"Contract\",0,1))","v":0},{"$f":"IF($C109=Post!$B$2,1,0)*(IF($P109=\"\",0,1))*(IF($P109=\"Contract\",0,1))","v":0},{"$f":"IF($C109=Post!$B$23,1,0)*(IF($P109=\"\",0,1))*(IF($P109=\"Contract\",0,1))","v":0},{"$f":"IF($C109=Post!$B$24,1,0)*(IF($P109=\"\",0,1))*(IF($P109=\"Contract\",0,1))","v":0},{"$f":"IF($C109=Post!$B$25,1,0)*(IF($P109=\"\",0,1))*(IF($P109=\"Contract\",0,1))","v":0},{"$f":"IF($C109=Post!$B$26,1,0)*(IF($P109=\"\",0,1))*(IF($P109=\"Contract\",0,1))","v":0},{"$f":"IF($C109=Post!$B$27,1,0)*(IF($P109=\"\",0,1))*(IF($P109=\"Contract\",0,1))","v":0},{"$f":"IF($C109=Post!$B$28,1,0)*(IF($P109=\"\",0,1))*(IF($P109=\"Contract\",0,1))","v":0},{"$f":"IF($C109=Post!$B$29,1,0)*(IF($P109=\"\",0,1))*(IF($P109=\"Contract\",0,1))","v":0},{"$f":"IF($C109=Post!$B$30,1,0)*(IF($P109=\"\",0,1))*(IF($P109=\"Contract\",0,1))","v":0},{"$f":"IF($C109=Post!$B$31,1,0)*(IF($P109=\"\",0,1))*(IF($P109=\"Contract\",0,1))","v":0},{"$f":"IF($C109=Post!$B$32,1,0)*(IF($P109=\"\",0,1))*(IF($P109=\"Contract\",0,1))","v":0},{"$f":"IF($C109=Post!$B$33,1,0)*(IF($P109=\"\",0,1))*(IF($P109=\"Contract\",0,1))","v":0},{"$f":"IF($C109=Post!$B$34,1,0)*(IF($P109=\"\",0,1))*(IF($P109=\"Contract\",0,1))","v":0},{"$f":"IF($C109=Post!$B$35,1,0)*(IF($P109=\"\",0,1))*(IF($P109=\"Contract\",0,1))","v":0},{"$f":"IF($C109=Post!$B$36,1,0)*(IF($P109=\"\",0,1))*(IF($P109=\"Contract\",0,1))","v":0},{"$f":"IF($C109=Post!$B$37,1,0)*(IF($P109=\"\",0,1))*(IF($P109=\"Contract\",0,1))","v":0},{"$f":"IF($C109=Post!$B$38,1,0)*(IF($P109=\"\",0,1))*(IF($P109=\"Contract\",0,1))","v":0},{"$f":"IF($C109=Post!$B$39,1,0)*(IF($P109=\"\",0,1))*(IF($P109=\"Contract\",0,1))","v":0},{"$f":"IF($C109=Post!$B$40,1,0)*(IF($P109=\"\",0,1))*(IF($P109=\"Contract\",0,1))","v":0},{"$f":"IF($C109=Post!$B$41,1,0)*(IF($P109=\"\",0,1))*(IF($P109=\"Contract\",0,1))","v":0},{"$f":"IF($C109=Post!$B$42,1,0)*(IF($P109=\"\",0,1))*(IF($P109=\"Contract\",0,1))","v":0},{"$f":"IF($C109=Post!$B$43,1,0)*(IF($P109=\"\",0,1))*(IF($P109=\"Contract\",0,1))","v":0},{"$f":"IF($C109=Post!$B$44,1,0)*(IF($P109=\"\",0,1))*(IF($P109=\"Contract\",0,1))","v":0},{"$f":"IF($C109=Post!$B$45,1,0)*(IF($P109=\"\",0,1))*(IF($P109=\"Contract\",0,1))","v":0},{"$f":"IF($C109=Post!$B$46,1,0)*(IF($P109=\"\",0,1))*(IF($P109=\"Contract\",0,1))","v":0},{"$f":"IF($C109=Post!$B$47,1,0)*(IF($P109=\"\",0,1))*(IF($P109=\"Contract\",0,1))","v":0},{"$f":"IF(C109=Post!B$48,1,0)*(IF(P109=\"\",0,1))*(IF($P109=\"Contract\",0,1))","v":0},{"$f":"IF(C109=Post!B$49,1,0)*(IF(P109=\"\",0,1))*(IF($P109=\"Contract\",0,1))","v":0},{"$f":"IF(C109=Post!B$50,1,0)*(IF(P109=\"\",0,1))*(IF($P109=\"Contract\",0,1))","v":0},0,0,0,0,0,0,0,0,0,0,0,0,0,0,0,0,0,0,0,0,0,0,0,0,0,0,0,0,0,0,0,0,0,0,0,0,0,0,0,0,0,0,0,0,0,0]
["",{"$f":"IF(C110=\"\",\"\",Database!H$5)","v":""},null,null,null,null,null,null,null,null,null,null,null,null,null,null,"",null,null,0,0,0,0,0,"",0,0,0,0,0,0,0,0,0,0,"",{"$f":"IF($C110=Post!$B$11,1,0)*(IF($P110=\"\",0,1))*(IF($P110=\"Contract\",0,1))","v":0},{"$f":"IF($C110=Post!$B$12,1,0)*(IF($P110=\"\",0,1))*(IF($P110=\"Contract\",0,1))","v":0},{"$f":"IF($C110=Post!$B$13,1,0)*(IF($P110=\"\",0,1))*(IF($P110=\"Contract\",0,1))","v":0},{"$f":"IF($C110=Post!$B$14,1,0)*(IF($P110=\"\",0,1))*(IF($P110=\"Contract\",0,1))","v":0},{"$f":"IF($C110=Post!$B$15,1,0)*(IF($P110=\"\",0,1))*(IF($P110=\"Contract\",0,1))","v":0},{"$f":"IF($C110=Post!$B$16,1,0)*(IF($P110=\"\",0,1))*(IF($P110=\"Contract\",0,1))","v":0},{"$f":"IF($C110=Post!$B$17,1,0)*(IF($P110=\"\",0,1))*(IF($P110=\"Contract\",0,1))","v":0},{"$f":"IF($C110=Post!$B$18,1,0)*(IF($P110=\"\",0,1))*(IF($P110=\"Contract\",0,1))","v":0},{"$f":"IF($C110=Post!$B$19,1,0)*(IF($P110=\"\",0,1))*(IF($P110=\"Contract\",0,1))","v":0},{"$f":"IF($C110=Post!$B$20,1,0)*(IF($P110=\"\",0,1))*(IF($P110=\"Contract\",0,1))","v":0},{"$f":"IF($C110=Post!$B$21,1,0)*(IF($P110=\"\",0,1))*(IF($P110=\"Contract\",0,1))","v":0},{"$f":"IF($C110=Post!$B$2,1,0)*(IF($P110=\"\",0,1))*(IF($P110=\"Contract\",0,1))","v":0},{"$f":"IF($C110=Post!$B$23,1,0)*(IF($P110=\"\",0,1))*(IF($P110=\"Contract\",0,1))","v":0},{"$f":"IF($C110=Post!$B$24,1,0)*(IF($P110=\"\",0,1))*(IF($P110=\"Contract\",0,1))","v":0},{"$f":"IF($C110=Post!$B$25,1,0)*(IF($P110=\"\",0,1))*(IF($P110=\"Contract\",0,1))","v":0},{"$f":"IF($C110=Post!$B$26,1,0)*(IF($P110=\"\",0,1))*(IF($P110=\"Contract\",0,1))","v":0},{"$f":"IF($C110=Post!$B$27,1,0)*(IF($P110=\"\",0,1))*(IF($P110=\"Contract\",0,1))","v":0},{"$f":"IF($C110=Post!$B$28,1,0)*(IF($P110=\"\",0,1))*(IF($P110=\"Contract\",0,1))","v":0},{"$f":"IF($C110=Post!$B$29,1,0)*(IF($P110=\"\",0,1))*(IF($P110=\"Contract\",0,1))","v":0},{"$f":"IF($C110=Post!$B$30,1,0)*(IF($P110=\"\",0,1))*(IF($P110=\"Contract\",0,1))","v":0},{"$f":"IF($C110=Post!$B$31,1,0)*(IF($P110=\"\",0,1))*(IF($P110=\"Contract\",0,1))","v":0},{"$f":"IF($C110=Post!$B$32,1,0)*(IF($P110=\"\",0,1))*(IF($P110=\"Contract\",0,1))","v":0},{"$f":"IF($C110=Post!$B$33,1,0)*(IF($P110=\"\",0,1))*(IF($P110=\"Contract\",0,1))","v":0},{"$f":"IF($C110=Post!$B$34,1,0)*(IF($P110=\"\",0,1))*(IF($P110=\"Contract\",0,1))","v":0},{"$f":"IF($C110=Post!$B$35,1,0)*(IF($P110=\"\",0,1))*(IF($P110=\"Contract\",0,1))","v":0},{"$f":"IF($C110=Post!$B$36,1,0)*(IF($P110=\"\",0,1))*(IF($P110=\"Contract\",0,1))","v":0},{"$f":"IF($C110=Post!$B$37,1,0)*(IF($P110=\"\",0,1))*(IF($P110=\"Contract\",0,1))","v":0},{"$f":"IF($C110=Post!$B$38,1,0)*(IF($P110=\"\",0,1))*(IF($P110=\"Contract\",0,1))","v":0},{"$f":"IF($C110=Post!$B$39,1,0)*(IF($P110=\"\",0,1))*(IF($P110=\"Contract\",0,1))","v":0},{"$f":"IF($C110=Post!$B$40,1,0)*(IF($P110=\"\",0,1))*(IF($P110=\"Contract\",0,1))","v":0},{"$f":"IF($C110=Post!$B$41,1,0)*(IF($P110=\"\",0,1))*(IF($P110=\"Contract\",0,1))","v":0},{"$f":"IF($C110=Post!$B$42,1,0)*(IF($P110=\"\",0,1))*(IF($P110=\"Contract\",0,1))","v":0},{"$f":"IF($C110=Post!$B$43,1,0)*(IF($P110=\"\",0,1))*(IF($P110=\"Contract\",0,1))","v":0},{"$f":"IF($C110=Post!$B$44,1,0)*(IF($P110=\"\",0,1))*(IF($P110=\"Contract\",0,1))","v":0},{"$f":"IF($C110=Post!$B$45,1,0)*(IF($P110=\"\",0,1))*(IF($P110=\"Contract\",0,1))","v":0},{"$f":"IF($C110=Post!$B$46,1,0)*(IF($P110=\"\",0,1))*(IF($P110=\"Contract\",0,1))","v":0},{"$f":"IF($C110=Post!$B$47,1,0)*(IF($P110=\"\",0,1))*(IF($P110=\"Contract\",0,1))","v":0},{"$f":"IF(C110=Post!B$48,1,0)*(IF(P110=\"\",0,1))*(IF($P110=\"Contract\",0,1))","v":0},{"$f":"IF(C110=Post!B$49,1,0)*(IF(P110=\"\",0,1))*(IF($P110=\"Contract\",0,1))","v":0},{"$f":"IF(C110=Post!B$50,1,0)*(IF(P110=\"\",0,1))*(IF($P110=\"Contract\",0,1))","v":0},0,0,0,0,0,0,0,0,0,0,0,0,0,0,0,0,0,0,0,0,0,0,0,0,0,0,0,0,0,0,0,0,0,0,0,0,0,0,0,0,0,0,0,0,0,0]
[".",null,null,null,null,null,null,null,null,null,null,null,null,null,null,null,null,null,null,{"$f":"SUM(T11:T110)","v":0},{"$f":"SUM(U11:U110)","v":0},0,0,0,null,0,0,0,0,0,0,0,0,0,0,0,0,0,0,0,0,0,0,0,0,0,0,0,0,0,0,0,0,0,0,0,0,0,0,0,0,0,0,0,0,0,0,0,0,0,0,0,0,0,0,0,0,0,0,0,0,0,0,0,{"$f":"SUM(CG11:CG110)","v":0},0,0,0,0,0,0,0,0,0,0,0,0,0,0,0,0,0,0,0,0,0,0,0,0,0,0,0,0,0,0,0,0,0,0,0,0,0]
[".",null,null,null,null,null,null,null,null,null,null,null,null,null,null,null,null,{"$f":"Database!N38","v":"प्रधानाचार्य"}]
[".",null,null,null,null,null,null,null,null,null,null,null,null,null,null,null,null,{"$f":"Database!N39","v":"jktdh; mPp ek/;fed fo|ky;"}]
[".",null,null,null,null,null,null,null,null,null,null,null,null,null,null,null,null,{"$f":"Database!N40","v":"pkSxkbZa] Vksad"}]
[".",null,null,null,null,null,null,null,null,null,null,null,null,null,null,null,null,{"$f":"Database!N41","v":27306}]

{"sheet":"Post","index":4,"n_rows":56,"n_cols":7,"rows_kept":56,"cut":false,"hidden":true,"merged":[[0,0,0,1],[0,2,0,6],[1,0,1,6],[7,2,7,3],[7,0,7,1]]}
[{"$f":"Database!B1","v":"dk;kZy;&"},null,{"$f":"Database!F1","v":"jktdh; mPp ek/;fed fo|ky;&pkSxkbZa] Vksad"}]
["Lohd`r] dk;Zjr ,oa fjDr inksa dk fooj.k"]
[null,{"$f":"Database!B3","v":"eq[; ys[kk 'kh\"kZ&"},{"$f":"Database!B4","v":2202},{"$f":"Database!C4","v":"lkekU; f'k{kk"},null,null,{"$f":"Database!H4","v":"MhMhvks dksM&"}]
[null,null,{"$f":"Database!B5","v":2},{"$f":"Database!C5","v":"ek/;fed f'k{kk"},null,null,{"$f":"Database!H5","v":27306}]
[null,null,{"$f":"Database!B6","v":109},{"$f":"Database!C6","v":"jktdh; mPp ek/;fed fo|ky;"}]
[null,null,{"$f":"Database!B7","v":1},{"$f":"Database!C7","v":"yMdksa ds fo|ky;"}]
[null,null,{"$f":"Database!B8","v":0},{"$f":"Database!C8","v":"lkekU; O;;"}]
["fnukad&31&08&2021 dh fLFkfr",null,{"$f":"Database!F8","v":"Ldhe dk uke&"},null,{"$f":"Database!H8","v":"राज्य निधि"}]
["Ø- la-","in uke ","ysoy bu is eSfVªDl","2023&24   esa Lohd`r in","dk;Zjr in","31-08-23 dks fjä in","fjfä dh rkjh[k"]
[1,2,3,4,5,6,7]
[1,"प्रधानाचार्य","L-16",{"$f":"COUNTIFS(Estemate!C$11:'Estemate'!C$110,B11)","v":0},{"$f":"'1A'!I12+'1A'!J12","v":0},{"$f":"D11-E11","v":0}]
[2,"उपप्रधानाचार्य","L-14",{"$f":"COUNTIFS(Estemate!C$11:'Estemate'!C$110,B12)","v":0},{"$f":"'1A'!I13+'1A'!J13","v":0},{"$f":"D12-E12","v":0}]
[3,"प्रधानाध्यापक","L-14",{"$f":"COUNTIFS(Estemate!C$11:'Estemate'!C$110,B13)","v":0},{"$f":"'1A'!I14+'1A'!J14","v":0},0]
[4,"व्याख्याता स्कूल (शिक्षा)","L-12",{"$f":"COUNTIFS(Estemate!C$11:'Estemate'!C$110,B14)","v":0},{"$f":"'1A'!I15+'1A'!J15","v":0},0]
[5,"कृषि शिक्षा प्रभारी","L-12",{"$f":"COUNTIFS(Estemate!C$11:'Estemate'!C$110,B15)","v":0},{"$f":"'1A'!I16+'1A'!J16","v":0},0]
[6,"शारीरिक शिक्षक श्रेणी I","L-12",{"$f":"COUNTIFS(Estemate!C$11:'Estemate'!C$110,B16)","v":0},{"$f":"'1A'!I17+'1A'!J17","v":0},0]
[7,"पुस्तकालय अध्यक्ष श्रेणी I","L-12",{"$f":"COUNTIFS(Estemate!C$11:'Estemate'!C$110,B17)","v":0},{"$f":"'1A'!I18+'1A'!J18","v":0},0]
[8,"वरिष्ठ अध्यापक","L-11",{"$f":"COUNTIFS(Estemate!C$11:'Estemate'!C$110,B18)","v":0},{"$f":"'1A'!I19+'1A'!J19","v":0},0]
[9,"वरिष्ठ प्रबोधक","L-11",{"$f":"COUNTIFS(Estemate!C$11:'Estemate'!C$110,B19)","v":0},{"$f":"'1A'!I20+'1A'!J20","v":0},0]
[10,"वरिष्ठ विशेष शिक्षक","L-11",{"$f":"COUNTIFS(Estemate!C$11:'Estemate'!C$110,B20)","v":0},{"$f":"'1A'!I21+'1A'!J21","v":0},0]
[11,"कृषि अध्यापक","L-11",{"$f":"COUNTIFS(Estemate!C$11:'Estemate'!C$110,B21)","v":0},{"$f":"'1A'!I22+'1A'!J22","v":0},0]
[12,"शारीरिक शिक्षक श्रेणी II","L-11",{"$f":"COUNTIFS(Estemate!C$11:'Estemate'!C$110,B22)","v":0},{"$f":"'1A'!I23+'1A'!J23","v":0},0]
[13,"पुस्तकालय अध्यक्ष श्रेणी II","L-11",{"$f":"COUNTIFS(Estemate!C$11:'Estemate'!C$110,B23)","v":0},{"$f":"'1A'!I24+'1A'!J24","v":0},0]
[14,"अध्यापक","L-10",{"$f":"COUNTIFS(Estemate!C$11:'Estemate'!C$110,B24)","v":0},{"$f":"'1A'!I25+'1A'!J25","v":0},0]
[15,"प्रबोधक","L-10",{"$f":"COUNTIFS(Estemate!C$11:'Estemate'!C$110,B25)","v":0},{"$f":"'1A'!I26+'1A'!J26","v":0},0]
[16,"शारीरिक शिक्षक श्रेणी III","L-10",{"$f":"COUNTIFS(Estemate!C$11:'Estemate'!C$110,B26)","v":0},{"$f":"'1A'!I27+'1A'!J27","v":0},0]
[17,"प्रबोधक शारीरिक शिक्षक","L-10",{"$f":"COUNTIFS(Estemate!C$11:'Estemate'!C$110,B27)","v":0},{"$f":"'1A'!I28+'1A'!J28","v":0},0]
[18,"प्रशिक्षु शिक्षक","L-10",{"$f":"COUNTIFS(Estemate!C$11:'Estemate'!C$110,B28)","v":0},{"$f":"'1A'!I29+'1A'!J29","v":0},0]
[19,"पुस्तकालय अध्यक्ष श्रेणी III","L-10",{"$f":"COUNTIFS(Estemate!C$11:'Estemate'!C$110,B29)","v":0},{"$f":"'1A'!I30+'1A'!J30","v":0},0]
[20,"विशेष शिक्षक","L-10",{"$f":"COUNTIFS(Estemate!C$11:'Estemate'!C$110,B30)","v":0},{"$f":"'1A'!I31+'1A'!J31","v":0},0]
[21,"अतिरिक्त प्रशासनिक अधिकारी","L-11",{"$f":"COUNTIFS(Estemate!C$11:'Estemate'!C$110,B31)","v":0},{"$f":"'1A'!I32+'1A'!J32","v":0},0]
[22,"सहायक प्रशासनिक अधिकारी","L-10",{"$f":"COUNTIFS(Estemate!C$11:'Estemate'!C$110,B32)","v":0},{"$f":"'1A'!I33+'1A'!J33","v":0},0]
[23,"बेसिक कम्प्युटर अनुदेशक","L-8",{"$f":"COUNTIFS(Estemate!C$11:'Estemate'!C$110,B33)","v":0},{"$f":"'1A'!I34+'1A'!J34","v":0},0]
[24,"वरिष्ठ कम्प्युटर अनुदेशक","L-8",{"$f":"COUNTIFS(Estemate!C$11:'Estemate'!C$110,B34)","v":0},{"$f":"'1A'!I35+'1A'!J35","v":0},0]
[25,"वरिष्ठ सहायक","L-8",{"$f":"COUNTIFS(Estemate!C$11:'Estemate'!C$110,B35)","v":0},{"$f":"'1A'!I36+'1A'!J36","v":0},0]
[26,"कनिष्ठ सहायक","L-5",{"$f":"COUNTIFS(Estemate!C$11:'Estemate'!C$110,B36)","v":0},{"$f":"'1A'!I37+'1A'!J37","v":0},0]
[27,"प्रयोगशाला सहायक","L-5",{"$f":"COUNTIFS(Estemate!C$11:'Estemate'!C$110,B37)","v":0},{"$f":"'1A'!I38+'1A'!J38","v":0},0]
[28,"प्रयोगशाला परिचारक","L-1",{"$f":"COUNTIFS(Estemate!C$11:'Estemate'!C$110,B38)","v":0},{"$f":"'1A'!I39+'1A'!J39","v":0},0]
[29,"जमादार","L-1",{"$f":"COUNTIFS(Estemate!C$11:'Estemate'!C$110,B39)","v":0},{"$f":"'1A'!I40+'1A'!J40","v":0},0]
[30,"चतुर्थ श्रेणी कर्मचारी","L-1",{"$f":"COUNTIFS(Estemate!C$11:'Estemate'!C$110,B40)","v":0},{"$f":"'1A'!I41+'1A'!J41","v":0},0]
[31,null,null,{"$f":"COUNTIFS(Estemate!C$11:'Estemate'!C$110,B41)","v":0},{"$f":"'1A'!I42+'1A'!J42","v":0},0]
[32,null,null,{"$f":"COUNTIFS(Estemate!C$11:'Estemate'!C$110,B42)","v":0},{"$f":"'1A'!I43+'1A'!J43","v":0},0]
[33,null,null,{"$f":"COUNTIFS(Estemate!C$11:'Estemate'!C$110,B43)","v":0},{"$f":"'1A'!I44+'1A'!J44","v":0},0]
[34,null,null,{"$f":"COUNTIFS(Estemate!C$11:'Estemate'!C$110,B44)","v":0},{"$f":"'1A'!I45+'1A'!J45","v":0},0]
[35,null,null,{"$f":"COUNTIFS(Estemate!C$11:'Estemate'!C$110,B45)","v":0},{"$f":"'1A'!I46+'1A'!J46","v":0},0]
[36,null,null,{"$f":"COUNTIFS(Estemate!C$11:'Estemate'!C$110,B46)","v":0},{"$f":"'1A'!I47+'1A'!J47","v":0},0]
[37,null,null,{"$f":"COUNTIFS(Estemate!C$11:'Estemate'!C$110,B47)","v":0},{"$f":"'1A'!I48+'1A'!J48","v":0},0]
[38,null,null,{"$f":"COUNTIFS(Estemate!C$11:'Estemate'!C$110,B48)","v":0},{"$f":"'1A'!I49+'1A'!J49","v":0},0]
[39,null,null,{"$f":"COUNTIFS(Estemate!C$11:'Estemate'!C$110,B49)","v":0},{"$f":"'1A'!I50+'1A'!J50","v":0},0]
[40,null,null,{"$f":"COUNTIFS(Estemate!C$11:'Estemate'!C$110,B50)","v":0},{"$f":"'1A'!I51+'1A'!J51","v":0},0]
[null,"Total",null,{"$f":"SUM(D11:D50)","v":0},{"$f":"SUM(E11:E50)","v":0},{"$f":"SUM(F11:F50)","v":0}]
[]
[null,null,null,null,null,{"$f":"Database!A3","v":"प्रधानाचार्य"}]
[null,null,null,null,null,{"$f":"Database!A4","v":"jktdh; mPp ek/;fed fo|ky;"}]
[null,null,null,null,null,{"$f":"Database!A5","v":"pkSxkbZa] Vksad"}]
[null,null,null,null,null,{"$f":"Database!H5","v":27306}]

{"sheet":"Arear","index":5,"n_rows":110,"n_cols":12,"rows_kept":110,"cut":false,"hidden":true,"merged":[[0,2,0,7],[1,1,1,7],[2,1,2,2],[7,2,7,3],[7,4,7,5]]}
[null,{"$f":"Database!B1","v":"dk;kZy;&"},{"$f":"Database!F1","v":"jktdh; mPp ek/;fed fo|ky;&pkSxkbZa] Vksad"}]
[null,",fj;j osru fLFkfjdj.k@,lhih"]
[null,{"$f":"Database!B3","v":"eq[; ys[kk 'kh\"kZ&"},null,{"$f":"Database!B4","v":2202},{"$f":"Database!C4","v":"lkekU; f'k{kk"},null,null,{"$f":"Database!H4","v":"MhMhvks dksM&"}]
[null,null,null,{"$f":"Database!B5","v":2},{"$f":"Database!C5","v":"ek/;fed f'k{kk"},null,null,{"$f":"Database!H5","v":27306}]
[null,null,null,{"$f":"Database!B6","v":109},{"$f":"Database!C6","v":"jktdh; mPp ek/;fed fo|ky;"}]
[null,null,null,{"$f":"Database!B7","v":1},{"$f":"Database!C7","v":"yMdksa ds fo|ky;"}]
[null,null,null,{"$f":"Database!B8","v":0},{"$f":"Database!C8","v":"lkekU; O;;"}]
[null,null,{"$f":"Database!F8","v":"Ldhe dk uke&"},null,{"$f":"Database!H8","v":"राज्य निधि"}]
["Est dh Ø-la- vafdr djsa","Ø-la-","DDO CODE","uke dkfeZd","in",",fj;j dk izdkj","vof/k","jkf'k","dz0la0","uke dkfeZd","inuke","DDO Code"]
[null,1,2,3,4,5,6,7]
[null,{"$f":"IF(C11=\"\",\"\",1)","v":""},{"$f":"IF(ISNA(VLOOKUP(A11,I$11:L$110,4,FALSE)),\"\",VLOOKUP(A11,I$11:L$110,4,FALSE))","v":""},{"$f":"IF(ISNA(VLOOKUP(A11,I$11:L$110,2,FALSE)),\"\",VLOOKUP(A11,I$11:L$110,2,FALSE))","v":""},{"$f":"IF(ISNA(VLOOKUP(A11,I$11:L$110,3,FALSE)),\"\",VLOOKUP(A11,I$11:L$110,3,FALSE))","v":""},null,null,null,1,{"$f":"IF(Estemate!P11=\"Contract\",0,Estemate!G11)","v":0},{"$f":"IF(Estemate!P11=\"Contract\",0,Estemate!C11)","v":0},{"$f":"IF(Estemate!P11=\"Contract\",0,Estemate!B11)","v":""}]
[null,{"$f":"IF(C12=\"\",\"\",B11+1)","v":""},{"$f":"IF(ISNA(VLOOKUP(A12,I$11:L$110,4,FALSE)),\"\",VLOOKUP(A12,I$11:L$110,4,FALSE))","v":""},{"$f":"IF(ISNA(VLOOKUP(A12,I$11:L$110,2,FALSE)),\"\",VLOOKUP(A12,I$11:L$110,2,FALSE))","v":""},{"$f":"IF(ISNA(VLOOKUP(A12,I$11:L$110,3,FALSE)),\"\",VLOOKUP(A12,I$11:L$110,3,FALSE))","v":""},null,null,null,2,{"$f":"IF(Estemate!P12=\"Contract\",0,Estemate!G12)","v":0},{"$f":"IF(Estemate!P12=\"Contract\",0,Estemate!C12)","v":0},{"$f":"IF(Estemate!P12=\"Contract\",0,Estemate!B12)","v":""}]
[null,{"$f":"IF(C13=\"\",\"\",B12+1)","v":""},"","","",null,null,null,3,{"$f":"IF(Estemate!P13=\"Contract\",0,Estemate!G13)","v":0},{"$f":"IF(Estemate!P13=\"Contract\",0,Estemate!C13)","v":0},{"$f":"IF(Estemate!P13=\"Contract\",0,Estemate!B13)","v":""}]
[null,"","","","",null,null,null,4,{"$f":"IF(Estemate!P14=\"Contract\",0,Estemate!G14)","v":0},{"$f":"IF(Estemate!P14=\"Contract\",0,Estemate!C14)","v":0},{"$f":"IF(Estemate!P14=\"Contract\",0,Estemate!B14)","v":""}]
[null,"","","","",null,null,null,5,{"$f":"IF(Estemate!P15=\"Contract\",0,Estemate!G15)","v":0},{"$f":"IF(Estemate!P15=\"Contract\",0,Estemate!C15)","v":0},{"$f":"IF(Estemate!P15=\"Contract\",0,Estemate!B15)","v":""}]
[null,"","","","",null,null,null,6,{"$f":"IF(Estemate!P16=\"Contract\",0,Estemate!G16)","v":0},{"$f":"IF(Estemate!P16=\"Contract\",0,Estemate!C16)","v":0},{"$f":"IF(Estemate!P16=\"Contract\",0,Estemate!B16)","v":""}]
[null,"","","","",null,null,null,7,{"$f":"IF(Estemate!P17=\"Contract\",0,Estemate!G17)","v":0},{"$f":"IF(Estemate!P17=\"Contract\",0,Estemate!C17)","v":0},{"$f":"IF(Estemate!P17=\"Contract\",0,Estemate!B17)","v":""}]
[null,"","","","",null,null,null,8,{"$f":"IF(Estemate!P18=\"Contract\",0,Estemate!G18)","v":0},{"$f":"IF(Estemate!P18=\"Contract\",0,Estemate!C18)","v":0},{"$f":"IF(Estemate!P18=\"Contract\",0,Estemate!B18)","v":""}]
[null,"","","","",null,null,null,9,{"$f":"IF(Estemate!P19=\"Contract\",0,Estemate!G19)","v":0},{"$f":"IF(Estemate!P19=\"Contract\",0,Estemate!C19)","v":0},{"$f":"IF(Estemate!P19=\"Contract\",0,Estemate!B19)","v":""}]
[null,"","","","",null,null,null,10,{"$f":"IF(Estemate!P20=\"Contract\",0,Estemate!G20)","v":0},{"$f":"IF(Estemate!P20=\"Contract\",0,Estemate!C20)","v":0},{"$f":"IF(Estemate!P20=\"Contract\",0,Estemate!B20)","v":""}]
[null,"","","","",null,null,null,11,{"$f":"IF(Estemate!P21=\"Contract\",0,Estemate!G21)","v":0},{"$f":"IF(Estemate!P21=\"Contract\",0,Estemate!C21)","v":0},{"$f":"IF(Estemate!P21=\"Contract\",0,Estemate!B21)","v":""}]
[null,"","","","",null,null,null,12,{"$f":"IF(Estemate!P22=\"Contract\",0,Estemate!G22)","v":0},{"$f":"IF(Estemate!P22=\"Contract\",0,Estemate!C22)","v":0},{"$f":"IF(Estemate!P22=\"Contract\",0,Estemate!B22)","v":""}]
[null,"","","","",null,null,null,13,{"$f":"IF(Estemate!P23=\"Contract\",0,Estemate!G23)","v":0},{"$f":"IF(Estemate!P23=\"Contract\",0,Estemate!C23)","v":0},{"$f":"IF(Estemate!P23=\"Contract\",0,Estemate!B23)","v":""}]
[null,"","","","",null,null,null,14,{"$f":"IF(Estemate!P24=\"Contract\",0,Estemate!G24)","v":0},{"$f":"IF(Estemate!P24=\"Contract\",0,Estemate!C24)","v":0},{"$f":"IF(Estemate!P24=\"Contract\",0,Estemate!B24)","v":""}]
[null,"","","","",null,null,null,15,{"$f":"IF(Estemate!P25=\"Contract\",0,Estemate!G25)","v":0},{"$f":"IF(Estemate!P25=\"Contract\",0,Estemate!C25)","v":0},{"$f":"IF(Estemate!P25=\"Contract\",0,Estemate!B25)","v":""}]
[null,"","","","",null,null,null,16,{"$f":"IF(Estemate!P26=\"Contract\",0,Estemate!G26)","v":0},{"$f":"IF(Estemate!P26=\"Contract\",0,Estemate!C26)","v":0},{"$f":"IF(Estemate!P26=\"Contract\",0,Estemate!B26)","v":""}]
[null,"","","","",null,null,null,17,{"$f":"IF(Estemate!P27=\"Contract\",0,Estemate!G27)","v":0},{"$f":"IF(Estemate!P27=\"Contract\",0,Estemate!C27)","v":0},{"$f":"IF(Estemate!P27=\"Contract\",0,Estemate!B27)","v":""}]
[null,"","","","",null,null,null,18,{"$f":"IF(Estemate!P28=\"Contract\",0,Estemate!G28)","v":0},{"$f":"IF(Estemate!P28=\"Contract\",0,Estemate!C28)","v":0},{"$f":"IF(Estemate!P28=\"Contract\",0,Estemate!B28)","v":""}]
[null,"","","","",null,null,null,19,{"$f":"IF(Estemate!P29=\"Contract\",0,Estemate!G29)","v":0},{"$f":"IF(Estemate!P29=\"Contract\",0,Estemate!C29)","v":0},{"$f":"IF(Estemate!P29=\"Contract\",0,Estemate!B29)","v":""}]
[null,"","","","",null,null,null,20,{"$f":"IF(Estemate!P30=\"Contract\",0,Estemate!G30)","v":0},{"$f":"IF(Estemate!P30=\"Contract\",0,Estemate!C30)","v":0},{"$f":"IF(Estemate!P30=\"Contract\",0,Estemate!B30)","v":""}]
[null,null,null,"Total",null,null,null,{"$f":"SUM(H11:H30)","v":0},21,{"$f":"IF(Estemate!P31=\"Contract\",0,Estemate!G31)","v":0},{"$f":"IF(Estemate!P31=\"Contract\",0,Estemate!C31)","v":0},{"$f":"IF(Estemate!P31=\"Contract\",0,Estemate!B31)","v":""}]
[null,null,null,null,null,null,null,null,22,{"$f":"IF(Estemate!P32=\"Contract\",0,Estemate!G32)","v":0},{"$f":"IF(Estemate!P32=\"Contract\",0,Estemate!C32)","v":0},{"$f":"IF(Estemate!P32=\"Contract\",0,Estemate!B32)","v":""}]
[null,null,null,null,null,null,{"$f":"Database!N38","v":"प्रधानाचार्य"},null,23,{"$f":"IF(Estemate!P33=\"Contract\",0,Estemate!G33)","v":0},{"$f":"IF(Estemate!P33=\"Contract\",0,Estemate!C33)","v":0},{"$f":"IF(Estemate!P33=\"Contract\",0,Estemate!B33)","v":""}]
[null,null,null,null,null,null,{"$f":"Database!N39","v":"jktdh; mPp ek/;fed fo|ky;"},null,24,{"$f":"IF(Estemate!P34=\"Contract\",0,Estemate!G34)","v":0},{"$f":"IF(Estemate!P34=\"Contract\",0,Estemate!C34)","v":0},{"$f":"IF(Estemate!P34=\"Contract\",0,Estemate!B34)","v":""}]
[null,null,null,null,null,null,{"$f":"Database!N40","v":"pkSxkbZa] Vksad"},null,25,{"$f":"IF(Estemate!P35=\"Contract\",0,Estemate!G35)","v":0},{"$f":"IF(Estemate!P35=\"Contract\",0,Estemate!C35)","v":0},{"$f":"IF(Estemate!P35=\"Contract\",0,Estemate!B35)","v":""}]
[null,null,null,null,null,null,{"$f":"Database!N41","v":27306},null,26,{"$f":"IF(Estemate!P36=\"Contract\",0,Estemate!G36)","v":0},{"$f":"IF(Estemate!P36=\"Contract\",0,Estemate!C36)","v":0},{"$f":"IF(Estemate!P36=\"Contract\",0,Estemate!B36)","v":""}]
[null,null,null,null,null,null,null,null,27,{"$f":"IF(Estemate!P37=\"Contract\",0,Estemate!G37)","v":0},{"$f":"IF(Estemate!P37=\"Contract\",0,Estemate!C37)","v":0},{"$f":"IF(Estemate!P37=\"Contract\",0,Estemate!B37)","v":""}]
[null,null,null,null,null,null,null,null,28,{"$f":"IF(Estemate!P38=\"Contract\",0,Estemate!G38)","v":0},{"$f":"IF(Estemate!P38=\"Contract\",0,Estemate!C38)","v":0},{"$f":"IF(Estemate!P38=\"Contract\",0,Estemate!B38)","v":""}]
[null,null,null,null,null,null,null,null,29,{"$f":"IF(Estemate!P39=\"Contract\",0,Estemate!G39)","v":0},{"$f":"IF(Estemate!P39=\"Contract\",0,Estemate!C39)","v":0},{"$f":"IF(Estemate!P39=\"Contract\",0,Estemate!B39)","v":""}]
[null,null,null,null,null,null,null,null,30,{"$f":"IF(Estemate!P40=\"Contract\",0,Estemate!G40)","v":0},{"$f":"IF(Estemate!P40=\"Contract\",0,Estemate!C40)","v":0},{"$f":"IF(Estemate!P40=\"Contract\",0,Estemate!B40)","v":""}]
[null,null,null,null,null,null,null,null,31,{"$f":"IF(Estemate!P41=\"Contract\",0,Estemate!G41)","v":0},{"$f":"IF(Estemate!P41=\"Contract\",0,Estemate!C41)","v":0},{"$f":"IF(Estemate!P41=\"Contract\",0,Estemate!B41)","v":""}]
[null,null,null,null,null,null,null,null,32,{"$f":"IF(Estemate!P42=\"Contract\",0,Estemate!G42)","v":0},{"$f":"IF(Estemate!P42=\"Contract\",0,Estemate!C42)","v":0},{"$f":"IF(Estemate!P42=\"Contract\",0,Estemate!B42)","v":""}]
[null,null,null,null,null,null,null,null,33,{"$f":"IF(Estemate!P43=\"Contract\",0,Estemate!G43)","v":0},{"$f":"IF(Estemate!P43=\"Contract\",0,Estemate!C43)","v":0},{"$f":"IF(Estemate!P43=\"Contract\",0,Estemate!B43)","v":""}]
[null,null,null,null,null,null,null,null,34,{"$f":"IF(Estemate!P44=\"Contract\",0,Estemate!G44)","v":0},{"$f":"IF(Estemate!P44=\"Contract\",0,Estemate!C44)","v":0},{"$f":"IF(Estemate!P44=\"Contract\",0,Estemate!B44)","v":""}]
[null,null,null,null,null,null,null,null,35,{"$f":"IF(Estemate!P45=\"Contract\",0,Estemate!G45)","v":0},{"$f":"IF(Estemate!P45=\"Contract\",0,Estemate!C45)","v":0},{"$f":"IF(Estemate!P45=\"Contract\",0,Estemate!B45)","v":""}]
[null,null,null,null,null,null,null,null,36,{"$f":"IF(Estemate!P46=\"Contract\",0,Estemate!G46)","v":0},{"$f":"IF(Estemate!P46=\"Contract\",0,Estemate!C46)","v":0},{"$f":"IF(Estemate!P46=\"Contract\",0,Estemate!B46)","v":""}]
[null,null,null,null,null,null,null,null,37,{"$f":"IF(Estemate!P47=\"Contract\",0,Estemate!G47)","v":0},{"$f":"IF(Estemate!P47=\"Contract\",0,Estemate!C47)","v":0},{"$f":"IF(Estemate!P47=\"Contract\",0,Estemate!B47)","v":""}]
[null,null,null,null,null,null,null,null,38,{"$f":"IF(Estemate!P48=\"Contract\",0,Estemate!G48)","v":0},{"$f":"IF(Estemate!P48=\"Contract\",0,Estemate!C48)","v":0},{"$f":"IF(Estemate!P48=\"Contract\",0,Estemate!B48)","v":""}]
[null,null,null,null,null,null,null,null,39,{"$f":"IF(Estemate!P49=\"Contract\",0,Estemate!G49)","v":0},{"$f":"IF(Estemate!P49=\"Contract\",0,Estemate!C49)","v":0},{"$f":"IF(Estemate!P49=\"Contract\",0,Estemate!B49)","v":""}]
[null,null,null,null,null,null,null,null,40,{"$f":"IF(Estemate!P50=\"Contract\",0,Estemate!G50)","v":0},{"$f":"IF(Estemate!P50=\"Contract\",0,Estemate!C50)","v":0},{"$f":"IF(Estemate!P50=\"Contract\",0,Estemate!B50)","v":""}]
[null,null,null,null,null,null,null,null,41,{"$f":"IF(Estemate!P51=\"Contract\",0,Estemate!G51)","v":0},{"$f":"IF(Estemate!P51=\"Contract\",0,Estemate!C51)","v":0},{"$f":"IF(Estemate!P51=\"Contract\",0,Estemate!B51)","v":""}]
[null,null,null,null,null,null,null,null,42,{"$f":"IF(Estemate!P52=\"Contract\",0,Estemate!G52)","v":0},{"$f":"IF(Estemate!P52=\"Contract\",0,Estemate!C52)","v":0},{"$f":"IF(Estemate!P52=\"Contract\",0,Estemate!B52)","v":""}]
[null,null,null,null,null,null,null,null,43,{"$f":"IF(Estemate!P53=\"Contract\",0,Estemate!G53)","v":0},{"$f":"IF(Estemate!P53=\"Contract\",0,Estemate!C53)","v":0},{"$f":"IF(Estemate!P53=\"Contract\",0,Estemate!B53)","v":""}]
[null,null,null,null,null,null,null,null,44,{"$f":"IF(Estemate!P54=\"Contract\",0,Estemate!G54)","v":0},{"$f":"IF(Estemate!P54=\"Contract\",0,Estemate!C54)","v":0},{"$f":"IF(Estemate!P54=\"Contract\",0,Estemate!B54)","v":""}]
[null,null,null,null,null,null,null,null,45,{"$f":"IF(Estemate!P55=\"Contract\",0,Estemate!G55)","v":0},{"$f":"IF(Estemate!P55=\"Contract\",0,Estemate!C55)","v":0},{"$f":"IF(Estemate!P55=\"Contract\",0,Estemate!B55)","v":""}]
[null,null,null,null,null,null,null,null,46,{"$f":"IF(Estemate!P56=\"Contract\",0,Estemate!G56)","v":0},{"$f":"IF(Estemate!P56=\"Contract\",0,Estemate!C56)","v":0},{"$f":"IF(Estemate!P56=\"Contract\",0,Estemate!B56)","v":""}]
[null,null,null,null,null,null,null,null,47,{"$f":"IF(Estemate!P57=\"Contract\",0,Estemate!G57)","v":0},{"$f":"IF(Estemate!P57=\"Contract\",0,Estemate!C57)","v":0},{"$f":"IF(Estemate!P57=\"Contract\",0,Estemate!B57)","v":""}]
[null,null,null,null,null,null,null,null,48,{"$f":"IF(Estemate!P58=\"Contract\",0,Estemate!G58)","v":0},{"$f":"IF(Estemate!P58=\"Contract\",0,Estemate!C58)","v":0},{"$f":"IF(Estemate!P58=\"Contract\",0,Estemate!B58)","v":""}]
[null,null,null,null,null,null,null,null,49,{"$f":"IF(Estemate!P59=\"Contract\",0,Estemate!G59)","v":0},{"$f":"IF(Estemate!P59=\"Contract\",0,Estemate!C59)","v":0},{"$f":"IF(Estemate!P59=\"Contract\",0,Estemate!B59)","v":""}]
[null,null,null,null,null,null,null,null,50,{"$f":"IF(Estemate!P60=\"Contract\",0,Estemate!G60)","v":0},{"$f":"IF(Estemate!P60=\"Contract\",0,Estemate!C60)","v":0},{"$f":"IF(Estemate!P60=\"Contract\",0,Estemate!B60)","v":""}]
[null,null,null,null,null,null,null,null,51,{"$f":"IF(Estemate!P61=\"Contract\",0,Estemate!G61)","v":0},{"$f":"IF(Estemate!P61=\"Contract\",0,Estemate!C61)","v":0},{"$f":"IF(Estemate!P61=\"Contract\",0,Estemate!B61)","v":""}]
[null,null,null,null,null,null,null,null,52,{"$f":"IF(Estemate!P62=\"Contract\",0,Estemate!G62)","v":0},{"$f":"IF(Estemate!P62=\"Contract\",0,Estemate!C62)","v":0},{"$f":"IF(Estemate!P62=\"Contract\",0,Estemate!B62)","v":""}]
[null,null,null,null,null,null,null,null,53,{"$f":"IF(Estemate!P63=\"Contract\",0,Estemate!G63)","v":0},{"$f":"IF(Estemate!P63=\"Contract\",0,Estemate!C63)","v":0},{"$f":"IF(Estemate!P63=\"Contract\",0,Estemate!B63)","v":""}]
[null,null,null,null,null,null,null,null,54,{"$f":"IF(Estemate!P64=\"Contract\",0,Estemate!G64)","v":0},{"$f":"IF(Estemate!P64=\"Contract\",0,Estemate!C64)","v":0},{"$f":"IF(Estemate!P64=\"Contract\",0,Estemate!B64)","v":""}]
[null,null,null,null,null,null,null,null,55,{"$f":"IF(Estemate!P65=\"Contract\",0,Estemate!G65)","v":0},{"$f":"IF(Estemate!P65=\"Contract\",0,Estemate!C65)","v":0},{"$f":"IF(Estemate!P65=\"Contract\",0,Estemate!B65)","v":""}]
[null,null,null,null,null,null,null,null,56,{"$f":"IF(Estemate!P66=\"Contract\",0,Estemate!G66)","v":0},{"$f":"IF(Estemate!P66=\"Contract\",0,Estemate!C66)","v":0},{"$f":"IF(Estemate!P66=\"Contract\",0,Estemate!B66)","v":""}]
[null,null,null,null,null,null,null,null,57,{"$f":"IF(Estemate!P67=\"Contract\",0,Estemate!G67)","v":0},{"$f":"IF(Estemate!P67=\"Contract\",0,Estemate!C67)","v":0},{"$f":"IF(Estemate!P67=\"Contract\",0,Estemate!B67)","v":""}]
[null,null,null,null,null,null,null,null,58,{"$f":"IF(Estemate!P68=\"Contract\",0,Estemate!G68)","v":0},{"$f":"IF(Estemate!P68=\"Contract\",0,Estemate!C68)","v":0},{"$f":"IF(Estemate!P68=\"Contract\",0,Estemate!B68)","v":""}]
[null,null,null,null,null,null,null,null,59,{"$f":"IF(Estemate!P69=\"Contract\",0,Estemate!G69)","v":0},{"$f":"IF(Estemate!P69=\"Contract\",0,Estemate!C69)","v":0},{"$f":"IF(Estemate!P69=\"Contract\",0,Estemate!B69)","v":""}]
[null,null,null,null,null,null,null,null,60,{"$f":"IF(Estemate!P70=\"Contract\",0,Estemate!G70)","v":0},{"$f":"IF(Estemate!P70=\"Contract\",0,Estemate!C70)","v":0},{"$f":"IF(Estemate!P70=\"Contract\",0,Estemate!B70)","v":""}]
[null,null,null,null,null,null,null,null,61,{"$f":"IF(Estemate!P71=\"Contract\",0,Estemate!G71)","v":0},{"$f":"IF(Estemate!P71=\"Contract\",0,Estemate!C71)","v":0},{"$f":"IF(Estemate!P71=\"Contract\",0,Estemate!B71)","v":""}]
[null,null,null,null,null,null,null,null,62,{"$f":"IF(Estemate!P72=\"Contract\",0,Estemate!G72)","v":0},{"$f":"IF(Estemate!P72=\"Contract\",0,Estemate!C72)","v":0},{"$f":"IF(Estemate!P72=\"Contract\",0,Estemate!B72)","v":""}]
[null,null,null,null,null,null,null,null,63,{"$f":"IF(Estemate!P73=\"Contract\",0,Estemate!G73)","v":0},{"$f":"IF(Estemate!P73=\"Contract\",0,Estemate!C73)","v":0},{"$f":"IF(Estemate!P73=\"Contract\",0,Estemate!B73)","v":""}]
[null,null,null,null,null,null,null,null,64,{"$f":"IF(Estemate!P74=\"Contract\",0,Estemate!G74)","v":0},{"$f":"IF(Estemate!P74=\"Contract\",0,Estemate!C74)","v":0},{"$f":"IF(Estemate!P74=\"Contract\",0,Estemate!B74)","v":""}]
[null,null,null,null,null,null,null,null,65,{"$f":"IF(Estemate!P75=\"Contract\",0,Estemate!G75)","v":0},{"$f":"IF(Estemate!P75=\"Contract\",0,Estemate!C75)","v":0},{"$f":"IF(Estemate!P75=\"Contract\",0,Estemate!B75)","v":""}]
[null,null,null,null,null,null,null,null,66,{"$f":"IF(Estemate!P76=\"Contract\",0,Estemate!G76)","v":0},{"$f":"IF(Estemate!P76=\"Contract\",0,Estemate!C76)","v":0},{"$f":"IF(Estemate!P76=\"Contract\",0,Estemate!B76)","v":""}]
[null,null,null,null,null,null,null,null,67,{"$f":"IF(Estemate!P77=\"Contract\",0,Estemate!G77)","v":0},{"$f":"IF(Estemate!P77=\"Contract\",0,Estemate!C77)","v":0},{"$f":"IF(Estemate!P77=\"Contract\",0,Estemate!B77)","v":""}]
[null,null,null,null,null,null,null,null,68,{"$f":"IF(Estemate!P78=\"Contract\",0,Estemate!G78)","v":0},{"$f":"IF(Estemate!P78=\"Contract\",0,Estemate!C78)","v":0},{"$f":"IF(Estemate!P78=\"Contract\",0,Estemate!B78)","v":""}]
[null,null,null,null,null,null,null,null,69,{"$f":"IF(Estemate!P79=\"Contract\",0,Estemate!G79)","v":0},{"$f":"IF(Estemate!P79=\"Contract\",0,Estemate!C79)","v":0},{"$f":"IF(Estemate!P79=\"Contract\",0,Estemate!B79)","v":""}]
[null,null,null,null,null,null,null,null,70,{"$f":"IF(Estemate!P80=\"Contract\",0,Estemate!G80)","v":0},{"$f":"IF(Estemate!P80=\"Contract\",0,Estemate!C80)","v":0},{"$f":"IF(Estemate!P80=\"Contract\",0,Estemate!B80)","v":""}]
[null,null,null,null,null,null,null,null,71,{"$f":"IF(Estemate!P81=\"Contract\",0,Estemate!G81)","v":0},{"$f":"IF(Estemate!P81=\"Contract\",0,Estemate!C81)","v":0},{"$f":"IF(Estemate!P81=\"Contract\",0,Estemate!B81)","v":""}]
[null,null,null,null,null,null,null,null,72,{"$f":"IF(Estemate!P82=\"Contract\",0,Estemate!G82)","v":0},{"$f":"IF(Estemate!P82=\"Contract\",0,Estemate!C82)","v":0},{"$f":"IF(Estemate!P82=\"Contract\",0,Estemate!B82)","v":""}]
[null,null,null,null,null,null,null,null,73,{"$f":"IF(Estemate!P83=\"Contract\",0,Estemate!G83)","v":0},{"$f":"IF(Estemate!P83=\"Contract\",0,Estemate!C83)","v":0},{"$f":"IF(Estemate!P83=\"Contract\",0,Estemate!B83)","v":""}]
[null,null,null,null,null,null,null,null,74,{"$f":"IF(Estemate!P84=\"Contract\",0,Estemate!G84)","v":0},{"$f":"IF(Estemate!P84=\"Contract\",0,Estemate!C84)","v":0},{"$f":"IF(Estemate!P84=\"Contract\",0,Estemate!B84)","v":""}]
[null,null,null,null,null,null,null,null,75,{"$f":"IF(Estemate!P85=\"Contract\",0,Estemate!G85)","v":0},{"$f":"IF(Estemate!P85=\"Contract\",0,Estemate!C85)","v":0},{"$f":"IF(Estemate!P85=\"Contract\",0,Estemate!B85)","v":""}]
[null,null,null,null,null,null,null,null,76,{"$f":"IF(Estemate!P86=\"Contract\",0,Estemate!G86)","v":0},{"$f":"IF(Estemate!P86=\"Contract\",0,Estemate!C86)","v":0},{"$f":"IF(Estemate!P86=\"Contract\",0,Estemate!B86)","v":""}]
[null,null,null,null,null,null,null,null,77,{"$f":"IF(Estemate!P87=\"Contract\",0,Estemate!G87)","v":0},{"$f":"IF(Estemate!P87=\"Contract\",0,Estemate!C87)","v":0},{"$f":"IF(Estemate!P87=\"Contract\",0,Estemate!B87)","v":""}]
[null,null,null,null,null,null,null,null,78,{"$f":"IF(Estemate!P88=\"Contract\",0,Estemate!G88)","v":0},{"$f":"IF(Estemate!P88=\"Contract\",0,Estemate!C88)","v":0},{"$f":"IF(Estemate!P88=\"Contract\",0,Estemate!B88)","v":""}]
[null,null,null,null,null,null,null,null,79,{"$f":"IF(Estemate!P89=\"Contract\",0,Estemate!G89)","v":0},{"$f":"IF(Estemate!P89=\"Contract\",0,Estemate!C89)","v":0},{"$f":"IF(Estemate!P89=\"Contract\",0,Estemate!B89)","v":""}]
[null,null,null,null,null,null,null,null,80,{"$f":"IF(Estemate!P90=\"Contract\",0,Estemate!G90)","v":0},{"$f":"IF(Estemate!P90=\"Contract\",0,Estemate!C90)","v":0},{"$f":"IF(Estemate!P90=\"Contract\",0,Estemate!B90)","v":""}]
[null,null,null,null,null,null,null,null,81,{"$f":"IF(Estemate!P91=\"Contract\",0,Estemate!G91)","v":0},{"$f":"IF(Estemate!P91=\"Contract\",0,Estemate!C91)","v":0},{"$f":"IF(Estemate!P91=\"Contract\",0,Estemate!B91)","v":""}]
[null,null,null,null,null,null,null,null,82,{"$f":"IF(Estemate!P92=\"Contract\",0,Estemate!G92)","v":0},{"$f":"IF(Estemate!P92=\"Contract\",0,Estemate!C92)","v":0},{"$f":"IF(Estemate!P92=\"Contract\",0,Estemate!B92)","v":""}]
[null,null,null,null,null,null,null,null,83,{"$f":"IF(Estemate!P93=\"Contract\",0,Estemate!G93)","v":0},{"$f":"IF(Estemate!P93=\"Contract\",0,Estemate!C93)","v":0},{"$f":"IF(Estemate!P93=\"Contract\",0,Estemate!B93)","v":""}]
[null,null,null,null,null,null,null,null,84,{"$f":"IF(Estemate!P94=\"Contract\",0,Estemate!G94)","v":0},{"$f":"IF(Estemate!P94=\"Contract\",0,Estemate!C94)","v":0},{"$f":"IF(Estemate!P94=\"Contract\",0,Estemate!B94)","v":""}]
[null,null,null,null,null,null,null,null,85,{"$f":"IF(Estemate!P95=\"Contract\",0,Estemate!G95)","v":0},{"$f":"IF(Estemate!P95=\"Contract\",0,Estemate!C95)","v":0},{"$f":"IF(Estemate!P95=\"Contract\",0,Estemate!B95)","v":""}]
[null,null,null,null,null,null,null,null,86,{"$f":"IF(Estemate!P96=\"Contract\",0,Estemate!G96)","v":0},{"$f":"IF(Estemate!P96=\"Contract\",0,Estemate!C96)","v":0},{"$f":"IF(Estemate!P96=\"Contract\",0,Estemate!B96)","v":""}]
[null,null,null,null,null,null,null,null,87,{"$f":"IF(Estemate!P97=\"Contract\",0,Estemate!G97)","v":0},{"$f":"IF(Estemate!P97=\"Contract\",0,Estemate!C97)","v":0},{"$f":"IF(Estemate!P97=\"Contract\",0,Estemate!B97)","v":""}]
[null,null,null,null,null,null,null,null,88,{"$f":"IF(Estemate!P98=\"Contract\",0,Estemate!G98)","v":0},{"$f":"IF(Estemate!P98=\"Contract\",0,Estemate!C98)","v":0},{"$f":"IF(Estemate!P98=\"Contract\",0,Estemate!B98)","v":""}]
[null,null,null,null,null,null,null,null,89,{"$f":"IF(Estemate!P99=\"Contract\",0,Estemate!G99)","v":0},{"$f":"IF(Estemate!P99=\"Contract\",0,Estemate!C99)","v":0},{"$f":"IF(Estemate!P99=\"Contract\",0,Estemate!B99)","v":""}]
[null,null,null,null,null,null,null,null,90,{"$f":"IF(Estemate!P100=\"Contract\",0,Estemate!G100)","v":0},{"$f":"IF(Estemate!P100=\"Contract\",0,Estemate!C100)","v":0},{"$f":"IF(Estemate!P100=\"Contract\",0,Estemate!B100)","v":""}]
[null,null,null,null,null,null,null,null,91,{"$f":"IF(Estemate!P101=\"Contract\",0,Estemate!G101)","v":0},{"$f":"IF(Estemate!P101=\"Contract\",0,Estemate!C101)","v":0},{"$f":"IF(Estemate!P101=\"Contract\",0,Estemate!B101)","v":""}]
[null,null,null,null,null,null,null,null,92,{"$f":"IF(Estemate!P102=\"Contract\",0,Estemate!G102)","v":0},{"$f":"IF(Estemate!P102=\"Contract\",0,Estemate!C102)","v":0},{"$f":"IF(Estemate!P102=\"Contract\",0,Estemate!B102)","v":""}]
[null,null,null,null,null,null,null,null,93,{"$f":"IF(Estemate!P103=\"Contract\",0,Estemate!G103)","v":0},{"$f":"IF(Estemate!P103=\"Contract\",0,Estemate!C103)","v":0},{"$f":"IF(Estemate!P103=\"Contract\",0,Estemate!B103)","v":""}]
[null,null,null,null,null,null,null,null,94,{"$f":"IF(Estemate!P104=\"Contract\",0,Estemate!G104)","v":0},{"$f":"IF(Estemate!P104=\"Contract\",0,Estemate!C104)","v":0},{"$f":"IF(Estemate!P104=\"Contract\",0,Estemate!B104)","v":""}]
[null,null,null,null,null,null,null,null,95,{"$f":"IF(Estemate!P105=\"Contract\",0,Estemate!G105)","v":0},{"$f":"IF(Estemate!P105=\"Contract\",0,Estemate!C105)","v":0},{"$f":"IF(Estemate!P105=\"Contract\",0,Estemate!B105)","v":""}]
[null,null,null,null,null,null,null,null,96,{"$f":"IF(Estemate!P106=\"Contract\",0,Estemate!G106)","v":0},{"$f":"IF(Estemate!P106=\"Contract\",0,Estemate!C106)","v":0},{"$f":"IF(Estemate!P106=\"Contract\",0,Estemate!B106)","v":""}]
[null,null,null,null,null,null,null,null,97,{"$f":"IF(Estemate!P107=\"Contract\",0,Estemate!G107)","v":0},{"$f":"IF(Estemate!P107=\"Contract\",0,Estemate!C107)","v":0},{"$f":"IF(Estemate!P107=\"Contract\",0,Estemate!B107)","v":""}]
[null,null,null,null,null,null,null,null,98,{"$f":"IF(Estemate!P108=\"Contract\",0,Estemate!G108)","v":0},{"$f":"IF(Estemate!P108=\"Contract\",0,Estemate!C108)","v":0},{"$f":"IF(Estemate!P108=\"Contract\",0,Estemate!B108)","v":""}]
[null,null,null,null,null,null,null,null,99,{"$f":"IF(Estemate!P109=\"Contract\",0,Estemate!G109)","v":0},{"$f":"IF(Estemate!P109=\"Contract\",0,Estemate!C109)","v":0},{"$f":"IF(Estemate!P109=\"Contract\",0,Estemate!B109)","v":""}]
[null,null,null,null,null,null,null,null,100,{"$f":"IF(Estemate!P110=\"Contract\",0,Estemate!G110)","v":0},{"$f":"IF(Estemate!P110=\"Contract\",0,Estemate!C110)","v":0},{"$f":"IF(Estemate!P110=\"Contract\",0,Estemate!B110)","v":""}]

{"sheet":"FixPay","index":6,"n_rows":116,"n_cols":20,"rows_kept":116,"cut":false,"hidden":true,"merged":[[115,1,115,2],[0,1,0,2],[0,3,0,9],[1,1,1,9],[2,1,2,2],[7,3,7,4],[7,6,7,7],[2,8,2,9],[3,8,3,9]]}
[null,{"$f":"Database!B1","v":"dk;kZy;&"},null,{"$f":"Database!F1","v":"jktdh; mPp ek/;fed fo|ky;&pkSxkbZa] Vksad"}]
[null,"fLFkj osru ij fu;qDr dkfeZdksa dk fooj.k"]
[null,{"$f":"Database!B3","v":"eq[; ys[kk 'kh\"kZ&"},null,{"$f":"Database!B4","v":2202},{"$f":"Database!C4","v":"lkekU; f'k{kk"},null,null,null,{"$f":"Database!H4","v":"MhMhvks dksM&"}]
[null,null,null,{"$f":"Database!B5","v":2},{"$f":"Database!C5","v":"ek/;fed f'k{kk"},null,null,null,{"$f":"Database!H5","v":27306}]
[null,null,null,{"$f":"Database!B6","v":109},{"$f":"Database!C6","v":"jktdh; mPp ek/;fed fo|ky;"}]
[null,null,null,{"$f":"Database!B7","v":1},{"$f":"Database!C7","v":"yMdksa ds fo|ky;"}]
[null,null,null,{"$f":"Database!B8","v":0},{"$f":"Database!C8","v":"lkekU; O;;"}]
[null,null,null,{"$f":"Database!F8","v":"Ldhe dk uke&"},null,null,{"$f":"Database!H8","v":"राज्य निधि"}]
[null,"Ø-la-","DDO Code","uke dkfeZd","in uke","ysoy bu is esfVªd","tUe frfFk","fu;qfä frfFk","ekfld ekuns;","12 ekg dk ekuns;","dz0la0","MhMhvks dksM","uke dkfeZd","inuke","is ysoy","tUe frfFk","fu;qfDr frfFk","ekfld ekuns;"]
[null,1,2,3,4,5,6,7,8,9]
[{"$f":"IF(Estemate!P11=\"F\",Estemate!A11,\"\")","v":""},{"$f":"IF(C11=\"\",\"\",T11)","v":""},{"$f":"IF(ISNA(VLOOKUP(A11,K$11:R$110,2,FALSE)),\"\",VLOOKUP(A11,K$11:R$110,2,FALSE))","v":""},{"$f":"IF(ISNA(VLOOKUP(A11,K$11:R$110,3,FALSE)),\"\",VLOOKUP(A11,K$11:R$110,3,FALSE))","v":""},{"$f":"IF(ISNA(VLOOKUP(A11,K$11:R$110,4,FALSE)),\"\",VLOOKUP(A11,K$11:R$110,4,FALSE))","v":""},{"$f":"IF(ISNA(VLOOKUP(A11,K$11:R$110,5,FALSE)),\"\",VLOOKUP(A11,K$11:R$110,5,FALSE))","v":""},{"$f":"IF(ISNA(VLOOKUP(A11,K$11:R$110,6,FALSE)),\"\",VLOOKUP(A11,K$11:R$110,6,FALSE))","v":""},{"$f":"IF(ISNA(VLOOKUP(A11,K$11:R$110,7,FALSE)),\"\",VLOOKUP(A11,K$11:R$110,7,FALSE))","v":""},{"$f":"IF(ISNA(VLOOKUP(A11,K$11:R$110,8,FALSE)),\"\",VLOOKUP(A11,K$11:R$110,8,FALSE))","v":""},{"$f":"IF(I11=\"\",\"\",I11*12)","v":""},1,{"$f":"IF(Estemate!P11=\"f\",Estemate!B11,0)","v":0},{"$f":"IF(Estemate!P11=\"f\",Estemate!G11,0)","v":0},{"$f":"IF(Estemate!P11=\"f\",Estemate!C11,0)","v":0},{"$f":"IF(Estemate!P11=\"f\",Estemate!L11,0)","v":0},{"$f":"IF(Estemate!P11=\"f\",Estemate!N11,0)","v":"00:00:00"},{"$f":"IF(Estemate!P11=\"f\",Estemate!O11,0)","v":"00:00:00"},{"$f":"IF(Estemate!P11=\"f\",Estemate!M11,0)","v":0},{"$f":"IF(L11=0,0,1)","v":0},{"$f":"S11","v":0}]
[{"$f":"IF(Estemate!P12=\"F\",Estemate!A12,\"\")","v":""},{"$f":"IF(C12=\"\",\"\",T12)","v":""},{"$f":"IF(ISNA(VLOOKUP(A12,K$11:R$110,2,FALSE)),\"\",VLOOKUP(A12,K$11:R$110,2,FALSE))","v":""},{"$f":"IF(ISNA(VLOOKUP(A12,K$11:R$110,3,FALSE)),\"\",VLOOKUP(A12,K$11:R$110,3,FALSE))","v":""},{"$f":"IF(ISNA(VLOOKUP(A12,K$11:R$110,4,FALSE)),\"\",VLOOKUP(A12,K$11:R$110,4,FALSE))","v":""},{"$f":"IF(ISNA(VLOOKUP(A12,K$11:R$110,5,FALSE)),\"\",VLOOKUP(A12,K$11:R$110,5,FALSE))","v":""},{"$f":"IF(ISNA(VLOOKUP(A12,K$11:R$110,6,FALSE)),\"\",VLOOKUP(A12,K$11:R$110,6,FALSE))","v":""},{"$f":"IF(ISNA(VLOOKUP(A12,K$11:R$110,7,FALSE)),\"\",VLOOKUP(A12,K$11:R$110,7,FALSE))","v":""},{"$f":"IF(ISNA(VLOOKUP(A12,K$11:R$110,8,FALSE)),\"\",VLOOKUP(A12,K$11:R$110,8,FALSE))","v":""},{"$f":"IF(I12=\"\",\"\",I12*12)","v":""},2,{"$f":"IF(Estemate!P12=\"f\",Estemate!B12,0)","v":0},{"$f":"IF(Estemate!P12=\"f\",Estemate!G12,0)","v":0},{"$f":"IF(Estemate!P12=\"f\",Estemate!C12,0)","v":0},{"$f":"IF(Estemate!P12=\"f\",Estemate!L12,0)","v":0},{"$f":"IF(Estemate!P12=\"f\",Estemate!N12,0)","v":"00:00:00"},{"$f":"IF(Estemate!P12=\"f\",Estemate!O12,0)","v":"00:00:00"},{"$f":"IF(Estemate!P12=\"f\",Estemate!M12,0)","v":0},{"$f":"IF(L12=0,0,1)","v":0},{"$f":"T11+S12","v":0}]
[{"$f":"IF(Estemate!P13=\"F\",Estemate!A13,\"\")","v":""},"","","","","","","","","",3,{"$f":"IF(Estemate!P13=\"f\",Estemate!B13,0)","v":0},{"$f":"IF(Estemate!P13=\"f\",Estemate!G13,0)","v":0},{"$f":"IF(Estemate!P13=\"f\",Estemate!C13,0)","v":0},{"$f":"IF(Estemate!P13=\"f\",Estemate!L13,0)","v":0},{"$f":"IF(Estemate!P13=\"f\",Estemate!N13,0)","v":"00:00:00"},{"$f":"IF(Estemate!P13=\"f\",Estemate!O13,0)","v":"00:00:00"},{"$f":"IF(Estemate!P13=\"f\",Estemate!M13,0)","v":0},0,{"$f":"T12+S13","v":0}]
[{"$f":"IF(Estemate!P14=\"F\",Estemate!A14,\"\")","v":""},"","","","","","","","","",4,{"$f":"IF(Estemate!P14=\"f\",Estemate!B14,0)","v":0},{"$f":"IF(Estemate!P14=\"f\",Estemate!G14,0)","v":0},{"$f":"IF(Estemate!P14=\"f\",Estemate!C14,0)","v":0},{"$f":"IF(Estemate!P14=\"f\",Estemate!L14,0)","v":0},{"$f":"IF(Estemate!P14=\"f\",Estemate!N14,0)","v":"00:00:00"},{"$f":"IF(Estemate!P14=\"f\",Estemate!O14,0)","v":"00:00:00"},{"$f":"IF(Estemate!P14=\"f\",Estemate!M14,0)","v":0},0,0]
[{"$f":"IF(Estemate!P15=\"F\",Estemate!A15,\"\")","v":""},"","","","","","","","","",5,{"$f":"IF(Estemate!P15=\"f\",Estemate!B15,0)","v":0},{"$f":"IF(Estemate!P15=\"f\",Estemate!G15,0)","v":0},{"$f":"IF(Estemate!P15=\"f\",Estemate!C15,0)","v":0},{"$f":"IF(Estemate!P15=\"f\",Estemate!L15,0)","v":0},{"$f":"IF(Estemate!P15=\"f\",Estemate!N15,0)","v":"00:00:00"},{"$f":"IF(Estemate!P15=\"f\",Estemate!O15,0)","v":"00:00:00"},{"$f":"IF(Estemate!P15=\"f\",Estemate!M15,0)","v":0},0,0]
[{"$f":"IF(Estemate!P16=\"F\",Estemate!A16,\"\")","v":""},"","","","","","","","","",6,{"$f":"IF(Estemate!P16=\"f\",Estemate!B16,0)","v":0},{"$f":"IF(Estemate!P16=\"f\",Estemate!G16,0)","v":0},{"$f":"IF(Estemate!P16=\"f\",Estemate!C16,0)","v":0},{"$f":"IF(Estemate!P16=\"f\",Estemate!L16,0)","v":0},{"$f":"IF(Estemate!P16=\"f\",Estemate!N16,0)","v":"00:00:00"},{"$f":"IF(Estemate!P16=\"f\",Estemate!O16,0)","v":"00:00:00"},{"$f":"IF(Estemate!P16=\"f\",Estemate!M16,0)","v":0},0,0]
[{"$f":"IF(Estemate!P17=\"F\",Estemate!A17,\"\")","v":""},"","","","","","","","","",7,{"$f":"IF(Estemate!P17=\"f\",Estemate!B17,0)","v":0},{"$f":"IF(Estemate!P17=\"f\",Estemate!G17,0)","v":0},{"$f":"IF(Estemate!P17=\"f\",Estemate!C17,0)","v":0},{"$f":"IF(Estemate!P17=\"f\",Estemate!L17,0)","v":0},{"$f":"IF(Estemate!P17=\"f\",Estemate!N17,0)","v":"00:00:00"},{"$f":"IF(Estemate!P17=\"f\",Estemate!O17,0)","v":"00:00:00"},{"$f":"IF(Estemate!P17=\"f\",Estemate!M17,0)","v":0},0,0]
[{"$f":"IF(Estemate!P18=\"F\",Estemate!A18,\"\")","v":""},"","","","","","","","","",8,{"$f":"IF(Estemate!P18=\"f\",Estemate!B18,0)","v":0},{"$f":"IF(Estemate!P18=\"f\",Estemate!G18,0)","v":0},{"$f":"IF(Estemate!P18=\"f\",Estemate!C18,0)","v":0},{"$f":"IF(Estemate!P18=\"f\",Estemate!L18,0)","v":0},{"$f":"IF(Estemate!P18=\"f\",Estemate!N18,0)","v":"00:00:00"},{"$f":"IF(Estemate!P18=\"f\",Estemate!O18,0)","v":"00:00:00"},{"$f":"IF(Estemate!P18=\"f\",Estemate!M18,0)","v":0},0,0]
[{"$f":"IF(Estemate!P19=\"F\",Estemate!A19,\"\")","v":""},"","","","","","","","","",9,{"$f":"IF(Estemate!P19=\"f\",Estemate!B19,0)","v":0},{"$f":"IF(Estemate!P19=\"f\",Estemate!G19,0)","v":0},{"$f":"IF(Estemate!P19=\"f\",Estemate!C19,0)","v":0},{"$f":"IF(Estemate!P19=\"f\",Estemate!L19,0)","v":0},{"$f":"IF(Estemate!P19=\"f\",Estemate!N19,0)","v":"00:00:00"},{"$f":"IF(Estemate!P19=\"f\",Estemate!O19,0)","v":"00:00:00"},{"$f":"IF(Estemate!P19=\"f\",Estemate!M19,0)","v":0},0,0]
[{"$f":"IF(Estemate!P20=\"F\",Estemate!A20,\"\")","v":""},"","","","","","","","","",10,{"$f":"IF(Estemate!P20=\"f\",Estemate!B20,0)","v":0},{"$f":"IF(Estemate!P20=\"f\",Estemate!G20,0)","v":0},{"$f":"IF(Estemate!P20=\"f\",Estemate!C20,0)","v":0},{"$f":"IF(Estemate!P20=\"f\",Estemate!L20,0)","v":0},{"$f":"IF(Estemate!P20=\"f\",Estemate!N20,0)","v":"00:00:00"},{"$f":"IF(Estemate!P20=\"f\",Estemate!O20,0)","v":"00:00:00"},{"$f":"IF(Estemate!P20=\"f\",Estemate!M20,0)","v":0},0,0]
[{"$f":"IF(Estemate!P21=\"F\",Estemate!A21,\"\")","v":""},"","","","","","","","","",11,{"$f":"IF(Estemate!P21=\"f\",Estemate!B21,0)","v":0},{"$f":"IF(Estemate!P21=\"f\",Estemate!G21,0)","v":0},{"$f":"IF(Estemate!P21=\"f\",Estemate!C21,0)","v":0},{"$f":"IF(Estemate!P21=\"f\",Estemate!L21,0)","v":0},{"$f":"IF(Estemate!P21=\"f\",Estemate!N21,0)","v":"00:00:00"},{"$f":"IF(Estemate!P21=\"f\",Estemate!O21,0)","v":"00:00:00"},{"$f":"IF(Estemate!P21=\"f\",Estemate!M21,0)","v":0},0,0]
[{"$f":"IF(Estemate!P22=\"F\",Estemate!A22,\"\")","v":""},"","","","","","","","","",12,{"$f":"IF(Estemate!P22=\"f\",Estemate!B22,0)","v":0},{"$f":"IF(Estemate!P22=\"f\",Estemate!G22,0)","v":0},{"$f":"IF(Estemate!P22=\"f\",Estemate!C22,0)","v":0},{"$f":"IF(Estemate!P22=\"f\",Estemate!L22,0)","v":0},{"$f":"IF(Estemate!P22=\"f\",Estemate!N22,0)","v":"00:00:00"},{"$f":"IF(Estemate!P22=\"f\",Estemate!O22,0)","v":"00:00:00"},{"$f":"IF(Estemate!P22=\"f\",Estemate!M22,0)","v":0},0,0]
[{"$f":"IF(Estemate!P23=\"F\",Estemate!A23,\"\")","v":""},"","","","","","","","","",13,{"$f":"IF(Estemate!P23=\"f\",Estemate!B23,0)","v":0},{"$f":"IF(Estemate!P23=\"f\",Estemate!G23,0)","v":0},{"$f":"IF(Estemate!P23=\"f\",Estemate!C23,0)","v":0},{"$f":"IF(Estemate!P23=\"f\",Estemate!L23,0)","v":0},{"$f":"IF(Estemate!P23=\"f\",Estemate!N23,0)","v":"00:00:00"},{"$f":"IF(Estemate!P23=\"f\",Estemate!O23,0)","v":"00:00:00"},{"$f":"IF(Estemate!P23=\"f\",Estemate!M23,0)","v":0},0,0]
[{"$f":"IF(Estemate!P24=\"F\",Estemate!A24,\"\")","v":""},"","","","","","","","","",14,{"$f":"IF(Estemate!P24=\"f\",Estemate!B24,0)","v":0},{"$f":"IF(Estemate!P24=\"f\",Estemate!G24,0)","v":0},{"$f":"IF(Estemate!P24=\"f\",Estemate!C24,0)","v":0},{"$f":"IF(Estemate!P24=\"f\",Estemate!L24,0)","v":0},{"$f":"IF(Estemate!P24=\"f\",Estemate!N24,0)","v":"00:00:00"},{"$f":"IF(Estemate!P24=\"f\",Estemate!O24,0)","v":"00:00:00"},{"$f":"IF(Estemate!P24=\"f\",Estemate!M24,0)","v":0},0,0]
[{"$f":"IF(Estemate!P25=\"F\",Estemate!A25,\"\")","v":""},"","","","","","","","","",15,{"$f":"IF(Estemate!P25=\"f\",Estemate!B25,0)","v":0},{"$f":"IF(Estemate!P25=\"f\",Estemate!G25,0)","v":0},{"$f":"IF(Estemate!P25=\"f\",Estemate!C25,0)","v":0},{"$f":"IF(Estemate!P25=\"f\",Estemate!L25,0)","v":0},{"$f":"IF(Estemate!P25=\"f\",Estemate!N25,0)","v":"00:00:00"},{"$f":"IF(Estemate!P25=\"f\",Estemate!O25,0)","v":"00:00:00"},{"$f":"IF(Estemate!P25=\"f\",Estemate!M25,0)","v":0},0,0]
[{"$f":"IF(Estemate!P26=\"F\",Estemate!A26,\"\")","v":""},"","","","","","","","","",16,{"$f":"IF(Estemate!P26=\"f\",Estemate!B26,0)","v":0},{"$f":"IF(Estemate!P26=\"f\",Estemate!G26,0)","v":0},{"$f":"IF(Estemate!P26=\"f\",Estemate!C26,0)","v":0},{"$f":"IF(Estemate!P26=\"f\",Estemate!L26,0)","v":0},{"$f":"IF(Estemate!P26=\"f\",Estemate!N26,0)","v":"00:00:00"},{"$f":"IF(Estemate!P26=\"f\",Estemate!O26,0)","v":"00:00:00"},{"$f":"IF(Estemate!P26=\"f\",Estemate!M26,0)","v":0},0,0]
[{"$f":"IF(Estemate!P27=\"F\",Estemate!A27,\"\")","v":""},"","","","","","","","","",17,{"$f":"IF(Estemate!P27=\"f\",Estemate!B27,0)","v":0},{"$f":"IF(Estemate!P27=\"f\",Estemate!G27,0)","v":0},{"$f":"IF(Estemate!P27=\"f\",Estemate!C27,0)","v":0},{"$f":"IF(Estemate!P27=\"f\",Estemate!L27,0)","v":0},{"$f":"IF(Estemate!P27=\"f\",Estemate!N27,0)","v":"00:00:00"},{"$f":"IF(Estemate!P27=\"f\",Estemate!O27,0)","v":"00:00:00"},{"$f":"IF(Estemate!P27=\"f\",Estemate!M27,0)","v":0},0,0]
[{"$f":"IF(Estemate!P28=\"F\",Estemate!A28,\"\")","v":""},"","","","","","","","","",18,{"$f":"IF(Estemate!P28=\"f\",Estemate!B28,0)","v":0},{"$f":"IF(Estemate!P28=\"f\",Estemate!G28,0)","v":0},{"$f":"IF(Estemate!P28=\"f\",Estemate!C28,0)","v":0},{"$f":"IF(Estemate!P28=\"f\",Estemate!L28,0)","v":0},{"$f":"IF(Estemate!P28=\"f\",Estemate!N28,0)","v":"00:00:00"},{"$f":"IF(Estemate!P28=\"f\",Estemate!O28,0)","v":"00:00:00"},{"$f":"IF(Estemate!P28=\"f\",Estemate!M28,0)","v":0},0,0]
[{"$f":"IF(Estemate!P29=\"F\",Estemate!A29,\"\")","v":""},"","","","","","","","","",19,{"$f":"IF(Estemate!P29=\"f\",Estemate!B29,0)","v":0},{"$f":"IF(Estemate!P29=\"f\",Estemate!G29,0)","v":0},{"$f":"IF(Estemate!P29=\"f\",Estemate!C29,0)","v":0},{"$f":"IF(Estemate!P29=\"f\",Estemate!L29,0)","v":0},{"$f":"IF(Estemate!P29=\"f\",Estemate!N29,0)","v":"00:00:00"},{"$f":"IF(Estemate!P29=\"f\",Estemate!O29,0)","v":"00:00:00"},{"$f":"IF(Estemate!P29=\"f\",Estemate!M29,0)","v":0},0,0]
[{"$f":"IF(Estemate!P30=\"F\",Estemate!A30,\"\")","v":""},"","","","","","","","","",20,{"$f":"IF(Estemate!P30=\"f\",Estemate!B30,0)","v":0},{"$f":"IF(Estemate!P30=\"f\",Estemate!G30,0)","v":0},{"$f":"IF(Estemate!P30=\"f\",Estemate!C30,0)","v":0},{"$f":"IF(Estemate!P30=\"f\",Estemate!L30,0)","v":0},{"$f":"IF(Estemate!P30=\"f\",Estemate!N30,0)","v":"00:00:00"},{"$f":"IF(Estemate!P30=\"f\",Estemate!O30,0)","v":"00:00:00"},{"$f":"IF(Estemate!P30=\"f\",Estemate!M30,0)","v":0},0,0]
[{"$f":"IF(Estemate!P31=\"F\",Estemate!A31,\"\")","v":""},"","","","","","","","","",21,{"$f":"IF(Estemate!P31=\"f\",Estemate!B31,0)","v":0},{"$f":"IF(Estemate!P31=\"f\",Estemate!G31,0)","v":0},{"$f":"IF(Estemate!P31=\"f\",Estemate!C31,0)","v":0},{"$f":"IF(Estemate!P31=\"f\",Estemate!L31,0)","v":0},{"$f":"IF(Estemate!P31=\"f\",Estemate!N31,0)","v":"00:00:00"},{"$f":"IF(Estemate!P31=\"f\",Estemate!O31,0)","v":"00:00:00"},{"$f":"IF(Estemate!P31=\"f\",Estemate!M31,0)","v":0},0,0]
[{"$f":"IF(Estemate!P32=\"F\",Estemate!A32,\"\")","v":""},"","","","","","","","","",22,{"$f":"IF(Estemate!P32=\"f\",Estemate!B32,0)","v":0},{"$f":"IF(Estemate!P32=\"f\",Estemate!G32,0)","v":0},{"$f":"IF(Estemate!P32=\"f\",Estemate!C32,0)","v":0},{"$f":"IF(Estemate!P32=\"f\",Estemate!L32,0)","v":0},{"$f":"IF(Estemate!P32=\"f\",Estemate!N32,0)","v":"00:00:00"},{"$f":"IF(Estemate!P32=\"f\",Estemate!O32,0)","v":"00:00:00"},{"$f":"IF(Estemate!P32=\"f\",Estemate!M32,0)","v":0},0,0]
[{"$f":"IF(Estemate!P33=\"F\",Estemate!A33,\"\")","v":""},"","","","","","","","","",23,{"$f":"IF(Estemate!P33=\"f\",Estemate!B33,0)","v":0},{"$f":"IF(Estemate!P33=\"f\",Estemate!G33,0)","v":0},{"$f":"IF(Estemate!P33=\"f\",Estemate!C33,0)","v":0},{"$f":"IF(Estemate!P33=\"f\",Estemate!L33,0)","v":0},{"$f":"IF(Estemate!P33=\"f\",Estemate!N33,0)","v":"00:00:00"},{"$f":"IF(Estemate!P33=\"f\",Estemate!O33,0)","v":"00:00:00"},{"$f":"IF(Estemate!P33=\"f\",Estemate!M33,0)","v":0},0,0]
[{"$f":"IF(Estemate!P34=\"F\",Estemate!A34,\"\")","v":""},"","","","","","","","","",24,{"$f":"IF(Estemate!P34=\"f\",Estemate!B34,0)","v":0},{"$f":"IF(Estemate!P34=\"f\",Estemate!G34,0)","v":0},{"$f":"IF(Estemate!P34=\"f\",Estemate!C34,0)","v":0},{"$f":"IF(Estemate!P34=\"f\",Estemate!L34,0)","v":0},{"$f":"IF(Estemate!P34=\"f\",Estemate!N34,0)","v":"00:00:00"},{"$f":"IF(Estemate!P34=\"f\",Estemate!O34,0)","v":"00:00:00"},{"$f":"IF(Estemate!P34=\"f\",Estemate!M34,0)","v":0},0,0]
[{"$f":"IF(Estemate!P35=\"F\",Estemate!A35,\"\")","v":""},"","","","","","","","","",25,{"$f":"IF(Estemate!P35=\"f\",Estemate!B35,0)","v":0},{"$f":"IF(Estemate!P35=\"f\",Estemate!G35,0)","v":0},{"$f":"IF(Estemate!P35=\"f\",Estemate!C35,0)","v":0},{"$f":"IF(Estemate!P35=\"f\",Estemate!L35,0)","v":0},{"$f":"IF(Estemate!P35=\"f\",Estemate!N35,0)","v":"00:00:00"},{"$f":"IF(Estemate!P35=\"f\",Estemate!O35,0)","v":"00:00:00"},{"$f":"IF(Estemate!P35=\"f\",Estemate!M35,0)","v":0},0,0]
[{"$f":"IF(Estemate!P36=\"F\",Estemate!A36,\"\")","v":""},"","","","","","","","","",26,{"$f":"IF(Estemate!P36=\"f\",Estemate!B36,0)","v":0},{"$f":"IF(Estemate!P36=\"f\",Estemate!G36,0)","v":0},{"$f":"IF(Estemate!P36=\"f\",Estemate!C36,0)","v":0},{"$f":"IF(Estemate!P36=\"f\",Estemate!L36,0)","v":0},{"$f":"IF(Estemate!P36=\"f\",Estemate!N36,0)","v":"00:00:00"},{"$f":"IF(Estemate!P36=\"f\",Estemate!O36,0)","v":"00:00:00"},{"$f":"IF(Estemate!P36=\"f\",Estemate!M36,0)","v":0},0,0]
[{"$f":"IF(Estemate!P37=\"F\",Estemate!A37,\"\")","v":""},"","","","","","","","","",27,{"$f":"IF(Estemate!P37=\"f\",Estemate!B37,0)","v":0},{"$f":"IF(Estemate!P37=\"f\",Estemate!G37,0)","v":0},{"$f":"IF(Estemate!P37=\"f\",Estemate!C37,0)","v":0},{"$f":"IF(Estemate!P37=\"f\",Estemate!L37,0)","v":0},{"$f":"IF(Estemate!P37=\"f\",Estemate!N37,0)","v":"00:00:00"},{"$f":"IF(Estemate!P37=\"f\",Estemate!O37,0)","v":"00:00:00"},{"$f":"IF(Estemate!P37=\"f\",Estemate!M37,0)","v":0},0,0]
[{"$f":"IF(Estemate!P38=\"F\",Estemate!A38,\"\")","v":""},"","","","","","","","","",28,{"$f":"IF(Estemate!P38=\"f\",Estemate!B38,0)","v":0},{"$f":"IF(Estemate!P38=\"f\",Estemate!G38,0)","v":0},{"$f":"IF(Estemate!P38=\"f\",Estemate!C38,0)","v":0},{"$f":"IF(Estemate!P38=\"f\",Estemate!L38,0)","v":0},{"$f":"IF(Estemate!P38=\"f\",Estemate!N38,0)","v":"00:00:00"},{"$f":"IF(Estemate!P38=\"f\",Estemate!O38,0)","v":"00:00:00"},{"$f":"IF(Estemate!P38=\"f\",Estemate!M38,0)","v":0},0,0]
[{"$f":"IF(Estemate!P39=\"F\",Estemate!A39,\"\")","v":""},"","","","","","","","","",29,{"$f":"IF(Estemate!P39=\"f\",Estemate!B39,0)","v":0},{"$f":"IF(Estemate!P39=\"f\",Estemate!G39,0)","v":0},{"$f":"IF(Estemate!P39=\"f\",Estemate!C39,0)","v":0},{"$f":"IF(Estemate!P39=\"f\",Estemate!L39,0)","v":0},{"$f":"IF(Estemate!P39=\"f\",Estemate!N39,0)","v":"00:00:00"},{"$f":"IF(Estemate!P39=\"f\",Estemate!O39,0)","v":"00:00:00"},{"$f":"IF(Estemate!P39=\"f\",Estemate!M39,0)","v":0},0,0]
[{"$f":"IF(Estemate!P40=\"F\",Estemate!A40,\"\")","v":""},"","","","","","","","","",30,{"$f":"IF(Estemate!P40=\"f\",Estemate!B40,0)","v":0},{"$f":"IF(Estemate!P40=\"f\",Estemate!G40,0)","v":0},{"$f":"IF(Estemate!P40=\"f\",Estemate!C40,0)","v":0},{"$f":"IF(Estemate!P40=\"f\",Estemate!L40,0)","v":0},{"$f":"IF(Estemate!P40=\"f\",Estemate!N40,0)","v":"00:00:00"},{"$f":"IF(Estemate!P40=\"f\",Estemate!O40,0)","v":"00:00:00"},{"$f":"IF(Estemate!P40=\"f\",Estemate!M40,0)","v":0},0,0]
[{"$f":"IF(Estemate!P41=\"F\",Estemate!A41,\"\")","v":""},{"$f":"IF(C41=\"\",\"\",T41)","v":""},{"$f":"IF(ISNA(VLOOKUP(A41,K$11:R$110,2,FALSE)),\"\",VLOOKUP(A41,K$11:R$110,2,FALSE))","v":""},{"$f":"IF(ISNA(VLOOKUP(A41,K$11:R$110,3,FALSE)),\"\",VLOOKUP(A41,K$11:R$110,3,FALSE))","v":""},{"$f":"IF(ISNA(VLOOKUP(A41,K$11:R$110,4,FALSE)),\"\",VLOOKUP(A41,K$11:R$110,4,FALSE))","v":""},{"$f":"IF(ISNA(VLOOKUP(A41,K$11:R$110,5,FALSE)),\"\",VLOOKUP(A41,K$11:R$110,5,FALSE))","v":""},{"$f":"IF(ISNA(VLOOKUP(A41,K$11:R$110,6,FALSE)),\"\",VLOOKUP(A41,K$11:R$110,6,FALSE))","v":""},{"$f":"IF(ISNA(VLOOKUP(A41,K$11:R$110,7,FALSE)),\"\",VLOOKUP(A41,K$11:R$110,7,FALSE))","v":""},{"$f":"IF(ISNA(VLOOKUP(A41,K$11:R$110,8,FALSE)),\"\",VLOOKUP(A41,K$11:R$110,8,FALSE))","v":""},{"$f":"IF(I41=\"\",\"\",I41*12)","v":""},31,{"$f":"IF(Estemate!P41=\"f\",Estemate!B41,0)","v":0},{"$f":"IF(Estemate!P41=\"f\",Estemate!G41,0)","v":0},{"$f":"IF(Estemate!P41=\"f\",Estemate!C41,0)","v":0},{"$f":"IF(Estemate!P41=\"f\",Estemate!L41,0)","v":0},{"$f":"IF(Estemate!P41=\"f\",Estemate!N41,0)","v":"00:00:00"},{"$f":"IF(Estemate!P41=\"f\",Estemate!O41,0)","v":"00:00:00"},{"$f":"IF(Estemate!P41=\"f\",Estemate!M41,0)","v":0},0,0]
[{"$f":"IF(Estemate!P42=\"F\",Estemate!A42,\"\")","v":""},{"$f":"IF(C42=\"\",\"\",T42)","v":""},{"$f":"IF(ISNA(VLOOKUP(A42,K$11:R$110,2,FALSE)),\"\",VLOOKUP(A42,K$11:R$110,2,FALSE))","v":""},{"$f":"IF(ISNA(VLOOKUP(A42,K$11:R$110,3,FALSE)),\"\",VLOOKUP(A42,K$11:R$110,3,FALSE))","v":""},{"$f":"IF(ISNA(VLOOKUP(A42,K$11:R$110,4,FALSE)),\"\",VLOOKUP(A42,K$11:R$110,4,FALSE))","v":""},{"$f":"IF(ISNA(VLOOKUP(A42,K$11:R$110,5,FALSE)),\"\",VLOOKUP(A42,K$11:R$110,5,FALSE))","v":""},{"$f":"IF(ISNA(VLOOKUP(A42,K$11:R$110,6,FALSE)),\"\",VLOOKUP(A42,K$11:R$110,6,FALSE))","v":""},{"$f":"IF(ISNA(VLOOKUP(A42,K$11:R$110,7,FALSE)),\"\",VLOOKUP(A42,K$11:R$110,7,FALSE))","v":""},{"$f":"IF(ISNA(VLOOKUP(A42,K$11:R$110,8,FALSE)),\"\",VLOOKUP(A42,K$11:R$110,8,FALSE))","v":""},{"$f":"IF(I42=\"\",\"\",I42*12)","v":""},32,{"$f":"IF(Estemate!P42=\"f\",Estemate!B42,0)","v":0},{"$f":"IF(Estemate!P42=\"f\",Estemate!G42,0)","v":0},{"$f":"IF(Estemate!P42=\"f\",Estemate!C42,0)","v":0},{"$f":"IF(Estemate!P42=\"f\",Estemate!L42,0)","v":0},{"$f":"IF(Estemate!P42=\"f\",Estemate!N42,0)","v":"00:00:00"},{"$f":"IF(Estemate!P42=\"f\",Estemate!O42,0)","v":"00:00:00"},{"$f":"IF(Estemate!P42=\"f\",Estemate!M42,0)","v":0},0,0]
[{"$f":"IF(Estemate!P43=\"F\",Estemate!A43,\"\")","v":""},"","","","","","","","","",33,{"$f":"IF(Estemate!P43=\"f\",Estemate!B43,0)","v":0},{"$f":"IF(Estemate!P43=\"f\",Estemate!G43,0)","v":0},{"$f":"IF(Estemate!P43=\"f\",Estemate!C43,0)","v":0},{"$f":"IF(Estemate!P43=\"f\",Estemate!L43,0)","v":0},{"$f":"IF(Estemate!P43=\"f\",Estemate!N43,0)","v":"00:00:00"},{"$f":"IF(Estemate!P43=\"f\",Estemate!O43,0)","v":"00:00:00"},{"$f":"IF(Estemate!P43=\"f\",Estemate!M43,0)","v":0},0,0]
[{"$f":"IF(Estemate!P44=\"F\",Estemate!A44,\"\")","v":""},"","","","","","","","","",34,{"$f":"IF(Estemate!P44=\"f\",Estemate!B44,0)","v":0},{"$f":"IF(Estemate!P44=\"f\",Estemate!G44,0)","v":0},{"$f":"IF(Estemate!P44=\"f\",Estemate!C44,0)","v":0},{"$f":"IF(Estemate!P44=\"f\",Estemate!L44,0)","v":0},{"$f":"IF(Estemate!P44=\"f\",Estemate!N44,0)","v":"00:00:00"},{"$f":"IF(Estemate!P44=\"f\",Estemate!O44,0)","v":"00:00:00"},{"$f":"IF(Estemate!P44=\"f\",Estemate!M44,0)","v":0},0,0]
[{"$f":"IF(Estemate!P45=\"F\",Estemate!A45,\"\")","v":""},"","","","","","","","","",35,{"$f":"IF(Estemate!P45=\"f\",Estemate!B45,0)","v":0},{"$f":"IF(Estemate!P45=\"f\",Estemate!G45,0)","v":0},{"$f":"IF(Estemate!P45=\"f\",Estemate!C45,0)","v":0},{"$f":"IF(Estemate!P45=\"f\",Estemate!L45,0)","v":0},{"$f":"IF(Estemate!P45=\"f\",Estemate!N45,0)","v":"00:00:00"},{"$f":"IF(Estemate!P45=\"f\",Estemate!O45,0)","v":"00:00:00"},{"$f":"IF(Estemate!P45=\"f\",Estemate!M45,0)","v":0},0,0]
[{"$f":"IF(Estemate!P46=\"F\",Estemate!A46,\"\")","v":""},"","","","","","","","","",36,{"$f":"IF(Estemate!P46=\"f\",Estemate!B46,0)","v":0},{"$f":"IF(Estemate!P46=\"f\",Estemate!G46,0)","v":0},{"$f":"IF(Estemate!P46=\"f\",Estemate!C46,0)","v":0},{"$f":"IF(Estemate!P46=\"f\",Estemate!L46,0)","v":0},{"$f":"IF(Estemate!P46=\"f\",Estemate!N46,0)","v":"00:00:00"},{"$f":"IF(Estemate!P46=\"f\",Estemate!O46,0)","v":"00:00:00"},{"$f":"IF(Estemate!P46=\"f\",Estemate!M46,0)","v":0},0,0]
[{"$f":"IF(Estemate!P47=\"F\",Estemate!A47,\"\")","v":""},"","","","","","","","","",37,{"$f":"IF(Estemate!P47=\"f\",Estemate!B47,0)","v":0},{"$f":"IF(Estemate!P47=\"f\",Estemate!G47,0)","v":0},{"$f":"IF(Estemate!P47=\"f\",Estemate!C47,0)","v":0},{"$f":"IF(Estemate!P47=\"f\",Estemate!L47,0)","v":0},{"$f":"IF(Estemate!P47=\"f\",Estemate!N47,0)","v":"00:00:00"},{"$f":"IF(Estemate!P47=\"f\",Estemate!O47,0)","v":"00:00:00"},{"$f":"IF(Estemate!P47=\"f\",Estemate!M47,0)","v":0},0,0]
[{"$f":"IF(Estemate!P48=\"F\",Estemate!A48,\"\")","v":""},"","","","","","","","","",38,{"$f":"IF(Estemate!P48=\"f\",Estemate!B48,0)","v":0},{"$f":"IF(Estemate!P48=\"f\",Estemate!G48,0)","v":0},{"$f":"IF(Estemate!P48=\"f\",Estemate!C48,0)","v":0},{"$f":"IF(Estemate!P48=\"f\",Estemate!L48,0)","v":0},{"$f":"IF(Estemate!P48=\"f\",Estemate!N48,0)","v":"00:00:00"},{"$f":"IF(Estemate!P48=\"f\",Estemate!O48,0)","v":"00:00:00"},{"$f":"IF(Estemate!P48=\"f\",Estemate!M48,0)","v":0},0,0]
[{"$f":"IF(Estemate!P49=\"F\",Estemate!A49,\"\")","v":""},"","","","","","","","","",39,{"$f":"IF(Estemate!P49=\"f\",Estemate!B49,0)","v":0},{"$f":"IF(Estemate!P49=\"f\",Estemate!G49,0)","v":0},{"$f":"IF(Estemate!P49=\"f\",Estemate!C49,0)","v":0},{"$f":"IF(Estemate!P49=\"f\",Estemate!L49,0)","v":0},{"$f":"IF(Estemate!P49=\"f\",Estemate!N49,0)","v":"00:00:00"},{"$f":"IF(Estemate!P49=\"f\",Estemate!O49,0)","v":"00:00:00"},{"$f":"IF(Estemate!P49=\"f\",Estemate!M49,0)","v":0},0,0]
[{"$f":"IF(Estemate!P50=\"F\",Estemate!A50,\"\")","v":""},"","","","","","","","","",40,{"$f":"IF(Estemate!P50=\"f\",Estemate!B50,0)","v":0},{"$f":"IF(Estemate!P50=\"f\",Estemate!G50,0)","v":0},{"$f":"IF(Estemate!P50=\"f\",Estemate!C50,0)","v":0},{"$f":"IF(Estemate!P50=\"f\",Estemate!L50,0)","v":0},{"$f":"IF(Estemate!P50=\"f\",Estemate!N50,0)","v":"00:00:00"},{"$f":"IF(Estemate!P50=\"f\",Estemate!O50,0)","v":"00:00:00"},{"$f":"IF(Estemate!P50=\"f\",Estemate!M50,0)","v":0},0,0]
[{"$f":"IF(Estemate!P51=\"F\",Estemate!A51,\"\")","v":""},"","","","","","","","","",41,{"$f":"IF(Estemate!P51=\"f\",Estemate!B51,0)","v":0},{"$f":"IF(Estemate!P51=\"f\",Estemate!G51,0)","v":0},{"$f":"IF(Estemate!P51=\"f\",Estemate!C51,0)","v":0},{"$f":"IF(Estemate!P51=\"f\",Estemate!L51,0)","v":0},{"$f":"IF(Estemate!P51=\"f\",Estemate!N51,0)","v":"00:00:00"},{"$f":"IF(Estemate!P51=\"f\",Estemate!O51,0)","v":"00:00:00"},{"$f":"IF(Estemate!P51=\"f\",Estemate!M51,0)","v":0},0,0]
[{"$f":"IF(Estemate!P52=\"F\",Estemate!A52,\"\")","v":""},"","","","","","","","","",42,{"$f":"IF(Estemate!P52=\"f\",Estemate!B52,0)","v":0},{"$f":"IF(Estemate!P52=\"f\",Estemate!G52,0)","v":0},{"$f":"IF(Estemate!P52=\"f\",Estemate!C52,0)","v":0},{"$f":"IF(Estemate!P52=\"f\",Estemate!L52,0)","v":0},{"$f":"IF(Estemate!P52=\"f\",Estemate!N52,0)","v":"00:00:00"},{"$f":"IF(Estemate!P52=\"f\",Estemate!O52,0)","v":"00:00:00"},{"$f":"IF(Estemate!P52=\"f\",Estemate!M52,0)","v":0},0,0]
[{"$f":"IF(Estemate!P53=\"F\",Estemate!A53,\"\")","v":""},"","","","","","","","","",43,{"$f":"IF(Estemate!P53=\"f\",Estemate!B53,0)","v":0},{"$f":"IF(Estemate!P53=\"f\",Estemate!G53,0)","v":0},{"$f":"IF(Estemate!P53=\"f\",Estemate!C53,0)","v":0},{"$f":"IF(Estemate!P53=\"f\",Estemate!L53,0)","v":0},{"$f":"IF(Estemate!P53=\"f\",Estemate!N53,0)","v":"00:00:00"},{"$f":"IF(Estemate!P53=\"f\",Estemate!O53,0)","v":"00:00:00"},{"$f":"IF(Estemate!P53=\"f\",Estemate!M53,0)","v":0},0,0]
[{"$f":"IF(Estemate!P54=\"F\",Estemate!A54,\"\")","v":""},"","","","","","","","","",44,{"$f":"IF(Estemate!P54=\"f\",Estemate!B54,0)","v":0},{"$f":"IF(Estemate!P54=\"f\",Estemate!G54,0)","v":0},{"$f":"IF(Estemate!P54=\"f\",Estemate!C54,0)","v":0},{"$f":"IF(Estemate!P54=\"f\",Estemate!L54,0)","v":0},{"$f":"IF(Estemate!P54=\"f\",Estemate!N54,0)","v":"00:00:00"},{"$f":"IF(Estemate!P54=\"f\",Estemate!O54,0)","v":"00:00:00"},{"$f":"IF(Estemate!P54=\"f\",Estemate!M54,0)","v":0},0,0]
[{"$f":"IF(Estemate!P55=\"F\",Estemate!A55,\"\")","v":""},"","","","","","","","","",45,{"$f":"IF(Estemate!P55=\"f\",Estemate!B55,0)","v":0},{"$f":"IF(Estemate!P55=\"f\",Estemate!G55,0)","v":0},{"$f":"IF(Estemate!P55=\"f\",Estemate!C55,0)","v":0},{"$f":"IF(Estemate!P55=\"f\",Estemate!L55,0)","v":0},{"$f":"IF(Estemate!P55=\"f\",Estemate!N55,0)","v":"00:00:00"},{"$f":"IF(Estemate!P55=\"f\",Estemate!O55,0)","v":"00:00:00"},{"$f":"IF(Estemate!P55=\"f\",Estemate!M55,0)","v":0},0,0]
[{"$f":"IF(Estemate!P56=\"F\",Estemate!A56,\"\")","v":""},"","","","","","","","","",46,{"$f":"IF(Estemate!P56=\"f\",Estemate!B56,0)","v":0},{"$f":"IF(Estemate!P56=\"f\",Estemate!G56,0)","v":0},{"$f":"IF(Estemate!P56=\"f\",Estemate!C56,0)","v":0},{"$f":"IF(Estemate!P56=\"f\",Estemate!L56,0)","v":0},{"$f":"IF(Estemate!P56=\"f\",Estemate!N56,0)","v":"00:00:00"},{"$f":"IF(Estemate!P56=\"f\",Estemate!O56,0)","v":"00:00:00"},{"$f":"IF(Estemate!P56=\"f\",Estemate!M56,0)","v":0},0,0]
[{"$f":"IF(Estemate!P57=\"F\",Estemate!A57,\"\")","v":""},"","","","","","","","","",47,{"$f":"IF(Estemate!P57=\"f\",Estemate!B57,0)","v":0},{"$f":"IF(Estemate!P57=\"f\",Estemate!G57,0)","v":0},{"$f":"IF(Estemate!P57=\"f\",Estemate!C57,0)","v":0},{"$f":"IF(Estemate!P57=\"f\",Estemate!L57,0)","v":0},{"$f":"IF(Estemate!P57=\"f\",Estemate!N57,0)","v":"00:00:00"},{"$f":"IF(Estemate!P57=\"f\",Estemate!O57,0)","v":"00:00:00"},{"$f":"IF(Estemate!P57=\"f\",Estemate!M57,0)","v":0},0,0]
[{"$f":"IF(Estemate!P58=\"F\",Estemate!A58,\"\")","v":""},"","","","","","","","","",48,{"$f":"IF(Estemate!P58=\"f\",Estemate!B58,0)","v":0},{"$f":"IF(Estemate!P58=\"f\",Estemate!G58,0)","v":0},{"$f":"IF(Estemate!P58=\"f\",Estemate!C58,0)","v":0},{"$f":"IF(Estemate!P58=\"f\",Estemate!L58,0)","v":0},{"$f":"IF(Estemate!P58=\"f\",Estemate!N58,0)","v":"00:00:00"},{"$f":"IF(Estemate!P58=\"f\",Estemate!O58,0)","v":"00:00:00"},{"$f":"IF(Estemate!P58=\"f\",Estemate!M58,0)","v":0},0,0]
[{"$f":"IF(Estemate!P59=\"F\",Estemate!A59,\"\")","v":""},"","","","","","","","","",49,{"$f":"IF(Estemate!P59=\"f\",Estemate!B59,0)","v":0},{"$f":"IF(Estemate!P59=\"f\",Estemate!G59,0)","v":0},{"$f":"IF(Estemate!P59=\"f\",Estemate!C59,0)","v":0},{"$f":"IF(Estemate!P59=\"f\",Estemate!L59,0)","v":0},{"$f":"IF(Estemate!P59=\"f\",Estemate!N59,0)","v":"00:00:00"},{"$f":"IF(Estemate!P59=\"f\",Estemate!O59,0)","v":"00:00:00"},{"$f":"IF(Estemate!P59=\"f\",Estemate!M59,0)","v":0},0,0]
[{"$f":"IF(Estemate!P60=\"F\",Estemate!A60,\"\")","v":""},"","","","","","","","","",50,{"$f":"IF(Estemate!P60=\"f\",Estemate!B60,0)","v":0},{"$f":"IF(Estemate!P60=\"f\",Estemate!G60,0)","v":0},{"$f":"IF(Estemate!P60=\"f\",Estemate!C60,0)","v":0},{"$f":"IF(Estemate!P60=\"f\",Estemate!L60,0)","v":0},{"$f":"IF(Estemate!P60=\"f\",Estemate!N60,0)","v":"00:00:00"},{"$f":"IF(Estemate!P60=\"f\",Estemate!O60,0)","v":"00:00:00"},{"$f":"IF(Estemate!P60=\"f\",Estemate!M60,0)","v":0},0,0]
[{"$f":"IF(Estemate!P61=\"F\",Estemate!A61,\"\")","v":""},"","","","","","","","","",51,{"$f":"IF(Estemate!P61=\"f\",Estemate!B61,0)","v":0},{"$f":"IF(Estemate!P61=\"f\",Estemate!G61,0)","v":0},{"$f":"IF(Estemate!P61=\"f\",Estemate!C61,0)","v":0},{"$f":"IF(Estemate!P61=\"f\",Estemate!L61,0)","v":0},{"$f":"IF(Estemate!P61=\"f\",Estemate!N61,0)","v":"00:00:00"},{"$f":"IF(Estemate!P61=\"f\",Estemate!O61,0)","v":"00:00:00"},{"$f":"IF(Estemate!P61=\"f\",Estemate!M61,0)","v":0},0,0]
[{"$f":"IF(Estemate!P62=\"F\",Estemate!A62,\"\")","v":""},"","","","","","","","","",52,{"$f":"IF(Estemate!P62=\"f\",Estemate!B62,0)","v":0},{"$f":"IF(Estemate!P62=\"f\",Estemate!G62,0)","v":0},{"$f":"IF(Estemate!P62=\"f\",Estemate!C62,0)","v":0},{"$f":"IF(Estemate!P62=\"f\",Estemate!L62,0)","v":0},{"$f":"IF(Estemate!P62=\"f\",Estemate!N62,0)","v":"00:00:00"},{"$f":"IF(Estemate!P62=\"f\",Estemate!O62,0)","v":"00:00:00"},{"$f":"IF(Estemate!P62=\"f\",Estemate!M62,0)","v":0},0,0]
[{"$f":"IF(Estemate!P63=\"F\",Estemate!A63,\"\")","v":""},"","","","","","","","","",53,{"$f":"IF(Estemate!P63=\"f\",Estemate!B63,0)","v":0},{"$f":"IF(Estemate!P63=\"f\",Estemate!G63,0)","v":0},{"$f":"IF(Estemate!P63=\"f\",Estemate!C63,0)","v":0},{"$f":"IF(Estemate!P63=\"f\",Estemate!L63,0)","v":0},{"$f":"IF(Estemate!P63=\"f\",Estemate!N63,0)","v":"00:00:00"},{"$f":"IF(Estemate!P63=\"f\",Estemate!O63,0)","v":"00:00:00"},{"$f":"IF(Estemate!P63=\"f\",Estemate!M63,0)","v":0},0,0]
[{"$f":"IF(Estemate!P64=\"F\",Estemate!A64,\"\")","v":""},"","","","","","","","","",54,{"$f":"IF(Estemate!P64=\"f\",Estemate!B64,0)","v":0},{"$f":"IF(Estemate!P64=\"f\",Estemate!G64,0)","v":0},{"$f":"IF(Estemate!P64=\"f\",Estemate!C64,0)","v":0},{"$f":"IF(Estemate!P64=\"f\",Estemate!L64,0)","v":0},{"$f":"IF(Estemate!P64=\"f\",Estemate!N64,0)","v":"00:00:00"},{"$f":"IF(Estemate!P64=\"f\",Estemate!O64,0)","v":"00:00:00"},{"$f":"IF(Estemate!P64=\"f\",Estemate!M64,0)","v":0},0,0]
[{"$f":"IF(Estemate!P65=\"F\",Estemate!A65,\"\")","v":""},"","","","","","","","","",55,{"$f":"IF(Estemate!P65=\"f\",Estemate!B65,0)","v":0},{"$f":"IF(Estemate!P65=\"f\",Estemate!G65,0)","v":0},{"$f":"IF(Estemate!P65=\"f\",Estemate!C65,0)","v":0},{"$f":"IF(Estemate!P65=\"f\",Estemate!L65,0)","v":0},{"$f":"IF(Estemate!P65=\"f\",Estemate!N65,0)","v":"00:00:00"},{"$f":"IF(Estemate!P65=\"f\",Estemate!O65,0)","v":"00:00:00"},{"$f":"IF(Estemate!P65=\"f\",Estemate!M65,0)","v":0},0,0]
[{"$f":"IF(Estemate!P66=\"F\",Estemate!A66,\"\")","v":""},"","","","","","","","","",56,{"$f":"IF(Estemate!P66=\"f\",Estemate!B66,0)","v":0},{"$f":"IF(Estemate!P66=\"f\",Estemate!G66,0)","v":0},{"$f":"IF(Estemate!P66=\"f\",Estemate!C66,0)","v":0},{"$f":"IF(Estemate!P66=\"f\",Estemate!L66,0)","v":0},{"$f":"IF(Estemate!P66=\"f\",Estemate!N66,0)","v":"00:00:00"},{"$f":"IF(Estemate!P66=\"f\",Estemate!O66,0)","v":"00:00:00"},{"$f":"IF(Estemate!P66=\"f\",Estemate!M66,0)","v":0},0,0]
[{"$f":"IF(Estemate!P67=\"F\",Estemate!A67,\"\")","v":""},"","","","","","","","","",57,{"$f":"IF(Estemate!P67=\"f\",Estemate!B67,0)","v":0},{"$f":"IF(Estemate!P67=\"f\",Estemate!G67,0)","v":0},{"$f":"IF(Estemate!P67=\"f\",Estemate!C67,0)","v":0},{"$f":"IF(Estemate!P67=\"f\",Estemate!L67,0)","v":0},{"$f":"IF(Estemate!P67=\"f\",Estemate!N67,0)","v":"00:00:00"},{"$f":"IF(Estemate!P67=\"f\",Estemate!O67,0)","v":"00:00:00"},{"$f":"IF(Estemate!P67=\"f\",Estemate!M67,0)","v":0},0,0]
[{"$f":"IF(Estemate!P68=\"F\",Estemate!A68,\"\")","v":""},"","","","","","","","","",58,{"$f":"IF(Estemate!P68=\"f\",Estemate!B68,0)","v":0},{"$f":"IF(Estemate!P68=\"f\",Estemate!G68,0)","v":0},{"$f":"IF(Estemate!P68=\"f\",Estemate!C68,0)","v":0},{"$f":"IF(Estemate!P68=\"f\",Estemate!L68,0)","v":0},{"$f":"IF(Estemate!P68=\"f\",Estemate!N68,0)","v":"00:00:00"},{"$f":"IF(Estemate!P68=\"f\",Estemate!O68,0)","v":"00:00:00"},{"$f":"IF(Estemate!P68=\"f\",Estemate!M68,0)","v":0},0,0]
[{"$f":"IF(Estemate!P69=\"F\",Estemate!A69,\"\")","v":""},"","","","","","","","","",59,{"$f":"IF(Estemate!P69=\"f\",Estemate!B69,0)","v":0},{"$f":"IF(Estemate!P69=\"f\",Estemate!G69,0)","v":0},{"$f":"IF(Estemate!P69=\"f\",Estemate!C69,0)","v":0},{"$f":"IF(Estemate!P69=\"f\",Estemate!L69,0)","v":0},{"$f":"IF(Estemate!P69=\"f\",Estemate!N69,0)","v":"00:00:00"},{"$f":"IF(Estemate!P69=\"f\",Estemate!O69,0)","v":"00:00:00"},{"$f":"IF(Estemate!P69=\"f\",Estemate!M69,0)","v":0},0,0]
[{"$f":"IF(Estemate!P70=\"F\",Estemate!A70,\"\")","v":""},"","","","","","","","","",60,{"$f":"IF(Estemate!P70=\"f\",Estemate!B70,0)","v":0},{"$f":"IF(Estemate!P70=\"f\",Estemate!G70,0)","v":0},{"$f":"IF(Estemate!P70=\"f\",Estemate!C70,0)","v":0},{"$f":"IF(Estemate!P70=\"f\",Estemate!L70,0)","v":0},{"$f":"IF(Estemate!P70=\"f\",Estemate!N70,0)","v":"00:00:00"},{"$f":"IF(Estemate!P70=\"f\",Estemate!O70,0)","v":"00:00:00"},{"$f":"IF(Estemate!P70=\"f\",Estemate!M70,0)","v":0},0,0]
[{"$f":"IF(Estemate!P71=\"F\",Estemate!A71,\"\")","v":""},"","","","","","","","","",61,{"$f":"IF(Estemate!P71=\"f\",Estemate!B71,0)","v":0},{"$f":"IF(Estemate!P71=\"f\",Estemate!G71,0)","v":0},{"$f":"IF(Estemate!P71=\"f\",Estemate!C71,0)","v":0},{"$f":"IF(Estemate!P71=\"f\",Estemate!L71,0)","v":0},{"$f":"IF(Estemate!P71=\"f\",Estemate!N71,0)","v":"00:00:00"},{"$f":"IF(Estemate!P71=\"f\",Estemate!O71,0)","v":"00:00:00"},{"$f":"IF(Estemate!P71=\"f\",Estemate!M71,0)","v":0},0,0]
[{"$f":"IF(Estemate!P72=\"F\",Estemate!A72,\"\")","v":""},"","","","","","","","","",62,{"$f":"IF(Estemate!P72=\"f\",Estemate!B72,0)","v":0},{"$f":"IF(Estemate!P72=\"f\",Estemate!G72,0)","v":0},{"$f":"IF(Estemate!P72=\"f\",Estemate!C72,0)","v":0},{"$f":"IF(Estemate!P72=\"f\",Estemate!L72,0)","v":0},{"$f":"IF(Estemate!P72=\"f\",Estemate!N72,0)","v":"00:00:00"},{"$f":"IF(Estemate!P72=\"f\",Estemate!O72,0)","v":"00:00:00"},{"$f":"IF(Estemate!P72=\"f\",Estemate!M72,0)","v":0},0,0]
[{"$f":"IF(Estemate!P73=\"F\",Estemate!A73,\"\")","v":""},"","","","","","","","","",63,{"$f":"IF(Estemate!P73=\"f\",Estemate!B73,0)","v":0},{"$f":"IF(Estemate!P73=\"f\",Estemate!G73,0)","v":0},{"$f":"IF(Estemate!P73=\"f\",Estemate!C73,0)","v":0},{"$f":"IF(Estemate!P73=\"f\",Estemate!L73,0)","v":0},{"$f":"IF(Estemate!P73=\"f\",Estemate!N73,0)","v":"00:00:00"},{"$f":"IF(Estemate!P73=\"f\",Estemate!O73,0)","v":"00:00:00"},{"$f":"IF(Estemate!P73=\"f\",Estemate!M73,0)","v":0},0,0]
[{"$f":"IF(Estemate!P74=\"F\",Estemate!A74,\"\")","v":""},"","","","","","","","","",64,{"$f":"IF(Estemate!P74=\"f\",Estemate!B74,0)","v":0},{"$f":"IF(Estemate!P74=\"f\",Estemate!G74,0)","v":0},{"$f":"IF(Estemate!P74=\"f\",Estemate!C74,0)","v":0},{"$f":"IF(Estemate!P74=\"f\",Estemate!L74,0)","v":0},{"$f":"IF(Estemate!P74=\"f\",Estemate!N74,0)","v":"00:00:00"},{"$f":"IF(Estemate!P74=\"f\",Estemate!O74,0)","v":"00:00:00"},{"$f":"IF(Estemate!P74=\"f\",Estemate!M74,0)","v":0},0,0]
[{"$f":"IF(Estemate!P75=\"F\",Estemate!A75,\"\")","v":""},"","","","","","","","","",65,{"$f":"IF(Estemate!P75=\"f\",Estemate!B75,0)","v":0},{"$f":"IF(Estemate!P75=\"f\",Estemate!G75,0)","v":0},{"$f":"IF(Estemate!P75=\"f\",Estemate!C75,0)","v":0},{"$f":"IF(Estemate!P75=\"f\",Estemate!L75,0)","v":0},{"$f":"IF(Estemate!P75=\"f\",Estemate!N75,0)","v":"00:00:00"},{"$f":"IF(Estemate!P75=\"f\",Estemate!O75,0)","v":"00:00:00"},{"$f":"IF(Estemate!P75=\"f\",Estemate!M75,0)","v":0},0,0]
[{"$f":"IF(Estemate!P76=\"F\",Estemate!A76,\"\")","v":""},"","","","","","","","","",66,{"$f":"IF(Estemate!P76=\"f\",Estemate!B76,0)","v":0},{"$f":"IF(Estemate!P76=\"f\",Estemate!G76,0)","v":0},{"$f":"IF(Estemate!P76=\"f\",Estemate!C76,0)","v":0},{"$f":"IF(Estemate!P76=\"f\",Estemate!L76,0)","v":0},{"$f":"IF(Estemate!P76=\"f\",Estemate!N76,0)","v":"00:00:00"},{"$f":"IF(Estemate!P76=\"f\",Estemate!O76,0)","v":"00:00:00"},{"$f":"IF(Estemate!P76=\"f\",Estemate!M76,0)","v":0},{"$f":"IF(L76=0,0,1)","v":0},0]
[{"$f":"IF(Estemate!P77=\"F\",Estemate!A77,\"\")","v":""},"","","","","","","","","",67,{"$f":"IF(Estemate!P77=\"f\",Estemate!B77,0)","v":0},{"$f":"IF(Estemate!P77=\"f\",Estemate!G77,0)","v":0},{"$f":"IF(Estemate!P77=\"f\",Estemate!C77,0)","v":0},{"$f":"IF(Estemate!P77=\"f\",Estemate!L77,0)","v":0},{"$f":"IF(Estemate!P77=\"f\",Estemate!N77,0)","v":"00:00:00"},{"$f":"IF(Estemate!P77=\"f\",Estemate!O77,0)","v":"00:00:00"},{"$f":"IF(Estemate!P77=\"f\",Estemate!M77,0)","v":0},0,{"$f":"T76+S77","v":0}]
[{"$f":"IF(Estemate!P78=\"F\",Estemate!A78,\"\")","v":""},"","","","","","","","","",68,{"$f":"IF(Estemate!P78=\"f\",Estemate!B78,0)","v":0},{"$f":"IF(Estemate!P78=\"f\",Estemate!G78,0)","v":0},{"$f":"IF(Estemate!P78=\"f\",Estemate!C78,0)","v":0},{"$f":"IF(Estemate!P78=\"f\",Estemate!L78,0)","v":0},{"$f":"IF(Estemate!P78=\"f\",Estemate!N78,0)","v":"00:00:00"},{"$f":"IF(Estemate!P78=\"f\",Estemate!O78,0)","v":"00:00:00"},{"$f":"IF(Estemate!P78=\"f\",Estemate!M78,0)","v":0},0,0]
[{"$f":"IF(Estemate!P79=\"F\",Estemate!A79,\"\")","v":""},"","","","","","","","","",69,{"$f":"IF(Estemate!P79=\"f\",Estemate!B79,0)","v":0},{"$f":"IF(Estemate!P79=\"f\",Estemate!G79,0)","v":0},{"$f":"IF(Estemate!P79=\"f\",Estemate!C79,0)","v":0},{"$f":"IF(Estemate!P79=\"f\",Estemate!L79,0)","v":0},{"$f":"IF(Estemate!P79=\"f\",Estemate!N79,0)","v":"00:00:00"},{"$f":"IF(Estemate!P79=\"f\",Estemate!O79,0)","v":"00:00:00"},{"$f":"IF(Estemate!P79=\"f\",Estemate!M79,0)","v":0},0,0]
[{"$f":"IF(Estemate!P80=\"F\",Estemate!A80,\"\")","v":""},"","","","","","","","","",70,{"$f":"IF(Estemate!P80=\"f\",Estemate!B80,0)","v":0},{"$f":"IF(Estemate!P80=\"f\",Estemate!G80,0)","v":0},{"$f":"IF(Estemate!P80=\"f\",Estemate!C80,0)","v":0},{"$f":"IF(Estemate!P80=\"f\",Estemate!L80,0)","v":0},{"$f":"IF(Estemate!P80=\"f\",Estemate!N80,0)","v":"00:00:00"},{"$f":"IF(Estemate!P80=\"f\",Estemate!O80,0)","v":"00:00:00"},{"$f":"IF(Estemate!P80=\"f\",Estemate!M80,0)","v":0},0,0]
[{"$f":"IF(Estemate!P81=\"F\",Estemate!A81,\"\")","v":""},"","","","","","","","","",71,{"$f":"IF(Estemate!P81=\"f\",Estemate!B81,0)","v":0},{"$f":"IF(Estemate!P81=\"f\",Estemate!G81,0)","v":0},{"$f":"IF(Estemate!P81=\"f\",Estemate!C81,0)","v":0},{"$f":"IF(Estemate!P81=\"f\",Estemate!L81,0)","v":0},{"$f":"IF(Estemate!P81=\"f\",Estemate!N81,0)","v":"00:00:00"},{"$f":"IF(Estemate!P81=\"f\",Estemate!O81,0)","v":"00:00:00"},{"$f":"IF(Estemate!P81=\"f\",Estemate!M81,0)","v":0},0,0]
[{"$f":"IF(Estemate!P82=\"F\",Estemate!A82,\"\")","v":""},"","","","","","","","","",72,{"$f":"IF(Estemate!P82=\"f\",Estemate!B82,0)","v":0},{"$f":"IF(Estemate!P82=\"f\",Estemate!G82,0)","v":0},{"$f":"IF(Estemate!P82=\"f\",Estemate!C82,0)","v":0},{"$f":"IF(Estemate!P82=\"f\",Estemate!L82,0)","v":0},{"$f":"IF(Estemate!P82=\"f\",Estemate!N82,0)","v":"00:00:00"},{"$f":"IF(Estemate!P82=\"f\",Estemate!O82,0)","v":"00:00:00"},{"$f":"IF(Estemate!P82=\"f\",Estemate!M82,0)","v":0},0,0]
[{"$f":"IF(Estemate!P83=\"F\",Estemate!A83,\"\")","v":""},"","","","","","","","","",73,{"$f":"IF(Estemate!P83=\"f\",Estemate!B83,0)","v":0},{"$f":"IF(Estemate!P83=\"f\",Estemate!G83,0)","v":0},{"$f":"IF(Estemate!P83=\"f\",Estemate!C83,0)","v":0},{"$f":"IF(Estemate!P83=\"f\",Estemate!L83,0)","v":0},{"$f":"IF(Estemate!P83=\"f\",Estemate!N83,0)","v":"00:00:00"},{"$f":"IF(Estemate!P83=\"f\",Estemate!O83,0)","v":"00:00:00"},{"$f":"IF(Estemate!P83=\"f\",Estemate!M83,0)","v":0},0,0]
[{"$f":"IF(Estemate!P84=\"F\",Estemate!A84,\"\")","v":""},"","","","","","","","","",74,{"$f":"IF(Estemate!P84=\"f\",Estemate!B84,0)","v":0},{"$f":"IF(Estemate!P84=\"f\",Estemate!G84,0)","v":0},{"$f":"IF(Estemate!P84=\"f\",Estemate!C84,0)","v":0},{"$f":"IF(Estemate!P84=\"f\",Estemate!L84,0)","v":0},{"$f":"IF(Estemate!P84=\"f\",Estemate!N84,0)","v":"00:00:00"},{"$f":"IF(Estemate!P84=\"f\",Estemate!O84,0)","v":"00:00:00"},{"$f":"IF(Estemate!P84=\"f\",Estemate!M84,0)","v":0},0,0]
[{"$f":"IF(Estemate!P85=\"F\",Estemate!A85,\"\")","v":""},"","","","","","","","","",75,{"$f":"IF(Estemate!P85=\"f\",Estemate!B85,0)","v":0},{"$f":"IF(Estemate!P85=\"f\",Estemate!G85,0)","v":0},{"$f":"IF(Estemate!P85=\"f\",Estemate!C85,0)","v":0},{"$f":"IF(Estemate!P85=\"f\",Estemate!L85,0)","v":0},{"$f":"IF(Estemate!P85=\"f\",Estemate!N85,0)","v":"00:00:00"},{"$f":"IF(Estemate!P85=\"f\",Estemate!O85,0)","v":"00:00:00"},{"$f":"IF(Estemate!P85=\"f\",Estemate!M85,0)","v":0},0,0]
[{"$f":"IF(Estemate!P86=\"F\",Estemate!A86,\"\")","v":""},"","","","","","","","","",76,{"$f":"IF(Estemate!P86=\"f\",Estemate!B86,0)","v":0},{"$f":"IF(Estemate!P86=\"f\",Estemate!G86,0)","v":0},{"$f":"IF(Estemate!P86=\"f\",Estemate!C86,0)","v":0},{"$f":"IF(Estemate!P86=\"f\",Estemate!L86,0)","v":0},{"$f":"IF(Estemate!P86=\"f\",Estemate!N86,0)","v":"00:00:00"},{"$f":"IF(Estemate!P86=\"f\",Estemate!O86,0)","v":"00:00:00"},{"$f":"IF(Estemate!P86=\"f\",Estemate!M86,0)","v":0},0,0]
[{"$f":"IF(Estemate!P87=\"F\",Estemate!A87,\"\")","v":""},"","","","","","","","","",77,{"$f":"IF(Estemate!P87=\"f\",Estemate!B87,0)","v":0},{"$f":"IF(Estemate!P87=\"f\",Estemate!G87,0)","v":0},{"$f":"IF(Estemate!P87=\"f\",Estemate!C87,0)","v":0},{"$f":"IF(Estemate!P87=\"f\",Estemate!L87,0)","v":0},{"$f":"IF(Estemate!P87=\"f\",Estemate!N87,0)","v":"00:00:00"},{"$f":"IF(Estemate!P87=\"f\",Estemate!O87,0)","v":"00:00:00"},{"$f":"IF(Estemate!P87=\"f\",Estemate!M87,0)","v":0},0,0]
[{"$f":"IF(Estemate!P88=\"F\",Estemate!A88,\"\")","v":""},"","","","","","","","","",78,{"$f":"IF(Estemate!P88=\"f\",Estemate!B88,0)","v":0},{"$f":"IF(Estemate!P88=\"f\",Estemate!G88,0)","v":0},{"$f":"IF(Estemate!P88=\"f\",Estemate!C88,0)","v":0},{"$f":"IF(Estemate!P88=\"f\",Estemate!L88,0)","v":0},{"$f":"IF(Estemate!P88=\"f\",Estemate!N88,0)","v":"00:00:00"},{"$f":"IF(Estemate!P88=\"f\",Estemate!O88,0)","v":"00:00:00"},{"$f":"IF(Estemate!P88=\"f\",Estemate!M88,0)","v":0},0,0]
[{"$f":"IF(Estemate!P89=\"F\",Estemate!A89,\"\")","v":""},"","","","","","","","","",79,{"$f":"IF(Estemate!P89=\"f\",Estemate!B89,0)","v":0},{"$f":"IF(Estemate!P89=\"f\",Estemate!G89,0)","v":0},{"$f":"IF(Estemate!P89=\"f\",Estemate!C89,0)","v":0},{"$f":"IF(Estemate!P89=\"f\",Estemate!L89,0)","v":0},{"$f":"IF(Estemate!P89=\"f\",Estemate!N89,0)","v":"00:00:00"},{"$f":"IF(Estemate!P89=\"f\",Estemate!O89,0)","v":"00:00:00"},{"$f":"IF(Estemate!P89=\"f\",Estemate!M89,0)","v":0},0,0]
[{"$f":"IF(Estemate!P90=\"F\",Estemate!A90,\"\")","v":""},"","","","","","","","","",80,{"$f":"IF(Estemate!P90=\"f\",Estemate!B90,0)","v":0},{"$f":"IF(Estemate!P90=\"f\",Estemate!G90,0)","v":0},{"$f":"IF(Estemate!P90=\"f\",Estemate!C90,0)","v":0},{"$f":"IF(Estemate!P90=\"f\",Estemate!L90,0)","v":0},{"$f":"IF(Estemate!P90=\"f\",Estemate!N90,0)","v":"00:00:00"},{"$f":"IF(Estemate!P90=\"f\",Estemate!O90,0)","v":"00:00:00"},{"$f":"IF(Estemate!P90=\"f\",Estemate!M90,0)","v":0},0,0]
[{"$f":"IF(Estemate!P91=\"F\",Estemate!A91,\"\")","v":""},"","","","","","","","","",81,{"$f":"IF(Estemate!P91=\"f\",Estemate!B91,0)","v":0},{"$f":"IF(Estemate!P91=\"f\",Estemate!G91,0)","v":0},{"$f":"IF(Estemate!P91=\"f\",Estemate!C91,0)","v":0},{"$f":"IF(Estemate!P91=\"f\",Estemate!L91,0)","v":0},{"$f":"IF(Estemate!P91=\"f\",Estemate!N91,0)","v":"00:00:00"},{"$f":"IF(Estemate!P91=\"f\",Estemate!O91,0)","v":"00:00:00"},{"$f":"IF(Estemate!P91=\"f\",Estemate!M91,0)","v":0},0,0]
[{"$f":"IF(Estemate!P92=\"F\",Estemate!A92,\"\")","v":""},"","","","","","","","","",82,{"$f":"IF(Estemate!P92=\"f\",Estemate!B92,0)","v":0},{"$f":"IF(Estemate!P92=\"f\",Estemate!G92,0)","v":0},{"$f":"IF(Estemate!P92=\"f\",Estemate!C92,0)","v":0},{"$f":"IF(Estemate!P92=\"f\",Estemate!L92,0)","v":0},{"$f":"IF(Estemate!P92=\"f\",Estemate!N92,0)","v":"00:00:00"},{"$f":"IF(Estemate!P92=\"f\",Estemate!O92,0)","v":"00:00:00"},{"$f":"IF(Estemate!P92=\"f\",Estemate!M92,0)","v":0},0,0]
[{"$f":"IF(Estemate!P93=\"F\",Estemate!A93,\"\")","v":""},"","","","","","","","","",83,{"$f":"IF(Estemate!P93=\"f\",Estemate!B93,0)","v":0},{"$f":"IF(Estemate!P93=\"f\",Estemate!G93,0)","v":0},{"$f":"IF(Estemate!P93=\"f\",Estemate!C93,0)","v":0},{"$f":"IF(Estemate!P93=\"f\",Estemate!L93,0)","v":0},{"$f":"IF(Estemate!P93=\"f\",Estemate!N93,0)","v":"00:00:00"},{"$f":"IF(Estemate!P93=\"f\",Estemate!O93,0)","v":"00:00:00"},{"$f":"IF(Estemate!P93=\"f\",Estemate!M93,0)","v":0},0,0]
[{"$f":"IF(Estemate!P94=\"F\",Estemate!A94,\"\")","v":""},"","","","","","","","","",84,{"$f":"IF(Estemate!P94=\"f\",Estemate!B94,0)","v":0},{"$f":"IF(Estemate!P94=\"f\",Estemate!G94,0)","v":0},{"$f":"IF(Estemate!P94=\"f\",Estemate!C94,0)","v":0},{"$f":"IF(Estemate!P94=\"f\",Estemate!L94,0)","v":0},{"$f":"IF(Estemate!P94=\"f\",Estemate!N94,0)","v":"00:00:00"},{"$f":"IF(Estemate!P94=\"f\",Estemate!O94,0)","v":"00:00:00"},{"$f":"IF(Estemate!P94=\"f\",Estemate!M94,0)","v":0},0,0]
[{"$f":"IF(Estemate!P95=\"F\",Estemate!A95,\"\")","v":""},"","","","","","","","","",85,{"$f":"IF(Estemate!P95=\"f\",Estemate!B95,0)","v":0},{"$f":"IF(Estemate!P95=\"f\",Estemate!G95,0)","v":0},{"$f":"IF(Estemate!P95=\"f\",Estemate!C95,0)","v":0},{"$f":"IF(Estemate!P95=\"f\",Estemate!L95,0)","v":0},{"$f":"IF(Estemate!P95=\"f\",Estemate!N95,0)","v":"00:00:00"},{"$f":"IF(Estemate!P95=\"f\",Estemate!O95,0)","v":"00:00:00"},{"$f":"IF(Estemate!P95=\"f\",Estemate!M95,0)","v":0},0,0]
[{"$f":"IF(Estemate!P96=\"F\",Estemate!A96,\"\")","v":""},"","","","","","","","","",86,{"$f":"IF(Estemate!P96=\"f\",Estemate!B96,0)","v":0},{"$f":"IF(Estemate!P96=\"f\",Estemate!G96,0)","v":0},{"$f":"IF(Estemate!P96=\"f\",Estemate!C96,0)","v":0},{"$f":"IF(Estemate!P96=\"f\",Estemate!L96,0)","v":0},{"$f":"IF(Estemate!P96=\"f\",Estemate!N96,0)","v":"00:00:00"},{"$f":"IF(Estemate!P96=\"f\",Estemate!O96,0)","v":"00:00:00"},{"$f":"IF(Estemate!P96=\"f\",Estemate!M96,0)","v":0},0,0]
[{"$f":"IF(Estemate!P97=\"F\",Estemate!A97,\"\")","v":""},"","","","","","","","","",87,{"$f":"IF(Estemate!P97=\"f\",Estemate!B97,0)","v":0},{"$f":"IF(Estemate!P97=\"f\",Estemate!G97,0)","v":0},{"$f":"IF(Estemate!P97=\"f\",Estemate!C97,0)","v":0},{"$f":"IF(Estemate!P97=\"f\",Estemate!L97,0)","v":0},{"$f":"IF(Estemate!P97=\"f\",Estemate!N97,0)","v":"00:00:00"},{"$f":"IF(Estemate!P97=\"f\",Estemate!O97,0)","v":"00:00:00"},{"$f":"IF(Estemate!P97=\"f\",Estemate!M97,0)","v":0},0,0]
[{"$f":"IF(Estemate!P98=\"F\",Estemate!A98,\"\")","v":""},"","","","","","","","","",88,{"$f":"IF(Estemate!P98=\"f\",Estemate!B98,0)","v":0},{"$f":"IF(Estemate!P98=\"f\",Estemate!G98,0)","v":0},{"$f":"IF(Estemate!P98=\"f\",Estemate!C98,0)","v":0},{"$f":"IF(Estemate!P98=\"f\",Estemate!L98,0)","v":0},{"$f":"IF(Estemate!P98=\"f\",Estemate!N98,0)","v":"00:00:00"},{"$f":"IF(Estemate!P98=\"f\",Estemate!O98,0)","v":"00:00:00"},{"$f":"IF(Estemate!P98=\"f\",Estemate!M98,0)","v":0},0,0]
[{"$f":"IF(Estemate!P99=\"F\",Estemate!A99,\"\")","v":""},"","","","","","","","","",89,{"$f":"IF(Estemate!P99=\"f\",Estemate!B99,0)","v":0},{"$f":"IF(Estemate!P99=\"f\",Estemate!G99,0)","v":0},{"$f":"IF(Estemate!P99=\"f\",Estemate!C99,0)","v":0},{"$f":"IF(Estemate!P99=\"f\",Estemate!L99,0)","v":0},{"$f":"IF(Estemate!P99=\"f\",Estemate!N99,0)","v":"00:00:00"},{"$f":"IF(Estemate!P99=\"f\",Estemate!O99,0)","v":"00:00:00"},{"$f":"IF(Estemate!P99=\"f\",Estemate!M99,0)","v":0},0,0]
[{"$f":"IF(Estemate!P100=\"F\",Estemate!A100,\"\")","v":""},"","","","","","","","","",90,{"$f":"IF(Estemate!P100=\"f\",Estemate!B100,0)","v":0},{"$f":"IF(Estemate!P100=\"f\",Estemate!G100,0)","v":0},{"$f":"IF(Estemate!P100=\"f\",Estemate!C100,0)","v":0},{"$f":"IF(Estemate!P100=\"f\",Estemate!L100,0)","v":0},{"$f":"IF(Estemate!P100=\"f\",Estemate!N100,0)","v":"00:00:00"},{"$f":"IF(Estemate!P100=\"f\",Estemate!O100,0)","v":"00:00:00"},{"$f":"IF(Estemate!P100=\"f\",Estemate!M100,0)","v":0},0,0]
[{"$f":"IF(Estemate!P101=\"F\",Estemate!A101,\"\")","v":""},"","","","","","","","","",91,{"$f":"IF(Estemate!P101=\"f\",Estemate!B101,0)","v":0},{"$f":"IF(Estemate!P101=\"f\",Estemate!G101,0)","v":0},{"$f":"IF(Estemate!P101=\"f\",Estemate!C101,0)","v":0},{"$f":"IF(Estemate!P101=\"f\",Estemate!L101,0)","v":0},{"$f":"IF(Estemate!P101=\"f\",Estemate!N101,0)","v":"00:00:00"},{"$f":"IF(Estemate!P101=\"f\",Estemate!O101,0)","v":"00:00:00"},{"$f":"IF(Estemate!P101=\"f\",Estemate!M101,0)","v":0},0,0]
[{"$f":"IF(Estemate!P102=\"F\",Estemate!A102,\"\")","v":""},"","","","","","","","","",92,{"$f":"IF(Estemate!P102=\"f\",Estemate!B102,0)","v":0},{"$f":"IF(Estemate!P102=\"f\",Estemate!G102,0)","v":0},{"$f":"IF(Estemate!P102=\"f\",Estemate!C102,0)","v":0},{"$f":"IF(Estemate!P102=\"f\",Estemate!L102,0)","v":0},{"$f":"IF(Estemate!P102=\"f\",Estemate!N102,0)","v":"00:00:00"},{"$f":"IF(Estemate!P102=\"f\",Estemate!O102,0)","v":"00:00:00"},{"$f":"IF(Estemate!P102=\"f\",Estemate!M102,0)","v":0},0,0]
[{"$f":"IF(Estemate!P103=\"F\",Estemate!A103,\"\")","v":""},"","","","","","","","","",93,{"$f":"IF(Estemate!P103=\"f\",Estemate!B103,0)","v":0},{"$f":"IF(Estemate!P103=\"f\",Estemate!G103,0)","v":0},{"$f":"IF(Estemate!P103=\"f\",Estemate!C103,0)","v":0},{"$f":"IF(Estemate!P103=\"f\",Estemate!L103,0)","v":0},{"$f":"IF(Estemate!P103=\"f\",Estemate!N103,0)","v":"00:00:00"},{"$f":"IF(Estemate!P103=\"f\",Estemate!O103,0)","v":"00:00:00"},{"$f":"IF(Estemate!P103=\"f\",Estemate!M103,0)","v":0},0,0]
[{"$f":"IF(Estemate!P104=\"F\",Estemate!A104,\"\")","v":""},"","","","","","","","","",94,{"$f":"IF(Estemate!P104=\"f\",Estemate!B104,0)","v":0},{"$f":"IF(Estemate!P104=\"f\",Estemate!G104,0)","v":0},{"$f":"IF(Estemate!P104=\"f\",Estemate!C104,0)","v":0},{"$f":"IF(Estemate!P104=\"f\",Estemate!L104,0)","v":0},{"$f":"IF(Estemate!P104=\"f\",Estemate!N104,0)","v":"00:00:00"},{"$f":"IF(Estemate!P104=\"f\",Estemate!O104,0)","v":"00:00:00"},{"$f":"IF(Estemate!P104=\"f\",Estemate!M104,0)","v":0},0,0]
[{"$f":"IF(Estemate!P105=\"F\",Estemate!A105,\"\")","v":""},"","","","","","","","","",95,{"$f":"IF(Estemate!P105=\"f\",Estemate!B105,0)","v":0},{"$f":"IF(Estemate!P105=\"f\",Estemate!G105,0)","v":0},{"$f":"IF(Estemate!P105=\"f\",Estemate!C105,0)","v":0},{"$f":"IF(Estemate!P105=\"f\",Estemate!L105,0)","v":0},{"$f":"IF(Estemate!P105=\"f\",Estemate!N105,0)","v":"00:00:00"},{"$f":"IF(Estemate!P105=\"f\",Estemate!O105,0)","v":"00:00:00"},{"$f":"IF(Estemate!P105=\"f\",Estemate!M105,0)","v":0},0,0]
[{"$f":"IF(Estemate!P106=\"F\",Estemate!A106,\"\")","v":""},{"$f":"IF(C106=\"\",\"\",T106)","v":""},{"$f":"IF(ISNA(VLOOKUP(A106,K$11:R$110,2,FALSE)),\"\",VLOOKUP(A106,K$11:R$110,2,FALSE))","v":""},{"$f":"IF(ISNA(VLOOKUP(A106,K$11:R$110,3,FALSE)),\"\",VLOOKUP(A106,K$11:R$110,3,FALSE))","v":""},{"$f":"IF(ISNA(VLOOKUP(A106,K$11:R$110,4,FALSE)),\"\",VLOOKUP(A106,K$11:R$110,4,FALSE))","v":""},{"$f":"IF(ISNA(VLOOKUP(A106,K$11:R$110,5,FALSE)),\"\",VLOOKUP(A106,K$11:R$110,5,FALSE))","v":""},{"$f":"IF(ISNA(VLOOKUP(A106,K$11:R$110,6,FALSE)),\"\",VLOOKUP(A106,K$11:R$110,6,FALSE))","v":""},{"$f":"IF(ISNA(VLOOKUP(A106,K$11:R$110,7,FALSE)),\"\",VLOOKUP(A106,K$11:R$110,7,FALSE))","v":""},{"$f":"IF(ISNA(VLOOKUP(A106,K$11:R$110,8,FALSE)),\"\",VLOOKUP(A106,K$11:R$110,8,FALSE))","v":""},{"$f":"IF(I106=\"\",\"\",I106*12)","v":""},96,{"$f":"IF(Estemate!P106=\"f\",Estemate!B106,0)","v":0},{"$f":"IF(Estemate!P106=\"f\",Estemate!G106,0)","v":0},{"$f":"IF(Estemate!P106=\"f\",Estemate!C106,0)","v":0},{"$f":"IF(Estemate!P106=\"f\",Estemate!L106,0)","v":0},{"$f":"IF(Estemate!P106=\"f\",Estemate!N106,0)","v":"00:00:00"},{"$f":"IF(Estemate!P106=\"f\",Estemate!O106,0)","v":"00:00:00"},{"$f":"IF(Estemate!P106=\"f\",Estemate!M106,0)","v":0},0,0]
[{"$f":"IF(Estemate!P107=\"F\",Estemate!A107,\"\")","v":""},"","","","","","","","","",97,{"$f":"IF(Estemate!P107=\"f\",Estemate!B107,0)","v":0},{"$f":"IF(Estemate!P107=\"f\",Estemate!G107,0)","v":0},{"$f":"IF(Estemate!P107=\"f\",Estemate!C107,0)","v":0},{"$f":"IF(Estemate!P107=\"f\",Estemate!L107,0)","v":0},{"$f":"IF(Estemate!P107=\"f\",Estemate!N107,0)","v":"00:00:00"},{"$f":"IF(Estemate!P107=\"f\",Estemate!O107,0)","v":"00:00:00"},{"$f":"IF(Estemate!P107=\"f\",Estemate!M107,0)","v":0},0,0]
[{"$f":"IF(Estemate!P108=\"F\",Estemate!A108,\"\")","v":""},"","","","","","","","","",98,{"$f":"IF(Estemate!P108=\"f\",Estemate!B108,0)","v":0},{"$f":"IF(Estemate!P108=\"f\",Estemate!G108,0)","v":0},{"$f":"IF(Estemate!P108=\"f\",Estemate!C108,0)","v":0},{"$f":"IF(Estemate!P108=\"f\",Estemate!L108,0)","v":0},{"$f":"IF(Estemate!P108=\"f\",Estemate!N108,0)","v":"00:00:00"},{"$f":"IF(Estemate!P108=\"f\",Estemate!O108,0)","v":"00:00:00"},{"$f":"IF(Estemate!P108=\"f\",Estemate!M108,0)","v":0},0,0]
[{"$f":"IF(Estemate!P109=\"F\",Estemate!A109,\"\")","v":""},"","","","","","","","","",99,{"$f":"IF(Estemate!P109=\"f\",Estemate!B109,0)","v":0},{"$f":"IF(Estemate!P109=\"f\",Estemate!G109,0)","v":0},{"$f":"IF(Estemate!P109=\"f\",Estemate!C109,0)","v":0},{"$f":"IF(Estemate!P109=\"f\",Estemate!L109,0)","v":0},{"$f":"IF(Estemate!P109=\"f\",Estemate!N109,0)","v":"00:00:00"},{"$f":"IF(Estemate!P109=\"f\",Estemate!O109,0)","v":"00:00:00"},{"$f":"IF(Estemate!P109=\"f\",Estemate!M109,0)","v":0},0,0]
[{"$f":"IF(Estemate!P110=\"F\",Estemate!A110,\"\")","v":""},"","","","","","","","","",100,{"$f":"IF(Estemate!P110=\"f\",Estemate!B110,0)","v":0},{"$f":"IF(Estemate!P110=\"f\",Estemate!G110,0)","v":0},{"$f":"IF(Estemate!P110=\"f\",Estemate!C110,0)","v":0},{"$f":"IF(Estemate!P110=\"f\",Estemate!L110,0)","v":0},{"$f":"IF(Estemate!P110=\"f\",Estemate!N110,0)","v":"00:00:00"},{"$f":"IF(Estemate!P110=\"f\",Estemate!O110,0)","v":"00:00:00"},{"$f":"IF(Estemate!P110=\"f\",Estemate!M110,0)","v":0},0,0]
[null,"Total",null,null,null,null,null,null,null,{"$f":"SUM(J11:J110)","v":0}]
[null,"."]
[null,".",null,null,null,null,null,null,{"$f":"Database!N38","v":"प्रधानाचार्य"}]
[null,".",null,null,null,null,null,null,{"$f":"Database!N39","v":"jktdh; mPp ek/;fed fo|ky;"}]
[null,".",null,null,null,null,null,null,{"$f":"Database!N40","v":"pkSxkbZa] Vksad"}]
[null,".",null,null,null,null,null,null,{"$f":"Database!N41","v":27306}]

{"sheet":"LeavEncas","index":7,"n_rows":116,"n_cols":37,"rows_kept":116,"cut":false,"hidden":true,"merged":[[115,1,115,2],[0,1,0,2],[0,3,0,10],[1,1,1,10],[7,4,7,5],[2,9,2,10],[3,9,3,10]]}
[null,{"$f":"Database!B1","v":"dk;kZy;&"},null,{"$f":"Database!F1","v":"jktdh; mPp ek/;fed fo|ky;&pkSxkbZa] Vksad"}]
[null,"lsok fuo`fÙk ij mikftZr vodk'k dk udnh dj.k"]
[null,null,null,{"$f":"Database!B3","v":"eq[; ys[kk 'kh\"kZ&"},{"$f":"Database!B4","v":2202},{"$f":"Database!C4","v":"lkekU; f'k{kk"},null,null,null,{"$f":"Database!H4","v":"MhMhvks dksM&"}]
[null,null,null,null,{"$f":"Database!B5","v":2},{"$f":"Database!C5","v":"ek/;fed f'k{kk"},null,null,null,{"$f":"Database!H5","v":27306}]
[null,null,null,null,{"$f":"Database!B6","v":109},{"$f":"Database!C6","v":"jktdh; mPp ek/;fed fo|ky;"}]
[null,null,null,null,{"$f":"Database!B7","v":1},{"$f":"Database!C7","v":"yMdksa ds fo|ky;"}]
[null,null,null,null,{"$f":"Database!B8","v":0},{"$f":"Database!C8","v":"lkekU; O;;"}]
[null,null,null,{"$f":"Database!F8","v":"Ldhe dk uke&"},{"$f":"Database!H8","v":"राज्य निधि"},null,null,null,null,null,null,null,null,null,"DA Rate-",{"$f":"Database!F9+100","v":142}]
[null,"Ø-la-","DDO Code","uke dkfeZd e; ","in ","tUe frfFk","lsok fuo`fÙk frfFk"," 'ks\"k mikftZr vodk'k","ewy osru",{"$f":"Database!K21","v":"lEHkkfor O;; 2023&24"},{"$f":"Database!O20","v":"O;; vuqeku 2024&25"},"Total Months","S.No","DDO Code","uke dkfeZd e; ","in ","tUe frfFk","lsok fuo`fÙk frfFk"," 'ks\"k mikftZr vodk'k","ewy osru tqykbZ 21","pkyw o\"kZ","vkxkeh o\"kZ","ekg","ewy osru tqykbZ 22","Year","Year Of Retirement","Month of Retirement","Basic Current","Basic Next","DA Rate","Today","Today Year","Today Month","Next Year","Current Year"]
[null,1,2,3,4,5,6,7,8,9,10,null,1,2,3,4,5,6,7,8,9,10,11,12,13,14,15,16,17,18,18,19,20,21,22]
[{"$f":"IF(Estemate!R11=\"\",\"\",Estemate!A11)","v":""},{"$f":"IF(C11=\"\",\"\",AK11)","v":""},{"$f":"IF(ISNA(VLOOKUP($A11,$M$11:$V$110,2,FALSE)),\"\",VLOOKUP($A11,$M$11:$V$110,2,FALSE))","v":""},{"$f":"IF(ISNA(VLOOKUP($A11,$M$11:$V$110,3,FALSE)),\"\",VLOOKUP($A11,$M$11:$V$110,3,FALSE))","v":""},{"$f":"IF(ISNA(VLOOKUP($A11,$M$11:$V$110,4,FALSE)),\"\",VLOOKUP($A11,$M$11:$V$110,4,FALSE))","v":""},{"$f":"IF(ISNA(VLOOKUP($A11,$M$11:$V$110,5,FALSE)),\"\",VLOOKUP($A11,$M$11:$V$110,5,FALSE))","v":""},{"$f":"IF(ISNA(VLOOKUP($A11,$M$11:$V$110,6,FALSE)),\"\",VLOOKUP($A11,$M$11:$V$110,6,FALSE))","v":""},{"$f":"IF(ISNA(VLOOKUP($A11,$M$11:$V$110,7,FALSE)),\"\",VLOOKUP($A11,$M$11:$V$110,7,FALSE))","v":""},{"$f":"IF(ISNA(VLOOKUP($A11,$M$11:$V$110,8,FALSE)),\"\",VLOOKUP($A11,$M$11:$V$110,8,FALSE))","v":""},{"$f":"IF(ISNA(VLOOKUP($A11,$M$11:$V$110,9,FALSE)),\"\",VLOOKUP($A11,$M$11:$V$110,9,FALSE))","v":""},{"$f":"IF(ISNA(VLOOKUP($A11,$M$11:$V$110,10,FALSE)),\"\",VLOOKUP($A11,$M$11:$V$110,10,FALSE))","v":""},null,1,{"$f":"IF(Estemate!R11=\"\",0,Estemate!B11)","v":0},{"$f":"IF(Estemate!R11=\"\",0,Estemate!G11)","v":0},{"$f":"IF(Estemate!R11=\"\",0,Estemate!C11)","v":0},{"$f":"IF(Estemate!R11=\"\",0,Estemate!N11)","v":"00:00:00"},{"$f":"IF(Estemate!R11=\"\",0,Estemate!Q11)","v":"00:00:00"},{"$f":"IF(Estemate!R11=\"\",0,Estemate!R11)*IF(Estemate!P11=\"Contract\",0,1)*IF(Estemate!P11=\"F\",0,1)","v":0},{"$f":"IF(Estemate!R11=\"\",0,Estemate!M11)","v":0},{"$f":"ROUNDUP(W11*AB11*AD11%,0)","v":0},{"$f":"ROUNDUP(W11*AC11*AD11%,0)","v":0},{"$f":"ROUND(S11/30,0)","v":0},{"$f":"ROUND(ROUND(T11*3%,0),-2)+T11","v":0},{"$f":"YEAR(R11)","v":1900},{"$f":"IF(S11>0,Y11,0)","v":0},{"$f":"IF(S11>0,MONTH(R11),0)","v":0},{"$f":"IF(Z11=AI11,T11,0)+IF(Z11=AF11,T11,0)*IF(AA11<=3,1,0)","v":0},{"$f":"IF(Z11=AF11,X11,0)*IF(AA11>3,1,0)+IF(Z11=AH11,X11,0)*IF(AA11<=3,1,0)","v":0},{"$f":"P$8","v":142},{"$f":"TODAY()","v":"2023-08-18"},{"$f":"YEAR(AE11)+1","v":2024},{"$f":"MONTH(AE11)","v":8},{"$f":"YEAR(AE11)+2","v":2025},{"$f":"YEAR(AE11)","v":2023},{"$f":"IF(X11=0,0,1)","v":0},{"$f":"AJ11","v":0}]
[{"$f":"IF(Estemate!R12=\"\",\"\",Estemate!A12)","v":""},{"$f":"IF(C12=\"\",\"\",AK12)","v":""},{"$f":"IF(ISNA(VLOOKUP($A12,$M$11:$V$110,2,FALSE)),\"\",VLOOKUP($A12,$M$11:$V$110,2,FALSE))","v":""},{"$f":"IF(ISNA(VLOOKUP($A12,$M$11:$V$110,3,FALSE)),\"\",VLOOKUP($A12,$M$11:$V$110,3,FALSE))","v":""},{"$f":"IF(ISNA(VLOOKUP($A12,$M$11:$V$110,4,FALSE)),\"\",VLOOKUP($A12,$M$11:$V$110,4,FALSE))","v":""},{"$f":"IF(ISNA(VLOOKUP($A12,$M$11:$V$110,5,FALSE)),\"\",VLOOKUP($A12,$M$11:$V$110,5,FALSE))","v":""},{"$f":"IF(ISNA(VLOOKUP($A12,$M$11:$V$110,6,FALSE)),\"\",VLOOKUP($A12,$M$11:$V$110,6,FALSE))","v":""},{"$f":"IF(ISNA(VLOOKUP($A12,$M$11:$V$110,7,FALSE)),\"\",VLOOKUP($A12,$M$11:$V$110,7,FALSE))","v":""},{"$f":"IF(ISNA(VLOOKUP($A12,$M$11:$V$110,8,FALSE)),\"\",VLOOKUP($A12,$M$11:$V$110,8,FALSE))","v":""},{"$f":"IF(ISNA(VLOOKUP($A12,$M$11:$V$110,9,FALSE)),\"\",VLOOKUP($A12,$M$11:$V$110,9,FALSE))","v":""},{"$f":"IF(ISNA(VLOOKUP($A12,$M$11:$V$110,10,FALSE)),\"\",VLOOKUP($A12,$M$11:$V$110,10,FALSE))","v":""},null,2,{"$f":"IF(Estemate!R12=\"\",0,Estemate!B12)","v":0},{"$f":"IF(Estemate!R12=\"\",0,Estemate!G12)","v":0},{"$f":"IF(Estemate!R12=\"\",0,Estemate!C12)","v":0},{"$f":"IF(Estemate!R12=\"\",0,Estemate!N12)","v":"00:00:00"},{"$f":"IF(Estemate!R12=\"\",0,Estemate!Q12)","v":"00:00:00"},{"$f":"IF(Estemate!R12=\"\",0,Estemate!R12)*IF(Estemate!P12=\"Contract\",0,1)*IF(Estemate!P12=\"F\",0,1)","v":0},{"$f":"IF(Estemate!R12=\"\",0,Estemate!M12)","v":0},{"$f":"ROUNDUP(W12*AB12*AD12%,0)","v":0},{"$f":"ROUNDUP(W12*AC12*AD12%,0)","v":0},{"$f":"ROUND(S12/30,0)","v":0},{"$f":"ROUND(ROUND(T12*3%,0),-2)+T12","v":0},{"$f":"YEAR(R12)","v":1900},{"$f":"IF(S12>0,Y12,0)","v":0},{"$f":"IF(S12>0,MONTH(R12),0)","v":0},{"$f":"IF(Z12=AI12,T12,0)+IF(Z12=AF12,T12,0)*IF(AA12<=3,1,0)","v":0},{"$f":"IF(Z12=AF12,X12,0)*IF(AA12>3,1,0)+IF(Z12=AH12,X12,0)*IF(AA12<=3,1,0)","v":0},{"$f":"P$8","v":142},{"$f":"TODAY()","v":"2023-08-18"},{"$f":"YEAR(AE12)+1","v":2024},{"$f":"MONTH(AE12)","v":8},{"$f":"YEAR(AE12)+2","v":2025},{"$f":"YEAR(AE12)","v":2023},{"$f":"IF(X12=0,0,1)","v":0},{"$f":"AK11+AJ12","v":0}]
[{"$f":"IF(Estemate!R13=\"\",\"\",Estemate!A13)","v":""},"","","","","","","","","","",null,3,{"$f":"IF(Estemate!R13=\"\",0,Estemate!B13)","v":0},{"$f":"IF(Estemate!R13=\"\",0,Estemate!G13)","v":0},{"$f":"IF(Estemate!R13=\"\",0,Estemate!C13)","v":0},{"$f":"IF(Estemate!R13=\"\",0,Estemate!N13)","v":"00:00:00"},{"$f":"IF(Estemate!R13=\"\",0,Estemate!Q13)","v":"00:00:00"},{"$f":"IF(Estemate!R13=\"\",0,Estemate!R13)*IF(Estemate!P13=\"Contract\",0,1)*IF(Estemate!P13=\"F\",0,1)","v":0},{"$f":"IF(Estemate!R13=\"\",0,Estemate!M13)","v":0},0,0,0,0,1900,0,0,0,0,142,"2023-08-18",2024,8,2025,2023,{"$f":"IF(X13=0,0,1)","v":0},{"$f":"AK12+AJ13","v":0}]
[{"$f":"IF(Estemate!R14=\"\",\"\",Estemate!A14)","v":""},"","","","","","","","","","",null,4,{"$f":"IF(Estemate!R14=\"\",0,Estemate!B14)","v":0},{"$f":"IF(Estemate!R14=\"\",0,Estemate!G14)","v":0},{"$f":"IF(Estemate!R14=\"\",0,Estemate!C14)","v":0},{"$f":"IF(Estemate!R14=\"\",0,Estemate!N14)","v":"00:00:00"},{"$f":"IF(Estemate!R14=\"\",0,Estemate!Q14)","v":"00:00:00"},{"$f":"IF(Estemate!R14=\"\",0,Estemate!R14)*IF(Estemate!P14=\"Contract\",0,1)*IF(Estemate!P14=\"F\",0,1)","v":0},{"$f":"IF(Estemate!R14=\"\",0,Estemate!M14)","v":0},0,0,0,0,1900,0,0,0,0,142,"2023-08-18",2024,8,2025,2023,0,0]
[{"$f":"IF(Estemate!R15=\"\",\"\",Estemate!A15)","v":""},"","","","","","","","","","",null,5,{"$f":"IF(Estemate!R15=\"\",0,Estemate!B15)","v":0},{"$f":"IF(Estemate!R15=\"\",0,Estemate!G15)","v":0},{"$f":"IF(Estemate!R15=\"\",0,Estemate!C15)","v":0},{"$f":"IF(Estemate!R15=\"\",0,Estemate!N15)","v":"00:00:00"},{"$f":"IF(Estemate!R15=\"\",0,Estemate!Q15)","v":"00:00:00"},{"$f":"IF(Estemate!R15=\"\",0,Estemate!R15)*IF(Estemate!P15=\"Contract\",0,1)*IF(Estemate!P15=\"F\",0,1)","v":0},{"$f":"IF(Estemate!R15=\"\",0,Estemate!M15)","v":0},0,0,0,0,1900,0,0,0,0,142,"2023-08-18",2024,8,2025,2023,0,0]
[{"$f":"IF(Estemate!R16=\"\",\"\",Estemate!A16)","v":""},"","","","","","","","","","",null,6,{"$f":"IF(Estemate!R16=\"\",0,Estemate!B16)","v":0},{"$f":"IF(Estemate!R16=\"\",0,Estemate!G16)","v":0},{"$f":"IF(Estemate!R16=\"\",0,Estemate!C16)","v":0},{"$f":"IF(Estemate!R16=\"\",0,Estemate!N16)","v":"00:00:00"},{"$f":"IF(Estemate!R16=\"\",0,Estemate!Q16)","v":"00:00:00"},{"$f":"IF(Estemate!R16=\"\",0,Estemate!R16)*IF(Estemate!P16=\"Contract\",0,1)*IF(Estemate!P16=\"F\",0,1)","v":0},{"$f":"IF(Estemate!R16=\"\",0,Estemate!M16)","v":0},0,0,0,0,1900,0,0,0,0,142,"2023-08-18",2024,8,2025,2023,0,0]
[{"$f":"IF(Estemate!R17=\"\",\"\",Estemate!A17)","v":""},"","","","","","","","","","",null,7,{"$f":"IF(Estemate!R17=\"\",0,Estemate!B17)","v":0},{"$f":"IF(Estemate!R17=\"\",0,Estemate!G17)","v":0},{"$f":"IF(Estemate!R17=\"\",0,Estemate!C17)","v":0},{"$f":"IF(Estemate!R17=\"\",0,Estemate!N17)","v":"00:00:00"},{"$f":"IF(Estemate!R17=\"\",0,Estemate!Q17)","v":"00:00:00"},{"$f":"IF(Estemate!R17=\"\",0,Estemate!R17)*IF(Estemate!P17=\"Contract\",0,1)*IF(Estemate!P17=\"F\",0,1)","v":0},{"$f":"IF(Estemate!R17=\"\",0,Estemate!M17)","v":0},0,0,0,0,1900,0,0,0,0,142,"2023-08-18",2024,8,2025,2023,0,0]
[{"$f":"IF(Estemate!R18=\"\",\"\",Estemate!A18)","v":""},"","","","","","","","","","",null,8,{"$f":"IF(Estemate!R18=\"\",0,Estemate!B18)","v":0},{"$f":"IF(Estemate!R18=\"\",0,Estemate!G18)","v":0},{"$f":"IF(Estemate!R18=\"\",0,Estemate!C18)","v":0},{"$f":"IF(Estemate!R18=\"\",0,Estemate!N18)","v":"00:00:00"},{"$f":"IF(Estemate!R18=\"\",0,Estemate!Q18)","v":"00:00:00"},{"$f":"IF(Estemate!R18=\"\",0,Estemate!R18)*IF(Estemate!P18=\"Contract\",0,1)*IF(Estemate!P18=\"F\",0,1)","v":0},{"$f":"IF(Estemate!R18=\"\",0,Estemate!M18)","v":0},0,0,0,0,1900,0,0,0,0,142,"2023-08-18",2024,8,2025,2023,0,0]
[{"$f":"IF(Estemate!R19=\"\",\"\",Estemate!A19)","v":""},"","","","","","","","","","",null,9,{"$f":"IF(Estemate!R19=\"\",0,Estemate!B19)","v":0},{"$f":"IF(Estemate!R19=\"\",0,Estemate!G19)","v":0},{"$f":"IF(Estemate!R19=\"\",0,Estemate!C19)","v":0},{"$f":"IF(Estemate!R19=\"\",0,Estemate!N19)","v":"00:00:00"},{"$f":"IF(Estemate!R19=\"\",0,Estemate!Q19)","v":"00:00:00"},{"$f":"IF(Estemate!R19=\"\",0,Estemate!R19)*IF(Estemate!P19=\"Contract\",0,1)*IF(Estemate!P19=\"F\",0,1)","v":0},{"$f":"IF(Estemate!R19=\"\",0,Estemate!M19)","v":0},0,0,0,0,1900,0,0,0,0,142,"2023-08-18",2024,8,2025,2023,0,0]
[{"$f":"IF(Estemate!R20=\"\",\"\",Estemate!A20)","v":""},"","","","","","","","","","",null,10,{"$f":"IF(Estemate!R20=\"\",0,Estemate!B20)","v":0},{"$f":"IF(Estemate!R20=\"\",0,Estemate!G20)","v":0},{"$f":"IF(Estemate!R20=\"\",0,Estemate!C20)","v":0},{"$f":"IF(Estemate!R20=\"\",0,Estemate!N20)","v":"00:00:00"},{"$f":"IF(Estemate!R20=\"\",0,Estemate!Q20)","v":"00:00:00"},{"$f":"IF(Estemate!R20=\"\",0,Estemate!R20)*IF(Estemate!P20=\"Contract\",0,1)*IF(Estemate!P20=\"F\",0,1)","v":0},{"$f":"IF(Estemate!R20=\"\",0,Estemate!M20)","v":0},0,0,0,0,1900,0,0,0,0,142,"2023-08-18",2024,8,2025,2023,0,0]
[{"$f":"IF(Estemate!R21=\"\",\"\",Estemate!A21)","v":""},"","","","","","","","","","",null,11,{"$f":"IF(Estemate!R21=\"\",0,Estemate!B21)","v":0},{"$f":"IF(Estemate!R21=\"\",0,Estemate!G21)","v":0},{"$f":"IF(Estemate!R21=\"\",0,Estemate!C21)","v":0},{"$f":"IF(Estemate!R21=\"\",0,Estemate!N21)","v":"00:00:00"},{"$f":"IF(Estemate!R21=\"\",0,Estemate!Q21)","v":"00:00:00"},{"$f":"IF(Estemate!R21=\"\",0,Estemate!R21)*IF(Estemate!P21=\"Contract\",0,1)*IF(Estemate!P21=\"F\",0,1)","v":0},{"$f":"IF(Estemate!R21=\"\",0,Estemate!M21)","v":0},0,0,0,0,1900,0,0,0,0,142,"2023-08-18",2024,8,2025,2023,0,0]
[{"$f":"IF(Estemate!R22=\"\",\"\",Estemate!A22)","v":""},"","","","","","","","","","",null,12,{"$f":"IF(Estemate!R22=\"\",0,Estemate!B22)","v":0},{"$f":"IF(Estemate!R22=\"\",0,Estemate!G22)","v":0},{"$f":"IF(Estemate!R22=\"\",0,Estemate!C22)","v":0},{"$f":"IF(Estemate!R22=\"\",0,Estemate!N22)","v":"00:00:00"},{"$f":"IF(Estemate!R22=\"\",0,Estemate!Q22)","v":"00:00:00"},{"$f":"IF(Estemate!R22=\"\",0,Estemate!R22)*IF(Estemate!P22=\"Contract\",0,1)*IF(Estemate!P22=\"F\",0,1)","v":0},{"$f":"IF(Estemate!R22=\"\",0,Estemate!M22)","v":0},0,0,0,0,1900,0,0,0,0,142,"2023-08-18",2024,8,2025,2023,0,0]
[{"$f":"IF(Estemate!R23=\"\",\"\",Estemate!A23)","v":""},"","","","","","","","","","",null,13,{"$f":"IF(Estemate!R23=\"\",0,Estemate!B23)","v":0},{"$f":"IF(Estemate!R23=\"\",0,Estemate!G23)","v":0},{"$f":"IF(Estemate!R23=\"\",0,Estemate!C23)","v":0},{"$f":"IF(Estemate!R23=\"\",0,Estemate!N23)","v":"00:00:00"},{"$f":"IF(Estemate!R23=\"\",0,Estemate!Q23)","v":"00:00:00"},{"$f":"IF(Estemate!R23=\"\",0,Estemate!R23)*IF(Estemate!P23=\"Contract\",0,1)*IF(Estemate!P23=\"F\",0,1)","v":0},{"$f":"IF(Estemate!R23=\"\",0,Estemate!M23)","v":0},0,0,0,0,1900,0,0,0,0,142,"2023-08-18",2024,8,2025,2023,0,0]
[{"$f":"IF(Estemate!R24=\"\",\"\",Estemate!A24)","v":""},"","","","","","","","","","",null,14,{"$f":"IF(Estemate!R24=\"\",0,Estemate!B24)","v":0},{"$f":"IF(Estemate!R24=\"\",0,Estemate!G24)","v":0},{"$f":"IF(Estemate!R24=\"\",0,Estemate!C24)","v":0},{"$f":"IF(Estemate!R24=\"\",0,Estemate!N24)","v":"00:00:00"},{"$f":"IF(Estemate!R24=\"\",0,Estemate!Q24)","v":"00:00:00"},{"$f":"IF(Estemate!R24=\"\",0,Estemate!R24)*IF(Estemate!P24=\"Contract\",0,1)*IF(Estemate!P24=\"F\",0,1)","v":0},{"$f":"IF(Estemate!R24=\"\",0,Estemate!M24)","v":0},0,0,0,0,1900,0,0,0,0,142,"2023-08-18",2024,8,2025,2023,0,0]
[{"$f":"IF(Estemate!R25=\"\",\"\",Estemate!A25)","v":""},"","","","","","","","","","",null,15,{"$f":"IF(Estemate!R25=\"\",0,Estemate!B25)","v":0},{"$f":"IF(Estemate!R25=\"\",0,Estemate!G25)","v":0},{"$f":"IF(Estemate!R25=\"\",0,Estemate!C25)","v":0},{"$f":"IF(Estemate!R25=\"\",0,Estemate!N25)","v":"00:00:00"},{"$f":"IF(Estemate!R25=\"\",0,Estemate!Q25)","v":"00:00:00"},{"$f":"IF(Estemate!R25=\"\",0,Estemate!R25)*IF(Estemate!P25=\"Contract\",0,1)*IF(Estemate!P25=\"F\",0,1)","v":0},{"$f":"IF(Estemate!R25=\"\",0,Estemate!M25)","v":0},0,0,0,0,1900,0,0,0,0,142,"2023-08-18",2024,8,2025,2023,0,0]
[{"$f":"IF(Estemate!R26=\"\",\"\",Estemate!A26)","v":""},"","","","","","","","","","",null,16,{"$f":"IF(Estemate!R26=\"\",0,Estemate!B26)","v":0},{"$f":"IF(Estemate!R26=\"\",0,Estemate!G26)","v":0},{"$f":"IF(Estemate!R26=\"\",0,Estemate!C26)","v":0},{"$f":"IF(Estemate!R26=\"\",0,Estemate!N26)","v":"00:00:00"},{"$f":"IF(Estemate!R26=\"\",0,Estemate!Q26)","v":"00:00:00"},{"$f":"IF(Estemate!R26=\"\",0,Estemate!R26)*IF(Estemate!P26=\"Contract\",0,1)*IF(Estemate!P26=\"F\",0,1)","v":0},{"$f":"IF(Estemate!R26=\"\",0,Estemate!M26)","v":0},0,0,0,0,1900,0,0,0,0,142,"2023-08-18",2024,8,2025,2023,0,0]
[{"$f":"IF(Estemate!R27=\"\",\"\",Estemate!A27)","v":""},"","","","","","","","","","",null,17,{"$f":"IF(Estemate!R27=\"\",0,Estemate!B27)","v":0},{"$f":"IF(Estemate!R27=\"\",0,Estemate!G27)","v":0},{"$f":"IF(Estemate!R27=\"\",0,Estemate!C27)","v":0},{"$f":"IF(Estemate!R27=\"\",0,Estemate!N27)","v":"00:00:00"},{"$f":"IF(Estemate!R27=\"\",0,Estemate!Q27)","v":"00:00:00"},{"$f":"IF(Estemate!R27=\"\",0,Estemate!R27)*IF(Estemate!P27=\"Contract\",0,1)*IF(Estemate!P27=\"F\",0,1)","v":0},{"$f":"IF(Estemate!R27=\"\",0,Estemate!M27)","v":0},0,0,0,0,1900,0,0,0,0,142,"2023-08-18",2024,8,2025,2023,0,0]
[{"$f":"IF(Estemate!R28=\"\",\"\",Estemate!A28)","v":""},"","","","","","","","","","",null,18,{"$f":"IF(Estemate!R28=\"\",0,Estemate!B28)","v":0},{"$f":"IF(Estemate!R28=\"\",0,Estemate!G28)","v":0},{"$f":"IF(Estemate!R28=\"\",0,Estemate!C28)","v":0},{"$f":"IF(Estemate!R28=\"\",0,Estemate!N28)","v":"00:00:00"},{"$f":"IF(Estemate!R28=\"\",0,Estemate!Q28)","v":"00:00:00"},{"$f":"IF(Estemate!R28=\"\",0,Estemate!R28)*IF(Estemate!P28=\"Contract\",0,1)*IF(Estemate!P28=\"F\",0,1)","v":0},{"$f":"IF(Estemate!R28=\"\",0,Estemate!M28)","v":0},0,0,0,0,1900,0,0,0,0,142,"2023-08-18",2024,8,2025,2023,0,0]
[{"$f":"IF(Estemate!R29=\"\",\"\",Estemate!A29)","v":""},"","","","","","","","","","",null,19,{"$f":"IF(Estemate!R29=\"\",0,Estemate!B29)","v":0},{"$f":"IF(Estemate!R29=\"\",0,Estemate!G29)","v":0},{"$f":"IF(Estemate!R29=\"\",0,Estemate!C29)","v":0},{"$f":"IF(Estemate!R29=\"\",0,Estemate!N29)","v":"00:00:00"},{"$f":"IF(Estemate!R29=\"\",0,Estemate!Q29)","v":"00:00:00"},{"$f":"IF(Estemate!R29=\"\",0,Estemate!R29)*IF(Estemate!P29=\"Contract\",0,1)*IF(Estemate!P29=\"F\",0,1)","v":0},{"$f":"IF(Estemate!R29=\"\",0,Estemate!M29)","v":0},0,0,0,0,1900,0,0,0,0,142,"2023-08-18",2024,8,2025,2023,0,0]
[{"$f":"IF(Estemate!R30=\"\",\"\",Estemate!A30)","v":""},"","","","","","","","","","",null,20,{"$f":"IF(Estemate!R30=\"\",0,Estemate!B30)","v":0},{"$f":"IF(Estemate!R30=\"\",0,Estemate!G30)","v":0},{"$f":"IF(Estemate!R30=\"\",0,Estemate!C30)","v":0},{"$f":"IF(Estemate!R30=\"\",0,Estemate!N30)","v":"00:00:00"},{"$f":"IF(Estemate!R30=\"\",0,Estemate!Q30)","v":"00:00:00"},{"$f":"IF(Estemate!R30=\"\",0,Estemate!R30)*IF(Estemate!P30=\"Contract\",0,1)*IF(Estemate!P30=\"F\",0,1)","v":0},{"$f":"IF(Estemate!R30=\"\",0,Estemate!M30)","v":0},0,0,0,0,1900,0,0,0,0,142,"2023-08-18",2024,8,2025,2023,0,0]
[{"$f":"IF(Estemate!R31=\"\",\"\",Estemate!A31)","v":""},{"$f":"IF(C31=\"\",\"\",AK31)","v":""},"","","","","","","","","",null,21,{"$f":"IF(Estemate!R31=\"\",0,Estemate!B31)","v":0},{"$f":"IF(Estemate!R31=\"\",0,Estemate!G31)","v":0},{"$f":"IF(Estemate!R31=\"\",0,Estemate!C31)","v":0},{"$f":"IF(Estemate!R31=\"\",0,Estemate!N31)","v":"00:00:00"},{"$f":"IF(Estemate!R31=\"\",0,Estemate!Q31)","v":"00:00:00"},{"$f":"IF(Estemate!R31=\"\",0,Estemate!R31)*IF(Estemate!P31=\"Contract\",0,1)*IF(Estemate!P31=\"F\",0,1)","v":0},{"$f":"IF(Estemate!R31=\"\",0,Estemate!M31)","v":0},0,0,0,0,1900,0,0,0,0,142,"2023-08-18",2024,8,2025,2023,0,0]
[{"$f":"IF(Estemate!R32=\"\",\"\",Estemate!A32)","v":""},"","","","","","","","","","",null,22,{"$f":"IF(Estemate!R32=\"\",0,Estemate!B32)","v":0},{"$f":"IF(Estemate!R32=\"\",0,Estemate!G32)","v":0},{"$f":"IF(Estemate!R32=\"\",0,Estemate!C32)","v":0},{"$f":"IF(Estemate!R32=\"\",0,Estemate!N32)","v":"00:00:00"},{"$f":"IF(Estemate!R32=\"\",0,Estemate!Q32)","v":"00:00:00"},{"$f":"IF(Estemate!R32=\"\",0,Estemate!R32)*IF(Estemate!P32=\"Contract\",0,1)*IF(Estemate!P32=\"F\",0,1)","v":0},{"$f":"IF(Estemate!R32=\"\",0,Estemate!M32)","v":0},0,0,0,0,1900,0,0,0,0,142,"2023-08-18",2024,8,2025,2023,0,0]
[{"$f":"IF(Estemate!R33=\"\",\"\",Estemate!A33)","v":""},"","","","","","","","","","",null,23,{"$f":"IF(Estemate!R33=\"\",0,Estemate!B33)","v":0},{"$f":"IF(Estemate!R33=\"\",0,Estemate!G33)","v":0},{"$f":"IF(Estemate!R33=\"\",0,Estemate!C33)","v":0},{"$f":"IF(Estemate!R33=\"\",0,Estemate!N33)","v":"00:00:00"},{"$f":"IF(Estemate!R33=\"\",0,Estemate!Q33)","v":"00:00:00"},{"$f":"IF(Estemate!R33=\"\",0,Estemate!R33)*IF(Estemate!P33=\"Contract\",0,1)*IF(Estemate!P33=\"F\",0,1)","v":0},{"$f":"IF(Estemate!R33=\"\",0,Estemate!M33)","v":0},0,0,0,0,1900,0,0,0,0,142,"2023-08-18",2024,8,2025,2023,0,0]
[{"$f":"IF(Estemate!R34=\"\",\"\",Estemate!A34)","v":""},"","","","","","","","","","",null,24,{"$f":"IF(Estemate!R34=\"\",0,Estemate!B34)","v":0},{"$f":"IF(Estemate!R34=\"\",0,Estemate!G34)","v":0},{"$f":"IF(Estemate!R34=\"\",0,Estemate!C34)","v":0},{"$f":"IF(Estemate!R34=\"\",0,Estemate!N34)","v":"00:00:00"},{"$f":"IF(Estemate!R34=\"\",0,Estemate!Q34)","v":"00:00:00"},{"$f":"IF(Estemate!R34=\"\",0,Estemate!R34)*IF(Estemate!P34=\"Contract\",0,1)*IF(Estemate!P34=\"F\",0,1)","v":0},{"$f":"IF(Estemate!R34=\"\",0,Estemate!M34)","v":0},0,0,0,0,1900,0,0,0,0,142,"2023-08-18",2024,8,2025,2023,0,0]
[{"$f":"IF(Estemate!R35=\"\",\"\",Estemate!A35)","v":""},"","","","","","","","","","",null,25,{"$f":"IF(Estemate!R35=\"\",0,Estemate!B35)","v":0},{"$f":"IF(Estemate!R35=\"\",0,Estemate!G35)","v":0},{"$f":"IF(Estemate!R35=\"\",0,Estemate!C35)","v":0},{"$f":"IF(Estemate!R35=\"\",0,Estemate!N35)","v":"00:00:00"},{"$f":"IF(Estemate!R35=\"\",0,Estemate!Q35)","v":"00:00:00"},{"$f":"IF(Estemate!R35=\"\",0,Estemate!R35)*IF(Estemate!P35=\"Contract\",0,1)*IF(Estemate!P35=\"F\",0,1)","v":0},{"$f":"IF(Estemate!R35=\"\",0,Estemate!M35)","v":0},0,0,0,0,1900,0,0,0,0,142,"2023-08-18",2024,8,2025,2023,0,0]
[{"$f":"IF(Estemate!R36=\"\",\"\",Estemate!A36)","v":""},"","","","","","","","","","",null,26,{"$f":"IF(Estemate!R36=\"\",0,Estemate!B36)","v":0},{"$f":"IF(Estemate!R36=\"\",0,Estemate!G36)","v":0},{"$f":"IF(Estemate!R36=\"\",0,Estemate!C36)","v":0},{"$f":"IF(Estemate!R36=\"\",0,Estemate!N36)","v":"00:00:00"},{"$f":"IF(Estemate!R36=\"\",0,Estemate!Q36)","v":"00:00:00"},{"$f":"IF(Estemate!R36=\"\",0,Estemate!R36)*IF(Estemate!P36=\"Contract\",0,1)*IF(Estemate!P36=\"F\",0,1)","v":0},{"$f":"IF(Estemate!R36=\"\",0,Estemate!M36)","v":0},0,0,0,0,1900,0,0,0,0,142,"2023-08-18",2024,8,2025,2023,0,0]
[{"$f":"IF(Estemate!R37=\"\",\"\",Estemate!A37)","v":""},"","","","","","","","","","",null,27,{"$f":"IF(Estemate!R37=\"\",0,Estemate!B37)","v":0},{"$f":"IF(Estemate!R37=\"\",0,Estemate!G37)","v":0},{"$f":"IF(Estemate!R37=\"\",0,Estemate!C37)","v":0},{"$f":"IF(Estemate!R37=\"\",0,Estemate!N37)","v":"00:00:00"},{"$f":"IF(Estemate!R37=\"\",0,Estemate!Q37)","v":"00:00:00"},{"$f":"IF(Estemate!R37=\"\",0,Estemate!R37)*IF(Estemate!P37=\"Contract\",0,1)*IF(Estemate!P37=\"F\",0,1)","v":0},{"$f":"IF(Estemate!R37=\"\",0,Estemate!M37)","v":0},0,0,0,0,1900,0,0,0,0,142,"2023-08-18",2024,8,2025,2023,0,0]
[{"$f":"IF(Estemate!R38=\"\",\"\",Estemate!A38)","v":""},"","","","","","","","","","",null,28,{"$f":"IF(Estemate!R38=\"\",0,Estemate!B38)","v":0},{"$f":"IF(Estemate!R38=\"\",0,Estemate!G38)","v":0},{"$f":"IF(Estemate!R38=\"\",0,Estemate!C38)","v":0},{"$f":"IF(Estemate!R38=\"\",0,Estemate!N38)","v":"00:00:00"},{"$f":"IF(Estemate!R38=\"\",0,Estemate!Q38)","v":"00:00:00"},{"$f":"IF(Estemate!R38=\"\",0,Estemate!R38)*IF(Estemate!P38=\"Contract\",0,1)*IF(Estemate!P38=\"F\",0,1)","v":0},{"$f":"IF(Estemate!R38=\"\",0,Estemate!M38)","v":0},0,0,0,0,1900,0,0,0,0,142,"2023-08-18",2024,8,2025,2023,0,0]
[{"$f":"IF(Estemate!R39=\"\",\"\",Estemate!A39)","v":""},"","","","","","","","","","",null,29,{"$f":"IF(Estemate!R39=\"\",0,Estemate!B39)","v":0},{"$f":"IF(Estemate!R39=\"\",0,Estemate!G39)","v":0},{"$f":"IF(Estemate!R39=\"\",0,Estemate!C39)","v":0},{"$f":"IF(Estemate!R39=\"\",0,Estemate!N39)","v":"00:00:00"},{"$f":"IF(Estemate!R39=\"\",0,Estemate!Q39)","v":"00:00:00"},{"$f":"IF(Estemate!R39=\"\",0,Estemate!R39)*IF(Estemate!P39=\"Contract\",0,1)*IF(Estemate!P39=\"F\",0,1)","v":0},{"$f":"IF(Estemate!R39=\"\",0,Estemate!M39)","v":0},0,0,0,0,1900,0,0,0,0,142,"2023-08-18",2024,8,2025,2023,0,0]
[{"$f":"IF(Estemate!R40=\"\",\"\",Estemate!A40)","v":""},"","","","","","","","","","",null,30,{"$f":"IF(Estemate!R40=\"\",0,Estemate!B40)","v":0},{"$f":"IF(Estemate!R40=\"\",0,Estemate!G40)","v":0},{"$f":"IF(Estemate!R40=\"\",0,Estemate!C40)","v":0},{"$f":"IF(Estemate!R40=\"\",0,Estemate!N40)","v":"00:00:00"},{"$f":"IF(Estemate!R40=\"\",0,Estemate!Q40)","v":"00:00:00"},{"$f":"IF(Estemate!R40=\"\",0,Estemate!R40)*IF(Estemate!P40=\"Contract\",0,1)*IF(Estemate!P40=\"F\",0,1)","v":0},{"$f":"IF(Estemate!R40=\"\",0,Estemate!M40)","v":0},0,0,0,0,1900,0,0,0,0,142,"2023-08-18",2024,8,2025,2023,0,0]
[{"$f":"IF(Estemate!R41=\"\",\"\",Estemate!A41)","v":""},"","","","","","","","","","",null,31,{"$f":"IF(Estemate!R41=\"\",0,Estemate!B41)","v":0},{"$f":"IF(Estemate!R41=\"\",0,Estemate!G41)","v":0},{"$f":"IF(Estemate!R41=\"\",0,Estemate!C41)","v":0},{"$f":"IF(Estemate!R41=\"\",0,Estemate!N41)","v":"00:00:00"},{"$f":"IF(Estemate!R41=\"\",0,Estemate!Q41)","v":"00:00:00"},{"$f":"IF(Estemate!R41=\"\",0,Estemate!R41)*IF(Estemate!P41=\"Contract\",0,1)*IF(Estemate!P41=\"F\",0,1)","v":0},{"$f":"IF(Estemate!R41=\"\",0,Estemate!M41)","v":0},0,0,0,0,1900,0,0,0,0,142,"2023-08-18",2024,8,2025,2023,0,0]
[{"$f":"IF(Estemate!R42=\"\",\"\",Estemate!A42)","v":""},"","","","","","","","","","",null,32,{"$f":"IF(Estemate!R42=\"\",0,Estemate!B42)","v":0},{"$f":"IF(Estemate!R42=\"\",0,Estemate!G42)","v":0},{"$f":"IF(Estemate!R42=\"\",0,Estemate!C42)","v":0},{"$f":"IF(Estemate!R42=\"\",0,Estemate!N42)","v":"00:00:00"},{"$f":"IF(Estemate!R42=\"\",0,Estemate!Q42)","v":"00:00:00"},{"$f":"IF(Estemate!R42=\"\",0,Estemate!R42)*IF(Estemate!P42=\"Contract\",0,1)*IF(Estemate!P42=\"F\",0,1)","v":0},{"$f":"IF(Estemate!R42=\"\",0,Estemate!M42)","v":0},0,0,0,0,1900,0,0,0,0,142,"2023-08-18",2024,8,2025,2023,0,0]
[{"$f":"IF(Estemate!R43=\"\",\"\",Estemate!A43)","v":""},"","","","","","","","","","",null,33,{"$f":"IF(Estemate!R43=\"\",0,Estemate!B43)","v":0},{"$f":"IF(Estemate!R43=\"\",0,Estemate!G43)","v":0},{"$f":"IF(Estemate!R43=\"\",0,Estemate!C43)","v":0},{"$f":"IF(Estemate!R43=\"\",0,Estemate!N43)","v":"00:00:00"},{"$f":"IF(Estemate!R43=\"\",0,Estemate!Q43)","v":"00:00:00"},{"$f":"IF(Estemate!R43=\"\",0,Estemate!R43)*IF(Estemate!P43=\"Contract\",0,1)*IF(Estemate!P43=\"F\",0,1)","v":0},{"$f":"IF(Estemate!R43=\"\",0,Estemate!M43)","v":0},0,0,0,0,1900,0,0,0,0,142,"2023-08-18",2024,8,2025,2023,0,0]
[{"$f":"IF(Estemate!R44=\"\",\"\",Estemate!A44)","v":""},"","","","","","","","","","",null,34,{"$f":"IF(Estemate!R44=\"\",0,Estemate!B44)","v":0},{"$f":"IF(Estemate!R44=\"\",0,Estemate!G44)","v":0},{"$f":"IF(Estemate!R44=\"\",0,Estemate!C44)","v":0},{"$f":"IF(Estemate!R44=\"\",0,Estemate!N44)","v":"00:00:00"},{"$f":"IF(Estemate!R44=\"\",0,Estemate!Q44)","v":"00:00:00"},{"$f":"IF(Estemate!R44=\"\",0,Estemate!R44)*IF(Estemate!P44=\"Contract\",0,1)*IF(Estemate!P44=\"F\",0,1)","v":0},{"$f":"IF(Estemate!R44=\"\",0,Estemate!M44)","v":0},0,0,0,0,1900,0,0,0,0,142,"2023-08-18",2024,8,2025,2023,0,0]
[{"$f":"IF(Estemate!R45=\"\",\"\",Estemate!A45)","v":""},"","","","","","","","","","",null,35,{"$f":"IF(Estemate!R45=\"\",0,Estemate!B45)","v":0},{"$f":"IF(Estemate!R45=\"\",0,Estemate!G45)","v":0},{"$f":"IF(Estemate!R45=\"\",0,Estemate!C45)","v":0},{"$f":"IF(Estemate!R45=\"\",0,Estemate!N45)","v":"00:00:00"},{"$f":"IF(Estemate!R45=\"\",0,Estemate!Q45)","v":"00:00:00"},{"$f":"IF(Estemate!R45=\"\",0,Estemate!R45)*IF(Estemate!P45=\"Contract\",0,1)*IF(Estemate!P45=\"F\",0,1)","v":0},{"$f":"IF(Estemate!R45=\"\",0,Estemate!M45)","v":0},0,0,0,0,1900,0,0,0,0,142,"2023-08-18",2024,8,2025,2023,0,0]
[{"$f":"IF(Estemate!R46=\"\",\"\",Estemate!A46)","v":""},"","","","","","","","","","",null,36,{"$f":"IF(Estemate!R46=\"\",0,Estemate!B46)","v":0},{"$f":"IF(Estemate!R46=\"\",0,Estemate!G46)","v":0},{"$f":"IF(Estemate!R46=\"\",0,Estemate!C46)","v":0},{"$f":"IF(Estemate!R46=\"\",0,Estemate!N46)","v":"00:00:00"},{"$f":"IF(Estemate!R46=\"\",0,Estemate!Q46)","v":"00:00:00"},{"$f":"IF(Estemate!R46=\"\",0,Estemate!R46)*IF(Estemate!P46=\"Contract\",0,1)*IF(Estemate!P46=\"F\",0,1)","v":0},{"$f":"IF(Estemate!R46=\"\",0,Estemate!M46)","v":0},0,0,0,0,1900,0,0,0,0,142,"2023-08-18",2024,8,2025,2023,0,0]
[{"$f":"IF(Estemate!R47=\"\",\"\",Estemate!A47)","v":""},"","","","","","","","","","",null,37,{"$f":"IF(Estemate!R47=\"\",0,Estemate!B47)","v":0},{"$f":"IF(Estemate!R47=\"\",0,Estemate!G47)","v":0},{"$f":"IF(Estemate!R47=\"\",0,Estemate!C47)","v":0},{"$f":"IF(Estemate!R47=\"\",0,Estemate!N47)","v":"00:00:00"},{"$f":"IF(Estemate!R47=\"\",0,Estemate!Q47)","v":"00:00:00"},{"$f":"IF(Estemate!R47=\"\",0,Estemate!R47)*IF(Estemate!P47=\"Contract\",0,1)*IF(Estemate!P47=\"F\",0,1)","v":0},{"$f":"IF(Estemate!R47=\"\",0,Estemate!M47)","v":0},0,0,0,0,1900,0,0,0,0,142,"2023-08-18",2024,8,2025,2023,0,0]
[{"$f":"IF(Estemate!R48=\"\",\"\",Estemate!A48)","v":""},"","","","","","","","","","",null,38,{"$f":"IF(Estemate!R48=\"\",0,Estemate!B48)","v":0},{"$f":"IF(Estemate!R48=\"\",0,Estemate!G48)","v":0},{"$f":"IF(Estemate!R48=\"\",0,Estemate!C48)","v":0},{"$f":"IF(Estemate!R48=\"\",0,Estemate!N48)","v":"00:00:00"},{"$f":"IF(Estemate!R48=\"\",0,Estemate!Q48)","v":"00:00:00"},{"$f":"IF(Estemate!R48=\"\",0,Estemate!R48)*IF(Estemate!P48=\"Contract\",0,1)*IF(Estemate!P48=\"F\",0,1)","v":0},{"$f":"IF(Estemate!R48=\"\",0,Estemate!M48)","v":0},0,0,0,0,1900,0,0,0,0,142,"2023-08-18",2024,8,2025,2023,0,0]
[{"$f":"IF(Estemate!R49=\"\",\"\",Estemate!A49)","v":""},"","","","","","","","","","",null,39,{"$f":"IF(Estemate!R49=\"\",0,Estemate!B49)","v":0},{"$f":"IF(Estemate!R49=\"\",0,Estemate!G49)","v":0},{"$f":"IF(Estemate!R49=\"\",0,Estemate!C49)","v":0},{"$f":"IF(Estemate!R49=\"\",0,Estemate!N49)","v":"00:00:00"},{"$f":"IF(Estemate!R49=\"\",0,Estemate!Q49)","v":"00:00:00"},{"$f":"IF(Estemate!R49=\"\",0,Estemate!R49)*IF(Estemate!P49=\"Contract\",0,1)*IF(Estemate!P49=\"F\",0,1)","v":0},{"$f":"IF(Estemate!R49=\"\",0,Estemate!M49)","v":0},0,0,0,0,1900,0,0,0,0,142,"2023-08-18",2024,8,2025,2023,0,0]
[{"$f":"IF(Estemate!R50=\"\",\"\",Estemate!A50)","v":""},"","","","","","","","","","",null,40,{"$f":"IF(Estemate!R50=\"\",0,Estemate!B50)","v":0},{"$f":"IF(Estemate!R50=\"\",0,Estemate!G50)","v":0},{"$f":"IF(Estemate!R50=\"\",0,Estemate!C50)","v":0},{"$f":"IF(Estemate!R50=\"\",0,Estemate!N50)","v":"00:00:00"},{"$f":"IF(Estemate!R50=\"\",0,Estemate!Q50)","v":"00:00:00"},{"$f":"IF(Estemate!R50=\"\",0,Estemate!R50)*IF(Estemate!P50=\"Contract\",0,1)*IF(Estemate!P50=\"F\",0,1)","v":0},{"$f":"IF(Estemate!R50=\"\",0,Estemate!M50)","v":0},0,0,0,0,1900,0,0,0,0,142,"2023-08-18",2024,8,2025,2023,0,0]
[{"$f":"IF(Estemate!R51=\"\",\"\",Estemate!A51)","v":""},"","","","","","","","","","",null,41,{"$f":"IF(Estemate!R51=\"\",0,Estemate!B51)","v":0},{"$f":"IF(Estemate!R51=\"\",0,Estemate!G51)","v":0},{"$f":"IF(Estemate!R51=\"\",0,Estemate!C51)","v":0},{"$f":"IF(Estemate!R51=\"\",0,Estemate!N51)","v":"00:00:00"},{"$f":"IF(Estemate!R51=\"\",0,Estemate!Q51)","v":"00:00:00"},{"$f":"IF(Estemate!R51=\"\",0,Estemate!R51)*IF(Estemate!P51=\"Contract\",0,1)*IF(Estemate!P51=\"F\",0,1)","v":0},{"$f":"IF(Estemate!R51=\"\",0,Estemate!M51)","v":0},0,0,0,0,1900,0,0,0,0,142,"2023-08-18",2024,8,2025,2023,0,0]
[{"$f":"IF(Estemate!R52=\"\",\"\",Estemate!A52)","v":""},"","","","","","","","","","",null,42,{"$f":"IF(Estemate!R52=\"\",0,Estemate!B52)","v":0},{"$f":"IF(Estemate!R52=\"\",0,Estemate!G52)","v":0},{"$f":"IF(Estemate!R52=\"\",0,Estemate!C52)","v":0},{"$f":"IF(Estemate!R52=\"\",0,Estemate!N52)","v":"00:00:00"},{"$f":"IF(Estemate!R52=\"\",0,Estemate!Q52)","v":"00:00:00"},{"$f":"IF(Estemate!R52=\"\",0,Estemate!R52)*IF(Estemate!P52=\"Contract\",0,1)*IF(Estemate!P52=\"F\",0,1)","v":0},{"$f":"IF(Estemate!R52=\"\",0,Estemate!M52)","v":0},0,0,0,0,1900,0,0,0,0,142,"2023-08-18",2024,8,2025,2023,0,0]
[{"$f":"IF(Estemate!R53=\"\",\"\",Estemate!A53)","v":""},"","","","","","","","","","",null,43,{"$f":"IF(Estemate!R53=\"\",0,Estemate!B53)","v":0},{"$f":"IF(Estemate!R53=\"\",0,Estemate!G53)","v":0},{"$f":"IF(Estemate!R53=\"\",0,Estemate!C53)","v":0},{"$f":"IF(Estemate!R53=\"\",0,Estemate!N53)","v":"00:00:00"},{"$f":"IF(Estemate!R53=\"\",0,Estemate!Q53)","v":"00:00:00"},{"$f":"IF(Estemate!R53=\"\",0,Estemate!R53)*IF(Estemate!P53=\"Contract\",0,1)*IF(Estemate!P53=\"F\",0,1)","v":0},{"$f":"IF(Estemate!R53=\"\",0,Estemate!M53)","v":0},0,0,0,0,1900,0,0,0,0,142,"2023-08-18",2024,8,2025,2023,0,0]
[{"$f":"IF(Estemate!R54=\"\",\"\",Estemate!A54)","v":""},"","","","","","","","","","",null,44,{"$f":"IF(Estemate!R54=\"\",0,Estemate!B54)","v":0},{"$f":"IF(Estemate!R54=\"\",0,Estemate!G54)","v":0},{"$f":"IF(Estemate!R54=\"\",0,Estemate!C54)","v":0},{"$f":"IF(Estemate!R54=\"\",0,Estemate!N54)","v":"00:00:00"},{"$f":"IF(Estemate!R54=\"\",0,Estemate!Q54)","v":"00:00:00"},{"$f":"IF(Estemate!R54=\"\",0,Estemate!R54)*IF(Estemate!P54=\"Contract\",0,1)*IF(Estemate!P54=\"F\",0,1)","v":0},{"$f":"IF(Estemate!R54=\"\",0,Estemate!M54)","v":0},0,0,0,0,1900,0,0,0,0,142,"2023-08-18",2024,8,2025,2023,0,0]
[{"$f":"IF(Estemate!R55=\"\",\"\",Estemate!A55)","v":""},"","","","","","","","","","",null,45,{"$f":"IF(Estemate!R55=\"\",0,Estemate!B55)","v":0},{"$f":"IF(Estemate!R55=\"\",0,Estemate!G55)","v":0},{"$f":"IF(Estemate!R55=\"\",0,Estemate!C55)","v":0},{"$f":"IF(Estemate!R55=\"\",0,Estemate!N55)","v":"00:00:00"},{"$f":"IF(Estemate!R55=\"\",0,Estemate!Q55)","v":"00:00:00"},{"$f":"IF(Estemate!R55=\"\",0,Estemate!R55)*IF(Estemate!P55=\"Contract\",0,1)*IF(Estemate!P55=\"F\",0,1)","v":0},{"$f":"IF(Estemate!R55=\"\",0,Estemate!M55)","v":0},0,0,0,0,1900,0,0,0,0,142,"2023-08-18",2024,8,2025,2023,0,0]
[{"$f":"IF(Estemate!R56=\"\",\"\",Estemate!A56)","v":""},"","","","","","","","","","",null,46,{"$f":"IF(Estemate!R56=\"\",0,Estemate!B56)","v":0},{"$f":"IF(Estemate!R56=\"\",0,Estemate!G56)","v":0},{"$f":"IF(Estemate!R56=\"\",0,Estemate!C56)","v":0},{"$f":"IF(Estemate!R56=\"\",0,Estemate!N56)","v":"00:00:00"},{"$f":"IF(Estemate!R56=\"\",0,Estemate!Q56)","v":"00:00:00"},{"$f":"IF(Estemate!R56=\"\",0,Estemate!R56)*IF(Estemate!P56=\"Contract\",0,1)*IF(Estemate!P56=\"F\",0,1)","v":0},{"$f":"IF(Estemate!R56=\"\",0,Estemate!M56)","v":0},0,0,0,0,1900,0,0,0,0,142,"2023-08-18",2024,8,2025,2023,0,0]
[{"$f":"IF(Estemate!R57=\"\",\"\",Estemate!A57)","v":""},"","","","","","","","","","",null,47,{"$f":"IF(Estemate!R57=\"\",0,Estemate!B57)","v":0},{"$f":"IF(Estemate!R57=\"\",0,Estemate!G57)","v":0},{"$f":"IF(Estemate!R57=\"\",0,Estemate!C57)","v":0},{"$f":"IF(Estemate!R57=\"\",0,Estemate!N57)","v":"00:00:00"},{"$f":"IF(Estemate!R57=\"\",0,Estemate!Q57)","v":"00:00:00"},{"$f":"IF(Estemate!R57=\"\",0,Estemate!R57)*IF(Estemate!P57=\"Contract\",0,1)*IF(Estemate!P57=\"F\",0,1)","v":0},{"$f":"IF(Estemate!R57=\"\",0,Estemate!M57)","v":0},0,0,0,0,1900,0,0,0,0,142,"2023-08-18",2024,8,2025,2023,0,0]
[{"$f":"IF(Estemate!R58=\"\",\"\",Estemate!A58)","v":""},"","","","","","","","","","",null,48,{"$f":"IF(Estemate!R58=\"\",0,Estemate!B58)","v":0},{"$f":"IF(Estemate!R58=\"\",0,Estemate!G58)","v":0},{"$f":"IF(Estemate!R58=\"\",0,Estemate!C58)","v":0},{"$f":"IF(Estemate!R58=\"\",0,Estemate!N58)","v":"00:00:00"},{"$f":"IF(Estemate!R58=\"\",0,Estemate!Q58)","v":"00:00:00"},{"$f":"IF(Estemate!R58=\"\",0,Estemate!R58)*IF(Estemate!P58=\"Contract\",0,1)*IF(Estemate!P58=\"F\",0,1)","v":0},{"$f":"IF(Estemate!R58=\"\",0,Estemate!M58)","v":0},0,0,0,0,1900,0,0,0,0,142,"2023-08-18",2024,8,2025,2023,0,0]
[{"$f":"IF(Estemate!R59=\"\",\"\",Estemate!A59)","v":""},"","","","","","","","","","",null,49,{"$f":"IF(Estemate!R59=\"\",0,Estemate!B59)","v":0},{"$f":"IF(Estemate!R59=\"\",0,Estemate!G59)","v":0},{"$f":"IF(Estemate!R59=\"\",0,Estemate!C59)","v":0},{"$f":"IF(Estemate!R59=\"\",0,Estemate!N59)","v":"00:00:00"},{"$f":"IF(Estemate!R59=\"\",0,Estemate!Q59)","v":"00:00:00"},{"$f":"IF(Estemate!R59=\"\",0,Estemate!R59)*IF(Estemate!P59=\"Contract\",0,1)*IF(Estemate!P59=\"F\",0,1)","v":0},{"$f":"IF(Estemate!R59=\"\",0,Estemate!M59)","v":0},0,0,0,0,1900,0,0,0,0,142,"2023-08-18",2024,8,2025,2023,0,0]
[{"$f":"IF(Estemate!R60=\"\",\"\",Estemate!A60)","v":""},"","","","","","","","","","",null,50,{"$f":"IF(Estemate!R60=\"\",0,Estemate!B60)","v":0},{"$f":"IF(Estemate!R60=\"\",0,Estemate!G60)","v":0},{"$f":"IF(Estemate!R60=\"\",0,Estemate!C60)","v":0},{"$f":"IF(Estemate!R60=\"\",0,Estemate!N60)","v":"00:00:00"},{"$f":"IF(Estemate!R60=\"\",0,Estemate!Q60)","v":"00:00:00"},{"$f":"IF(Estemate!R60=\"\",0,Estemate!R60)*IF(Estemate!P60=\"Contract\",0,1)*IF(Estemate!P60=\"F\",0,1)","v":0},{"$f":"IF(Estemate!R60=\"\",0,Estemate!M60)","v":0},0,0,0,0,1900,0,0,0,0,142,"2023-08-18",2024,8,2025,2023,0,0]
[{"$f":"IF(Estemate!R61=\"\",\"\",Estemate!A61)","v":""},"","","","","","","","","","",null,51,{"$f":"IF(Estemate!R61=\"\",0,Estemate!B61)","v":0},{"$f":"IF(Estemate!R61=\"\",0,Estemate!G61)","v":0},{"$f":"IF(Estemate!R61=\"\",0,Estemate!C61)","v":0},{"$f":"IF(Estemate!R61=\"\",0,Estemate!N61)","v":"00:00:00"},{"$f":"IF(Estemate!R61=\"\",0,Estemate!Q61)","v":"00:00:00"},{"$f":"IF(Estemate!R61=\"\",0,Estemate!R61)*IF(Estemate!P61=\"Contract\",0,1)*IF(Estemate!P61=\"F\",0,1)","v":0},{"$f":"IF(Estemate!R61=\"\",0,Estemate!M61)","v":0},0,0,0,0,1900,0,0,0,0,142,"2023-08-18",2024,8,2025,2023,0,0]
[{"$f":"IF(Estemate!R62=\"\",\"\",Estemate!A62)","v":""},"","","","","","","","","","",null,52,{"$f":"IF(Estemate!R62=\"\",0,Estemate!B62)","v":0},{"$f":"IF(Estemate!R62=\"\",0,Estemate!G62)","v":0},{"$f":"IF(Estemate!R62=\"\",0,Estemate!C62)","v":0},{"$f":"IF(Estemate!R62=\"\",0,Estemate!N62)","v":"00:00:00"},{"$f":"IF(Estemate!R62=\"\",0,Estemate!Q62)","v":"00:00:00"},{"$f":"IF(Estemate!R62=\"\",0,Estemate!R62)*IF(Estemate!P62=\"Contract\",0,1)*IF(Estemate!P62=\"F\",0,1)","v":0},{"$f":"IF(Estemate!R62=\"\",0,Estemate!M62)","v":0},0,0,0,0,1900,0,0,0,0,142,"2023-08-18",2024,8,2025,2023,0,0]
[{"$f":"IF(Estemate!R63=\"\",\"\",Estemate!A63)","v":""},"","","","","","","","","","",null,53,{"$f":"IF(Estemate!R63=\"\",0,Estemate!B63)","v":0},{"$f":"IF(Estemate!R63=\"\",0,Estemate!G63)","v":0},{"$f":"IF(Estemate!R63=\"\",0,Estemate!C63)","v":0},{"$f":"IF(Estemate!R63=\"\",0,Estemate!N63)","v":"00:00:00"},{"$f":"IF(Estemate!R63=\"\",0,Estemate!Q63)","v":"00:00:00"},{"$f":"IF(Estemate!R63=\"\",0,Estemate!R63)*IF(Estemate!P63=\"Contract\",0,1)*IF(Estemate!P63=\"F\",0,1)","v":0},{"$f":"IF(Estemate!R63=\"\",0,Estemate!M63)","v":0},0,0,0,0,1900,0,0,0,0,142,"2023-08-18",2024,8,2025,2023,0,0]
[{"$f":"IF(Estemate!R64=\"\",\"\",Estemate!A64)","v":""},"","","","","","","","","","",null,54,{"$f":"IF(Estemate!R64=\"\",0,Estemate!B64)","v":0},{"$f":"IF(Estemate!R64=\"\",0,Estemate!G64)","v":0},{"$f":"IF(Estemate!R64=\"\",0,Estemate!C64)","v":0},{"$f":"IF(Estemate!R64=\"\",0,Estemate!N64)","v":"00:00:00"},{"$f":"IF(Estemate!R64=\"\",0,Estemate!Q64)","v":"00:00:00"},{"$f":"IF(Estemate!R64=\"\",0,Estemate!R64)*IF(Estemate!P64=\"Contract\",0,1)*IF(Estemate!P64=\"F\",0,1)","v":0},{"$f":"IF(Estemate!R64=\"\",0,Estemate!M64)","v":0},0,0,0,0,1900,0,0,0,0,142,"2023-08-18",2024,8,2025,2023,0,0]
[{"$f":"IF(Estemate!R65=\"\",\"\",Estemate!A65)","v":""},"","","","","","","","","","",null,55,{"$f":"IF(Estemate!R65=\"\",0,Estemate!B65)","v":0},{"$f":"IF(Estemate!R65=\"\",0,Estemate!G65)","v":0},{"$f":"IF(Estemate!R65=\"\",0,Estemate!C65)","v":0},{"$f":"IF(Estemate!R65=\"\",0,Estemate!N65)","v":"00:00:00"},{"$f":"IF(Estemate!R65=\"\",0,Estemate!Q65)","v":"00:00:00"},{"$f":"IF(Estemate!R65=\"\",0,Estemate!R65)*IF(Estemate!P65=\"Contract\",0,1)*IF(Estemate!P65=\"F\",0,1)","v":0},{"$f":"IF(Estemate!R65=\"\",0,Estemate!M65)","v":0},0,0,0,0,1900,0,0,0,0,142,"2023-08-18",2024,8,2025,2023,0,0]
[{"$f":"IF(Estemate!R66=\"\",\"\",Estemate!A66)","v":""},"","","","","","","","","","",null,56,{"$f":"IF(Estemate!R66=\"\",0,Estemate!B66)","v":0},{"$f":"IF(Estemate!R66=\"\",0,Estemate!G66)","v":0},{"$f":"IF(Estemate!R66=\"\",0,Estemate!C66)","v":0},{"$f":"IF(Estemate!R66=\"\",0,Estemate!N66)","v":"00:00:00"},{"$f":"IF(Estemate!R66=\"\",0,Estemate!Q66)","v":"00:00:00"},{"$f":"IF(Estemate!R66=\"\",0,Estemate!R66)*IF(Estemate!P66=\"Contract\",0,1)*IF(Estemate!P66=\"F\",0,1)","v":0},{"$f":"IF(Estemate!R66=\"\",0,Estemate!M66)","v":0},0,0,0,0,1900,0,0,0,0,142,"2023-08-18",2024,8,2025,2023,0,0]
[{"$f":"IF(Estemate!R67=\"\",\"\",Estemate!A67)","v":""},"","","","","","","","","","",null,57,{"$f":"IF(Estemate!R67=\"\",0,Estemate!B67)","v":0},{"$f":"IF(Estemate!R67=\"\",0,Estemate!G67)","v":0},{"$f":"IF(Estemate!R67=\"\",0,Estemate!C67)","v":0},{"$f":"IF(Estemate!R67=\"\",0,Estemate!N67)","v":"00:00:00"},{"$f":"IF(Estemate!R67=\"\",0,Estemate!Q67)","v":"00:00:00"},{"$f":"IF(Estemate!R67=\"\",0,Estemate!R67)*IF(Estemate!P67=\"Contract\",0,1)*IF(Estemate!P67=\"F\",0,1)","v":0},{"$f":"IF(Estemate!R67=\"\",0,Estemate!M67)","v":0},0,0,0,0,1900,0,0,0,0,142,"2023-08-18",2024,8,2025,2023,0,0]
[{"$f":"IF(Estemate!R68=\"\",\"\",Estemate!A68)","v":""},"","","","","","","","","","",null,58,{"$f":"IF(Estemate!R68=\"\",0,Estemate!B68)","v":0},{"$f":"IF(Estemate!R68=\"\",0,Estemate!G68)","v":0},{"$f":"IF(Estemate!R68=\"\",0,Estemate!C68)","v":0},{"$f":"IF(Estemate!R68=\"\",0,Estemate!N68)","v":"00:00:00"},{"$f":"IF(Estemate!R68=\"\",0,Estemate!Q68)","v":"00:00:00"},{"$f":"IF(Estemate!R68=\"\",0,Estemate!R68)*IF(Estemate!P68=\"Contract\",0,1)*IF(Estemate!P68=\"F\",0,1)","v":0},{"$f":"IF(Estemate!R68=\"\",0,Estemate!M68)","v":0},0,0,0,0,1900,0,0,0,0,142,"2023-08-18",2024,8,2025,2023,0,0]
[{"$f":"IF(Estemate!R69=\"\",\"\",Estemate!A69)","v":""},"","","","","","","","","","",null,59,{"$f":"IF(Estemate!R69=\"\",0,Estemate!B69)","v":0},{"$f":"IF(Estemate!R69=\"\",0,Estemate!G69)","v":0},{"$f":"IF(Estemate!R69=\"\",0,Estemate!C69)","v":0},{"$f":"IF(Estemate!R69=\"\",0,Estemate!N69)","v":"00:00:00"},{"$f":"IF(Estemate!R69=\"\",0,Estemate!Q69)","v":"00:00:00"},{"$f":"IF(Estemate!R69=\"\",0,Estemate!R69)*IF(Estemate!P69=\"Contract\",0,1)*IF(Estemate!P69=\"F\",0,1)","v":0},{"$f":"IF(Estemate!R69=\"\",0,Estemate!M69)","v":0},0,0,0,0,1900,0,0,0,0,142,"2023-08-18",2024,8,2025,2023,0,0]
[{"$f":"IF(Estemate!R70=\"\",\"\",Estemate!A70)","v":""},"","","","","","","","","","",null,60,{"$f":"IF(Estemate!R70=\"\",0,Estemate!B70)","v":0},{"$f":"IF(Estemate!R70=\"\",0,Estemate!G70)","v":0},{"$f":"IF(Estemate!R70=\"\",0,Estemate!C70)","v":0},{"$f":"IF(Estemate!R70=\"\",0,Estemate!N70)","v":"00:00:00"},{"$f":"IF(Estemate!R70=\"\",0,Estemate!Q70)","v":"00:00:00"},{"$f":"IF(Estemate!R70=\"\",0,Estemate!R70)*IF(Estemate!P70=\"Contract\",0,1)*IF(Estemate!P70=\"F\",0,1)","v":0},{"$f":"IF(Estemate!R70=\"\",0,Estemate!M70)","v":0},0,0,0,0,1900,0,0,0,0,142,"2023-08-18",2024,8,2025,2023,0,0]
[{"$f":"IF(Estemate!R71=\"\",\"\",Estemate!A71)","v":""},"","","","","","","","","","",null,61,{"$f":"IF(Estemate!R71=\"\",0,Estemate!B71)","v":0},{"$f":"IF(Estemate!R71=\"\",0,Estemate!G71)","v":0},{"$f":"IF(Estemate!R71=\"\",0,Estemate!C71)","v":0},{"$f":"IF(Estemate!R71=\"\",0,Estemate!N71)","v":"00:00:00"},{"$f":"IF(Estemate!R71=\"\",0,Estemate!Q71)","v":"00:00:00"},{"$f":"IF(Estemate!R71=\"\",0,Estemate!R71)*IF(Estemate!P71=\"Contract\",0,1)*IF(Estemate!P71=\"F\",0,1)","v":0},{"$f":"IF(Estemate!R71=\"\",0,Estemate!M71)","v":0},0,0,0,0,1900,0,0,0,0,142,"2023-08-18",2024,8,2025,2023,0,0]
[{"$f":"IF(Estemate!R72=\"\",\"\",Estemate!A72)","v":""},"","","","","","","","","","",null,62,{"$f":"IF(Estemate!R72=\"\",0,Estemate!B72)","v":0},{"$f":"IF(Estemate!R72=\"\",0,Estemate!G72)","v":0},{"$f":"IF(Estemate!R72=\"\",0,Estemate!C72)","v":0},{"$f":"IF(Estemate!R72=\"\",0,Estemate!N72)","v":"00:00:00"},{"$f":"IF(Estemate!R72=\"\",0,Estemate!Q72)","v":"00:00:00"},{"$f":"IF(Estemate!R72=\"\",0,Estemate!R72)*IF(Estemate!P72=\"Contract\",0,1)*IF(Estemate!P72=\"F\",0,1)","v":0},{"$f":"IF(Estemate!R72=\"\",0,Estemate!M72)","v":0},0,0,0,0,1900,0,0,0,0,142,"2023-08-18",2024,8,2025,2023,0,0]
[{"$f":"IF(Estemate!R73=\"\",\"\",Estemate!A73)","v":""},"","","","","","","","","","",null,63,{"$f":"IF(Estemate!R73=\"\",0,Estemate!B73)","v":0},{"$f":"IF(Estemate!R73=\"\",0,Estemate!G73)","v":0},{"$f":"IF(Estemate!R73=\"\",0,Estemate!C73)","v":0},{"$f":"IF(Estemate!R73=\"\",0,Estemate!N73)","v":"00:00:00"},{"$f":"IF(Estemate!R73=\"\",0,Estemate!Q73)","v":"00:00:00"},{"$f":"IF(Estemate!R73=\"\",0,Estemate!R73)*IF(Estemate!P73=\"Contract\",0,1)*IF(Estemate!P73=\"F\",0,1)","v":0},{"$f":"IF(Estemate!R73=\"\",0,Estemate!M73)","v":0},0,0,0,0,1900,0,0,0,0,142,"2023-08-18",2024,8,2025,2023,0,0]
[{"$f":"IF(Estemate!R74=\"\",\"\",Estemate!A74)","v":""},"","","","","","","","","","",null,64,{"$f":"IF(Estemate!R74=\"\",0,Estemate!B74)","v":0},{"$f":"IF(Estemate!R74=\"\",0,Estemate!G74)","v":0},{"$f":"IF(Estemate!R74=\"\",0,Estemate!C74)","v":0},{"$f":"IF(Estemate!R74=\"\",0,Estemate!N74)","v":"00:00:00"},{"$f":"IF(Estemate!R74=\"\",0,Estemate!Q74)","v":"00:00:00"},{"$f":"IF(Estemate!R74=\"\",0,Estemate!R74)*IF(Estemate!P74=\"Contract\",0,1)*IF(Estemate!P74=\"F\",0,1)","v":0},{"$f":"IF(Estemate!R74=\"\",0,Estemate!M74)","v":0},0,0,0,0,1900,0,0,0,0,142,"2023-08-18",2024,8,2025,2023,0,0]
[{"$f":"IF(Estemate!R75=\"\",\"\",Estemate!A75)","v":""},"","","","","","","","","","",null,65,{"$f":"IF(Estemate!R75=\"\",0,Estemate!B75)","v":0},{"$f":"IF(Estemate!R75=\"\",0,Estemate!G75)","v":0},{"$f":"IF(Estemate!R75=\"\",0,Estemate!C75)","v":0},{"$f":"IF(Estemate!R75=\"\",0,Estemate!N75)","v":"00:00:00"},{"$f":"IF(Estemate!R75=\"\",0,Estemate!Q75)","v":"00:00:00"},{"$f":"IF(Estemate!R75=\"\",0,Estemate!R75)*IF(Estemate!P75=\"Contract\",0,1)*IF(Estemate!P75=\"F\",0,1)","v":0},{"$f":"IF(Estemate!R75=\"\",0,Estemate!M75)","v":0},0,0,0,0,1900,0,0,0,0,142,"2023-08-18",2024,8,2025,2023,0,0]
[{"$f":"IF(Estemate!R76=\"\",\"\",Estemate!A76)","v":""},"",{"$f":"IF(ISNA(VLOOKUP($A76,$M$11:$V$110,2,FALSE)),\"\",VLOOKUP($A76,$M$11:$V$110,2,FALSE))","v":""},{"$f":"IF(ISNA(VLOOKUP($A76,$M$11:$V$110,3,FALSE)),\"\",VLOOKUP($A76,$M$11:$V$110,3,FALSE))","v":""},{"$f":"IF(ISNA(VLOOKUP($A76,$M$11:$V$110,4,FALSE)),\"\",VLOOKUP($A76,$M$11:$V$110,4,FALSE))","v":""},{"$f":"IF(ISNA(VLOOKUP($A76,$M$11:$V$110,5,FALSE)),\"\",VLOOKUP($A76,$M$11:$V$110,5,FALSE))","v":""},{"$f":"IF(ISNA(VLOOKUP($A76,$M$11:$V$110,6,FALSE)),\"\",VLOOKUP($A76,$M$11:$V$110,6,FALSE))","v":""},{"$f":"IF(ISNA(VLOOKUP($A76,$M$11:$V$110,7,FALSE)),\"\",VLOOKUP($A76,$M$11:$V$110,7,FALSE))","v":""},{"$f":"IF(ISNA(VLOOKUP($A76,$M$11:$V$110,8,FALSE)),\"\",VLOOKUP($A76,$M$11:$V$110,8,FALSE))","v":""},{"$f":"IF(ISNA(VLOOKUP($A76,$M$11:$V$110,9,FALSE)),\"\",VLOOKUP($A76,$M$11:$V$110,9,FALSE))","v":""},{"$f":"IF(ISNA(VLOOKUP($A76,$M$11:$V$110,10,FALSE)),\"\",VLOOKUP($A76,$M$11:$V$110,10,FALSE))","v":""},null,66,{"$f":"IF(Estemate!R76=\"\",0,Estemate!B76)","v":0},{"$f":"IF(Estemate!R76=\"\",0,Estemate!G76)","v":0},{"$f":"IF(Estemate!R76=\"\",0,Estemate!C76)","v":0},{"$f":"IF(Estemate!R76=\"\",0,Estemate!N76)","v":"00:00:00"},{"$f":"IF(Estemate!R76=\"\",0,Estemate!Q76)","v":"00:00:00"},{"$f":"IF(Estemate!R76=\"\",0,Estemate!R76)*IF(Estemate!P76=\"Contract\",0,1)*IF(Estemate!P76=\"F\",0,1)","v":0},{"$f":"IF(Estemate!R76=\"\",0,Estemate!M76)","v":0},{"$f":"ROUNDUP(W76*AB76*AD76%,0)","v":0},{"$f":"ROUNDUP(W76*AC76*AD76%,0)","v":0},{"$f":"ROUND(S76/30,0)","v":0},{"$f":"ROUND(ROUND(T76*3%,0),-2)+T76","v":0},{"$f":"YEAR(R76)","v":1900},{"$f":"IF(S76>0,Y76,0)","v":0},{"$f":"IF(S76>0,MONTH(R76),0)","v":0},{"$f":"IF(Z76=AI76,T76,0)+IF(Z76=AF76,T76,0)*IF(AA76<=3,1,0)","v":0},{"$f":"IF(Z76=AF76,X76,0)*IF(AA76>3,1,0)+IF(Z76=AH76,X76,0)*IF(AA76<=3,1,0)","v":0},{"$f":"P$8","v":142},{"$f":"TODAY()","v":"2023-08-18"},{"$f":"YEAR(AE76)+1","v":2024},{"$f":"MONTH(AE76)","v":8},{"$f":"YEAR(AE76)+2","v":2025},{"$f":"YEAR(AE76)","v":2023},0,0]
[{"$f":"IF(Estemate!R77=\"\",\"\",Estemate!A77)","v":""},"","","","","","","","","","",null,67,{"$f":"IF(Estemate!R77=\"\",0,Estemate!B77)","v":0},{"$f":"IF(Estemate!R77=\"\",0,Estemate!G77)","v":0},{"$f":"IF(Estemate!R77=\"\",0,Estemate!C77)","v":0},{"$f":"IF(Estemate!R77=\"\",0,Estemate!N77)","v":"00:00:00"},{"$f":"IF(Estemate!R77=\"\",0,Estemate!Q77)","v":"00:00:00"},{"$f":"IF(Estemate!R77=\"\",0,Estemate!R77)*IF(Estemate!P77=\"Contract\",0,1)*IF(Estemate!P77=\"F\",0,1)","v":0},{"$f":"IF(Estemate!R77=\"\",0,Estemate!M77)","v":0},0,0,0,0,1900,0,0,0,0,142,"2023-08-18",2024,8,2025,2023,{"$f":"IF(X77=0,0,1)","v":0},{"$f":"AK76+AJ77","v":0}]
[{"$f":"IF(Estemate!R78=\"\",\"\",Estemate!A78)","v":""},"","","","","","","","","","",null,68,{"$f":"IF(Estemate!R78=\"\",0,Estemate!B78)","v":0},{"$f":"IF(Estemate!R78=\"\",0,Estemate!G78)","v":0},{"$f":"IF(Estemate!R78=\"\",0,Estemate!C78)","v":0},{"$f":"IF(Estemate!R78=\"\",0,Estemate!N78)","v":"00:00:00"},{"$f":"IF(Estemate!R78=\"\",0,Estemate!Q78)","v":"00:00:00"},{"$f":"IF(Estemate!R78=\"\",0,Estemate!R78)*IF(Estemate!P78=\"Contract\",0,1)*IF(Estemate!P78=\"F\",0,1)","v":0},{"$f":"IF(Estemate!R78=\"\",0,Estemate!M78)","v":0},0,0,0,0,1900,0,0,0,0,142,"2023-08-18",2024,8,2025,2023,0,0]
[{"$f":"IF(Estemate!R79=\"\",\"\",Estemate!A79)","v":""},"","","","","","","","","","",null,69,{"$f":"IF(Estemate!R79=\"\",0,Estemate!B79)","v":0},{"$f":"IF(Estemate!R79=\"\",0,Estemate!G79)","v":0},{"$f":"IF(Estemate!R79=\"\",0,Estemate!C79)","v":0},{"$f":"IF(Estemate!R79=\"\",0,Estemate!N79)","v":"00:00:00"},{"$f":"IF(Estemate!R79=\"\",0,Estemate!Q79)","v":"00:00:00"},{"$f":"IF(Estemate!R79=\"\",0,Estemate!R79)*IF(Estemate!P79=\"Contract\",0,1)*IF(Estemate!P79=\"F\",0,1)","v":0},{"$f":"IF(Estemate!R79=\"\",0,Estemate!M79)","v":0},0,0,0,0,1900,0,0,0,0,142,"2023-08-18",2024,8,2025,2023,0,0]
[{"$f":"IF(Estemate!R80=\"\",\"\",Estemate!A80)","v":""},"","","","","","","","","","",null,70,{"$f":"IF(Estemate!R80=\"\",0,Estemate!B80)","v":0},{"$f":"IF(Estemate!R80=\"\",0,Estemate!G80)","v":0},{"$f":"IF(Estemate!R80=\"\",0,Estemate!C80)","v":0},{"$f":"IF(Estemate!R80=\"\",0,Estemate!N80)","v":"00:00:00"},{"$f":"IF(Estemate!R80=\"\",0,Estemate!Q80)","v":"00:00:00"},{"$f":"IF(Estemate!R80=\"\",0,Estemate!R80)*IF(Estemate!P80=\"Contract\",0,1)*IF(Estemate!P80=\"F\",0,1)","v":0},{"$f":"IF(Estemate!R80=\"\",0,Estemate!M80)","v":0},0,0,0,0,1900,0,0,0,0,142,"2023-08-18",2024,8,2025,2023,0,0]
[{"$f":"IF(Estemate!R81=\"\",\"\",Estemate!A81)","v":""},"","","","","","","","","","",null,71,{"$f":"IF(Estemate!R81=\"\",0,Estemate!B81)","v":0},{"$f":"IF(Estemate!R81=\"\",0,Estemate!G81)","v":0},{"$f":"IF(Estemate!R81=\"\",0,Estemate!C81)","v":0},{"$f":"IF(Estemate!R81=\"\",0,Estemate!N81)","v":"00:00:00"},{"$f":"IF(Estemate!R81=\"\",0,Estemate!Q81)","v":"00:00:00"},{"$f":"IF(Estemate!R81=\"\",0,Estemate!R81)*IF(Estemate!P81=\"Contract\",0,1)*IF(Estemate!P81=\"F\",0,1)","v":0},{"$f":"IF(Estemate!R81=\"\",0,Estemate!M81)","v":0},0,0,0,0,1900,0,0,0,0,142,"2023-08-18",2024,8,2025,2023,0,0]
[{"$f":"IF(Estemate!R82=\"\",\"\",Estemate!A82)","v":""},"","","","","","","","","","",null,72,{"$f":"IF(Estemate!R82=\"\",0,Estemate!B82)","v":0},{"$f":"IF(Estemate!R82=\"\",0,Estemate!G82)","v":0},{"$f":"IF(Estemate!R82=\"\",0,Estemate!C82)","v":0},{"$f":"IF(Estemate!R82=\"\",0,Estemate!N82)","v":"00:00:00"},{"$f":"IF(Estemate!R82=\"\",0,Estemate!Q82)","v":"00:00:00"},{"$f":"IF(Estemate!R82=\"\",0,Estemate!R82)*IF(Estemate!P82=\"Contract\",0,1)*IF(Estemate!P82=\"F\",0,1)","v":0},{"$f":"IF(Estemate!R82=\"\",0,Estemate!M82)","v":0},0,0,0,0,1900,0,0,0,0,142,"2023-08-18",2024,8,2025,2023,0,0]
[{"$f":"IF(Estemate!R83=\"\",\"\",Estemate!A83)","v":""},"","","","","","","","","","",null,73,{"$f":"IF(Estemate!R83=\"\",0,Estemate!B83)","v":0},{"$f":"IF(Estemate!R83=\"\",0,Estemate!G83)","v":0},{"$f":"IF(Estemate!R83=\"\",0,Estemate!C83)","v":0},{"$f":"IF(Estemate!R83=\"\",0,Estemate!N83)","v":"00:00:00"},{"$f":"IF(Estemate!R83=\"\",0,Estemate!Q83)","v":"00:00:00"},{"$f":"IF(Estemate!R83=\"\",0,Estemate!R83)*IF(Estemate!P83=\"Contract\",0,1)*IF(Estemate!P83=\"F\",0,1)","v":0},{"$f":"IF(Estemate!R83=\"\",0,Estemate!M83)","v":0},0,0,0,0,1900,0,0,0,0,142,"2023-08-18",2024,8,2025,2023,0,0]
[{"$f":"IF(Estemate!R84=\"\",\"\",Estemate!A84)","v":""},"","","","","","","","","","",null,74,{"$f":"IF(Estemate!R84=\"\",0,Estemate!B84)","v":0},{"$f":"IF(Estemate!R84=\"\",0,Estemate!G84)","v":0},{"$f":"IF(Estemate!R84=\"\",0,Estemate!C84)","v":0},{"$f":"IF(Estemate!R84=\"\",0,Estemate!N84)","v":"00:00:00"},{"$f":"IF(Estemate!R84=\"\",0,Estemate!Q84)","v":"00:00:00"},{"$f":"IF(Estemate!R84=\"\",0,Estemate!R84)*IF(Estemate!P84=\"Contract\",0,1)*IF(Estemate!P84=\"F\",0,1)","v":0},{"$f":"IF(Estemate!R84=\"\",0,Estemate!M84)","v":0},0,0,0,0,1900,0,0,0,0,142,"2023-08-18",2024,8,2025,2023,0,0]
[{"$f":"IF(Estemate!R85=\"\",\"\",Estemate!A85)","v":""},"","","","","","","","","","",null,75,{"$f":"IF(Estemate!R85=\"\",0,Estemate!B85)","v":0},{"$f":"IF(Estemate!R85=\"\",0,Estemate!G85)","v":0},{"$f":"IF(Estemate!R85=\"\",0,Estemate!C85)","v":0},{"$f":"IF(Estemate!R85=\"\",0,Estemate!N85)","v":"00:00:00"},{"$f":"IF(Estemate!R85=\"\",0,Estemate!Q85)","v":"00:00:00"},{"$f":"IF(Estemate!R85=\"\",0,Estemate!R85)*IF(Estemate!P85=\"Contract\",0,1)*IF(Estemate!P85=\"F\",0,1)","v":0},{"$f":"IF(Estemate!R85=\"\",0,Estemate!M85)","v":0},0,0,0,0,1900,0,0,0,0,142,"2023-08-18",2024,8,2025,2023,0,0]
[{"$f":"IF(Estemate!R86=\"\",\"\",Estemate!A86)","v":""},"","","","","","","","","","",null,76,{"$f":"IF(Estemate!R86=\"\",0,Estemate!B86)","v":0},{"$f":"IF(Estemate!R86=\"\",0,Estemate!G86)","v":0},{"$f":"IF(Estemate!R86=\"\",0,Estemate!C86)","v":0},{"$f":"IF(Estemate!R86=\"\",0,Estemate!N86)","v":"00:00:00"},{"$f":"IF(Estemate!R86=\"\",0,Estemate!Q86)","v":"00:00:00"},{"$f":"IF(Estemate!R86=\"\",0,Estemate!R86)*IF(Estemate!P86=\"Contract\",0,1)*IF(Estemate!P86=\"F\",0,1)","v":0},{"$f":"IF(Estemate!R86=\"\",0,Estemate!M86)","v":0},0,0,0,0,1900,0,0,0,0,142,"2023-08-18",2024,8,2025,2023,0,0]
[{"$f":"IF(Estemate!R87=\"\",\"\",Estemate!A87)","v":""},"","","","","","","","","","",null,77,{"$f":"IF(Estemate!R87=\"\",0,Estemate!B87)","v":0},{"$f":"IF(Estemate!R87=\"\",0,Estemate!G87)","v":0},{"$f":"IF(Estemate!R87=\"\",0,Estemate!C87)","v":0},{"$f":"IF(Estemate!R87=\"\",0,Estemate!N87)","v":"00:00:00"},{"$f":"IF(Estemate!R87=\"\",0,Estemate!Q87)","v":"00:00:00"},{"$f":"IF(Estemate!R87=\"\",0,Estemate!R87)*IF(Estemate!P87=\"Contract\",0,1)*IF(Estemate!P87=\"F\",0,1)","v":0},{"$f":"IF(Estemate!R87=\"\",0,Estemate!M87)","v":0},0,0,0,0,1900,0,0,0,0,142,"2023-08-18",2024,8,2025,2023,0,0]
[{"$f":"IF(Estemate!R88=\"\",\"\",Estemate!A88)","v":""},"","","","","","","","","","",null,78,{"$f":"IF(Estemate!R88=\"\",0,Estemate!B88)","v":0},{"$f":"IF(Estemate!R88=\"\",0,Estemate!G88)","v":0},{"$f":"IF(Estemate!R88=\"\",0,Estemate!C88)","v":0},{"$f":"IF(Estemate!R88=\"\",0,Estemate!N88)","v":"00:00:00"},{"$f":"IF(Estemate!R88=\"\",0,Estemate!Q88)","v":"00:00:00"},{"$f":"IF(Estemate!R88=\"\",0,Estemate!R88)*IF(Estemate!P88=\"Contract\",0,1)*IF(Estemate!P88=\"F\",0,1)","v":0},{"$f":"IF(Estemate!R88=\"\",0,Estemate!M88)","v":0},0,0,0,0,1900,0,0,0,0,142,"2023-08-18",2024,8,2025,2023,0,0]
[{"$f":"IF(Estemate!R89=\"\",\"\",Estemate!A89)","v":""},"","","","","","","","","","",null,79,{"$f":"IF(Estemate!R89=\"\",0,Estemate!B89)","v":0},{"$f":"IF(Estemate!R89=\"\",0,Estemate!G89)","v":0},{"$f":"IF(Estemate!R89=\"\",0,Estemate!C89)","v":0},{"$f":"IF(Estemate!R89=\"\",0,Estemate!N89)","v":"00:00:00"},{"$f":"IF(Estemate!R89=\"\",0,Estemate!Q89)","v":"00:00:00"},{"$f":"IF(Estemate!R89=\"\",0,Estemate!R89)*IF(Estemate!P89=\"Contract\",0,1)*IF(Estemate!P89=\"F\",0,1)","v":0},{"$f":"IF(Estemate!R89=\"\",0,Estemate!M89)","v":0},0,0,0,0,1900,0,0,0,0,142,"2023-08-18",2024,8,2025,2023,0,0]
[{"$f":"IF(Estemate!R90=\"\",\"\",Estemate!A90)","v":""},"","","","","","","","","","",null,80,{"$f":"IF(Estemate!R90=\"\",0,Estemate!B90)","v":0},{"$f":"IF(Estemate!R90=\"\",0,Estemate!G90)","v":0},{"$f":"IF(Estemate!R90=\"\",0,Estemate!C90)","v":0},{"$f":"IF(Estemate!R90=\"\",0,Estemate!N90)","v":"00:00:00"},{"$f":"IF(Estemate!R90=\"\",0,Estemate!Q90)","v":"00:00:00"},{"$f":"IF(Estemate!R90=\"\",0,Estemate!R90)*IF(Estemate!P90=\"Contract\",0,1)*IF(Estemate!P90=\"F\",0,1)","v":0},{"$f":"IF(Estemate!R90=\"\",0,Estemate!M90)","v":0},0,0,0,0,1900,0,0,0,0,142,"2023-08-18",2024,8,2025,2023,0,0]
[{"$f":"IF(Estemate!R91=\"\",\"\",Estemate!A91)","v":""},"","","","","","","","","","",null,81,{"$f":"IF(Estemate!R91=\"\",0,Estemate!B91)","v":0},{"$f":"IF(Estemate!R91=\"\",0,Estemate!G91)","v":0},{"$f":"IF(Estemate!R91=\"\",0,Estemate!C91)","v":0},{"$f":"IF(Estemate!R91=\"\",0,Estemate!N91)","v":"00:00:00"},{"$f":"IF(Estemate!R91=\"\",0,Estemate!Q91)","v":"00:00:00"},{"$f":"IF(Estemate!R91=\"\",0,Estemate!R91)*IF(Estemate!P91=\"Contract\",0,1)*IF(Estemate!P91=\"F\",0,1)","v":0},{"$f":"IF(Estemate!R91=\"\",0,Estemate!M91)","v":0},0,0,0,0,1900,0,0,0,0,142,"2023-08-18",2024,8,2025,2023,0,0]
[{"$f":"IF(Estemate!R92=\"\",\"\",Estemate!A92)","v":""},"","","","","","","","","","",null,82,{"$f":"IF(Estemate!R92=\"\",0,Estemate!B92)","v":0},{"$f":"IF(Estemate!R92=\"\",0,Estemate!G92)","v":0},{"$f":"IF(Estemate!R92=\"\",0,Estemate!C92)","v":0},{"$f":"IF(Estemate!R92=\"\",0,Estemate!N92)","v":"00:00:00"},{"$f":"IF(Estemate!R92=\"\",0,Estemate!Q92)","v":"00:00:00"},{"$f":"IF(Estemate!R92=\"\",0,Estemate!R92)*IF(Estemate!P92=\"Contract\",0,1)*IF(Estemate!P92=\"F\",0,1)","v":0},{"$f":"IF(Estemate!R92=\"\",0,Estemate!M92)","v":0},0,0,0,0,1900,0,0,0,0,142,"2023-08-18",2024,8,2025,2023,0,0]
[{"$f":"IF(Estemate!R93=\"\",\"\",Estemate!A93)","v":""},"","","","","","","","","","",null,83,{"$f":"IF(Estemate!R93=\"\",0,Estemate!B93)","v":0},{"$f":"IF(Estemate!R93=\"\",0,Estemate!G93)","v":0},{"$f":"IF(Estemate!R93=\"\",0,Estemate!C93)","v":0},{"$f":"IF(Estemate!R93=\"\",0,Estemate!N93)","v":"00:00:00"},{"$f":"IF(Estemate!R93=\"\",0,Estemate!Q93)","v":"00:00:00"},{"$f":"IF(Estemate!R93=\"\",0,Estemate!R93)*IF(Estemate!P93=\"Contract\",0,1)*IF(Estemate!P93=\"F\",0,1)","v":0},{"$f":"IF(Estemate!R93=\"\",0,Estemate!M93)","v":0},0,0,0,0,1900,0,0,0,0,142,"2023-08-18",2024,8,2025,2023,0,0]
[{"$f":"IF(Estemate!R94=\"\",\"\",Estemate!A94)","v":""},"","","","","","","","","","",null,84,{"$f":"IF(Estemate!R94=\"\",0,Estemate!B94)","v":0},{"$f":"IF(Estemate!R94=\"\",0,Estemate!G94)","v":0},{"$f":"IF(Estemate!R94=\"\",0,Estemate!C94)","v":0},{"$f":"IF(Estemate!R94=\"\",0,Estemate!N94)","v":"00:00:00"},{"$f":"IF(Estemate!R94=\"\",0,Estemate!Q94)","v":"00:00:00"},{"$f":"IF(Estemate!R94=\"\",0,Estemate!R94)*IF(Estemate!P94=\"Contract\",0,1)*IF(Estemate!P94=\"F\",0,1)","v":0},{"$f":"IF(Estemate!R94=\"\",0,Estemate!M94)","v":0},0,0,0,0,1900,0,0,0,0,142,"2023-08-18",2024,8,2025,2023,0,0]
[{"$f":"IF(Estemate!R95=\"\",\"\",Estemate!A95)","v":""},{"$f":"IF(C95=\"\",\"\",AK95)","v":""},"","","","","","","","","",null,85,{"$f":"IF(Estemate!R95=\"\",0,Estemate!B95)","v":0},{"$f":"IF(Estemate!R95=\"\",0,Estemate!G95)","v":0},{"$f":"IF(Estemate!R95=\"\",0,Estemate!C95)","v":0},{"$f":"IF(Estemate!R95=\"\",0,Estemate!N95)","v":"00:00:00"},{"$f":"IF(Estemate!R95=\"\",0,Estemate!Q95)","v":"00:00:00"},{"$f":"IF(Estemate!R95=\"\",0,Estemate!R95)*IF(Estemate!P95=\"Contract\",0,1)*IF(Estemate!P95=\"F\",0,1)","v":0},{"$f":"IF(Estemate!R95=\"\",0,Estemate!M95)","v":0},0,0,0,0,1900,0,0,0,0,142,"2023-08-18",2024,8,2025,2023,0,0]
[{"$f":"IF(Estemate!R96=\"\",\"\",Estemate!A96)","v":""},"","","","","","","","","","",null,86,{"$f":"IF(Estemate!R96=\"\",0,Estemate!B96)","v":0},{"$f":"IF(Estemate!R96=\"\",0,Estemate!G96)","v":0},{"$f":"IF(Estemate!R96=\"\",0,Estemate!C96)","v":0},{"$f":"IF(Estemate!R96=\"\",0,Estemate!N96)","v":"00:00:00"},{"$f":"IF(Estemate!R96=\"\",0,Estemate!Q96)","v":"00:00:00"},{"$f":"IF(Estemate!R96=\"\",0,Estemate!R96)*IF(Estemate!P96=\"Contract\",0,1)*IF(Estemate!P96=\"F\",0,1)","v":0},{"$f":"IF(Estemate!R96=\"\",0,Estemate!M96)","v":0},0,0,0,0,1900,0,0,0,0,142,"2023-08-18",2024,8,2025,2023,0,0]
[{"$f":"IF(Estemate!R97=\"\",\"\",Estemate!A97)","v":""},"","","","","","","","","","",null,87,{"$f":"IF(Estemate!R97=\"\",0,Estemate!B97)","v":0},{"$f":"IF(Estemate!R97=\"\",0,Estemate!G97)","v":0},{"$f":"IF(Estemate!R97=\"\",0,Estemate!C97)","v":0},{"$f":"IF(Estemate!R97=\"\",0,Estemate!N97)","v":"00:00:00"},{"$f":"IF(Estemate!R97=\"\",0,Estemate!Q97)","v":"00:00:00"},{"$f":"IF(Estemate!R97=\"\",0,Estemate!R97)*IF(Estemate!P97=\"Contract\",0,1)*IF(Estemate!P97=\"F\",0,1)","v":0},{"$f":"IF(Estemate!R97=\"\",0,Estemate!M97)","v":0},0,0,0,0,1900,0,0,0,0,142,"2023-08-18",2024,8,2025,2023,0,0]
[{"$f":"IF(Estemate!R98=\"\",\"\",Estemate!A98)","v":""},"","","","","","","","","","",null,88,{"$f":"IF(Estemate!R98=\"\",0,Estemate!B98)","v":0},{"$f":"IF(Estemate!R98=\"\",0,Estemate!G98)","v":0},{"$f":"IF(Estemate!R98=\"\",0,Estemate!C98)","v":0},{"$f":"IF(Estemate!R98=\"\",0,Estemate!N98)","v":"00:00:00"},{"$f":"IF(Estemate!R98=\"\",0,Estemate!Q98)","v":"00:00:00"},{"$f":"IF(Estemate!R98=\"\",0,Estemate!R98)*IF(Estemate!P98=\"Contract\",0,1)*IF(Estemate!P98=\"F\",0,1)","v":0},{"$f":"IF(Estemate!R98=\"\",0,Estemate!M98)","v":0},0,0,0,0,1900,0,0,0,0,142,"2023-08-18",2024,8,2025,2023,0,0]
[{"$f":"IF(Estemate!R99=\"\",\"\",Estemate!A99)","v":""},"","","","","","","","","","",null,89,{"$f":"IF(Estemate!R99=\"\",0,Estemate!B99)","v":0},{"$f":"IF(Estemate!R99=\"\",0,Estemate!G99)","v":0},{"$f":"IF(Estemate!R99=\"\",0,Estemate!C99)","v":0},{"$f":"IF(Estemate!R99=\"\",0,Estemate!N99)","v":"00:00:00"},{"$f":"IF(Estemate!R99=\"\",0,Estemate!Q99)","v":"00:00:00"},{"$f":"IF(Estemate!R99=\"\",0,Estemate!R99)*IF(Estemate!P99=\"Contract\",0,1)*IF(Estemate!P99=\"F\",0,1)","v":0},{"$f":"IF(Estemate!R99=\"\",0,Estemate!M99)","v":0},0,0,0,0,1900,0,0,0,0,142,"2023-08-18",2024,8,2025,2023,0,0]
[{"$f":"IF(Estemate!R100=\"\",\"\",Estemate!A100)","v":""},"","","","","","","","","","",null,90,{"$f":"IF(Estemate!R100=\"\",0,Estemate!B100)","v":0},{"$f":"IF(Estemate!R100=\"\",0,Estemate!G100)","v":0},{"$f":"IF(Estemate!R100=\"\",0,Estemate!C100)","v":0},{"$f":"IF(Estemate!R100=\"\",0,Estemate!N100)","v":"00:00:00"},{"$f":"IF(Estemate!R100=\"\",0,Estemate!Q100)","v":"00:00:00"},{"$f":"IF(Estemate!R100=\"\",0,Estemate!R100)*IF(Estemate!P100=\"Contract\",0,1)*IF(Estemate!P100=\"F\",0,1)","v":0},{"$f":"IF(Estemate!R100=\"\",0,Estemate!M100)","v":0},0,0,0,0,1900,0,0,0,0,142,"2023-08-18",2024,8,2025,2023,0,0]
[{"$f":"IF(Estemate!R101=\"\",\"\",Estemate!A101)","v":""},"","","","","","","","","","",null,91,{"$f":"IF(Estemate!R101=\"\",0,Estemate!B101)","v":0},{"$f":"IF(Estemate!R101=\"\",0,Estemate!G101)","v":0},{"$f":"IF(Estemate!R101=\"\",0,Estemate!C101)","v":0},{"$f":"IF(Estemate!R101=\"\",0,Estemate!N101)","v":"00:00:00"},{"$f":"IF(Estemate!R101=\"\",0,Estemate!Q101)","v":"00:00:00"},{"$f":"IF(Estemate!R101=\"\",0,Estemate!R101)*IF(Estemate!P101=\"Contract\",0,1)*IF(Estemate!P101=\"F\",0,1)","v":0},{"$f":"IF(Estemate!R101=\"\",0,Estemate!M101)","v":0},0,0,0,0,1900,0,0,0,0,142,"2023-08-18",2024,8,2025,2023,0,0]
[{"$f":"IF(Estemate!R102=\"\",\"\",Estemate!A102)","v":""},"","","","","","","","","","",null,92,{"$f":"IF(Estemate!R102=\"\",0,Estemate!B102)","v":0},{"$f":"IF(Estemate!R102=\"\",0,Estemate!G102)","v":0},{"$f":"IF(Estemate!R102=\"\",0,Estemate!C102)","v":0},{"$f":"IF(Estemate!R102=\"\",0,Estemate!N102)","v":"00:00:00"},{"$f":"IF(Estemate!R102=\"\",0,Estemate!Q102)","v":"00:00:00"},{"$f":"IF(Estemate!R102=\"\",0,Estemate!R102)*IF(Estemate!P102=\"Contract\",0,1)*IF(Estemate!P102=\"F\",0,1)","v":0},{"$f":"IF(Estemate!R102=\"\",0,Estemate!M102)","v":0},0,0,0,0,1900,0,0,0,0,142,"2023-08-18",2024,8,2025,2023,0,0]
[{"$f":"IF(Estemate!R103=\"\",\"\",Estemate!A103)","v":""},"","","","","","","","","","",null,93,{"$f":"IF(Estemate!R103=\"\",0,Estemate!B103)","v":0},{"$f":"IF(Estemate!R103=\"\",0,Estemate!G103)","v":0},{"$f":"IF(Estemate!R103=\"\",0,Estemate!C103)","v":0},{"$f":"IF(Estemate!R103=\"\",0,Estemate!N103)","v":"00:00:00"},{"$f":"IF(Estemate!R103=\"\",0,Estemate!Q103)","v":"00:00:00"},{"$f":"IF(Estemate!R103=\"\",0,Estemate!R103)*IF(Estemate!P103=\"Contract\",0,1)*IF(Estemate!P103=\"F\",0,1)","v":0},{"$f":"IF(Estemate!R103=\"\",0,Estemate!M103)","v":0},0,0,0,0,1900,0,0,0,0,142,"2023-08-18",2024,8,2025,2023,0,0]
[{"$f":"IF(Estemate!R104=\"\",\"\",Estemate!A104)","v":""},"","","","","","","","","","",null,94,{"$f":"IF(Estemate!R104=\"\",0,Estemate!B104)","v":0},{"$f":"IF(Estemate!R104=\"\",0,Estemate!G104)","v":0},{"$f":"IF(Estemate!R104=\"\",0,Estemate!C104)","v":0},{"$f":"IF(Estemate!R104=\"\",0,Estemate!N104)","v":"00:00:00"},{"$f":"IF(Estemate!R104=\"\",0,Estemate!Q104)","v":"00:00:00"},{"$f":"IF(Estemate!R104=\"\",0,Estemate!R104)*IF(Estemate!P104=\"Contract\",0,1)*IF(Estemate!P104=\"F\",0,1)","v":0},{"$f":"IF(Estemate!R104=\"\",0,Estemate!M104)","v":0},0,0,0,0,1900,0,0,0,0,142,"2023-08-18",2024,8,2025,2023,0,0]
[{"$f":"IF(Estemate!R105=\"\",\"\",Estemate!A105)","v":""},"","","","","","","","","","",null,95,{"$f":"IF(Estemate!R105=\"\",0,Estemate!B105)","v":0},{"$f":"IF(Estemate!R105=\"\",0,Estemate!G105)","v":0},{"$f":"IF(Estemate!R105=\"\",0,Estemate!C105)","v":0},{"$f":"IF(Estemate!R105=\"\",0,Estemate!N105)","v":"00:00:00"},{"$f":"IF(Estemate!R105=\"\",0,Estemate!Q105)","v":"00:00:00"},{"$f":"IF(Estemate!R105=\"\",0,Estemate!R105)*IF(Estemate!P105=\"Contract\",0,1)*IF(Estemate!P105=\"F\",0,1)","v":0},{"$f":"IF(Estemate!R105=\"\",0,Estemate!M105)","v":0},0,0,0,0,1900,0,0,0,0,142,"2023-08-18",2024,8,2025,2023,0,0]
[{"$f":"IF(Estemate!R106=\"\",\"\",Estemate!A106)","v":""},"","","","","","","","","","",null,96,{"$f":"IF(Estemate!R106=\"\",0,Estemate!B106)","v":0},{"$f":"IF(Estemate!R106=\"\",0,Estemate!G106)","v":0},{"$f":"IF(Estemate!R106=\"\",0,Estemate!C106)","v":0},{"$f":"IF(Estemate!R106=\"\",0,Estemate!N106)","v":"00:00:00"},{"$f":"IF(Estemate!R106=\"\",0,Estemate!Q106)","v":"00:00:00"},{"$f":"IF(Estemate!R106=\"\",0,Estemate!R106)*IF(Estemate!P106=\"Contract\",0,1)*IF(Estemate!P106=\"F\",0,1)","v":0},{"$f":"IF(Estemate!R106=\"\",0,Estemate!M106)","v":0},0,0,0,0,1900,0,0,0,0,142,"2023-08-18",2024,8,2025,2023,0,0]
[{"$f":"IF(Estemate!R107=\"\",\"\",Estemate!A107)","v":""},"","","","","","","","","","",null,97,{"$f":"IF(Estemate!R107=\"\",0,Estemate!B107)","v":0},{"$f":"IF(Estemate!R107=\"\",0,Estemate!G107)","v":0},{"$f":"IF(Estemate!R107=\"\",0,Estemate!C107)","v":0},{"$f":"IF(Estemate!R107=\"\",0,Estemate!N107)","v":"00:00:00"},{"$f":"IF(Estemate!R107=\"\",0,Estemate!Q107)","v":"00:00:00"},{"$f":"IF(Estemate!R107=\"\",0,Estemate!R107)*IF(Estemate!P107=\"Contract\",0,1)*IF(Estemate!P107=\"F\",0,1)","v":0},{"$f":"IF(Estemate!R107=\"\",0,Estemate!M107)","v":0},0,0,0,0,1900,0,0,0,0,142,"2023-08-18",2024,8,2025,2023,0,0]
[{"$f":"IF(Estemate!R108=\"\",\"\",Estemate!A108)","v":""},"","","","","","","","","","",null,98,{"$f":"IF(Estemate!R108=\"\",0,Estemate!B108)","v":0},{"$f":"IF(Estemate!R108=\"\",0,Estemate!G108)","v":0},{"$f":"IF(Estemate!R108=\"\",0,Estemate!C108)","v":0},{"$f":"IF(Estemate!R108=\"\",0,Estemate!N108)","v":"00:00:00"},{"$f":"IF(Estemate!R108=\"\",0,Estemate!Q108)","v":"00:00:00"},{"$f":"IF(Estemate!R108=\"\",0,Estemate!R108)*IF(Estemate!P108=\"Contract\",0,1)*IF(Estemate!P108=\"F\",0,1)","v":0},{"$f":"IF(Estemate!R108=\"\",0,Estemate!M108)","v":0},0,0,0,0,1900,0,0,0,0,142,"2023-08-18",2024,8,2025,2023,0,0]
[{"$f":"IF(Estemate!R109=\"\",\"\",Estemate!A109)","v":""},"","","","","","","","","","",null,99,{"$f":"IF(Estemate!R109=\"\",0,Estemate!B109)","v":0},{"$f":"IF(Estemate!R109=\"\",0,Estemate!G109)","v":0},{"$f":"IF(Estemate!R109=\"\",0,Estemate!C109)","v":0},{"$f":"IF(Estemate!R109=\"\",0,Estemate!N109)","v":"00:00:00"},{"$f":"IF(Estemate!R109=\"\",0,Estemate!Q109)","v":"00:00:00"},{"$f":"IF(Estemate!R109=\"\",0,Estemate!R109)*IF(Estemate!P109=\"Contract\",0,1)*IF(Estemate!P109=\"F\",0,1)","v":0},{"$f":"IF(Estemate!R109=\"\",0,Estemate!M109)","v":0},0,0,0,0,1900,0,0,0,0,142,"2023-08-18",2024,8,2025,2023,0,0]
[{"$f":"IF(Estemate!R110=\"\",\"\",Estemate!A110)","v":""},"","","","","","","","","","",null,100,{"$f":"IF(Estemate!R110=\"\",0,Estemate!B110)","v":0},{"$f":"IF(Estemate!R110=\"\",0,Estemate!G110)","v":0},{"$f":"IF(Estemate!R110=\"\",0,Estemate!C110)","v":0},{"$f":"IF(Estemate!R110=\"\",0,Estemate!N110)","v":"00:00:00"},{"$f":"IF(Estemate!R110=\"\",0,Estemate!Q110)","v":"00:00:00"},{"$f":"IF(Estemate!R110=\"\",0,Estemate!R110)*IF(Estemate!P110=\"Contract\",0,1)*IF(Estemate!P110=\"F\",0,1)","v":0},{"$f":"IF(Estemate!R110=\"\",0,Estemate!M110)","v":0},0,0,0,0,1900,0,0,0,0,142,"2023-08-18",2024,8,2025,2023,0,0]
[null,"Total",null,null,null,null,null,null,null,{"$f":"SUM(J11:J110)","v":0},{"$f":"SUM(K11:K110)","v":0}]
[null,"."]
[null,".",null,null,null,null,null,null,null,{"$f":"Database!N38","v":"प्रधानाचार्य"}]
[null,".",null,null,null,null,null,null,null,{"$f":"Database!N39","v":"jktdh; mPp ek/;fed fo|ky;"}]
[null,".",null,null,null,null,null,null,null,{"$f":"Database!N40","v":"pkSxkbZa] Vksad"}]
[null,".",null,null,null,null,null,null,null,{"$f":"Database!N41","v":27306}]

{"sheet":"Challan","index":8,"n_rows":36,"n_cols":25,"rows_kept":36,"cut":false,"hidden":true,"merged":[[7,12,7,16],[8,18,8,24],[0,0,0,2],[0,3,0,24],[1,0,1,24],[2,5,2,9],[2,18,2,19],[2,20,2,21],[7,9,7,11],[8,0,9,0],[8,1,9,1],[8,2,8,8],[8,9,9,9],[8,10,8,16],[8,17,9,17]]}
[{"$f":"Database!B1","v":"dk;kZy;&"},null,null,{"$f":"Database!F1","v":"jktdh; mPp ek/;fed fo|ky;&pkSxkbZa] Vksad"}]
["Pkkykuksa dk fooj.k"]
[null,null,null,null,null,{"$f":"Database!B3","v":"eq[; ys[kk 'kh\"kZ&"},null,null,null,null,{"$f":"Database!B4","v":2202},{"$f":"Estemate!H3","v":"lkekU; f'k{kk"},null,null,null,null,null,null,{"$f":"Database!H4","v":"MhMhvks dksM&"},null,{"$f":"Database!H5","v":27306}]
[null,null,null,null,null,null,null,null,null,null,{"$f":"Database!B5","v":2},{"$f":"Estemate!H4","v":"ek/;fed f'k{kk"}]
[null,null,null,null,null,null,null,null,null,null,{"$f":"Database!B6","v":109},{"$f":"Estemate!H5","v":"jktdh; mPp ek/;fed fo|ky;"}]
[null,null,null,null,null,null,null,null,null,null,{"$f":"Database!B7","v":1},{"$f":"Estemate!H6","v":"yMdksa ds fo|ky;"}]
[null,null,null,null,null,null,null,null,null,null,{"$f":"Database!B8","v":0},{"$f":"Estemate!H7","v":"lkekU; O;;"}]
[null,null,null,null,null,null,null,null,null,{"$f":"Estemate!G8","v":"Ldhe dk uke&"},null,null,{"$f":"Estemate!H8","v":"राज्य निधि"}]
["Ø- la-","pkyu uEcj o fnukad","vizsy 22 ls ekpZ 23",null,null,null,null,null,null,"pkyu uEcj o fnukad","vxLr 22 ls ekpZ 23",null,null,null,null,null,null,"pkyu uEcj o fnukad","vizsy 23 ls tqykbZ 23"]
[null,null,{"$f":"Database!A$12","v":"f'k{k.k Qhl o vU; Qhl"},{"$f":"Database!A$13","v":"ikB~; iqLrdksa ls vk;"},{"$f":"Database!A$14","v":"fofo/k vk;"},{"$f":"Database!A$15","v":"vf/kd Hkqxrku dh olwyh ek0f'k0"},{"$f":"Database!A16","v":"vf/kd Hkqxrku dh olwyh izk0f'k0"},{"$f":"Database!A17","v":"vuqi;ksxh lkeku ls vk;"},{"$f":"Database!A19","v":"va'knku o o`fRr;ksa ls vk;"},null,{"$f":"Database!A$12","v":"f'k{k.k Qhl o vU; Qhl"},{"$f":"Database!A$13","v":"ikB~; iqLrdksa ls vk;"},{"$f":"Database!A$14","v":"fofo/k vk;"},{"$f":"Database!A$15","v":"vf/kd Hkqxrku dh olwyh ek0f'k0"},{"$f":"Database!A16","v":"vf/kd Hkqxrku dh olwyh izk0f'k0"},{"$f":"Database!A17","v":"vuqi;ksxh lkeku ls vk;"},{"$f":"Database!A19","v":"va'knku o o`fRr;ksa ls vk;"},null,{"$f":"Database!A$12","v":"f'k{k.k Qhl o vU; Qhl"},{"$f":"Database!A$13","v":"ikB~; iqLrdksa ls vk;"},{"$f":"Database!A$14","v":"fofo/k vk;"},{"$f":"Database!A$15","v":"vf/kd Hkqxrku dh olwyh ek0f'k0"},{"$f":"Database!A16","v":"vf/kd Hkqxrku dh olwyh izk0f'k0"},{"$f":"Database!A17","v":"vuqi;ksxh lkeku ls vk;"},{"$f":"Database!A19","v":"va'knku o o`fRr;ksa ls vk;"}]
[{"$f":"IF(B11=\"\",\"\",1)","v":""}]
[{"$f":"IF(B12=\"\",\"\",A11+1)","v":""}]
[{"$f":"IF(B13=\"\",\"\",A12+1)","v":""}]
[""]
[""]
[""]
[""]
[""]
[""]
[""]
[""]
[""]
[""]
[""]
[""]
[""]
[""]
[""]
[""]
[""]
[null,"Total",{"$f":"SUM(C11:C30)","v":0},{"$f":"SUM(D11:D30)","v":0},0,0,0,0,0,null,0,0,0,0,0,0,0,null,0,0,0,0,0,0,0]
[]
[null,null,null,null,null,null,null,null,null,null,null,null,null,null,null,null,null,null,null,null,null,null,{"$f":"Database!N38","v":"प्रधानाचार्य"}]
[null,null,null,null,null,null,null,null,null,null,null,null,null,null,null,null,null,null,null,null,null,null,{"$f":"Database!N39","v":"jktdh; mPp ek/;fed fo|ky;"}]
[null,null,null,null,null,null,null,null,null,null,null,null,null,null,null,null,null,null,null,null,null,null,{"$f":"Database!N40","v":"pkSxkbZa] Vksad"}]
[null,null,null,null,null,null,null,null,null,null,null,null,null,null,null,null,null,null,null,null,null,null,{"$f":"Database!N41","v":27306}]

{"sheet":"Contract","index":9,"n_rows":116,"n_cols":20,"rows_kept":116,"cut":false,"hidden":true,"merged":[[7,3,7,4],[0,1,0,2],[0,3,0,9],[1,1,1,9],[2,1,2,2],[2,8,2,9],[3,8,3,9],[7,5,7,7],[6,8,6,9]]}
[null,{"$f":"Database!B1","v":"dk;kZy;&"},null,{"$f":"Database!F1","v":"jktdh; mPp ek/;fed fo|ky;&pkSxkbZa] Vksad"}]
[null,"lafonk lsokvksa ij O;; fooj.k Only for MGGS"]
[null,{"$f":"Database!B3","v":"eq[; ys[kk 'kh\"kZ&"},null,{"$f":"Database!B4","v":2202},{"$f":"Database!C4","v":"lkekU; f'k{kk"},null,null,null,{"$f":"Database!H4","v":"MhMhvks dksM&"}]
[null,null,null,{"$f":"Database!B5","v":2},{"$f":"Database!C5","v":"ek/;fed f'k{kk"},null,null,null,{"$f":"Database!H5","v":27306}]
[null,null,null,{"$f":"Database!B6","v":109},{"$f":"Database!C6","v":"jktdh; mPp ek/;fed fo|ky;"}]
[null,null,null,{"$f":"Database!B7","v":1},{"$f":"Database!C7","v":"yMdksa ds fo|ky;"}]
[null,null,null,{"$f":"Database!B8","v":0},{"$f":"Database!C8","v":"lkekU; O;;"},null,null,"mien&","41&lafonk ij O;;"]
[null,null,null,{"$f":"Database!F8","v":"Ldhe dk uke&"},null,{"$f":"Database!H8","v":"राज्य निधि"}]
[null,"Ø-la-","DDO Code","uke dkfeZd","in uke","tUe frfFk","fu;qfä frfFk","ekfld ekuns;","31-7-23 rd O;; dqy jkf'k","12 ekg dk ekuns;","dz0la0","MhMhvks dksM","uke dkfeZd","inuke","is ysoy","tUe frfFk","fu;qfDr frfFk","ekfld ekuns;"]
[null,1,2,3,4,5,6,7,8,9]
[null,{"$f":"IF(C11=\"\",\"\",1)","v":""},{"$f":"IF(D11=\"\",\"\",I$116)","v":""},null,null,null,null,null,null,{"$f":"H11*12","v":0},1,{"$f":"IF(Estemate!P11=\"Contract\",Estemate!B11,0)","v":0},{"$f":"IF(Estemate!P11=\"Contract\",Estemate!G11,0)","v":0},{"$f":"IF(Estemate!P11=\"Contract\",Estemate!C11,0)","v":0},{"$f":"IF(Estemate!P11=\"Contract\",Estemate!L11,0)","v":0},{"$f":"IF(Estemate!P11=\"Contract\",Estemate!N11,0)","v":"00:00:00"},{"$f":"IF(Estemate!P11=\"Contract\",Estemate!O11,0)","v":"00:00:00"},{"$f":"IF(Estemate!P11=\"Contract\",Estemate!M11,0)","v":0},{"$f":"IF(L11=0,0,1)","v":0},{"$f":"S11","v":0}]
[null,{"$f":"IF(C12=\"\",\"\",B11+1)","v":""},{"$f":"IF(D12=\"\",\"\",I$116)","v":""},null,null,null,null,null,null,{"$f":"H12*12","v":0},2,{"$f":"IF(Estemate!P12=\"Contract\",Estemate!B12,0)","v":0},{"$f":"IF(Estemate!P12=\"Contract\",Estemate!G12,0)","v":0},{"$f":"IF(Estemate!P12=\"Contract\",Estemate!C12,0)","v":0},{"$f":"IF(Estemate!P12=\"Contract\",Estemate!L12,0)","v":0},{"$f":"IF(Estemate!P12=\"Contract\",Estemate!N12,0)","v":"00:00:00"},{"$f":"IF(Estemate!P12=\"Contract\",Estemate!O12,0)","v":"00:00:00"},{"$f":"IF(Estemate!P12=\"Contract\",Estemate!M12,0)","v":0},{"$f":"IF(L12=0,0,1)","v":0},{"$f":"T11+S12","v":0}]
[null,{"$f":"IF(C13=\"\",\"\",B12+1)","v":""},{"$f":"IF(D13=\"\",\"\",I$116)","v":""},null,null,null,null,null,null,0,3,{"$f":"IF(Estemate!P13=\"Contract\",Estemate!B13,0)","v":0},{"$f":"IF(Estemate!P13=\"Contract\",Estemate!G13,0)","v":0},{"$f":"IF(Estemate!P13=\"Contract\",Estemate!C13,0)","v":0},{"$f":"IF(Estemate!P13=\"Contract\",Estemate!L13,0)","v":0},{"$f":"IF(Estemate!P13=\"Contract\",Estemate!N13,0)","v":"00:00:00"},{"$f":"IF(Estemate!P13=\"Contract\",Estemate!O13,0)","v":"00:00:00"},{"$f":"IF(Estemate!P13=\"Contract\",Estemate!M13,0)","v":0},{"$f":"IF(L13=0,0,1)","v":0},{"$f":"T12+S13","v":0}]
[null,"","",null,null,null,null,null,null,0,4,{"$f":"IF(Estemate!P14=\"Contract\",Estemate!B14,0)","v":0},{"$f":"IF(Estemate!P14=\"Contract\",Estemate!G14,0)","v":0},{"$f":"IF(Estemate!P14=\"Contract\",Estemate!C14,0)","v":0},{"$f":"IF(Estemate!P14=\"Contract\",Estemate!L14,0)","v":0},{"$f":"IF(Estemate!P14=\"Contract\",Estemate!N14,0)","v":"00:00:00"},{"$f":"IF(Estemate!P14=\"Contract\",Estemate!O14,0)","v":"00:00:00"},{"$f":"IF(Estemate!P14=\"Contract\",Estemate!M14,0)","v":0},0,0]
[null,"","",null,null,null,null,null,null,0,5,{"$f":"IF(Estemate!P15=\"Contract\",Estemate!B15,0)","v":0},{"$f":"IF(Estemate!P15=\"Contract\",Estemate!G15,0)","v":0},{"$f":"IF(Estemate!P15=\"Contract\",Estemate!C15,0)","v":0},{"$f":"IF(Estemate!P15=\"Contract\",Estemate!L15,0)","v":0},{"$f":"IF(Estemate!P15=\"Contract\",Estemate!N15,0)","v":"00:00:00"},{"$f":"IF(Estemate!P15=\"Contract\",Estemate!O15,0)","v":"00:00:00"},{"$f":"IF(Estemate!P15=\"Contract\",Estemate!M15,0)","v":0},0,0]
[null,"","",null,null,null,null,null,null,0,6,{"$f":"IF(Estemate!P16=\"Contract\",Estemate!B16,0)","v":0},{"$f":"IF(Estemate!P16=\"Contract\",Estemate!G16,0)","v":0},{"$f":"IF(Estemate!P16=\"Contract\",Estemate!C16,0)","v":0},{"$f":"IF(Estemate!P16=\"Contract\",Estemate!L16,0)","v":0},{"$f":"IF(Estemate!P16=\"Contract\",Estemate!N16,0)","v":"00:00:00"},{"$f":"IF(Estemate!P16=\"Contract\",Estemate!O16,0)","v":"00:00:00"},{"$f":"IF(Estemate!P16=\"Contract\",Estemate!M16,0)","v":0},0,0]
[null,"","",null,null,null,null,null,null,0,7,{"$f":"IF(Estemate!P17=\"Contract\",Estemate!B17,0)","v":0},{"$f":"IF(Estemate!P17=\"Contract\",Estemate!G17,0)","v":0},{"$f":"IF(Estemate!P17=\"Contract\",Estemate!C17,0)","v":0},{"$f":"IF(Estemate!P17=\"Contract\",Estemate!L17,0)","v":0},{"$f":"IF(Estemate!P17=\"Contract\",Estemate!N17,0)","v":"00:00:00"},{"$f":"IF(Estemate!P17=\"Contract\",Estemate!O17,0)","v":"00:00:00"},{"$f":"IF(Estemate!P17=\"Contract\",Estemate!M17,0)","v":0},0,0]
[null,"","",null,null,null,null,null,null,0,8,{"$f":"IF(Estemate!P18=\"Contract\",Estemate!B18,0)","v":0},{"$f":"IF(Estemate!P18=\"Contract\",Estemate!G18,0)","v":0},{"$f":"IF(Estemate!P18=\"Contract\",Estemate!C18,0)","v":0},{"$f":"IF(Estemate!P18=\"Contract\",Estemate!L18,0)","v":0},{"$f":"IF(Estemate!P18=\"Contract\",Estemate!N18,0)","v":"00:00:00"},{"$f":"IF(Estemate!P18=\"Contract\",Estemate!O18,0)","v":"00:00:00"},{"$f":"IF(Estemate!P18=\"Contract\",Estemate!M18,0)","v":0},0,0]
[null,"","",null,null,null,null,null,null,0,9,{"$f":"IF(Estemate!P19=\"Contract\",Estemate!B19,0)","v":0},{"$f":"IF(Estemate!P19=\"Contract\",Estemate!G19,0)","v":0},{"$f":"IF(Estemate!P19=\"Contract\",Estemate!C19,0)","v":0},{"$f":"IF(Estemate!P19=\"Contract\",Estemate!L19,0)","v":0},{"$f":"IF(Estemate!P19=\"Contract\",Estemate!N19,0)","v":"00:00:00"},{"$f":"IF(Estemate!P19=\"Contract\",Estemate!O19,0)","v":"00:00:00"},{"$f":"IF(Estemate!P19=\"Contract\",Estemate!M19,0)","v":0},0,0]
[null,"","",null,null,null,null,null,null,0,10,{"$f":"IF(Estemate!P20=\"Contract\",Estemate!B20,0)","v":0},{"$f":"IF(Estemate!P20=\"Contract\",Estemate!G20,0)","v":0},{"$f":"IF(Estemate!P20=\"Contract\",Estemate!C20,0)","v":0},{"$f":"IF(Estemate!P20=\"Contract\",Estemate!L20,0)","v":0},{"$f":"IF(Estemate!P20=\"Contract\",Estemate!N20,0)","v":"00:00:00"},{"$f":"IF(Estemate!P20=\"Contract\",Estemate!O20,0)","v":"00:00:00"},{"$f":"IF(Estemate!P20=\"Contract\",Estemate!M20,0)","v":0},0,0]
[null,"","",null,null,null,null,null,null,0,11,{"$f":"IF(Estemate!P21=\"Contract\",Estemate!B21,0)","v":0},{"$f":"IF(Estemate!P21=\"Contract\",Estemate!G21,0)","v":0},{"$f":"IF(Estemate!P21=\"Contract\",Estemate!C21,0)","v":0},{"$f":"IF(Estemate!P21=\"Contract\",Estemate!L21,0)","v":0},{"$f":"IF(Estemate!P21=\"Contract\",Estemate!N21,0)","v":"00:00:00"},{"$f":"IF(Estemate!P21=\"Contract\",Estemate!O21,0)","v":"00:00:00"},{"$f":"IF(Estemate!P21=\"Contract\",Estemate!M21,0)","v":0},0,0]
[null,"","",null,null,null,null,null,null,0,12,{"$f":"IF(Estemate!P22=\"Contract\",Estemate!B22,0)","v":0},{"$f":"IF(Estemate!P22=\"Contract\",Estemate!G22,0)","v":0},{"$f":"IF(Estemate!P22=\"Contract\",Estemate!C22,0)","v":0},{"$f":"IF(Estemate!P22=\"Contract\",Estemate!L22,0)","v":0},{"$f":"IF(Estemate!P22=\"Contract\",Estemate!N22,0)","v":"00:00:00"},{"$f":"IF(Estemate!P22=\"Contract\",Estemate!O22,0)","v":"00:00:00"},{"$f":"IF(Estemate!P22=\"Contract\",Estemate!M22,0)","v":0},0,0]
[null,"","",null,null,null,null,null,null,0,13,{"$f":"IF(Estemate!P23=\"Contract\",Estemate!B23,0)","v":0},{"$f":"IF(Estemate!P23=\"Contract\",Estemate!G23,0)","v":0},{"$f":"IF(Estemate!P23=\"Contract\",Estemate!C23,0)","v":0},{"$f":"IF(Estemate!P23=\"Contract\",Estemate!L23,0)","v":0},{"$f":"IF(Estemate!P23=\"Contract\",Estemate!N23,0)","v":"00:00:00"},{"$f":"IF(Estemate!P23=\"Contract\",Estemate!O23,0)","v":"00:00:00"},{"$f":"IF(Estemate!P23=\"Contract\",Estemate!M23,0)","v":0},0,0]
[null,"","",null,null,null,null,null,null,0,14,{"$f":"IF(Estemate!P24=\"Contract\",Estemate!B24,0)","v":0},{"$f":"IF(Estemate!P24=\"Contract\",Estemate!G24,0)","v":0},{"$f":"IF(Estemate!P24=\"Contract\",Estemate!C24,0)","v":0},{"$f":"IF(Estemate!P24=\"Contract\",Estemate!L24,0)","v":0},{"$f":"IF(Estemate!P24=\"Contract\",Estemate!N24,0)","v":"00:00:00"},{"$f":"IF(Estemate!P24=\"Contract\",Estemate!O24,0)","v":"00:00:00"},{"$f":"IF(Estemate!P24=\"Contract\",Estemate!M24,0)","v":0},0,0]
[null,"","",null,null,null,null,null,null,0,15,{"$f":"IF(Estemate!P25=\"Contract\",Estemate!B25,0)","v":0},{"$f":"IF(Estemate!P25=\"Contract\",Estemate!G25,0)","v":0},{"$f":"IF(Estemate!P25=\"Contract\",Estemate!C25,0)","v":0},{"$f":"IF(Estemate!P25=\"Contract\",Estemate!L25,0)","v":0},{"$f":"IF(Estemate!P25=\"Contract\",Estemate!N25,0)","v":"00:00:00"},{"$f":"IF(Estemate!P25=\"Contract\",Estemate!O25,0)","v":"00:00:00"},{"$f":"IF(Estemate!P25=\"Contract\",Estemate!M25,0)","v":0},0,0]
[null,"","",null,null,null,null,null,null,0,16,{"$f":"IF(Estemate!P26=\"Contract\",Estemate!B26,0)","v":0},{"$f":"IF(Estemate!P26=\"Contract\",Estemate!G26,0)","v":0},{"$f":"IF(Estemate!P26=\"Contract\",Estemate!C26,0)","v":0},{"$f":"IF(Estemate!P26=\"Contract\",Estemate!L26,0)","v":0},{"$f":"IF(Estemate!P26=\"Contract\",Estemate!N26,0)","v":"00:00:00"},{"$f":"IF(Estemate!P26=\"Contract\",Estemate!O26,0)","v":"00:00:00"},{"$f":"IF(Estemate!P26=\"Contract\",Estemate!M26,0)","v":0},0,0]
[null,"","",null,null,null,null,null,null,0,17,{"$f":"IF(Estemate!P27=\"Contract\",Estemate!B27,0)","v":0},{"$f":"IF(Estemate!P27=\"Contract\",Estemate!G27,0)","v":0},{"$f":"IF(Estemate!P27=\"Contract\",Estemate!C27,0)","v":0},{"$f":"IF(Estemate!P27=\"Contract\",Estemate!L27,0)","v":0},{"$f":"IF(Estemate!P27=\"Contract\",Estemate!N27,0)","v":"00:00:00"},{"$f":"IF(Estemate!P27=\"Contract\",Estemate!O27,0)","v":"00:00:00"},{"$f":"IF(Estemate!P27=\"Contract\",Estemate!M27,0)","v":0},0,0]
[null,"","",null,null,null,null,null,null,0,18,{"$f":"IF(Estemate!P28=\"Contract\",Estemate!B28,0)","v":0},{"$f":"IF(Estemate!P28=\"Contract\",Estemate!G28,0)","v":0},{"$f":"IF(Estemate!P28=\"Contract\",Estemate!C28,0)","v":0},{"$f":"IF(Estemate!P28=\"Contract\",Estemate!L28,0)","v":0},{"$f":"IF(Estemate!P28=\"Contract\",Estemate!N28,0)","v":"00:00:00"},{"$f":"IF(Estemate!P28=\"Contract\",Estemate!O28,0)","v":"00:00:00"},{"$f":"IF(Estemate!P28=\"Contract\",Estemate!M28,0)","v":0},0,0]
[null,"","",null,null,null,null,null,null,0,19,{"$f":"IF(Estemate!P29=\"Contract\",Estemate!B29,0)","v":0},{"$f":"IF(Estemate!P29=\"Contract\",Estemate!G29,0)","v":0},{"$f":"IF(Estemate!P29=\"Contract\",Estemate!C29,0)","v":0},{"$f":"IF(Estemate!P29=\"Contract\",Estemate!L29,0)","v":0},{"$f":"IF(Estemate!P29=\"Contract\",Estemate!N29,0)","v":"00:00:00"},{"$f":"IF(Estemate!P29=\"Contract\",Estemate!O29,0)","v":"00:00:00"},{"$f":"IF(Estemate!P29=\"Contract\",Estemate!M29,0)","v":0},0,0]
[null,"","",null,null,null,null,null,null,0,20,{"$f":"IF(Estemate!P30=\"Contract\",Estemate!B30,0)","v":0},{"$f":"IF(Estemate!P30=\"Contract\",Estemate!G30,0)","v":0},{"$f":"IF(Estemate!P30=\"Contract\",Estemate!C30,0)","v":0},{"$f":"IF(Estemate!P30=\"Contract\",Estemate!L30,0)","v":0},{"$f":"IF(Estemate!P30=\"Contract\",Estemate!N30,0)","v":"00:00:00"},{"$f":"IF(Estemate!P30=\"Contract\",Estemate!O30,0)","v":"00:00:00"},{"$f":"IF(Estemate!P30=\"Contract\",Estemate!M30,0)","v":0},0,0]
[null,"","",null,null,null,null,null,null,0,21,{"$f":"IF(Estemate!P31=\"Contract\",Estemate!B31,0)","v":0},{"$f":"IF(Estemate!P31=\"Contract\",Estemate!G31,0)","v":0},{"$f":"IF(Estemate!P31=\"Contract\",Estemate!C31,0)","v":0},{"$f":"IF(Estemate!P31=\"Contract\",Estemate!L31,0)","v":0},{"$f":"IF(Estemate!P31=\"Contract\",Estemate!N31,0)","v":"00:00:00"},{"$f":"IF(Estemate!P31=\"Contract\",Estemate!O31,0)","v":"00:00:00"},{"$f":"IF(Estemate!P31=\"Contract\",Estemate!M31,0)","v":0},0,0]
[null,"","",null,null,null,null,null,null,0,22,{"$f":"IF(Estemate!P32=\"Contract\",Estemate!B32,0)","v":0},{"$f":"IF(Estemate!P32=\"Contract\",Estemate!G32,0)","v":0},{"$f":"IF(Estemate!P32=\"Contract\",Estemate!C32,0)","v":0},{"$f":"IF(Estemate!P32=\"Contract\",Estemate!L32,0)","v":0},{"$f":"IF(Estemate!P32=\"Contract\",Estemate!N32,0)","v":"00:00:00"},{"$f":"IF(Estemate!P32=\"Contract\",Estemate!O32,0)","v":"00:00:00"},{"$f":"IF(Estemate!P32=\"Contract\",Estemate!M32,0)","v":0},0,0]
[null,"","",null,null,null,null,null,null,0,23,{"$f":"IF(Estemate!P33=\"Contract\",Estemate!B33,0)","v":0},{"$f":"IF(Estemate!P33=\"Contract\",Estemate!G33,0)","v":0},{"$f":"IF(Estemate!P33=\"Contract\",Estemate!C33,0)","v":0},{"$f":"IF(Estemate!P33=\"Contract\",Estemate!L33,0)","v":0},{"$f":"IF(Estemate!P33=\"Contract\",Estemate!N33,0)","v":"00:00:00"},{"$f":"IF(Estemate!P33=\"Contract\",Estemate!O33,0)","v":"00:00:00"},{"$f":"IF(Estemate!P33=\"Contract\",Estemate!M33,0)","v":0},0,0]
[null,"","",null,null,null,null,null,null,0,24,{"$f":"IF(Estemate!P34=\"Contract\",Estemate!B34,0)","v":0},{"$f":"IF(Estemate!P34=\"Contract\",Estemate!G34,0)","v":0},{"$f":"IF(Estemate!P34=\"Contract\",Estemate!C34,0)","v":0},{"$f":"IF(Estemate!P34=\"Contract\",Estemate!L34,0)","v":0},{"$f":"IF(Estemate!P34=\"Contract\",Estemate!N34,0)","v":"00:00:00"},{"$f":"IF(Estemate!P34=\"Contract\",Estemate!O34,0)","v":"00:00:00"},{"$f":"IF(Estemate!P34=\"Contract\",Estemate!M34,0)","v":0},0,0]
[null,"","",null,null,null,null,null,null,0,25,{"$f":"IF(Estemate!P35=\"Contract\",Estemate!B35,0)","v":0},{"$f":"IF(Estemate!P35=\"Contract\",Estemate!G35,0)","v":0},{"$f":"IF(Estemate!P35=\"Contract\",Estemate!C35,0)","v":0},{"$f":"IF(Estemate!P35=\"Contract\",Estemate!L35,0)","v":0},{"$f":"IF(Estemate!P35=\"Contract\",Estemate!N35,0)","v":"00:00:00"},{"$f":"IF(Estemate!P35=\"Contract\",Estemate!O35,0)","v":"00:00:00"},{"$f":"IF(Estemate!P35=\"Contract\",Estemate!M35,0)","v":0},0,0]
[null,"","",null,null,null,null,null,null,0,26,{"$f":"IF(Estemate!P36=\"Contract\",Estemate!B36,0)","v":0},{"$f":"IF(Estemate!P36=\"Contract\",Estemate!G36,0)","v":0},{"$f":"IF(Estemate!P36=\"Contract\",Estemate!C36,0)","v":0},{"$f":"IF(Estemate!P36=\"Contract\",Estemate!L36,0)","v":0},{"$f":"IF(Estemate!P36=\"Contract\",Estemate!N36,0)","v":"00:00:00"},{"$f":"IF(Estemate!P36=\"Contract\",Estemate!O36,0)","v":"00:00:00"},{"$f":"IF(Estemate!P36=\"Contract\",Estemate!M36,0)","v":0},0,0]
[null,"","",null,null,null,null,null,null,0,27,{"$f":"IF(Estemate!P37=\"Contract\",Estemate!B37,0)","v":0},{"$f":"IF(Estemate!P37=\"Contract\",Estemate!G37,0)","v":0},{"$f":"IF(Estemate!P37=\"Contract\",Estemate!C37,0)","v":0},{"$f":"IF(Estemate!P37=\"Contract\",Estemate!L37,0)","v":0},{"$f":"IF(Estemate!P37=\"Contract\",Estemate!N37,0)","v":"00:00:00"},{"$f":"IF(Estemate!P37=\"Contract\",Estemate!O37,0)","v":"00:00:00"},{"$f":"IF(Estemate!P37=\"Contract\",Estemate!M37,0)","v":0},0,0]
[null,"","",null,null,null,null,null,null,0,28,{"$f":"IF(Estemate!P38=\"Contract\",Estemate!B38,0)","v":0},{"$f":"IF(Estemate!P38=\"Contract\",Estemate!G38,0)","v":0},{"$f":"IF(Estemate!P38=\"Contract\",Estemate!C38,0)","v":0},{"$f":"IF(Estemate!P38=\"Contract\",Estemate!L38,0)","v":0},{"$f":"IF(Estemate!P38=\"Contract\",Estemate!N38,0)","v":"00:00:00"},{"$f":"IF(Estemate!P38=\"Contract\",Estemate!O38,0)","v":"00:00:00"},{"$f":"IF(Estemate!P38=\"Contract\",Estemate!M38,0)","v":0},0,0]
[null,"","",null,null,null,null,null,null,0,29,{"$f":"IF(Estemate!P39=\"Contract\",Estemate!B39,0)","v":0},{"$f":"IF(Estemate!P39=\"Contract\",Estemate!G39,0)","v":0},{"$f":"IF(Estemate!P39=\"Contract\",Estemate!C39,0)","v":0},{"$f":"IF(Estemate!P39=\"Contract\",Estemate!L39,0)","v":0},{"$f":"IF(Estemate!P39=\"Contract\",Estemate!N39,0)","v":"00:00:00"},{"$f":"IF(Estemate!P39=\"Contract\",Estemate!O39,0)","v":"00:00:00"},{"$f":"IF(Estemate!P39=\"Contract\",Estemate!M39,0)","v":0},0,0]
[null,"","",null,null,null,null,null,null,0,30,{"$f":"IF(Estemate!P40=\"Contract\",Estemate!B40,0)","v":0},{"$f":"IF(Estemate!P40=\"Contract\",Estemate!G40,0)","v":0},{"$f":"IF(Estemate!P40=\"Contract\",Estemate!C40,0)","v":0},{"$f":"IF(Estemate!P40=\"Contract\",Estemate!L40,0)","v":0},{"$f":"IF(Estemate!P40=\"Contract\",Estemate!N40,0)","v":"00:00:00"},{"$f":"IF(Estemate!P40=\"Contract\",Estemate!O40,0)","v":"00:00:00"},{"$f":"IF(Estemate!P40=\"Contract\",Estemate!M40,0)","v":0},0,0]
[null,"","",null,null,null,null,null,null,0,31,{"$f":"IF(Estemate!P41=\"Contract\",Estemate!B41,0)","v":0},{"$f":"IF(Estemate!P41=\"Contract\",Estemate!G41,0)","v":0},{"$f":"IF(Estemate!P41=\"Contract\",Estemate!C41,0)","v":0},{"$f":"IF(Estemate!P41=\"Contract\",Estemate!L41,0)","v":0},{"$f":"IF(Estemate!P41=\"Contract\",Estemate!N41,0)","v":"00:00:00"},{"$f":"IF(Estemate!P41=\"Contract\",Estemate!O41,0)","v":"00:00:00"},{"$f":"IF(Estemate!P41=\"Contract\",Estemate!M41,0)","v":0},0,0]
[null,"","",null,null,null,null,null,null,0,32,{"$f":"IF(Estemate!P42=\"Contract\",Estemate!B42,0)","v":0},{"$f":"IF(Estemate!P42=\"Contract\",Estemate!G42,0)","v":0},{"$f":"IF(Estemate!P42=\"Contract\",Estemate!C42,0)","v":0},{"$f":"IF(Estemate!P42=\"Contract\",Estemate!L42,0)","v":0},{"$f":"IF(Estemate!P42=\"Contract\",Estemate!N42,0)","v":"00:00:00"},{"$f":"IF(Estemate!P42=\"Contract\",Estemate!O42,0)","v":"00:00:00"},{"$f":"IF(Estemate!P42=\"Contract\",Estemate!M42,0)","v":0},0,0]
[null,"","",null,null,null,null,null,null,0,33,{"$f":"IF(Estemate!P43=\"Contract\",Estemate!B43,0)","v":0},{"$f":"IF(Estemate!P43=\"Contract\",Estemate!G43,0)","v":0},{"$f":"IF(Estemate!P43=\"Contract\",Estemate!C43,0)","v":0},{"$f":"IF(Estemate!P43=\"Contract\",Estemate!L43,0)","v":0},{"$f":"IF(Estemate!P43=\"Contract\",Estemate!N43,0)","v":"00:00:00"},{"$f":"IF(Estemate!P43=\"Contract\",Estemate!O43,0)","v":"00:00:00"},{"$f":"IF(Estemate!P43=\"Contract\",Estemate!M43,0)","v":0},0,0]
[null,"","",null,null,null,null,null,null,0,34,{"$f":"IF(Estemate!P44=\"Contract\",Estemate!B44,0)","v":0},{"$f":"IF(Estemate!P44=\"Contract\",Estemate!G44,0)","v":0},{"$f":"IF(Estemate!P44=\"Contract\",Estemate!C44,0)","v":0},{"$f":"IF(Estemate!P44=\"Contract\",Estemate!L44,0)","v":0},{"$f":"IF(Estemate!P44=\"Contract\",Estemate!N44,0)","v":"00:00:00"},{"$f":"IF(Estemate!P44=\"Contract\",Estemate!O44,0)","v":"00:00:00"},{"$f":"IF(Estemate!P44=\"Contract\",Estemate!M44,0)","v":0},0,0]
[null,"","",null,null,null,null,null,null,0,35,{"$f":"IF(Estemate!P45=\"Contract\",Estemate!B45,0)","v":0},{"$f":"IF(Estemate!P45=\"Contract\",Estemate!G45,0)","v":0},{"$f":"IF(Estemate!P45=\"Contract\",Estemate!C45,0)","v":0},{"$f":"IF(Estemate!P45=\"Contract\",Estemate!L45,0)","v":0},{"$f":"IF(Estemate!P45=\"Contract\",Estemate!N45,0)","v":"00:00:00"},{"$f":"IF(Estemate!P45=\"Contract\",Estemate!O45,0)","v":"00:00:00"},{"$f":"IF(Estemate!P45=\"Contract\",Estemate!M45,0)","v":0},0,0]
[null,"","",null,null,null,null,null,null,0,36,{"$f":"IF(Estemate!P46=\"Contract\",Estemate!B46,0)","v":0},{"$f":"IF(Estemate!P46=\"Contract\",Estemate!G46,0)","v":0},{"$f":"IF(Estemate!P46=\"Contract\",Estemate!C46,0)","v":0},{"$f":"IF(Estemate!P46=\"Contract\",Estemate!L46,0)","v":0},{"$f":"IF(Estemate!P46=\"Contract\",Estemate!N46,0)","v":"00:00:00"},{"$f":"IF(Estemate!P46=\"Contract\",Estemate!O46,0)","v":"00:00:00"},{"$f":"IF(Estemate!P46=\"Contract\",Estemate!M46,0)","v":0},0,0]
[null,"","",null,null,null,null,null,null,0,37,{"$f":"IF(Estemate!P47=\"Contract\",Estemate!B47,0)","v":0},{"$f":"IF(Estemate!P47=\"Contract\",Estemate!G47,0)","v":0},{"$f":"IF(Estemate!P47=\"Contract\",Estemate!C47,0)","v":0},{"$f":"IF(Estemate!P47=\"Contract\",Estemate!L47,0)","v":0},{"$f":"IF(Estemate!P47=\"Contract\",Estemate!N47,0)","v":"00:00:00"},{"$f":"IF(Estemate!P47=\"Contract\",Estemate!O47,0)","v":"00:00:00"},{"$f":"IF(Estemate!P47=\"Contract\",Estemate!M47,0)","v":0},0,0]
[null,"","",null,null,null,null,null,null,0,38,{"$f":"IF(Estemate!P48=\"Contract\",Estemate!B48,0)","v":0},{"$f":"IF(Estemate!P48=\"Contract\",Estemate!G48,0)","v":0},{"$f":"IF(Estemate!P48=\"Contract\",Estemate!C48,0)","v":0},{"$f":"IF(Estemate!P48=\"Contract\",Estemate!L48,0)","v":0},{"$f":"IF(Estemate!P48=\"Contract\",Estemate!N48,0)","v":"00:00:00"},{"$f":"IF(Estemate!P48=\"Contract\",Estemate!O48,0)","v":"00:00:00"},{"$f":"IF(Estemate!P48=\"Contract\",Estemate!M48,0)","v":0},0,0]
[null,"","",null,null,null,null,null,null,0,39,{"$f":"IF(Estemate!P49=\"Contract\",Estemate!B49,0)","v":0},{"$f":"IF(Estemate!P49=\"Contract\",Estemate!G49,0)","v":0},{"$f":"IF(Estemate!P49=\"Contract\",Estemate!C49,0)","v":0},{"$f":"IF(Estemate!P49=\"Contract\",Estemate!L49,0)","v":0},{"$f":"IF(Estemate!P49=\"Contract\",Estemate!N49,0)","v":"00:00:00"},{"$f":"IF(Estemate!P49=\"Contract\",Estemate!O49,0)","v":"00:00:00"},{"$f":"IF(Estemate!P49=\"Contract\",Estemate!M49,0)","v":0},0,0]
[null,"","",null,null,null,null,null,null,0,40,{"$f":"IF(Estemate!P50=\"Contract\",Estemate!B50,0)","v":0},{"$f":"IF(Estemate!P50=\"Contract\",Estemate!G50,0)","v":0},{"$f":"IF(Estemate!P50=\"Contract\",Estemate!C50,0)","v":0},{"$f":"IF(Estemate!P50=\"Contract\",Estemate!L50,0)","v":0},{"$f":"IF(Estemate!P50=\"Contract\",Estemate!N50,0)","v":"00:00:00"},{"$f":"IF(Estemate!P50=\"Contract\",Estemate!O50,0)","v":"00:00:00"},{"$f":"IF(Estemate!P50=\"Contract\",Estemate!M50,0)","v":0},0,0]
[null,"","",null,null,null,null,null,null,0,41,{"$f":"IF(Estemate!P51=\"Contract\",Estemate!B51,0)","v":0},{"$f":"IF(Estemate!P51=\"Contract\",Estemate!G51,0)","v":0},{"$f":"IF(Estemate!P51=\"Contract\",Estemate!C51,0)","v":0},{"$f":"IF(Estemate!P51=\"Contract\",Estemate!L51,0)","v":0},{"$f":"IF(Estemate!P51=\"Contract\",Estemate!N51,0)","v":"00:00:00"},{"$f":"IF(Estemate!P51=\"Contract\",Estemate!O51,0)","v":"00:00:00"},{"$f":"IF(Estemate!P51=\"Contract\",Estemate!M51,0)","v":0},0,0]
[null,"","",null,null,null,null,null,null,0,42,{"$f":"IF(Estemate!P52=\"Contract\",Estemate!B52,0)","v":0},{"$f":"IF(Estemate!P52=\"Contract\",Estemate!G52,0)","v":0},{"$f":"IF(Estemate!P52=\"Contract\",Estemate!C52,0)","v":0},{"$f":"IF(Estemate!P52=\"Contract\",Estemate!L52,0)","v":0},{"$f":"IF(Estemate!P52=\"Contract\",Estemate!N52,0)","v":"00:00:00"},{"$f":"IF(Estemate!P52=\"Contract\",Estemate!O52,0)","v":"00:00:00"},{"$f":"IF(Estemate!P52=\"Contract\",Estemate!M52,0)","v":0},0,0]
[null,"","",null,null,null,null,null,null,0,43,{"$f":"IF(Estemate!P53=\"Contract\",Estemate!B53,0)","v":0},{"$f":"IF(Estemate!P53=\"Contract\",Estemate!G53,0)","v":0},{"$f":"IF(Estemate!P53=\"Contract\",Estemate!C53,0)","v":0},{"$f":"IF(Estemate!P53=\"Contract\",Estemate!L53,0)","v":0},{"$f":"IF(Estemate!P53=\"Contract\",Estemate!N53,0)","v":"00:00:00"},{"$f":"IF(Estemate!P53=\"Contract\",Estemate!O53,0)","v":"00:00:00"},{"$f":"IF(Estemate!P53=\"Contract\",Estemate!M53,0)","v":0},0,0]
[null,"","",null,null,null,null,null,null,0,44,{"$f":"IF(Estemate!P54=\"Contract\",Estemate!B54,0)","v":0},{"$f":"IF(Estemate!P54=\"Contract\",Estemate!G54,0)","v":0},{"$f":"IF(Estemate!P54=\"Contract\",Estemate!C54,0)","v":0},{"$f":"IF(Estemate!P54=\"Contract\",Estemate!L54,0)","v":0},{"$f":"IF(Estemate!P54=\"Contract\",Estemate!N54,0)","v":"00:00:00"},{"$f":"IF(Estemate!P54=\"Contract\",Estemate!O54,0)","v":"00:00:00"},{"$f":"IF(Estemate!P54=\"Contract\",Estemate!M54,0)","v":0},0,0]
[null,"","",null,null,null,null,null,null,0,45,{"$f":"IF(Estemate!P55=\"Contract\",Estemate!B55,0)","v":0},{"$f":"IF(Estemate!P55=\"Contract\",Estemate!G55,0)","v":0},{"$f":"IF(Estemate!P55=\"Contract\",Estemate!C55,0)","v":0},{"$f":"IF(Estemate!P55=\"Contract\",Estemate!L55,0)","v":0},{"$f":"IF(Estemate!P55=\"Contract\",Estemate!N55,0)","v":"00:00:00"},{"$f":"IF(Estemate!P55=\"Contract\",Estemate!O55,0)","v":"00:00:00"},{"$f":"IF(Estemate!P55=\"Contract\",Estemate!M55,0)","v":0},0,0]
[null,"","",null,null,null,null,null,null,0,46,{"$f":"IF(Estemate!P56=\"Contract\",Estemate!B56,0)","v":0},{"$f":"IF(Estemate!P56=\"Contract\",Estemate!G56,0)","v":0},{"$f":"IF(Estemate!P56=\"Contract\",Estemate!C56,0)","v":0},{"$f":"IF(Estemate!P56=\"Contract\",Estemate!L56,0)","v":0},{"$f":"IF(Estemate!P56=\"Contract\",Estemate!N56,0)","v":"00:00:00"},{"$f":"IF(Estemate!P56=\"Contract\",Estemate!O56,0)","v":"00:00:00"},{"$f":"IF(Estemate!P56=\"Contract\",Estemate!M56,0)","v":0},0,0]
[null,"","",null,null,null,null,null,null,0,47,{"$f":"IF(Estemate!P57=\"Contract\",Estemate!B57,0)","v":0},{"$f":"IF(Estemate!P57=\"Contract\",Estemate!G57,0)","v":0},{"$f":"IF(Estemate!P57=\"Contract\",Estemate!C57,0)","v":0},{"$f":"IF(Estemate!P57=\"Contract\",Estemate!L57,0)","v":0},{"$f":"IF(Estemate!P57=\"Contract\",Estemate!N57,0)","v":"00:00:00"},{"$f":"IF(Estemate!P57=\"Contract\",Estemate!O57,0)","v":"00:00:00"},{"$f":"IF(Estemate!P57=\"Contract\",Estemate!M57,0)","v":0},0,0]
[null,"","",null,null,null,null,null,null,0,48,{"$f":"IF(Estemate!P58=\"Contract\",Estemate!B58,0)","v":0},{"$f":"IF(Estemate!P58=\"Contract\",Estemate!G58,0)","v":0},{"$f":"IF(Estemate!P58=\"Contract\",Estemate!C58,0)","v":0},{"$f":"IF(Estemate!P58=\"Contract\",Estemate!L58,0)","v":0},{"$f":"IF(Estemate!P58=\"Contract\",Estemate!N58,0)","v":"00:00:00"},{"$f":"IF(Estemate!P58=\"Contract\",Estemate!O58,0)","v":"00:00:00"},{"$f":"IF(Estemate!P58=\"Contract\",Estemate!M58,0)","v":0},0,0]
[null,"","",null,null,null,null,null,null,0,49,{"$f":"IF(Estemate!P59=\"Contract\",Estemate!B59,0)","v":0},{"$f":"IF(Estemate!P59=\"Contract\",Estemate!G59,0)","v":0},{"$f":"IF(Estemate!P59=\"Contract\",Estemate!C59,0)","v":0},{"$f":"IF(Estemate!P59=\"Contract\",Estemate!L59,0)","v":0},{"$f":"IF(Estemate!P59=\"Contract\",Estemate!N59,0)","v":"00:00:00"},{"$f":"IF(Estemate!P59=\"Contract\",Estemate!O59,0)","v":"00:00:00"},{"$f":"IF(Estemate!P59=\"Contract\",Estemate!M59,0)","v":0},0,0]
[null,"","",null,null,null,null,null,null,0,50,{"$f":"IF(Estemate!P60=\"Contract\",Estemate!B60,0)","v":0},{"$f":"IF(Estemate!P60=\"Contract\",Estemate!G60,0)","v":0},{"$f":"IF(Estemate!P60=\"Contract\",Estemate!C60,0)","v":0},{"$f":"IF(Estemate!P60=\"Contract\",Estemate!L60,0)","v":0},{"$f":"IF(Estemate!P60=\"Contract\",Estemate!N60,0)","v":"00:00:00"},{"$f":"IF(Estemate!P60=\"Contract\",Estemate!O60,0)","v":"00:00:00"},{"$f":"IF(Estemate!P60=\"Contract\",Estemate!M60,0)","v":0},0,0]
[null,"","",null,null,null,null,null,null,0,51,{"$f":"IF(Estemate!P61=\"Contract\",Estemate!B61,0)","v":0},{"$f":"IF(Estemate!P61=\"Contract\",Estemate!G61,0)","v":0},{"$f":"IF(Estemate!P61=\"Contract\",Estemate!C61,0)","v":0},{"$f":"IF(Estemate!P61=\"Contract\",Estemate!L61,0)","v":0},{"$f":"IF(Estemate!P61=\"Contract\",Estemate!N61,0)","v":"00:00:00"},{"$f":"IF(Estemate!P61=\"Contract\",Estemate!O61,0)","v":"00:00:00"},{"$f":"IF(Estemate!P61=\"Contract\",Estemate!M61,0)","v":0},0,0]
[null,"","",null,null,null,null,null,null,0,52,{"$f":"IF(Estemate!P62=\"Contract\",Estemate!B62,0)","v":0},{"$f":"IF(Estemate!P62=\"Contract\",Estemate!G62,0)","v":0},{"$f":"IF(Estemate!P62=\"Contract\",Estemate!C62,0)","v":0},{"$f":"IF(Estemate!P62=\"Contract\",Estemate!L62,0)","v":0},{"$f":"IF(Estemate!P62=\"Contract\",Estemate!N62,0)","v":"00:00:00"},{"$f":"IF(Estemate!P62=\"Contract\",Estemate!O62,0)","v":"00:00:00"},{"$f":"IF(Estemate!P62=\"Contract\",Estemate!M62,0)","v":0},0,0]
[null,"","",null,null,null,null,null,null,0,53,{"$f":"IF(Estemate!P63=\"Contract\",Estemate!B63,0)","v":0},{"$f":"IF(Estemate!P63=\"Contract\",Estemate!G63,0)","v":0},{"$f":"IF(Estemate!P63=\"Contract\",Estemate!C63,0)","v":0},{"$f":"IF(Estemate!P63=\"Contract\",Estemate!L63,0)","v":0},{"$f":"IF(Estemate!P63=\"Contract\",Estemate!N63,0)","v":"00:00:00"},{"$f":"IF(Estemate!P63=\"Contract\",Estemate!O63,0)","v":"00:00:00"},{"$f":"IF(Estemate!P63=\"Contract\",Estemate!M63,0)","v":0},0,0]
[null,"","",null,null,null,null,null,null,0,54,{"$f":"IF(Estemate!P64=\"Contract\",Estemate!B64,0)","v":0},{"$f":"IF(Estemate!P64=\"Contract\",Estemate!G64,0)","v":0},{"$f":"IF(Estemate!P64=\"Contract\",Estemate!C64,0)","v":0},{"$f":"IF(Estemate!P64=\"Contract\",Estemate!L64,0)","v":0},{"$f":"IF(Estemate!P64=\"Contract\",Estemate!N64,0)","v":"00:00:00"},{"$f":"IF(Estemate!P64=\"Contract\",Estemate!O64,0)","v":"00:00:00"},{"$f":"IF(Estemate!P64=\"Contract\",Estemate!M64,0)","v":0},0,0]
[null,"","",null,null,null,null,null,null,0,55,{"$f":"IF(Estemate!P65=\"Contract\",Estemate!B65,0)","v":0},{"$f":"IF(Estemate!P65=\"Contract\",Estemate!G65,0)","v":0},{"$f":"IF(Estemate!P65=\"Contract\",Estemate!C65,0)","v":0},{"$f":"IF(Estemate!P65=\"Contract\",Estemate!L65,0)","v":0},{"$f":"IF(Estemate!P65=\"Contract\",Estemate!N65,0)","v":"00:00:00"},{"$f":"IF(Estemate!P65=\"Contract\",Estemate!O65,0)","v":"00:00:00"},{"$f":"IF(Estemate!P65=\"Contract\",Estemate!M65,0)","v":0},0,0]
[null,"","",null,null,null,null,null,null,0,56,{"$f":"IF(Estemate!P66=\"Contract\",Estemate!B66,0)","v":0},{"$f":"IF(Estemate!P66=\"Contract\",Estemate!G66,0)","v":0},{"$f":"IF(Estemate!P66=\"Contract\",Estemate!C66,0)","v":0},{"$f":"IF(Estemate!P66=\"Contract\",Estemate!L66,0)","v":0},{"$f":"IF(Estemate!P66=\"Contract\",Estemate!N66,0)","v":"00:00:00"},{"$f":"IF(Estemate!P66=\"Contract\",Estemate!O66,0)","v":"00:00:00"},{"$f":"IF(Estemate!P66=\"Contract\",Estemate!M66,0)","v":0},0,0]
[null,"","",null,null,null,null,null,null,0,57,{"$f":"IF(Estemate!P67=\"Contract\",Estemate!B67,0)","v":0},{"$f":"IF(Estemate!P67=\"Contract\",Estemate!G67,0)","v":0},{"$f":"IF(Estemate!P67=\"Contract\",Estemate!C67,0)","v":0},{"$f":"IF(Estemate!P67=\"Contract\",Estemate!L67,0)","v":0},{"$f":"IF(Estemate!P67=\"Contract\",Estemate!N67,0)","v":"00:00:00"},{"$f":"IF(Estemate!P67=\"Contract\",Estemate!O67,0)","v":"00:00:00"},{"$f":"IF(Estemate!P67=\"Contract\",Estemate!M67,0)","v":0},0,0]
[null,"","",null,null,null,null,null,null,0,58,{"$f":"IF(Estemate!P68=\"Contract\",Estemate!B68,0)","v":0},{"$f":"IF(Estemate!P68=\"Contract\",Estemate!G68,0)","v":0},{"$f":"IF(Estemate!P68=\"Contract\",Estemate!C68,0)","v":0},{"$f":"IF(Estemate!P68=\"Contract\",Estemate!L68,0)","v":0},{"$f":"IF(Estemate!P68=\"Contract\",Estemate!N68,0)","v":"00:00:00"},{"$f":"IF(Estemate!P68=\"Contract\",Estemate!O68,0)","v":"00:00:00"},{"$f":"IF(Estemate!P68=\"Contract\",Estemate!M68,0)","v":0},0,0]
[null,"","",null,null,null,null,null,null,0,59,{"$f":"IF(Estemate!P69=\"Contract\",Estemate!B69,0)","v":0},{"$f":"IF(Estemate!P69=\"Contract\",Estemate!G69,0)","v":0},{"$f":"IF(Estemate!P69=\"Contract\",Estemate!C69,0)","v":0},{"$f":"IF(Estemate!P69=\"Contract\",Estemate!L69,0)","v":0},{"$f":"IF(Estemate!P69=\"Contract\",Estemate!N69,0)","v":"00:00:00"},{"$f":"IF(Estemate!P69=\"Contract\",Estemate!O69,0)","v":"00:00:00"},{"$f":"IF(Estemate!P69=\"Contract\",Estemate!M69,0)","v":0},0,0]
[null,"","",null,null,null,null,null,null,0,60,{"$f":"IF(Estemate!P70=\"Contract\",Estemate!B70,0)","v":0},{"$f":"IF(Estemate!P70=\"Contract\",Estemate!G70,0)","v":0},{"$f":"IF(Estemate!P70=\"Contract\",Estemate!C70,0)","v":0},{"$f":"IF(Estemate!P70=\"Contract\",Estemate!L70,0)","v":0},{"$f":"IF(Estemate!P70=\"Contract\",Estemate!N70,0)","v":"00:00:00"},{"$f":"IF(Estemate!P70=\"Contract\",Estemate!O70,0)","v":"00:00:00"},{"$f":"IF(Estemate!P70=\"Contract\",Estemate!M70,0)","v":0},0,0]
[null,"","",null,null,null,null,null,null,0,61,{"$f":"IF(Estemate!P71=\"Contract\",Estemate!B71,0)","v":0},{"$f":"IF(Estemate!P71=\"Contract\",Estemate!G71,0)","v":0},{"$f":"IF(Estemate!P71=\"Contract\",Estemate!C71,0)","v":0},{"$f":"IF(Estemate!P71=\"Contract\",Estemate!L71,0)","v":0},{"$f":"IF(Estemate!P71=\"Contract\",Estemate!N71,0)","v":"00:00:00"},{"$f":"IF(Estemate!P71=\"Contract\",Estemate!O71,0)","v":"00:00:00"},{"$f":"IF(Estemate!P71=\"Contract\",Estemate!M71,0)","v":0},0,0]
[null,"","",null,null,null,null,null,null,0,62,{"$f":"IF(Estemate!P72=\"Contract\",Estemate!B72,0)","v":0},{"$f":"IF(Estemate!P72=\"Contract\",Estemate!G72,0)","v":0},{"$f":"IF(Estemate!P72=\"Contract\",Estemate!C72,0)","v":0},{"$f":"IF(Estemate!P72=\"Contract\",Estemate!L72,0)","v":0},{"$f":"IF(Estemate!P72=\"Contract\",Estemate!N72,0)","v":"00:00:00"},{"$f":"IF(Estemate!P72=\"Contract\",Estemate!O72,0)","v":"00:00:00"},{"$f":"IF(Estemate!P72=\"Contract\",Estemate!M72,0)","v":0},0,0]
[null,"","",null,null,null,null,null,null,0,63,{"$f":"IF(Estemate!P73=\"Contract\",Estemate!B73,0)","v":0},{"$f":"IF(Estemate!P73=\"Contract\",Estemate!G73,0)","v":0},{"$f":"IF(Estemate!P73=\"Contract\",Estemate!C73,0)","v":0},{"$f":"IF(Estemate!P73=\"Contract\",Estemate!L73,0)","v":0},{"$f":"IF(Estemate!P73=\"Contract\",Estemate!N73,0)","v":"00:00:00"},{"$f":"IF(Estemate!P73=\"Contract\",Estemate!O73,0)","v":"00:00:00"},{"$f":"IF(Estemate!P73=\"Contract\",Estemate!M73,0)","v":0},0,0]
[null,"","",null,null,null,null,null,null,0,64,{"$f":"IF(Estemate!P74=\"Contract\",Estemate!B74,0)","v":0},{"$f":"IF(Estemate!P74=\"Contract\",Estemate!G74,0)","v":0},{"$f":"IF(Estemate!P74=\"Contract\",Estemate!C74,0)","v":0},{"$f":"IF(Estemate!P74=\"Contract\",Estemate!L74,0)","v":0},{"$f":"IF(Estemate!P74=\"Contract\",Estemate!N74,0)","v":"00:00:00"},{"$f":"IF(Estemate!P74=\"Contract\",Estemate!O74,0)","v":"00:00:00"},{"$f":"IF(Estemate!P74=\"Contract\",Estemate!M74,0)","v":0},0,0]
[null,"","",null,null,null,null,null,null,0,65,{"$f":"IF(Estemate!P75=\"Contract\",Estemate!B75,0)","v":0},{"$f":"IF(Estemate!P75=\"Contract\",Estemate!G75,0)","v":0},{"$f":"IF(Estemate!P75=\"Contract\",Estemate!C75,0)","v":0},{"$f":"IF(Estemate!P75=\"Contract\",Estemate!L75,0)","v":0},{"$f":"IF(Estemate!P75=\"Contract\",Estemate!N75,0)","v":"00:00:00"},{"$f":"IF(Estemate!P75=\"Contract\",Estemate!O75,0)","v":"00:00:00"},{"$f":"IF(Estemate!P75=\"Contract\",Estemate!M75,0)","v":0},0,0]
[null,"","",null,null,null,null,null,null,{"$f":"H76*12","v":0},66,{"$f":"IF(Estemate!P76=\"Contract\",Estemate!B76,0)","v":0},{"$f":"IF(Estemate!P76=\"Contract\",Estemate!G76,0)","v":0},{"$f":"IF(Estemate!P76=\"Contract\",Estemate!C76,0)","v":0},{"$f":"IF(Estemate!P76=\"Contract\",Estemate!L76,0)","v":0},{"$f":"IF(Estemate!P76=\"Contract\",Estemate!N76,0)","v":"00:00:00"},{"$f":"IF(Estemate!P76=\"Contract\",Estemate!O76,0)","v":"00:00:00"},{"$f":"IF(Estemate!P76=\"Contract\",Estemate!M76,0)","v":0},0,0]
[null,{"$f":"IF(C77=\"\",\"\",B76+1)","v":""},{"$f":"IF(D77=\"\",\"\",I$116)","v":""},null,null,null,null,null,null,0,67,{"$f":"IF(Estemate!P77=\"Contract\",Estemate!B77,0)","v":0},{"$f":"IF(Estemate!P77=\"Contract\",Estemate!G77,0)","v":0},{"$f":"IF(Estemate!P77=\"Contract\",Estemate!C77,0)","v":0},{"$f":"IF(Estemate!P77=\"Contract\",Estemate!L77,0)","v":0},{"$f":"IF(Estemate!P77=\"Contract\",Estemate!N77,0)","v":"00:00:00"},{"$f":"IF(Estemate!P77=\"Contract\",Estemate!O77,0)","v":"00:00:00"},{"$f":"IF(Estemate!P77=\"Contract\",Estemate!M77,0)","v":0},{"$f":"IF(L77=0,0,1)","v":0},{"$f":"T76+S77","v":0}]
[null,"","",null,null,null,null,null,null,0,68,{"$f":"IF(Estemate!P78=\"Contract\",Estemate!B78,0)","v":0},{"$f":"IF(Estemate!P78=\"Contract\",Estemate!G78,0)","v":0},{"$f":"IF(Estemate!P78=\"Contract\",Estemate!C78,0)","v":0},{"$f":"IF(Estemate!P78=\"Contract\",Estemate!L78,0)","v":0},{"$f":"IF(Estemate!P78=\"Contract\",Estemate!N78,0)","v":"00:00:00"},{"$f":"IF(Estemate!P78=\"Contract\",Estemate!O78,0)","v":"00:00:00"},{"$f":"IF(Estemate!P78=\"Contract\",Estemate!M78,0)","v":0},0,0]
[null,"","",null,null,null,null,null,null,0,69,{"$f":"IF(Estemate!P79=\"Contract\",Estemate!B79,0)","v":0},{"$f":"IF(Estemate!P79=\"Contract\",Estemate!G79,0)","v":0},{"$f":"IF(Estemate!P79=\"Contract\",Estemate!C79,0)","v":0},{"$f":"IF(Estemate!P79=\"Contract\",Estemate!L79,0)","v":0},{"$f":"IF(Estemate!P79=\"Contract\",Estemate!N79,0)","v":"00:00:00"},{"$f":"IF(Estemate!P79=\"Contract\",Estemate!O79,0)","v":"00:00:00"},{"$f":"IF(Estemate!P79=\"Contract\",Estemate!M79,0)","v":0},0,0]
[null,"","",null,null,null,null,null,null,0,70,{"$f":"IF(Estemate!P80=\"Contract\",Estemate!B80,0)","v":0},{"$f":"IF(Estemate!P80=\"Contract\",Estemate!G80,0)","v":0},{"$f":"IF(Estemate!P80=\"Contract\",Estemate!C80,0)","v":0},{"$f":"IF(Estemate!P80=\"Contract\",Estemate!L80,0)","v":0},{"$f":"IF(Estemate!P80=\"Contract\",Estemate!N80,0)","v":"00:00:00"},{"$f":"IF(Estemate!P80=\"Contract\",Estemate!O80,0)","v":"00:00:00"},{"$f":"IF(Estemate!P80=\"Contract\",Estemate!M80,0)","v":0},0,0]
[null,"","",null,null,null,null,null,null,0,71,{"$f":"IF(Estemate!P81=\"Contract\",Estemate!B81,0)","v":0},{"$f":"IF(Estemate!P81=\"Contract\",Estemate!G81,0)","v":0},{"$f":"IF(Estemate!P81=\"Contract\",Estemate!C81,0)","v":0},{"$f":"IF(Estemate!P81=\"Contract\",Estemate!L81,0)","v":0},{"$f":"IF(Estemate!P81=\"Contract\",Estemate!N81,0)","v":"00:00:00"},{"$f":"IF(Estemate!P81=\"Contract\",Estemate!O81,0)","v":"00:00:00"},{"$f":"IF(Estemate!P81=\"Contract\",Estemate!M81,0)","v":0},0,0]
[null,"","",null,null,null,null,null,null,0,72,{"$f":"IF(Estemate!P82=\"Contract\",Estemate!B82,0)","v":0},{"$f":"IF(Estemate!P82=\"Contract\",Estemate!G82,0)","v":0},{"$f":"IF(Estemate!P82=\"Contract\",Estemate!C82,0)","v":0},{"$f":"IF(Estemate!P82=\"Contract\",Estemate!L82,0)","v":0},{"$f":"IF(Estemate!P82=\"Contract\",Estemate!N82,0)","v":"00:00:00"},{"$f":"IF(Estemate!P82=\"Contract\",Estemate!O82,0)","v":"00:00:00"},{"$f":"IF(Estemate!P82=\"Contract\",Estemate!M82,0)","v":0},0,0]
[null,"","",null,null,null,null,null,null,0,73,{"$f":"IF(Estemate!P83=\"Contract\",Estemate!B83,0)","v":0},{"$f":"IF(Estemate!P83=\"Contract\",Estemate!G83,0)","v":0},{"$f":"IF(Estemate!P83=\"Contract\",Estemate!C83,0)","v":0},{"$f":"IF(Estemate!P83=\"Contract\",Estemate!L83,0)","v":0},{"$f":"IF(Estemate!P83=\"Contract\",Estemate!N83,0)","v":"00:00:00"},{"$f":"IF(Estemate!P83=\"Contract\",Estemate!O83,0)","v":"00:00:00"},{"$f":"IF(Estemate!P83=\"Contract\",Estemate!M83,0)","v":0},0,0]
[null,"","",null,null,null,null,null,null,0,74,{"$f":"IF(Estemate!P84=\"Contract\",Estemate!B84,0)","v":0},{"$f":"IF(Estemate!P84=\"Contract\",Estemate!G84,0)","v":0},{"$f":"IF(Estemate!P84=\"Contract\",Estemate!C84,0)","v":0},{"$f":"IF(Estemate!P84=\"Contract\",Estemate!L84,0)","v":0},{"$f":"IF(Estemate!P84=\"Contract\",Estemate!N84,0)","v":"00:00:00"},{"$f":"IF(Estemate!P84=\"Contract\",Estemate!O84,0)","v":"00:00:00"},{"$f":"IF(Estemate!P84=\"Contract\",Estemate!M84,0)","v":0},0,0]
[null,"","",null,null,null,null,null,null,0,75,{"$f":"IF(Estemate!P85=\"Contract\",Estemate!B85,0)","v":0},{"$f":"IF(Estemate!P85=\"Contract\",Estemate!G85,0)","v":0},{"$f":"IF(Estemate!P85=\"Contract\",Estemate!C85,0)","v":0},{"$f":"IF(Estemate!P85=\"Contract\",Estemate!L85,0)","v":0},{"$f":"IF(Estemate!P85=\"Contract\",Estemate!N85,0)","v":"00:00:00"},{"$f":"IF(Estemate!P85=\"Contract\",Estemate!O85,0)","v":"00:00:00"},{"$f":"IF(Estemate!P85=\"Contract\",Estemate!M85,0)","v":0},0,0]
[null,"","",null,null,null,null,null,null,0,76,{"$f":"IF(Estemate!P86=\"Contract\",Estemate!B86,0)","v":0},{"$f":"IF(Estemate!P86=\"Contract\",Estemate!G86,0)","v":0},{"$f":"IF(Estemate!P86=\"Contract\",Estemate!C86,0)","v":0},{"$f":"IF(Estemate!P86=\"Contract\",Estemate!L86,0)","v":0},{"$f":"IF(Estemate!P86=\"Contract\",Estemate!N86,0)","v":"00:00:00"},{"$f":"IF(Estemate!P86=\"Contract\",Estemate!O86,0)","v":"00:00:00"},{"$f":"IF(Estemate!P86=\"Contract\",Estemate!M86,0)","v":0},0,0]
[null,"","",null,null,null,null,null,null,0,77,{"$f":"IF(Estemate!P87=\"Contract\",Estemate!B87,0)","v":0},{"$f":"IF(Estemate!P87=\"Contract\",Estemate!G87,0)","v":0},{"$f":"IF(Estemate!P87=\"Contract\",Estemate!C87,0)","v":0},{"$f":"IF(Estemate!P87=\"Contract\",Estemate!L87,0)","v":0},{"$f":"IF(Estemate!P87=\"Contract\",Estemate!N87,0)","v":"00:00:00"},{"$f":"IF(Estemate!P87=\"Contract\",Estemate!O87,0)","v":"00:00:00"},{"$f":"IF(Estemate!P87=\"Contract\",Estemate!M87,0)","v":0},0,0]
[null,"","",null,null,null,null,null,null,0,78,{"$f":"IF(Estemate!P88=\"Contract\",Estemate!B88,0)","v":0},{"$f":"IF(Estemate!P88=\"Contract\",Estemate!G88,0)","v":0},{"$f":"IF(Estemate!P88=\"Contract\",Estemate!C88,0)","v":0},{"$f":"IF(Estemate!P88=\"Contract\",Estemate!L88,0)","v":0},{"$f":"IF(Estemate!P88=\"Contract\",Estemate!N88,0)","v":"00:00:00"},{"$f":"IF(Estemate!P88=\"Contract\",Estemate!O88,0)","v":"00:00:00"},{"$f":"IF(Estemate!P88=\"Contract\",Estemate!M88,0)","v":0},0,0]
[null,"","",null,null,null,null,null,null,0,79,{"$f":"IF(Estemate!P89=\"Contract\",Estemate!B89,0)","v":0},{"$f":"IF(Estemate!P89=\"Contract\",Estemate!G89,0)","v":0},{"$f":"IF(Estemate!P89=\"Contract\",Estemate!C89,0)","v":0},{"$f":"IF(Estemate!P89=\"Contract\",Estemate!L89,0)","v":0},{"$f":"IF(Estemate!P89=\"Contract\",Estemate!N89,0)","v":"00:00:00"},{"$f":"IF(Estemate!P89=\"Contract\",Estemate!O89,0)","v":"00:00:00"},{"$f":"IF(Estemate!P89=\"Contract\",Estemate!M89,0)","v":0},0,0]
[null,"","",null,null,null,null,null,null,0,80,{"$f":"IF(Estemate!P90=\"Contract\",Estemate!B90,0)","v":0},{"$f":"IF(Estemate!P90=\"Contract\",Estemate!G90,0)","v":0},{"$f":"IF(Estemate!P90=\"Contract\",Estemate!C90,0)","v":0},{"$f":"IF(Estemate!P90=\"Contract\",Estemate!L90,0)","v":0},{"$f":"IF(Estemate!P90=\"Contract\",Estemate!N90,0)","v":"00:00:00"},{"$f":"IF(Estemate!P90=\"Contract\",Estemate!O90,0)","v":"00:00:00"},{"$f":"IF(Estemate!P90=\"Contract\",Estemate!M90,0)","v":0},0,0]
[null,"","",null,null,null,null,null,null,0,81,{"$f":"IF(Estemate!P91=\"Contract\",Estemate!B91,0)","v":0},{"$f":"IF(Estemate!P91=\"Contract\",Estemate!G91,0)","v":0},{"$f":"IF(Estemate!P91=\"Contract\",Estemate!C91,0)","v":0},{"$f":"IF(Estemate!P91=\"Contract\",Estemate!L91,0)","v":0},{"$f":"IF(Estemate!P91=\"Contract\",Estemate!N91,0)","v":"00:00:00"},{"$f":"IF(Estemate!P91=\"Contract\",Estemate!O91,0)","v":"00:00:00"},{"$f":"IF(Estemate!P91=\"Contract\",Estemate!M91,0)","v":0},0,0]
[null,"","",null,null,null,null,null,null,0,82,{"$f":"IF(Estemate!P92=\"Contract\",Estemate!B92,0)","v":0},{"$f":"IF(Estemate!P92=\"Contract\",Estemate!G92,0)","v":0},{"$f":"IF(Estemate!P92=\"Contract\",Estemate!C92,0)","v":0},{"$f":"IF(Estemate!P92=\"Contract\",Estemate!L92,0)","v":0},{"$f":"IF(Estemate!P92=\"Contract\",Estemate!N92,0)","v":"00:00:00"},{"$f":"IF(Estemate!P92=\"Contract\",Estemate!O92,0)","v":"00:00:00"},{"$f":"IF(Estemate!P92=\"Contract\",Estemate!M92,0)","v":0},0,0]
[null,"","",null,null,null,null,null,null,0,83,{"$f":"IF(Estemate!P93=\"Contract\",Estemate!B93,0)","v":0},{"$f":"IF(Estemate!P93=\"Contract\",Estemate!G93,0)","v":0},{"$f":"IF(Estemate!P93=\"Contract\",Estemate!C93,0)","v":0},{"$f":"IF(Estemate!P93=\"Contract\",Estemate!L93,0)","v":0},{"$f":"IF(Estemate!P93=\"Contract\",Estemate!N93,0)","v":"00:00:00"},{"$f":"IF(Estemate!P93=\"Contract\",Estemate!O93,0)","v":"00:00:00"},{"$f":"IF(Estemate!P93=\"Contract\",Estemate!M93,0)","v":0},0,0]
[null,"","",null,null,null,null,null,null,0,84,{"$f":"IF(Estemate!P94=\"Contract\",Estemate!B94,0)","v":0},{"$f":"IF(Estemate!P94=\"Contract\",Estemate!G94,0)","v":0},{"$f":"IF(Estemate!P94=\"Contract\",Estemate!C94,0)","v":0},{"$f":"IF(Estemate!P94=\"Contract\",Estemate!L94,0)","v":0},{"$f":"IF(Estemate!P94=\"Contract\",Estemate!N94,0)","v":"00:00:00"},{"$f":"IF(Estemate!P94=\"Contract\",Estemate!O94,0)","v":"00:00:00"},{"$f":"IF(Estemate!P94=\"Contract\",Estemate!M94,0)","v":0},0,0]
[null,"","",null,null,null,null,null,null,0,85,{"$f":"IF(Estemate!P95=\"Contract\",Estemate!B95,0)","v":0},{"$f":"IF(Estemate!P95=\"Contract\",Estemate!G95,0)","v":0},{"$f":"IF(Estemate!P95=\"Contract\",Estemate!C95,0)","v":0},{"$f":"IF(Estemate!P95=\"Contract\",Estemate!L95,0)","v":0},{"$f":"IF(Estemate!P95=\"Contract\",Estemate!N95,0)","v":"00:00:00"},{"$f":"IF(Estemate!P95=\"Contract\",Estemate!O95,0)","v":"00:00:00"},{"$f":"IF(Estemate!P95=\"Contract\",Estemate!M95,0)","v":0},0,0]
[null,"","",null,null,null,null,null,null,0,86,{"$f":"IF(Estemate!P96=\"Contract\",Estemate!B96,0)","v":0},{"$f":"IF(Estemate!P96=\"Contract\",Estemate!G96,0)","v":0},{"$f":"IF(Estemate!P96=\"Contract\",Estemate!C96,0)","v":0},{"$f":"IF(Estemate!P96=\"Contract\",Estemate!L96,0)","v":0},{"$f":"IF(Estemate!P96=\"Contract\",Estemate!N96,0)","v":"00:00:00"},{"$f":"IF(Estemate!P96=\"Contract\",Estemate!O96,0)","v":"00:00:00"},{"$f":"IF(Estemate!P96=\"Contract\",Estemate!M96,0)","v":0},0,0]
[null,"","",null,null,null,null,null,null,0,87,{"$f":"IF(Estemate!P97=\"Contract\",Estemate!B97,0)","v":0},{"$f":"IF(Estemate!P97=\"Contract\",Estemate!G97,0)","v":0},{"$f":"IF(Estemate!P97=\"Contract\",Estemate!C97,0)","v":0},{"$f":"IF(Estemate!P97=\"Contract\",Estemate!L97,0)","v":0},{"$f":"IF(Estemate!P97=\"Contract\",Estemate!N97,0)","v":"00:00:00"},{"$f":"IF(Estemate!P97=\"Contract\",Estemate!O97,0)","v":"00:00:00"},{"$f":"IF(Estemate!P97=\"Contract\",Estemate!M97,0)","v":0},0,0]
[null,"","",null,null,null,null,null,null,0,88,{"$f":"IF(Estemate!P98=\"Contract\",Estemate!B98,0)","v":0},{"$f":"IF(Estemate!P98=\"Contract\",Estemate!G98,0)","v":0},{"$f":"IF(Estemate!P98=\"Contract\",Estemate!C98,0)","v":0},{"$f":"IF(Estemate!P98=\"Contract\",Estemate!L98,0)","v":0},{"$f":"IF(Estemate!P98=\"Contract\",Estemate!N98,0)","v":"00:00:00"},{"$f":"IF(Estemate!P98=\"Contract\",Estemate!O98,0)","v":"00:00:00"},{"$f":"IF(Estemate!P98=\"Contract\",Estemate!M98,0)","v":0},0,0]
[null,"","",null,null,null,null,null,null,0,89,{"$f":"IF(Estemate!P99=\"Contract\",Estemate!B99,0)","v":0},{"$f":"IF(Estemate!P99=\"Contract\",Estemate!G99,0)","v":0},{"$f":"IF(Estemate!P99=\"Contract\",Estemate!C99,0)","v":0},{"$f":"IF(Estemate!P99=\"Contract\",Estemate!L99,0)","v":0},{"$f":"IF(Estemate!P99=\"Contract\",Estemate!N99,0)","v":"00:00:00"},{"$f":"IF(Estemate!P99=\"Contract\",Estemate!O99,0)","v":"00:00:00"},{"$f":"IF(Estemate!P99=\"Contract\",Estemate!M99,0)","v":0},0,0]
[null,"","",null,null,null,null,null,null,0,90,{"$f":"IF(Estemate!P100=\"Contract\",Estemate!B100,0)","v":0},{"$f":"IF(Estemate!P100=\"Contract\",Estemate!G100,0)","v":0},{"$f":"IF(Estemate!P100=\"Contract\",Estemate!C100,0)","v":0},{"$f":"IF(Estemate!P100=\"Contract\",Estemate!L100,0)","v":0},{"$f":"IF(Estemate!P100=\"Contract\",Estemate!N100,0)","v":"00:00:00"},{"$f":"IF(Estemate!P100=\"Contract\",Estemate!O100,0)","v":"00:00:00"},{"$f":"IF(Estemate!P100=\"Contract\",Estemate!M100,0)","v":0},0,0]
[null,"","",null,null,null,null,null,null,0,91,{"$f":"IF(Estemate!P101=\"Contract\",Estemate!B101,0)","v":0},{"$f":"IF(Estemate!P101=\"Contract\",Estemate!G101,0)","v":0},{"$f":"IF(Estemate!P101=\"Contract\",Estemate!C101,0)","v":0},{"$f":"IF(Estemate!P101=\"Contract\",Estemate!L101,0)","v":0},{"$f":"IF(Estemate!P101=\"Contract\",Estemate!N101,0)","v":"00:00:00"},{"$f":"IF(Estemate!P101=\"Contract\",Estemate!O101,0)","v":"00:00:00"},{"$f":"IF(Estemate!P101=\"Contract\",Estemate!M101,0)","v":0},0,0]
[null,"","",null,null,null,null,null,null,0,92,{"$f":"IF(Estemate!P102=\"Contract\",Estemate!B102,0)","v":0},{"$f":"IF(Estemate!P102=\"Contract\",Estemate!G102,0)","v":0},{"$f":"IF(Estemate!P102=\"Contract\",Estemate!C102,0)","v":0},{"$f":"IF(Estemate!P102=\"Contract\",Estemate!L102,0)","v":0},{"$f":"IF(Estemate!P102=\"Contract\",Estemate!N102,0)","v":"00:00:00"},{"$f":"IF(Estemate!P102=\"Contract\",Estemate!O102,0)","v":"00:00:00"},{"$f":"IF(Estemate!P102=\"Contract\",Estemate!M102,0)","v":0},0,0]
[null,"","",null,null,null,null,null,null,0,93,{"$f":"IF(Estemate!P103=\"Contract\",Estemate!B103,0)","v":0},{"$f":"IF(Estemate!P103=\"Contract\",Estemate!G103,0)","v":0},{"$f":"IF(Estemate!P103=\"Contract\",Estemate!C103,0)","v":0},{"$f":"IF(Estemate!P103=\"Contract\",Estemate!L103,0)","v":0},{"$f":"IF(Estemate!P103=\"Contract\",Estemate!N103,0)","v":"00:00:00"},{"$f":"IF(Estemate!P103=\"Contract\",Estemate!O103,0)","v":"00:00:00"},{"$f":"IF(Estemate!P103=\"Contract\",Estemate!M103,0)","v":0},0,0]
[null,"","",null,null,null,null,null,null,0,94,{"$f":"IF(Estemate!P104=\"Contract\",Estemate!B104,0)","v":0},{"$f":"IF(Estemate!P104=\"Contract\",Estemate!G104,0)","v":0},{"$f":"IF(Estemate!P104=\"Contract\",Estemate!C104,0)","v":0},{"$f":"IF(Estemate!P104=\"Contract\",Estemate!L104,0)","v":0},{"$f":"IF(Estemate!P104=\"Contract\",Estemate!N104,0)","v":"00:00:00"},{"$f":"IF(Estemate!P104=\"Contract\",Estemate!O104,0)","v":"00:00:00"},{"$f":"IF(Estemate!P104=\"Contract\",Estemate!M104,0)","v":0},0,0]
[null,"","",null,null,null,null,null,null,0,95,{"$f":"IF(Estemate!P105=\"Contract\",Estemate!B105,0)","v":0},{"$f":"IF(Estemate!P105=\"Contract\",Estemate!G105,0)","v":0},{"$f":"IF(Estemate!P105=\"Contract\",Estemate!C105,0)","v":0},{"$f":"IF(Estemate!P105=\"Contract\",Estemate!L105,0)","v":0},{"$f":"IF(Estemate!P105=\"Contract\",Estemate!N105,0)","v":"00:00:00"},{"$f":"IF(Estemate!P105=\"Contract\",Estemate!O105,0)","v":"00:00:00"},{"$f":"IF(Estemate!P105=\"Contract\",Estemate!M105,0)","v":0},0,0]
[null,"","",null,null,null,null,null,null,0,96,{"$f":"IF(Estemate!P106=\"Contract\",Estemate!B106,0)","v":0},{"$f":"IF(Estemate!P106=\"Contract\",Estemate!G106,0)","v":0},{"$f":"IF(Estemate!P106=\"Contract\",Estemate!C106,0)","v":0},{"$f":"IF(Estemate!P106=\"Contract\",Estemate!L106,0)","v":0},{"$f":"IF(Estemate!P106=\"Contract\",Estemate!N106,0)","v":"00:00:00"},{"$f":"IF(Estemate!P106=\"Contract\",Estemate!O106,0)","v":"00:00:00"},{"$f":"IF(Estemate!P106=\"Contract\",Estemate!M106,0)","v":0},0,0]
[null,"","",null,null,null,null,null,null,0,97,{"$f":"IF(Estemate!P107=\"Contract\",Estemate!B107,0)","v":0},{"$f":"IF(Estemate!P107=\"Contract\",Estemate!G107,0)","v":0},{"$f":"IF(Estemate!P107=\"Contract\",Estemate!C107,0)","v":0},{"$f":"IF(Estemate!P107=\"Contract\",Estemate!L107,0)","v":0},{"$f":"IF(Estemate!P107=\"Contract\",Estemate!N107,0)","v":"00:00:00"},{"$f":"IF(Estemate!P107=\"Contract\",Estemate!O107,0)","v":"00:00:00"},{"$f":"IF(Estemate!P107=\"Contract\",Estemate!M107,0)","v":0},0,0]
[null,"","",null,null,null,null,null,null,0,98,{"$f":"IF(Estemate!P108=\"Contract\",Estemate!B108,0)","v":0},{"$f":"IF(Estemate!P108=\"Contract\",Estemate!G108,0)","v":0},{"$f":"IF(Estemate!P108=\"Contract\",Estemate!C108,0)","v":0},{"$f":"IF(Estemate!P108=\"Contract\",Estemate!L108,0)","v":0},{"$f":"IF(Estemate!P108=\"Contract\",Estemate!N108,0)","v":"00:00:00"},{"$f":"IF(Estemate!P108=\"Contract\",Estemate!O108,0)","v":"00:00:00"},{"$f":"IF(Estemate!P108=\"Contract\",Estemate!M108,0)","v":0},0,0]
[null,"","",null,null,null,null,null,null,0,99,{"$f":"IF(Estemate!P109=\"Contract\",Estemate!B109,0)","v":0},{"$f":"IF(Estemate!P109=\"Contract\",Estemate!G109,0)","v":0},{"$f":"IF(Estemate!P109=\"Contract\",Estemate!C109,0)","v":0},{"$f":"IF(Estemate!P109=\"Contract\",Estemate!L109,0)","v":0},{"$f":"IF(Estemate!P109=\"Contract\",Estemate!N109,0)","v":"00:00:00"},{"$f":"IF(Estemate!P109=\"Contract\",Estemate!O109,0)","v":"00:00:00"},{"$f":"IF(Estemate!P109=\"Contract\",Estemate!M109,0)","v":0},0,0]
[null,"","",null,null,null,null,null,null,0,100,{"$f":"IF(Estemate!P110=\"Contract\",Estemate!B110,0)","v":0},{"$f":"IF(Estemate!P110=\"Contract\",Estemate!G110,0)","v":0},{"$f":"IF(Estemate!P110=\"Contract\",Estemate!C110,0)","v":0},{"$f":"IF(Estemate!P110=\"Contract\",Estemate!L110,0)","v":0},{"$f":"IF(Estemate!P110=\"Contract\",Estemate!N110,0)","v":"00:00:00"},{"$f":"IF(Estemate!P110=\"Contract\",Estemate!O110,0)","v":"00:00:00"},{"$f":"IF(Estemate!P110=\"Contract\",Estemate!M110,0)","v":0},0,0]
[null,"Total",null,null,null,null,null,null,null,{"$f":"SUM(J11:J110)","v":0}]
[null,"."]
[null,".",null,null,null,null,null,null,{"$f":"Database!N38","v":"प्रधानाचार्य"}]
[null,".",null,null,null,null,null,null,{"$f":"Database!N39","v":"jktdh; mPp ek/;fed fo|ky;"}]
[null,".",null,null,null,null,null,null,{"$f":"Database!N40","v":"pkSxkbZa] Vksad"}]
[null,".",null,null,null,null,null,null,{"$f":"Database!N41","v":27306}]

{"sheet":"Nirwah Bhatta","index":10,"n_rows":116,"n_cols":20,"rows_kept":116,"cut":false,"hidden":true,"merged":[[7,3,7,4],[0,1,0,2],[0,3,0,9],[1,1,1,9],[2,1,2,2],[2,8,2,9],[3,8,3,9]]}
[null,{"$f":"Database!B1","v":"dk;kZy;&"},null,{"$f":"Database!F1","v":"jktdh; mPp ek/;fed fo|ky;&pkSxkbZa] Vksad"}]
[null,"fuyafcr dkfeZdksa ds fuokZg HkRrksa dk fooj.k"]
[null,{"$f":"Database!B3","v":"eq[; ys[kk 'kh\"kZ&"},null,{"$f":"Database!B4","v":2202},{"$f":"Database!C4","v":"lkekU; f'k{kk"},null,null,null,{"$f":"Database!H4","v":"MhMhvks dksM&"}]
[null,null,null,{"$f":"Database!B5","v":2},{"$f":"Database!C5","v":"ek/;fed f'k{kk"},null,null,null,{"$f":"Database!H5","v":27306}]
[null,null,null,{"$f":"Database!B6","v":109},{"$f":"Database!C6","v":"jktdh; mPp ek/;fed fo|ky;"}]
[null,null,null,{"$f":"Database!B7","v":1},{"$f":"Database!C7","v":"yMdksa ds fo|ky;"}]
[null,null,null,{"$f":"Database!B8","v":0},{"$f":"Database!C8","v":"lkekU; O;;"}]
[null,null,null,{"$f":"Database!F8","v":"Ldhe dk uke&"},null,{"$f":"Database!H8","v":"राज्य निधि"}]
[null,"Ø-la-","DDO Code","uke dkfeZd","in uke","ysoy bu is esfVªd","tUe frfFk","fu;qfä frfFk","ekfld fuokZg HkRrk","12 ekg dk fuokZg HkRrk","dz0la0","MhMhvks dksM","uke dkfeZd","inuke","is ysoy","tUe frfFk","fu;qfDr frfFk","ekfld ekuns;"]
[null,1,2,3,4,5,6,7,8,9]
[{"$f":"IF(Estemate!P11=\"Suspand\",Estemate!A11,\"\")","v":""},{"$f":"IF(C11=\"\",\"\",T11)","v":""},{"$f":"IF(ISNA(VLOOKUP(A11,K$11:R$110,2,FALSE)),\"\",VLOOKUP(A11,K$11:R$110,2,FALSE))","v":""},{"$f":"IF(ISNA(VLOOKUP(A11,K$11:R$110,3,FALSE)),\"\",VLOOKUP(A11,K$11:R$110,3,FALSE))","v":""},{"$f":"IF(ISNA(VLOOKUP(A11,K$11:R$110,4,FALSE)),\"\",VLOOKUP(A11,K$11:R$110,4,FALSE))","v":""},{"$f":"IF(ISNA(VLOOKUP(A11,K$11:R$110,5,FALSE)),\"\",VLOOKUP(A11,K$11:R$110,5,FALSE))","v":""},{"$f":"IF(ISNA(VLOOKUP(A11,K$11:R$110,6,FALSE)),\"\",VLOOKUP(A11,K$11:R$110,6,FALSE))","v":""},{"$f":"IF(ISNA(VLOOKUP(A11,K$11:R$110,7,FALSE)),\"\",VLOOKUP(A11,K$11:R$110,7,FALSE))","v":""},{"$f":"IF(ISNA(VLOOKUP(A11,K$11:R$110,8,FALSE)),\"\",VLOOKUP(A11,K$11:R$110,8,FALSE))","v":""},{"$f":"IF(I11=\"\",\"\",I11*12)","v":""},1,{"$f":"IF(Estemate!P11=\"Suspand\",Estemate!B11,0)","v":0},{"$f":"IF(Estemate!P11=\"Suspand\",Estemate!G11,0)","v":0},{"$f":"IF(Estemate!P11=\"Suspand\",Estemate!C11,0)","v":0},{"$f":"IF(Estemate!P11=\"Suspand\",Estemate!L11,0)","v":0},{"$f":"IF(Estemate!P11=\"Suspand\",Estemate!N11,0)","v":"00:00:00"},{"$f":"IF(Estemate!P11=\"Suspand\",Estemate!O11,0)","v":"00:00:00"},{"$f":"IF(Estemate!P11=\"Suspand\",Estemate!M11,0)","v":0},{"$f":"IF(L11=0,0,1)","v":0},{"$f":"S11","v":0}]
[{"$f":"IF(Estemate!P12=\"Suspand\",Estemate!A12,\"\")","v":""},{"$f":"IF(C12=\"\",\"\",T12)","v":""},{"$f":"IF(ISNA(VLOOKUP(A12,K$11:R$110,2,FALSE)),\"\",VLOOKUP(A12,K$11:R$110,2,FALSE))","v":""},{"$f":"IF(ISNA(VLOOKUP(A12,K$11:R$110,3,FALSE)),\"\",VLOOKUP(A12,K$11:R$110,3,FALSE))","v":""},{"$f":"IF(ISNA(VLOOKUP(A12,K$11:R$110,4,FALSE)),\"\",VLOOKUP(A12,K$11:R$110,4,FALSE))","v":""},{"$f":"IF(ISNA(VLOOKUP(A12,K$11:R$110,5,FALSE)),\"\",VLOOKUP(A12,K$11:R$110,5,FALSE))","v":""},{"$f":"IF(ISNA(VLOOKUP(A12,K$11:R$110,6,FALSE)),\"\",VLOOKUP(A12,K$11:R$110,6,FALSE))","v":""},{"$f":"IF(ISNA(VLOOKUP(A12,K$11:R$110,7,FALSE)),\"\",VLOOKUP(A12,K$11:R$110,7,FALSE))","v":""},{"$f":"IF(ISNA(VLOOKUP(A12,K$11:R$110,8,FALSE)),\"\",VLOOKUP(A12,K$11:R$110,8,FALSE))","v":""},{"$f":"IF(I12=\"\",\"\",I12*12)","v":""},2,{"$f":"IF(Estemate!P12=\"Suspand\",Estemate!B12,0)","v":0},{"$f":"IF(Estemate!P12=\"Suspand\",Estemate!G12,0)","v":0},{"$f":"IF(Estemate!P12=\"Suspand\",Estemate!C12,0)","v":0},{"$f":"IF(Estemate!P12=\"Suspand\",Estemate!L12,0)","v":0},{"$f":"IF(Estemate!P12=\"Suspand\",Estemate!N12,0)","v":"00:00:00"},{"$f":"IF(Estemate!P12=\"Suspand\",Estemate!O12,0)","v":"00:00:00"},{"$f":"IF(Estemate!P12=\"Suspand\",Estemate!M12,0)","v":0},{"$f":"IF(L12=0,0,1)","v":0},{"$f":"T11+S12","v":0}]
[{"$f":"IF(Estemate!P13=\"Suspand\",Estemate!A13,\"\")","v":""},"","","","","","",{"$f":"IF(ISNA(VLOOKUP(A13,K$11:R$110,7,FALSE)),\"\",VLOOKUP(A13,K$11:R$110,7,FALSE))","v":""},"","",3,{"$f":"IF(Estemate!P13=\"Suspand\",Estemate!B13,0)","v":0},{"$f":"IF(Estemate!P13=\"Suspand\",Estemate!G13,0)","v":0},{"$f":"IF(Estemate!P13=\"Suspand\",Estemate!C13,0)","v":0},{"$f":"IF(Estemate!P13=\"Suspand\",Estemate!L13,0)","v":0},{"$f":"IF(Estemate!P13=\"Suspand\",Estemate!N13,0)","v":"00:00:00"},{"$f":"IF(Estemate!P13=\"Suspand\",Estemate!O13,0)","v":"00:00:00"},{"$f":"IF(Estemate!P13=\"Suspand\",Estemate!M13,0)","v":0},{"$f":"IF(L13=0,0,1)","v":0},{"$f":"T12+S13","v":0}]
[{"$f":"IF(Estemate!P14=\"Suspand\",Estemate!A14,\"\")","v":""},"","","","","","","","","",4,{"$f":"IF(Estemate!P14=\"Suspand\",Estemate!B14,0)","v":0},{"$f":"IF(Estemate!P14=\"Suspand\",Estemate!G14,0)","v":0},{"$f":"IF(Estemate!P14=\"Suspand\",Estemate!C14,0)","v":0},{"$f":"IF(Estemate!P14=\"Suspand\",Estemate!L14,0)","v":0},{"$f":"IF(Estemate!P14=\"Suspand\",Estemate!N14,0)","v":"00:00:00"},{"$f":"IF(Estemate!P14=\"Suspand\",Estemate!O14,0)","v":"00:00:00"},{"$f":"IF(Estemate!P14=\"Suspand\",Estemate!M14,0)","v":0},0,0]
[{"$f":"IF(Estemate!P15=\"Suspand\",Estemate!A15,\"\")","v":""},"","","","","","","","","",5,{"$f":"IF(Estemate!P15=\"Suspand\",Estemate!B15,0)","v":0},{"$f":"IF(Estemate!P15=\"Suspand\",Estemate!G15,0)","v":0},{"$f":"IF(Estemate!P15=\"Suspand\",Estemate!C15,0)","v":0},{"$f":"IF(Estemate!P15=\"Suspand\",Estemate!L15,0)","v":0},{"$f":"IF(Estemate!P15=\"Suspand\",Estemate!N15,0)","v":"00:00:00"},{"$f":"IF(Estemate!P15=\"Suspand\",Estemate!O15,0)","v":"00:00:00"},{"$f":"IF(Estemate!P15=\"Suspand\",Estemate!M15,0)","v":0},0,0]
[{"$f":"IF(Estemate!P16=\"Suspand\",Estemate!A16,\"\")","v":""},"","","","","","","","","",6,{"$f":"IF(Estemate!P16=\"Suspand\",Estemate!B16,0)","v":0},{"$f":"IF(Estemate!P16=\"Suspand\",Estemate!G16,0)","v":0},{"$f":"IF(Estemate!P16=\"Suspand\",Estemate!C16,0)","v":0},{"$f":"IF(Estemate!P16=\"Suspand\",Estemate!L16,0)","v":0},{"$f":"IF(Estemate!P16=\"Suspand\",Estemate!N16,0)","v":"00:00:00"},{"$f":"IF(Estemate!P16=\"Suspand\",Estemate!O16,0)","v":"00:00:00"},{"$f":"IF(Estemate!P16=\"Suspand\",Estemate!M16,0)","v":0},0,0]
[{"$f":"IF(Estemate!P17=\"Suspand\",Estemate!A17,\"\")","v":""},"","","","","","","","","",7,{"$f":"IF(Estemate!P17=\"Suspand\",Estemate!B17,0)","v":0},{"$f":"IF(Estemate!P17=\"Suspand\",Estemate!G17,0)","v":0},{"$f":"IF(Estemate!P17=\"Suspand\",Estemate!C17,0)","v":0},{"$f":"IF(Estemate!P17=\"Suspand\",Estemate!L17,0)","v":0},{"$f":"IF(Estemate!P17=\"Suspand\",Estemate!N17,0)","v":"00:00:00"},{"$f":"IF(Estemate!P17=\"Suspand\",Estemate!O17,0)","v":"00:00:00"},{"$f":"IF(Estemate!P17=\"Suspand\",Estemate!M17,0)","v":0},0,0]
[{"$f":"IF(Estemate!P18=\"Suspand\",Estemate!A18,\"\")","v":""},"","","","","","","","","",8,{"$f":"IF(Estemate!P18=\"Suspand\",Estemate!B18,0)","v":0},{"$f":"IF(Estemate!P18=\"Suspand\",Estemate!G18,0)","v":0},{"$f":"IF(Estemate!P18=\"Suspand\",Estemate!C18,0)","v":0},{"$f":"IF(Estemate!P18=\"Suspand\",Estemate!L18,0)","v":0},{"$f":"IF(Estemate!P18=\"Suspand\",Estemate!N18,0)","v":"00:00:00"},{"$f":"IF(Estemate!P18=\"Suspand\",Estemate!O18,0)","v":"00:00:00"},{"$f":"IF(Estemate!P18=\"Suspand\",Estemate!M18,0)","v":0},0,0]
[{"$f":"IF(Estemate!P19=\"Suspand\",Estemate!A19,\"\")","v":""},"","","","","","","","","",9,{"$f":"IF(Estemate!P19=\"Suspand\",Estemate!B19,0)","v":0},{"$f":"IF(Estemate!P19=\"Suspand\",Estemate!G19,0)","v":0},{"$f":"IF(Estemate!P19=\"Suspand\",Estemate!C19,0)","v":0},{"$f":"IF(Estemate!P19=\"Suspand\",Estemate!L19,0)","v":0},{"$f":"IF(Estemate!P19=\"Suspand\",Estemate!N19,0)","v":"00:00:00"},{"$f":"IF(Estemate!P19=\"Suspand\",Estemate!O19,0)","v":"00:00:00"},{"$f":"IF(Estemate!P19=\"Suspand\",Estemate!M19,0)","v":0},0,0]
[{"$f":"IF(Estemate!P20=\"Suspand\",Estemate!A20,\"\")","v":""},"","","","","","","","","",10,{"$f":"IF(Estemate!P20=\"Suspand\",Estemate!B20,0)","v":0},{"$f":"IF(Estemate!P20=\"Suspand\",Estemate!G20,0)","v":0},{"$f":"IF(Estemate!P20=\"Suspand\",Estemate!C20,0)","v":0},{"$f":"IF(Estemate!P20=\"Suspand\",Estemate!L20,0)","v":0},{"$f":"IF(Estemate!P20=\"Suspand\",Estemate!N20,0)","v":"00:00:00"},{"$f":"IF(Estemate!P20=\"Suspand\",Estemate!O20,0)","v":"00:00:00"},{"$f":"IF(Estemate!P20=\"Suspand\",Estemate!M20,0)","v":0},0,0]
[{"$f":"IF(Estemate!P21=\"Suspand\",Estemate!A21,\"\")","v":""},"","","","","","","","","",11,{"$f":"IF(Estemate!P21=\"Suspand\",Estemate!B21,0)","v":0},{"$f":"IF(Estemate!P21=\"Suspand\",Estemate!G21,0)","v":0},{"$f":"IF(Estemate!P21=\"Suspand\",Estemate!C21,0)","v":0},{"$f":"IF(Estemate!P21=\"Suspand\",Estemate!L21,0)","v":0},{"$f":"IF(Estemate!P21=\"Suspand\",Estemate!N21,0)","v":"00:00:00"},{"$f":"IF(Estemate!P21=\"Suspand\",Estemate!O21,0)","v":"00:00:00"},{"$f":"IF(Estemate!P21=\"Suspand\",Estemate!M21,0)","v":0},0,0]
[{"$f":"IF(Estemate!P22=\"Suspand\",Estemate!A22,\"\")","v":""},"","","","","","","","","",12,{"$f":"IF(Estemate!P22=\"Suspand\",Estemate!B22,0)","v":0},{"$f":"IF(Estemate!P22=\"Suspand\",Estemate!G22,0)","v":0},{"$f":"IF(Estemate!P22=\"Suspand\",Estemate!C22,0)","v":0},{"$f":"IF(Estemate!P22=\"Suspand\",Estemate!L22,0)","v":0},{"$f":"IF(Estemate!P22=\"Suspand\",Estemate!N22,0)","v":"00:00:00"},{"$f":"IF(Estemate!P22=\"Suspand\",Estemate!O22,0)","v":"00:00:00"},{"$f":"IF(Estemate!P22=\"Suspand\",Estemate!M22,0)","v":0},0,0]
[{"$f":"IF(Estemate!P23=\"Suspand\",Estemate!A23,\"\")","v":""},"","","","","","","","","",13,{"$f":"IF(Estemate!P23=\"Suspand\",Estemate!B23,0)","v":0},{"$f":"IF(Estemate!P23=\"Suspand\",Estemate!G23,0)","v":0},{"$f":"IF(Estemate!P23=\"Suspand\",Estemate!C23,0)","v":0},{"$f":"IF(Estemate!P23=\"Suspand\",Estemate!L23,0)","v":0},{"$f":"IF(Estemate!P23=\"Suspand\",Estemate!N23,0)","v":"00:00:00"},{"$f":"IF(Estemate!P23=\"Suspand\",Estemate!O23,0)","v":"00:00:00"},{"$f":"IF(Estemate!P23=\"Suspand\",Estemate!M23,0)","v":0},0,0]
[{"$f":"IF(Estemate!P24=\"Suspand\",Estemate!A24,\"\")","v":""},"","","","","","","","","",14,{"$f":"IF(Estemate!P24=\"Suspand\",Estemate!B24,0)","v":0},{"$f":"IF(Estemate!P24=\"Suspand\",Estemate!G24,0)","v":0},{"$f":"IF(Estemate!P24=\"Suspand\",Estemate!C24,0)","v":0},{"$f":"IF(Estemate!P24=\"Suspand\",Estemate!L24,0)","v":0},{"$f":"IF(Estemate!P24=\"Suspand\",Estemate!N24,0)","v":"00:00:00"},{"$f":"IF(Estemate!P24=\"Suspand\",Estemate!O24,0)","v":"00:00:00"},{"$f":"IF(Estemate!P24=\"Suspand\",Estemate!M24,0)","v":0},0,0]
[{"$f":"IF(Estemate!P25=\"Suspand\",Estemate!A25,\"\")","v":""},"","","","","","","","","",15,{"$f":"IF(Estemate!P25=\"Suspand\",Estemate!B25,0)","v":0},{"$f":"IF(Estemate!P25=\"Suspand\",Estemate!G25,0)","v":0},{"$f":"IF(Estemate!P25=\"Suspand\",Estemate!C25,0)","v":0},{"$f":"IF(Estemate!P25=\"Suspand\",Estemate!L25,0)","v":0},{"$f":"IF(Estemate!P25=\"Suspand\",Estemate!N25,0)","v":"00:00:00"},{"$f":"IF(Estemate!P25=\"Suspand\",Estemate!O25,0)","v":"00:00:00"},{"$f":"IF(Estemate!P25=\"Suspand\",Estemate!M25,0)","v":0},0,0]
[{"$f":"IF(Estemate!P26=\"Suspand\",Estemate!A26,\"\")","v":""},"",{"$f":"IF(ISNA(VLOOKUP(A26,K$11:R$110,2,FALSE)),\"\",VLOOKUP(A26,K$11:R$110,2,FALSE))","v":""},{"$f":"IF(ISNA(VLOOKUP(A26,K$11:R$110,3,FALSE)),\"\",VLOOKUP(A26,K$11:R$110,3,FALSE))","v":""},{"$f":"IF(ISNA(VLOOKUP(A26,K$11:R$110,4,FALSE)),\"\",VLOOKUP(A26,K$11:R$110,4,FALSE))","v":""},{"$f":"IF(ISNA(VLOOKUP(A26,K$11:R$110,5,FALSE)),\"\",VLOOKUP(A26,K$11:R$110,5,FALSE))","v":""},{"$f":"IF(ISNA(VLOOKUP(A26,K$11:R$110,6,FALSE)),\"\",VLOOKUP(A26,K$11:R$110,6,FALSE))","v":""},{"$f":"IF(ISNA(VLOOKUP(A26,K$11:R$110,7,FALSE)),\"\",VLOOKUP(A26,K$11:R$110,7,FALSE))","v":""},{"$f":"IF(ISNA(VLOOKUP(A26,K$11:R$110,8,FALSE)),\"\",VLOOKUP(A26,K$11:R$110,8,FALSE))","v":""},{"$f":"IF(I26=\"\",\"\",I26*12)","v":""},16,{"$f":"IF(Estemate!P26=\"Suspand\",Estemate!B26,0)","v":0},{"$f":"IF(Estemate!P26=\"Suspand\",Estemate!G26,0)","v":0},{"$f":"IF(Estemate!P26=\"Suspand\",Estemate!C26,0)","v":0},{"$f":"IF(Estemate!P26=\"Suspand\",Estemate!L26,0)","v":0},{"$f":"IF(Estemate!P26=\"Suspand\",Estemate!N26,0)","v":"00:00:00"},{"$f":"IF(Estemate!P26=\"Suspand\",Estemate!O26,0)","v":"00:00:00"},{"$f":"IF(Estemate!P26=\"Suspand\",Estemate!M26,0)","v":0},0,0]
[{"$f":"IF(Estemate!P27=\"Suspand\",Estemate!A27,\"\")","v":""},{"$f":"IF(C27=\"\",\"\",T27)","v":""},{"$f":"IF(ISNA(VLOOKUP(A27,K$11:R$110,2,FALSE)),\"\",VLOOKUP(A27,K$11:R$110,2,FALSE))","v":""},{"$f":"IF(ISNA(VLOOKUP(A27,K$11:R$110,3,FALSE)),\"\",VLOOKUP(A27,K$11:R$110,3,FALSE))","v":""},{"$f":"IF(ISNA(VLOOKUP(A27,K$11:R$110,4,FALSE)),\"\",VLOOKUP(A27,K$11:R$110,4,FALSE))","v":""},{"$f":"IF(ISNA(VLOOKUP(A27,K$11:R$110,5,FALSE)),\"\",VLOOKUP(A27,K$11:R$110,5,FALSE))","v":""},{"$f":"IF(ISNA(VLOOKUP(A27,K$11:R$110,6,FALSE)),\"\",VLOOKUP(A27,K$11:R$110,6,FALSE))","v":""},{"$f":"IF(ISNA(VLOOKUP(A27,K$11:R$110,7,FALSE)),\"\",VLOOKUP(A27,K$11:R$110,7,FALSE))","v":""},{"$f":"IF(ISNA(VLOOKUP(A27,K$11:R$110,8,FALSE)),\"\",VLOOKUP(A27,K$11:R$110,8,FALSE))","v":""},{"$f":"IF(I27=\"\",\"\",I27*12)","v":""},17,{"$f":"IF(Estemate!P27=\"Suspand\",Estemate!B27,0)","v":0},{"$f":"IF(Estemate!P27=\"Suspand\",Estemate!G27,0)","v":0},{"$f":"IF(Estemate!P27=\"Suspand\",Estemate!C27,0)","v":0},{"$f":"IF(Estemate!P27=\"Suspand\",Estemate!L27,0)","v":0},{"$f":"IF(Estemate!P27=\"Suspand\",Estemate!N27,0)","v":"00:00:00"},{"$f":"IF(Estemate!P27=\"Suspand\",Estemate!O27,0)","v":"00:00:00"},{"$f":"IF(Estemate!P27=\"Suspand\",Estemate!M27,0)","v":0},0,0]
[{"$f":"IF(Estemate!P28=\"Suspand\",Estemate!A28,\"\")","v":""},"","","","","","","","","",18,{"$f":"IF(Estemate!P28=\"Suspand\",Estemate!B28,0)","v":0},{"$f":"IF(Estemate!P28=\"Suspand\",Estemate!G28,0)","v":0},{"$f":"IF(Estemate!P28=\"Suspand\",Estemate!C28,0)","v":0},{"$f":"IF(Estemate!P28=\"Suspand\",Estemate!L28,0)","v":0},{"$f":"IF(Estemate!P28=\"Suspand\",Estemate!N28,0)","v":"00:00:00"},{"$f":"IF(Estemate!P28=\"Suspand\",Estemate!O28,0)","v":"00:00:00"},{"$f":"IF(Estemate!P28=\"Suspand\",Estemate!M28,0)","v":0},0,0]
[{"$f":"IF(Estemate!P29=\"Suspand\",Estemate!A29,\"\")","v":""},"","","","","","","","","",19,{"$f":"IF(Estemate!P29=\"Suspand\",Estemate!B29,0)","v":0},{"$f":"IF(Estemate!P29=\"Suspand\",Estemate!G29,0)","v":0},{"$f":"IF(Estemate!P29=\"Suspand\",Estemate!C29,0)","v":0},{"$f":"IF(Estemate!P29=\"Suspand\",Estemate!L29,0)","v":0},{"$f":"IF(Estemate!P29=\"Suspand\",Estemate!N29,0)","v":"00:00:00"},{"$f":"IF(Estemate!P29=\"Suspand\",Estemate!O29,0)","v":"00:00:00"},{"$f":"IF(Estemate!P29=\"Suspand\",Estemate!M29,0)","v":0},0,0]
[{"$f":"IF(Estemate!P30=\"Suspand\",Estemate!A30,\"\")","v":""},"","","","","","","","","",20,{"$f":"IF(Estemate!P30=\"Suspand\",Estemate!B30,0)","v":0},{"$f":"IF(Estemate!P30=\"Suspand\",Estemate!G30,0)","v":0},{"$f":"IF(Estemate!P30=\"Suspand\",Estemate!C30,0)","v":0},{"$f":"IF(Estemate!P30=\"Suspand\",Estemate!L30,0)","v":0},{"$f":"IF(Estemate!P30=\"Suspand\",Estemate!N30,0)","v":"00:00:00"},{"$f":"IF(Estemate!P30=\"Suspand\",Estemate!O30,0)","v":"00:00:00"},{"$f":"IF(Estemate!P30=\"Suspand\",Estemate!M30,0)","v":0},0,0]
[{"$f":"IF(Estemate!P31=\"Suspand\",Estemate!A31,\"\")","v":""},"","","","","","","","","",21,{"$f":"IF(Estemate!P31=\"Suspand\",Estemate!B31,0)","v":0},{"$f":"IF(Estemate!P31=\"Suspand\",Estemate!G31,0)","v":0},{"$f":"IF(Estemate!P31=\"Suspand\",Estemate!C31,0)","v":0},{"$f":"IF(Estemate!P31=\"Suspand\",Estemate!L31,0)","v":0},{"$f":"IF(Estemate!P31=\"Suspand\",Estemate!N31,0)","v":"00:00:00"},{"$f":"IF(Estemate!P31=\"Suspand\",Estemate!O31,0)","v":"00:00:00"},{"$f":"IF(Estemate!P31=\"Suspand\",Estemate!M31,0)","v":0},0,0]
[{"$f":"IF(Estemate!P32=\"Suspand\",Estemate!A32,\"\")","v":""},"","","","","","","","","",22,{"$f":"IF(Estemate!P32=\"Suspand\",Estemate!B32,0)","v":0},{"$f":"IF(Estemate!P32=\"Suspand\",Estemate!G32,0)","v":0},{"$f":"IF(Estemate!P32=\"Suspand\",Estemate!C32,0)","v":0},{"$f":"IF(Estemate!P32=\"Suspand\",Estemate!L32,0)","v":0},{"$f":"IF(Estemate!P32=\"Suspand\",Estemate!N32,0)","v":"00:00:00"},{"$f":"IF(Estemate!P32=\"Suspand\",Estemate!O32,0)","v":"00:00:00"},{"$f":"IF(Estemate!P32=\"Suspand\",Estemate!M32,0)","v":0},0,0]
[{"$f":"IF(Estemate!P33=\"Suspand\",Estemate!A33,\"\")","v":""},"","","","","","","","","",23,{"$f":"IF(Estemate!P33=\"Suspand\",Estemate!B33,0)","v":0},{"$f":"IF(Estemate!P33=\"Suspand\",Estemate!G33,0)","v":0},{"$f":"IF(Estemate!P33=\"Suspand\",Estemate!C33,0)","v":0},{"$f":"IF(Estemate!P33=\"Suspand\",Estemate!L33,0)","v":0},{"$f":"IF(Estemate!P33=\"Suspand\",Estemate!N33,0)","v":"00:00:00"},{"$f":"IF(Estemate!P33=\"Suspand\",Estemate!O33,0)","v":"00:00:00"},{"$f":"IF(Estemate!P33=\"Suspand\",Estemate!M33,0)","v":0},0,0]
[{"$f":"IF(Estemate!P34=\"Suspand\",Estemate!A34,\"\")","v":""},"","","","","","","","","",24,{"$f":"IF(Estemate!P34=\"Suspand\",Estemate!B34,0)","v":0},{"$f":"IF(Estemate!P34=\"Suspand\",Estemate!G34,0)","v":0},{"$f":"IF(Estemate!P34=\"Suspand\",Estemate!C34,0)","v":0},{"$f":"IF(Estemate!P34=\"Suspand\",Estemate!L34,0)","v":0},{"$f":"IF(Estemate!P34=\"Suspand\",Estemate!N34,0)","v":"00:00:00"},{"$f":"IF(Estemate!P34=\"Suspand\",Estemate!O34,0)","v":"00:00:00"},{"$f":"IF(Estemate!P34=\"Suspand\",Estemate!M34,0)","v":0},0,0]
[{"$f":"IF(Estemate!P35=\"Suspand\",Estemate!A35,\"\")","v":""},"","","","","","","","","",25,{"$f":"IF(Estemate!P35=\"Suspand\",Estemate!B35,0)","v":0},{"$f":"IF(Estemate!P35=\"Suspand\",Estemate!G35,0)","v":0},{"$f":"IF(Estemate!P35=\"Suspand\",Estemate!C35,0)","v":0},{"$f":"IF(Estemate!P35=\"Suspand\",Estemate!L35,0)","v":0},{"$f":"IF(Estemate!P35=\"Suspand\",Estemate!N35,0)","v":"00:00:00"},{"$f":"IF(Estemate!P35=\"Suspand\",Estemate!O35,0)","v":"00:00:00"},{"$f":"IF(Estemate!P35=\"Suspand\",Estemate!M35,0)","v":0},0,0]
[{"$f":"IF(Estemate!P36=\"Suspand\",Estemate!A36,\"\")","v":""},"","","","","","","","","",26,{"$f":"IF(Estemate!P36=\"Suspand\",Estemate!B36,0)","v":0},{"$f":"IF(Estemate!P36=\"Suspand\",Estemate!G36,0)","v":0},{"$f":"IF(Estemate!P36=\"Suspand\",Estemate!C36,0)","v":0},{"$f":"IF(Estemate!P36=\"Suspand\",Estemate!L36,0)","v":0},{"$f":"IF(Estemate!P36=\"Suspand\",Estemate!N36,0)","v":"00:00:00"},{"$f":"IF(Estemate!P36=\"Suspand\",Estemate!O36,0)","v":"00:00:00"},{"$f":"IF(Estemate!P36=\"Suspand\",Estemate!M36,0)","v":0},0,0]
[{"$f":"IF(Estemate!P37=\"Suspand\",Estemate!A37,\"\")","v":""},"","","","","","","","","",27,{"$f":"IF(Estemate!P37=\"Suspand\",Estemate!B37,0)","v":0},{"$f":"IF(Estemate!P37=\"Suspand\",Estemate!G37,0)","v":0},{"$f":"IF(Estemate!P37=\"Suspand\",Estemate!C37,0)","v":0},{"$f":"IF(Estemate!P37=\"Suspand\",Estemate!L37,0)","v":0},{"$f":"IF(Estemate!P37=\"Suspand\",Estemate!N37,0)","v":"00:00:00"},{"$f":"IF(Estemate!P37=\"Suspand\",Estemate!O37,0)","v":"00:00:00"},{"$f":"IF(Estemate!P37=\"Suspand\",Estemate!M37,0)","v":0},0,0]
[{"$f":"IF(Estemate!P38=\"Suspand\",Estemate!A38,\"\")","v":""},"","","","","","","","","",28,{"$f":"IF(Estemate!P38=\"Suspand\",Estemate!B38,0)","v":0},{"$f":"IF(Estemate!P38=\"Suspand\",Estemate!G38,0)","v":0},{"$f":"IF(Estemate!P38=\"Suspand\",Estemate!C38,0)","v":0},{"$f":"IF(Estemate!P38=\"Suspand\",Estemate!L38,0)","v":0},{"$f":"IF(Estemate!P38=\"Suspand\",Estemate!N38,0)","v":"00:00:00"},{"$f":"IF(Estemate!P38=\"Suspand\",Estemate!O38,0)","v":"00:00:00"},{"$f":"IF(Estemate!P38=\"Suspand\",Estemate!M38,0)","v":0},0,0]
[{"$f":"IF(Estemate!P39=\"Suspand\",Estemate!A39,\"\")","v":""},"","","","","","","","","",29,{"$f":"IF(Estemate!P39=\"Suspand\",Estemate!B39,0)","v":0},{"$f":"IF(Estemate!P39=\"Suspand\",Estemate!G39,0)","v":0},{"$f":"IF(Estemate!P39=\"Suspand\",Estemate!C39,0)","v":0},{"$f":"IF(Estemate!P39=\"Suspand\",Estemate!L39,0)","v":0},{"$f":"IF(Estemate!P39=\"Suspand\",Estemate!N39,0)","v":"00:00:00"},{"$f":"IF(Estemate!P39=\"Suspand\",Estemate!O39,0)","v":"00:00:00"},{"$f":"IF(Estemate!P39=\"Suspand\",Estemate!M39,0)","v":0},0,0]
[{"$f":"IF(Estemate!P40=\"Suspand\",Estemate!A40,\"\")","v":""},"","","","","","","","","",30,{"$f":"IF(Estemate!P40=\"Suspand\",Estemate!B40,0)","v":0},{"$f":"IF(Estemate!P40=\"Suspand\",Estemate!G40,0)","v":0},{"$f":"IF(Estemate!P40=\"Suspand\",Estemate!C40,0)","v":0},{"$f":"IF(Estemate!P40=\"Suspand\",Estemate!L40,0)","v":0},{"$f":"IF(Estemate!P40=\"Suspand\",Estemate!N40,0)","v":"00:00:00"},{"$f":"IF(Estemate!P40=\"Suspand\",Estemate!O40,0)","v":"00:00:00"},{"$f":"IF(Estemate!P40=\"Suspand\",Estemate!M40,0)","v":0},0,0]
[{"$f":"IF(Estemate!P41=\"Suspand\",Estemate!A41,\"\")","v":""},"","","","","","","","","",31,{"$f":"IF(Estemate!P41=\"Suspand\",Estemate!B41,0)","v":0},{"$f":"IF(Estemate!P41=\"Suspand\",Estemate!G41,0)","v":0},{"$f":"IF(Estemate!P41=\"Suspand\",Estemate!C41,0)","v":0},{"$f":"IF(Estemate!P41=\"Suspand\",Estemate!L41,0)","v":0},{"$f":"IF(Estemate!P41=\"Suspand\",Estemate!N41,0)","v":"00:00:00"},{"$f":"IF(Estemate!P41=\"Suspand\",Estemate!O41,0)","v":"00:00:00"},{"$f":"IF(Estemate!P41=\"Suspand\",Estemate!M41,0)","v":0},0,0]
[{"$f":"IF(Estemate!P42=\"Suspand\",Estemate!A42,\"\")","v":""},"","","","","","","","","",32,{"$f":"IF(Estemate!P42=\"Suspand\",Estemate!B42,0)","v":0},{"$f":"IF(Estemate!P42=\"Suspand\",Estemate!G42,0)","v":0},{"$f":"IF(Estemate!P42=\"Suspand\",Estemate!C42,0)","v":0},{"$f":"IF(Estemate!P42=\"Suspand\",Estemate!L42,0)","v":0},{"$f":"IF(Estemate!P42=\"Suspand\",Estemate!N42,0)","v":"00:00:00"},{"$f":"IF(Estemate!P42=\"Suspand\",Estemate!O42,0)","v":"00:00:00"},{"$f":"IF(Estemate!P42=\"Suspand\",Estemate!M42,0)","v":0},0,0]
[{"$f":"IF(Estemate!P43=\"Suspand\",Estemate!A43,\"\")","v":""},"","","","","","","","","",33,{"$f":"IF(Estemate!P43=\"Suspand\",Estemate!B43,0)","v":0},{"$f":"IF(Estemate!P43=\"Suspand\",Estemate!G43,0)","v":0},{"$f":"IF(Estemate!P43=\"Suspand\",Estemate!C43,0)","v":0},{"$f":"IF(Estemate!P43=\"Suspand\",Estemate!L43,0)","v":0},{"$f":"IF(Estemate!P43=\"Suspand\",Estemate!N43,0)","v":"00:00:00"},{"$f":"IF(Estemate!P43=\"Suspand\",Estemate!O43,0)","v":"00:00:00"},{"$f":"IF(Estemate!P43=\"Suspand\",Estemate!M43,0)","v":0},0,0]
[{"$f":"IF(Estemate!P44=\"Suspand\",Estemate!A44,\"\")","v":""},"","","","","","","","","",34,{"$f":"IF(Estemate!P44=\"Suspand\",Estemate!B44,0)","v":0},{"$f":"IF(Estemate!P44=\"Suspand\",Estemate!G44,0)","v":0},{"$f":"IF(Estemate!P44=\"Suspand\",Estemate!C44,0)","v":0},{"$f":"IF(Estemate!P44=\"Suspand\",Estemate!L44,0)","v":0},{"$f":"IF(Estemate!P44=\"Suspand\",Estemate!N44,0)","v":"00:00:00"},{"$f":"IF(Estemate!P44=\"Suspand\",Estemate!O44,0)","v":"00:00:00"},{"$f":"IF(Estemate!P44=\"Suspand\",Estemate!M44,0)","v":0},0,0]
[{"$f":"IF(Estemate!P45=\"Suspand\",Estemate!A45,\"\")","v":""},"","","","","","","","","",35,{"$f":"IF(Estemate!P45=\"Suspand\",Estemate!B45,0)","v":0},{"$f":"IF(Estemate!P45=\"Suspand\",Estemate!G45,0)","v":0},{"$f":"IF(Estemate!P45=\"Suspand\",Estemate!C45,0)","v":0},{"$f":"IF(Estemate!P45=\"Suspand\",Estemate!L45,0)","v":0},{"$f":"IF(Estemate!P45=\"Suspand\",Estemate!N45,0)","v":"00:00:00"},{"$f":"IF(Estemate!P45=\"Suspand\",Estemate!O45,0)","v":"00:00:00"},{"$f":"IF(Estemate!P45=\"Suspand\",Estemate!M45,0)","v":0},0,0]
[{"$f":"IF(Estemate!P46=\"Suspand\",Estemate!A46,\"\")","v":""},"","","","","","","","","",36,{"$f":"IF(Estemate!P46=\"Suspand\",Estemate!B46,0)","v":0},{"$f":"IF(Estemate!P46=\"Suspand\",Estemate!G46,0)","v":0},{"$f":"IF(Estemate!P46=\"Suspand\",Estemate!C46,0)","v":0},{"$f":"IF(Estemate!P46=\"Suspand\",Estemate!L46,0)","v":0},{"$f":"IF(Estemate!P46=\"Suspand\",Estemate!N46,0)","v":"00:00:00"},{"$f":"IF(Estemate!P46=\"Suspand\",Estemate!O46,0)","v":"00:00:00"},{"$f":"IF(Estemate!P46=\"Suspand\",Estemate!M46,0)","v":0},0,0]
[{"$f":"IF(Estemate!P47=\"Suspand\",Estemate!A47,\"\")","v":""},"","","","","","","","","",37,{"$f":"IF(Estemate!P47=\"Suspand\",Estemate!B47,0)","v":0},{"$f":"IF(Estemate!P47=\"Suspand\",Estemate!G47,0)","v":0},{"$f":"IF(Estemate!P47=\"Suspand\",Estemate!C47,0)","v":0},{"$f":"IF(Estemate!P47=\"Suspand\",Estemate!L47,0)","v":0},{"$f":"IF(Estemate!P47=\"Suspand\",Estemate!N47,0)","v":"00:00:00"},{"$f":"IF(Estemate!P47=\"Suspand\",Estemate!O47,0)","v":"00:00:00"},{"$f":"IF(Estemate!P47=\"Suspand\",Estemate!M47,0)","v":0},0,0]
[{"$f":"IF(Estemate!P48=\"Suspand\",Estemate!A48,\"\")","v":""},"","","","","","","","","",38,{"$f":"IF(Estemate!P48=\"Suspand\",Estemate!B48,0)","v":0},{"$f":"IF(Estemate!P48=\"Suspand\",Estemate!G48,0)","v":0},{"$f":"IF(Estemate!P48=\"Suspand\",Estemate!C48,0)","v":0},{"$f":"IF(Estemate!P48=\"Suspand\",Estemate!L48,0)","v":0},{"$f":"IF(Estemate!P48=\"Suspand\",Estemate!N48,0)","v":"00:00:00"},{"$f":"IF(Estemate!P48=\"Suspand\",Estemate!O48,0)","v":"00:00:00"},{"$f":"IF(Estemate!P48=\"Suspand\",Estemate!M48,0)","v":0},0,0]
[{"$f":"IF(Estemate!P49=\"Suspand\",Estemate!A49,\"\")","v":""},"","","","","","","","","",39,{"$f":"IF(Estemate!P49=\"Suspand\",Estemate!B49,0)","v":0},{"$f":"IF(Estemate!P49=\"Suspand\",Estemate!G49,0)","v":0},{"$f":"IF(Estemate!P49=\"Suspand\",Estemate!C49,0)","v":0},{"$f":"IF(Estemate!P49=\"Suspand\",Estemate!L49,0)","v":0},{"$f":"IF(Estemate!P49=\"Suspand\",Estemate!N49,0)","v":"00:00:00"},{"$f":"IF(Estemate!P49=\"Suspand\",Estemate!O49,0)","v":"00:00:00"},{"$f":"IF(Estemate!P49=\"Suspand\",Estemate!M49,0)","v":0},0,0]
[{"$f":"IF(Estemate!P50=\"Suspand\",Estemate!A50,\"\")","v":""},"","","","","","","","","",40,{"$f":"IF(Estemate!P50=\"Suspand\",Estemate!B50,0)","v":0},{"$f":"IF(Estemate!P50=\"Suspand\",Estemate!G50,0)","v":0},{"$f":"IF(Estemate!P50=\"Suspand\",Estemate!C50,0)","v":0},{"$f":"IF(Estemate!P50=\"Suspand\",Estemate!L50,0)","v":0},{"$f":"IF(Estemate!P50=\"Suspand\",Estemate!N50,0)","v":"00:00:00"},{"$f":"IF(Estemate!P50=\"Suspand\",Estemate!O50,0)","v":"00:00:00"},{"$f":"IF(Estemate!P50=\"Suspand\",Estemate!M50,0)","v":0},0,0]
[{"$f":"IF(Estemate!P51=\"Suspand\",Estemate!A51,\"\")","v":""},"","","","","","","","","",41,{"$f":"IF(Estemate!P51=\"Suspand\",Estemate!B51,0)","v":0},{"$f":"IF(Estemate!P51=\"Suspand\",Estemate!G51,0)","v":0},{"$f":"IF(Estemate!P51=\"Suspand\",Estemate!C51,0)","v":0},{"$f":"IF(Estemate!P51=\"Suspand\",Estemate!L51,0)","v":0},{"$f":"IF(Estemate!P51=\"Suspand\",Estemate!N51,0)","v":"00:00:00"},{"$f":"IF(Estemate!P51=\"Suspand\",Estemate!O51,0)","v":"00:00:00"},{"$f":"IF(Estemate!P51=\"Suspand\",Estemate!M51,0)","v":0},0,0]
[{"$f":"IF(Estemate!P52=\"Suspand\",Estemate!A52,\"\")","v":""},"","","","","","","","","",42,{"$f":"IF(Estemate!P52=\"Suspand\",Estemate!B52,0)","v":0},{"$f":"IF(Estemate!P52=\"Suspand\",Estemate!G52,0)","v":0},{"$f":"IF(Estemate!P52=\"Suspand\",Estemate!C52,0)","v":0},{"$f":"IF(Estemate!P52=\"Suspand\",Estemate!L52,0)","v":0},{"$f":"IF(Estemate!P52=\"Suspand\",Estemate!N52,0)","v":"00:00:00"},{"$f":"IF(Estemate!P52=\"Suspand\",Estemate!O52,0)","v":"00:00:00"},{"$f":"IF(Estemate!P52=\"Suspand\",Estemate!M52,0)","v":0},0,0]
[{"$f":"IF(Estemate!P53=\"Suspand\",Estemate!A53,\"\")","v":""},"","","","","","","","","",43,{"$f":"IF(Estemate!P53=\"Suspand\",Estemate!B53,0)","v":0},{"$f":"IF(Estemate!P53=\"Suspand\",Estemate!G53,0)","v":0},{"$f":"IF(Estemate!P53=\"Suspand\",Estemate!C53,0)","v":0},{"$f":"IF(Estemate!P53=\"Suspand\",Estemate!L53,0)","v":0},{"$f":"IF(Estemate!P53=\"Suspand\",Estemate!N53,0)","v":"00:00:00"},{"$f":"IF(Estemate!P53=\"Suspand\",Estemate!O53,0)","v":"00:00:00"},{"$f":"IF(Estemate!P53=\"Suspand\",Estemate!M53,0)","v":0},0,0]
[{"$f":"IF(Estemate!P54=\"Suspand\",Estemate!A54,\"\")","v":""},"","","","","","","","","",44,{"$f":"IF(Estemate!P54=\"Suspand\",Estemate!B54,0)","v":0},{"$f":"IF(Estemate!P54=\"Suspand\",Estemate!G54,0)","v":0},{"$f":"IF(Estemate!P54=\"Suspand\",Estemate!C54,0)","v":0},{"$f":"IF(Estemate!P54=\"Suspand\",Estemate!L54,0)","v":0},{"$f":"IF(Estemate!P54=\"Suspand\",Estemate!N54,0)","v":"00:00:00"},{"$f":"IF(Estemate!P54=\"Suspand\",Estemate!O54,0)","v":"00:00:00"},{"$f":"IF(Estemate!P54=\"Suspand\",Estemate!M54,0)","v":0},0,0]
[{"$f":"IF(Estemate!P55=\"Suspand\",Estemate!A55,\"\")","v":""},"","","","","","","","","",45,{"$f":"IF(Estemate!P55=\"Suspand\",Estemate!B55,0)","v":0},{"$f":"IF(Estemate!P55=\"Suspand\",Estemate!G55,0)","v":0},{"$f":"IF(Estemate!P55=\"Suspand\",Estemate!C55,0)","v":0},{"$f":"IF(Estemate!P55=\"Suspand\",Estemate!L55,0)","v":0},{"$f":"IF(Estemate!P55=\"Suspand\",Estemate!N55,0)","v":"00:00:00"},{"$f":"IF(Estemate!P55=\"Suspand\",Estemate!O55,0)","v":"00:00:00"},{"$f":"IF(Estemate!P55=\"Suspand\",Estemate!M55,0)","v":0},0,0]
[{"$f":"IF(Estemate!P56=\"Suspand\",Estemate!A56,\"\")","v":""},"","","","","","","","","",46,{"$f":"IF(Estemate!P56=\"Suspand\",Estemate!B56,0)","v":0},{"$f":"IF(Estemate!P56=\"Suspand\",Estemate!G56,0)","v":0},{"$f":"IF(Estemate!P56=\"Suspand\",Estemate!C56,0)","v":0},{"$f":"IF(Estemate!P56=\"Suspand\",Estemate!L56,0)","v":0},{"$f":"IF(Estemate!P56=\"Suspand\",Estemate!N56,0)","v":"00:00:00"},{"$f":"IF(Estemate!P56=\"Suspand\",Estemate!O56,0)","v":"00:00:00"},{"$f":"IF(Estemate!P56=\"Suspand\",Estemate!M56,0)","v":0},0,0]
[{"$f":"IF(Estemate!P57=\"Suspand\",Estemate!A57,\"\")","v":""},"","","","","","","","","",47,{"$f":"IF(Estemate!P57=\"Suspand\",Estemate!B57,0)","v":0},{"$f":"IF(Estemate!P57=\"Suspand\",Estemate!G57,0)","v":0},{"$f":"IF(Estemate!P57=\"Suspand\",Estemate!C57,0)","v":0},{"$f":"IF(Estemate!P57=\"Suspand\",Estemate!L57,0)","v":0},{"$f":"IF(Estemate!P57=\"Suspand\",Estemate!N57,0)","v":"00:00:00"},{"$f":"IF(Estemate!P57=\"Suspand\",Estemate!O57,0)","v":"00:00:00"},{"$f":"IF(Estemate!P57=\"Suspand\",Estemate!M57,0)","v":0},0,0]
[{"$f":"IF(Estemate!P58=\"Suspand\",Estemate!A58,\"\")","v":""},"","","","","","","","","",48,{"$f":"IF(Estemate!P58=\"Suspand\",Estemate!B58,0)","v":0},{"$f":"IF(Estemate!P58=\"Suspand\",Estemate!G58,0)","v":0},{"$f":"IF(Estemate!P58=\"Suspand\",Estemate!C58,0)","v":0},{"$f":"IF(Estemate!P58=\"Suspand\",Estemate!L58,0)","v":0},{"$f":"IF(Estemate!P58=\"Suspand\",Estemate!N58,0)","v":"00:00:00"},{"$f":"IF(Estemate!P58=\"Suspand\",Estemate!O58,0)","v":"00:00:00"},{"$f":"IF(Estemate!P58=\"Suspand\",Estemate!M58,0)","v":0},0,0]
[{"$f":"IF(Estemate!P59=\"Suspand\",Estemate!A59,\"\")","v":""},"","","","","","","","","",49,{"$f":"IF(Estemate!P59=\"Suspand\",Estemate!B59,0)","v":0},{"$f":"IF(Estemate!P59=\"Suspand\",Estemate!G59,0)","v":0},{"$f":"IF(Estemate!P59=\"Suspand\",Estemate!C59,0)","v":0},{"$f":"IF(Estemate!P59=\"Suspand\",Estemate!L59,0)","v":0},{"$f":"IF(Estemate!P59=\"Suspand\",Estemate!N59,0)","v":"00:00:00"},{"$f":"IF(Estemate!P59=\"Suspand\",Estemate!O59,0)","v":"00:00:00"},{"$f":"IF(Estemate!P59=\"Suspand\",Estemate!M59,0)","v":0},0,0]
[{"$f":"IF(Estemate!P60=\"Suspand\",Estemate!A60,\"\")","v":""},"","","","","","","","","",50,{"$f":"IF(Estemate!P60=\"Suspand\",Estemate!B60,0)","v":0},{"$f":"IF(Estemate!P60=\"Suspand\",Estemate!G60,0)","v":0},{"$f":"IF(Estemate!P60=\"Suspand\",Estemate!C60,0)","v":0},{"$f":"IF(Estemate!P60=\"Suspand\",Estemate!L60,0)","v":0},{"$f":"IF(Estemate!P60=\"Suspand\",Estemate!N60,0)","v":"00:00:00"},{"$f":"IF(Estemate!P60=\"Suspand\",Estemate!O60,0)","v":"00:00:00"},{"$f":"IF(Estemate!P60=\"Suspand\",Estemate!M60,0)","v":0},0,0]
[{"$f":"IF(Estemate!P61=\"Suspand\",Estemate!A61,\"\")","v":""},"","","","","","","","","",51,{"$f":"IF(Estemate!P61=\"Suspand\",Estemate!B61,0)","v":0},{"$f":"IF(Estemate!P61=\"Suspand\",Estemate!G61,0)","v":0},{"$f":"IF(Estemate!P61=\"Suspand\",Estemate!C61,0)","v":0},{"$f":"IF(Estemate!P61=\"Suspand\",Estemate!L61,0)","v":0},{"$f":"IF(Estemate!P61=\"Suspand\",Estemate!N61,0)","v":"00:00:00"},{"$f":"IF(Estemate!P61=\"Suspand\",Estemate!O61,0)","v":"00:00:00"},{"$f":"IF(Estemate!P61=\"Suspand\",Estemate!M61,0)","v":0},0,0]
[{"$f":"IF(Estemate!P62=\"Suspand\",Estemate!A62,\"\")","v":""},"","","","","","","","","",52,{"$f":"IF(Estemate!P62=\"Suspand\",Estemate!B62,0)","v":0},{"$f":"IF(Estemate!P62=\"Suspand\",Estemate!G62,0)","v":0},{"$f":"IF(Estemate!P62=\"Suspand\",Estemate!C62,0)","v":0},{"$f":"IF(Estemate!P62=\"Suspand\",Estemate!L62,0)","v":0},{"$f":"IF(Estemate!P62=\"Suspand\",Estemate!N62,0)","v":"00:00:00"},{"$f":"IF(Estemate!P62=\"Suspand\",Estemate!O62,0)","v":"00:00:00"},{"$f":"IF(Estemate!P62=\"Suspand\",Estemate!M62,0)","v":0},0,0]
[{"$f":"IF(Estemate!P63=\"Suspand\",Estemate!A63,\"\")","v":""},"","","","","","","","","",53,{"$f":"IF(Estemate!P63=\"Suspand\",Estemate!B63,0)","v":0},{"$f":"IF(Estemate!P63=\"Suspand\",Estemate!G63,0)","v":0},{"$f":"IF(Estemate!P63=\"Suspand\",Estemate!C63,0)","v":0},{"$f":"IF(Estemate!P63=\"Suspand\",Estemate!L63,0)","v":0},{"$f":"IF(Estemate!P63=\"Suspand\",Estemate!N63,0)","v":"00:00:00"},{"$f":"IF(Estemate!P63=\"Suspand\",Estemate!O63,0)","v":"00:00:00"},{"$f":"IF(Estemate!P63=\"Suspand\",Estemate!M63,0)","v":0},0,0]
[{"$f":"IF(Estemate!P64=\"Suspand\",Estemate!A64,\"\")","v":""},"","","","","","","","","",54,{"$f":"IF(Estemate!P64=\"Suspand\",Estemate!B64,0)","v":0},{"$f":"IF(Estemate!P64=\"Suspand\",Estemate!G64,0)","v":0},{"$f":"IF(Estemate!P64=\"Suspand\",Estemate!C64,0)","v":0},{"$f":"IF(Estemate!P64=\"Suspand\",Estemate!L64,0)","v":0},{"$f":"IF(Estemate!P64=\"Suspand\",Estemate!N64,0)","v":"00:00:00"},{"$f":"IF(Estemate!P64=\"Suspand\",Estemate!O64,0)","v":"00:00:00"},{"$f":"IF(Estemate!P64=\"Suspand\",Estemate!M64,0)","v":0},0,0]
[{"$f":"IF(Estemate!P65=\"Suspand\",Estemate!A65,\"\")","v":""},"","","","","","","","","",55,{"$f":"IF(Estemate!P65=\"Suspand\",Estemate!B65,0)","v":0},{"$f":"IF(Estemate!P65=\"Suspand\",Estemate!G65,0)","v":0},{"$f":"IF(Estemate!P65=\"Suspand\",Estemate!C65,0)","v":0},{"$f":"IF(Estemate!P65=\"Suspand\",Estemate!L65,0)","v":0},{"$f":"IF(Estemate!P65=\"Suspand\",Estemate!N65,0)","v":"00:00:00"},{"$f":"IF(Estemate!P65=\"Suspand\",Estemate!O65,0)","v":"00:00:00"},{"$f":"IF(Estemate!P65=\"Suspand\",Estemate!M65,0)","v":0},0,0]
[{"$f":"IF(Estemate!P66=\"Suspand\",Estemate!A66,\"\")","v":""},"","","","","","","","","",56,{"$f":"IF(Estemate!P66=\"Suspand\",Estemate!B66,0)","v":0},{"$f":"IF(Estemate!P66=\"Suspand\",Estemate!G66,0)","v":0},{"$f":"IF(Estemate!P66=\"Suspand\",Estemate!C66,0)","v":0},{"$f":"IF(Estemate!P66=\"Suspand\",Estemate!L66,0)","v":0},{"$f":"IF(Estemate!P66=\"Suspand\",Estemate!N66,0)","v":"00:00:00"},{"$f":"IF(Estemate!P66=\"Suspand\",Estemate!O66,0)","v":"00:00:00"},{"$f":"IF(Estemate!P66=\"Suspand\",Estemate!M66,0)","v":0},0,0]
[{"$f":"IF(Estemate!P67=\"Suspand\",Estemate!A67,\"\")","v":""},"","","","","","","","","",57,{"$f":"IF(Estemate!P67=\"Suspand\",Estemate!B67,0)","v":0},{"$f":"IF(Estemate!P67=\"Suspand\",Estemate!G67,0)","v":0},{"$f":"IF(Estemate!P67=\"Suspand\",Estemate!C67,0)","v":0},{"$f":"IF(Estemate!P67=\"Suspand\",Estemate!L67,0)","v":0},{"$f":"IF(Estemate!P67=\"Suspand\",Estemate!N67,0)","v":"00:00:00"},{"$f":"IF(Estemate!P67=\"Suspand\",Estemate!O67,0)","v":"00:00:00"},{"$f":"IF(Estemate!P67=\"Suspand\",Estemate!M67,0)","v":0},0,0]
[{"$f":"IF(Estemate!P68=\"Suspand\",Estemate!A68,\"\")","v":""},"","","","","","","","","",58,{"$f":"IF(Estemate!P68=\"Suspand\",Estemate!B68,0)","v":0},{"$f":"IF(Estemate!P68=\"Suspand\",Estemate!G68,0)","v":0},{"$f":"IF(Estemate!P68=\"Suspand\",Estemate!C68,0)","v":0},{"$f":"IF(Estemate!P68=\"Suspand\",Estemate!L68,0)","v":0},{"$f":"IF(Estemate!P68=\"Suspand\",Estemate!N68,0)","v":"00:00:00"},{"$f":"IF(Estemate!P68=\"Suspand\",Estemate!O68,0)","v":"00:00:00"},{"$f":"IF(Estemate!P68=\"Suspand\",Estemate!M68,0)","v":0},0,0]
[{"$f":"IF(Estemate!P69=\"Suspand\",Estemate!A69,\"\")","v":""},"","","","","","","","","",59,{"$f":"IF(Estemate!P69=\"Suspand\",Estemate!B69,0)","v":0},{"$f":"IF(Estemate!P69=\"Suspand\",Estemate!G69,0)","v":0},{"$f":"IF(Estemate!P69=\"Suspand\",Estemate!C69,0)","v":0},{"$f":"IF(Estemate!P69=\"Suspand\",Estemate!L69,0)","v":0},{"$f":"IF(Estemate!P69=\"Suspand\",Estemate!N69,0)","v":"00:00:00"},{"$f":"IF(Estemate!P69=\"Suspand\",Estemate!O69,0)","v":"00:00:00"},{"$f":"IF(Estemate!P69=\"Suspand\",Estemate!M69,0)","v":0},0,0]
[{"$f":"IF(Estemate!P70=\"Suspand\",Estemate!A70,\"\")","v":""},"","","","","","","","","",60,{"$f":"IF(Estemate!P70=\"Suspand\",Estemate!B70,0)","v":0},{"$f":"IF(Estemate!P70=\"Suspand\",Estemate!G70,0)","v":0},{"$f":"IF(Estemate!P70=\"Suspand\",Estemate!C70,0)","v":0},{"$f":"IF(Estemate!P70=\"Suspand\",Estemate!L70,0)","v":0},{"$f":"IF(Estemate!P70=\"Suspand\",Estemate!N70,0)","v":"00:00:00"},{"$f":"IF(Estemate!P70=\"Suspand\",Estemate!O70,0)","v":"00:00:00"},{"$f":"IF(Estemate!P70=\"Suspand\",Estemate!M70,0)","v":0},0,0]
[{"$f":"IF(Estemate!P71=\"Suspand\",Estemate!A71,\"\")","v":""},"","","","","","","","","",61,{"$f":"IF(Estemate!P71=\"Suspand\",Estemate!B71,0)","v":0},{"$f":"IF(Estemate!P71=\"Suspand\",Estemate!G71,0)","v":0},{"$f":"IF(Estemate!P71=\"Suspand\",Estemate!C71,0)","v":0},{"$f":"IF(Estemate!P71=\"Suspand\",Estemate!L71,0)","v":0},{"$f":"IF(Estemate!P71=\"Suspand\",Estemate!N71,0)","v":"00:00:00"},{"$f":"IF(Estemate!P71=\"Suspand\",Estemate!O71,0)","v":"00:00:00"},{"$f":"IF(Estemate!P71=\"Suspand\",Estemate!M71,0)","v":0},0,0]
[{"$f":"IF(Estemate!P72=\"Suspand\",Estemate!A72,\"\")","v":""},"","","","","","","","","",62,{"$f":"IF(Estemate!P72=\"Suspand\",Estemate!B72,0)","v":0},{"$f":"IF(Estemate!P72=\"Suspand\",Estemate!G72,0)","v":0},{"$f":"IF(Estemate!P72=\"Suspand\",Estemate!C72,0)","v":0},{"$f":"IF(Estemate!P72=\"Suspand\",Estemate!L72,0)","v":0},{"$f":"IF(Estemate!P72=\"Suspand\",Estemate!N72,0)","v":"00:00:00"},{"$f":"IF(Estemate!P72=\"Suspand\",Estemate!O72,0)","v":"00:00:00"},{"$f":"IF(Estemate!P72=\"Suspand\",Estemate!M72,0)","v":0},0,0]
[{"$f":"IF(Estemate!P73=\"Suspand\",Estemate!A73,\"\")","v":""},"","","","","","","","","",63,{"$f":"IF(Estemate!P73=\"Suspand\",Estemate!B73,0)","v":0},{"$f":"IF(Estemate!P73=\"Suspand\",Estemate!G73,0)","v":0},{"$f":"IF(Estemate!P73=\"Suspand\",Estemate!C73,0)","v":0},{"$f":"IF(Estemate!P73=\"Suspand\",Estemate!L73,0)","v":0},{"$f":"IF(Estemate!P73=\"Suspand\",Estemate!N73,0)","v":"00:00:00"},{"$f":"IF(Estemate!P73=\"Suspand\",Estemate!O73,0)","v":"00:00:00"},{"$f":"IF(Estemate!P73=\"Suspand\",Estemate!M73,0)","v":0},0,0]
[{"$f":"IF(Estemate!P74=\"Suspand\",Estemate!A74,\"\")","v":""},"","","","","","","","","",64,{"$f":"IF(Estemate!P74=\"Suspand\",Estemate!B74,0)","v":0},{"$f":"IF(Estemate!P74=\"Suspand\",Estemate!G74,0)","v":0},{"$f":"IF(Estemate!P74=\"Suspand\",Estemate!C74,0)","v":0},{"$f":"IF(Estemate!P74=\"Suspand\",Estemate!L74,0)","v":0},{"$f":"IF(Estemate!P74=\"Suspand\",Estemate!N74,0)","v":"00:00:00"},{"$f":"IF(Estemate!P74=\"Suspand\",Estemate!O74,0)","v":"00:00:00"},{"$f":"IF(Estemate!P74=\"Suspand\",Estemate!M74,0)","v":0},0,0]
[{"$f":"IF(Estemate!P75=\"Suspand\",Estemate!A75,\"\")","v":""},"","","","","","","","","",65,{"$f":"IF(Estemate!P75=\"Suspand\",Estemate!B75,0)","v":0},{"$f":"IF(Estemate!P75=\"Suspand\",Estemate!G75,0)","v":0},{"$f":"IF(Estemate!P75=\"Suspand\",Estemate!C75,0)","v":0},{"$f":"IF(Estemate!P75=\"Suspand\",Estemate!L75,0)","v":0},{"$f":"IF(Estemate!P75=\"Suspand\",Estemate!N75,0)","v":"00:00:00"},{"$f":"IF(Estemate!P75=\"Suspand\",Estemate!O75,0)","v":"00:00:00"},{"$f":"IF(Estemate!P75=\"Suspand\",Estemate!M75,0)","v":0},0,0]
[{"$f":"IF(Estemate!P76=\"Suspand\",Estemate!A76,\"\")","v":""},"","","","","","","","","",66,{"$f":"IF(Estemate!P76=\"Suspand\",Estemate!B76,0)","v":0},{"$f":"IF(Estemate!P76=\"Suspand\",Estemate!G76,0)","v":0},{"$f":"IF(Estemate!P76=\"Suspand\",Estemate!C76,0)","v":0},{"$f":"IF(Estemate!P76=\"Suspand\",Estemate!L76,0)","v":0},{"$f":"IF(Estemate!P76=\"Suspand\",Estemate!N76,0)","v":"00:00:00"},{"$f":"IF(Estemate!P76=\"Suspand\",Estemate!O76,0)","v":"00:00:00"},{"$f":"IF(Estemate!P76=\"Suspand\",Estemate!M76,0)","v":0},0,0]
[{"$f":"IF(Estemate!P77=\"Suspand\",Estemate!A77,\"\")","v":""},"","","","","","","","","",67,{"$f":"IF(Estemate!P77=\"Suspand\",Estemate!B77,0)","v":0},{"$f":"IF(Estemate!P77=\"Suspand\",Estemate!G77,0)","v":0},{"$f":"IF(Estemate!P77=\"Suspand\",Estemate!C77,0)","v":0},{"$f":"IF(Estemate!P77=\"Suspand\",Estemate!L77,0)","v":0},{"$f":"IF(Estemate!P77=\"Suspand\",Estemate!N77,0)","v":"00:00:00"},{"$f":"IF(Estemate!P77=\"Suspand\",Estemate!O77,0)","v":"00:00:00"},{"$f":"IF(Estemate!P77=\"Suspand\",Estemate!M77,0)","v":0},{"$f":"IF(L77=0,0,1)","v":0},{"$f":"T76+S77","v":0}]
[{"$f":"IF(Estemate!P78=\"Suspand\",Estemate!A78,\"\")","v":""},"","","","","","","","","",68,{"$f":"IF(Estemate!P78=\"Suspand\",Estemate!B78,0)","v":0},{"$f":"IF(Estemate!P78=\"Suspand\",Estemate!G78,0)","v":0},{"$f":"IF(Estemate!P78=\"Suspand\",Estemate!C78,0)","v":0},{"$f":"IF(Estemate!P78=\"Suspand\",Estemate!L78,0)","v":0},{"$f":"IF(Estemate!P78=\"Suspand\",Estemate!N78,0)","v":"00:00:00"},{"$f":"IF(Estemate!P78=\"Suspand\",Estemate!O78,0)","v":"00:00:00"},{"$f":"IF(Estemate!P78=\"Suspand\",Estemate!M78,0)","v":0},0,0]
[{"$f":"IF(Estemate!P79=\"Suspand\",Estemate!A79,\"\")","v":""},"","","","","","","","","",69,{"$f":"IF(Estemate!P79=\"Suspand\",Estemate!B79,0)","v":0},{"$f":"IF(Estemate!P79=\"Suspand\",Estemate!G79,0)","v":0},{"$f":"IF(Estemate!P79=\"Suspand\",Estemate!C79,0)","v":0},{"$f":"IF(Estemate!P79=\"Suspand\",Estemate!L79,0)","v":0},{"$f":"IF(Estemate!P79=\"Suspand\",Estemate!N79,0)","v":"00:00:00"},{"$f":"IF(Estemate!P79=\"Suspand\",Estemate!O79,0)","v":"00:00:00"},{"$f":"IF(Estemate!P79=\"Suspand\",Estemate!M79,0)","v":0},0,0]
[{"$f":"IF(Estemate!P80=\"Suspand\",Estemate!A80,\"\")","v":""},"","","","","","","","","",70,{"$f":"IF(Estemate!P80=\"Suspand\",Estemate!B80,0)","v":0},{"$f":"IF(Estemate!P80=\"Suspand\",Estemate!G80,0)","v":0},{"$f":"IF(Estemate!P80=\"Suspand\",Estemate!C80,0)","v":0},{"$f":"IF(Estemate!P80=\"Suspand\",Estemate!L80,0)","v":0},{"$f":"IF(Estemate!P80=\"Suspand\",Estemate!N80,0)","v":"00:00:00"},{"$f":"IF(Estemate!P80=\"Suspand\",Estemate!O80,0)","v":"00:00:00"},{"$f":"IF(Estemate!P80=\"Suspand\",Estemate!M80,0)","v":0},0,0]
[{"$f":"IF(Estemate!P81=\"Suspand\",Estemate!A81,\"\")","v":""},"","","","","","","","","",71,{"$f":"IF(Estemate!P81=\"Suspand\",Estemate!B81,0)","v":0},{"$f":"IF(Estemate!P81=\"Suspand\",Estemate!G81,0)","v":0},{"$f":"IF(Estemate!P81=\"Suspand\",Estemate!C81,0)","v":0},{"$f":"IF(Estemate!P81=\"Suspand\",Estemate!L81,0)","v":0},{"$f":"IF(Estemate!P81=\"Suspand\",Estemate!N81,0)","v":"00:00:00"},{"$f":"IF(Estemate!P81=\"Suspand\",Estemate!O81,0)","v":"00:00:00"},{"$f":"IF(Estemate!P81=\"Suspand\",Estemate!M81,0)","v":0},0,0]
[{"$f":"IF(Estemate!P82=\"Suspand\",Estemate!A82,\"\")","v":""},"","","","","","","","","",72,{"$f":"IF(Estemate!P82=\"Suspand\",Estemate!B82,0)","v":0},{"$f":"IF(Estemate!P82=\"Suspand\",Estemate!G82,0)","v":0},{"$f":"IF(Estemate!P82=\"Suspand\",Estemate!C82,0)","v":0},{"$f":"IF(Estemate!P82=\"Suspand\",Estemate!L82,0)","v":0},{"$f":"IF(Estemate!P82=\"Suspand\",Estemate!N82,0)","v":"00:00:00"},{"$f":"IF(Estemate!P82=\"Suspand\",Estemate!O82,0)","v":"00:00:00"},{"$f":"IF(Estemate!P82=\"Suspand\",Estemate!M82,0)","v":0},0,0]
[{"$f":"IF(Estemate!P83=\"Suspand\",Estemate!A83,\"\")","v":""},"","","","","","","","","",73,{"$f":"IF(Estemate!P83=\"Suspand\",Estemate!B83,0)","v":0},{"$f":"IF(Estemate!P83=\"Suspand\",Estemate!G83,0)","v":0},{"$f":"IF(Estemate!P83=\"Suspand\",Estemate!C83,0)","v":0},{"$f":"IF(Estemate!P83=\"Suspand\",Estemate!L83,0)","v":0},{"$f":"IF(Estemate!P83=\"Suspand\",Estemate!N83,0)","v":"00:00:00"},{"$f":"IF(Estemate!P83=\"Suspand\",Estemate!O83,0)","v":"00:00:00"},{"$f":"IF(Estemate!P83=\"Suspand\",Estemate!M83,0)","v":0},0,0]
[{"$f":"IF(Estemate!P84=\"Suspand\",Estemate!A84,\"\")","v":""},"","","","","","","","","",74,{"$f":"IF(Estemate!P84=\"Suspand\",Estemate!B84,0)","v":0},{"$f":"IF(Estemate!P84=\"Suspand\",Estemate!G84,0)","v":0},{"$f":"IF(Estemate!P84=\"Suspand\",Estemate!C84,0)","v":0},{"$f":"IF(Estemate!P84=\"Suspand\",Estemate!L84,0)","v":0},{"$f":"IF(Estemate!P84=\"Suspand\",Estemate!N84,0)","v":"00:00:00"},{"$f":"IF(Estemate!P84=\"Suspand\",Estemate!O84,0)","v":"00:00:00"},{"$f":"IF(Estemate!P84=\"Suspand\",Estemate!M84,0)","v":0},0,0]
[{"$f":"IF(Estemate!P85=\"Suspand\",Estemate!A85,\"\")","v":""},"","","","","","","","","",75,{"$f":"IF(Estemate!P85=\"Suspand\",Estemate!B85,0)","v":0},{"$f":"IF(Estemate!P85=\"Suspand\",Estemate!G85,0)","v":0},{"$f":"IF(Estemate!P85=\"Suspand\",Estemate!C85,0)","v":0},{"$f":"IF(Estemate!P85=\"Suspand\",Estemate!L85,0)","v":0},{"$f":"IF(Estemate!P85=\"Suspand\",Estemate!N85,0)","v":"00:00:00"},{"$f":"IF(Estemate!P85=\"Suspand\",Estemate!O85,0)","v":"00:00:00"},{"$f":"IF(Estemate!P85=\"Suspand\",Estemate!M85,0)","v":0},0,0]
[{"$f":"IF(Estemate!P86=\"Suspand\",Estemate!A86,\"\")","v":""},"","","","","","","","","",76,{"$f":"IF(Estemate!P86=\"Suspand\",Estemate!B86,0)","v":0},{"$f":"IF(Estemate!P86=\"Suspand\",Estemate!G86,0)","v":0},{"$f":"IF(Estemate!P86=\"Suspand\",Estemate!C86,0)","v":0},{"$f":"IF(Estemate!P86=\"Suspand\",Estemate!L86,0)","v":0},{"$f":"IF(Estemate!P86=\"Suspand\",Estemate!N86,0)","v":"00:00:00"},{"$f":"IF(Estemate!P86=\"Suspand\",Estemate!O86,0)","v":"00:00:00"},{"$f":"IF(Estemate!P86=\"Suspand\",Estemate!M86,0)","v":0},0,0]
[{"$f":"IF(Estemate!P87=\"Suspand\",Estemate!A87,\"\")","v":""},"","","","","","","","","",77,{"$f":"IF(Estemate!P87=\"Suspand\",Estemate!B87,0)","v":0},{"$f":"IF(Estemate!P87=\"Suspand\",Estemate!G87,0)","v":0},{"$f":"IF(Estemate!P87=\"Suspand\",Estemate!C87,0)","v":0},{"$f":"IF(Estemate!P87=\"Suspand\",Estemate!L87,0)","v":0},{"$f":"IF(Estemate!P87=\"Suspand\",Estemate!N87,0)","v":"00:00:00"},{"$f":"IF(Estemate!P87=\"Suspand\",Estemate!O87,0)","v":"00:00:00"},{"$f":"IF(Estemate!P87=\"Suspand\",Estemate!M87,0)","v":0},0,0]
[{"$f":"IF(Estemate!P88=\"Suspand\",Estemate!A88,\"\")","v":""},"","","","","","","","","",78,{"$f":"IF(Estemate!P88=\"Suspand\",Estemate!B88,0)","v":0},{"$f":"IF(Estemate!P88=\"Suspand\",Estemate!G88,0)","v":0},{"$f":"IF(Estemate!P88=\"Suspand\",Estemate!C88,0)","v":0},{"$f":"IF(Estemate!P88=\"Suspand\",Estemate!L88,0)","v":0},{"$f":"IF(Estemate!P88=\"Suspand\",Estemate!N88,0)","v":"00:00:00"},{"$f":"IF(Estemate!P88=\"Suspand\",Estemate!O88,0)","v":"00:00:00"},{"$f":"IF(Estemate!P88=\"Suspand\",Estemate!M88,0)","v":0},0,0]
[{"$f":"IF(Estemate!P89=\"Suspand\",Estemate!A89,\"\")","v":""},"","","","","","","","","",79,{"$f":"IF(Estemate!P89=\"Suspand\",Estemate!B89,0)","v":0},{"$f":"IF(Estemate!P89=\"Suspand\",Estemate!G89,0)","v":0},{"$f":"IF(Estemate!P89=\"Suspand\",Estemate!C89,0)","v":0},{"$f":"IF(Estemate!P89=\"Suspand\",Estemate!L89,0)","v":0},{"$f":"IF(Estemate!P89=\"Suspand\",Estemate!N89,0)","v":"00:00:00"},{"$f":"IF(Estemate!P89=\"Suspand\",Estemate!O89,0)","v":"00:00:00"},{"$f":"IF(Estemate!P89=\"Suspand\",Estemate!M89,0)","v":0},0,0]
[{"$f":"IF(Estemate!P90=\"Suspand\",Estemate!A90,\"\")","v":""},"","","","","","","","","",80,{"$f":"IF(Estemate!P90=\"Suspand\",Estemate!B90,0)","v":0},{"$f":"IF(Estemate!P90=\"Suspand\",Estemate!G90,0)","v":0},{"$f":"IF(Estemate!P90=\"Suspand\",Estemate!C90,0)","v":0},{"$f":"IF(Estemate!P90=\"Suspand\",Estemate!L90,0)","v":0},{"$f":"IF(Estemate!P90=\"Suspand\",Estemate!N90,0)","v":"00:00:00"},{"$f":"IF(Estemate!P90=\"Suspand\",Estemate!O90,0)","v":"00:00:00"},{"$f":"IF(Estemate!P90=\"Suspand\",Estemate!M90,0)","v":0},0,0]
[{"$f":"IF(Estemate!P91=\"Suspand\",Estemate!A91,\"\")","v":""},{"$f":"IF(C91=\"\",\"\",T91)","v":""},{"$f":"IF(ISNA(VLOOKUP(A91,K$11:R$110,2,FALSE)),\"\",VLOOKUP(A91,K$11:R$110,2,FALSE))","v":""},{"$f":"IF(ISNA(VLOOKUP(A91,K$11:R$110,3,FALSE)),\"\",VLOOKUP(A91,K$11:R$110,3,FALSE))","v":""},{"$f":"IF(ISNA(VLOOKUP(A91,K$11:R$110,4,FALSE)),\"\",VLOOKUP(A91,K$11:R$110,4,FALSE))","v":""},{"$f":"IF(ISNA(VLOOKUP(A91,K$11:R$110,5,FALSE)),\"\",VLOOKUP(A91,K$11:R$110,5,FALSE))","v":""},{"$f":"IF(ISNA(VLOOKUP(A91,K$11:R$110,6,FALSE)),\"\",VLOOKUP(A91,K$11:R$110,6,FALSE))","v":""},{"$f":"IF(ISNA(VLOOKUP(A91,K$11:R$110,7,FALSE)),\"\",VLOOKUP(A91,K$11:R$110,7,FALSE))","v":""},{"$f":"IF(ISNA(VLOOKUP(A91,K$11:R$110,8,FALSE)),\"\",VLOOKUP(A91,K$11:R$110,8,FALSE))","v":""},{"$f":"IF(I91=\"\",\"\",I91*12)","v":""},81,{"$f":"IF(Estemate!P91=\"Suspand\",Estemate!B91,0)","v":0},{"$f":"IF(Estemate!P91=\"Suspand\",Estemate!G91,0)","v":0},{"$f":"IF(Estemate!P91=\"Suspand\",Estemate!C91,0)","v":0},{"$f":"IF(Estemate!P91=\"Suspand\",Estemate!L91,0)","v":0},{"$f":"IF(Estemate!P91=\"Suspand\",Estemate!N91,0)","v":"00:00:00"},{"$f":"IF(Estemate!P91=\"Suspand\",Estemate!O91,0)","v":"00:00:00"},{"$f":"IF(Estemate!P91=\"Suspand\",Estemate!M91,0)","v":0},0,0]
[{"$f":"IF(Estemate!P92=\"Suspand\",Estemate!A92,\"\")","v":""},"","","","","","","","","",82,{"$f":"IF(Estemate!P92=\"Suspand\",Estemate!B92,0)","v":0},{"$f":"IF(Estemate!P92=\"Suspand\",Estemate!G92,0)","v":0},{"$f":"IF(Estemate!P92=\"Suspand\",Estemate!C92,0)","v":0},{"$f":"IF(Estemate!P92=\"Suspand\",Estemate!L92,0)","v":0},{"$f":"IF(Estemate!P92=\"Suspand\",Estemate!N92,0)","v":"00:00:00"},{"$f":"IF(Estemate!P92=\"Suspand\",Estemate!O92,0)","v":"00:00:00"},{"$f":"IF(Estemate!P92=\"Suspand\",Estemate!M92,0)","v":0},0,0]
[{"$f":"IF(Estemate!P93=\"Suspand\",Estemate!A93,\"\")","v":""},"","","","","","","","","",83,{"$f":"IF(Estemate!P93=\"Suspand\",Estemate!B93,0)","v":0},{"$f":"IF(Estemate!P93=\"Suspand\",Estemate!G93,0)","v":0},{"$f":"IF(Estemate!P93=\"Suspand\",Estemate!C93,0)","v":0},{"$f":"IF(Estemate!P93=\"Suspand\",Estemate!L93,0)","v":0},{"$f":"IF(Estemate!P93=\"Suspand\",Estemate!N93,0)","v":"00:00:00"},{"$f":"IF(Estemate!P93=\"Suspand\",Estemate!O93,0)","v":"00:00:00"},{"$f":"IF(Estemate!P93=\"Suspand\",Estemate!M93,0)","v":0},0,0]
[{"$f":"IF(Estemate!P94=\"Suspand\",Estemate!A94,\"\")","v":""},"","","","","","","","","",84,{"$f":"IF(Estemate!P94=\"Suspand\",Estemate!B94,0)","v":0},{"$f":"IF(Estemate!P94=\"Suspand\",Estemate!G94,0)","v":0},{"$f":"IF(Estemate!P94=\"Suspand\",Estemate!C94,0)","v":0},{"$f":"IF(Estemate!P94=\"Suspand\",Estemate!L94,0)","v":0},{"$f":"IF(Estemate!P94=\"Suspand\",Estemate!N94,0)","v":"00:00:00"},{"$f":"IF(Estemate!P94=\"Suspand\",Estemate!O94,0)","v":"00:00:00"},{"$f":"IF(Estemate!P94=\"Suspand\",Estemate!M94,0)","v":0},0,0]
[{"$f":"IF(Estemate!P95=\"Suspand\",Estemate!A95,\"\")","v":""},"","","","","","","","","",85,{"$f":"IF(Estemate!P95=\"Suspand\",Estemate!B95,0)","v":0},{"$f":"IF(Estemate!P95=\"Suspand\",Estemate!G95,0)","v":0},{"$f":"IF(Estemate!P95=\"Suspand\",Estemate!C95,0)","v":0},{"$f":"IF(Estemate!P95=\"Suspand\",Estemate!L95,0)","v":0},{"$f":"IF(Estemate!P95=\"Suspand\",Estemate!N95,0)","v":"00:00:00"},{"$f":"IF(Estemate!P95=\"Suspand\",Estemate!O95,0)","v":"00:00:00"},{"$f":"IF(Estemate!P95=\"Suspand\",Estemate!M95,0)","v":0},0,0]
[{"$f":"IF(Estemate!P96=\"Suspand\",Estemate!A96,\"\")","v":""},"","","","","","","","","",86,{"$f":"IF(Estemate!P96=\"Suspand\",Estemate!B96,0)","v":0},{"$f":"IF(Estemate!P96=\"Suspand\",Estemate!G96,0)","v":0},{"$f":"IF(Estemate!P96=\"Suspand\",Estemate!C96,0)","v":0},{"$f":"IF(Estemate!P96=\"Suspand\",Estemate!L96,0)","v":0},{"$f":"IF(Estemate!P96=\"Suspand\",Estemate!N96,0)","v":"00:00:00"},{"$f":"IF(Estemate!P96=\"Suspand\",Estemate!O96,0)","v":"00:00:00"},{"$f":"IF(Estemate!P96=\"Suspand\",Estemate!M96,0)","v":0},0,0]
[{"$f":"IF(Estemate!P97=\"Suspand\",Estemate!A97,\"\")","v":""},"","","","","","","","","",87,{"$f":"IF(Estemate!P97=\"Suspand\",Estemate!B97,0)","v":0},{"$f":"IF(Estemate!P97=\"Suspand\",Estemate!G97,0)","v":0},{"$f":"IF(Estemate!P97=\"Suspand\",Estemate!C97,0)","v":0},{"$f":"IF(Estemate!P97=\"Suspand\",Estemate!L97,0)","v":0},{"$f":"IF(Estemate!P97=\"Suspand\",Estemate!N97,0)","v":"00:00:00"},{"$f":"IF(Estemate!P97=\"Suspand\",Estemate!O97,0)","v":"00:00:00"},{"$f":"IF(Estemate!P97=\"Suspand\",Estemate!M97,0)","v":0},0,0]
[{"$f":"IF(Estemate!P98=\"Suspand\",Estemate!A98,\"\")","v":""},"","","","","","","","","",88,{"$f":"IF(Estemate!P98=\"Suspand\",Estemate!B98,0)","v":0},{"$f":"IF(Estemate!P98=\"Suspand\",Estemate!G98,0)","v":0},{"$f":"IF(Estemate!P98=\"Suspand\",Estemate!C98,0)","v":0},{"$f":"IF(Estemate!P98=\"Suspand\",Estemate!L98,0)","v":0},{"$f":"IF(Estemate!P98=\"Suspand\",Estemate!N98,0)","v":"00:00:00"},{"$f":"IF(Estemate!P98=\"Suspand\",Estemate!O98,0)","v":"00:00:00"},{"$f":"IF(Estemate!P98=\"Suspand\",Estemate!M98,0)","v":0},0,0]
[{"$f":"IF(Estemate!P99=\"Suspand\",Estemate!A99,\"\")","v":""},"","","","","","","","","",89,{"$f":"IF(Estemate!P99=\"Suspand\",Estemate!B99,0)","v":0},{"$f":"IF(Estemate!P99=\"Suspand\",Estemate!G99,0)","v":0},{"$f":"IF(Estemate!P99=\"Suspand\",Estemate!C99,0)","v":0},{"$f":"IF(Estemate!P99=\"Suspand\",Estemate!L99,0)","v":0},{"$f":"IF(Estemate!P99=\"Suspand\",Estemate!N99,0)","v":"00:00:00"},{"$f":"IF(Estemate!P99=\"Suspand\",Estemate!O99,0)","v":"00:00:00"},{"$f":"IF(Estemate!P99=\"Suspand\",Estemate!M99,0)","v":0},0,0]
[{"$f":"IF(Estemate!P100=\"Suspand\",Estemate!A100,\"\")","v":""},"","","","","","","","","",90,{"$f":"IF(Estemate!P100=\"Suspand\",Estemate!B100,0)","v":0},{"$f":"IF(Estemate!P100=\"Suspand\",Estemate!G100,0)","v":0},{"$f":"IF(Estemate!P100=\"Suspand\",Estemate!C100,0)","v":0},{"$f":"IF(Estemate!P100=\"Suspand\",Estemate!L100,0)","v":0},{"$f":"IF(Estemate!P100=\"Suspand\",Estemate!N100,0)","v":"00:00:00"},{"$f":"IF(Estemate!P100=\"Suspand\",Estemate!O100,0)","v":"00:00:00"},{"$f":"IF(Estemate!P100=\"Suspand\",Estemate!M100,0)","v":0},0,0]
[{"$f":"IF(Estemate!P101=\"Suspand\",Estemate!A101,\"\")","v":""},"","","","","","","","","",91,{"$f":"IF(Estemate!P101=\"Suspand\",Estemate!B101,0)","v":0},{"$f":"IF(Estemate!P101=\"Suspand\",Estemate!G101,0)","v":0},{"$f":"IF(Estemate!P101=\"Suspand\",Estemate!C101,0)","v":0},{"$f":"IF(Estemate!P101=\"Suspand\",Estemate!L101,0)","v":0},{"$f":"IF(Estemate!P101=\"Suspand\",Estemate!N101,0)","v":"00:00:00"},{"$f":"IF(Estemate!P101=\"Suspand\",Estemate!O101,0)","v":"00:00:00"},{"$f":"IF(Estemate!P101=\"Suspand\",Estemate!M101,0)","v":0},0,0]
[{"$f":"IF(Estemate!P102=\"Suspand\",Estemate!A102,\"\")","v":""},"","","","","","","","","",92,{"$f":"IF(Estemate!P102=\"Suspand\",Estemate!B102,0)","v":0},{"$f":"IF(Estemate!P102=\"Suspand\",Estemate!G102,0)","v":0},{"$f":"IF(Estemate!P102=\"Suspand\",Estemate!C102,0)","v":0},{"$f":"IF(Estemate!P102=\"Suspand\",Estemate!L102,0)","v":0},{"$f":"IF(Estemate!P102=\"Suspand\",Estemate!N102,0)","v":"00:00:00"},{"$f":"IF(Estemate!P102=\"Suspand\",Estemate!O102,0)","v":"00:00:00"},{"$f":"IF(Estemate!P102=\"Suspand\",Estemate!M102,0)","v":0},0,0]
[{"$f":"IF(Estemate!P103=\"Suspand\",Estemate!A103,\"\")","v":""},"","","","","","","","","",93,{"$f":"IF(Estemate!P103=\"Suspand\",Estemate!B103,0)","v":0},{"$f":"IF(Estemate!P103=\"Suspand\",Estemate!G103,0)","v":0},{"$f":"IF(Estemate!P103=\"Suspand\",Estemate!C103,0)","v":0},{"$f":"IF(Estemate!P103=\"Suspand\",Estemate!L103,0)","v":0},{"$f":"IF(Estemate!P103=\"Suspand\",Estemate!N103,0)","v":"00:00:00"},{"$f":"IF(Estemate!P103=\"Suspand\",Estemate!O103,0)","v":"00:00:00"},{"$f":"IF(Estemate!P103=\"Suspand\",Estemate!M103,0)","v":0},0,0]
[{"$f":"IF(Estemate!P104=\"Suspand\",Estemate!A104,\"\")","v":""},"","","","","","","","","",94,{"$f":"IF(Estemate!P104=\"Suspand\",Estemate!B104,0)","v":0},{"$f":"IF(Estemate!P104=\"Suspand\",Estemate!G104,0)","v":0},{"$f":"IF(Estemate!P104=\"Suspand\",Estemate!C104,0)","v":0},{"$f":"IF(Estemate!P104=\"Suspand\",Estemate!L104,0)","v":0},{"$f":"IF(Estemate!P104=\"Suspand\",Estemate!N104,0)","v":"00:00:00"},{"$f":"IF(Estemate!P104=\"Suspand\",Estemate!O104,0)","v":"00:00:00"},{"$f":"IF(Estemate!P104=\"Suspand\",Estemate!M104,0)","v":0},0,0]
[{"$f":"IF(Estemate!P105=\"Suspand\",Estemate!A105,\"\")","v":""},"","","","","","","","","",95,{"$f":"IF(Estemate!P105=\"Suspand\",Estemate!B105,0)","v":0},{"$f":"IF(Estemate!P105=\"Suspand\",Estemate!G105,0)","v":0},{"$f":"IF(Estemate!P105=\"Suspand\",Estemate!C105,0)","v":0},{"$f":"IF(Estemate!P105=\"Suspand\",Estemate!L105,0)","v":0},{"$f":"IF(Estemate!P105=\"Suspand\",Estemate!N105,0)","v":"00:00:00"},{"$f":"IF(Estemate!P105=\"Suspand\",Estemate!O105,0)","v":"00:00:00"},{"$f":"IF(Estemate!P105=\"Suspand\",Estemate!M105,0)","v":0},0,0]
[{"$f":"IF(Estemate!P106=\"Suspand\",Estemate!A106,\"\")","v":""},"","","","","","","","","",96,{"$f":"IF(Estemate!P106=\"Suspand\",Estemate!B106,0)","v":0},{"$f":"IF(Estemate!P106=\"Suspand\",Estemate!G106,0)","v":0},{"$f":"IF(Estemate!P106=\"Suspand\",Estemate!C106,0)","v":0},{"$f":"IF(Estemate!P106=\"Suspand\",Estemate!L106,0)","v":0},{"$f":"IF(Estemate!P106=\"Suspand\",Estemate!N106,0)","v":"00:00:00"},{"$f":"IF(Estemate!P106=\"Suspand\",Estemate!O106,0)","v":"00:00:00"},{"$f":"IF(Estemate!P106=\"Suspand\",Estemate!M106,0)","v":0},0,0]
[{"$f":"IF(Estemate!P107=\"Suspand\",Estemate!A107,\"\")","v":""},"","","","","","","","","",97,{"$f":"IF(Estemate!P107=\"Suspand\",Estemate!B107,0)","v":0},{"$f":"IF(Estemate!P107=\"Suspand\",Estemate!G107,0)","v":0},{"$f":"IF(Estemate!P107=\"Suspand\",Estemate!C107,0)","v":0},{"$f":"IF(Estemate!P107=\"Suspand\",Estemate!L107,0)","v":0},{"$f":"IF(Estemate!P107=\"Suspand\",Estemate!N107,0)","v":"00:00:00"},{"$f":"IF(Estemate!P107=\"Suspand\",Estemate!O107,0)","v":"00:00:00"},{"$f":"IF(Estemate!P107=\"Suspand\",Estemate!M107,0)","v":0},0,0]
[{"$f":"IF(Estemate!P108=\"Suspand\",Estemate!A108,\"\")","v":""},"","","","","","","","","",98,{"$f":"IF(Estemate!P108=\"Suspand\",Estemate!B108,0)","v":0},{"$f":"IF(Estemate!P108=\"Suspand\",Estemate!G108,0)","v":0},{"$f":"IF(Estemate!P108=\"Suspand\",Estemate!C108,0)","v":0},{"$f":"IF(Estemate!P108=\"Suspand\",Estemate!L108,0)","v":0},{"$f":"IF(Estemate!P108=\"Suspand\",Estemate!N108,0)","v":"00:00:00"},{"$f":"IF(Estemate!P108=\"Suspand\",Estemate!O108,0)","v":"00:00:00"},{"$f":"IF(Estemate!P108=\"Suspand\",Estemate!M108,0)","v":0},0,0]
[{"$f":"IF(Estemate!P109=\"Suspand\",Estemate!A109,\"\")","v":""},"","","","","","","","","",99,{"$f":"IF(Estemate!P109=\"Suspand\",Estemate!B109,0)","v":0},{"$f":"IF(Estemate!P109=\"Suspand\",Estemate!G109,0)","v":0},{"$f":"IF(Estemate!P109=\"Suspand\",Estemate!C109,0)","v":0},{"$f":"IF(Estemate!P109=\"Suspand\",Estemate!L109,0)","v":0},{"$f":"IF(Estemate!P109=\"Suspand\",Estemate!N109,0)","v":"00:00:00"},{"$f":"IF(Estemate!P109=\"Suspand\",Estemate!O109,0)","v":"00:00:00"},{"$f":"IF(Estemate!P109=\"Suspand\",Estemate!M109,0)","v":0},0,0]
[{"$f":"IF(Estemate!P110=\"Suspand\",Estemate!A110,\"\")","v":""},"","","","","","","","","",100,{"$f":"IF(Estemate!P110=\"Suspand\",Estemate!B110,0)","v":0},{"$f":"IF(Estemate!P110=\"Suspand\",Estemate!G110,0)","v":0},{"$f":"IF(Estemate!P110=\"Suspand\",Estemate!C110,0)","v":0},{"$f":"IF(Estemate!P110=\"Suspand\",Estemate!L110,0)","v":0},{"$f":"IF(Estemate!P110=\"Suspand\",Estemate!N110,0)","v":"00:00:00"},{"$f":"IF(Estemate!P110=\"Suspand\",Estemate!O110,0)","v":"00:00:00"},{"$f":"IF(Estemate!P110=\"Suspand\",Estemate!M110,0)","v":0},0,0]
[null,"Total",null,null,null,null,null,null,null,{"$f":"SUM(J11:J110)","v":0}]
[null,"."]
[null,".",null,null,null,null,null,null,{"$f":"Database!N38","v":"प्रधानाचार्य"}]
[null,".",null,null,null,null,null,null,{"$f":"Database!N39","v":"jktdh; mPp ek/;fed fo|ky;"}]
[null,".",null,null,null,null,null,null,{"$f":"Database!N40","v":"pkSxkbZa] Vksad"}]
[null,".",null,null,null,null,null,null,{"$f":"Database!N41","v":27306}]

{"sheet":"Surrendar","index":11,"n_rows":116,"n_cols":11,"rows_kept":116,"cut":false,"hidden":true,"merged":[[114,5,114,6],[115,5,115,6],[0,0,0,1],[0,2,0,6],[1,0,1,6],[2,0,2,1],[113,5,113,6],[112,5,112,6]]}
[{"$f":"Database!B1","v":"dk;kZy;&"},null,{"$f":"Database!F1","v":"jktdh; mPp ek/;fed fo|ky;&pkSxkbZa] Vksad"}]
["lefiZr vodk'k osru fooj.k"]
[{"$f":"Database!B3","v":"eq[; ys[kk 'kh\"kZ&"},null,{"$f":"Database!B4","v":2202},{"$f":"Database!C4","v":"lkekU; f'k{kk"},null,null,{"$f":"Database!H4","v":"MhMhvks dksM&"}]
[null,null,{"$f":"Database!B5","v":2},{"$f":"Database!C5","v":"ek/;fed f'k{kk"},null,null,{"$f":"Database!H5","v":27306}]
[null,null,{"$f":"Database!B6","v":109},{"$f":"Database!C6","v":"jktdh; mPp ek/;fed fo|ky;"}]
[null,null,{"$f":"Database!B7","v":1},{"$f":"Database!C7","v":"yMdksa ds fo|ky;"}]
[null,null,{"$f":"Database!B8","v":0},{"$f":"Database!C8","v":"lkekU; O;;"}]
[null,{"$f":"Database!F8","v":"Ldhe dk uke&"},{"$f":"Database!H8","v":"राज्य निधि"}]
["Ø- la-","uke dkfeZd ","in uke","is ysoy","osru",{"$f":"Database!K21","v":"lEHkkfor O;; 2023&24"},{"$f":"Database!O20","v":"O;; vuqeku 2024&25"},"Next Salary","R/F","DA Rate","Current Salary"]
[1,2,3,4,5,6,7]
[{"$f":"IF(B11=0,\"\",1)","v":""},{"$f":"Estemate!G11","v":0},{"$f":"Estemate!C11","v":0},{"$f":"Estemate!L11","v":0},{"$f":"Estemate!M11","v":0},{"$f":"IF(AND(I11=\"f\"),0,ROUNDUP(K11*J11%/2,0))","v":0},{"$f":"IF(AND(I11=\"f\"),0,ROUNDUP(H11*J11%/2,0))","v":0},{"$f":"'8'!R13","v":0},{"$f":"Estemate!P11","v":0},{"$f":"Database!F$9+100","v":142},{"$f":"'8'!H13","v":0}]
[{"$f":"IF(B12=0,\"\",A11+1)","v":""},{"$f":"Estemate!G12","v":0},{"$f":"Estemate!C12","v":0},{"$f":"Estemate!L12","v":0},{"$f":"Estemate!M12","v":0},{"$f":"IF(AND(I12=\"f\"),0,ROUNDUP(K12*J12%/2,0))","v":0},{"$f":"IF(AND(I12=\"f\"),0,ROUNDUP(H12*J12%/2,0))","v":0},{"$f":"'8'!R14","v":0},{"$f":"Estemate!P12","v":0},{"$f":"Database!F$9+100","v":142},{"$f":"'8'!H14","v":0}]
[{"$f":"IF(B13=0,\"\",A12+1)","v":""},{"$f":"Estemate!G13","v":0},{"$f":"Estemate!C13","v":0},{"$f":"Estemate!L13","v":0},{"$f":"Estemate!M13","v":0},0,{"$f":"IF(AND(I13=\"f\"),0,ROUNDUP(H13*J13%/2,0))","v":0},{"$f":"'8'!R15","v":0},{"$f":"Estemate!P13","v":0},{"$f":"Database!F$9+100","v":142},{"$f":"'8'!H15","v":0}]
["",{"$f":"Estemate!G14","v":0},{"$f":"Estemate!C14","v":0},{"$f":"Estemate!L14","v":0},{"$f":"Estemate!M14","v":0},0,0,{"$f":"'8'!R16","v":0},{"$f":"Estemate!P14","v":0},{"$f":"Database!F$9+100","v":142},{"$f":"'8'!H16","v":0}]
["",{"$f":"Estemate!G15","v":0},{"$f":"Estemate!C15","v":0},{"$f":"Estemate!L15","v":0},{"$f":"Estemate!M15","v":0},0,0,{"$f":"'8'!R17","v":0},{"$f":"Estemate!P15","v":0},{"$f":"Database!F$9+100","v":142},{"$f":"'8'!H17","v":0}]
["",{"$f":"Estemate!G16","v":0},{"$f":"Estemate!C16","v":0},{"$f":"Estemate!L16","v":0},{"$f":"Estemate!M16","v":0},0,0,{"$f":"'8'!R18","v":0},{"$f":"Estemate!P16","v":0},{"$f":"Database!F$9+100","v":142},{"$f":"'8'!H18","v":0}]
["",{"$f":"Estemate!G17","v":0},{"$f":"Estemate!C17","v":0},{"$f":"Estemate!L17","v":0},{"$f":"Estemate!M17","v":0},0,0,{"$f":"'8'!R19","v":0},{"$f":"Estemate!P17","v":0},{"$f":"Database!F$9+100","v":142},{"$f":"'8'!H19","v":0}]
["",{"$f":"Estemate!G18","v":0},{"$f":"Estemate!C18","v":0},{"$f":"Estemate!L18","v":0},{"$f":"Estemate!M18","v":0},0,0,{"$f":"'8'!R20","v":0},{"$f":"Estemate!P18","v":0},{"$f":"Database!F$9+100","v":142},{"$f":"'8'!H20","v":0}]
["",{"$f":"Estemate!G19","v":0},{"$f":"Estemate!C19","v":0},{"$f":"Estemate!L19","v":0},{"$f":"Estemate!M19","v":0},0,0,{"$f":"'8'!R21","v":0},{"$f":"Estemate!P19","v":0},{"$f":"Database!F$9+100","v":142},{"$f":"'8'!H21","v":0}]
["",{"$f":"Estemate!G20","v":0},{"$f":"Estemate!C20","v":0},{"$f":"Estemate!L20","v":0},{"$f":"Estemate!M20","v":0},0,0,{"$f":"'8'!R22","v":0},{"$f":"Estemate!P20","v":0},{"$f":"Database!F$9+100","v":142},{"$f":"'8'!H22","v":0}]
["",{"$f":"Estemate!G21","v":0},{"$f":"Estemate!C21","v":0},{"$f":"Estemate!L21","v":0},{"$f":"Estemate!M21","v":0},0,0,{"$f":"'8'!R23","v":0},{"$f":"Estemate!P21","v":0},{"$f":"Database!F$9+100","v":142},{"$f":"'8'!H23","v":0}]
["",{"$f":"Estemate!G22","v":0},{"$f":"Estemate!C22","v":0},{"$f":"Estemate!L22","v":0},{"$f":"Estemate!M22","v":0},0,0,{"$f":"'8'!R24","v":0},{"$f":"Estemate!P22","v":0},{"$f":"Database!F$9+100","v":142},{"$f":"'8'!H24","v":0}]
["",{"$f":"Estemate!G23","v":0},{"$f":"Estemate!C23","v":0},{"$f":"Estemate!L23","v":0},{"$f":"Estemate!M23","v":0},0,0,{"$f":"'8'!R25","v":0},{"$f":"Estemate!P23","v":0},{"$f":"Database!F$9+100","v":142},{"$f":"'8'!H25","v":0}]
["",{"$f":"Estemate!G24","v":0},{"$f":"Estemate!C24","v":0},{"$f":"Estemate!L24","v":0},{"$f":"Estemate!M24","v":0},0,0,{"$f":"'8'!R26","v":0},{"$f":"Estemate!P24","v":0},{"$f":"Database!F$9+100","v":142},{"$f":"'8'!H26","v":0}]
["",{"$f":"Estemate!G25","v":0},{"$f":"Estemate!C25","v":0},{"$f":"Estemate!L25","v":0},{"$f":"Estemate!M25","v":0},0,0,{"$f":"'8'!R27","v":0},{"$f":"Estemate!P25","v":0},{"$f":"Database!F$9+100","v":142},{"$f":"'8'!H27","v":0}]
["",{"$f":"Estemate!G26","v":0},{"$f":"Estemate!C26","v":0},{"$f":"Estemate!L26","v":0},{"$f":"Estemate!M26","v":0},0,0,{"$f":"'8'!R28","v":0},{"$f":"Estemate!P26","v":0},{"$f":"Database!F$9+100","v":142},{"$f":"'8'!H28","v":0}]
["",{"$f":"Estemate!G27","v":0},{"$f":"Estemate!C27","v":0},{"$f":"Estemate!L27","v":0},{"$f":"Estemate!M27","v":0},0,0,{"$f":"'8'!R29","v":0},{"$f":"Estemate!P27","v":0},{"$f":"Database!F$9+100","v":142},{"$f":"'8'!H29","v":0}]
["",{"$f":"Estemate!G28","v":0},{"$f":"Estemate!C28","v":0},{"$f":"Estemate!L28","v":0},{"$f":"Estemate!M28","v":0},0,0,{"$f":"'8'!R30","v":0},{"$f":"Estemate!P28","v":0},{"$f":"Database!F$9+100","v":142},{"$f":"'8'!H30","v":0}]
["",{"$f":"Estemate!G29","v":0},{"$f":"Estemate!C29","v":0},{"$f":"Estemate!L29","v":0},{"$f":"Estemate!M29","v":0},0,0,{"$f":"'8'!R31","v":0},{"$f":"Estemate!P29","v":0},{"$f":"Database!F$9+100","v":142},{"$f":"'8'!H31","v":0}]
["",{"$f":"Estemate!G30","v":0},{"$f":"Estemate!C30","v":0},{"$f":"Estemate!L30","v":0},{"$f":"Estemate!M30","v":0},0,0,{"$f":"'8'!R32","v":0},{"$f":"Estemate!P30","v":0},{"$f":"Database!F$9+100","v":142},{"$f":"'8'!H32","v":0}]
["",{"$f":"Estemate!G31","v":0},{"$f":"Estemate!C31","v":0},{"$f":"Estemate!L31","v":0},{"$f":"Estemate!M31","v":0},0,0,{"$f":"'8'!R33","v":0},{"$f":"Estemate!P31","v":0},{"$f":"Database!F$9+100","v":142},{"$f":"'8'!H33","v":0}]
["",{"$f":"Estemate!G32","v":0},{"$f":"Estemate!C32","v":0},{"$f":"Estemate!L32","v":0},{"$f":"Estemate!M32","v":0},0,0,{"$f":"'8'!R34","v":0},{"$f":"Estemate!P32","v":0},{"$f":"Database!F$9+100","v":142},{"$f":"'8'!H34","v":0}]
["",{"$f":"Estemate!G33","v":0},{"$f":"Estemate!C33","v":0},{"$f":"Estemate!L33","v":0},{"$f":"Estemate!M33","v":0},0,0,{"$f":"'8'!R35","v":0},{"$f":"Estemate!P33","v":0},{"$f":"Database!F$9+100","v":142},{"$f":"'8'!H35","v":0}]
["",{"$f":"Estemate!G34","v":0},{"$f":"Estemate!C34","v":0},{"$f":"Estemate!L34","v":0},{"$f":"Estemate!M34","v":0},0,0,{"$f":"'8'!R36","v":0},{"$f":"Estemate!P34","v":0},{"$f":"Database!F$9+100","v":142},{"$f":"'8'!H36","v":0}]
["",{"$f":"Estemate!G35","v":0},{"$f":"Estemate!C35","v":0},{"$f":"Estemate!L35","v":0},{"$f":"Estemate!M35","v":0},0,0,{"$f":"'8'!R37","v":0},{"$f":"Estemate!P35","v":0},{"$f":"Database!F$9+100","v":142},{"$f":"'8'!H37","v":0}]
["",{"$f":"Estemate!G36","v":0},{"$f":"Estemate!C36","v":0},{"$f":"Estemate!L36","v":0},{"$f":"Estemate!M36","v":0},0,0,{"$f":"'8'!R38","v":0},{"$f":"Estemate!P36","v":0},{"$f":"Database!F$9+100","v":142},{"$f":"'8'!H38","v":0}]
["",{"$f":"Estemate!G37","v":0},{"$f":"Estemate!C37","v":0},{"$f":"Estemate!L37","v":0},{"$f":"Estemate!M37","v":0},0,0,{"$f":"'8'!R39","v":0},{"$f":"Estemate!P37","v":0},{"$f":"Database!F$9+100","v":142},{"$f":"'8'!H39","v":0}]
["",{"$f":"Estemate!G38","v":0},{"$f":"Estemate!C38","v":0},{"$f":"Estemate!L38","v":0},{"$f":"Estemate!M38","v":0},0,0,{"$f":"'8'!R40","v":0},{"$f":"Estemate!P38","v":0},{"$f":"Database!F$9+100","v":142},{"$f":"'8'!H40","v":0}]
["",{"$f":"Estemate!G39","v":0},{"$f":"Estemate!C39","v":0},{"$f":"Estemate!L39","v":0},{"$f":"Estemate!M39","v":0},0,0,{"$f":"'8'!R41","v":0},{"$f":"Estemate!P39","v":0},{"$f":"Database!F$9+100","v":142},{"$f":"'8'!H41","v":0}]
["",{"$f":"Estemate!G40","v":0},{"$f":"Estemate!C40","v":0},{"$f":"Estemate!L40","v":0},{"$f":"Estemate!M40","v":0},0,0,{"$f":"'8'!R42","v":0},{"$f":"Estemate!P40","v":0},{"$f":"Database!F$9+100","v":142},{"$f":"'8'!H42","v":0}]
["",{"$f":"Estemate!G41","v":0},{"$f":"Estemate!C41","v":0},{"$f":"Estemate!L41","v":0},{"$f":"Estemate!M41","v":0},0,0,{"$f":"'8'!R43","v":0},{"$f":"Estemate!P41","v":0},{"$f":"Database!F$9+100","v":142},{"$f":"'8'!H43","v":0}]
["",{"$f":"Estemate!G42","v":0},{"$f":"Estemate!C42","v":0},{"$f":"Estemate!L42","v":0},{"$f":"Estemate!M42","v":0},0,0,{"$f":"'8'!R44","v":0},{"$f":"Estemate!P42","v":0},{"$f":"Database!F$9+100","v":142},{"$f":"'8'!H44","v":0}]
["",{"$f":"Estemate!G43","v":0},{"$f":"Estemate!C43","v":0},{"$f":"Estemate!L43","v":0},{"$f":"Estemate!M43","v":0},0,0,{"$f":"'8'!R45","v":0},{"$f":"Estemate!P43","v":0},{"$f":"Database!F$9+100","v":142},{"$f":"'8'!H45","v":0}]
["",{"$f":"Estemate!G44","v":0},{"$f":"Estemate!C44","v":0},{"$f":"Estemate!L44","v":0},{"$f":"Estemate!M44","v":0},0,0,{"$f":"'8'!R46","v":0},{"$f":"Estemate!P44","v":0},{"$f":"Database!F$9+100","v":142},{"$f":"'8'!H46","v":0}]
["",{"$f":"Estemate!G45","v":0},{"$f":"Estemate!C45","v":0},{"$f":"Estemate!L45","v":0},{"$f":"Estemate!M45","v":0},0,0,{"$f":"'8'!R47","v":0},{"$f":"Estemate!P45","v":0},{"$f":"Database!F$9+100","v":142},{"$f":"'8'!H47","v":0}]
["",{"$f":"Estemate!G46","v":0},{"$f":"Estemate!C46","v":0},{"$f":"Estemate!L46","v":0},{"$f":"Estemate!M46","v":0},0,0,{"$f":"'8'!R48","v":0},{"$f":"Estemate!P46","v":0},{"$f":"Database!F$9+100","v":142},{"$f":"'8'!H48","v":0}]
["",{"$f":"Estemate!G47","v":0},{"$f":"Estemate!C47","v":0},{"$f":"Estemate!L47","v":0},{"$f":"Estemate!M47","v":0},0,0,{"$f":"'8'!R49","v":0},{"$f":"Estemate!P47","v":0},{"$f":"Database!F$9+100","v":142},{"$f":"'8'!H49","v":0}]
["",{"$f":"Estemate!G48","v":0},{"$f":"Estemate!C48","v":0},{"$f":"Estemate!L48","v":0},{"$f":"Estemate!M48","v":0},0,0,{"$f":"'8'!R50","v":0},{"$f":"Estemate!P48","v":0},{"$f":"Database!F$9+100","v":142},{"$f":"'8'!H50","v":0}]
["",{"$f":"Estemate!G49","v":0},{"$f":"Estemate!C49","v":0},{"$f":"Estemate!L49","v":0},{"$f":"Estemate!M49","v":0},0,0,{"$f":"'8'!R51","v":0},{"$f":"Estemate!P49","v":0},{"$f":"Database!F$9+100","v":142},{"$f":"'8'!H51","v":0}]
["",{"$f":"Estemate!G50","v":0},{"$f":"Estemate!C50","v":0},{"$f":"Estemate!L50","v":0},{"$f":"Estemate!M50","v":0},0,0,{"$f":"'8'!R52","v":0},{"$f":"Estemate!P50","v":0},{"$f":"Database!F$9+100","v":142},{"$f":"'8'!H52","v":0}]
["",{"$f":"Estemate!G51","v":0},{"$f":"Estemate!C51","v":0},{"$f":"Estemate!L51","v":0},{"$f":"Estemate!M51","v":0},0,0,{"$f":"'8'!R53","v":0},{"$f":"Estemate!P51","v":0},{"$f":"Database!F$9+100","v":142},{"$f":"'8'!H53","v":0}]
["",{"$f":"Estemate!G52","v":0},{"$f":"Estemate!C52","v":0},{"$f":"Estemate!L52","v":0},{"$f":"Estemate!M52","v":0},0,0,{"$f":"'8'!R54","v":0},{"$f":"Estemate!P52","v":0},{"$f":"Database!F$9+100","v":142},{"$f":"'8'!H54","v":0}]
["",{"$f":"Estemate!G53","v":0},{"$f":"Estemate!C53","v":0},{"$f":"Estemate!L53","v":0},{"$f":"Estemate!M53","v":0},0,0,{"$f":"'8'!R55","v":0},{"$f":"Estemate!P53","v":0},{"$f":"Database!F$9+100","v":142},{"$f":"'8'!H55","v":0}]
["",{"$f":"Estemate!G54","v":0},{"$f":"Estemate!C54","v":0},{"$f":"Estemate!L54","v":0},{"$f":"Estemate!M54","v":0},0,0,{"$f":"'8'!R56","v":0},{"$f":"Estemate!P54","v":0},{"$f":"Database!F$9+100","v":142},{"$f":"'8'!H56","v":0}]
["",{"$f":"Estemate!G55","v":0},{"$f":"Estemate!C55","v":0},{"$f":"Estemate!L55","v":0},{"$f":"Estemate!M55","v":0},0,0,{"$f":"'8'!R57","v":0},{"$f":"Estemate!P55","v":0},{"$f":"Database!F$9+100","v":142},{"$f":"'8'!H57","v":0}]
["",{"$f":"Estemate!G56","v":0},{"$f":"Estemate!C56","v":0},{"$f":"Estemate!L56","v":0},{"$f":"Estemate!M56","v":0},0,0,{"$f":"'8'!R58","v":0},{"$f":"Estemate!P56","v":0},{"$f":"Database!F$9+100","v":142},{"$f":"'8'!H58","v":0}]
["",{"$f":"Estemate!G57","v":0},{"$f":"Estemate!C57","v":0},{"$f":"Estemate!L57","v":0},{"$f":"Estemate!M57","v":0},0,0,{"$f":"'8'!R59","v":0},{"$f":"Estemate!P57","v":0},{"$f":"Database!F$9+100","v":142},{"$f":"'8'!H59","v":0}]
["",{"$f":"Estemate!G58","v":0},{"$f":"Estemate!C58","v":0},{"$f":"Estemate!L58","v":0},{"$f":"Estemate!M58","v":0},0,0,{"$f":"'8'!R60","v":0},{"$f":"Estemate!P58","v":0},{"$f":"Database!F$9+100","v":142},{"$f":"'8'!H60","v":0}]
["",{"$f":"Estemate!G59","v":0},{"$f":"Estemate!C59","v":0},{"$f":"Estemate!L59","v":0},{"$f":"Estemate!M59","v":0},0,0,{"$f":"'8'!R61","v":0},{"$f":"Estemate!P59","v":0},{"$f":"Database!F$9+100","v":142},{"$f":"'8'!H61","v":0}]
["",{"$f":"Estemate!G60","v":0},{"$f":"Estemate!C60","v":0},{"$f":"Estemate!L60","v":0},{"$f":"Estemate!M60","v":0},0,0,{"$f":"'8'!R62","v":0},{"$f":"Estemate!P60","v":0},{"$f":"Database!F$9+100","v":142},{"$f":"'8'!H62","v":0}]
["",{"$f":"Estemate!G61","v":0},{"$f":"Estemate!C61","v":0},{"$f":"Estemate!L61","v":0},{"$f":"Estemate!M61","v":0},0,0,{"$f":"'8'!R63","v":0},{"$f":"Estemate!P61","v":0},{"$f":"Database!F$9+100","v":142},{"$f":"'8'!H63","v":0}]
["",{"$f":"Estemate!G62","v":0},{"$f":"Estemate!C62","v":0},{"$f":"Estemate!L62","v":0},{"$f":"Estemate!M62","v":0},0,0,{"$f":"'8'!R64","v":0},{"$f":"Estemate!P62","v":0},{"$f":"Database!F$9+100","v":142},{"$f":"'8'!H64","v":0}]
["",{"$f":"Estemate!G63","v":0},{"$f":"Estemate!C63","v":0},{"$f":"Estemate!L63","v":0},{"$f":"Estemate!M63","v":0},0,0,{"$f":"'8'!R65","v":0},{"$f":"Estemate!P63","v":0},{"$f":"Database!F$9+100","v":142},{"$f":"'8'!H65","v":0}]
["",{"$f":"Estemate!G64","v":0},{"$f":"Estemate!C64","v":0},{"$f":"Estemate!L64","v":0},{"$f":"Estemate!M64","v":0},0,0,{"$f":"'8'!R66","v":0},{"$f":"Estemate!P64","v":0},{"$f":"Database!F$9+100","v":142},{"$f":"'8'!H66","v":0}]
["",{"$f":"Estemate!G65","v":0},{"$f":"Estemate!C65","v":0},{"$f":"Estemate!L65","v":0},{"$f":"Estemate!M65","v":0},0,0,{"$f":"'8'!R67","v":0},{"$f":"Estemate!P65","v":0},{"$f":"Database!F$9+100","v":142},{"$f":"'8'!H67","v":0}]
["",{"$f":"Estemate!G66","v":0},{"$f":"Estemate!C66","v":0},{"$f":"Estemate!L66","v":0},{"$f":"Estemate!M66","v":0},0,0,{"$f":"'8'!R68","v":0},{"$f":"Estemate!P66","v":0},{"$f":"Database!F$9+100","v":142},{"$f":"'8'!H68","v":0}]
["",{"$f":"Estemate!G67","v":0},{"$f":"Estemate!C67","v":0},{"$f":"Estemate!L67","v":0},{"$f":"Estemate!M67","v":0},0,0,{"$f":"'8'!R69","v":0},{"$f":"Estemate!P67","v":0},{"$f":"Database!F$9+100","v":142},{"$f":"'8'!H69","v":0}]
["",{"$f":"Estemate!G68","v":0},{"$f":"Estemate!C68","v":0},{"$f":"Estemate!L68","v":0},{"$f":"Estemate!M68","v":0},0,0,{"$f":"'8'!R70","v":0},{"$f":"Estemate!P68","v":0},{"$f":"Database!F$9+100","v":142},{"$f":"'8'!H70","v":0}]
["",{"$f":"Estemate!G69","v":0},{"$f":"Estemate!C69","v":0},{"$f":"Estemate!L69","v":0},{"$f":"Estemate!M69","v":0},0,0,{"$f":"'8'!R71","v":0},{"$f":"Estemate!P69","v":0},{"$f":"Database!F$9+100","v":142},{"$f":"'8'!H71","v":0}]
["",{"$f":"Estemate!G70","v":0},{"$f":"Estemate!C70","v":0},{"$f":"Estemate!L70","v":0},{"$f":"Estemate!M70","v":0},0,0,{"$f":"'8'!R72","v":0},{"$f":"Estemate!P70","v":0},{"$f":"Database!F$9+100","v":142},{"$f":"'8'!H72","v":0}]
["",{"$f":"Estemate!G71","v":0},{"$f":"Estemate!C71","v":0},{"$f":"Estemate!L71","v":0},{"$f":"Estemate!M71","v":0},0,0,{"$f":"'8'!R73","v":0},{"$f":"Estemate!P71","v":0},{"$f":"Database!F$9+100","v":142},{"$f":"'8'!H73","v":0}]
["",{"$f":"Estemate!G72","v":0},{"$f":"Estemate!C72","v":0},{"$f":"Estemate!L72","v":0},{"$f":"Estemate!M72","v":0},0,0,{"$f":"'8'!R74","v":0},{"$f":"Estemate!P72","v":0},{"$f":"Database!F$9+100","v":142},{"$f":"'8'!H74","v":0}]
["",{"$f":"Estemate!G73","v":0},{"$f":"Estemate!C73","v":0},{"$f":"Estemate!L73","v":0},{"$f":"Estemate!M73","v":0},0,0,{"$f":"'8'!R75","v":0},{"$f":"Estemate!P73","v":0},{"$f":"Database!F$9+100","v":142},{"$f":"'8'!H75","v":0}]
["",{"$f":"Estemate!G74","v":0},{"$f":"Estemate!C74","v":0},{"$f":"Estemate!L74","v":0},{"$f":"Estemate!M74","v":0},0,0,{"$f":"'8'!R76","v":0},{"$f":"Estemate!P74","v":0},{"$f":"Database!F$9+100","v":142},{"$f":"'8'!H76","v":0}]
["",{"$f":"Estemate!G75","v":0},{"$f":"Estemate!C75","v":0},{"$f":"Estemate!L75","v":0},{"$f":"Estemate!M75","v":0},0,0,{"$f":"'8'!R77","v":0},{"$f":"Estemate!P75","v":0},{"$f":"Database!F$9+100","v":142},{"$f":"'8'!H77","v":0}]
["",{"$f":"Estemate!G76","v":0},{"$f":"Estemate!C76","v":0},{"$f":"Estemate!L76","v":0},{"$f":"Estemate!M76","v":0},{"$f":"IF(AND(I76=\"f\"),0,ROUNDUP(K76*J76%/2,0))","v":0},{"$f":"IF(AND(I76=\"f\"),0,ROUNDUP(H76*J76%/2,0))","v":0},{"$f":"'8'!R78","v":0},{"$f":"Estemate!P76","v":0},{"$f":"Database!F$9+100","v":142},{"$f":"'8'!H78","v":0}]
[{"$f":"IF(B77=0,\"\",A76+1)","v":""},{"$f":"Estemate!G77","v":0},{"$f":"Estemate!C77","v":0},{"$f":"Estemate!L77","v":0},{"$f":"Estemate!M77","v":0},0,0,{"$f":"'8'!R79","v":0},{"$f":"Estemate!P77","v":0},{"$f":"Database!F$9+100","v":142},{"$f":"'8'!H79","v":0}]
["",{"$f":"Estemate!G78","v":0},{"$f":"Estemate!C78","v":0},{"$f":"Estemate!L78","v":0},{"$f":"Estemate!M78","v":0},0,0,{"$f":"'8'!R80","v":0},{"$f":"Estemate!P78","v":0},{"$f":"Database!F$9+100","v":142},{"$f":"'8'!H80","v":0}]
["",{"$f":"Estemate!G79","v":0},{"$f":"Estemate!C79","v":0},{"$f":"Estemate!L79","v":0},{"$f":"Estemate!M79","v":0},0,0,{"$f":"'8'!R81","v":0},{"$f":"Estemate!P79","v":0},{"$f":"Database!F$9+100","v":142},{"$f":"'8'!H81","v":0}]
["",{"$f":"Estemate!G80","v":0},{"$f":"Estemate!C80","v":0},{"$f":"Estemate!L80","v":0},{"$f":"Estemate!M80","v":0},0,0,{"$f":"'8'!R82","v":0},{"$f":"Estemate!P80","v":0},{"$f":"Database!F$9+100","v":142},{"$f":"'8'!H82","v":0}]
["",{"$f":"Estemate!G81","v":0},{"$f":"Estemate!C81","v":0},{"$f":"Estemate!L81","v":0},{"$f":"Estemate!M81","v":0},0,0,{"$f":"'8'!R83","v":0},{"$f":"Estemate!P81","v":0},{"$f":"Database!F$9+100","v":142},{"$f":"'8'!H83","v":0}]
["",{"$f":"Estemate!G82","v":0},{"$f":"Estemate!C82","v":0},{"$f":"Estemate!L82","v":0},{"$f":"Estemate!M82","v":0},0,0,{"$f":"'8'!R84","v":0},{"$f":"Estemate!P82","v":0},{"$f":"Database!F$9+100","v":142},{"$f":"'8'!H84","v":0}]
["",{"$f":"Estemate!G83","v":0},{"$f":"Estemate!C83","v":0},{"$f":"Estemate!L83","v":0},{"$f":"Estemate!M83","v":0},0,0,{"$f":"'8'!R85","v":0},{"$f":"Estemate!P83","v":0},{"$f":"Database!F$9+100","v":142},{"$f":"'8'!H85","v":0}]
["",{"$f":"Estemate!G84","v":0},{"$f":"Estemate!C84","v":0},{"$f":"Estemate!L84","v":0},{"$f":"Estemate!M84","v":0},0,0,{"$f":"'8'!R86","v":0},{"$f":"Estemate!P84","v":0},{"$f":"Database!F$9+100","v":142},{"$f":"'8'!H86","v":0}]
["",{"$f":"Estemate!G85","v":0},{"$f":"Estemate!C85","v":0},{"$f":"Estemate!L85","v":0},{"$f":"Estemate!M85","v":0},0,0,{"$f":"'8'!R87","v":0},{"$f":"Estemate!P85","v":0},{"$f":"Database!F$9+100","v":142},{"$f":"'8'!H87","v":0}]
["",{"$f":"Estemate!G86","v":0},{"$f":"Estemate!C86","v":0},{"$f":"Estemate!L86","v":0},{"$f":"Estemate!M86","v":0},0,0,{"$f":"'8'!R88","v":0},{"$f":"Estemate!P86","v":0},{"$f":"Database!F$9+100","v":142},{"$f":"'8'!H88","v":0}]
["",{"$f":"Estemate!G87","v":0},{"$f":"Estemate!C87","v":0},{"$f":"Estemate!L87","v":0},{"$f":"Estemate!M87","v":0},0,0,{"$f":"'8'!R89","v":0},{"$f":"Estemate!P87","v":0},{"$f":"Database!F$9+100","v":142},{"$f":"'8'!H89","v":0}]
["",{"$f":"Estemate!G88","v":0},{"$f":"Estemate!C88","v":0},{"$f":"Estemate!L88","v":0},{"$f":"Estemate!M88","v":0},0,0,{"$f":"'8'!R90","v":0},{"$f":"Estemate!P88","v":0},{"$f":"Database!F$9+100","v":142},{"$f":"'8'!H90","v":0}]
["",{"$f":"Estemate!G89","v":0},{"$f":"Estemate!C89","v":0},{"$f":"Estemate!L89","v":0},{"$f":"Estemate!M89","v":0},0,0,{"$f":"'8'!R91","v":0},{"$f":"Estemate!P89","v":0},{"$f":"Database!F$9+100","v":142},{"$f":"'8'!H91","v":0}]
["",{"$f":"Estemate!G90","v":0},{"$f":"Estemate!C90","v":0},{"$f":"Estemate!L90","v":0},{"$f":"Estemate!M90","v":0},0,0,{"$f":"'8'!R92","v":0},{"$f":"Estemate!P90","v":0},{"$f":"Database!F$9+100","v":142},{"$f":"'8'!H92","v":0}]
["",{"$f":"Estemate!G91","v":0},{"$f":"Estemate!C91","v":0},{"$f":"Estemate!L91","v":0},{"$f":"Estemate!M91","v":0},0,0,{"$f":"'8'!R93","v":0},{"$f":"Estemate!P91","v":0},{"$f":"Database!F$9+100","v":142},{"$f":"'8'!H93","v":0}]
["",{"$f":"Estemate!G92","v":0},{"$f":"Estemate!C92","v":0},{"$f":"Estemate!L92","v":0},{"$f":"Estemate!M92","v":0},0,0,{"$f":"'8'!R94","v":0},{"$f":"Estemate!P92","v":0},{"$f":"Database!F$9+100","v":142},{"$f":"'8'!H94","v":0}]
["",{"$f":"Estemate!G93","v":0},{"$f":"Estemate!C93","v":0},{"$f":"Estemate!L93","v":0},{"$f":"Estemate!M93","v":0},0,0,{"$f":"'8'!R95","v":0},{"$f":"Estemate!P93","v":0},{"$f":"Database!F$9+100","v":142},{"$f":"'8'!H95","v":0}]
["",{"$f":"Estemate!G94","v":0},{"$f":"Estemate!C94","v":0},{"$f":"Estemate!L94","v":0},{"$f":"Estemate!M94","v":0},0,0,{"$f":"'8'!R96","v":0},{"$f":"Estemate!P94","v":0},{"$f":"Database!F$9+100","v":142},{"$f":"'8'!H96","v":0}]
["",{"$f":"Estemate!G95","v":0},{"$f":"Estemate!C95","v":0},{"$f":"Estemate!L95","v":0},{"$f":"Estemate!M95","v":0},0,0,{"$f":"'8'!R97","v":0},{"$f":"Estemate!P95","v":0},{"$f":"Database!F$9+100","v":142},{"$f":"'8'!H97","v":0}]
["",{"$f":"Estemate!G96","v":0},{"$f":"Estemate!C96","v":0},{"$f":"Estemate!L96","v":0},{"$f":"Estemate!M96","v":0},0,0,{"$f":"'8'!R98","v":0},{"$f":"Estemate!P96","v":0},{"$f":"Database!F$9+100","v":142},{"$f":"'8'!H98","v":0}]
["",{"$f":"Estemate!G97","v":0},{"$f":"Estemate!C97","v":0},{"$f":"Estemate!L97","v":0},{"$f":"Estemate!M97","v":0},0,0,{"$f":"'8'!R99","v":0},{"$f":"Estemate!P97","v":0},{"$f":"Database!F$9+100","v":142},{"$f":"'8'!H99","v":0}]
["",{"$f":"Estemate!G98","v":0},{"$f":"Estemate!C98","v":0},{"$f":"Estemate!L98","v":0},{"$f":"Estemate!M98","v":0},0,0,{"$f":"'8'!R100","v":0},{"$f":"Estemate!P98","v":0},{"$f":"Database!F$9+100","v":142},{"$f":"'8'!H100","v":0}]
["",{"$f":"Estemate!G99","v":0},{"$f":"Estemate!C99","v":0},{"$f":"Estemate!L99","v":0},{"$f":"Estemate!M99","v":0},0,0,{"$f":"'8'!R101","v":0},{"$f":"Estemate!P99","v":0},{"$f":"Database!F$9+100","v":142},{"$f":"'8'!H101","v":0}]
["",{"$f":"Estemate!G100","v":0},{"$f":"Estemate!C100","v":0},{"$f":"Estemate!L100","v":0},{"$f":"Estemate!M100","v":0},0,0,{"$f":"'8'!R102","v":0},{"$f":"Estemate!P100","v":0},{"$f":"Database!F$9+100","v":142},{"$f":"'8'!H102","v":0}]
["",{"$f":"Estemate!G101","v":0},{"$f":"Estemate!C101","v":0},{"$f":"Estemate!L101","v":0},{"$f":"Estemate!M101","v":0},0,0,{"$f":"'8'!R103","v":0},{"$f":"Estemate!P101","v":0},{"$f":"Database!F$9+100","v":142},{"$f":"'8'!H103","v":0}]
["",{"$f":"Estemate!G102","v":0},{"$f":"Estemate!C102","v":0},{"$f":"Estemate!L102","v":0},{"$f":"Estemate!M102","v":0},0,0,{"$f":"'8'!R104","v":0},{"$f":"Estemate!P102","v":0},{"$f":"Database!F$9+100","v":142},{"$f":"'8'!H104","v":0}]
["",{"$f":"Estemate!G103","v":0},{"$f":"Estemate!C103","v":0},{"$f":"Estemate!L103","v":0},{"$f":"Estemate!M103","v":0},0,0,{"$f":"'8'!R105","v":0},{"$f":"Estemate!P103","v":0},{"$f":"Database!F$9+100","v":142},{"$f":"'8'!H105","v":0}]
["",{"$f":"Estemate!G104","v":0},{"$f":"Estemate!C104","v":0},{"$f":"Estemate!L104","v":0},{"$f":"Estemate!M104","v":0},0,0,{"$f":"'8'!R106","v":0},{"$f":"Estemate!P104","v":0},{"$f":"Database!F$9+100","v":142},{"$f":"'8'!H106","v":0}]
["",{"$f":"Estemate!G105","v":0},{"$f":"Estemate!C105","v":0},{"$f":"Estemate!L105","v":0},{"$f":"Estemate!M105","v":0},0,0,{"$f":"'8'!R107","v":0},{"$f":"Estemate!P105","v":0},{"$f":"Database!F$9+100","v":142},{"$f":"'8'!H107","v":0}]
["",{"$f":"Estemate!G106","v":0},{"$f":"Estemate!C106","v":0},{"$f":"Estemate!L106","v":0},{"$f":"Estemate!M106","v":0},0,0,{"$f":"'8'!R108","v":0},{"$f":"Estemate!P106","v":0},{"$f":"Database!F$9+100","v":142},{"$f":"'8'!H108","v":0}]
["",{"$f":"Estemate!G107","v":0},{"$f":"Estemate!C107","v":0},{"$f":"Estemate!L107","v":0},{"$f":"Estemate!M107","v":0},0,0,{"$f":"'8'!R109","v":0},{"$f":"Estemate!P107","v":0},{"$f":"Database!F$9+100","v":142},{"$f":"'8'!H109","v":0}]
["",{"$f":"Estemate!G108","v":0},{"$f":"Estemate!C108","v":0},{"$f":"Estemate!L108","v":0},{"$f":"Estemate!M108","v":0},0,0,{"$f":"'8'!R110","v":0},{"$f":"Estemate!P108","v":0},{"$f":"Database!F$9+100","v":142},{"$f":"'8'!H110","v":0}]
["",{"$f":"Estemate!G109","v":0},{"$f":"Estemate!C109","v":0},{"$f":"Estemate!L109","v":0},{"$f":"Estemate!M109","v":0},0,0,{"$f":"'8'!R111","v":0},{"$f":"Estemate!P109","v":0},{"$f":"Database!F$9+100","v":142},{"$f":"'8'!H111","v":0}]
["",{"$f":"Estemate!G110","v":0},{"$f":"Estemate!C110","v":0},{"$f":"Estemate!L110","v":0},{"$f":"Estemate!M110","v":0},0,0,{"$f":"'8'!R112","v":0},{"$f":"Estemate!P110","v":0},{"$f":"Database!F$9+100","v":142},{"$f":"'8'!H112","v":0}]
[null,"Total",null,null,null,{"$f":"SUM(F11:F110)","v":0},{"$f":"SUM(G11:G110)","v":0}]
[]
[null,null,null,null,null,{"$f":"Database!N38","v":"प्रधानाचार्य"}]
[null,null,null,null,null,{"$f":"Database!N39","v":"jktdh; mPp ek/;fed fo|ky;"}]
[null,null,null,null,null,{"$f":"Database!N40","v":"pkSxkbZa] Vksad"}]
[null,null,null,null,null,{"$f":"Database!N41","v":27306}]

{"sheet":"Bonus","index":12,"n_rows":16,"n_cols":5,"rows_kept":16,"cut":false,"hidden":true,"merged":[[0,0,0,1],[0,2,0,4],[1,0,1,4]]}
[{"$f":"Database!B1","v":"dk;kZy;&"},null,{"$f":"Database!F1","v":"jktdh; mPp ek/;fed fo|ky;&pkSxkbZa] Vksad"}]
["vjktif=r dkfeZdksa dks ns; cksul dk fooj.k"]
[null,{"$f":"Database!B3","v":"eq[; ys[kk 'kh\"kZ&"},{"$f":"Database!B4","v":2202},{"$f":"Database!C4","v":"lkekU; f'k{kk"}]
[null,null,{"$f":"Database!B5","v":2},{"$f":"Database!C5","v":"ek/;fed f'k{kk"}]
[null,null,{"$f":"Database!B6","v":109},{"$f":"Database!C6","v":"jktdh; mPp ek/;fed fo|ky;"}]
[null,null,{"$f":"Database!B7","v":1},{"$f":"Database!C7","v":"yMdksa ds fo|ky;"}]
[{"$f":"Database!H4","v":"MhMhvks dksM&"},{"$f":"Database!H5","v":27306},{"$f":"Database!B8","v":0},{"$f":"Database!C8","v":"lkekU; O;;"}]
[null,null,{"$f":"Database!F8","v":"Ldhe dk uke&"},{"$f":"Database!H8","v":"राज्य निधि"}]
["Ø-la-","ik= vjktif=r dkfeZdksa dh la[;k","nj",{"$f":"Database!K21","v":"lEHkkfor O;; 2023&24"},{"$f":"Database!O20","v":"O;; vuqeku 2024&25"}]
[1,2,3,4,5]
[1,{"$f":"Estemate!U111-Estemate!X111","v":0},6774,{"$f":"B11*C11","v":0},{"$f":"D11","v":0}]
[]
[null,null,null,null,{"$f":"Database!N38","v":"प्रधानाचार्य"}]
[null,null,null,null,{"$f":"Database!N39","v":"jktdh; mPp ek/;fed fo|ky;"}]
[null,null,null,null,{"$f":"Database!N40","v":"pkSxkbZa] Vksad"}]
[null,null,null,null,{"$f":"Database!N41","v":27306}]

{"sheet":"Allowances","index":13,"n_rows":32,"n_cols":10,"rows_kept":32,"cut":false,"hidden":true,"merged":[[0,0,0,1],[0,2,0,9],[1,0,1,9],[7,4,7,5]]}
[{"$f":"Database!B1","v":"dk;kZy;&"},null,{"$f":"Database!F1","v":"jktdh; mPp ek/;fed fo|ky;&pkSxkbZa] Vksad"}]
["vU; HkRrksa dk fooj.k"]
[null,{"$f":"Database!B3","v":"eq[; ys[kk 'kh\"kZ&"},{"$f":"Database!B4","v":2202},null,null,null,null,{"$f":"Database!C4","v":"lkekU; f'k{kk"},{"$f":"Database!H4","v":"MhMhvks dksM&"},{"$f":"Database!H5","v":27306}]
[null,null,{"$f":"Database!B5","v":2},null,null,null,null,{"$f":"Database!C5","v":"ek/;fed f'k{kk"}]
[null,null,{"$f":"Database!B6","v":109},null,null,null,null,{"$f":"Database!C6","v":"jktdh; mPp ek/;fed fo|ky;"}]
[null,null,{"$f":"Database!B7","v":1},null,null,null,null,{"$f":"Database!C7","v":"yMdksa ds fo|ky;"}]
[null,null,{"$f":"Database!B8","v":0},null,null,null,null,{"$f":"Database!C8","v":"lkekU; O;;"}]
[null,{"$f":"Database!F8","v":"Ldhe dk uke&"},{"$f":"Database!H8","v":"राज्य निधि"}]
[1,"jksdM+ HkÙkk"]
["Ø- la-","dkfeZd fooj.k","la[;k",null,null,null,null,"nj",{"$f":"Database!K21","v":"lEHkkfor O;; 2023&24"},{"$f":"Database!O20","v":"O;; vuqeku 2024&25"}]
[1,"jksdfM+;k",{"$f":"COUNTIFS(Estemate!F11:F110,\"M\",Estemate!K11:K110,\"C\",Estemate!P11:P110,\"r\")","v":0},null,null,null,null,75,{"$f":"C11*H11*12","v":0},{"$f":"I11","v":0}]
[]
[2,"/kqykbZ HkÙkk"]
["Ø- la-","dkfeZd fooj.k","la[;k",null,null,null,null,"nj",{"$f":"I10","v":"lEHkkfor O;; 2023&24"},{"$f":"J10","v":"O;; vuqeku 2024&25"}]
[1,"iz;ksx'kkyk ifjpkjd] teknkj]MªkbZoj] prqFkZ Js.kh deZpkjh",{"$f":"COUNTIFS(Estemate!F11:F110,\"M\",Estemate!K11:K110,\"W\",Estemate!P11:P110,\"R\")","v":0},null,null,null,null,180,{"$f":"(C15*H15*8)+(C15*150*4)","v":0},{"$f":"C15*H15*12","v":0}]
[]
[null,";ksx",null,null,null,null,null,null,{"$f":"I15","v":0},{"$f":"J15","v":0}]
[]
[3,"lkbZfdy lokj HkRrk"]
["Ø- la-","dkfeZd fooj.k","la[;k",null,null,null,null,"nj",{"$f":"I14","v":"lEHkkfor O;; 2023&24"},{"$f":"J14","v":"O;; vuqeku 2024&25"}]
[1,"teknkj",{"$f":"Estemate!AD111+Estemate!AE111","v":0},null,null,null,null,150,{"$f":"C21*H21*12","v":0},{"$f":"I21","v":0}]
[]
[4,"fodykax HkÙkk"]
["Ø- la-","dkfeZd Js.kh","la[;k","S/M","H","fu;fer@ fQDl is",null,"nj",{"$f":"I14","v":"lEHkkfor O;; 2023&24"},{"$f":"J14","v":"O;; vuqeku 2024&25"}]
[1,"f'k{kk foHkkx ds 'kS{kf.kd dkfeZd",{"$f":"COUNTIFS(Estemate!F11:F110,\"S\",Estemate!J11:J110,\"H\",Estemate!P11:P110,\"R\")","v":0},0,0,0,null,1200,{"$f":"C25*H25*10","v":0},{"$f":"I25","v":0}]
[2,"vU; foHkkxksa ds dkfeZd @ea=kyf;d]p0Js0d0",{"$f":"COUNTIFS(Estemate!F11:F110,\"M\",Estemate!J11:J110,\"H\",Estemate!P11:P110,\"R\")","v":0},"","","",null,1200,{"$f":"C26*H26*12","v":0},{"$f":"I26","v":0}]
["","Total",{"$f":"SUM(C25:C26)","v":0},"","","",null,null,{"$f":"SUM(I25:I26)","v":0},{"$f":"SUM(J25:J26)","v":0}]
[]
[null,null,null,null,null,null,null,null,null,{"$f":"Database!N38","v":"प्रधानाचार्य"}]
[null,null,null,null,null,null,null,null,null,{"$f":"Database!N39","v":"jktdh; mPp ek/;fed fo|ky;"}]
[null,null,null,null,null,null,null,null,null,{"$f":"Database!N40","v":"pkSxkbZa] Vksad"}]
[null,null,null,null,null,null,null,null,null,{"$f":"Database!N41","v":27306}]

{"sheet":"Leveries","index":14,"n_rows":19,"n_cols":8,"rows_kept":19,"cut":false,"hidden":true,"merged":[[0,0,0,1],[0,2,0,5],[1,0,1,5],[7,2,7,3]]}
[{"$f":"Database!B1","v":"dk;kZy;&"},null,{"$f":"Database!F1","v":"jktdh; mPp ek/;fed fo|ky;&pkSxkbZa] Vksad"}]
["ofnZ;ksa ds vkadyu dk izi="]
[null,{"$f":"Database!B3","v":"eq[; ys[kk 'kh\"kZ&"},{"$f":"Database!B4","v":2202},{"$f":"Database!C4","v":"lkekU; f'k{kk"},null,{"$f":"Database!H4","v":"MhMhvks dksM&"}]
[null,null,{"$f":"Database!B5","v":2},{"$f":"Database!C5","v":"ek/;fed f'k{kk"},null,{"$f":"Database!H5","v":27306}]
[null,null,{"$f":"Database!B6","v":109},{"$f":"Database!C6","v":"jktdh; mPp ek/;fed fo|ky;"}]
[null,null,{"$f":"Database!B7","v":1},{"$f":"Database!C7","v":"yMdksa ds fo|ky;"}]
[null,null,{"$f":"Database!B8","v":0},{"$f":"Database!C8","v":"lkekU; O;;"}]
[null,{"$f":"Database!F8","v":"Ldhe dk uke&"},{"$f":"Database!H8","v":"राज्य निधि"}]
["Øe la[;k","oxZ","iq:\"k la[;k","efgyk la[;k",{"$f":"Database!K21","v":"lEHkkfor O;; 2023&24"},{"$f":"Database!O20","v":"O;; vuqeku 2024&25"},"M","F"]
[1,"जमादार",{"$f":"Estemate!AD111","v":0},{"$f":"Estemate!AE111","v":0},{"$f":"SUM(G10+H10)","v":0},{"$f":"E10","v":0},{"$f":"SUM(C10*1650)","v":0},{"$f":"SUM(D10*1950)","v":0}]
[2,"प्रयोगशाला परिचारक",{"$f":"Estemate!AF111","v":0},{"$f":"Estemate!AG111","v":0},{"$f":"SUM(G11+H11)","v":0},{"$f":"E11","v":0},{"$f":"SUM(C11*1650)","v":0},{"$f":"SUM(D11*1950)","v":0}]
[3,"चतुर्थ श्रेणी कर्मचारी",{"$f":"Estemate!AH111","v":0},{"$f":"Estemate!AI111","v":0},{"$f":"SUM(G12+H12)","v":0},{"$f":"E12","v":0},{"$f":"SUM(C12*1650)","v":0},{"$f":"SUM(D12*1950)","v":0}]
[4,"ड्राईवर",{"$f":"Estemate!DO111","v":0},{"$f":"Estemate!DP111","v":0},{"$f":"SUM(G13+H13)","v":0},{"$f":"E13","v":0},{"$f":"SUM(C13*1650)","v":0},{"$f":"SUM(D13*1950)","v":0}]
[null,"TOTAL",{"$f":"SUM(C10:C13)","v":0},{"$f":"SUM(D10:D13)","v":0},{"$f":"SUM(E10:E13)","v":0},{"$f":"SUM(F10:F13)","v":0}]
[]
[null,null,null,null,null,{"$f":"Database!N38","v":"प्रधानाचार्य"}]
[null,null,null,null,null,{"$f":"Database!N39","v":"jktdh; mPp ek/;fed fo|ky;"}]
[null,null,null,null,null,{"$f":"Database!N40","v":"pkSxkbZa] Vksad"}]
[null,null,null,null,null,{"$f":"Database!N41","v":27306}]

{"sheet":"8","index":15,"n_rows":177,"n_cols":19,"rows_kept":177,"cut":false,"hidden":true,"merged":[[8,2,8,3],[3,10,3,11],[3,12,3,13],[1,4,1,7],[0,1,0,2],[0,3,0,13],[2,0,2,13],[3,1,3,3],[9,13,10,13],[9,0,10,0],[9,1,10,1],[9,2,10,2],[9,3,10,3],[9,4,10,4],[9,6,10,6],[9,7,10,7],[9,8,10,8],[9,9,9,10],[9,11,10,11],[9,12,10,12],[9,5,10,5]]}
[null,{"$f":"Database!B1","v":"dk;kZy;&"},null,{"$f":"Database!F1","v":"jktdh; mPp ek/;fed fo|ky;&pkSxkbZa] Vksad"}]
[null,null,null,null,"izi=&8"]
[{"$f":"Database!B2","v":"vk; O;;d vuqeku&2024&25 rFkk la'kksf/kr vuqeku 2023&24"}]
[null,{"$f":"Database!B3","v":"eq[; ys[kk 'kh\"kZ&"},null,null,{"$f":"Database!B4","v":2202},{"$f":"Database!C4","v":"lkekU; f'k{kk"},null,null,null,null,{"$f":"Database!H4","v":"MhMhvks dksM&"},null,{"$f":"Database!H5","v":27306}]
[null,null,null,null,{"$f":"Database!B5","v":2},{"$f":"Database!C5","v":"ek/;fed f'k{kk"}]
[null,null,null,null,{"$f":"Database!B6","v":109},{"$f":"Database!C6","v":"jktdh; mPp ek/;fed fo|ky;"}]
[null,null,null,null,{"$f":"Database!B7","v":1},{"$f":"Database!C7","v":"yMdksa ds fo|ky;"}]
[null,null,null,null,{"$f":"Database!B8","v":0},{"$f":"Database!C8","v":"lkekU; O;;"}]
[null,null,{"$f":"Database!F8","v":"Ldhe dk uke&"},null,{"$f":"Database!H8","v":"राज्य निधि"}]
["dz0la0","uke","th ih ,Q uEcj ,oa ,u ih ,l uEcj","Lohd`r in","in",null,"is eSfVªDl esa ysoy ","ctV dh izkjfEHd frfFk 1 ekpZ dks osru","igyh ekpZ ls vfUre Qjojh ds fy, fu/kkZfjr osru","o`f) tks bl vof/k esa gksxh",null,"vkxkeh o\"kZ ds fy;s vuqeku ¼dkWye 9 vkSj 11 dk ;ksx½","pkyw o\"kZ ds fy;s la'kksf/kr vuqeku","fo'ks\"k fooj.k"]
[null,null,null,null,null,null,null,null,null,"ozf) dh  frfFk","o`f) dh jkf'k",null,null,null,"Back Salary","R/F","Basic","Next Salary","Basic1"]
[1,2,3,4,5,6,7,8,9,10,11,12,13,14,15,16,17]
[{"$f":"IF(B13=\"\",\"\",1)","v":""},{"$f":"IF(AND(Estemate!G11=\"\"),\"\",Estemate!G11)","v":""},{"$f":"IF(AND(Estemate!H11=\"\"),\"\",Estemate!H11)","v":""},{"$f":"IF(AND(Estemate!D11=\"\"),\"\",Estemate!D11)","v":""},{"$f":"IF(AND(Estemate!C11=\"\"),\"\",Estemate!C11)","v":""},null,{"$f":"IF(AND(Estemate!L11=\"\"),\"\",Estemate!L11)","v":""},{"$f":"IF(P13=\"R\",Q13,0)","v":0},{"$f":"IF(AND(H13=\"\"),\"\",H13*12)","v":0},{"$f":"IF(AND(H13=\"\"),\"\",IF(H13<=0,\"\",(CONCATENATE(\"01-07-\",(YEAR(TODAY())+1)))))","v":""},{"$f":"IF(AND(H13=\"\"),\"\",ROUND(ROUND(H13*3%,0),-2)*IF(G13=\"FIX PAY\",0,1)*8)","v":0},{"$f":"IF(AND(H13=\"\"),\"\",I13+K13)","v":0},{"$f":"IF(AND(H13=\"\"),\"\",IF(G13=\" FIX PAY \",L13,((IF(G13=\"FIX PAY\",0,O13*4+H13*8)))))","v":0},{"$f":"Estemate!E11","v":0},{"$f":"IF(AND(H13=\"\"),\"\",H13-ROUNDUP(ROUND((H13*3%)-(H13*3%)*2.9%,-2),0))","v":0},{"$f":"IF(Estemate!P11=\"\",\"\",Estemate!P11)","v":""},{"$f":"Estemate!M11","v":0},{"$f":"IF(O13=\"\",\"\",H13+K13/8)","v":0},{"$f":"H13","v":0}]
[{"$f":"IF(B14=\"\",\"\",A13+1)","v":""},{"$f":"IF(AND(Estemate!G12=\"\"),\"\",Estemate!G12)","v":""},{"$f":"IF(AND(Estemate!H12=\"\"),\"\",Estemate!H12)","v":""},{"$f":"IF(AND(Estemate!D12=\"\"),\"\",Estemate!D12)","v":""},{"$f":"IF(AND(Estemate!C12=\"\"),\"\",Estemate!C12)","v":""},null,{"$f":"IF(AND(Estemate!L12=\"\"),\"\",Estemate!L12)","v":""},{"$f":"IF(P14=\"R\",Q14,0)","v":0},{"$f":"IF(AND(H14=\"\"),\"\",H14*12)","v":0},{"$f":"IF(AND(H14=\"\"),\"\",IF(H14<=0,\"\",(CONCATENATE(\"01-07-\",(YEAR(TODAY())+1)))))","v":""},{"$f":"IF(AND(H14=\"\"),\"\",ROUND(ROUND(H14*3%,0),-2)*IF(G14=\"FIX PAY\",0,1)*8)","v":0},{"$f":"IF(AND(H14=\"\"),\"\",I14+K14)","v":0},{"$f":"IF(AND(H14=\"\"),\"\",IF(G14=\" FIX PAY \",L14,((IF(G14=\"FIX PAY\",0,O14*4+H14*8)))))","v":0},{"$f":"Estemate!E12","v":0},{"$f":"IF(AND(H14=\"\"),\"\",H14-ROUNDUP(ROUND((H14*3%)-(H14*3%)*2.9%,-2),0))","v":0},{"$f":"IF(Estemate!P12=\"\",\"\",Estemate!P12)","v":""},{"$f":"Estemate!M12","v":0},{"$f":"IF(O14=\"\",\"\",H14+K14/8)","v":0},{"$f":"H14","v":0}]
[{"$f":"IF(B15=\"\",\"\",A14+1)","v":""},{"$f":"IF(AND(Estemate!G13=\"\"),\"\",Estemate!G13)","v":""},{"$f":"IF(AND(Estemate!H13=\"\"),\"\",Estemate!H13)","v":""},{"$f":"IF(AND(Estemate!D13=\"\"),\"\",Estemate!D13)","v":""},{"$f":"IF(AND(Estemate!C13=\"\"),\"\",Estemate!C13)","v":""},null,{"$f":"IF(AND(Estemate!L13=\"\"),\"\",Estemate!L13)","v":""},0,0,"",0,0,0,{"$f":"Estemate!E13","v":0},0,{"$f":"IF(Estemate!P13=\"\",\"\",Estemate!P13)","v":""},{"$f":"Estemate!M13","v":0},0,0]
["",{"$f":"IF(AND(Estemate!G14=\"\"),\"\",Estemate!G14)","v":""},{"$f":"IF(AND(Estemate!H14=\"\"),\"\",Estemate!H14)","v":""},{"$f":"IF(AND(Estemate!D14=\"\"),\"\",Estemate!D14)","v":""},{"$f":"IF(AND(Estemate!C14=\"\"),\"\",Estemate!C14)","v":""},null,{"$f":"IF(AND(Estemate!L14=\"\"),\"\",Estemate!L14)","v":""},0,0,"",0,0,0,{"$f":"Estemate!E14","v":0},0,{"$f":"IF(Estemate!P14=\"\",\"\",Estemate!P14)","v":""},{"$f":"Estemate!M14","v":0},0,0]
["",{"$f":"IF(AND(Estemate!G15=\"\"),\"\",Estemate!G15)","v":""},{"$f":"IF(AND(Estemate!H15=\"\"),\"\",Estemate!H15)","v":""},{"$f":"IF(AND(Estemate!D15=\"\"),\"\",Estemate!D15)","v":""},{"$f":"IF(AND(Estemate!C15=\"\"),\"\",Estemate!C15)","v":""},null,{"$f":"IF(AND(Estemate!L15=\"\"),\"\",Estemate!L15)","v":""},0,0,"",0,0,0,{"$f":"Estemate!E15","v":0},0,{"$f":"IF(Estemate!P15=\"\",\"\",Estemate!P15)","v":""},{"$f":"Estemate!M15","v":0},0,0]
["",{"$f":"IF(AND(Estemate!G16=\"\"),\"\",Estemate!G16)","v":""},{"$f":"IF(AND(Estemate!H16=\"\"),\"\",Estemate!H16)","v":""},{"$f":"IF(AND(Estemate!D16=\"\"),\"\",Estemate!D16)","v":""},{"$f":"IF(AND(Estemate!C16=\"\"),\"\",Estemate!C16)","v":""},null,{"$f":"IF(AND(Estemate!L16=\"\"),\"\",Estemate!L16)","v":""},0,0,"",0,0,0,{"$f":"Estemate!E16","v":0},0,{"$f":"IF(Estemate!P16=\"\",\"\",Estemate!P16)","v":""},{"$f":"Estemate!M16","v":0},0,0]
["",{"$f":"IF(AND(Estemate!G17=\"\"),\"\",Estemate!G17)","v":""},{"$f":"IF(AND(Estemate!H17=\"\"),\"\",Estemate!H17)","v":""},{"$f":"IF(AND(Estemate!D17=\"\"),\"\",Estemate!D17)","v":""},{"$f":"IF(AND(Estemate!C17=\"\"),\"\",Estemate!C17)","v":""},null,{"$f":"IF(AND(Estemate!L17=\"\"),\"\",Estemate!L17)","v":""},0,0,"",0,0,0,{"$f":"Estemate!E17","v":0},0,{"$f":"IF(Estemate!P17=\"\",\"\",Estemate!P17)","v":""},{"$f":"Estemate!M17","v":0},0,0]
["",{"$f":"IF(AND(Estemate!G18=\"\"),\"\",Estemate!G18)","v":""},{"$f":"IF(AND(Estemate!H18=\"\"),\"\",Estemate!H18)","v":""},{"$f":"IF(AND(Estemate!D18=\"\"),\"\",Estemate!D18)","v":""},{"$f":"IF(AND(Estemate!C18=\"\"),\"\",Estemate!C18)","v":""},null,{"$f":"IF(AND(Estemate!L18=\"\"),\"\",Estemate!L18)","v":""},0,0,"",0,0,0,{"$f":"Estemate!E18","v":0},0,{"$f":"IF(Estemate!P18=\"\",\"\",Estemate!P18)","v":""},{"$f":"Estemate!M18","v":0},0,0]
["",{"$f":"IF(AND(Estemate!G19=\"\"),\"\",Estemate!G19)","v":""},{"$f":"IF(AND(Estemate!H19=\"\"),\"\",Estemate!H19)","v":""},{"$f":"IF(AND(Estemate!D19=\"\"),\"\",Estemate!D19)","v":""},{"$f":"IF(AND(Estemate!C19=\"\"),\"\",Estemate!C19)","v":""},null,{"$f":"IF(AND(Estemate!L19=\"\"),\"\",Estemate!L19)","v":""},0,{"$f":"IF(AND(H21=\"\"),\"\",H21*12)","v":0},{"$f":"IF(AND(H21=\"\"),\"\",IF(H21<=0,\"\",(CONCATENATE(\"01-07-\",(YEAR(TODAY())+1)))))","v":""},{"$f":"IF(AND(H21=\"\"),\"\",ROUND(ROUND(H21*3%,0),-2)*IF(G21=\"FIX PAY\",0,1)*8)","v":0},{"$f":"IF(AND(H21=\"\"),\"\",I21+K21)","v":0},{"$f":"IF(AND(H21=\"\"),\"\",IF(G21=\" FIX PAY \",L21,((IF(G21=\"FIX PAY\",0,O21*4+H21*8)))))","v":0},{"$f":"Estemate!E19","v":0},{"$f":"IF(AND(H21=\"\"),\"\",H21-ROUNDUP(ROUND((H21*3%)-(H21*3%)*2.9%,-2),0))","v":0},{"$f":"IF(Estemate!P19=\"\",\"\",Estemate!P19)","v":""},{"$f":"Estemate!M19","v":0},0,0]
["",{"$f":"IF(AND(Estemate!G20=\"\"),\"\",Estemate!G20)","v":""},{"$f":"IF(AND(Estemate!H20=\"\"),\"\",Estemate!H20)","v":""},{"$f":"IF(AND(Estemate!D20=\"\"),\"\",Estemate!D20)","v":""},{"$f":"IF(AND(Estemate!C20=\"\"),\"\",Estemate!C20)","v":""},null,{"$f":"IF(AND(Estemate!L20=\"\"),\"\",Estemate!L20)","v":""},0,0,"",0,0,0,{"$f":"Estemate!E20","v":0},0,{"$f":"IF(Estemate!P20=\"\",\"\",Estemate!P20)","v":""},{"$f":"Estemate!M20","v":0},0,0]
["",{"$f":"IF(AND(Estemate!G21=\"\"),\"\",Estemate!G21)","v":""},{"$f":"IF(AND(Estemate!H21=\"\"),\"\",Estemate!H21)","v":""},{"$f":"IF(AND(Estemate!D21=\"\"),\"\",Estemate!D21)","v":""},{"$f":"IF(AND(Estemate!C21=\"\"),\"\",Estemate!C21)","v":""},null,{"$f":"IF(AND(Estemate!L21=\"\"),\"\",Estemate!L21)","v":""},0,0,"",0,0,0,{"$f":"Estemate!E21","v":0},0,{"$f":"IF(Estemate!P21=\"\",\"\",Estemate!P21)","v":""},{"$f":"Estemate!M21","v":0},0,0]
["",{"$f":"IF(AND(Estemate!G22=\"\"),\"\",Estemate!G22)","v":""},{"$f":"IF(AND(Estemate!H22=\"\"),\"\",Estemate!H22)","v":""},{"$f":"IF(AND(Estemate!D22=\"\"),\"\",Estemate!D22)","v":""},{"$f":"IF(AND(Estemate!C22=\"\"),\"\",Estemate!C22)","v":""},null,{"$f":"IF(AND(Estemate!L22=\"\"),\"\",Estemate!L22)","v":""},0,0,"",0,0,0,{"$f":"Estemate!E22","v":0},0,{"$f":"IF(Estemate!P22=\"\",\"\",Estemate!P22)","v":""},{"$f":"Estemate!M22","v":0},0,0]
["",{"$f":"IF(AND(Estemate!G23=\"\"),\"\",Estemate!G23)","v":""},{"$f":"IF(AND(Estemate!H23=\"\"),\"\",Estemate!H23)","v":""},{"$f":"IF(AND(Estemate!D23=\"\"),\"\",Estemate!D23)","v":""},{"$f":"IF(AND(Estemate!C23=\"\"),\"\",Estemate!C23)","v":""},null,{"$f":"IF(AND(Estemate!L23=\"\"),\"\",Estemate!L23)","v":""},0,0,"",0,0,0,{"$f":"Estemate!E23","v":0},0,{"$f":"IF(Estemate!P23=\"\",\"\",Estemate!P23)","v":""},{"$f":"Estemate!M23","v":0},0,0]
["",{"$f":"IF(AND(Estemate!G24=\"\"),\"\",Estemate!G24)","v":""},{"$f":"IF(AND(Estemate!H24=\"\"),\"\",Estemate!H24)","v":""},{"$f":"IF(AND(Estemate!D24=\"\"),\"\",Estemate!D24)","v":""},{"$f":"IF(AND(Estemate!C24=\"\"),\"\",Estemate!C24)","v":""},null,{"$f":"IF(AND(Estemate!L24=\"\"),\"\",Estemate!L24)","v":""},0,0,"",0,0,0,{"$f":"Estemate!E24","v":0},0,{"$f":"IF(Estemate!P24=\"\",\"\",Estemate!P24)","v":""},{"$f":"Estemate!M24","v":0},0,0]
["",{"$f":"IF(AND(Estemate!G25=\"\"),\"\",Estemate!G25)","v":""},{"$f":"IF(AND(Estemate!H25=\"\"),\"\",Estemate!H25)","v":""},{"$f":"IF(AND(Estemate!D25=\"\"),\"\",Estemate!D25)","v":""},{"$f":"IF(AND(Estemate!C25=\"\"),\"\",Estemate!C25)","v":""},null,{"$f":"IF(AND(Estemate!L25=\"\"),\"\",Estemate!L25)","v":""},0,0,"",0,0,0,{"$f":"Estemate!E25","v":0},0,{"$f":"IF(Estemate!P25=\"\",\"\",Estemate!P25)","v":""},{"$f":"Estemate!M25","v":0},0,0]
["",{"$f":"IF(AND(Estemate!G26=\"\"),\"\",Estemate!G26)","v":""},{"$f":"IF(AND(Estemate!H26=\"\"),\"\",Estemate!H26)","v":""},{"$f":"IF(AND(Estemate!D26=\"\"),\"\",Estemate!D26)","v":""},{"$f":"IF(AND(Estemate!C26=\"\"),\"\",Estemate!C26)","v":""},null,{"$f":"IF(AND(Estemate!L26=\"\"),\"\",Estemate!L26)","v":""},0,0,"",0,0,0,{"$f":"Estemate!E26","v":0},0,{"$f":"IF(Estemate!P26=\"\",\"\",Estemate!P26)","v":""},{"$f":"Estemate!M26","v":0},0,0]
["",{"$f":"IF(AND(Estemate!G27=\"\"),\"\",Estemate!G27)","v":""},{"$f":"IF(AND(Estemate!H27=\"\"),\"\",Estemate!H27)","v":""},{"$f":"IF(AND(Estemate!D27=\"\"),\"\",Estemate!D27)","v":""},{"$f":"IF(AND(Estemate!C27=\"\"),\"\",Estemate!C27)","v":""},null,{"$f":"IF(AND(Estemate!L27=\"\"),\"\",Estemate!L27)","v":""},0,0,"",0,0,0,{"$f":"Estemate!E27","v":0},0,{"$f":"IF(Estemate!P27=\"\",\"\",Estemate!P27)","v":""},{"$f":"Estemate!M27","v":0},0,0]
["",{"$f":"IF(AND(Estemate!G28=\"\"),\"\",Estemate!G28)","v":""},{"$f":"IF(AND(Estemate!H28=\"\"),\"\",Estemate!H28)","v":""},{"$f":"IF(AND(Estemate!D28=\"\"),\"\",Estemate!D28)","v":""},{"$f":"IF(AND(Estemate!C28=\"\"),\"\",Estemate!C28)","v":""},null,{"$f":"IF(AND(Estemate!L28=\"\"),\"\",Estemate!L28)","v":""},0,0,"",0,0,0,{"$f":"Estemate!E28","v":0},0,{"$f":"IF(Estemate!P28=\"\",\"\",Estemate!P28)","v":""},{"$f":"Estemate!M28","v":0},0,0]
["",{"$f":"IF(AND(Estemate!G29=\"\"),\"\",Estemate!G29)","v":""},{"$f":"IF(AND(Estemate!H29=\"\"),\"\",Estemate!H29)","v":""},{"$f":"IF(AND(Estemate!D29=\"\"),\"\",Estemate!D29)","v":""},{"$f":"IF(AND(Estemate!C29=\"\"),\"\",Estemate!C29)","v":""},null,{"$f":"IF(AND(Estemate!L29=\"\"),\"\",Estemate!L29)","v":""},0,0,"",0,0,0,{"$f":"Estemate!E29","v":0},0,{"$f":"IF(Estemate!P29=\"\",\"\",Estemate!P29)","v":""},{"$f":"Estemate!M29","v":0},0,0]
["",{"$f":"IF(AND(Estemate!G30=\"\"),\"\",Estemate!G30)","v":""},{"$f":"IF(AND(Estemate!H30=\"\"),\"\",Estemate!H30)","v":""},{"$f":"IF(AND(Estemate!D30=\"\"),\"\",Estemate!D30)","v":""},{"$f":"IF(AND(Estemate!C30=\"\"),\"\",Estemate!C30)","v":""},null,{"$f":"IF(AND(Estemate!L30=\"\"),\"\",Estemate!L30)","v":""},0,0,"",0,0,0,{"$f":"Estemate!E30","v":0},0,{"$f":"IF(Estemate!P30=\"\",\"\",Estemate!P30)","v":""},{"$f":"Estemate!M30","v":0},0,0]
["",{"$f":"IF(AND(Estemate!G31=\"\"),\"\",Estemate!G31)","v":""},{"$f":"IF(AND(Estemate!H31=\"\"),\"\",Estemate!H31)","v":""},{"$f":"IF(AND(Estemate!D31=\"\"),\"\",Estemate!D31)","v":""},{"$f":"IF(AND(Estemate!C31=\"\"),\"\",Estemate!C31)","v":""},null,{"$f":"IF(AND(Estemate!L31=\"\"),\"\",Estemate!L31)","v":""},0,0,"",0,0,0,{"$f":"Estemate!E31","v":0},0,{"$f":"IF(Estemate!P31=\"\",\"\",Estemate!P31)","v":""},{"$f":"Estemate!M31","v":0},0,0]
[{"$f":"IF(B34=\"\",\"\",A33+1)","v":""},{"$f":"IF(AND(Estemate!G32=\"\"),\"\",Estemate!G32)","v":""},{"$f":"IF(AND(Estemate!H32=\"\"),\"\",Estemate!H32)","v":""},{"$f":"IF(AND(Estemate!D32=\"\"),\"\",Estemate!D32)","v":""},{"$f":"IF(AND(Estemate!C32=\"\"),\"\",Estemate!C32)","v":""},null,{"$f":"IF(AND(Estemate!L32=\"\"),\"\",Estemate!L32)","v":""},0,{"$f":"IF(AND(H34=\"\"),\"\",H34*12)","v":0},{"$f":"IF(AND(H34=\"\"),\"\",IF(H34<=0,\"\",(CONCATENATE(\"01-07-\",(YEAR(TODAY())+1)))))","v":""},{"$f":"IF(AND(H34=\"\"),\"\",ROUND(ROUND(H34*3%,0),-2)*IF(G34=\"FIX PAY\",0,1)*8)","v":0},{"$f":"IF(AND(H34=\"\"),\"\",I34+K34)","v":0},{"$f":"IF(AND(H34=\"\"),\"\",IF(G34=\" FIX PAY \",L34,((IF(G34=\"FIX PAY\",0,O34*4+H34*8)))))","v":0},{"$f":"Estemate!E32","v":0},{"$f":"IF(AND(H34=\"\"),\"\",H34-ROUNDUP(ROUND((H34*3%)-(H34*3%)*2.9%,-2),0))","v":0},{"$f":"IF(Estemate!P32=\"\",\"\",Estemate!P32)","v":""},{"$f":"Estemate!M32","v":0},{"$f":"IF(O34=\"\",\"\",H34+K34/8)","v":0},0]
["",{"$f":"IF(AND(Estemate!G33=\"\"),\"\",Estemate!G33)","v":""},{"$f":"IF(AND(Estemate!H33=\"\"),\"\",Estemate!H33)","v":""},{"$f":"IF(AND(Estemate!D33=\"\"),\"\",Estemate!D33)","v":""},{"$f":"IF(AND(Estemate!C33=\"\"),\"\",Estemate!C33)","v":""},null,{"$f":"IF(AND(Estemate!L33=\"\"),\"\",Estemate!L33)","v":""},0,0,"",0,0,0,{"$f":"Estemate!E33","v":0},0,{"$f":"IF(Estemate!P33=\"\",\"\",Estemate!P33)","v":""},{"$f":"Estemate!M33","v":0},0,0]
["",{"$f":"IF(AND(Estemate!G34=\"\"),\"\",Estemate!G34)","v":""},{"$f":"IF(AND(Estemate!H34=\"\"),\"\",Estemate!H34)","v":""},{"$f":"IF(AND(Estemate!D34=\"\"),\"\",Estemate!D34)","v":""},{"$f":"IF(AND(Estemate!C34=\"\"),\"\",Estemate!C34)","v":""},null,{"$f":"IF(AND(Estemate!L34=\"\"),\"\",Estemate!L34)","v":""},0,0,"",0,0,0,{"$f":"Estemate!E34","v":0},0,{"$f":"IF(Estemate!P34=\"\",\"\",Estemate!P34)","v":""},{"$f":"Estemate!M34","v":0},0,0]
["",{"$f":"IF(AND(Estemate!G35=\"\"),\"\",Estemate!G35)","v":""},{"$f":"IF(AND(Estemate!H35=\"\"),\"\",Estemate!H35)","v":""},{"$f":"IF(AND(Estemate!D35=\"\"),\"\",Estemate!D35)","v":""},{"$f":"IF(AND(Estemate!C35=\"\"),\"\",Estemate!C35)","v":""},null,{"$f":"IF(AND(Estemate!L35=\"\"),\"\",Estemate!L35)","v":""},0,0,"",0,0,0,{"$f":"Estemate!E35","v":0},0,{"$f":"IF(Estemate!P35=\"\",\"\",Estemate!P35)","v":""},{"$f":"Estemate!M35","v":0},0,0]
["",{"$f":"IF(AND(Estemate!G36=\"\"),\"\",Estemate!G36)","v":""},{"$f":"IF(AND(Estemate!H36=\"\"),\"\",Estemate!H36)","v":""},{"$f":"IF(AND(Estemate!D36=\"\"),\"\",Estemate!D36)","v":""},{"$f":"IF(AND(Estemate!C36=\"\"),\"\",Estemate!C36)","v":""},null,{"$f":"IF(AND(Estemate!L36=\"\"),\"\",Estemate!L36)","v":""},0,0,"",0,0,0,{"$f":"Estemate!E36","v":0},0,{"$f":"IF(Estemate!P36=\"\",\"\",Estemate!P36)","v":""},{"$f":"Estemate!M36","v":0},0,0]
["",{"$f":"IF(AND(Estemate!G37=\"\"),\"\",Estemate!G37)","v":""},{"$f":"IF(AND(Estemate!H37=\"\"),\"\",Estemate!H37)","v":""},{"$f":"IF(AND(Estemate!D37=\"\"),\"\",Estemate!D37)","v":""},{"$f":"IF(AND(Estemate!C37=\"\"),\"\",Estemate!C37)","v":""},null,{"$f":"IF(AND(Estemate!L37=\"\"),\"\",Estemate!L37)","v":""},0,0,"",0,0,0,{"$f":"Estemate!E37","v":0},0,{"$f":"IF(Estemate!P37=\"\",\"\",Estemate!P37)","v":""},{"$f":"Estemate!M37","v":0},0,0]
["",{"$f":"IF(AND(Estemate!G38=\"\"),\"\",Estemate!G38)","v":""},{"$f":"IF(AND(Estemate!H38=\"\"),\"\",Estemate!H38)","v":""},{"$f":"IF(AND(Estemate!D38=\"\"),\"\",Estemate!D38)","v":""},{"$f":"IF(AND(Estemate!C38=\"\"),\"\",Estemate!C38)","v":""},null,{"$f":"IF(AND(Estemate!L38=\"\"),\"\",Estemate!L38)","v":""},0,0,"",0,0,0,{"$f":"Estemate!E38","v":0},0,{"$f":"IF(Estemate!P38=\"\",\"\",Estemate!P38)","v":""},{"$f":"Estemate!M38","v":0},0,0]
["",{"$f":"IF(AND(Estemate!G39=\"\"),\"\",Estemate!G39)","v":""},{"$f":"IF(AND(Estemate!H39=\"\"),\"\",Estemate!H39)","v":""},{"$f":"IF(AND(Estemate!D39=\"\"),\"\",Estemate!D39)","v":""},{"$f":"IF(AND(Estemate!C39=\"\"),\"\",Estemate!C39)","v":""},null,{"$f":"IF(AND(Estemate!L39=\"\"),\"\",Estemate!L39)","v":""},0,0,"",0,0,0,{"$f":"Estemate!E39","v":0},0,{"$f":"IF(Estemate!P39=\"\",\"\",Estemate!P39)","v":""},{"$f":"Estemate!M39","v":0},0,0]
["",{"$f":"IF(AND(Estemate!G40=\"\"),\"\",Estemate!G40)","v":""},{"$f":"IF(AND(Estemate!H40=\"\"),\"\",Estemate!H40)","v":""},{"$f":"IF(AND(Estemate!D40=\"\"),\"\",Estemate!D40)","v":""},{"$f":"IF(AND(Estemate!C40=\"\"),\"\",Estemate!C40)","v":""},null,{"$f":"IF(AND(Estemate!L40=\"\"),\"\",Estemate!L40)","v":""},0,0,"",0,0,0,{"$f":"Estemate!E40","v":0},0,{"$f":"IF(Estemate!P40=\"\",\"\",Estemate!P40)","v":""},{"$f":"Estemate!M40","v":0},0,0]
["",{"$f":"IF(AND(Estemate!G41=\"\"),\"\",Estemate!G41)","v":""},{"$f":"IF(AND(Estemate!H41=\"\"),\"\",Estemate!H41)","v":""},{"$f":"IF(AND(Estemate!D41=\"\"),\"\",Estemate!D41)","v":""},{"$f":"IF(AND(Estemate!C41=\"\"),\"\",Estemate!C41)","v":""},null,{"$f":"IF(AND(Estemate!L41=\"\"),\"\",Estemate!L41)","v":""},0,0,"",0,0,0,{"$f":"Estemate!E41","v":0},0,{"$f":"IF(Estemate!P41=\"\",\"\",Estemate!P41)","v":""},{"$f":"Estemate!M41","v":0},0,0]
["",{"$f":"IF(AND(Estemate!G42=\"\"),\"\",Estemate!G42)","v":""},{"$f":"IF(AND(Estemate!H42=\"\"),\"\",Estemate!H42)","v":""},{"$f":"IF(AND(Estemate!D42=\"\"),\"\",Estemate!D42)","v":""},{"$f":"IF(AND(Estemate!C42=\"\"),\"\",Estemate!C42)","v":""},null,{"$f":"IF(AND(Estemate!L42=\"\"),\"\",Estemate!L42)","v":""},0,0,"",0,0,0,{"$f":"Estemate!E42","v":0},0,{"$f":"IF(Estemate!P42=\"\",\"\",Estemate!P42)","v":""},{"$f":"Estemate!M42","v":0},0,0]
["",{"$f":"IF(AND(Estemate!G43=\"\"),\"\",Estemate!G43)","v":""},{"$f":"IF(AND(Estemate!H43=\"\"),\"\",Estemate!H43)","v":""},{"$f":"IF(AND(Estemate!D43=\"\"),\"\",Estemate!D43)","v":""},{"$f":"IF(AND(Estemate!C43=\"\"),\"\",Estemate!C43)","v":""},null,{"$f":"IF(AND(Estemate!L43=\"\"),\"\",Estemate!L43)","v":""},0,0,"",0,0,0,{"$f":"Estemate!E43","v":0},0,{"$f":"IF(Estemate!P43=\"\",\"\",Estemate!P43)","v":""},{"$f":"Estemate!M43","v":0},0,0]
["",{"$f":"IF(AND(Estemate!G44=\"\"),\"\",Estemate!G44)","v":""},{"$f":"IF(AND(Estemate!H44=\"\"),\"\",Estemate!H44)","v":""},{"$f":"IF(AND(Estemate!D44=\"\"),\"\",Estemate!D44)","v":""},{"$f":"IF(AND(Estemate!C44=\"\"),\"\",Estemate!C44)","v":""},null,{"$f":"IF(AND(Estemate!L44=\"\"),\"\",Estemate!L44)","v":""},0,0,"",0,0,0,{"$f":"Estemate!E44","v":0},0,{"$f":"IF(Estemate!P44=\"\",\"\",Estemate!P44)","v":""},{"$f":"Estemate!M44","v":0},0,0]
["",{"$f":"IF(AND(Estemate!G45=\"\"),\"\",Estemate!G45)","v":""},{"$f":"IF(AND(Estemate!H45=\"\"),\"\",Estemate!H45)","v":""},{"$f":"IF(AND(Estemate!D45=\"\"),\"\",Estemate!D45)","v":""},{"$f":"IF(AND(Estemate!C45=\"\"),\"\",Estemate!C45)","v":""},null,{"$f":"IF(AND(Estemate!L45=\"\"),\"\",Estemate!L45)","v":""},0,0,"",0,0,0,{"$f":"Estemate!E45","v":0},0,{"$f":"IF(Estemate!P45=\"\",\"\",Estemate!P45)","v":""},{"$f":"Estemate!M45","v":0},0,0]
["",{"$f":"IF(AND(Estemate!G46=\"\"),\"\",Estemate!G46)","v":""},{"$f":"IF(AND(Estemate!H46=\"\"),\"\",Estemate!H46)","v":""},{"$f":"IF(AND(Estemate!D46=\"\"),\"\",Estemate!D46)","v":""},{"$f":"IF(AND(Estemate!C46=\"\"),\"\",Estemate!C46)","v":""},null,{"$f":"IF(AND(Estemate!L46=\"\"),\"\",Estemate!L46)","v":""},0,0,"",0,0,0,{"$f":"Estemate!E46","v":0},0,{"$f":"IF(Estemate!P46=\"\",\"\",Estemate!P46)","v":""},{"$f":"Estemate!M46","v":0},0,0]
["",{"$f":"IF(AND(Estemate!G47=\"\"),\"\",Estemate!G47)","v":""},{"$f":"IF(AND(Estemate!H47=\"\"),\"\",Estemate!H47)","v":""},{"$f":"IF(AND(Estemate!D47=\"\"),\"\",Estemate!D47)","v":""},{"$f":"IF(AND(Estemate!C47=\"\"),\"\",Estemate!C47)","v":""},null,{"$f":"IF(AND(Estemate!L47=\"\"),\"\",Estemate!L47)","v":""},0,0,"",0,0,0,{"$f":"Estemate!E47","v":0},0,{"$f":"IF(Estemate!P47=\"\",\"\",Estemate!P47)","v":""},{"$f":"Estemate!M47","v":0},0,0]
["",{"$f":"IF(AND(Estemate!G48=\"\"),\"\",Estemate!G48)","v":""},{"$f":"IF(AND(Estemate!H48=\"\"),\"\",Estemate!H48)","v":""},{"$f":"IF(AND(Estemate!D48=\"\"),\"\",Estemate!D48)","v":""},{"$f":"IF(AND(Estemate!C48=\"\"),\"\",Estemate!C48)","v":""},null,{"$f":"IF(AND(Estemate!L48=\"\"),\"\",Estemate!L48)","v":""},0,0,"",0,0,0,{"$f":"Estemate!E48","v":0},0,{"$f":"IF(Estemate!P48=\"\",\"\",Estemate!P48)","v":""},{"$f":"Estemate!M48","v":0},0,0]
["",{"$f":"IF(AND(Estemate!G49=\"\"),\"\",Estemate!G49)","v":""},{"$f":"IF(AND(Estemate!H49=\"\"),\"\",Estemate!H49)","v":""},{"$f":"IF(AND(Estemate!D49=\"\"),\"\",Estemate!D49)","v":""},{"$f":"IF(AND(Estemate!C49=\"\"),\"\",Estemate!C49)","v":""},null,{"$f":"IF(AND(Estemate!L49=\"\"),\"\",Estemate!L49)","v":""},0,0,"",0,0,0,{"$f":"Estemate!E49","v":0},0,{"$f":"IF(Estemate!P49=\"\",\"\",Estemate!P49)","v":""},{"$f":"Estemate!M49","v":0},0,0]
["",{"$f":"IF(AND(Estemate!G50=\"\"),\"\",Estemate!G50)","v":""},{"$f":"IF(AND(Estemate!H50=\"\"),\"\",Estemate!H50)","v":""},{"$f":"IF(AND(Estemate!D50=\"\"),\"\",Estemate!D50)","v":""},{"$f":"IF(AND(Estemate!C50=\"\"),\"\",Estemate!C50)","v":""},null,{"$f":"IF(AND(Estemate!L50=\"\"),\"\",Estemate!L50)","v":""},0,0,"",0,0,0,{"$f":"Estemate!E50","v":0},0,{"$f":"IF(Estemate!P50=\"\",\"\",Estemate!P50)","v":""},{"$f":"Estemate!M50","v":0},0,0]
["",{"$f":"IF(AND(Estemate!G51=\"\"),\"\",Estemate!G51)","v":""},{"$f":"IF(AND(Estemate!H51=\"\"),\"\",Estemate!H51)","v":""},{"$f":"IF(AND(Estemate!D51=\"\"),\"\",Estemate!D51)","v":""},{"$f":"IF(AND(Estemate!C51=\"\"),\"\",Estemate!C51)","v":""},null,{"$f":"IF(AND(Estemate!L51=\"\"),\"\",Estemate!L51)","v":""},0,0,"",0,0,0,{"$f":"Estemate!E51","v":0},0,{"$f":"IF(Estemate!P51=\"\",\"\",Estemate!P51)","v":""},{"$f":"Estemate!M51","v":0},0,0]
["",{"$f":"IF(AND(Estemate!G52=\"\"),\"\",Estemate!G52)","v":""},{"$f":"IF(AND(Estemate!H52=\"\"),\"\",Estemate!H52)","v":""},{"$f":"IF(AND(Estemate!D52=\"\"),\"\",Estemate!D52)","v":""},{"$f":"IF(AND(Estemate!C52=\"\"),\"\",Estemate!C52)","v":""},null,{"$f":"IF(AND(Estemate!L52=\"\"),\"\",Estemate!L52)","v":""},0,0,"",0,0,0,{"$f":"Estemate!E52","v":0},0,{"$f":"IF(Estemate!P52=\"\",\"\",Estemate!P52)","v":""},{"$f":"Estemate!M52","v":0},0,0]
["",{"$f":"IF(AND(Estemate!G53=\"\"),\"\",Estemate!G53)","v":""},{"$f":"IF(AND(Estemate!H53=\"\"),\"\",Estemate!H53)","v":""},{"$f":"IF(AND(Estemate!D53=\"\"),\"\",Estemate!D53)","v":""},{"$f":"IF(AND(Estemate!C53=\"\"),\"\",Estemate!C53)","v":""},null,{"$f":"IF(AND(Estemate!L53=\"\"),\"\",Estemate!L53)","v":""},0,0,"",0,0,0,{"$f":"Estemate!E53","v":0},0,{"$f":"IF(Estemate!P53=\"\",\"\",Estemate!P53)","v":""},{"$f":"Estemate!M53","v":0},0,0]
["",{"$f":"IF(AND(Estemate!G54=\"\"),\"\",Estemate!G54)","v":""},{"$f":"IF(AND(Estemate!H54=\"\"),\"\",Estemate!H54)","v":""},{"$f":"IF(AND(Estemate!D54=\"\"),\"\",Estemate!D54)","v":""},{"$f":"IF(AND(Estemate!C54=\"\"),\"\",Estemate!C54)","v":""},null,{"$f":"IF(AND(Estemate!L54=\"\"),\"\",Estemate!L54)","v":""},0,0,"",0,0,0,{"$f":"Estemate!E54","v":0},0,{"$f":"IF(Estemate!P54=\"\",\"\",Estemate!P54)","v":""},{"$f":"Estemate!M54","v":0},0,0]
["",{"$f":"IF(AND(Estemate!G55=\"\"),\"\",Estemate!G55)","v":""},{"$f":"IF(AND(Estemate!H55=\"\"),\"\",Estemate!H55)","v":""},{"$f":"IF(AND(Estemate!D55=\"\"),\"\",Estemate!D55)","v":""},{"$f":"IF(AND(Estemate!C55=\"\"),\"\",Estemate!C55)","v":""},null,{"$f":"IF(AND(Estemate!L55=\"\"),\"\",Estemate!L55)","v":""},0,0,"",0,0,0,{"$f":"Estemate!E55","v":0},0,{"$f":"IF(Estemate!P55=\"\",\"\",Estemate!P55)","v":""},{"$f":"Estemate!M55","v":0},0,0]
["",{"$f":"IF(AND(Estemate!G56=\"\"),\"\",Estemate!G56)","v":""},{"$f":"IF(AND(Estemate!H56=\"\"),\"\",Estemate!H56)","v":""},{"$f":"IF(AND(Estemate!D56=\"\"),\"\",Estemate!D56)","v":""},{"$f":"IF(AND(Estemate!C56=\"\"),\"\",Estemate!C56)","v":""},null,{"$f":"IF(AND(Estemate!L56=\"\"),\"\",Estemate!L56)","v":""},0,0,"",0,0,0,{"$f":"Estemate!E56","v":0},0,{"$f":"IF(Estemate!P56=\"\",\"\",Estemate!P56)","v":""},{"$f":"Estemate!M56","v":0},0,0]
["",{"$f":"IF(AND(Estemate!G57=\"\"),\"\",Estemate!G57)","v":""},{"$f":"IF(AND(Estemate!H57=\"\"),\"\",Estemate!H57)","v":""},{"$f":"IF(AND(Estemate!D57=\"\"),\"\",Estemate!D57)","v":""},{"$f":"IF(AND(Estemate!C57=\"\"),\"\",Estemate!C57)","v":""},null,{"$f":"IF(AND(Estemate!L57=\"\"),\"\",Estemate!L57)","v":""},0,0,"",0,0,0,{"$f":"Estemate!E57","v":0},0,{"$f":"IF(Estemate!P57=\"\",\"\",Estemate!P57)","v":""},{"$f":"Estemate!M57","v":0},0,0]
["",{"$f":"IF(AND(Estemate!G58=\"\"),\"\",Estemate!G58)","v":""},{"$f":"IF(AND(Estemate!H58=\"\"),\"\",Estemate!H58)","v":""},{"$f":"IF(AND(Estemate!D58=\"\"),\"\",Estemate!D58)","v":""},{"$f":"IF(AND(Estemate!C58=\"\"),\"\",Estemate!C58)","v":""},null,{"$f":"IF(AND(Estemate!L58=\"\"),\"\",Estemate!L58)","v":""},0,0,"",0,0,0,{"$f":"Estemate!E58","v":0},0,{"$f":"IF(Estemate!P58=\"\",\"\",Estemate!P58)","v":""},{"$f":"Estemate!M58","v":0},0,0]
["",{"$f":"IF(AND(Estemate!G59=\"\"),\"\",Estemate!G59)","v":""},{"$f":"IF(AND(Estemate!H59=\"\"),\"\",Estemate!H59)","v":""},{"$f":"IF(AND(Estemate!D59=\"\"),\"\",Estemate!D59)","v":""},{"$f":"IF(AND(Estemate!C59=\"\"),\"\",Estemate!C59)","v":""},null,{"$f":"IF(AND(Estemate!L59=\"\"),\"\",Estemate!L59)","v":""},0,0,"",0,0,0,{"$f":"Estemate!E59","v":0},0,{"$f":"IF(Estemate!P59=\"\",\"\",Estemate!P59)","v":""},{"$f":"Estemate!M59","v":0},0,0]
["",{"$f":"IF(AND(Estemate!G60=\"\"),\"\",Estemate!G60)","v":""},{"$f":"IF(AND(Estemate!H60=\"\"),\"\",Estemate!H60)","v":""},{"$f":"IF(AND(Estemate!D60=\"\"),\"\",Estemate!D60)","v":""},{"$f":"IF(AND(Estemate!C60=\"\"),\"\",Estemate!C60)","v":""},null,{"$f":"IF(AND(Estemate!L60=\"\"),\"\",Estemate!L60)","v":""},0,0,"",0,0,0,{"$f":"Estemate!E60","v":0},0,{"$f":"IF(Estemate!P60=\"\",\"\",Estemate!P60)","v":""},{"$f":"Estemate!M60","v":0},0,0]
["",{"$f":"IF(AND(Estemate!G61=\"\"),\"\",Estemate!G61)","v":""},{"$f":"IF(AND(Estemate!H61=\"\"),\"\",Estemate!H61)","v":""},{"$f":"IF(AND(Estemate!D61=\"\"),\"\",Estemate!D61)","v":""},{"$f":"IF(AND(Estemate!C61=\"\"),\"\",Estemate!C61)","v":""},null,{"$f":"IF(AND(Estemate!L61=\"\"),\"\",Estemate!L61)","v":""},0,0,"",0,0,0,{"$f":"Estemate!E61","v":0},0,{"$f":"IF(Estemate!P61=\"\",\"\",Estemate!P61)","v":""},{"$f":"Estemate!M61","v":0},0,0]
["",{"$f":"IF(AND(Estemate!G62=\"\"),\"\",Estemate!G62)","v":""},{"$f":"IF(AND(Estemate!H62=\"\"),\"\",Estemate!H62)","v":""},{"$f":"IF(AND(Estemate!D62=\"\"),\"\",Estemate!D62)","v":""},{"$f":"IF(AND(Estemate!C62=\"\"),\"\",Estemate!C62)","v":""},null,{"$f":"IF(AND(Estemate!L62=\"\"),\"\",Estemate!L62)","v":""},0,0,"",0,0,0,{"$f":"Estemate!E62","v":0},0,{"$f":"IF(Estemate!P62=\"\",\"\",Estemate!P62)","v":""},{"$f":"Estemate!M62","v":0},0,0]
["",{"$f":"IF(AND(Estemate!G63=\"\"),\"\",Estemate!G63)","v":""},{"$f":"IF(AND(Estemate!H63=\"\"),\"\",Estemate!H63)","v":""},{"$f":"IF(AND(Estemate!D63=\"\"),\"\",Estemate!D63)","v":""},{"$f":"IF(AND(Estemate!C63=\"\"),\"\",Estemate!C63)","v":""},null,{"$f":"IF(AND(Estemate!L63=\"\"),\"\",Estemate!L63)","v":""},0,0,"",0,0,0,{"$f":"Estemate!E63","v":0},0,{"$f":"IF(Estemate!P63=\"\",\"\",Estemate!P63)","v":""},{"$f":"Estemate!M63","v":0},0,0]
["",{"$f":"IF(AND(Estemate!G64=\"\"),\"\",Estemate!G64)","v":""},{"$f":"IF(AND(Estemate!H64=\"\"),\"\",Estemate!H64)","v":""},{"$f":"IF(AND(Estemate!D64=\"\"),\"\",Estemate!D64)","v":""},{"$f":"IF(AND(Estemate!C64=\"\"),\"\",Estemate!C64)","v":""},null,{"$f":"IF(AND(Estemate!L64=\"\"),\"\",Estemate!L64)","v":""},0,0,"",0,0,0,{"$f":"Estemate!E64","v":0},0,{"$f":"IF(Estemate!P64=\"\",\"\",Estemate!P64)","v":""},{"$f":"Estemate!M64","v":0},0,0]
["",{"$f":"IF(AND(Estemate!G65=\"\"),\"\",Estemate!G65)","v":""},{"$f":"IF(AND(Estemate!H65=\"\"),\"\",Estemate!H65)","v":""},{"$f":"IF(AND(Estemate!D65=\"\"),\"\",Estemate!D65)","v":""},{"$f":"IF(AND(Estemate!C65=\"\"),\"\",Estemate!C65)","v":""},null,{"$f":"IF(AND(Estemate!L65=\"\"),\"\",Estemate!L65)","v":""},0,0,"",0,0,0,{"$f":"Estemate!E65","v":0},0,{"$f":"IF(Estemate!P65=\"\",\"\",Estemate!P65)","v":""},{"$f":"Estemate!M65","v":0},0,0]
["",{"$f":"IF(AND(Estemate!G66=\"\"),\"\",Estemate!G66)","v":""},{"$f":"IF(AND(Estemate!H66=\"\"),\"\",Estemate!H66)","v":""},{"$f":"IF(AND(Estemate!D66=\"\"),\"\",Estemate!D66)","v":""},{"$f":"IF(AND(Estemate!C66=\"\"),\"\",Estemate!C66)","v":""},null,{"$f":"IF(AND(Estemate!L66=\"\"),\"\",Estemate!L66)","v":""},0,0,"",0,0,0,{"$f":"Estemate!E66","v":0},0,{"$f":"IF(Estemate!P66=\"\",\"\",Estemate!P66)","v":""},{"$f":"Estemate!M66","v":0},0,0]
["",{"$f":"IF(AND(Estemate!G67=\"\"),\"\",Estemate!G67)","v":""},{"$f":"IF(AND(Estemate!H67=\"\"),\"\",Estemate!H67)","v":""},{"$f":"IF(AND(Estemate!D67=\"\"),\"\",Estemate!D67)","v":""},{"$f":"IF(AND(Estemate!C67=\"\"),\"\",Estemate!C67)","v":""},null,{"$f":"IF(AND(Estemate!L67=\"\"),\"\",Estemate!L67)","v":""},0,0,"",0,0,0,{"$f":"Estemate!E67","v":0},0,{"$f":"IF(Estemate!P67=\"\",\"\",Estemate!P67)","v":""},{"$f":"Estemate!M67","v":0},0,0]
["",{"$f":"IF(AND(Estemate!G68=\"\"),\"\",Estemate!G68)","v":""},{"$f":"IF(AND(Estemate!H68=\"\"),\"\",Estemate!H68)","v":""},{"$f":"IF(AND(Estemate!D68=\"\"),\"\",Estemate!D68)","v":""},{"$f":"IF(AND(Estemate!C68=\"\"),\"\",Estemate!C68)","v":""},null,{"$f":"IF(AND(Estemate!L68=\"\"),\"\",Estemate!L68)","v":""},0,0,"",0,0,0,{"$f":"Estemate!E68","v":0},0,{"$f":"IF(Estemate!P68=\"\",\"\",Estemate!P68)","v":""},{"$f":"Estemate!M68","v":0},0,0]
["",{"$f":"IF(AND(Estemate!G69=\"\"),\"\",Estemate!G69)","v":""},{"$f":"IF(AND(Estemate!H69=\"\"),\"\",Estemate!H69)","v":""},{"$f":"IF(AND(Estemate!D69=\"\"),\"\",Estemate!D69)","v":""},{"$f":"IF(AND(Estemate!C69=\"\"),\"\",Estemate!C69)","v":""},null,{"$f":"IF(AND(Estemate!L69=\"\"),\"\",Estemate!L69)","v":""},0,0,"",0,0,0,{"$f":"Estemate!E69","v":0},0,{"$f":"IF(Estemate!P69=\"\",\"\",Estemate!P69)","v":""},{"$f":"Estemate!M69","v":0},0,0]
["",{"$f":"IF(AND(Estemate!G70=\"\"),\"\",Estemate!G70)","v":""},{"$f":"IF(AND(Estemate!H70=\"\"),\"\",Estemate!H70)","v":""},{"$f":"IF(AND(Estemate!D70=\"\"),\"\",Estemate!D70)","v":""},{"$f":"IF(AND(Estemate!C70=\"\"),\"\",Estemate!C70)","v":""},null,{"$f":"IF(AND(Estemate!L70=\"\"),\"\",Estemate!L70)","v":""},0,0,"",0,0,0,{"$f":"Estemate!E70","v":0},0,{"$f":"IF(Estemate!P70=\"\",\"\",Estemate!P70)","v":""},{"$f":"Estemate!M70","v":0},0,0]
["",{"$f":"IF(AND(Estemate!G71=\"\"),\"\",Estemate!G71)","v":""},{"$f":"IF(AND(Estemate!H71=\"\"),\"\",Estemate!H71)","v":""},{"$f":"IF(AND(Estemate!D71=\"\"),\"\",Estemate!D71)","v":""},{"$f":"IF(AND(Estemate!C71=\"\"),\"\",Estemate!C71)","v":""},null,{"$f":"IF(AND(Estemate!L71=\"\"),\"\",Estemate!L71)","v":""},0,0,"",0,0,0,{"$f":"Estemate!E71","v":0},0,{"$f":"IF(Estemate!P71=\"\",\"\",Estemate!P71)","v":""},{"$f":"Estemate!M71","v":0},0,0]
["",{"$f":"IF(AND(Estemate!G72=\"\"),\"\",Estemate!G72)","v":""},{"$f":"IF(AND(Estemate!H72=\"\"),\"\",Estemate!H72)","v":""},{"$f":"IF(AND(Estemate!D72=\"\"),\"\",Estemate!D72)","v":""},{"$f":"IF(AND(Estemate!C72=\"\"),\"\",Estemate!C72)","v":""},null,{"$f":"IF(AND(Estemate!L72=\"\"),\"\",Estemate!L72)","v":""},0,0,"",0,0,0,{"$f":"Estemate!E72","v":0},0,{"$f":"IF(Estemate!P72=\"\",\"\",Estemate!P72)","v":""},{"$f":"Estemate!M72","v":0},0,0]
["",{"$f":"IF(AND(Estemate!G73=\"\"),\"\",Estemate!G73)","v":""},{"$f":"IF(AND(Estemate!H73=\"\"),\"\",Estemate!H73)","v":""},{"$f":"IF(AND(Estemate!D73=\"\"),\"\",Estemate!D73)","v":""},{"$f":"IF(AND(Estemate!C73=\"\"),\"\",Estemate!C73)","v":""},null,{"$f":"IF(AND(Estemate!L73=\"\"),\"\",Estemate!L73)","v":""},0,0,"",0,0,0,{"$f":"Estemate!E73","v":0},0,{"$f":"IF(Estemate!P73=\"\",\"\",Estemate!P73)","v":""},{"$f":"Estemate!M73","v":0},0,0]
["",{"$f":"IF(AND(Estemate!G74=\"\"),\"\",Estemate!G74)","v":""},{"$f":"IF(AND(Estemate!H74=\"\"),\"\",Estemate!H74)","v":""},{"$f":"IF(AND(Estemate!D74=\"\"),\"\",Estemate!D74)","v":""},{"$f":"IF(AND(Estemate!C74=\"\"),\"\",Estemate!C74)","v":""},null,{"$f":"IF(AND(Estemate!L74=\"\"),\"\",Estemate!L74)","v":""},0,0,"",0,0,0,{"$f":"Estemate!E74","v":0},0,{"$f":"IF(Estemate!P74=\"\",\"\",Estemate!P74)","v":""},{"$f":"Estemate!M74","v":0},0,0]
["",{"$f":"IF(AND(Estemate!G75=\"\"),\"\",Estemate!G75)","v":""},{"$f":"IF(AND(Estemate!H75=\"\"),\"\",Estemate!H75)","v":""},{"$f":"IF(AND(Estemate!D75=\"\"),\"\",Estemate!D75)","v":""},{"$f":"IF(AND(Estemate!C75=\"\"),\"\",Estemate!C75)","v":""},null,{"$f":"IF(AND(Estemate!L75=\"\"),\"\",Estemate!L75)","v":""},0,0,"",0,0,0,{"$f":"Estemate!E75","v":0},0,{"$f":"IF(Estemate!P75=\"\",\"\",Estemate!P75)","v":""},{"$f":"Estemate!M75","v":0},0,0]
["",{"$f":"IF(AND(Estemate!G76=\"\"),\"\",Estemate!G76)","v":""},{"$f":"IF(AND(Estemate!H76=\"\"),\"\",Estemate!H76)","v":""},{"$f":"IF(AND(Estemate!D76=\"\"),\"\",Estemate!D76)","v":""},{"$f":"IF(AND(Estemate!C76=\"\"),\"\",Estemate!C76)","v":""},null,{"$f":"IF(AND(Estemate!L76=\"\"),\"\",Estemate!L76)","v":""},{"$f":"IF(P78=\"R\",Q78,0)","v":0},0,"",0,0,0,{"$f":"Estemate!E76","v":0},0,{"$f":"IF(Estemate!P76=\"\",\"\",Estemate!P76)","v":""},{"$f":"Estemate!M76","v":0},0,{"$f":"H78","v":0}]
["",{"$f":"IF(AND(Estemate!G77=\"\"),\"\",Estemate!G77)","v":""},{"$f":"IF(AND(Estemate!H77=\"\"),\"\",Estemate!H77)","v":""},{"$f":"IF(AND(Estemate!D77=\"\"),\"\",Estemate!D77)","v":""},{"$f":"IF(AND(Estemate!C77=\"\"),\"\",Estemate!C77)","v":""},null,{"$f":"IF(AND(Estemate!L77=\"\"),\"\",Estemate!L77)","v":""},0,0,"",0,0,0,{"$f":"Estemate!E77","v":0},0,{"$f":"IF(Estemate!P77=\"\",\"\",Estemate!P77)","v":""},{"$f":"Estemate!M77","v":0},0,0]
["",{"$f":"IF(AND(Estemate!G78=\"\"),\"\",Estemate!G78)","v":""},{"$f":"IF(AND(Estemate!H78=\"\"),\"\",Estemate!H78)","v":""},{"$f":"IF(AND(Estemate!D78=\"\"),\"\",Estemate!D78)","v":""},{"$f":"IF(AND(Estemate!C78=\"\"),\"\",Estemate!C78)","v":""},null,{"$f":"IF(AND(Estemate!L78=\"\"),\"\",Estemate!L78)","v":""},0,0,"",0,0,0,{"$f":"Estemate!E78","v":0},0,{"$f":"IF(Estemate!P78=\"\",\"\",Estemate!P78)","v":""},{"$f":"Estemate!M78","v":0},0,0]
["",{"$f":"IF(AND(Estemate!G79=\"\"),\"\",Estemate!G79)","v":""},{"$f":"IF(AND(Estemate!H79=\"\"),\"\",Estemate!H79)","v":""},{"$f":"IF(AND(Estemate!D79=\"\"),\"\",Estemate!D79)","v":""},{"$f":"IF(AND(Estemate!C79=\"\"),\"\",Estemate!C79)","v":""},null,{"$f":"IF(AND(Estemate!L79=\"\"),\"\",Estemate!L79)","v":""},0,0,"",0,0,0,{"$f":"Estemate!E79","v":0},0,{"$f":"IF(Estemate!P79=\"\",\"\",Estemate!P79)","v":""},{"$f":"Estemate!M79","v":0},0,0]
["",{"$f":"IF(AND(Estemate!G80=\"\"),\"\",Estemate!G80)","v":""},{"$f":"IF(AND(Estemate!H80=\"\"),\"\",Estemate!H80)","v":""},{"$f":"IF(AND(Estemate!D80=\"\"),\"\",Estemate!D80)","v":""},{"$f":"IF(AND(Estemate!C80=\"\"),\"\",Estemate!C80)","v":""},null,{"$f":"IF(AND(Estemate!L80=\"\"),\"\",Estemate!L80)","v":""},0,0,"",0,0,0,{"$f":"Estemate!E80","v":0},0,{"$f":"IF(Estemate!P80=\"\",\"\",Estemate!P80)","v":""},{"$f":"Estemate!M80","v":0},0,0]
["",{"$f":"IF(AND(Estemate!G81=\"\"),\"\",Estemate!G81)","v":""},{"$f":"IF(AND(Estemate!H81=\"\"),\"\",Estemate!H81)","v":""},{"$f":"IF(AND(Estemate!D81=\"\"),\"\",Estemate!D81)","v":""},{"$f":"IF(AND(Estemate!C81=\"\"),\"\",Estemate!C81)","v":""},null,{"$f":"IF(AND(Estemate!L81=\"\"),\"\",Estemate!L81)","v":""},0,0,"",0,0,0,{"$f":"Estemate!E81","v":0},0,{"$f":"IF(Estemate!P81=\"\",\"\",Estemate!P81)","v":""},{"$f":"Estemate!M81","v":0},0,0]
["",{"$f":"IF(AND(Estemate!G82=\"\"),\"\",Estemate!G82)","v":""},{"$f":"IF(AND(Estemate!H82=\"\"),\"\",Estemate!H82)","v":""},{"$f":"IF(AND(Estemate!D82=\"\"),\"\",Estemate!D82)","v":""},{"$f":"IF(AND(Estemate!C82=\"\"),\"\",Estemate!C82)","v":""},null,{"$f":"IF(AND(Estemate!L82=\"\"),\"\",Estemate!L82)","v":""},0,0,"",0,0,0,{"$f":"Estemate!E82","v":0},0,{"$f":"IF(Estemate!P82=\"\",\"\",Estemate!P82)","v":""},{"$f":"Estemate!M82","v":0},0,0]
["",{"$f":"IF(AND(Estemate!G83=\"\"),\"\",Estemate!G83)","v":""},{"$f":"IF(AND(Estemate!H83=\"\"),\"\",Estemate!H83)","v":""},{"$f":"IF(AND(Estemate!D83=\"\"),\"\",Estemate!D83)","v":""},{"$f":"IF(AND(Estemate!C83=\"\"),\"\",Estemate!C83)","v":""},null,{"$f":"IF(AND(Estemate!L83=\"\"),\"\",Estemate!L83)","v":""},0,0,"",0,0,0,{"$f":"Estemate!E83","v":0},0,{"$f":"IF(Estemate!P83=\"\",\"\",Estemate!P83)","v":""},{"$f":"Estemate!M83","v":0},0,0]
["",{"$f":"IF(AND(Estemate!G84=\"\"),\"\",Estemate!G84)","v":""},{"$f":"IF(AND(Estemate!H84=\"\"),\"\",Estemate!H84)","v":""},{"$f":"IF(AND(Estemate!D84=\"\"),\"\",Estemate!D84)","v":""},{"$f":"IF(AND(Estemate!C84=\"\"),\"\",Estemate!C84)","v":""},null,{"$f":"IF(AND(Estemate!L84=\"\"),\"\",Estemate!L84)","v":""},0,0,"",0,0,0,{"$f":"Estemate!E84","v":0},0,{"$f":"IF(Estemate!P84=\"\",\"\",Estemate!P84)","v":""},{"$f":"Estemate!M84","v":0},0,0]
["",{"$f":"IF(AND(Estemate!G85=\"\"),\"\",Estemate!G85)","v":""},{"$f":"IF(AND(Estemate!H85=\"\"),\"\",Estemate!H85)","v":""},{"$f":"IF(AND(Estemate!D85=\"\"),\"\",Estemate!D85)","v":""},{"$f":"IF(AND(Estemate!C85=\"\"),\"\",Estemate!C85)","v":""},null,{"$f":"IF(AND(Estemate!L85=\"\"),\"\",Estemate!L85)","v":""},0,0,"",0,0,0,{"$f":"Estemate!E85","v":0},0,{"$f":"IF(Estemate!P85=\"\",\"\",Estemate!P85)","v":""},{"$f":"Estemate!M85","v":0},0,0]
["",{"$f":"IF(AND(Estemate!G86=\"\"),\"\",Estemate!G86)","v":""},{"$f":"IF(AND(Estemate!H86=\"\"),\"\",Estemate!H86)","v":""},{"$f":"IF(AND(Estemate!D86=\"\"),\"\",Estemate!D86)","v":""},{"$f":"IF(AND(Estemate!C86=\"\"),\"\",Estemate!C86)","v":""},null,{"$f":"IF(AND(Estemate!L86=\"\"),\"\",Estemate!L86)","v":""},0,0,"",0,0,0,{"$f":"Estemate!E86","v":0},0,{"$f":"IF(Estemate!P86=\"\",\"\",Estemate!P86)","v":""},{"$f":"Estemate!M86","v":0},0,0]
["",{"$f":"IF(AND(Estemate!G87=\"\"),\"\",Estemate!G87)","v":""},{"$f":"IF(AND(Estemate!H87=\"\"),\"\",Estemate!H87)","v":""},{"$f":"IF(AND(Estemate!D87=\"\"),\"\",Estemate!D87)","v":""},{"$f":"IF(AND(Estemate!C87=\"\"),\"\",Estemate!C87)","v":""},null,{"$f":"IF(AND(Estemate!L87=\"\"),\"\",Estemate!L87)","v":""},0,0,"",0,0,0,{"$f":"Estemate!E87","v":0},0,{"$f":"IF(Estemate!P87=\"\",\"\",Estemate!P87)","v":""},{"$f":"Estemate!M87","v":0},0,0]
["",{"$f":"IF(AND(Estemate!G88=\"\"),\"\",Estemate!G88)","v":""},{"$f":"IF(AND(Estemate!H88=\"\"),\"\",Estemate!H88)","v":""},{"$f":"IF(AND(Estemate!D88=\"\"),\"\",Estemate!D88)","v":""},{"$f":"IF(AND(Estemate!C88=\"\"),\"\",Estemate!C88)","v":""},null,{"$f":"IF(AND(Estemate!L88=\"\"),\"\",Estemate!L88)","v":""},0,0,"",0,0,0,{"$f":"Estemate!E88","v":0},0,{"$f":"IF(Estemate!P88=\"\",\"\",Estemate!P88)","v":""},{"$f":"Estemate!M88","v":0},0,0]
["",{"$f":"IF(AND(Estemate!G89=\"\"),\"\",Estemate!G89)","v":""},{"$f":"IF(AND(Estemate!H89=\"\"),\"\",Estemate!H89)","v":""},{"$f":"IF(AND(Estemate!D89=\"\"),\"\",Estemate!D89)","v":""},{"$f":"IF(AND(Estemate!C89=\"\"),\"\",Estemate!C89)","v":""},null,{"$f":"IF(AND(Estemate!L89=\"\"),\"\",Estemate!L89)","v":""},0,0,"",0,0,0,{"$f":"Estemate!E89","v":0},0,{"$f":"IF(Estemate!P89=\"\",\"\",Estemate!P89)","v":""},{"$f":"Estemate!M89","v":0},0,0]
["",{"$f":"IF(AND(Estemate!G90=\"\"),\"\",Estemate!G90)","v":""},{"$f":"IF(AND(Estemate!H90=\"\"),\"\",Estemate!H90)","v":""},{"$f":"IF(AND(Estemate!D90=\"\"),\"\",Estemate!D90)","v":""},{"$f":"IF(AND(Estemate!C90=\"\"),\"\",Estemate!C90)","v":""},null,{"$f":"IF(AND(Estemate!L90=\"\"),\"\",Estemate!L90)","v":""},0,0,"",0,0,0,{"$f":"Estemate!E90","v":0},0,{"$f":"IF(Estemate!P90=\"\",\"\",Estemate!P90)","v":""},{"$f":"Estemate!M90","v":0},0,0]
["",{"$f":"IF(AND(Estemate!G91=\"\"),\"\",Estemate!G91)","v":""},{"$f":"IF(AND(Estemate!H91=\"\"),\"\",Estemate!H91)","v":""},{"$f":"IF(AND(Estemate!D91=\"\"),\"\",Estemate!D91)","v":""},{"$f":"IF(AND(Estemate!C91=\"\"),\"\",Estemate!C91)","v":""},null,{"$f":"IF(AND(Estemate!L91=\"\"),\"\",Estemate!L91)","v":""},0,0,"",0,0,0,{"$f":"Estemate!E91","v":0},0,{"$f":"IF(Estemate!P91=\"\",\"\",Estemate!P91)","v":""},{"$f":"Estemate!M91","v":0},0,0]
["",{"$f":"IF(AND(Estemate!G92=\"\"),\"\",Estemate!G92)","v":""},{"$f":"IF(AND(Estemate!H92=\"\"),\"\",Estemate!H92)","v":""},{"$f":"IF(AND(Estemate!D92=\"\"),\"\",Estemate!D92)","v":""},{"$f":"IF(AND(Estemate!C92=\"\"),\"\",Estemate!C92)","v":""},null,{"$f":"IF(AND(Estemate!L92=\"\"),\"\",Estemate!L92)","v":""},0,0,"",0,0,0,{"$f":"Estemate!E92","v":0},0,{"$f":"IF(Estemate!P92=\"\",\"\",Estemate!P92)","v":""},{"$f":"Estemate!M92","v":0},0,0]
["",{"$f":"IF(AND(Estemate!G93=\"\"),\"\",Estemate!G93)","v":""},{"$f":"IF(AND(Estemate!H93=\"\"),\"\",Estemate!H93)","v":""},{"$f":"IF(AND(Estemate!D93=\"\"),\"\",Estemate!D93)","v":""},{"$f":"IF(AND(Estemate!C93=\"\"),\"\",Estemate!C93)","v":""},null,{"$f":"IF(AND(Estemate!L93=\"\"),\"\",Estemate!L93)","v":""},0,0,"",0,0,0,{"$f":"Estemate!E93","v":0},0,{"$f":"IF(Estemate!P93=\"\",\"\",Estemate!P93)","v":""},{"$f":"Estemate!M93","v":0},0,0]
["",{"$f":"IF(AND(Estemate!G94=\"\"),\"\",Estemate!G94)","v":""},{"$f":"IF(AND(Estemate!H94=\"\"),\"\",Estemate!H94)","v":""},{"$f":"IF(AND(Estemate!D94=\"\"),\"\",Estemate!D94)","v":""},{"$f":"IF(AND(Estemate!C94=\"\"),\"\",Estemate!C94)","v":""},null,{"$f":"IF(AND(Estemate!L94=\"\"),\"\",Estemate!L94)","v":""},0,0,"",0,0,0,{"$f":"Estemate!E94","v":0},0,{"$f":"IF(Estemate!P94=\"\",\"\",Estemate!P94)","v":""},{"$f":"Estemate!M94","v":0},0,0]
["",{"$f":"IF(AND(Estemate!G95=\"\"),\"\",Estemate!G95)","v":""},{"$f":"IF(AND(Estemate!H95=\"\"),\"\",Estemate!H95)","v":""},{"$f":"IF(AND(Estemate!D95=\"\"),\"\",Estemate!D95)","v":""},{"$f":"IF(AND(Estemate!C95=\"\"),\"\",Estemate!C95)","v":""},null,{"$f":"IF(AND(Estemate!L95=\"\"),\"\",Estemate!L95)","v":""},0,0,"",0,0,0,{"$f":"Estemate!E95","v":0},0,{"$f":"IF(Estemate!P95=\"\",\"\",Estemate!P95)","v":""},{"$f":"Estemate!M95","v":0},0,0]
[{"$f":"IF(B98=\"\",\"\",A97+1)","v":""},{"$f":"IF(AND(Estemate!G96=\"\"),\"\",Estemate!G96)","v":""},{"$f":"IF(AND(Estemate!H96=\"\"),\"\",Estemate!H96)","v":""},{"$f":"IF(AND(Estemate!D96=\"\"),\"\",Estemate!D96)","v":""},{"$f":"IF(AND(Estemate!C96=\"\"),\"\",Estemate!C96)","v":""},null,{"$f":"IF(AND(Estemate!L96=\"\"),\"\",Estemate!L96)","v":""},0,{"$f":"IF(AND(H98=\"\"),\"\",H98*12)","v":0},{"$f":"IF(AND(H98=\"\"),\"\",IF(H98<=0,\"\",(CONCATENATE(\"01-07-\",(YEAR(TODAY())+1)))))","v":""},{"$f":"IF(AND(H98=\"\"),\"\",ROUND(ROUND(H98*3%,0),-2)*IF(G98=\"FIX PAY\",0,1)*8)","v":0},{"$f":"IF(AND(H98=\"\"),\"\",I98+K98)","v":0},{"$f":"IF(AND(H98=\"\"),\"\",IF(G98=\" FIX PAY \",L98,((IF(G98=\"FIX PAY\",0,O98*4+H98*8)))))","v":0},{"$f":"Estemate!E96","v":0},{"$f":"IF(AND(H98=\"\"),\"\",H98-ROUNDUP(ROUND((H98*3%)-(H98*3%)*2.9%,-2),0))","v":0},{"$f":"IF(Estemate!P96=\"\",\"\",Estemate!P96)","v":""},{"$f":"Estemate!M96","v":0},{"$f":"IF(O98=\"\",\"\",H98+K98/8)","v":0},0]
["",{"$f":"IF(AND(Estemate!G97=\"\"),\"\",Estemate!G97)","v":""},{"$f":"IF(AND(Estemate!H97=\"\"),\"\",Estemate!H97)","v":""},{"$f":"IF(AND(Estemate!D97=\"\"),\"\",Estemate!D97)","v":""},{"$f":"IF(AND(Estemate!C97=\"\"),\"\",Estemate!C97)","v":""},null,{"$f":"IF(AND(Estemate!L97=\"\"),\"\",Estemate!L97)","v":""},0,0,"",0,0,0,{"$f":"Estemate!E97","v":0},0,{"$f":"IF(Estemate!P97=\"\",\"\",Estemate!P97)","v":""},{"$f":"Estemate!M97","v":0},0,0]
["",{"$f":"IF(AND(Estemate!G98=\"\"),\"\",Estemate!G98)","v":""},{"$f":"IF(AND(Estemate!H98=\"\"),\"\",Estemate!H98)","v":""},{"$f":"IF(AND(Estemate!D98=\"\"),\"\",Estemate!D98)","v":""},{"$f":"IF(AND(Estemate!C98=\"\"),\"\",Estemate!C98)","v":""},null,{"$f":"IF(AND(Estemate!L98=\"\"),\"\",Estemate!L98)","v":""},0,0,"",0,0,0,{"$f":"Estemate!E98","v":0},0,{"$f":"IF(Estemate!P98=\"\",\"\",Estemate!P98)","v":""},{"$f":"Estemate!M98","v":0},0,0]
["",{"$f":"IF(AND(Estemate!G99=\"\"),\"\",Estemate!G99)","v":""},{"$f":"IF(AND(Estemate!H99=\"\"),\"\",Estemate!H99)","v":""},{"$f":"IF(AND(Estemate!D99=\"\"),\"\",Estemate!D99)","v":""},{"$f":"IF(AND(Estemate!C99=\"\"),\"\",Estemate!C99)","v":""},null,{"$f":"IF(AND(Estemate!L99=\"\"),\"\",Estemate!L99)","v":""},0,0,"",0,0,0,{"$f":"Estemate!E99","v":0},0,{"$f":"IF(Estemate!P99=\"\",\"\",Estemate!P99)","v":""},{"$f":"Estemate!M99","v":0},0,0]
["",{"$f":"IF(AND(Estemate!G100=\"\"),\"\",Estemate!G100)","v":""},{"$f":"IF(AND(Estemate!H100=\"\"),\"\",Estemate!H100)","v":""},{"$f":"IF(AND(Estemate!D100=\"\"),\"\",Estemate!D100)","v":""},{"$f":"IF(AND(Estemate!C100=\"\"),\"\",Estemate!C100)","v":""},null,{"$f":"IF(AND(Estemate!L100=\"\"),\"\",Estemate!L100)","v":""},0,0,"",0,0,0,{"$f":"Estemate!E100","v":0},0,{"$f":"IF(Estemate!P100=\"\",\"\",Estemate!P100)","v":""},{"$f":"Estemate!M100","v":0},0,0]
["",{"$f":"IF(AND(Estemate!G101=\"\"),\"\",Estemate!G101)","v":""},{"$f":"IF(AND(Estemate!H101=\"\"),\"\",Estemate!H101)","v":""},{"$f":"IF(AND(Estemate!D101=\"\"),\"\",Estemate!D101)","v":""},{"$f":"IF(AND(Estemate!C101=\"\"),\"\",Estemate!C101)","v":""},null,{"$f":"IF(AND(Estemate!L101=\"\"),\"\",Estemate!L101)","v":""},0,0,"",0,0,0,{"$f":"Estemate!E101","v":0},0,{"$f":"IF(Estemate!P101=\"\",\"\",Estemate!P101)","v":""},{"$f":"Estemate!M101","v":0},0,0]
["",{"$f":"IF(AND(Estemate!G102=\"\"),\"\",Estemate!G102)","v":""},{"$f":"IF(AND(Estemate!H102=\"\"),\"\",Estemate!H102)","v":""},{"$f":"IF(AND(Estemate!D102=\"\"),\"\",Estemate!D102)","v":""},{"$f":"IF(AND(Estemate!C102=\"\"),\"\",Estemate!C102)","v":""},null,{"$f":"IF(AND(Estemate!L102=\"\"),\"\",Estemate!L102)","v":""},0,0,"",0,0,0,{"$f":"Estemate!E102","v":0},0,{"$f":"IF(Estemate!P102=\"\",\"\",Estemate!P102)","v":""},{"$f":"Estemate!M102","v":0},0,0]
["",{"$f":"IF(AND(Estemate!G103=\"\"),\"\",Estemate!G103)","v":""},{"$f":"IF(AND(Estemate!H103=\"\"),\"\",Estemate!H103)","v":""},{"$f":"IF(AND(Estemate!D103=\"\"),\"\",Estemate!D103)","v":""},{"$f":"IF(AND(Estemate!C103=\"\"),\"\",Estemate!C103)","v":""},null,{"$f":"IF(AND(Estemate!L103=\"\"),\"\",Estemate!L103)","v":""},0,0,"",0,0,0,{"$f":"Estemate!E103","v":0},0,{"$f":"IF(Estemate!P103=\"\",\"\",Estemate!P103)","v":""},{"$f":"Estemate!M103","v":0},0,0]
["",{"$f":"IF(AND(Estemate!G104=\"\"),\"\",Estemate!G104)","v":""},{"$f":"IF(AND(Estemate!H104=\"\"),\"\",Estemate!H104)","v":""},{"$f":"IF(AND(Estemate!D104=\"\"),\"\",Estemate!D104)","v":""},{"$f":"IF(AND(Estemate!C104=\"\"),\"\",Estemate!C104)","v":""},null,{"$f":"IF(AND(Estemate!L104=\"\"),\"\",Estemate!L104)","v":""},0,0,"",0,0,0,{"$f":"Estemate!E104","v":0},0,{"$f":"IF(Estemate!P104=\"\",\"\",Estemate!P104)","v":""},{"$f":"Estemate!M104","v":0},0,0]
["",{"$f":"IF(AND(Estemate!G105=\"\"),\"\",Estemate!G105)","v":""},{"$f":"IF(AND(Estemate!H105=\"\"),\"\",Estemate!H105)","v":""},{"$f":"IF(AND(Estemate!D105=\"\"),\"\",Estemate!D105)","v":""},{"$f":"IF(AND(Estemate!C105=\"\"),\"\",Estemate!C105)","v":""},null,{"$f":"IF(AND(Estemate!L105=\"\"),\"\",Estemate!L105)","v":""},0,0,"",0,0,0,{"$f":"Estemate!E105","v":0},0,{"$f":"IF(Estemate!P105=\"\",\"\",Estemate!P105)","v":""},{"$f":"Estemate!M105","v":0},0,0]
["",{"$f":"IF(AND(Estemate!G106=\"\"),\"\",Estemate!G106)","v":""},{"$f":"IF(AND(Estemate!H106=\"\"),\"\",Estemate!H106)","v":""},{"$f":"IF(AND(Estemate!D106=\"\"),\"\",Estemate!D106)","v":""},{"$f":"IF(AND(Estemate!C106=\"\"),\"\",Estemate!C106)","v":""},null,{"$f":"IF(AND(Estemate!L106=\"\"),\"\",Estemate!L106)","v":""},0,0,"",0,0,0,{"$f":"Estemate!E106","v":0},0,{"$f":"IF(Estemate!P106=\"\",\"\",Estemate!P106)","v":""},{"$f":"Estemate!M106","v":0},0,0]
["",{"$f":"IF(AND(Estemate!G107=\"\"),\"\",Estemate!G107)","v":""},{"$f":"IF(AND(Estemate!H107=\"\"),\"\",Estemate!H107)","v":""},{"$f":"IF(AND(Estemate!D107=\"\"),\"\",Estemate!D107)","v":""},{"$f":"IF(AND(Estemate!C107=\"\"),\"\",Estemate!C107)","v":""},null,{"$f":"IF(AND(Estemate!L107=\"\"),\"\",Estemate!L107)","v":""},0,0,"",0,0,0,{"$f":"Estemate!E107","v":0},0,{"$f":"IF(Estemate!P107=\"\",\"\",Estemate!P107)","v":""},{"$f":"Estemate!M107","v":0},0,0]
["",{"$f":"IF(AND(Estemate!G108=\"\"),\"\",Estemate!G108)","v":""},{"$f":"IF(AND(Estemate!H108=\"\"),\"\",Estemate!H108)","v":""},{"$f":"IF(AND(Estemate!D108=\"\"),\"\",Estemate!D108)","v":""},{"$f":"IF(AND(Estemate!C108=\"\"),\"\",Estemate!C108)","v":""},null,{"$f":"IF(AND(Estemate!L108=\"\"),\"\",Estemate!L108)","v":""},0,0,"",0,0,0,{"$f":"Estemate!E108","v":0},0,{"$f":"IF(Estemate!P108=\"\",\"\",Estemate!P108)","v":""},{"$f":"Estemate!M108","v":0},0,0]
["",{"$f":"IF(AND(Estemate!G109=\"\"),\"\",Estemate!G109)","v":""},{"$f":"IF(AND(Estemate!H109=\"\"),\"\",Estemate!H109)","v":""},{"$f":"IF(AND(Estemate!D109=\"\"),\"\",Estemate!D109)","v":""},{"$f":"IF(AND(Estemate!C109=\"\"),\"\",Estemate!C109)","v":""},null,{"$f":"IF(AND(Estemate!L109=\"\"),\"\",Estemate!L109)","v":""},0,0,"",0,0,0,{"$f":"Estemate!E109","v":0},0,{"$f":"IF(Estemate!P109=\"\",\"\",Estemate!P109)","v":""},{"$f":"Estemate!M109","v":0},0,0]
["",{"$f":"IF(AND(Estemate!G110=\"\"),\"\",Estemate!G110)","v":""},{"$f":"IF(AND(Estemate!H110=\"\"),\"\",Estemate!H110)","v":""},{"$f":"IF(AND(Estemate!D110=\"\"),\"\",Estemate!D110)","v":""},{"$f":"IF(AND(Estemate!C110=\"\"),\"\",Estemate!C110)","v":""},null,{"$f":"IF(AND(Estemate!L110=\"\"),\"\",Estemate!L110)","v":""},0,0,"",0,0,0,{"$f":"Estemate!E110","v":0},0,{"$f":"IF(Estemate!P110=\"\",\"\",Estemate!P110)","v":""},{"$f":"Estemate!M110","v":0},0,0]
[null,"inuke",null,"is&ysoy","dk;Zjr inksa dh la[;k",{"$f":"SUM(E114:E153)","v":0},null,null,null,null,null,null,null,null,{"$f":"SUM(O13:O112)","v":0},null,null,null,{"$f":"SUM(S13:S112)","v":0}]
[null,{"$f":"IF(E114=0,\"\",Post!B11)","v":""},null,{"$f":"IF(E114=0,\"\",Post!C11)","v":""},{"$f":"Post!E11","v":0},null,null,null,null,null,null,{"$f":"SUMIF(E$13:E$112,B114,(L$13:L$112))","v":0},{"$f":"SUMIF(E$13:E$112,B114,(M$13:M$112))","v":0},null,null,null,null,{"$f":"SUM(R14:R113)","v":0}]
[null,{"$f":"IF(E115=0,\"\",Post!B12)","v":""},null,{"$f":"IF(E115=0,\"\",Post!C12)","v":""},{"$f":"Post!E12","v":0},null,null,null,null,null,null,{"$f":"SUMIF(E$13:E$112,B115,(L$13:L$112))","v":0},{"$f":"SUMIF(E$13:E$112,B115,(M$13:M$112))","v":0}]
[null,{"$f":"IF(E116=0,\"\",Post!B13)","v":""},null,{"$f":"IF(E116=0,\"\",Post!C13)","v":""},{"$f":"Post!E13","v":0},null,null,null,null,null,null,0,0]
[null,{"$f":"IF(E117=0,\"\",Post!B14)","v":""},null,{"$f":"IF(E117=0,\"\",Post!C14)","v":""},{"$f":"Post!E14","v":0},null,null,null,null,null,null,0,0]
[null,{"$f":"IF(E118=0,\"\",Post!B15)","v":""},null,{"$f":"IF(E118=0,\"\",Post!C15)","v":""},{"$f":"Post!E15","v":0},null,null,null,null,null,null,0,0]
[null,{"$f":"IF(E119=0,\"\",Post!B16)","v":""},null,{"$f":"IF(E119=0,\"\",Post!C16)","v":""},{"$f":"Post!E16","v":0},null,null,null,null,null,null,0,0]
[null,{"$f":"IF(E120=0,\"\",Post!B17)","v":""},null,{"$f":"IF(E120=0,\"\",Post!C17)","v":""},{"$f":"Post!E17","v":0},null,null,null,null,null,null,0,0]
[null,{"$f":"IF(E121=0,\"\",Post!B18)","v":""},null,{"$f":"IF(E121=0,\"\",Post!C18)","v":""},{"$f":"Post!E18","v":0},null,null,null,null,null,null,0,0]
[null,{"$f":"IF(E122=0,\"\",Post!B19)","v":""},null,{"$f":"IF(E122=0,\"\",Post!C19)","v":""},{"$f":"Post!E19","v":0},null,null,null,null,null,null,0,0]
[null,{"$f":"IF(E123=0,\"\",Post!B20)","v":""},null,{"$f":"IF(E123=0,\"\",Post!C20)","v":""},{"$f":"Post!E20","v":0},null,null,null,null,null,null,0,0]
[null,{"$f":"IF(E124=0,\"\",Post!B21)","v":""},null,{"$f":"IF(E124=0,\"\",Post!C21)","v":""},{"$f":"Post!E21","v":0},null,null,null,null,null,null,0,0]
[null,{"$f":"IF(E125=0,\"\",Post!B22)","v":""},null,{"$f":"IF(E125=0,\"\",Post!C22)","v":""},{"$f":"Post!E22","v":0},null,null,null,null,null,null,0,0]
[null,{"$f":"IF(E126=0,\"\",Post!B23)","v":""},null,{"$f":"IF(E126=0,\"\",Post!C23)","v":""},{"$f":"Post!E23","v":0},null,null,null,null,null,null,0,0]
[null,{"$f":"IF(E127=0,\"\",Post!B24)","v":""},null,{"$f":"IF(E127=0,\"\",Post!C24)","v":""},{"$f":"Post!E24","v":0},null,null,null,null,null,null,0,0]
[null,{"$f":"IF(E128=0,\"\",Post!B25)","v":""},null,{"$f":"IF(E128=0,\"\",Post!C25)","v":""},{"$f":"Post!E25","v":0},null,null,null,null,null,null,0,0]
[null,{"$f":"IF(E129=0,\"\",Post!B26)","v":""},null,{"$f":"IF(E129=0,\"\",Post!C26)","v":""},{"$f":"Post!E26","v":0},null,null,null,null,null,null,0,0]
[null,{"$f":"IF(E130=0,\"\",Post!B27)","v":""},null,{"$f":"IF(E130=0,\"\",Post!C27)","v":""},{"$f":"Post!E27","v":0},null,null,null,null,null,null,0,0]
[null,{"$f":"IF(E131=0,\"\",Post!B28)","v":""},null,{"$f":"IF(E131=0,\"\",Post!C28)","v":""},{"$f":"Post!E28","v":0},null,null,null,null,null,null,0,0]
[null,{"$f":"IF(E132=0,\"\",Post!B29)","v":""},null,{"$f":"IF(E132=0,\"\",Post!C29)","v":""},{"$f":"Post!E29","v":0},null,null,null,null,null,null,0,0]
[null,{"$f":"IF(E133=0,\"\",Post!B30)","v":""},null,{"$f":"IF(E133=0,\"\",Post!C30)","v":""},{"$f":"Post!E30","v":0},null,null,null,null,null,null,0,0]
[null,{"$f":"IF(E134=0,\"\",Post!B31)","v":""},null,{"$f":"IF(E134=0,\"\",Post!C31)","v":""},{"$f":"Post!E31","v":0},null,null,null,null,null,null,0,0]
[null,{"$f":"IF(E135=0,\"\",Post!B32)","v":""},null,{"$f":"IF(E135=0,\"\",Post!C32)","v":""},{"$f":"Post!E32","v":0},null,null,null,null,null,null,0,0]
[null,{"$f":"IF(E136=0,\"\",Post!B33)","v":""},null,{"$f":"IF(E136=0,\"\",Post!C33)","v":""},{"$f":"Post!E33","v":0},null,null,null,null,null,null,0,0]
[null,{"$f":"IF(E137=0,\"\",Post!B34)","v":""},null,{"$f":"IF(E137=0,\"\",Post!C34)","v":""},{"$f":"Post!E34","v":0},null,null,null,null,null,null,0,0]
[null,{"$f":"IF(E138=0,\"\",Post!B35)","v":""},null,{"$f":"IF(E138=0,\"\",Post!C35)","v":""},{"$f":"Post!E35","v":0},null,null,null,null,null,null,0,0]
[null,{"$f":"IF(E139=0,\"\",Post!B36)","v":""},null,{"$f":"IF(E139=0,\"\",Post!C36)","v":""},{"$f":"Post!E36","v":0},null,null,null,null,null,null,0,0]
[null,{"$f":"IF(E140=0,\"\",Post!B37)","v":""},null,{"$f":"IF(E140=0,\"\",Post!C37)","v":""},{"$f":"Post!E37","v":0},null,null,null,null,null,null,0,0]
[null,{"$f":"IF(E141=0,\"\",Post!B38)","v":""},null,{"$f":"IF(E141=0,\"\",Post!C38)","v":""},{"$f":"Post!E38","v":0},null,null,null,null,null,null,0,0]
[null,{"$f":"IF(E142=0,\"\",Post!B39)","v":""},null,{"$f":"IF(E142=0,\"\",Post!C39)","v":""},{"$f":"Post!E39","v":0},null,null,null,null,null,null,0,0]
[null,{"$f":"IF(E143=0,\"\",Post!B40)","v":""},null,{"$f":"IF(E143=0,\"\",Post!C40)","v":""},{"$f":"Post!E40","v":0},null,null,null,null,null,null,0,0]
[null,{"$f":"IF(E144=0,\"\",Post!B41)","v":""},null,{"$f":"IF(E144=0,\"\",Post!C41)","v":""},{"$f":"Post!E41","v":0},null,null,null,null,null,null,0,0]
[null,{"$f":"IF(E145=0,\"\",Post!B42)","v":""},null,{"$f":"IF(E145=0,\"\",Post!C42)","v":""},{"$f":"Post!E42","v":0},null,null,null,null,null,null,0,0]
[null,{"$f":"IF(E146=0,\"\",Post!B43)","v":""},null,{"$f":"IF(E146=0,\"\",Post!C43)","v":""},{"$f":"Post!E43","v":0},null,null,null,null,null,null,0,0]
[null,{"$f":"IF(E147=0,\"\",Post!B44)","v":""},null,{"$f":"IF(E147=0,\"\",Post!C44)","v":""},{"$f":"Post!E44","v":0},null,null,null,null,null,null,0,0]
[null,{"$f":"IF(E148=0,\"\",Post!B45)","v":""},null,{"$f":"IF(E148=0,\"\",Post!C45)","v":""},{"$f":"Post!E45","v":0},null,null,null,null,null,null,0,0]
[null,{"$f":"IF(E149=0,\"\",Post!B46)","v":""},null,{"$f":"IF(E149=0,\"\",Post!C46)","v":""},{"$f":"Post!E46","v":0},null,null,null,null,null,null,0,0]
[null,{"$f":"IF(E150=0,\"\",Post!B47)","v":""},null,{"$f":"IF(E150=0,\"\",Post!C47)","v":""},{"$f":"Post!E47","v":0},null,null,null,null,null,null,0,0]
[null,{"$f":"IF(E151=0,\"\",Post!B48)","v":""},null,{"$f":"IF(E151=0,\"\",Post!C48)","v":""},{"$f":"Post!E48","v":0},null,null,null,null,null,null,0,0]
[null,{"$f":"IF(E152=0,\"\",Post!B49)","v":""},null,{"$f":"IF(E152=0,\"\",Post!C49)","v":""},{"$f":"Post!E49","v":0},null,null,null,null,null,null,0,0]
[null,{"$f":"IF(E153=0,\"\",Post!B50)","v":""},null,{"$f":"IF(E153=0,\"\",Post!C50)","v":""},{"$f":"Post!E50","v":0},null,null,null,null,null,null,0,0]
[null,"TOTAL GAZETTED",null,null,null,null,null,null,null,null,null,{"$f":"SUMIF(N13:N112,\"g\",(L13:L112))","v":0},{"$f":"SUMIF(N13:N112,\"g\",(M13:M112))","v":0}]
[null,"TOTAL NON GAZETTED",null,null,null,null,null,null,null,null,null,{"$f":"SUMIF(N13:N112,\"ng\",(L13:L112))","v":0},{"$f":"SUMIF(N13:N112,\"ng\",(M13:M112))","v":0}]
[null,"HOLL TOTAL",null,null,null,null,null,null,null,null,null,{"$f":"L154+L155","v":0},{"$f":"M154+M155","v":0}]
[null,"HkÙks ,oa eku ns;"]
[null,"1-egaxkbZ HkÙkk",null,null,null,null,null,null,null,null,null,{"$f":"ROUNDUP(L156*Database!F9%,0)","v":0},{"$f":"O158+S158","v":0},null,{"$f":"ROUNDUP(O113*Database!F9%*4,0)","v":0},null,null,null,{"$f":"ROUNDUP(S113*Database!F9%*8,0)","v":0}]
[null,"2-egaxkbZ HkÙkk ,fj;j",null,null,null,null,null,null,null,null,null,0,{"$f":"ROUNDUP(O113*Database!J9*Database!L9%,0)","v":0}]
[null,"3-edku fdjk;k HkÙkk",null,null,null,null,null,null,null,null,null,{"$f":"ROUNDUP(L156*Database!H9%,0)","v":0},{"$f":"O160+S160","v":0},null,{"$f":"ROUNDUP(O113*Database!H9%*4,0)","v":0},null,null,null,{"$f":"ROUNDUP(S113*Database!H9%*8,0)","v":0}]
[null,"4-jksdM+ HkÙkk",null,null,null,null,null,null,null,null,null,{"$f":"Allowances!J11","v":0},{"$f":"Allowances!I11","v":0}]
[null,"5-/kqykbZ HkÙkk",null,null,null,null,null,null,null,null,null,{"$f":"Allowances!J17","v":0},{"$f":"Allowances!I17","v":0}]
[null,"6-fodykax HkÙkk",null,null,null,null,null,null,null,null,null,{"$f":"Allowances!J27","v":0},{"$f":"Allowances!I27","v":0}]
[null,"7-'kgjh HkRrk",null,null,null,null,null,null,null,null,null,{"$f":"M164","v":0},{"$f":"CCA!H111","v":0}]
[null,"8-lkbZfdy lokj HkRrk",null,null,null,null,null,null,null,null,null,{"$f":"M165","v":0},{"$f":"Allowances!I21","v":0}]
[null,"9-fuokZg@vU; HkRrs",null,null,null,null,null,null,null,null,null,{"$f":"M166","v":0},{"$f":"'Nirwah Bhatta'!J111","v":0}]
[null,"10-,-lhih-@fLFkfjdj.k ,fj;j",null,null,null,null,null,null,null,null,null,0,{"$f":"Arear!H31","v":0}]
[null,"11-cksul",null,null,null,null,null,null,null,null,null,{"$f":"Bonus!E11","v":0},{"$f":"Bonus!D11","v":0}]
[null,"12-lefiZr vodk'k Hkqxrku",null,null,null,null,null,null,null,null,null,{"$f":"Surrendar!G111","v":0},{"$f":"Surrendar!F111","v":0}]
[null,"13-fQDl@lafonk ekuns;",null,null,null,null,null,null,null,null,null,{"$f":"M170","v":0},{"$f":"FixPay!J111","v":0}]
[null,";ksx HkÙkk ,oa ekuns;",null,null,null,null,null,null,null,null,null,{"$f":"SUBTOTAL(9,L158:L170)","v":0},{"$f":"SUBTOTAL(9,M158:M170)","v":0}]
[null,";ksx laosru",null,null,null,null,null,null,null,null,null,{"$f":"L156+L171","v":0},{"$f":"M156+M171","v":0}]
[null,"."]
[null,".",null,null,null,null,null,null,null,null,null,null,{"$f":"Database!N38","v":"प्रधानाचार्य"}]
[null,".",null,null,null,null,null,null,null,null,null,null,{"$f":"Database!N39","v":"jktdh; mPp ek/;fed fo|ky;"}]
[null,".",null,null,null,null,null,null,null,null,null,null,{"$f":"Database!N40","v":"pkSxkbZa] Vksad"}]
[null,".",null,null,null,null,null,null,null,null,null,null,{"$f":"Database!N41","v":27306}]

{"sheet":"9","index":16,"n_rows":45,"n_cols":15,"rows_kept":45,"cut":false,"hidden":true,"merged":[[9,5,10,5],[9,6,9,8],[9,10,10,10],[9,11,10,11],[9,12,9,14],[9,9,10,9],[0,0,0,1],[0,2,0,14],[2,0,2,14],[1,5,1,7],[3,2,3,4],[3,11,3,12],[3,13,3,14],[8,2,8,4],[8,5,8,7],[9,0,10,0],[9,1,10,1],[9,2,9,4]]}
[{"$f":"Database!B1","v":"dk;kZy;&"},null,{"$f":"Database!F1","v":"jktdh; mPp ek/;fed fo|ky;&pkSxkbZa] Vksad"}]
[null,null,null,null,null,"izi=&9"]
[{"$f":"Database!B2","v":"vk; O;;d vuqeku&2024&25 rFkk la'kksf/kr vuqeku 2023&24"}]
[null,null,{"$f":"Database!B3","v":"eq[; ys[kk 'kh\"kZ&"},null,null,{"$f":"Database!B4","v":2202},{"$f":"Database!C4","v":"lkekU; f'k{kk"},null,null,null,null,{"$f":"Database!H4","v":"MhMhvks dksM&"},null,{"$f":"Database!H5","v":27306}]
[null,null,null,null,null,{"$f":"Database!B5","v":2},{"$f":"Database!C5","v":"ek/;fed f'k{kk"}]
[null,null,null,null,null,{"$f":"Database!B6","v":109},{"$f":"Database!C6","v":"jktdh; mPp ek/;fed fo|ky;"}]
[null,null,null,null,null,{"$f":"Database!B7","v":1},{"$f":"Database!C7","v":"yMdksa ds fo|ky;"}]
[null,null,null,null,null,{"$f":"Database!B8","v":0},{"$f":"Database!C8","v":"lkekU; O;;"}]
[null,null,{"$f":"Database!F8","v":"Ldhe dk uke&"},null,null,{"$f":"Database!H8","v":"राज्य निधि"}]
["Ø-la-","ys[kk 'kh\"kZd","okLrfod O;; vkadMs",null,null,"O;; vuqeku ckcr pkyw o\"kZ    ","okLrfod O;; vkadMs",null,null,"vxLr ls ekpZ rd dk laHkkfor O;; ¼pkyw o\"kZ ½",{"$f":"Database!K21","v":"lEHkkfor O;; 2023&24"},{"$f":"Database!O20","v":"O;; vuqeku 2024&25"},"o`f) ¼$½ ;k deh ¼&½"]
[null,null,{"$f":"Database!F21","v":"2020-21"},{"$f":"Database!G21","v":"2021-22"},{"$f":"Database!H21","v":"2022-23"},null,{"$f":"Database!I21","v":"08/22 to 03/23"},{"$f":"Database!J21","v":"04/23 to 07/23"},"dkWye 7 o 8 dk ;ksx",null,null,null,"6 o 11 esa","9 o 11 esa","11 o 12 esa"]
[1,2,3,4,5,6,7,8,9,10,11,12,13,14,15]
["v ",{"$f":"Database!A25","v":"05‌‌-कार्यालय व्यय"},null,null,null,null,null,null,{"$f":"G13+H13","v":0},{"$f":"K13-H13","v":0},null,null,{"$f":"K13-F13","v":0},{"$f":"K13-I13","v":0},{"$f":"L13-K13","v":0}]
[null,"lfoZl iksLVst",null,null,null,null,null,null,{"$f":"G14+H14","v":0},{"$f":"K14-H14","v":0},null,null,{"$f":"K14-F14","v":0},{"$f":"K14-I14","v":0},{"$f":"L14-K14","v":0}]
[null,"Mkdrkj] VsyhQksu",null,null,null,null,null,null,0,0,null,null,0,0,0]
[null,{"$f":"Database!A27","v":"05-RSCIT पुनर्भरण राशि"},{"$f":"Database!F27","v":0},{"$f":"Database!G27","v":0},{"$f":"Database!H27","v":0},{"$f":"Database!C27","v":0},{"$f":"Database!I27","v":0},{"$f":"Database!J27","v":0},0,0,{"$f":"Database!K27","v":0},{"$f":"Database!O27","v":0},0,0,0]
[null,"fctyh] ikuh",null,null,null,null,null,null,0,0,null,null,0,0,0]
[null,"iqLrd pkVZl if=dk;sa",null,null,null,null,null,null,0,0,null,null,0,0,0]
[null,"QfuZpj ejEer",null,null,null,null,null,null,0,0,null,null,0,0,0]
[null,"LVs'kujh",null,null,null,null,null,null,0,0,null,null,0,0,0]
[null,"fizfVxa",null,null,null,null,null,null,0,0,null,null,0,0,0]
[null,"vU; dk;kZy; O;;",{"$f":"Database!F25","v":0},{"$f":"Database!G25","v":0},{"$f":"Database!H25","v":0},{"$f":"Database!C25","v":0},{"$f":"Database!I25","v":0},{"$f":"Database!J25","v":0},0,{"$f":"K22-H22","v":0},{"$f":"Database!K25","v":0},{"$f":"Database!O25","v":0},0,0,0]
[null,";ksx v ",{"$f":"SUM(C14:C22)","v":0},{"$f":"SUM(D14:D22)","v":0},0,0,0,0,0,0,0,0,0,0,0]
["c",{"$f":"Database!A26","v":"09&fdjk;k dj jk;fYV"},{"$f":"Database!F26","v":0},{"$f":"Database!G26","v":0},{"$f":"Database!H26","v":0},{"$f":"Database!C26","v":0},{"$f":"Database!I26","v":0},{"$f":"Database!J26","v":0},{"$f":"G24+H24","v":0},{"$f":"K24-H24","v":0},{"$f":"Database!K26","v":0},{"$f":"Database!O26","v":0},{"$f":"K24-F24","v":0},{"$f":"K24-I24","v":0},{"$f":"L24-K24","v":0}]
[null,null,0,0,0,0,0,0,0,0,0,0,0,0,0]
[null,{"$f":"Database!A28","v":"21&j[kj[kko o lq/kkj"},{"$f":"Database!F28","v":0},{"$f":"Database!G28","v":0},{"$f":"Database!H28","v":0},{"$f":"Database!C28","v":0},{"$f":"Database!I28","v":0},{"$f":"Database!J28","v":0},{"$f":"G26+H26","v":0},{"$f":"K26-H26","v":0},{"$f":"Database!K28","v":0},{"$f":"Database!O28","v":0},{"$f":"K26-F26","v":0},{"$f":"K26-I26","v":0},{"$f":"L26-K26","v":0}]
[null,{"$f":"Database!A29","v":"28&vU; izHkkj"},{"$f":"Database!F29","v":0},{"$f":"Database!G29","v":0},{"$f":"Database!H29","v":0},{"$f":"Database!C29","v":0},{"$f":"Database!I29","v":0},{"$f":"Database!J29","v":0},0,0,{"$f":"Database!K29","v":0},{"$f":"Database!O29","v":0},0,0,0]
[null,{"$f":"Database!A30","v":"19&ty ,oa fo|qr O;;"},{"$f":"Database!F30","v":0},{"$f":"Database!G30","v":0},{"$f":"Database!H30","v":0},{"$f":"Database!C30","v":0},{"$f":"Database!I30","v":0},{"$f":"Database!J30","v":0},0,0,{"$f":"Database!K30","v":0},{"$f":"Database!O30","v":0},0,0,0]
[null,{"$f":"Database!A31","v":"31&iqLrdky;"},{"$f":"Database!F31","v":0},{"$f":"Database!G31","v":0},{"$f":"Database!H31","v":0},{"$f":"Database!C31","v":0},{"$f":"Database!I31","v":0},{"$f":"Database!J31","v":0},0,0,{"$f":"Database!K31","v":0},{"$f":"Database!O31","v":0},0,0,0]
[null,{"$f":"Database!A32","v":"33&iz;ksx'kkyk"},{"$f":"Database!F32","v":0},{"$f":"Database!G32","v":0},{"$f":"Database!H32","v":0},{"$f":"Database!C32","v":0},{"$f":"Database!I32","v":0},{"$f":"Database!J32","v":0},0,0,{"$f":"Database!K32","v":0},{"$f":"Database!O32","v":0},0,0,0]
[null,{"$f":"Database!A33","v":"36&okgu fdjk;k"},{"$f":"Database!F33","v":0},{"$f":"Database!G33","v":0},{"$f":"Database!H33","v":0},{"$f":"Database!C33","v":0},{"$f":"Database!I33","v":0},{"$f":"Database!J33","v":0},0,0,{"$f":"Database!K33","v":0},{"$f":"Database!O33","v":0},0,0,0]
[null,{"$f":"Database!A34","v":"37&ofnZ;ka"},{"$f":"Database!F34","v":0},{"$f":"Database!G34","v":0},{"$f":"Database!H34","v":0},{"$f":"Database!C34","v":0},{"$f":"Database!I34","v":0},{"$f":"Database!J34","v":0},0,0,{"$f":"Database!K34","v":0},{"$f":"Database!O34","v":0},0,0,0]
[null,{"$f":"Database!A35","v":"57&foHkkxh;lsokvksa ij fof'k\"V O;;"},{"$f":"Database!F35","v":0},{"$f":"Database!G35","v":0},{"$f":"Database!H35","v":0},{"$f":"Database!C35","v":0},{"$f":"Database!I35","v":0},{"$f":"Database!J35","v":0},0,0,{"$f":"Database!K35","v":0},{"$f":"Database!O35","v":0},0,0,0]
[null,{"$f":"Database!A36","v":"62&dEI;wVjkbZts'ku ,oa lapkj O;;"},{"$f":"Database!F36","v":0},{"$f":"Database!G36","v":0},{"$f":"Database!H36","v":0},{"$f":"Database!C36","v":0},{"$f":"Database!I36","v":0},{"$f":"Database!J36","v":0},0,0,{"$f":"Database!K36","v":0},{"$f":"Database!O36","v":0},0,0,0]
[null,";ksx c ",{"$f":"SUM(C24:C34)","v":0},{"$f":"SUM(D24:D34)","v":0},0,0,0,0,0,0,0,0,0,0,0]
[null,";ksx v o c  GA 2",{"$f":"SUM(C23+C35)","v":0},{"$f":"SUM(D23+D35)","v":0},0,0,0,0,0,0,0,0,0,0,0]
["l",{"$f":"Database!A23","v":"03&;k=k O;;"},{"$f":"Database!F23","v":0},{"$f":"Database!G23","v":0},{"$f":"Database!H23","v":0},{"$f":"Database!C23","v":0},{"$f":"Database!I23","v":0},{"$f":"Database!J23","v":0},{"$f":"G37+H37","v":0},{"$f":"K37-H37","v":0},{"$f":"Database!K23","v":0},{"$f":"Database!O23","v":0},{"$f":"K37-F37","v":0},{"$f":"K37-I37","v":0},{"$f":"L37-K37","v":0}]
[null,{"$f":"Database!A24","v":"41&lafonk lsokvksa ij O;;"},{"$f":"Database!F24","v":0},{"$f":"Database!G24","v":0},{"$f":"Database!H24","v":0},{"$f":"Database!C24","v":0},{"$f":"Database!I24","v":0},{"$f":"Database!J24","v":0},{"$f":"G38+H38","v":0},{"$f":"K38-H38","v":0},{"$f":"Database!K24","v":0},{"$f":"Database!O24","v":0},{"$f":"K38-F38","v":0},{"$f":"K38-I38","v":0},{"$f":"L38-K38","v":0}]
[null,{"$f":"Database!A22","v":"01&laosru"},{"$f":"Database!F22","v":0},{"$f":"Database!G22","v":0},{"$f":"Database!H22","v":0},{"$f":"Database!C22","v":0},{"$f":"Database!I22","v":0},{"$f":"Database!J22","v":0},{"$f":"G39+H39","v":0},{"$f":"K39-H39","v":0},{"$f":"Database!K22","v":0},{"$f":"Database!O22","v":0},{"$f":"K39-F39","v":0},{"$f":"K39-I39","v":0},{"$f":"L39-K39","v":0}]
[null,";ksx GA 4",{"$f":"SUM(C37:C39)","v":0},{"$f":"SUM(D37:D39)","v":0},0,0,0,0,0,0,0,0,0,0,0]
[null,"egk;ksx GA 2+GA 4",{"$f":"C36+C40","v":0},0,0,0,0,0,0,0,0,0,0,0,0]
[null,null,null,null,null,null,null,null,null,null,null,null,{"$f":"Database!A3","v":"प्रधानाचार्य"}]
[null,null,null,null,null,null,null,null,null,null,null,null,{"$f":"Database!A4","v":"jktdh; mPp ek/;fed fo|ky;"}]
[null,null,null,null,null,null,null,null,null,null,null,null,{"$f":"Database!A5","v":"pkSxkbZa] Vksad"}]
[null,null,null,null,null,null,null,null,null,null,null,null,{"$f":"Database!H5","v":27306}]

{"sheet":"10","index":17,"n_rows":26,"n_cols":14,"rows_kept":26,"cut":false,"hidden":true,"merged":[[9,11,9,13],[0,2,0,13],[1,5,1,7],[2,5,2,8],[3,2,3,4],[8,2,8,4],[8,5,8,7],[3,10,3,11],[3,12,3,13],[9,10,10,10],[9,0,10,0],[9,9,10,9],[9,1,10,1],[9,2,9,4],[9,6,9,8]]}
[null,{"$f":"Database!B1","v":"dk;kZy;&"},{"$f":"Database!F1","v":"jktdh; mPp ek/;fed fo|ky;&pkSxkbZa] Vksad"}]
[null,null,null,null,null,"izi=&10"]
[null,null,null,null,null,"vk; dk fooj.k"]
[null,null,{"$f":"Database!B3","v":"eq[; ys[kk 'kh\"kZ&"},null,null,{"$f":"Database!B4","v":2202},{"$f":"Database!C4","v":"lkekU; f'k{kk"},null,null,null,{"$f":"Database!H4","v":"MhMhvks dksM&"},null,{"$f":"Database!H5","v":27306}]
[null,null,null,null,null,{"$f":"Database!B5","v":2},{"$f":"Database!C5","v":"ek/;fed f'k{kk"}]
[null,null,null,null,null,{"$f":"Database!B6","v":109},{"$f":"Database!C6","v":"jktdh; mPp ek/;fed fo|ky;"}]
[null,null,null,null,null,{"$f":"Database!B7","v":1},{"$f":"Database!C7","v":"yMdksa ds fo|ky;"}]
[null,null,null,null,null,{"$f":"Database!B8","v":0},{"$f":"Database!C8","v":"lkekU; O;;"}]
[null,null,{"$f":"Database!F8","v":"Ldhe dk uke&"},null,null,{"$f":"Database!H8","v":"राज्य निधि"}]
["dz0la0","ys[kk 'kh\"kZd","okLrfod vk; vkadMs",null,null,"vk; vuqeku","okLrfod vk; vkadMs",null,null,{"$f":"Database!K10","v":"la'kksf/kr vuqeku 2023&24"},{"$f":"Database!L10","v":"vk; vuqeku 2024&25"},"o`f) ¼$½ ;k deh ¼&½"]
[null,null,{"$f":"Database!F10","v":"2020-21"},{"$f":"Database!G10","v":"2021-22"},{"$f":"Database!H10","v":"2022-23"},"pkyw o\"kZ",{"$f":"Database!I10","v":"08/22 to 03/23"},{"$f":"Database!J10","v":"04/23 to 07/23"},"dkWye 7 o 8 dk ;ksx",null,null,"6 o 10 esa","9 o 10 esa","10 o 11 esa"]
[1,2,3,4,5,6,7,8,9,10,11,12,13,14]
[{"$f":"IF(B13=\"\",\"\",1)","v":1},{"$f":"Database!A12","v":"f'k{k.k Qhl o vU; Qhl"},{"$f":"Database!F12","v":0},{"$f":"Database!G12","v":0},{"$f":"Database!H12","v":0},{"$f":"J13","v":0},{"$f":"Database!I12","v":0},{"$f":"Database!J12","v":0},{"$f":"G13+H13","v":0},{"$f":"Database!K12","v":0},{"$f":"Database!L12","v":0},{"$f":"J13-F13","v":0},{"$f":"J13-I13","v":0},{"$f":"K13-J13","v":0}]
[{"$f":"IF(B14=\"\",\"\",A13+1)","v":2},{"$f":"Database!A13","v":"ikB~; iqLrdksa ls vk;"},{"$f":"Database!F13","v":0},{"$f":"Database!G13","v":0},{"$f":"Database!H13","v":0},{"$f":"J14","v":0},{"$f":"Database!I13","v":0},{"$f":"Database!J13","v":0},{"$f":"G14+H14","v":0},{"$f":"Database!K13","v":0},{"$f":"Database!L13","v":0},{"$f":"J14-F14","v":0},{"$f":"J14-I14","v":0},{"$f":"K14-J14","v":0}]
[{"$f":"IF(B15=\"\",\"\",A14+1)","v":3},{"$f":"Database!A14","v":"fofo/k vk;"},{"$f":"Database!F14","v":0},{"$f":"Database!G14","v":0},{"$f":"Database!H14","v":0},0,{"$f":"Database!I14","v":0},{"$f":"Database!J14","v":0},0,{"$f":"Database!K14","v":0},{"$f":"Database!L14","v":0},0,0,0]
[4,{"$f":"Database!A15","v":"vf/kd Hkqxrku dh olwyh ek0f'k0"},{"$f":"Database!F15","v":0},{"$f":"Database!G15","v":0},{"$f":"Database!H15","v":0},0,{"$f":"Database!I15","v":0},{"$f":"Database!J15","v":0},0,{"$f":"Database!K15","v":0},{"$f":"Database!L15","v":0},0,0,0]
[5,{"$f":"Database!A16","v":"vf/kd Hkqxrku dh olwyh izk0f'k0"},{"$f":"Database!F16","v":0},{"$f":"Database!G16","v":0},{"$f":"Database!H16","v":0},0,{"$f":"Database!I16","v":0},{"$f":"Database!J16","v":0},0,{"$f":"Database!K16","v":0},{"$f":"Database!L16","v":0},0,0,0]
[6,{"$f":"Database!A17","v":"vuqi;ksxh lkeku ls vk;"},{"$f":"Database!F17","v":0},{"$f":"Database!G17","v":0},{"$f":"Database!H17","v":0},0,{"$f":"Database!I17","v":0},{"$f":"Database!J17","v":0},0,{"$f":"Database!K17","v":0},{"$f":"Database!L17","v":0},0,0,0]
[7,{"$f":"Database!A18","v":"Nk=o`fRr;ka@lkbZfdy 'ks\"k"},{"$f":"Database!F18","v":0},{"$f":"Database!G18","v":0},{"$f":"Database!H18","v":0},0,{"$f":"Database!I18","v":0},{"$f":"Database!J18","v":0},0,{"$f":"Database!K18","v":0},{"$f":"Database!L18","v":0},0,0,0]
[8,{"$f":"Database!A19","v":"va'knku o o`fRr;ksa ls vk;"},{"$f":"Database!F19","v":0},{"$f":"Database!G19","v":0},{"$f":"Database!H19","v":0},0,{"$f":"Database!I19","v":0},{"$f":"Database!J19","v":0},0,{"$f":"Database!K19","v":0},{"$f":"Database!L19","v":0},0,0,0]
[null,"Total",{"$f":"SUM(C13:C20)","v":0},{"$f":"SUM(D13:D20)","v":0},0,0,0,0,0,0,0,0,0,0]
[]
[null,null,null,null,null,null,null,null,null,null,null,null,{"$f":"Database!N38","v":"प्रधानाचार्य"}]
[null,null,null,null,null,null,null,null,null,null,null,null,{"$f":"Database!N39","v":"jktdh; mPp ek/;fed fo|ky;"}]
[null,null,null,null,null,null,null,null,null,null,null,null,{"$f":"Database!N40","v":"pkSxkbZa] Vksad"}]
[null,null,null,null,null,null,null,null,null,null,null,null,{"$f":"Database!N41","v":27306}]

{"sheet":"TA","index":18,"n_rows":31,"n_cols":10,"rows_kept":31,"cut":false,"hidden":true,"merged":[[29,0,29,1],[30,0,30,1],[1,0,1,9],[7,5,7,6],[0,0,0,2],[0,3,0,9],[2,0,2,2],[7,1,7,2],[28,0,28,1],[27,0,27,1]]}
[{"$f":"Database!B1","v":"dk;kZy;&"},null,null,{"$f":"Database!F1","v":"jktdh; mPp ek/;fed fo|ky;&pkSxkbZa] Vksad"}]
["cdk;k ;k=k O;; dk ekax i="]
[{"$f":"Database!B3","v":"eq[; ys[kk 'kh\"kZ&"},null,null,{"$f":"Database!B4","v":2202},{"$f":"Database!C4","v":"lkekU; f'k{kk"},null,null,null,{"$f":"Database!H4","v":"MhMhvks dksM&"},{"$f":"Database!H5","v":27306}]
[null,null,null,{"$f":"Database!B5","v":2},{"$f":"Database!C5","v":"ek/;fed f'k{kk"}]
[null,null,null,{"$f":"Database!B6","v":109},{"$f":"Database!C6","v":"jktdh; mPp ek/;fed fo|ky;"}]
[null,null,null,{"$f":"Database!B7","v":1},{"$f":"Database!C7","v":"yMdksa ds fo|ky;"}]
[null,null,null,{"$f":"Database!B8","v":0},{"$f":"Database!C8","v":"lkekU; O;;"}]
[null,{"$f":"Database!F8","v":"Ldhe dk uke&"},null,{"$f":"Database!H8","v":"राज्य निधि"}]
["dz0l0","vkWfQl vkbZ0Mh0","uke dkfeZd","inuke","ysoy bu is esfVªd","1-4-23 dks dqy cdk;k jkf'k","1-4-23 ls 31-7-24 rd dqy izkIr fcyks dh jkf'k","31-7-23 rd dqy cdk;k  ¼4+5½","o\"kZ 2023&24 esa izkIr ctV","31-7-23 dks dqy ctV ekax ¼6&7½"]
[1,2,3,4,5,6,7,8,9,10]
[{"$f":"IF(B11=\"\",\"\",1)","v":""},{"$f":"IF(C11=\"\",\"\",Database!H$5)","v":""},null,null,null,null,null,{"$f":"SUM(F11+G11)","v":0},{"$f":"Database!C23","v":0}]
[{"$f":"IF(B12=\"\",\"\",A11+1)","v":""},{"$f":"IF(C12=\"\",\"\",Database!H$5)","v":""},null,null,null,null,null,{"$f":"SUM(F12+G12)","v":0}]
[{"$f":"IF(B13=\"\",\"\",A12+1)","v":""},{"$f":"IF(C13=\"\",\"\",Database!H$5)","v":""},null,null,null,null,null,0]
["",{"$f":"IF(C14=\"\",\"\",Database!H$5)","v":""},null,null,null,null,null,0]
["",{"$f":"IF(C15=\"\",\"\",Database!H$5)","v":""},null,null,null,null,null,0]
["",{"$f":"IF(C16=\"\",\"\",Database!H$5)","v":""},null,null,null,null,null,0]
["",{"$f":"IF(C17=\"\",\"\",Database!H$5)","v":""},null,null,null,null,null,0]
["",{"$f":"IF(C18=\"\",\"\",Database!H$5)","v":""},null,null,null,null,null,0]
["",{"$f":"IF(C19=\"\",\"\",Database!H$5)","v":""},null,null,null,null,null,0]
["",{"$f":"IF(C20=\"\",\"\",Database!H$5)","v":""},null,null,null,null,null,0]
["",{"$f":"IF(C21=\"\",\"\",Database!H$5)","v":""},null,null,null,null,null,0]
["",{"$f":"IF(C22=\"\",\"\",Database!H$5)","v":""},null,null,null,null,null,0]
["",{"$f":"IF(C23=\"\",\"\",Database!H$5)","v":""},null,null,null,null,null,0]
["",{"$f":"IF(C24=\"\",\"\",Database!H$5)","v":""},null,null,null,null,null,0]
["",{"$f":"IF(C25=\"\",\"\",Database!H$5)","v":""},null,null,null,null,null,0]
[null,null,"Total",null,null,null,null,{"$f":"SUM(H11:H25)","v":0},{"$f":"Database!C23","v":0},{"$f":"IF(H26>I26,H26-I26,0)","v":0}]
[]
[null,null,null,null,null,null,null,null,{"$f":"Database!N38","v":"प्रधानाचार्य"}]
[null,null,null,null,null,null,null,null,{"$f":"Database!N39","v":"jktdh; mPp ek/;fed fo|ky;"}]
[null,null,null,null,null,null,null,null,{"$f":"Database!N40","v":"pkSxkbZa] Vksad"}]
[null,null,null,null,null,null,null,null,{"$f":"Database!N41","v":27306}]

{"sheet":"Medical","index":19,"n_rows":136,"n_cols":10,"rows_kept":136,"cut":false,"hidden":true,"merged":[[135,0,135,1],[132,0,132,1],[133,0,133,1],[134,0,134,1],[0,0,0,2],[1,0,1,9],[2,0,2,2],[7,1,7,2],[7,5,7,6],[0,3,0,9]]}
[{"$f":"Database!B1","v":"dk;kZy;&"},null,null,{"$f":"Database!F1","v":"jktdh; mPp ek/;fed fo|ky;&pkSxkbZa] Vksad"}]
["RSCIT dkslZ iquHkZj.k gsrw ekax i="]
[{"$f":"Database!B3","v":"eq[; ys[kk 'kh\"kZ&"},null,null,{"$f":"Database!B4","v":2202},{"$f":"Database!C4","v":"lkekU; f'k{kk"},null,null,null,{"$f":"Database!H4","v":"MhMhvks dksM&"},{"$f":"Database!H5","v":27306}]
[null,null,null,{"$f":"Database!B5","v":2},{"$f":"Database!C5","v":"ek/;fed f'k{kk"}]
[null,null,null,{"$f":"Database!B6","v":109},{"$f":"Database!C6","v":"jktdh; mPp ek/;fed fo|ky;"}]
[null,null,null,{"$f":"Database!B7","v":1},{"$f":"Database!C7","v":"yMdksa ds fo|ky;"}]
[null,null,null,{"$f":"Database!B8","v":0},{"$f":"Database!C8","v":"lkekU; O;;"}]
[null,{"$f":"Database!F8","v":"Ldhe dk uke&"},null,{"$f":"Database!H8","v":"राज्य निधि"},"mien&","05&dk;kZy; O;;"]
["dz0l0","vkWfQl vkbZ0Mh0","uke dkfeZd","inuke","ysoy bu is esfVªd","31-07-23 rd dqy cdk;k jkf'k","31-07-23 rd dqy Hkqxrku dh xbZ jkf'k","31-07-23 rd dqy cdk;k  ¼4+5½","o\"kZ 2023&24 esa izkIr ctV","31-07-23 dks dqy ctV ekax ¼6&7½"]
[1,2,3,4,5,6,7,8,9,10]
[{"$f":"IF(B11=\"\",\"\",1)","v":""},{"$f":"IF(C11=\"\",\"\",Database!H$5)","v":""},null,null,null,null,null,{"$f":"SUM(F11-G11)","v":0},{"$f":"Database!C27","v":0}]
[{"$f":"IF(B12=\"\",\"\",A11+1)","v":""},{"$f":"IF(C12=\"\",\"\",Database!H$5)","v":""},null,null,null,null,null,{"$f":"SUM(F12-G12)","v":0}]
[{"$f":"IF(B13=\"\",\"\",A12+1)","v":""},{"$f":"IF(C13=\"\",\"\",Database!H$5)","v":""},null,null,null,null,null,0]
["",{"$f":"IF(C14=\"\",\"\",Database!H$5)","v":""},null,null,null,null,null,0]
["",{"$f":"IF(C15=\"\",\"\",Database!H$5)","v":""},null,null,null,null,null,0]
["",{"$f":"IF(C16=\"\",\"\",Database!H$5)","v":""},null,null,null,null,null,0]
["",{"$f":"IF(C17=\"\",\"\",Database!H$5)","v":""},null,null,null,null,null,0]
["",{"$f":"IF(C18=\"\",\"\",Database!H$5)","v":""},null,null,null,null,null,0]
["",{"$f":"IF(C19=\"\",\"\",Database!H$5)","v":""},null,null,null,null,null,0]
["",{"$f":"IF(C20=\"\",\"\",Database!H$5)","v":""},null,null,null,null,null,0]
["",{"$f":"IF(C21=\"\",\"\",Database!H$5)","v":""},null,null,null,null,null,0]
["",{"$f":"IF(C22=\"\",\"\",Database!H$5)","v":""},null,null,null,null,null,0]
["",{"$f":"IF(C23=\"\",\"\",Database!H$5)","v":""},null,null,null,null,null,0]
["",{"$f":"IF(C24=\"\",\"\",Database!H$5)","v":""},null,null,null,null,null,0]
["",{"$f":"IF(C25=\"\",\"\",Database!H$5)","v":""},null,null,null,null,null,0]
["",{"$f":"IF(C26=\"\",\"\",Database!H$5)","v":""},null,null,null,null,null,0]
["",{"$f":"IF(C27=\"\",\"\",Database!H$5)","v":""},null,null,null,null,null,0]
["",{"$f":"IF(C28=\"\",\"\",Database!H$5)","v":""},null,null,null,null,null,0]
["",{"$f":"IF(C29=\"\",\"\",Database!H$5)","v":""},null,null,null,null,null,0]
["",{"$f":"IF(C30=\"\",\"\",Database!H$5)","v":""},null,null,null,null,null,0]
["",{"$f":"IF(C31=\"\",\"\",Database!H$5)","v":""},null,null,null,null,null,0]
["",{"$f":"IF(C32=\"\",\"\",Database!H$5)","v":""},null,null,null,null,null,0]
[{"$f":"IF(B33=\"\",\"\",A32+1)","v":""},{"$f":"IF(C33=\"\",\"\",Database!H$5)","v":""},null,null,null,null,null,0]
["",{"$f":"IF(C34=\"\",\"\",Database!H$5)","v":""},null,null,null,null,null,0]
["",{"$f":"IF(C35=\"\",\"\",Database!H$5)","v":""},null,null,null,null,null,0]
["",{"$f":"IF(C36=\"\",\"\",Database!H$5)","v":""},null,null,null,null,null,0]
["",{"$f":"IF(C37=\"\",\"\",Database!H$5)","v":""},null,null,null,null,null,0]
["",{"$f":"IF(C38=\"\",\"\",Database!H$5)","v":""},null,null,null,null,null,0]
["",{"$f":"IF(C39=\"\",\"\",Database!H$5)","v":""},null,null,null,null,null,0]
["",{"$f":"IF(C40=\"\",\"\",Database!H$5)","v":""},null,null,null,null,null,0]
["",{"$f":"IF(C41=\"\",\"\",Database!H$5)","v":""},null,null,null,null,null,0]
["",{"$f":"IF(C42=\"\",\"\",Database!H$5)","v":""},null,null,null,null,null,0]
["",{"$f":"IF(C43=\"\",\"\",Database!H$5)","v":""},null,null,null,null,null,0]
["",{"$f":"IF(C44=\"\",\"\",Database!H$5)","v":""},null,null,null,null,null,0]
["",{"$f":"IF(C45=\"\",\"\",Database!H$5)","v":""},null,null,null,null,null,0]
["",{"$f":"IF(C46=\"\",\"\",Database!H$5)","v":""},null,null,null,null,null,0]
["",{"$f":"IF(C47=\"\",\"\",Database!H$5)","v":""},null,null,null,null,null,0]
["",{"$f":"IF(C48=\"\",\"\",Database!H$5)","v":""},null,null,null,null,null,0]
["",{"$f":"IF(C49=\"\",\"\",Database!H$5)","v":""},null,null,null,null,null,0]
["",{"$f":"IF(C50=\"\",\"\",Database!H$5)","v":""},null,null,null,null,null,0]
["",{"$f":"IF(C51=\"\",\"\",Database!H$5)","v":""},null,null,null,null,null,0]
["",{"$f":"IF(C52=\"\",\"\",Database!H$5)","v":""},null,null,null,null,null,0]
["",{"$f":"IF(C53=\"\",\"\",Database!H$5)","v":""},null,null,null,null,null,0]
["",{"$f":"IF(C54=\"\",\"\",Database!H$5)","v":""},null,null,null,null,null,0]
["",{"$f":"IF(C55=\"\",\"\",Database!H$5)","v":""},null,null,null,null,null,0]
["",{"$f":"IF(C56=\"\",\"\",Database!H$5)","v":""},null,null,null,null,null,0]
["",{"$f":"IF(C57=\"\",\"\",Database!H$5)","v":""},null,null,null,null,null,0]
["",{"$f":"IF(C58=\"\",\"\",Database!H$5)","v":""},null,null,null,null,null,0]
["",{"$f":"IF(C59=\"\",\"\",Database!H$5)","v":""},null,null,null,null,null,0]
["",{"$f":"IF(C60=\"\",\"\",Database!H$5)","v":""},null,null,null,null,null,0]
["",{"$f":"IF(C61=\"\",\"\",Database!H$5)","v":""},null,null,null,null,null,0]
["",{"$f":"IF(C62=\"\",\"\",Database!H$5)","v":""},null,null,null,null,null,0]
["",{"$f":"IF(C63=\"\",\"\",Database!H$5)","v":""},null,null,null,null,null,0]
["",{"$f":"IF(C64=\"\",\"\",Database!H$5)","v":""},null,null,null,null,null,0]
["",{"$f":"IF(C65=\"\",\"\",Database!H$5)","v":""},null,null,null,null,null,0]
["",{"$f":"IF(C66=\"\",\"\",Database!H$5)","v":""},null,null,null,null,null,0]
["",{"$f":"IF(C67=\"\",\"\",Database!H$5)","v":""},null,null,null,null,null,0]
["",{"$f":"IF(C68=\"\",\"\",Database!H$5)","v":""},null,null,null,null,null,0]
["",{"$f":"IF(C69=\"\",\"\",Database!H$5)","v":""},null,null,null,null,null,0]
["",{"$f":"IF(C70=\"\",\"\",Database!H$5)","v":""},null,null,null,null,null,0]
["",{"$f":"IF(C71=\"\",\"\",Database!H$5)","v":""},null,null,null,null,null,0]
["",{"$f":"IF(C72=\"\",\"\",Database!H$5)","v":""},null,null,null,null,null,0]
["",{"$f":"IF(C73=\"\",\"\",Database!H$5)","v":""},null,null,null,null,null,0]
["",{"$f":"IF(C74=\"\",\"\",Database!H$5)","v":""},null,null,null,null,null,0]
["",{"$f":"IF(C75=\"\",\"\",Database!H$5)","v":""},null,null,null,null,null,0]
["",{"$f":"IF(C76=\"\",\"\",Database!H$5)","v":""},null,null,null,null,null,0]
["",{"$f":"IF(C77=\"\",\"\",Database!H$5)","v":""},null,null,null,null,null,0]
["",{"$f":"IF(C78=\"\",\"\",Database!H$5)","v":""},null,null,null,null,null,0]
["",{"$f":"IF(C79=\"\",\"\",Database!H$5)","v":""},null,null,null,null,null,0]
["",{"$f":"IF(C80=\"\",\"\",Database!H$5)","v":""},null,null,null,null,null,0]
["",{"$f":"IF(C81=\"\",\"\",Database!H$5)","v":""},null,null,null,null,null,0]
["",{"$f":"IF(C82=\"\",\"\",Database!H$5)","v":""},null,null,null,null,null,0]
["",{"$f":"IF(C83=\"\",\"\",Database!H$5)","v":""},null,null,null,null,null,0]
["",{"$f":"IF(C84=\"\",\"\",Database!H$5)","v":""},null,null,null,null,null,0]
["",{"$f":"IF(C85=\"\",\"\",Database!H$5)","v":""},null,null,null,null,null,0]
["",{"$f":"IF(C86=\"\",\"\",Database!H$5)","v":""},null,null,null,null,null,0]
["",{"$f":"IF(C87=\"\",\"\",Database!H$5)","v":""},null,null,null,null,null,0]
["",{"$f":"IF(C88=\"\",\"\",Database!H$5)","v":""},null,null,null,null,null,0]
["",{"$f":"IF(C89=\"\",\"\",Database!H$5)","v":""},null,null,null,null,null,0]
["",{"$f":"IF(C90=\"\",\"\",Database!H$5)","v":""},null,null,null,null,null,0]
["",{"$f":"IF(C91=\"\",\"\",Database!H$5)","v":""},null,null,null,null,null,0]
["",{"$f":"IF(C92=\"\",\"\",Database!H$5)","v":""},null,null,null,null,null,0]
["",{"$f":"IF(C93=\"\",\"\",Database!H$5)","v":""},null,null,null,null,null,0]
["",{"$f":"IF(C94=\"\",\"\",Database!H$5)","v":""},null,null,null,null,null,0]
["",{"$f":"IF(C95=\"\",\"\",Database!H$5)","v":""},null,null,null,null,null,0]
["",{"$f":"IF(C96=\"\",\"\",Database!H$5)","v":""},null,null,null,null,null,0]
[{"$f":"IF(B97=\"\",\"\",A96+1)","v":""},{"$f":"IF(C97=\"\",\"\",Database!H$5)","v":""},null,null,null,null,null,0]
["",{"$f":"IF(C98=\"\",\"\",Database!H$5)","v":""},null,null,null,null,null,0]
["",{"$f":"IF(C99=\"\",\"\",Database!H$5)","v":""},null,null,null,null,null,0]
["",{"$f":"IF(C100=\"\",\"\",Database!H$5)","v":""},null,null,null,null,null,0]
["",{"$f":"IF(C101=\"\",\"\",Database!H$5)","v":""},null,null,null,null,null,0]
["",{"$f":"IF(C102=\"\",\"\",Database!H$5)","v":""},null,null,null,null,null,0]
["",{"$f":"IF(C103=\"\",\"\",Database!H$5)","v":""},null,null,null,null,null,0]
["",{"$f":"IF(C104=\"\",\"\",Database!H$5)","v":""},null,null,null,null,null,0]
["",{"$f":"IF(C105=\"\",\"\",Database!H$5)","v":""},null,null,null,null,null,0]
["",{"$f":"IF(C106=\"\",\"\",Database!H$5)","v":""},null,null,null,null,null,0]
["",{"$f":"IF(C107=\"\",\"\",Database!H$5)","v":""},null,null,null,null,null,0]
["",{"$f":"IF(C108=\"\",\"\",Database!H$5)","v":""},null,null,null,null,null,0]
["",{"$f":"IF(C109=\"\",\"\",Database!H$5)","v":""},null,null,null,null,null,0]
["",{"$f":"IF(C110=\"\",\"\",Database!H$5)","v":""},null,null,null,null,null,0]
["",{"$f":"IF(C111=\"\",\"\",Database!H$5)","v":""},null,null,null,null,null,0]
["",{"$f":"IF(C112=\"\",\"\",Database!H$5)","v":""},null,null,null,null,null,0]
["",{"$f":"IF(C113=\"\",\"\",Database!H$5)","v":""},null,null,null,null,null,0]
["",{"$f":"IF(C114=\"\",\"\",Database!H$5)","v":""},null,null,null,null,null,0]
["",{"$f":"IF(C115=\"\",\"\",Database!H$5)","v":""},null,null,null,null,null,0]
["",{"$f":"IF(C116=\"\",\"\",Database!H$5)","v":""},null,null,null,null,null,0]
["",{"$f":"IF(C117=\"\",\"\",Database!H$5)","v":""},null,null,null,null,null,0]
["",{"$f":"IF(C118=\"\",\"\",Database!H$5)","v":""},null,null,null,null,null,0]
["",{"$f":"IF(C119=\"\",\"\",Database!H$5)","v":""},null,null,null,null,null,0]
["",{"$f":"IF(C120=\"\",\"\",Database!H$5)","v":""},null,null,null,null,null,0]
["",{"$f":"IF(C121=\"\",\"\",Database!H$5)","v":""},null,null,null,null,null,0]
["",{"$f":"IF(C122=\"\",\"\",Database!H$5)","v":""},null,null,null,null,null,0]
["",{"$f":"IF(C123=\"\",\"\",Database!H$5)","v":""},null,null,null,null,null,0]
["",{"$f":"IF(C124=\"\",\"\",Database!H$5)","v":""},null,null,null,null,null,0]
["",{"$f":"IF(C125=\"\",\"\",Database!H$5)","v":""},null,null,null,null,null,0]
["",{"$f":"IF(C126=\"\",\"\",Database!H$5)","v":""},null,null,null,null,null,0]
["",{"$f":"IF(C127=\"\",\"\",Database!H$5)","v":""},null,null,null,null,null,0]
["",{"$f":"IF(C128=\"\",\"\",Database!H$5)","v":""},null,null,null,null,null,0]
["",{"$f":"IF(C129=\"\",\"\",Database!H$5)","v":""},null,null,null,null,null,0]
["",{"$f":"IF(C130=\"\",\"\",Database!H$5)","v":""},null,null,null,null,null,0]
[".",null,"Total",null,null,{"$f":"SUM(F11:F130)","v":0},{"$f":"SUM(G11:G130)","v":0},{"$f":"SUM(H11:H130)","v":0},{"$f":"Database!C27-G131","v":0},{"$f":"IF(H131>I131,H131-I131,0)","v":0}]
["."]
[".",null,null,null,null,null,null,null,{"$f":"Database!N38","v":"प्रधानाचार्य"}]
[".",null,null,null,null,null,null,null,{"$f":"Database!N39","v":"jktdh; mPp ek/;fed fo|ky;"}]
[".",null,null,null,null,null,null,null,{"$f":"Database!N40","v":"pkSxkbZa] Vksad"}]
[".",null,null,null,null,null,null,null,{"$f":"Database!N41","v":27306}]

{"sheet":"Enrollment","index":20,"n_rows":26,"n_cols":22,"rows_kept":26,"cut":false,"hidden":true,"merged":[[0,0,0,5],[0,6,0,18],[1,6,1,13],[1,16,1,17],[1,18,1,19],[24,0,24,2],[2,14,2,15],[2,16,2,18],[25,0,25,2],[2,19,2,21],[2,0,2,1],[2,2,2,4],[2,5,2,7],[2,8,2,10],[2,11,2,13],[22,0,22,2],[23,0,23,2]]}
[{"$f":"Database!B1","v":"dk;kZy;&"},null,null,null,null,null,{"$f":"Database!F1","v":"jktdh; mPp ek/;fed fo|ky;&pkSxkbZa] Vksad"}]
[null,null,null,null,null,null,"ukekadu lwpuk fnukad 31tqykbZ] 2022 ds vuqlkj",null,null,null,null,null,null,null,null,null,"DDO Code-",null,{"$f":"Database!H5","v":27306}]
["CATEGORY-",null,"GENERAL",null,null,"S C",null,null,"S T ",null,null,"OBC",null,null,"GRAND TOTAL",null,"SBC",null,null,"MINORITY"]
["CLASS","No. of Sactions","BOY","GIRL","Total","BOY","GIRL","Total","BOY","GIRL","Total","BOY","GIRL","Total","BOY","GIRL","BOY","GIRL","Total","BOY","GIRL","Total"]
["I","A",0,0,{"$f":"SUM(C5:D5)","v":0},4,3,{"$f":"SUM(F5:G5)","v":7},0,0,{"$f":"SUM(I5:J5)","v":0},1,2,{"$f":"SUM(L5:M5)","v":3},{"$f":"SUM(C5+F5+I5+L5)","v":5},{"$f":"SUM(D5+G5+J5+M5)","v":5},0,0,{"$f":"SUM(Q5:R5)","v":0},0,0,{"$f":"SUM(T5:U5)","v":0}]
["II","A",0,1,{"$f":"SUM(C6:D6)","v":1},0,2,{"$f":"SUM(F6:G6)","v":2},0,0,{"$f":"SUM(I6:J6)","v":0},4,8,{"$f":"SUM(L6:M6)","v":12},{"$f":"SUM(C6+F6+I6+L6)","v":4},{"$f":"SUM(D6+G6+J6+M6)","v":11},0,0,{"$f":"SUM(Q6:R6)","v":0},0,0,{"$f":"SUM(T6:U6)","v":0}]
["III","A",0,0,0,1,6,7,0,0,0,2,4,6,3,{"$f":"SUM(D7+G7+J7+M7)","v":10},0,0,0,0,0,0]
["IV","A",0,0,0,2,3,5,0,0,0,2,4,6,4,{"$f":"SUM(D8+G8+J8+M8)","v":7},0,0,0,0,0,0]
["V","A",1,0,1,4,8,12,0,0,0,4,5,9,9,{"$f":"SUM(D9+G9+J9+M9)","v":13},0,0,0,0,0,0]
["TOTAL",null,{"$f":"SUM(C5:C9)","v":1},{"$f":"SUM(D5:D9)","v":1},2,{"$f":"SUM(F5:F9)","v":11},{"$f":"SUM(G5:G9)","v":22},33,{"$f":"SUM(I5:I9)","v":0},{"$f":"SUM(J5:J9)","v":0},0,{"$f":"SUM(L5:L9)","v":13},{"$f":"SUM(M5:M9)","v":23},36,{"$f":"SUM(O5:O9)","v":25},{"$f":"SUM(P5:P9)","v":46},{"$f":"SUM(Q5:Q9)","v":0},{"$f":"SUM(R5:R9)","v":0},0,{"$f":"SUM(T5:T9)","v":0},{"$f":"SUM(U5:U9)","v":0},0]
["VI","A",0,1,1,1,6,7,0,0,0,6,2,8,7,9,0,0,0,0,0,0]
["VII","A",1,1,2,4,3,7,0,1,1,4,7,11,9,12,0,0,0,0,0,0]
["VIII","A",3,0,3,4,2,6,0,0,0,5,10,15,12,12,1,0,1,0,0,0]
["TOTAL",null,{"$f":"SUM(C11:C13)","v":4},{"$f":"SUM(D11:D13)","v":2},6,{"$f":"SUM(F11:F13)","v":9},{"$f":"SUM(G11:G13)","v":11},20,{"$f":"SUM(I11:I13)","v":0},{"$f":"SUM(J11:J13)","v":1},1,{"$f":"SUM(L11:L13)","v":15},{"$f":"SUM(M11:M13)","v":19},34,{"$f":"SUM(O11:O13)","v":28},{"$f":"SUM(P11:P13)","v":33},{"$f":"SUM(Q11:Q13)","v":1},{"$f":"SUM(R11:R13)","v":0},1,{"$f":"SUM(T11:T13)","v":0},{"$f":"SUM(U11:U13)","v":0},0]
["IX","A",3,1,4,3,3,6,2,3,5,18,10,28,{"$f":"SUM(C15+F15+I15+L15)","v":26},{"$f":"SUM(D15+G15+J15+M15)","v":17},1,0,1,1,0,1]
["X","A",0,3,3,10,13,23,2,4,6,4,19,23,{"$f":"SUM(C16+F16+I16+L16)","v":16},{"$f":"SUM(D16+G16+J16+M16)","v":39},0,3,3,0,2,2]
["TOTAL",null,{"$f":"SUM(C15:C16)","v":3},{"$f":"SUM(D15:D16)","v":4},7,{"$f":"SUM(F15:F16)","v":13},{"$f":"SUM(G15:G16)","v":16},29,{"$f":"SUM(I15:I16)","v":4},{"$f":"SUM(J15:J16)","v":7},11,{"$f":"SUM(L15:L16)","v":22},{"$f":"SUM(M15:M16)","v":29},51,{"$f":"SUM(O15:O16)","v":42},{"$f":"SUM(P15:P16)","v":56},{"$f":"SUM(Q15:Q16)","v":1},{"$f":"SUM(R15:R16)","v":3},4,{"$f":"SUM(T15:T16)","v":1},{"$f":"SUM(U15:U16)","v":2},3]
["XI","A",2,1,3,6,2,8,4,2,6,12,15,27,{"$f":"SUM(C18+F18+I18+L18)","v":24},{"$f":"SUM(D18+G18+J18+M18)","v":20},2,1,3,1,0,1]
["XII","A",1,0,1,2,9,11,3,3,6,11,14,25,{"$f":"SUM(C19+F19+I19+L19)","v":17},{"$f":"SUM(D19+G19+J19+M19)","v":26},0,0,0,0,0,0]
["TOTAL",null,{"$f":"SUM(C18:C19)","v":3},{"$f":"SUM(D18:D19)","v":1},4,{"$f":"SUM(F18:F19)","v":8},{"$f":"SUM(G18:G19)","v":11},19,{"$f":"SUM(I18:I19)","v":7},{"$f":"SUM(J18:J19)","v":5},12,{"$f":"SUM(L18:L19)","v":23},{"$f":"SUM(M18:M19)","v":29},52,{"$f":"SUM(O18:O19)","v":41},{"$f":"SUM(P18:P19)","v":46},{"$f":"SUM(Q18:Q19)","v":2},{"$f":"SUM(R18:R19)","v":1},3,{"$f":"SUM(T18:T19)","v":1},{"$f":"SUM(U18:U19)","v":0},1]
["Grand TOTAL",null,{"$f":"SUM(C10+C14+C17+C20)","v":11},8,19,41,60,101,11,13,24,73,100,173,136,181,4,4,8,2,2,4]
[{"$f":"Database!A37","v":"Developed & Designed By-"}]
[{"$f":"Database!A38","v":"Chaturbhuj Jat"},null,null,null,null,null,null,null,null,null,null,null,null,null,null,null,null,null,null,{"$f":"Database!N38","v":"प्रधानाचार्य"}]
[{"$f":"Database!A39","v":"Teacher "},null,null,null,null,null,null,null,null,null,null,null,null,null,null,null,null,null,null,{"$f":"Database!N39","v":"jktdh; mPp ek/;fed fo|ky;"}]
[{"$f":"Database!A40","v":"GSSS Chogai Tonk"},null,null,null,null,null,null,null,null,null,null,null,null,null,null,null,null,null,null,{"$f":"Database!N40","v":"pkSxkbZa] Vksad"}]
[{"$f":"Database!A41","v":9829303549},null,null,null,null,null,null,null,null,null,null,null,null,null,null,null,null,null,null,{"$f":"Database!N41","v":27306}]

{"sheet":"Formate 1","index":21,"n_rows":25,"n_cols":21,"rows_kept":25,"cut":false,"hidden":true,"merged":[[24,0,24,1],[8,0,9,0],[8,1,9,1],[8,2,9,2],[8,3,8,5],[8,6,8,8],[8,12,8,14],[8,15,8,17],[8,18,8,20],[10,3,10,5],[10,6,10,8],[10,9,10,11],[10,12,10,14],[10,15,10,17],[10,18,10,20],[8,9,8,11],[0,0,0,2],[0,3,0,20],[1,0,1,20],[2,4,2,6],[7,5,7,6],[7,7,7,8],[2,14,2,15],[2,16,2,17]]}
[{"$f":"Database!B1","v":"dk;kZy;&"},null,null,{"$f":"Database!F1","v":"jktdh; mPp ek/;fed fo|ky;&pkSxkbZa] Vksad"}]
["izi=&01 laosru dh x.kuk@ekax i="]
[null,null,null,null,{"$f":"Database!B3","v":"eq[; ys[kk 'kh\"kZ&"},null,null,{"$f":"Database!B4","v":2202},{"$f":"Database!C4","v":"lkekU; f'k{kk"},null,null,null,null,null,{"$f":"Database!H4","v":"MhMhvks dksM&"},null,{"$f":"Database!H5","v":27306}]
[null,null,null,null,null,null,null,{"$f":"Database!B5","v":2},{"$f":"Database!C5","v":"ek/;fed f'k{kk"}]
[null,null,null,null,null,null,null,{"$f":"Database!B6","v":109},{"$f":"Database!C6","v":"jktdh; mPp ek/;fed fo|ky;"}]
[null,null,null,null,null,null,null,{"$f":"Database!B7","v":1},{"$f":"Database!C7","v":"yMdksa ds fo|ky;"}]
[null,null,null,null,null,null,null,{"$f":"Database!B8","v":0},{"$f":"Database!C8","v":"lkekU; O;;"}]
[null,null,null,null,null,{"$f":"Database!F8","v":"Ldhe dk uke&"},null,{"$f":"Database!H8","v":"राज्य निधि"}]
["dz0la0","vkWfQl vkbZ Mh","dk;kZy; dk uke","fofRr; o\"kZ 2023&24 esa laosru esa vkaofVr jkf'k",null,null,"vizsy 2023 ls tqykbZ 2023 rd dk okLrfod O;;",null,null,"vxLr 2023 ls ekpZ 2024 rd dk laHkkfor O;;",null,null,"fofRr; o\"kZ 2023&24 esa gksus okyk dqy O;; (5+6)",null,null,"fofRr; o\"kZ 2023&24 ds fy, vfrfjDr vko';drk (4-7)",null,null,"fofRr; o\"kZ 2024&25 ds fy,  O;; vuqeku"]
[null,null,null,"SF","CA",";ksx","SF","CA",";ksx","SF","CA",";ksx","SF","CA",";ksx","SF","CA",";ksx","SF","CA",";ksx"]
[1,2,3,4,null,null,5,null,null,6,null,null,7,null,null,8,null,null,9]
[{"$f":"IF(B12=\"\",\"\",1)","v":1},{"$f":"Database!H5","v":27306},{"$f":"Database!A7","v":"GSSS Chogai Tonk"},{"$f":"Database!D22","v":0},{"$f":"Database!E22","v":0},{"$f":"SUM(D12:E12)","v":0},{"$f":"Database!M22","v":0},{"$f":"Database!N22","v":0},{"$f":"SUM(G12:H12)","v":0},{"$f":"M12-G12","v":0},{"$f":"E12-H12","v":0},{"$f":"SUM(J12:K12)","v":0},{"$f":"Database!K22-N12","v":0},{"$f":"H12+K12","v":0},{"$f":"SUM(M12:N12)","v":0},{"$f":"M12-D12","v":0},{"$f":"N12-E12","v":0},{"$f":"SUM(P12:Q12)","v":0},{"$f":"IF(E12>0,Database!O22-T12,Database!O22)","v":0},{"$f":"IF(E12=0,0,ROUND(Database!O22*0.4,0))","v":0},{"$f":"SUM(S12:T12)","v":0}]
[{"$f":"IF(B13=\"\",\"\",A12+1)","v":""},null,null,null,null,{"$f":"SUM(D13:E13)","v":0},null,null,{"$f":"SUM(G13:H13)","v":0},null,null,{"$f":"SUM(J13:K13)","v":0},null,null,{"$f":"SUM(M13:N13)","v":0},null,null,{"$f":"SUM(P13:Q13)","v":0},null,null,{"$f":"SUM(S13:T13)","v":0}]
[{"$f":"IF(B14=\"\",\"\",A13+1)","v":""},null,null,null,null,0,null,null,0,null,null,0,null,null,0,null,null,0,null,null,0]
["",null,null,null,null,0,null,null,0,null,null,0,null,null,0,null,null,0,null,null,0]
["",null,null,null,null,0,null,null,0,null,null,0,null,null,0,null,null,0,null,null,0]
["",null,null,null,null,0,null,null,0,null,null,0,null,null,0,null,null,0,null,null,0]
["",null,null,null,null,0,null,null,0,null,null,0,null,null,0,null,null,0,null,null,0]
["",null,null,null,null,0,null,null,0,null,null,0,null,null,0,null,null,0,null,null,0]
[null,null,";ksx",{"$f":"SUM(D12:D19)","v":0},{"$f":"SUM(E12:E19)","v":0},0,0,0,0,0,0,0,0,0,0,0,0,0,0,0,0]
[]
[null,null,null,null,null,null,null,null,null,null,null,null,null,null,null,null,null,null,null,{"$f":"Database!N38","v":"प्रधानाचार्य"}]
[null,null,null,null,null,null,null,null,null,null,null,null,null,null,null,null,null,null,null,{"$f":"Database!N39","v":"jktdh; mPp ek/;fed fo|ky;"}]
[null,null,null,null,null,null,null,null,null,null,null,null,null,null,null,null,null,null,null,{"$f":"Database!N40","v":"pkSxkbZa] Vksad"}]
[null,null,null,null,null,null,null,null,null,null,null,null,null,null,null,null,null,null,null,{"$f":"Database!N41","v":27306}]

{"sheet":"Samekit","index":22,"n_rows":58,"n_cols":3,"rows_kept":58,"cut":false,"hidden":true,"merged":[[1,0,1,2],[2,0,2,2],[52,0,52,2]]}
[null,"lkjka'k"]
[{"$f":"Database!B1&Database!F1","v":"dk;kZy;&jktdh; mPp ek/;fed fo|ky;&pkSxkbZa] Vksad"}]
[{"$f":"Database!B2","v":"vk; O;;d vuqeku&2024&25 rFkk la'kksf/kr vuqeku 2023&24"}]
[{"$f":"Database!B3","v":"eq[; ys[kk 'kh\"kZ&"},{"$f":"Database!B4","v":2202},{"$f":"Database!C4","v":"lkekU; f'k{kk"}]
[null,{"$f":"Database!B5","v":2},{"$f":"Database!C5","v":"ek/;fed f'k{kk"}]
[{"$f":"Database!H4&Database!H5","v":"MhMhvks dksM&27306"},{"$f":"Database!B6","v":109},{"$f":"Database!C6","v":"jktdh; mPp ek/;fed fo|ky;"}]
[null,{"$f":"Database!B7","v":1},{"$f":"Database!C7","v":"yMdksa ds fo|ky;"}]
[null,{"$f":"Database!B8","v":0},{"$f":"Database!C8","v":"lkekU; O;;"}]
[null,{"$f":"Database!F8","v":"Ldhe dk uke&"},{"$f":"Database!H8","v":"राज्य निधि"}]
["fooj.k",{"$f":"Database!K21","v":"lEHkkfor O;; 2023&24"},{"$f":"Database!O20","v":"O;; vuqeku 2024&25"}]
["01 laosru"]
["d- osru jktif=r",{"$f":"'8'!M154","v":0},{"$f":"'8'!L154","v":0}]
["[k- osru vjktif=r",{"$f":"'8'!M155","v":0},{"$f":"'8'!L155","v":0}]
["   ;ksx osru ¼d ls [k rd½ I",{"$f":"SUM(B12:B13)","v":0},{"$f":"SUM(C12:C13)","v":0}]
["HkÙks ,oa ekuns;"]
[{"$f":"'8'!B158","v":"1-egaxkbZ HkÙkk"},{"$f":"'8'!M158","v":0},{"$f":"'8'!L158","v":0}]
[{"$f":"'8'!B159","v":"2-egaxkbZ HkÙkk ,fj;j"},{"$f":"'8'!M159","v":0},{"$f":"'8'!L159","v":0}]
[{"$f":"'8'!B160","v":"3-edku fdjk;k HkÙkk"},{"$f":"'8'!M160","v":0},{"$f":"'8'!L160","v":0}]
[{"$f":"'8'!B161","v":"4-jksdM+ HkÙkk"},{"$f":"'8'!M161","v":0},{"$f":"'8'!L161","v":0}]
[{"$f":"'8'!B162","v":"5-/kqykbZ HkÙkk"},{"$f":"'8'!M162","v":0},{"$f":"'8'!L162","v":0}]
[{"$f":"'8'!B163","v":"6-fodykax HkÙkk"},{"$f":"'8'!M163","v":0},{"$f":"'8'!L163","v":0}]
[{"$f":"'8'!B164","v":"7-'kgjh HkRrk"},{"$f":"'8'!M164","v":0},{"$f":"'8'!L164","v":0}]
[{"$f":"'8'!B166","v":"9-fuokZg@vU; HkRrs"},{"$f":"'8'!M166","v":0},{"$f":"'8'!L166","v":0}]
[{"$f":"'8'!B167","v":"10-,-lhih-@fLFkfjdj.k ,fj;j"},{"$f":"'8'!M167","v":0},{"$f":"'8'!L167","v":0}]
[{"$f":"'8'!B168","v":"11-cksul"},{"$f":"'8'!M168","v":0},{"$f":"'8'!L168","v":0}]
[{"$f":"'8'!B169","v":"12-lefiZr vodk'k Hkqxrku"},{"$f":"'8'!M169","v":0},{"$f":"'8'!L169","v":0}]
[{"$f":"'8'!B170","v":"13-fQDl@lafonk ekuns;"},{"$f":"'8'!M170","v":0},{"$f":"'8'!L170","v":0}]
[null,0,0]
[null,0,0]
[";ksx HkÙks ,oa ekuns; II",{"$f":"SUM(B16:B29)","v":0},{"$f":"SUM(C16:C29)","v":0}]
[";ksx laosru ( I + II )",{"$f":"SUM(B14+B30)","v":0},{"$f":"SUM(C14+C30)","v":0}]
[null,0,0]
[{"$f":"Database!A23","v":"03&;k=k O;;"},{"$f":"'9'!K37","v":0},{"$f":"'9'!L37","v":0}]
[{"$f":"Database!A24","v":"41&lafonk lsokvksa ij O;;"},{"$f":"'9'!K38","v":0},{"$f":"'9'!L38","v":0}]
[";ksx %& QkeZ th-,- 4",{"$f":"SUM(B31:B34)","v":0},{"$f":"SUM(C31:C34)","v":0}]
[{"$f":"Database!A25","v":"05‌‌-कार्यालय व्यय"},{"$f":"'9'!K23","v":0},{"$f":"'9'!L23","v":0}]
[{"$f":"Database!A26","v":"09&fdjk;k dj jk;fYV"},{"$f":"'9'!K24","v":0},{"$f":"'9'!L24","v":0}]
[{"$f":"Database!A27","v":"05-RSCIT पुनर्भरण राशि"},{"$f":"'9'!K25","v":0},{"$f":"'9'!L25","v":0}]
[{"$f":"Database!A28","v":"21&j[kj[kko o lq/kkj"},{"$f":"'9'!K26","v":0},{"$f":"'9'!L26","v":0}]
[{"$f":"Database!A29","v":"28&vU; izHkkj"},{"$f":"'9'!K27","v":0},{"$f":"'9'!L27","v":0}]
[{"$f":"Database!A30","v":"19&ty ,oa fo|qr O;;"},{"$f":"'9'!K28","v":0},{"$f":"'9'!L28","v":0}]
[{"$f":"Database!A31","v":"31&iqLrdky;"},{"$f":"'9'!K29","v":0},{"$f":"'9'!L29","v":0}]
[{"$f":"Database!A32","v":"33&iz;ksx'kkyk"},{"$f":"'9'!K30","v":0},{"$f":"'9'!L30","v":0}]
[{"$f":"Database!A33","v":"36&okgu fdjk;k"},{"$f":"'9'!K31","v":0},{"$f":"'9'!L31","v":0}]
[{"$f":"Database!A34","v":"37&ofnZ;ka"},{"$f":"'9'!K32","v":0},{"$f":"'9'!L32","v":0}]
[{"$f":"Database!A35","v":"57&foHkkxh;lsokvksa ij fof'k\"V O;;"},{"$f":"'9'!K33","v":0},{"$f":"'9'!L33","v":0}]
[{"$f":"Database!A36","v":"62&dEI;wVjkbZts'ku ,oa lapkj O;;"},{"$f":"'9'!K34","v":0},{"$f":"'9'!L34","v":0}]
[null,0,0]
[null,0,0]
[";ksx %& th-,- 5",{"$f":"SUM(B36:B49)","v":0},{"$f":"SUM(C36:C49)","v":0}]
[";ksx %& th-,- 4",{"$f":"B35","v":0},{"$f":"C35","v":0}]
["egk;ksx %& ¼th-,- 4 $ th-,- 5½",{"$f":"B50+B51","v":0},{"$f":"C50+C51","v":0}]
["izekf.kr fd;k tkrk gSa fd mi;qZDr lwpuk esjs }kjk O;fDrxr :i ls tkWp dj yh x;h gSa rFkk fooj.k iw.kZ ls lgh gSaA leLr cdk;k nkf;Roksa dksa mDr lwpuk esa 'kkfey dj fy;k x;k gSA ftrus Hkh cdk;k nkf;Ro gSa] mudk foLr`r enokj fooj.k i`FkDd ls layXu gSaA"]
[]
[null,null,{"$f":"Database!N38","v":"प्रधानाचार्य"}]
[null,null,{"$f":"Database!N39","v":"jktdh; mPp ek/;fed fo|ky;"}]
[null,null,{"$f":"Database!N40","v":"pkSxkbZa] Vksad"}]
[null,null,{"$f":"Database!N41","v":27306}]

{"sheet":"EcPenf","index":23,"n_rows":21,"n_cols":8,"rows_kept":21,"cut":false,"hidden":true,"merged":[[18,6,18,7],[19,6,19,7],[20,6,20,7],[1,0,1,7],[0,0,0,1],[0,2,0,7],[7,2,7,3],[17,6,17,7]]}
[{"$f":"Database!B1","v":"dk;kZy;&"},null,{"$f":"Database!F1","v":"jktdh; mPp ek/;fed fo|ky;&pkSxkbZa] Vksad"}]
["izi=&4&01 tuojh 2004 dks vFkok blds i'pkr~ uofu;qDr deZpkjh NPS laca/kh lwpuk"]
[null,{"$f":"Database!B3","v":"eq[; ys[kk 'kh\"kZ&"},{"$f":"Database!B4","v":2202},{"$f":"Database!C4","v":"lkekU; f'k{kk"},null,null,{"$f":"Database!H4","v":"MhMhvks dksM&"},{"$f":"Database!H5","v":27306}]
[null,null,{"$f":"Database!B5","v":2},{"$f":"Database!C5","v":"ek/;fed f'k{kk"}]
[null,null,{"$f":"Database!B6","v":109},{"$f":"Database!C6","v":"jktdh; mPp ek/;fed fo|ky;"}]
[null,null,{"$f":"Database!B7","v":1},{"$f":"Database!C7","v":"yMdksa ds fo|ky;"}]
[null,null,{"$f":"Database!B8","v":0},{"$f":"Database!C8","v":"lkekU; O;;"}]
[null,{"$f":"Database!F8","v":"Ldhe dk uke&"},{"$f":"Database!H8","v":"राज्य निधि"}]
["dz0la0","in uke","dk;Zjr deZpkfj;ksa dh la[;k","ewy osru\n¼Pay+Grade Pay½",{"$f":"Database!F9&\"% \"&\"महन्गाई भत्ता\"","v":"42% महन्गाई भत्ता"},";ksx",{"$f":"Database!K10","v":"la'kksf/kr vuqeku 2023&24"},{"$f":"Database!L10","v":"vk; vuqeku 2024&25"}]
[null,1,2,3,4,5,6,7]
[1,"LFkkbZ deZpkjh",{"$f":"Estemate!Z10","v":0},{"$f":"Estemate!Z111*8+Estemate!DQ111*4","v":0},{"$f":"ROUNDUP(Estemate!Z111*Database!F9%*8,0)+ROUNDUP(Estemate!DQ111*17%*4,0)","v":0},{"$f":"SUM(D11+E11)","v":0},{"$f":"F11","v":0},{"$f":"ROUNDUP(Estemate!Z111*4*Database!F9%,0)+ROUNDUP(Estemate!DR111*8*Database!F9%,0)+Estemate!Z111*4+Estemate!DR111*8","v":0}]
[2,"ifjfo{kk/khu dkeZpkjh",{"$f":"Estemate!AC10","v":0},{"$f":"Estemate!AC111*12","v":0},0,{"$f":"SUM(D12+E12)","v":0},{"$f":"F12","v":0},{"$f":"F12","v":0}]
[]
[]
[]
[null,"Total",{"$f":"SUM(C11:C15)","v":0},{"$f":"SUM(D11:D15)","v":0},0,0,0,0]
[]
[null,null,null,null,null,null,{"$f":"Database!N38","v":"प्रधानाचार्य"}]
[null,null,null,null,null,null,{"$f":"Database!N39","v":"jktdh; mPp ek/;fed fo|ky;"}]
[null,null,null,null,null,null,{"$f":"Database!N40","v":"pkSxkbZa] Vksad"}]
[null,null,null,null,null,null,{"$f":"Database!N41","v":27306}]

{"sheet":"1A","index":24,"n_rows":57,"n_cols":15,"rows_kept":57,"cut":false,"hidden":true,"merged":[[9,12,9,13],[8,0,9,0],[8,1,9,1],[8,2,9,2],[8,3,9,3],[8,4,9,4],[0,0,0,1],[0,2,0,11],[2,2,2,3],[2,8,2,9],[1,9,1,11],[1,0,1,8],[7,3,7,4],[8,6,9,6],[8,7,9,7],[8,11,9,11],[8,5,9,5],[8,8,8,10]]}
[{"$f":"Database!B1","v":"dk;kZy;&"},null,{"$f":"Database!F1","v":"jktdh; mPp ek/;fed fo|ky;&pkSxkbZa] Vksad"}]
["izi=&1v&fu;fer@dk;Z izHkkfjr Lohd`r inksa dk fooj.k"]
[null,null,{"$f":"Database!B3","v":"eq[; ys[kk 'kh\"kZ&"},null,{"$f":"Database!B4","v":2202},{"$f":"Database!C4","v":"lkekU; f'k{kk"},null,null,null,null,{"$f":"Database!H4","v":"MhMhvks dksM&"},{"$f":"Database!H5","v":27306}]
[null,null,null,null,{"$f":"Database!B5","v":2},{"$f":"Database!C5","v":"ek/;fed f'k{kk"}]
[null,null,null,null,{"$f":"Database!B6","v":109},{"$f":"Database!C6","v":"jktdh; mPp ek/;fed fo|ky;"}]
[null,null,null,null,{"$f":"Database!B7","v":1},{"$f":"Database!C7","v":"yMdksa ds fo|ky;"}]
[null,null,null,null,{"$f":"Database!B8","v":0},{"$f":"Database!C8","v":"lkekU; O;;"}]
[null,null,null,{"$f":"Database!F8","v":"Ldhe dk uke&"},null,{"$f":"Database!H8","v":"राज्य निधि"}]
["dz0la0","ys[ks dk 'kh\"kZ&eq[; 'kh\"kZ@mieq[; 'kh\"kZ@y?kq 'kh\"kZ@mi 'kh\"kZ@xzqi 'kh\"kZ","jkT; fuf/k@ dsUnzh; lgk;rk","in uke","is ysoy","lsok Js.kh","lsok dk uke","orZeku esa Lohd`r inksa dh la[;k","fu;fer dk;Zjr deZpkjh",null,null,"fjDr inksa dh la[;k {8-(9+10)}"]
[null,null,null,null,null,null,null,null,"1 tuojh] 2004 ls iwoZ fu;qDr","1 tuojh] 2004 rFkk mlds i'pkr fu;qDr","dqy dk;Zjr deZpkjh",null,"Working on Contract ",null,"Total Working Before 2004"]
[1,2,3,4,5,6,7,8,9,10,11,12,"After 2004","Before 2004"]
[{"$f":"Post!A11","v":1},{"$f":"IF(D12=\"\",\"\",E$3&\"-\"&E$4&\"-\"&E$5&\"-\"&E$6&\"-\"&E$7)","v":"2202-2-109-1-0"},{"$f":"IF(D12=\"\",\"\",F$8)","v":"राज्य निधि"},{"$f":"Post!B11","v":"प्रधानाचार्य"},{"$f":"Post!C11","v":"L-16"},"राज्य सेवा","राज शिक्षा सेवा",{"$f":"Post!D11","v":0},{"$f":"O12","v":0},{"$f":"COUNTIFS(Estemate!$C$11:$C$100,D12,Estemate!$Y$11:$Y$100,\">=2004\")-M12","v":0},{"$f":"I12+J12","v":0},{"$f":"SUM(H12-K12)","v":0},{"$f":"COUNTIFS(Estemate!$C$11:$C$100,D12,Estemate!$Y$11:$Y$100,\">=2004\",Estemate!$P$11:$P$100,\"Contract\")","v":0},{"$f":"COUNTIFS(Estemate!$C$11:$C$100,D12,Estemate!$Y$11:$Y$100,\"<2004\",Estemate!$P$11:$P$100,\"Contract\")","v":0},{"$f":"COUNTIFS(Estemate!$C$11:$C$100,D12,Estemate!$Y$11:$Y$100,\"<2004\")-N12","v":0}]
[{"$f":"Post!A12","v":2},{"$f":"B12","v":"2202-2-109-1-0"},{"$f":"IF(D13=\"\",\"\",F$8)","v":"राज्य निधि"},{"$f":"Post!B12","v":"उपप्रधानाचार्य"},{"$f":"Post!C12","v":"L-14"},"राज्य सेवा","राज शिक्षा सेवा",{"$f":"Post!D12","v":0},{"$f":"O13","v":0},{"$f":"COUNTIFS(Estemate!$C$11:$C$100,D13,Estemate!$Y$11:$Y$100,\">=2004\")-M13","v":0},{"$f":"I13+J13","v":0},{"$f":"SUM(H13-K13)","v":0},{"$f":"COUNTIFS(Estemate!$C$11:$C$100,D13,Estemate!$Y$11:$Y$100,\">=2004\",Estemate!$P$11:$P$100,\"Contract\")","v":0},{"$f":"COUNTIFS(Estemate!$C$11:$C$100,D13,Estemate!$Y$11:$Y$100,\"<2004\",Estemate!$P$11:$P$100,\"Contract\")","v":0},{"$f":"COUNTIFS(Estemate!$C$11:$C$100,D13,Estemate!$Y$11:$Y$100,\"<2004\")-N13","v":0}]
[{"$f":"Post!A13","v":3},{"$f":"B13","v":"2202-2-109-1-0"},"राज्य निधि",{"$f":"Post!B13","v":"प्रधानाध्यापक"},{"$f":"Post!C13","v":"L-14"},"राज्य सेवा","राज शिक्षा सेवा",{"$f":"Post!D13","v":0},0,{"$f":"COUNTIFS(Estemate!$C$11:$C$100,D14,Estemate!$Y$11:$Y$100,\">=2004\")-M14","v":0},0,0,{"$f":"COUNTIFS(Estemate!$C$11:$C$100,D14,Estemate!$Y$11:$Y$100,\">=2004\",Estemate!$P$11:$P$100,\"Contract\")","v":0},{"$f":"COUNTIFS(Estemate!$C$11:$C$100,D14,Estemate!$Y$11:$Y$100,\"<2004\",Estemate!$P$11:$P$100,\"Contract\")","v":0},{"$f":"COUNTIFS(Estemate!$C$11:$C$100,D14,Estemate!$Y$11:$Y$100,\"<2004\")-N14","v":0}]
[{"$f":"Post!A14","v":4},"2202-2-109-1-0","राज्य निधि",{"$f":"Post!B14","v":"व्याख्याता स्कूल (शिक्षा)"},{"$f":"Post!C14","v":"L-12"},"राज्य सेवा","राज शिक्षा सेवा",{"$f":"Post!D14","v":0},0,{"$f":"COUNTIFS(Estemate!$C$11:$C$100,D15,Estemate!$Y$11:$Y$100,\">=2004\")-M15","v":0},0,0,{"$f":"COUNTIFS(Estemate!$C$11:$C$100,D15,Estemate!$Y$11:$Y$100,\">=2004\",Estemate!$P$11:$P$100,\"Contract\")","v":0},{"$f":"COUNTIFS(Estemate!$C$11:$C$100,D15,Estemate!$Y$11:$Y$100,\"<2004\",Estemate!$P$11:$P$100,\"Contract\")","v":0},{"$f":"COUNTIFS(Estemate!$C$11:$C$100,D15,Estemate!$Y$11:$Y$100,\"<2004\")-N15","v":0}]
[{"$f":"Post!A15","v":5},"2202-2-109-1-0","राज्य निधि",{"$f":"Post!B15","v":"कृषि शिक्षा प्रभारी"},{"$f":"Post!C15","v":"L-12"},"राज्य सेवा","राज शिक्षा सेवा",{"$f":"Post!D15","v":0},0,{"$f":"COUNTIFS(Estemate!$C$11:$C$100,D16,Estemate!$Y$11:$Y$100,\">=2004\")-M16","v":0},0,0,{"$f":"COUNTIFS(Estemate!$C$11:$C$100,D16,Estemate!$Y$11:$Y$100,\">=2004\",Estemate!$P$11:$P$100,\"Contract\")","v":0},{"$f":"COUNTIFS(Estemate!$C$11:$C$100,D16,Estemate!$Y$11:$Y$100,\"<2004\",Estemate!$P$11:$P$100,\"Contract\")","v":0},{"$f":"COUNTIFS(Estemate!$C$11:$C$100,D16,Estemate!$Y$11:$Y$100,\"<2004\")-N16","v":0}]
[{"$f":"Post!A16","v":6},"2202-2-109-1-0","राज्य निधि",{"$f":"Post!B16","v":"शारीरिक शिक्षक श्रेणी I"},{"$f":"Post!C16","v":"L-12"},"राज्य सेवा","राज शिक्षा सेवा",{"$f":"Post!D16","v":0},0,{"$f":"COUNTIFS(Estemate!$C$11:$C$100,D17,Estemate!$Y$11:$Y$100,\">=2004\")-M17","v":0},0,0,{"$f":"COUNTIFS(Estemate!$C$11:$C$100,D17,Estemate!$Y$11:$Y$100,\">=2004\",Estemate!$P$11:$P$100,\"Contract\")","v":0},{"$f":"COUNTIFS(Estemate!$C$11:$C$100,D17,Estemate!$Y$11:$Y$100,\"<2004\",Estemate!$P$11:$P$100,\"Contract\")","v":0},{"$f":"COUNTIFS(Estemate!$C$11:$C$100,D17,Estemate!$Y$11:$Y$100,\"<2004\")-N17","v":0}]
[{"$f":"Post!A17","v":7},"2202-2-109-1-0","राज्य निधि",{"$f":"Post!B17","v":"पुस्तकालय अध्यक्ष श्रेणी I"},{"$f":"Post!C17","v":"L-12"},"राज्य सेवा","राज शिक्षा सेवा",{"$f":"Post!D17","v":0},0,{"$f":"COUNTIFS(Estemate!$C$11:$C$100,D18,Estemate!$Y$11:$Y$100,\">=2004\")-M18","v":0},0,0,{"$f":"COUNTIFS(Estemate!$C$11:$C$100,D18,Estemate!$Y$11:$Y$100,\">=2004\",Estemate!$P$11:$P$100,\"Contract\")","v":0},{"$f":"COUNTIFS(Estemate!$C$11:$C$100,D18,Estemate!$Y$11:$Y$100,\"<2004\",Estemate!$P$11:$P$100,\"Contract\")","v":0},{"$f":"COUNTIFS(Estemate!$C$11:$C$100,D18,Estemate!$Y$11:$Y$100,\"<2004\")-N18","v":0}]
[{"$f":"Post!A18","v":8},"2202-2-109-1-0","राज्य निधि",{"$f":"Post!B18","v":"वरिष्ठ अध्यापक"},{"$f":"Post!C18","v":"L-11"},"अधिनस्थ सेवा","राज अधिनस्थ शिक्षा सेवा",{"$f":"Post!D18","v":0},0,{"$f":"COUNTIFS(Estemate!$C$11:$C$100,D19,Estemate!$Y$11:$Y$100,\">=2004\")-M19","v":0},0,0,{"$f":"COUNTIFS(Estemate!$C$11:$C$100,D19,Estemate!$Y$11:$Y$100,\">=2004\",Estemate!$P$11:$P$100,\"Contract\")","v":0},{"$f":"COUNTIFS(Estemate!$C$11:$C$100,D19,Estemate!$Y$11:$Y$100,\"<2004\",Estemate!$P$11:$P$100,\"Contract\")","v":0},{"$f":"COUNTIFS(Estemate!$C$11:$C$100,D19,Estemate!$Y$11:$Y$100,\"<2004\")-N19","v":0}]
[{"$f":"Post!A19","v":9},"2202-2-109-1-0","राज्य निधि",{"$f":"Post!B19","v":"वरिष्ठ प्रबोधक"},{"$f":"Post!C19","v":"L-11"},"अधिनस्थ सेवा","राज अधिनस्थ शिक्षा सेवा",{"$f":"Post!D19","v":0},0,{"$f":"COUNTIFS(Estemate!$C$11:$C$100,D20,Estemate!$Y$11:$Y$100,\">=2004\")-M20","v":0},0,0,{"$f":"COUNTIFS(Estemate!$C$11:$C$100,D20,Estemate!$Y$11:$Y$100,\">=2004\",Estemate!$P$11:$P$100,\"Contract\")","v":0},{"$f":"COUNTIFS(Estemate!$C$11:$C$100,D20,Estemate!$Y$11:$Y$100,\"<2004\",Estemate!$P$11:$P$100,\"Contract\")","v":0},{"$f":"COUNTIFS(Estemate!$C$11:$C$100,D20,Estemate!$Y$11:$Y$100,\"<2004\")-N20","v":0}]
[{"$f":"Post!A20","v":10},"2202-2-109-1-0","राज्य निधि",{"$f":"Post!B20","v":"वरिष्ठ विशेष शिक्षक"},{"$f":"Post!C20","v":"L-11"},"अधिनस्थ सेवा","राज अधिनस्थ शिक्षा सेवा",{"$f":"Post!D20","v":0},0,{"$f":"COUNTIFS(Estemate!$C$11:$C$100,D21,Estemate!$Y$11:$Y$100,\">=2004\")-M21","v":0},0,0,{"$f":"COUNTIFS(Estemate!$C$11:$C$100,D21,Estemate!$Y$11:$Y$100,\">=2004\",Estemate!$P$11:$P$100,\"Contract\")","v":0},{"$f":"COUNTIFS(Estemate!$C$11:$C$100,D21,Estemate!$Y$11:$Y$100,\"<2004\",Estemate!$P$11:$P$100,\"Contract\")","v":0},{"$f":"COUNTIFS(Estemate!$C$11:$C$100,D21,Estemate!$Y$11:$Y$100,\"<2004\")-N21","v":0}]
[{"$f":"Post!A21","v":11},"2202-2-109-1-0","राज्य निधि",{"$f":"Post!B21","v":"कृषि अध्यापक"},{"$f":"Post!C21","v":"L-11"},"अधिनस्थ सेवा","राज अधिनस्थ शिक्षा सेवा",{"$f":"Post!D21","v":0},0,{"$f":"COUNTIFS(Estemate!$C$11:$C$100,D22,Estemate!$Y$11:$Y$100,\">=2004\")-M22","v":0},0,0,{"$f":"COUNTIFS(Estemate!$C$11:$C$100,D22,Estemate!$Y$11:$Y$100,\">=2004\",Estemate!$P$11:$P$100,\"Contract\")","v":0},{"$f":"COUNTIFS(Estemate!$C$11:$C$100,D22,Estemate!$Y$11:$Y$100,\"<2004\",Estemate!$P$11:$P$100,\"Contract\")","v":0},{"$f":"COUNTIFS(Estemate!$C$11:$C$100,D22,Estemate!$Y$11:$Y$100,\"<2004\")-N22","v":0}]
[{"$f":"Post!A22","v":12},"2202-2-109-1-0","राज्य निधि",{"$f":"Post!B22","v":"शारीरिक शिक्षक श्रेणी II"},{"$f":"Post!C22","v":"L-11"},"अधिनस्थ सेवा","राज अधिनस्थ शिक्षा सेवा",{"$f":"Post!D22","v":0},0,{"$f":"COUNTIFS(Estemate!$C$11:$C$100,D23,Estemate!$Y$11:$Y$100,\">=2004\")-M23","v":0},0,0,{"$f":"COUNTIFS(Estemate!$C$11:$C$100,D23,Estemate!$Y$11:$Y$100,\">=2004\",Estemate!$P$11:$P$100,\"Contract\")","v":0},{"$f":"COUNTIFS(Estemate!$C$11:$C$100,D23,Estemate!$Y$11:$Y$100,\"<2004\",Estemate!$P$11:$P$100,\"Contract\")","v":0},{"$f":"COUNTIFS(Estemate!$C$11:$C$100,D23,Estemate!$Y$11:$Y$100,\"<2004\")-N23","v":0}]
[{"$f":"Post!A23","v":13},"2202-2-109-1-0","राज्य निधि",{"$f":"Post!B23","v":"पुस्तकालय अध्यक्ष श्रेणी II"},{"$f":"Post!C23","v":"L-11"},"अधिनस्थ सेवा","राज अधिनस्थ शिक्षा सेवा",{"$f":"Post!D23","v":0},0,{"$f":"COUNTIFS(Estemate!$C$11:$C$100,D24,Estemate!$Y$11:$Y$100,\">=2004\")-M24","v":0},0,0,{"$f":"COUNTIFS(Estemate!$C$11:$C$100,D24,Estemate!$Y$11:$Y$100,\">=2004\",Estemate!$P$11:$P$100,\"Contract\")","v":0},{"$f":"COUNTIFS(Estemate!$C$11:$C$100,D24,Estemate!$Y$11:$Y$100,\"<2004\",Estemate!$P$11:$P$100,\"Contract\")","v":0},{"$f":"COUNTIFS(Estemate!$C$11:$C$100,D24,Estemate!$Y$11:$Y$100,\"<2004\")-N24","v":0}]
[{"$f":"Post!A24","v":14},"2202-2-109-1-0","राज्य निधि",{"$f":"Post!B24","v":"अध्यापक"},{"$f":"Post!C24","v":"L-10"},"अधिनस्थ सेवा","राज अधिनस्थ शिक्षा सेवा",{"$f":"Post!D24","v":0},0,{"$f":"COUNTIFS(Estemate!$C$11:$C$100,D25,Estemate!$Y$11:$Y$100,\">=2004\")-M25","v":0},0,0,{"$f":"COUNTIFS(Estemate!$C$11:$C$100,D25,Estemate!$Y$11:$Y$100,\">=2004\",Estemate!$P$11:$P$100,\"Contract\")","v":0},{"$f":"COUNTIFS(Estemate!$C$11:$C$100,D25,Estemate!$Y$11:$Y$100,\"<2004\",Estemate!$P$11:$P$100,\"Contract\")","v":0},{"$f":"COUNTIFS(Estemate!$C$11:$C$100,D25,Estemate!$Y$11:$Y$100,\"<2004\")-N25","v":0}]
[{"$f":"Post!A25","v":15},"2202-2-109-1-0","राज्य निधि",{"$f":"Post!B25","v":"प्रबोधक"},{"$f":"Post!C25","v":"L-10"},"अधिनस्थ सेवा","राज अधिनस्थ शिक्षा सेवा",{"$f":"Post!D25","v":0},0,{"$f":"COUNTIFS(Estemate!$C$11:$C$100,D26,Estemate!$Y$11:$Y$100,\">=2004\")-M26","v":0},0,0,{"$f":"COUNTIFS(Estemate!$C$11:$C$100,D26,Estemate!$Y$11:$Y$100,\">=2004\",Estemate!$P$11:$P$100,\"Contract\")","v":0},{"$f":"COUNTIFS(Estemate!$C$11:$C$100,D26,Estemate!$Y$11:$Y$100,\"<2004\",Estemate!$P$11:$P$100,\"Contract\")","v":0},{"$f":"COUNTIFS(Estemate!$C$11:$C$100,D26,Estemate!$Y$11:$Y$100,\"<2004\")-N26","v":0}]
[{"$f":"Post!A26","v":16},"2202-2-109-1-0","राज्य निधि",{"$f":"Post!B26","v":"शारीरिक शिक्षक श्रेणी III"},{"$f":"Post!C26","v":"L-10"},"अधिनस्थ सेवा","राज अधिनस्थ शिक्षा सेवा",{"$f":"Post!D26","v":0},0,{"$f":"COUNTIFS(Estemate!$C$11:$C$100,D27,Estemate!$Y$11:$Y$100,\">=2004\")-M27","v":0},0,0,{"$f":"COUNTIFS(Estemate!$C$11:$C$100,D27,Estemate!$Y$11:$Y$100,\">=2004\",Estemate!$P$11:$P$100,\"Contract\")","v":0},{"$f":"COUNTIFS(Estemate!$C$11:$C$100,D27,Estemate!$Y$11:$Y$100,\"<2004\",Estemate!$P$11:$P$100,\"Contract\")","v":0},{"$f":"COUNTIFS(Estemate!$C$11:$C$100,D27,Estemate!$Y$11:$Y$100,\"<2004\")-N27","v":0}]
[{"$f":"Post!A27","v":17},"2202-2-109-1-0","राज्य निधि",{"$f":"Post!B27","v":"प्रबोधक शारीरिक शिक्षक"},{"$f":"Post!C27","v":"L-10"},"अधिनस्थ सेवा","राज अधिनस्थ शिक्षा सेवा",{"$f":"Post!D27","v":0},0,{"$f":"COUNTIFS(Estemate!$C$11:$C$100,D28,Estemate!$Y$11:$Y$100,\">=2004\")-M28","v":0},0,0,{"$f":"COUNTIFS(Estemate!$C$11:$C$100,D28,Estemate!$Y$11:$Y$100,\">=2004\",Estemate!$P$11:$P$100,\"Contract\")","v":0},{"$f":"COUNTIFS(Estemate!$C$11:$C$100,D28,Estemate!$Y$11:$Y$100,\"<2004\",Estemate!$P$11:$P$100,\"Contract\")","v":0},{"$f":"COUNTIFS(Estemate!$C$11:$C$100,D28,Estemate!$Y$11:$Y$100,\"<2004\")-N28","v":0}]
[{"$f":"Post!A28","v":18},"2202-2-109-1-0","राज्य निधि",{"$f":"Post!B28","v":"प्रशिक्षु शिक्षक"},{"$f":"Post!C28","v":"L-10"},"अधिनस्थ सेवा","राज अधिनस्थ शिक्षा सेवा",{"$f":"Post!D28","v":0},0,{"$f":"COUNTIFS(Estemate!$C$11:$C$100,D29,Estemate!$Y$11:$Y$100,\">=2004\")-M29","v":0},0,0,{"$f":"COUNTIFS(Estemate!$C$11:$C$100,D29,Estemate!$Y$11:$Y$100,\">=2004\",Estemate!$P$11:$P$100,\"Contract\")","v":0},{"$f":"COUNTIFS(Estemate!$C$11:$C$100,D29,Estemate!$Y$11:$Y$100,\"<2004\",Estemate!$P$11:$P$100,\"Contract\")","v":0},{"$f":"COUNTIFS(Estemate!$C$11:$C$100,D29,Estemate!$Y$11:$Y$100,\"<2004\")-N29","v":0}]
[{"$f":"Post!A29","v":19},"2202-2-109-1-0","राज्य निधि",{"$f":"Post!B29","v":"पुस्तकालय अध्यक्ष श्रेणी III"},{"$f":"Post!C29","v":"L-10"},"अधिनस्थ सेवा","राज अधिनस्थ शिक्षा सेवा",{"$f":"Post!D29","v":0},0,{"$f":"COUNTIFS(Estemate!$C$11:$C$100,D30,Estemate!$Y$11:$Y$100,\">=2004\")-M30","v":0},0,0,{"$f":"COUNTIFS(Estemate!$C$11:$C$100,D30,Estemate!$Y$11:$Y$100,\">=2004\",Estemate!$P$11:$P$100,\"Contract\")","v":0},{"$f":"COUNTIFS(Estemate!$C$11:$C$100,D30,Estemate!$Y$11:$Y$100,\"<2004\",Estemate!$P$11:$P$100,\"Contract\")","v":0},{"$f":"COUNTIFS(Estemate!$C$11:$C$100,D30,Estemate!$Y$11:$Y$100,\"<2004\")-N30","v":0}]
[{"$f":"Post!A30","v":20},"2202-2-109-1-0","राज्य निधि",{"$f":"Post!B30","v":"विशेष शिक्षक"},{"$f":"Post!C30","v":"L-10"},"अधिनस्थ सेवा","राज अधिनस्थ शिक्षा सेवा",{"$f":"Post!D30","v":0},0,{"$f":"COUNTIFS(Estemate!$C$11:$C$100,D31,Estemate!$Y$11:$Y$100,\">=2004\")-M31","v":0},0,0,{"$f":"COUNTIFS(Estemate!$C$11:$C$100,D31,Estemate!$Y$11:$Y$100,\">=2004\",Estemate!$P$11:$P$100,\"Contract\")","v":0},{"$f":"COUNTIFS(Estemate!$C$11:$C$100,D31,Estemate!$Y$11:$Y$100,\"<2004\",Estemate!$P$11:$P$100,\"Contract\")","v":0},{"$f":"COUNTIFS(Estemate!$C$11:$C$100,D31,Estemate!$Y$11:$Y$100,\"<2004\")-N31","v":0}]
[{"$f":"Post!A31","v":21},"2202-2-109-1-0","राज्य निधि",{"$f":"Post!B31","v":"अतिरिक्त प्रशासनिक अधिकारी"},{"$f":"Post!C31","v":"L-11"},"अधिनस्थ सेवा","राज अधिनस्थ शिक्षा सेवा",{"$f":"Post!D31","v":0},0,{"$f":"COUNTIFS(Estemate!$C$11:$C$100,D32,Estemate!$Y$11:$Y$100,\">=2004\")-M32","v":0},0,0,{"$f":"COUNTIFS(Estemate!$C$11:$C$100,D32,Estemate!$Y$11:$Y$100,\">=2004\",Estemate!$P$11:$P$100,\"Contract\")","v":0},{"$f":"COUNTIFS(Estemate!$C$11:$C$100,D32,Estemate!$Y$11:$Y$100,\"<2004\",Estemate!$P$11:$P$100,\"Contract\")","v":0},{"$f":"COUNTIFS(Estemate!$C$11:$C$100,D32,Estemate!$Y$11:$Y$100,\"<2004\")-N32","v":0}]
[{"$f":"Post!A32","v":22},"2202-2-109-1-0","राज्य निधि",{"$f":"Post!B32","v":"सहायक प्रशासनिक अधिकारी"},{"$f":"Post!C32","v":"L-10"},"मंत्रालयिक सेवा","राज मंत्रालयिक सेवा",{"$f":"Post!D32","v":0},0,{"$f":"COUNTIFS(Estemate!$C$11:$C$100,D33,Estemate!$Y$11:$Y$100,\">=2004\")-M33","v":0},0,0,{"$f":"COUNTIFS(Estemate!$C$11:$C$100,D33,Estemate!$Y$11:$Y$100,\">=2004\",Estemate!$P$11:$P$100,\"Contract\")","v":0},{"$f":"COUNTIFS(Estemate!$C$11:$C$100,D33,Estemate!$Y$11:$Y$100,\"<2004\",Estemate!$P$11:$P$100,\"Contract\")","v":0},{"$f":"COUNTIFS(Estemate!$C$11:$C$100,D33,Estemate!$Y$11:$Y$100,\"<2004\")-N33","v":0}]
[{"$f":"Post!A33","v":23},"2202-2-109-1-0","राज्य निधि",{"$f":"Post!B33","v":"बेसिक कम्प्युटर अनुदेशक"},{"$f":"Post!C33","v":"L-8"},"अधिनस्थ सेवा","राज अधिनस्थ शिक्षा सेवा",{"$f":"Post!D33","v":0},0,{"$f":"COUNTIFS(Estemate!$C$11:$C$100,D34,Estemate!$Y$11:$Y$100,\">=2004\")-M34","v":0},0,0,{"$f":"COUNTIFS(Estemate!$C$11:$C$100,D34,Estemate!$Y$11:$Y$100,\">=2004\",Estemate!$P$11:$P$100,\"Contract\")","v":0},{"$f":"COUNTIFS(Estemate!$C$11:$C$100,D34,Estemate!$Y$11:$Y$100,\"<2004\",Estemate!$P$11:$P$100,\"Contract\")","v":0},{"$f":"COUNTIFS(Estemate!$C$11:$C$100,D34,Estemate!$Y$11:$Y$100,\"<2004\")-N34","v":0}]
[{"$f":"Post!A34","v":24},"2202-2-109-1-0","राज्य निधि",{"$f":"Post!B34","v":"वरिष्ठ कम्प्युटर अनुदेशक"},{"$f":"Post!C34","v":"L-8"},"अधिनस्थ सेवा","राज अधिनस्थ शिक्षा सेवा",{"$f":"Post!D34","v":0},0,{"$f":"COUNTIFS(Estemate!$C$11:$C$100,D35,Estemate!$Y$11:$Y$100,\">=2004\")-M35","v":0},0,0,{"$f":"COUNTIFS(Estemate!$C$11:$C$100,D35,Estemate!$Y$11:$Y$100,\">=2004\",Estemate!$P$11:$P$100,\"Contract\")","v":0},{"$f":"COUNTIFS(Estemate!$C$11:$C$100,D35,Estemate!$Y$11:$Y$100,\"<2004\",Estemate!$P$11:$P$100,\"Contract\")","v":0},{"$f":"COUNTIFS(Estemate!$C$11:$C$100,D35,Estemate!$Y$11:$Y$100,\"<2004\")-N35","v":0}]
[{"$f":"Post!A35","v":25},"2202-2-109-1-0","राज्य निधि",{"$f":"Post!B35","v":"वरिष्ठ सहायक"},{"$f":"Post!C35","v":"L-8"},"मंत्रालयिक सेवा","राज मंत्रालयिक सेवा",{"$f":"Post!D35","v":0},0,{"$f":"COUNTIFS(Estemate!$C$11:$C$100,D36,Estemate!$Y$11:$Y$100,\">=2004\")-M36","v":0},0,0,{"$f":"COUNTIFS(Estemate!$C$11:$C$100,D36,Estemate!$Y$11:$Y$100,\">=2004\",Estemate!$P$11:$P$100,\"Contract\")","v":0},{"$f":"COUNTIFS(Estemate!$C$11:$C$100,D36,Estemate!$Y$11:$Y$100,\"<2004\",Estemate!$P$11:$P$100,\"Contract\")","v":0},{"$f":"COUNTIFS(Estemate!$C$11:$C$100,D36,Estemate!$Y$11:$Y$100,\"<2004\")-N36","v":0}]
[{"$f":"Post!A36","v":26},"2202-2-109-1-0","राज्य निधि",{"$f":"Post!B36","v":"कनिष्ठ सहायक"},{"$f":"Post!C36","v":"L-5"},"मंत्रालयिक सेवा","राज मंत्रालयिक सेवा",{"$f":"Post!D36","v":0},0,{"$f":"COUNTIFS(Estemate!$C$11:$C$100,D37,Estemate!$Y$11:$Y$100,\">=2004\")-M37","v":0},0,0,{"$f":"COUNTIFS(Estemate!$C$11:$C$100,D37,Estemate!$Y$11:$Y$100,\">=2004\",Estemate!$P$11:$P$100,\"Contract\")","v":0},{"$f":"COUNTIFS(Estemate!$C$11:$C$100,D37,Estemate!$Y$11:$Y$100,\"<2004\",Estemate!$P$11:$P$100,\"Contract\")","v":0},{"$f":"COUNTIFS(Estemate!$C$11:$C$100,D37,Estemate!$Y$11:$Y$100,\"<2004\")-N37","v":0}]
[{"$f":"Post!A37","v":27},"2202-2-109-1-0","राज्य निधि",{"$f":"Post!B37","v":"प्रयोगशाला सहायक"},{"$f":"Post!C37","v":"L-5"},"मंत्रालयिक सेवा","राज मंत्रालयिक सेवा",{"$f":"Post!D37","v":0},0,{"$f":"COUNTIFS(Estemate!$C$11:$C$100,D38,Estemate!$Y$11:$Y$100,\">=2004\")-M38","v":0},0,0,{"$f":"COUNTIFS(Estemate!$C$11:$C$100,D38,Estemate!$Y$11:$Y$100,\">=2004\",Estemate!$P$11:$P$100,\"Contract\")","v":0},{"$f":"COUNTIFS(Estemate!$C$11:$C$100,D38,Estemate!$Y$11:$Y$100,\"<2004\",Estemate!$P$11:$P$100,\"Contract\")","v":0},{"$f":"COUNTIFS(Estemate!$C$11:$C$100,D38,Estemate!$Y$11:$Y$100,\"<2004\")-N38","v":0}]
[{"$f":"Post!A38","v":28},"2202-2-109-1-0","राज्य निधि",{"$f":"Post!B38","v":"प्रयोगशाला परिचारक"},{"$f":"Post!C38","v":"L-1"},"मंत्रालयिक सेवा","राज मंत्रालयिक सेवा",{"$f":"Post!D38","v":0},0,{"$f":"COUNTIFS(Estemate!$C$11:$C$100,D39,Estemate!$Y$11:$Y$100,\">=2004\")-M39","v":0},0,0,{"$f":"COUNTIFS(Estemate!$C$11:$C$100,D39,Estemate!$Y$11:$Y$100,\">=2004\",Estemate!$P$11:$P$100,\"Contract\")","v":0},{"$f":"COUNTIFS(Estemate!$C$11:$C$100,D39,Estemate!$Y$11:$Y$100,\"<2004\",Estemate!$P$11:$P$100,\"Contract\")","v":0},{"$f":"COUNTIFS(Estemate!$C$11:$C$100,D39,Estemate!$Y$11:$Y$100,\"<2004\")-N39","v":0}]
[{"$f":"Post!A39","v":29},"2202-2-109-1-0","राज्य निधि",{"$f":"Post!B39","v":"जमादार"},{"$f":"Post!C39","v":"L-1"},"मंत्रालयिक सेवा","राज मंत्रालयिक सेवा",{"$f":"Post!D39","v":0},0,{"$f":"COUNTIFS(Estemate!$C$11:$C$100,D40,Estemate!$Y$11:$Y$100,\">=2004\")-M40","v":0},0,0,{"$f":"COUNTIFS(Estemate!$C$11:$C$100,D40,Estemate!$Y$11:$Y$100,\">=2004\",Estemate!$P$11:$P$100,\"Contract\")","v":0},{"$f":"COUNTIFS(Estemate!$C$11:$C$100,D40,Estemate!$Y$11:$Y$100,\"<2004\",Estemate!$P$11:$P$100,\"Contract\")","v":0},{"$f":"COUNTIFS(Estemate!$C$11:$C$100,D40,Estemate!$Y$11:$Y$100,\"<2004\")-N40","v":0}]
[{"$f":"Post!A40","v":30},"2202-2-109-1-0","राज्य निधि",{"$f":"Post!B40","v":"चतुर्थ श्रेणी कर्मचारी"},{"$f":"Post!C40","v":"L-1"},"मंत्रालयिक सेवा","राज मंत्रालयिक सेवा",{"$f":"Post!D40","v":0},0,{"$f":"COUNTIFS(Estemate!$C$11:$C$100,D41,Estemate!$Y$11:$Y$100,\">=2004\")-M41","v":0},0,0,{"$f":"COUNTIFS(Estemate!$C$11:$C$100,D41,Estemate!$Y$11:$Y$100,\">=2004\",Estemate!$P$11:$P$100,\"Contract\")","v":0},{"$f":"COUNTIFS(Estemate!$C$11:$C$100,D41,Estemate!$Y$11:$Y$100,\"<2004\",Estemate!$P$11:$P$100,\"Contract\")","v":0},{"$f":"COUNTIFS(Estemate!$C$11:$C$100,D41,Estemate!$Y$11:$Y$100,\"<2004\")-N41","v":0}]
[{"$f":"Post!A41","v":31},"2202-2-109-1-0","राज्य निधि",{"$f":"Post!B41","v":0},{"$f":"Post!C41","v":0},null,null,{"$f":"Post!D41","v":0},0,{"$f":"COUNTIFS(Estemate!$C$11:$C$100,D42,Estemate!$Y$11:$Y$100,\">=2004\")-M42","v":0},0,0,{"$f":"COUNTIFS(Estemate!$C$11:$C$100,D42,Estemate!$Y$11:$Y$100,\">=2004\",Estemate!$P$11:$P$100,\"Contract\")","v":0},{"$f":"COUNTIFS(Estemate!$C$11:$C$100,D42,Estemate!$Y$11:$Y$100,\"<2004\",Estemate!$P$11:$P$100,\"Contract\")","v":0},{"$f":"COUNTIFS(Estemate!$C$11:$C$100,D42,Estemate!$Y$11:$Y$100,\"<2004\")-N42","v":0}]
[{"$f":"Post!A42","v":32},"2202-2-109-1-0","राज्य निधि",{"$f":"Post!B42","v":0},{"$f":"Post!C42","v":0},null,null,{"$f":"Post!D42","v":0},0,{"$f":"COUNTIFS(Estemate!$C$11:$C$100,D43,Estemate!$Y$11:$Y$100,\">=2004\")-M43","v":0},0,0,{"$f":"COUNTIFS(Estemate!$C$11:$C$100,D43,Estemate!$Y$11:$Y$100,\">=2004\",Estemate!$P$11:$P$100,\"Contract\")","v":0},{"$f":"COUNTIFS(Estemate!$C$11:$C$100,D43,Estemate!$Y$11:$Y$100,\"<2004\",Estemate!$P$11:$P$100,\"Contract\")","v":0},{"$f":"COUNTIFS(Estemate!$C$11:$C$100,D43,Estemate!$Y$11:$Y$100,\"<2004\")-N43","v":0}]
[{"$f":"Post!A43","v":33},"2202-2-109-1-0","राज्य निधि",{"$f":"Post!B43","v":0},{"$f":"Post!C43","v":0},null,null,{"$f":"Post!D43","v":0},0,{"$f":"COUNTIFS(Estemate!$C$11:$C$100,D44,Estemate!$Y$11:$Y$100,\">=2004\")-M44","v":0},0,0,{"$f":"COUNTIFS(Estemate!$C$11:$C$100,D44,Estemate!$Y$11:$Y$100,\">=2004\",Estemate!$P$11:$P$100,\"Contract\")","v":0},{"$f":"COUNTIFS(Estemate!$C$11:$C$100,D44,Estemate!$Y$11:$Y$100,\"<2004\",Estemate!$P$11:$P$100,\"Contract\")","v":0},{"$f":"COUNTIFS(Estemate!$C$11:$C$100,D44,Estemate!$Y$11:$Y$100,\"<2004\")-N44","v":0}]
[{"$f":"Post!A44","v":34},"2202-2-109-1-0","राज्य निधि",{"$f":"Post!B44","v":0},{"$f":"Post!C44","v":0},null,null,{"$f":"Post!D44","v":0},0,{"$f":"COUNTIFS(Estemate!$C$11:$C$100,D45,Estemate!$Y$11:$Y$100,\">=2004\")-M45","v":0},0,0,{"$f":"COUNTIFS(Estemate!$C$11:$C$100,D45,Estemate!$Y$11:$Y$100,\">=2004\",Estemate!$P$11:$P$100,\"Contract\")","v":0},{"$f":"COUNTIFS(Estemate!$C$11:$C$100,D45,Estemate!$Y$11:$Y$100,\"<2004\",Estemate!$P$11:$P$100,\"Contract\")","v":0},{"$f":"COUNTIFS(Estemate!$C$11:$C$100,D45,Estemate!$Y$11:$Y$100,\"<2004\")-N45","v":0}]
[{"$f":"Post!A45","v":35},"2202-2-109-1-0","राज्य निधि",{"$f":"Post!B45","v":0},{"$f":"Post!C45","v":0},null,null,{"$f":"Post!D45","v":0},0,{"$f":"COUNTIFS(Estemate!$C$11:$C$100,D46,Estemate!$Y$11:$Y$100,\">=2004\")-M46","v":0},0,0,{"$f":"COUNTIFS(Estemate!$C$11:$C$100,D46,Estemate!$Y$11:$Y$100,\">=2004\",Estemate!$P$11:$P$100,\"Contract\")","v":0},{"$f":"COUNTIFS(Estemate!$C$11:$C$100,D46,Estemate!$Y$11:$Y$100,\"<2004\",Estemate!$P$11:$P$100,\"Contract\")","v":0},{"$f":"COUNTIFS(Estemate!$C$11:$C$100,D46,Estemate!$Y$11:$Y$100,\"<2004\")-N46","v":0}]
[{"$f":"Post!A46","v":36},"2202-2-109-1-0","राज्य निधि",{"$f":"Post!B46","v":0},{"$f":"Post!C46","v":0},null,null,{"$f":"Post!D46","v":0},0,{"$f":"COUNTIFS(Estemate!$C$11:$C$100,D47,Estemate!$Y$11:$Y$100,\">=2004\")-M47","v":0},0,0,{"$f":"COUNTIFS(Estemate!$C$11:$C$100,D47,Estemate!$Y$11:$Y$100,\">=2004\",Estemate!$P$11:$P$100,\"Contract\")","v":0},{"$f":"COUNTIFS(Estemate!$C$11:$C$100,D47,Estemate!$Y$11:$Y$100,\"<2004\",Estemate!$P$11:$P$100,\"Contract\")","v":0},{"$f":"COUNTIFS(Estemate!$C$11:$C$100,D47,Estemate!$Y$11:$Y$100,\"<2004\")-N47","v":0}]
[{"$f":"Post!A47","v":37},"2202-2-109-1-0","राज्य निधि",{"$f":"Post!B47","v":0},{"$f":"Post!C47","v":0},null,null,{"$f":"Post!D47","v":0},0,{"$f":"COUNTIFS(Estemate!$C$11:$C$100,D48,Estemate!$Y$11:$Y$100,\">=2004\")-M48","v":0},0,0,{"$f":"COUNTIFS(Estemate!$C$11:$C$100,D48,Estemate!$Y$11:$Y$100,\">=2004\",Estemate!$P$11:$P$100,\"Contract\")","v":0},{"$f":"COUNTIFS(Estemate!$C$11:$C$100,D48,Estemate!$Y$11:$Y$100,\"<2004\",Estemate!$P$11:$P$100,\"Contract\")","v":0},{"$f":"COUNTIFS(Estemate!$C$11:$C$100,D48,Estemate!$Y$11:$Y$100,\"<2004\")-N48","v":0}]
[{"$f":"Post!A48","v":38},"2202-2-109-1-0","राज्य निधि",{"$f":"Post!B48","v":0},{"$f":"Post!C48","v":0},null,null,{"$f":"Post!D48","v":0},0,{"$f":"COUNTIFS(Estemate!$C$11:$C$100,D49,Estemate!$Y$11:$Y$100,\">=2004\")-M49","v":0},0,0,{"$f":"COUNTIFS(Estemate!$C$11:$C$100,D49,Estemate!$Y$11:$Y$100,\">=2004\",Estemate!$P$11:$P$100,\"Contract\")","v":0},{"$f":"COUNTIFS(Estemate!$C$11:$C$100,D49,Estemate!$Y$11:$Y$100,\"<2004\",Estemate!$P$11:$P$100,\"Contract\")","v":0},{"$f":"COUNTIFS(Estemate!$C$11:$C$100,D49,Estemate!$Y$11:$Y$100,\"<2004\")-N49","v":0}]
[{"$f":"Post!A49","v":39},"2202-2-109-1-0","राज्य निधि",{"$f":"Post!B49","v":0},{"$f":"Post!C49","v":0},null,null,{"$f":"Post!D49","v":0},0,{"$f":"COUNTIFS(Estemate!$C$11:$C$100,D50,Estemate!$Y$11:$Y$100,\">=2004\")-M50","v":0},0,0,{"$f":"COUNTIFS(Estemate!$C$11:$C$100,D50,Estemate!$Y$11:$Y$100,\">=2004\",Estemate!$P$11:$P$100,\"Contract\")","v":0},{"$f":"COUNTIFS(Estemate!$C$11:$C$100,D50,Estemate!$Y$11:$Y$100,\"<2004\",Estemate!$P$11:$P$100,\"Contract\")","v":0},{"$f":"COUNTIFS(Estemate!$C$11:$C$100,D50,Estemate!$Y$11:$Y$100,\"<2004\")-N50","v":0}]
[{"$f":"Post!A50","v":40},"2202-2-109-1-0","राज्य निधि",{"$f":"Post!B50","v":0},{"$f":"Post!C50","v":0},null,null,{"$f":"Post!D50","v":0},0,{"$f":"COUNTIFS(Estemate!$C$11:$C$100,D51,Estemate!$Y$11:$Y$100,\">=2004\")-M51","v":0},0,0,{"$f":"COUNTIFS(Estemate!$C$11:$C$100,D51,Estemate!$Y$11:$Y$100,\">=2004\",Estemate!$P$11:$P$100,\"Contract\")","v":0},{"$f":"COUNTIFS(Estemate!$C$11:$C$100,D51,Estemate!$Y$11:$Y$100,\"<2004\",Estemate!$P$11:$P$100,\"Contract\")","v":0},{"$f":"COUNTIFS(Estemate!$C$11:$C$100,D51,Estemate!$Y$11:$Y$100,\"<2004\")-N51","v":0}]
[null,null,null,"Total",null,null,null,{"$f":"SUM(H12:H51)","v":0},{"$f":"SUM(I12:I51)","v":0},{"$f":"SUM(J12:J51)","v":0},{"$f":"SUM(K12:K51)","v":0},{"$f":"SUM(L12:L51)","v":0},{"$f":"SUM(M12:M51)","v":0},0,0]
[]
[null,null,null,null,null,null,null,null,null,{"$f":"Database!N38","v":"प्रधानाचार्य"}]
[null,null,null,null,null,null,null,null,null,{"$f":"Database!N39","v":"jktdh; mPp ek/;fed fo|ky;"}]
[null,null,null,null,null,null,null,null,null,{"$f":"Database!N40","v":"pkSxkbZa] Vksad"}]
[null,null,null,null,null,null,null,null,null,{"$f":"Database!N41","v":27306}]

{"sheet":"1B","index":25,"n_rows":36,"n_cols":11,"rows_kept":36,"cut":false,"hidden":true,"merged":[[0,0,0,8],[1,0,1,8],[2,0,2,8],[8,1,8,2],[3,6,3,7]]}
[{"$f":"Database!B1&Database!F1","v":"dk;kZy;&jktdh; mPp ek/;fed fo|ky;&pkSxkbZa] Vksad"}]
["izi=&1c"]
["Lohd`r fjDr inksa ds fo:} foHkkx esa dk;Zjr vU; dkfeZdksa dk fooj.k"]
[null,{"$f":"Database!B3","v":"eq[; ys[kk 'kh\"kZ&"},{"$f":"Database!B4","v":2202},{"$f":"Database!C4","v":"lkekU; f'k{kk"},null,null,{"$f":"Database!H4","v":"MhMhvks dksM&"},null,{"$f":"Database!H5","v":27306},null,"1- कार्मिक विभाग के परिपत्र के अनुसार"]
[null,null,{"$f":"Database!B5","v":2},{"$f":"Database!C5","v":"ek/;fed f'k{kk"},null,null,null,null,null,null,"2- तदर्थ या अस्थाई नियुक्ति"]
[null,null,{"$f":"Database!B6","v":109},{"$f":"Database!C6","v":"jktdh; mPp ek/;fed fo|ky;"},null,null,null,null,null,null,"3- पुनर्नियुक्ति"]
[null,null,{"$f":"Database!B7","v":1},{"$f":"Database!C7","v":"yMdksa ds fo|ky;"},null,null,null,null,null,null,"4- एजेंसी के माध्यम से"]
[null,null,{"$f":"Database!B8","v":0},{"$f":"Database!C8","v":"lkekU; O;;"},null,null,null,null,null,null,"5- प्रत्यक्स संविदा"]
[null,{"$f":"Database!F8","v":"Ldhe dk uke&"},null,{"$f":"Database!H8","v":"राज्य निधि"},null,null,null,null,null,null,"6- अन्य"]
["dz0la0","ys[ks dk 'kh\"kZ&eq[; 'kh\"kZ@mieq[; 'kh\"kZ@y?kq 'kh\"kZ@mi 'kh\"kZ@xzqi 'kh\"kZ","jkT; fuf/k@dsUnzh; lgk;rk","in uke","is ysoy","fjDr inksa dh la[;k","fu;qfDr dk izdkj","la[;k","dqy okf\"kZd foRrh; Hkkj (:i;ksa esa)"]
[1,2,3,4,5,6,7,8,9]
[{"$f":"IF(D12=\"\",\"\",1)","v":""},{"$f":"IF(D12=\"\",\"\",C$4&\"-\"&C$5&\"-\"&C$6&\"-\"&C$7&\"-\"&C$8)","v":""},{"$f":"IF(D12=\"\",\"\",D$9)","v":""}]
[{"$f":"IF(D13=\"\",\"\",A12+1)","v":""},{"$f":"IF(D13=\"\",\"\",C$4&\"-\"&C$5&\"-\"&C$6&\"-\"&C$7&\"-\"&C$8)","v":""},{"$f":"IF(D13=\"\",\"\",D$9)","v":""}]
[{"$f":"IF(D14=\"\",\"\",A13+1)","v":""},"",""]
["","",""]
["","",""]
["","",""]
["","",""]
["","",""]
["","",""]
["","",""]
["","",""]
["","",""]
["","",""]
["","",""]
["","",""]
["","",""]
["","",""]
["","",""]
["","",""]
[null,";ksx",null,null,null,null,null,{"$f":"SUM(H12:H30)","v":0},{"$f":"SUM(I12:I30)","v":0}]
[]
[null,null,null,null,null,null,null,null,{"$f":"Database!N38","v":"प्रधानाचार्य"}]
[null,null,null,null,null,null,null,null,{"$f":"Database!N39","v":"jktdh; mPp ek/;fed fo|ky;"}]
[null,null,null,null,null,null,null,null,{"$f":"Database!N40","v":"pkSxkbZa] Vksad"}]
[null,null,null,null,null,null,null,null,{"$f":"Database!N41","v":27306}]

{"sheet":"1C","index":26,"n_rows":41,"n_cols":7,"rows_kept":41,"cut":false,"hidden":true,"merged":[[0,0,0,6],[1,0,1,6],[2,0,2,6],[3,1,3,2]]}
[{"$f":"Database!B1&Database!F1","v":"dk;kZy;&jktdh; mPp ek/;fed fo|ky;&pkSxkbZa] Vksad"}]
["izi=&1l"]
["foHkkx esa dk;Zjr vU; dkfeZdksa dk fooj.k ¼Lohd`r inksa ds vfrfjDr½"]
[null,{"$f":"Database!B3","v":"eq[; ys[kk 'kh\"kZ&"},null,{"$f":"Database!B4","v":2202},{"$f":"Database!C4","v":"lkekU; f'k{kk"}]
[null,null,null,{"$f":"Database!B5","v":2},{"$f":"Database!C5","v":"ek/;fed f'k{kk"}]
[null,{"$f":"Database!H4","v":"MhMhvks dksM&"},{"$f":"Database!H5","v":27306},{"$f":"Database!B6","v":109},{"$f":"Database!C6","v":"jktdh; mPp ek/;fed fo|ky;"}]
[null,null,null,{"$f":"Database!B7","v":1},{"$f":"Database!C7","v":"yMdksa ds fo|ky;"}]
[null,null,null,{"$f":"Database!B8","v":0},{"$f":"Database!C8","v":"lkekU; O;;"}]
[null,null,null,{"$f":"Database!F8","v":"Ldhe dk uke&"},{"$f":"Database!H8","v":"राज्य निधि"}]
["dz0la0","ys[ks dk 'kh\"kZ&eq[; 'kh\"kZ@mieq[; 'kh\"kZ@y?kq 'kh\"kZ@mi 'kh\"kZ@xzqi 'kh\"kZ","jkT; fuf/k@dsUnzh; lgk;rk","in uke","is ysoy","la[;k","dqy okf\"kZd foRrh; Hkkj ¼:i;ksa esa½"]
[1,2,3,4,5,6,7]
[{"$f":"IF(D12=\"\",\"\",1)","v":""},{"$f":"IF(D12=\"\",\"\",D$4&\"-\"&D$5&\"-\"&D$6&\"-\"&D$7&\"-\"&D$8)","v":""},{"$f":"IF(D12=\"\",\"\",E$9)","v":""}]
[{"$f":"IF(D13=\"\",\"\",A12+1)","v":""},{"$f":"IF(D13=\"\",\"\",D$4&\"-\"&D$5&\"-\"&D$6&\"-\"&D$7&\"-\"&D$8)","v":""},{"$f":"IF(D13=\"\",\"\",E$9)","v":""}]
[{"$f":"IF(D14=\"\",\"\",A13+1)","v":""},"",""]
["","",""]
["","",""]
["","",""]
["","",""]
["","",""]
["","",""]
["","",""]
["","",""]
["","",""]
["","",""]
["","",""]
["","",""]
["","",""]
["","",""]
["","",""]
["","",""]
["","",""]
["","",""]
["","",""]
["","",""]
["","",""]
[null,";ksx",null,null,null,{"$f":"SUM(F12:F35)","v":0},{"$f":"SUM(G12:G35)","v":0}]
[]
[null,null,null,null,null,null,{"$f":"Database!N38","v":"प्रधानाचार्य"}]
[null,null,null,null,null,null,{"$f":"Database!N39","v":"jktdh; mPp ek/;fed fo|ky;"}]
[null,null,null,null,null,null,{"$f":"Database!N40","v":"pkSxkbZa] Vksad"}]
[null,null,null,null,null,null,{"$f":"Database!N41","v":27306}]

{"sheet":"2","index":27,"n_rows":38,"n_cols":9,"rows_kept":38,"cut":false,"hidden":true,"merged":[[0,0,0,8],[1,0,1,8],[2,0,2,8],[4,1,4,2],[10,8,11,8],[10,0,11,0],[10,1,11,1],[10,2,11,2],[10,3,11,3],[10,4,11,4],[10,5,10,7]]}
[{"$f":"Database!B1&Database!F1","v":"dk;kZy;&jktdh; mPp ek/;fed fo|ky;&pkSxkbZa] Vksad"}]
["izi=&2"]
["foHkkx esa Lohd`r VsfyQksu rFkk eksckbZy dk fooj.k"]
[]
[null,{"$f":"Database!B3","v":"eq[; ys[kk 'kh\"kZ&"},null,{"$f":"Database!B4","v":2202},{"$f":"Database!C4","v":"lkekU; f'k{kk"},null,null,{"$f":"Database!H4","v":"MhMhvks dksM&"},{"$f":"Database!H5","v":27306}]
[null,null,null,{"$f":"Database!B5","v":2},{"$f":"Database!C5","v":"ek/;fed f'k{kk"}]
[null,null,null,{"$f":"Database!B6","v":109},{"$f":"Database!C6","v":"jktdh; mPp ek/;fed fo|ky;"}]
[null,null,null,{"$f":"Database!B7","v":1},{"$f":"Database!C7","v":"yMdksa ds fo|ky;"}]
[null,null,null,{"$f":"Database!B8","v":0},{"$f":"Database!C8","v":"lkekU; O;;"}]
[null,null,null,{"$f":"Database!F8","v":"Ldhe dk uke&"},{"$f":"Database!H8","v":"राज्य निधि"}]
["dz0la0","ys[ks dk 'kh\"kZ&eq[; 'kh\"kZ@mieq[; 'kh\"kZ@y?kq 'kh\"kZ@mi 'kh\"kZ@xzqi 'kh\"kZ","jkT; fuf/k@dsUnzh; lgk;rk","dk;kZy; dk uke","in uke","VsfyQksu dh la[;k",null,null,"dqy okf\"kZd foRrh; Hkkj ¼:i;ksa esa½"]
[null,null,null,null,null,"dk;kZy;","fuokl","eksckbZy"]
[1,2,3,4,5,6,7,8,9]
[{"$f":"IF(D14=\"\",\"\",1)","v":""},{"$f":"IF(D14=\"\",\"\",D$5&\"-\"&D$6&\"-\"&D$7&\"-\"&D$8&\"-\"&D$9)","v":""},{"$f":"IF(D14=\"\",\"\",E$10)","v":""}]
[{"$f":"IF(D15=\"\",\"\",A14+1)","v":""},{"$f":"IF(D15=\"\",\"\",D$5&\"-\"&D$6&\"-\"&D$7&\"-\"&D$8&\"-\"&D$9)","v":""},{"$f":"IF(D15=\"\",\"\",E$10)","v":""}]
[{"$f":"IF(D16=\"\",\"\",A15+1)","v":""},"",""]
["","",""]
["","",""]
["","",""]
["","",""]
["","",""]
["","",""]
["","",""]
["","",""]
["","",""]
["","",""]
["","",""]
["","",""]
["","",""]
["","",""]
["","",""]
["","",""]
[null,";ksx",null,null,null,{"$f":"SUM(F14:F32)","v":0},{"$f":"SUM(G14:G32)","v":0},0,0]
[]
[null,null,null,null,null,null,null,null,{"$f":"Database!N38","v":"प्रधानाचार्य"}]
[null,null,null,null,null,null,null,null,{"$f":"Database!N39","v":"jktdh; mPp ek/;fed fo|ky;"}]
[null,null,null,null,null,null,null,null,{"$f":"Database!N40","v":"pkSxkbZa] Vksad"}]
[null,null,null,null,null,null,null,null,{"$f":"Database!N41","v":27306}]

{"sheet":"3","index":28,"n_rows":35,"n_cols":9,"rows_kept":35,"cut":false,"hidden":true,"merged":[[0,0,0,8],[1,0,1,8],[2,0,2,8],[4,1,4,2],[10,0,11,0],[10,1,11,1],[10,2,11,2],[10,3,11,3],[10,4,10,5],[10,6,10,8]]}
[{"$f":"Database!B1&Database!F1","v":"dk;kZy;&jktdh; mPp ek/;fed fo|ky;&pkSxkbZa] Vksad"}]
["izi=&3"]
["foHkkx esa miyC/k dEI;wVlZ ,oa fdjk;s ij fy, x, dEI;wVlZ dh lwpuk"]
[]
[null,{"$f":"Database!B3","v":"eq[; ys[kk 'kh\"kZ&"},null,{"$f":"Database!B4","v":2202},{"$f":"Database!C4","v":"lkekU; f'k{kk"},null,null,{"$f":"Database!H4","v":"MhMhvks dksM&"},{"$f":"Database!H5","v":27306}]
[null,null,null,{"$f":"Database!B5","v":2},{"$f":"Database!C5","v":"ek/;fed f'k{kk"}]
[null,null,null,{"$f":"Database!B6","v":109},{"$f":"Database!C6","v":"jktdh; mPp ek/;fed fo|ky;"}]
[null,null,null,{"$f":"Database!B7","v":1},{"$f":"Database!C7","v":"yMdksa ds fo|ky;"}]
[null,null,null,{"$f":"Database!B8","v":0},{"$f":"Database!C8","v":"lkekU; O;;"}]
[null,null,null,{"$f":"Database!F8","v":"Ldhe dk uke&"},{"$f":"Database!H8","v":"राज्य निधि"}]
["dz0la0","ys[ks dk 'kh\"kZ&eq[; 'kh\"kZ@mieq[; 'kh\"kZ@y?kq 'kh\"kZ@mi 'kh\"kZ@xzqi 'kh\"kZ","jkT; fuf/k@dsUnzh; lgk;rk","dk;kZy; dk uke","foHkkxh;",null,"fdjk;s ij fy, x, dEI;wVj"]
[null,null,null,null,"dEI;wVj la[;k","fizaVj la[;k","e'khu fon eSu la[;k","okf\"kZd Hkkj :i;ksa esa","foRr foHkkx dh vkbZ-Mh- ,oa fnukad"]
[1,2,3,4,5,6,7,8,9]
[{"$f":"IF(D14=\"\",\"\",1)","v":""},{"$f":"IF(D14=\"\",\"\",D$5&\"-\"&D$6&\"-\"&D$7&\"-\"&D$8&\"-\"&D$9)","v":""},{"$f":"IF(D14=\"\",\"\",E$10)","v":""}]
[{"$f":"IF(D15=\"\",\"\",A14+1)","v":""},{"$f":"IF(D15=\"\",\"\",D$5&\"-\"&D$6&\"-\"&D$7&\"-\"&D$8&\"-\"&D$9)","v":""},{"$f":"IF(D15=\"\",\"\",E$10)","v":""}]
[{"$f":"IF(D16=\"\",\"\",A15+1)","v":""},"",""]
["","",""]
["","",""]
["","",""]
["","",""]
["","",""]
["","",""]
["","",""]
["","",""]
["","",""]
["","",""]
["","",""]
["","",""]
["","",""]
[null,";ksx",null,null,{"$f":"SUM(E14:E29)","v":0},{"$f":"SUM(F14:F29)","v":0},{"$f":"SUM(G14:G29)","v":0},{"$f":"SUM(H14:H29)","v":0}]
[]
[null,null,null,null,null,null,null,null,{"$f":"Database!N38","v":"प्रधानाचार्य"}]
[null,null,null,null,null,null,null,null,{"$f":"Database!N39","v":"jktdh; mPp ek/;fed fo|ky;"}]
[null,null,null,null,null,null,null,null,{"$f":"Database!N40","v":"pkSxkbZa] Vksad"}]
[null,null,null,null,null,null,null,null,{"$f":"Database!N41","v":27306}]

{"sheet":"4A","index":29,"n_rows":32,"n_cols":10,"rows_kept":32,"cut":false,"hidden":true,"merged":[[0,0,0,8],[2,1,2,2],[7,2,7,3],[8,7,8,8],[9,8,10,8],[1,0,1,8],[9,0,10,0],[9,1,10,1],[9,2,10,2],[9,3,10,3],[9,4,10,4],[9,5,9,7]]}
[{"$f":"Database!B1&Database!F1","v":"dk;kZy;&jktdh; mPp ek/;fed fo|ky;&pkSxkbZa] Vksad"}]
["izi= 4 v&foHkkx esa miyC/k okguksa dh lwfp"]
[null,{"$f":"Database!B3","v":"eq[; ys[kk 'kh\"kZ&"},null,{"$f":"Database!B4","v":2202},{"$f":"Database!C4","v":"lkekU; f'k{kk"},null,{"$f":"Database!H4","v":"MhMhvks dksM&"},{"$f":"Database!H5","v":27306}]
[null,null,null,{"$f":"Database!B5","v":2},{"$f":"Database!C5","v":"ek/;fed f'k{kk"}]
[null,null,null,{"$f":"Database!B6","v":109},{"$f":"Database!C6","v":"jktdh; mPp ek/;fed fo|ky;"}]
[null,null,null,{"$f":"Database!B7","v":1},{"$f":"Database!C7","v":"yMdksa ds fo|ky;"}]
[null,null,null,{"$f":"Database!B8","v":0},{"$f":"Database!C8","v":"lkekU; O;;"}]
[null,null,{"$f":"Database!F8","v":"Ldhe dk uke&"},null,{"$f":"Database!H8","v":"राज्य निधि"}]
[]
["dz0la0","ys[ks dk 'kh\"kZ&eq[; 'kh\"kZ@mieq[; 'kh\"kZ@y?kq 'kh\"kZ@mi 'kh\"kZ@xzqi 'kh\"kZ","jkT; fuf/k@dsUnzh; lgk;rk","dk;kZy; dk uke","in uke","okguksa dk fooj.k",null,null,"foRr foHkkx dh vkbZ-Mh- ,oa fnukad"]
[null,null,null,null,null,"okguksa dk izdkj thi@ dkj@vU;","jftLVª'ku la[;k","dz; dk o\"kZ",null,"कार"]
[1,2,3,4,5,6,7,8,9,"जीप"]
[{"$f":"IF(D13=\"\",\"\",1)","v":""},{"$f":"IF(D13=\"\",\"\",D$3&\"-\"&D$4&\"-\"&D$5&\"-\"&D$6&\"-\"&D$7)","v":""},{"$f":"IF(D13=\"\",\"\",E$8)","v":""},null,null,null,null,null,null,"अन्य"]
[{"$f":"IF(D14=\"\",\"\",A13+1)","v":""},{"$f":"IF(D14=\"\",\"\",D$3&\"-\"&D$4&\"-\"&D$5&\"-\"&D$6&\"-\"&D$7)","v":""},{"$f":"IF(D14=\"\",\"\",E$8)","v":""},null,null,null,null,null,null,"बस"]
[{"$f":"IF(D15=\"\",\"\",A14+1)","v":""},"",""]
["","",""]
["","",""]
["","",""]
["","",""]
["","",""]
["","",""]
["","",""]
["","",""]
["","",""]
["","",""]
["","",""]
["","",""]
[]
[null,null,null,null,null,null,null,null,{"$f":"Database!N38","v":"प्रधानाचार्य"}]
[null,null,null,null,null,null,null,null,{"$f":"Database!N39","v":"jktdh; mPp ek/;fed fo|ky;"}]
[null,null,null,null,null,null,null,null,{"$f":"Database!N40","v":"pkSxkbZa] Vksad"}]
[null,null,null,null,null,null,null,null,{"$f":"Database!N41","v":27306}]

{"sheet":"4B","index":30,"n_rows":28,"n_cols":11,"rows_kept":28,"cut":false,"hidden":true,"merged":[[8,7,9,7],[8,8,9,8],[0,0,0,8],[1,0,1,8],[2,1,2,2],[7,2,7,3],[2,6,2,7],[8,0,9,0],[8,1,9,1],[8,2,9,2],[8,3,9,3],[8,4,8,6]]}
[{"$f":"Database!B1&Database!F1","v":"dk;kZy;&jktdh; mPp ek/;fed fo|ky;&pkSxkbZa] Vksad"}]
["izi= 4 c&foHkkx }kjk fdjk;s ij fy, x, okguksa dk fooj.k"]
[null,{"$f":"Database!B3","v":"eq[; ys[kk 'kh\"kZ&"},null,{"$f":"Database!B4","v":2202},{"$f":"Database!C4","v":"lkekU; f'k{kk"},null,{"$f":"Database!H4","v":"MhMhvks dksM&"},null,{"$f":"Database!H5","v":27306}]
[null,null,null,{"$f":"Database!B5","v":2},{"$f":"Database!C5","v":"ek/;fed f'k{kk"}]
[null,null,null,{"$f":"Database!B6","v":109},{"$f":"Database!C6","v":"jktdh; mPp ek/;fed fo|ky;"}]
[null,null,null,{"$f":"Database!B7","v":1},{"$f":"Database!C7","v":"yMdksa ds fo|ky;"}]
[null,null,null,{"$f":"Database!B8","v":0},{"$f":"Database!C8","v":"lkekU; O;;"}]
[null,null,{"$f":"Database!F8","v":"Ldhe dk uke&"},null,{"$f":"Database!H8","v":"राज्य निधि"}]
["dz0la0","ys[ks dk 'kh\"kZ&eq[; 'kh\"kZ@mieq[; 'kh\"kZ@y?kq 'kh\"kZ@mi 'kh\"kZ@xzqi 'kh\"kZ","jkT; fuf/k@dsUnzh; lgk;rk","dk;kZy; dk uke","okguksa dk fooj.k",null,null,"fiNys foRrh; o\"kZ esa O;; dh xbZ jkf'k","foRr foHkkx dh vkbZ-Mh- ,oa fnukad"]
[null,null,null,null,"okguksa dk izdkj thi@dkj@vU;","Js.kh jkT;@laHkkx@ ftyk@LFkkuh; Lrjh;","dqy la[;k"]
[1,2,3,4,5,6,7,8,9,"जीप","राज्य"]
[{"$f":"IF(D12=\"\",\"\",1)","v":""},{"$f":"IF(D12=\"\",\"\",D$3&\"-\"&D$4&\"-\"&D$5&\"-\"&D$6&\"-\"&D$7)","v":""},{"$f":"IF(D12=\"\",\"\",E$8)","v":""},null,null,null,null,null,null,"कार","सम्भाग"]
[{"$f":"IF(D13=\"\",\"\",A12+1)","v":""},{"$f":"IF(D13=\"\",\"\",D$3&\"-\"&D$4&\"-\"&D$5&\"-\"&D$6&\"-\"&D$7)","v":""},{"$f":"IF(D13=\"\",\"\",E$8)","v":""},null,null,null,null,null,null,"अन्य","जिला"]
[{"$f":"IF(D14=\"\",\"\",A13+1)","v":""},"","",null,null,null,null,null,null,"बस","स्थानीय"]
["","",""]
["","",""]
["","",""]
["","",""]
["","",""]
["","",""]
["","",""]
["","",""]
[null,";ksx",null,null,null,null,{"$f":"SUM(G12:G22)","v":0},{"$f":"SUM(H12:H22)","v":0}]
[]
[null,null,null,null,null,null,null,null,{"$f":"Database!A3","v":"प्रधानाचार्य"}]
[null,null,null,null,null,null,null,null,{"$f":"Database!A4","v":"jktdh; mPp ek/;fed fo|ky;"}]
[null,null,null,null,null,null,null,null,{"$f":"Database!A5","v":"pkSxkbZa] Vksad"}]
[null,null,null,null,null,null,null,null,{"$f":"Database!H5","v":27306}]

{"sheet":"5A","index":31,"n_rows":27,"n_cols":12,"rows_kept":27,"cut":false,"hidden":true,"merged":[[10,0,11,0],[10,1,11,1],[10,2,11,2],[10,3,11,3],[10,4,11,4],[10,6,10,9],[0,1,0,9],[1,1,1,9],[2,1,2,9],[3,1,3,9],[10,5,11,5]]}
[null,{"$f":"Database!B1&Database!F1","v":"dk;kZy;&jktdh; mPp ek/;fed fo|ky;&pkSxkbZa] Vksad"}]
[null,{"$f":"Database!B2","v":"vk; O;;d vuqeku&2024&25 rFkk la'kksf/kr vuqeku 2023&24"}]
[null,"izi= 5 v"]
[null,"¼v½ ih Mh [kkrksa esa gLrkUrfjr jkf'k ,ao mlds mi;ksx dh fLFkfr dk fooj.k "]
[null,null,{"$f":"Database!B3","v":"eq[; ys[kk 'kh\"kZ&"},{"$f":"Database!B4","v":2202},{"$f":"Database!C4","v":"lkekU; f'k{kk"},null,null,null,{"$f":"Database!H4","v":"MhMhvks dksM&"},{"$f":"Database!H5","v":27306}]
[null,null,null,{"$f":"Database!B5","v":2},{"$f":"Database!C5","v":"ek/;fed f'k{kk"}]
[null,null,null,{"$f":"Database!B6","v":109},{"$f":"Database!C6","v":"jktdh; mPp ek/;fed fo|ky;"}]
[null,null,null,{"$f":"Database!B7","v":1},{"$f":"Database!C7","v":"yMdksa ds fo|ky;"}]
[null,null,null,{"$f":"Database!B8","v":0},{"$f":"Database!C8","v":"lkekU; O;;"}]
[null,null,null,{"$f":"Database!F8","v":"Ldhe dk uke&"},{"$f":"Database!H8","v":"राज्य निधि"}]
["dz0la0","futh fu{ksi [kkrk la[;k ¼e; lEiw.kZ 'kh\"kZ lfgr½ ftlesa jkf'k gLrkUrfjr dh tkrh gS ","[kkrs dk uke ","dks\"kky; dk uke","foHkkxh; @          xSj foHkkxh;","fnukad 01-04-22 dks izkjfEHkd 'ks\"k jkf'k   ¼: lgL=ks esa½","2022 &2023"]
[null,null,null,null,null,null,"lEiw.kZZ 'kh\"kZ ftlls fnukad 01-04-22 ls 30-09-22 rd jkf'k gLrkUrfjr dh xbZ ","fnukad 01-04-22 ls 30-09-22 rd dh xb jkf'k gLrkUrfjr jkf'k  ¼: lgL=ks esa½","fnukad 01-04-22 ls 30-09-22 O;; dh xbZ jkf'k   ¼: lgL=ks esa½","fnukad 30-9-22 dk 'ks\"k ¼6┼8&9½                ¼: lgL=ks esa½","विभागीय","गैर विभागीय"]
[1,2,3,4,5,6,7,8,9,10]
[{"$f":"IF(D14=\"\",\"\",1)","v":""},null,null,null,null,null,null,null,null,{"$f":"F14+H14-I14","v":0}]
[{"$f":"IF(D15=\"\",\"\",A14+1)","v":""},null,null,null,null,null,null,null,null,{"$f":"F15+H15-I15","v":0}]
[{"$f":"IF(D16=\"\",\"\",A15+1)","v":""},null,null,null,null,null,null,null,null,0]
["",null,null,null,null,null,null,null,null,0]
["",null,null,null,null,null,null,null,null,0]
["",null,null,null,null,null,null,null,null,0]
["",null,null,null,null,null,null,null,null,0]
["",null,null,null,null,null,null,null,null,0]
[null,"Total",null,null,null,{"$f":"SUM(F14:F21)","v":0},null,{"$f":"SUM(H14:H21)","v":0},0,0]
[]
[null,null,null,null,null,null,null,null,null,{"$f":"Database!N38","v":"प्रधानाचार्य"}]
[null,null,null,null,null,null,null,null,null,{"$f":"Database!N39","v":"jktdh; mPp ek/;fed fo|ky;"}]
[null,null,null,null,null,null,null,null,null,{"$f":"Database!N40","v":"pkSxkbZa] Vksad"}]
[null,null,null,null,null,null,null,null,null,{"$f":"Database!N41","v":27306}]

{"sheet":"5B","index":32,"n_rows":27,"n_cols":13,"rows_kept":27,"cut":false,"hidden":true,"merged":[[0,1,0,10],[1,1,1,10],[2,1,2,10],[3,1,3,10],[10,0,11,0],[10,1,11,1],[10,2,11,2],[10,3,11,3],[10,4,11,4],[10,5,11,5],[26,0,26,1],[10,6,11,6],[10,7,10,9],[10,10,11,10],[22,0,22,1],[23,0,23,1],[24,0,24,1],[25,0,25,1]]}
[null,{"$f":"Database!B1&Database!F1","v":"dk;kZy;&jktdh; mPp ek/;fed fo|ky;&pkSxkbZa] Vksad"}]
[null,{"$f":"Database!B2","v":"vk; O;;d vuqeku&2024&25 rFkk la'kksf/kr vuqeku 2023&24"}]
[null,"izi= %& 5 c"]
[null,"¼c½ cSad [kkrksa dh fLFkfr dk fooj.k"]
[null,null,null,{"$f":"Database!B3","v":"eq[; ys[kk 'kh\"kZ&"},{"$f":"Database!B4","v":2202},{"$f":"Database!C4","v":"lkekU; f'k{kk"},null,null,null,{"$f":"Database!H4","v":"MhMhvks dksM&"},{"$f":"Database!H5","v":27306}]
[null,null,null,null,{"$f":"Database!B5","v":2},{"$f":"Database!C5","v":"ek/;fed f'k{kk"}]
[null,null,null,null,{"$f":"Database!B6","v":109},{"$f":"Database!C6","v":"jktdh; mPp ek/;fed fo|ky;"}]
[null,null,null,null,{"$f":"Database!B7","v":1},{"$f":"Database!C7","v":"yMdksa ds fo|ky;"}]
[null,null,null,null,{"$f":"Database!B8","v":0},{"$f":"Database!C8","v":"lkekU; O;;"}]
[null,null,null,null,{"$f":"Database!F8","v":"Ldhe dk uke&"},{"$f":"Database!H8","v":"राज्य निधि"}]
["dz0la0","cSad rFkk 'kk[kk dk uke ¼ vkbZ ,Q lh dksM lfgr ½","[kkrs dk izdkj","cSad [kkrs dk uEcj","in dk uke ftlds uke ls [kkrk gS ","foHkkxh; @ xSjfoHkkxh; ","fnukad 01-04-22 dks vo'ks\"k jkf'k","2022 &23",null,null,"cSad [kkrk [kksyus gsrw foRr foHkkx dh vkbZ-Mh- ,oa fnukad"]
[null,null,null,null,null,null,null,"fnukad 01-04-22 ls 30-09-22 rd gLrkUrfjr dh xbZ jkf'k ","fnukad 01-04-22 ls 30-09-22 rd O;; dh xbZ jkf'k ","fnukad 30-09-22 dks vo'ks\"k jkf'k ¼7┼8&9½",null,"विभागीय","गैर विभागीय"]
[1,2,3,4,5,6,7,8,9,10,11]
[{"$f":"IF(E14=\"\",\"\",1)","v":""},null,null,null,null,null,null,null,null,{"$f":"G14+H14-I14","v":0}]
[{"$f":"IF(E15=\"\",\"\",A14+1)","v":""},null,null,null,null,null,null,null,null,{"$f":"G15+H15-I15","v":0}]
[{"$f":"IF(E16=\"\",\"\",A15+1)","v":""},null,null,null,null,null,null,null,null,0]
["",null,null,null,null,null,null,null,null,0]
["",null,null,null,null,null,null,null,null,0]
["",null,null,null,null,null,null,null,null,0]
["",null,null,null,null,null,null,null,null,0]
["",null,null,null,null,null,null,null,null,0]
[null,";ksx",null,null,null,null,{"$f":"SUM(G14:G21)","v":0},{"$f":"SUM(H14:H21)","v":0},0,0]
[]
[null,null,null,null,null,null,null,null,null,null,{"$f":"Database!N38","v":"प्रधानाचार्य"}]
[null,null,null,null,null,null,null,null,null,null,{"$f":"Database!N39","v":"jktdh; mPp ek/;fed fo|ky;"}]
[null,null,null,null,null,null,null,null,null,null,{"$f":"Database!N40","v":"pkSxkbZa] Vksad"}]
[null,null,null,null,null,null,null,null,null,null,{"$f":"Database!N41","v":27306}]

{"sheet":"6","index":33,"n_rows":26,"n_cols":17,"rows_kept":26,"cut":false,"hidden":true,"merged":[[10,12,11,12],[10,13,10,14],[10,15,11,15],[0,0,0,16],[1,0,1,16],[2,0,2,16],[3,0,3,16],[10,0,11,0],[10,16,11,16],[10,1,11,1],[10,2,11,2],[10,3,10,4],[10,5,11,5],[10,6,10,7],[10,8,10,9],[4,1,4,2],[9,3,9,4],[4,14,4,15],[10,10,10,11]]}
[{"$f":"Database!B1&Database!F1","v":"dk;kZy;&jktdh; mPp ek/;fed fo|ky;&pkSxkbZa] Vksad"}]
[{"$f":"Database!B2","v":"vk; O;;d vuqeku&2024&25 rFkk la'kksf/kr vuqeku 2023&24"}]
["izi= 6"]
["cdk;k _.k ,ao vfxzeksa dk fooj.k"]
[null,{"$f":"Database!B3","v":"eq[; ys[kk 'kh\"kZ&"},null,{"$f":"Database!B4","v":2202},{"$f":"Database!C4","v":"lkekU; f'k{kk"},null,null,null,null,null,null,null,null,null,{"$f":"Database!H4","v":"MhMhvks dksM&"},null,{"$f":"Database!H5","v":27306}]
[null,null,null,{"$f":"Database!B5","v":2},{"$f":"Database!C5","v":"ek/;fed f'k{kk"}]
[null,null,null,{"$f":"Database!B6","v":109},{"$f":"Database!C6","v":"jktdh; mPp ek/;fed fo|ky;"}]
[null,null,null,{"$f":"Database!B7","v":1},{"$f":"Database!C7","v":"yMdksa ds fo|ky;"}]
[null,null,null,{"$f":"Database!B8","v":0},{"$f":"Database!C8","v":"lkekU; O;;"}]
[null,null,{"$f":"Database!F8","v":"Ldhe dk uke&"},{"$f":"Database!H8","v":"राज्य निधि"}]
["dz0la0","ys[ks dk f'k\"kZ @nh?kZ 'kh\"kZ@minh?kZ 'kh\"kZ@y?kq 'kh\"zkZ@mi 'kh\"kZ ","laLFkk dk uke","1-4-22 dks dqy cdk;k",null,"1-4-22 dks dqy cdk;k esa ls overdue","o\"kZ 22&23 esa fooj.k",null,"o\"kZ 22&23 esa _.k dh 'krksZ ds vuqlkj misf{kr olwyh (due)",null,"o\"kZ 22&23 esa ewy _.k  dh olwyh ds vuqeku",null,"o\"kZ 22&23 esa C;kt dh lEHkkfor olwyh","1-4-22 dks dqy cdk;k",null,"o\"kZ 22&23 esa _.k dh 'krksZ ds vuqlkj misf{kr olwyh ewy _.k ","o\"kZ 23&24 esa _.k fooj.k ds ctV vuqeku"]
[null,null,null,"ewy","C;kt",null,"ctV vuqeku","la'kksf/kr vuqeku","ewy","C;kt","ctV vuqeku","la'kksf/kr vuqeku",null,"ewy _.k","C;kt "]
[1,2,3,4,5,6,7,8,9,10,11,12,13,14,15,16,17]
[{"$f":"IF(C14=\"\",\"\",1)","v":""},{"$f":"IF(C14=\"\",\"\",D$5&\"-\"&D$6&\"-\"&D$7&\"-\"&D$8&\"-\"&D$9&\"-\"&D$10)","v":""}]
[{"$f":"IF(C15=\"\",\"\",A14+1)","v":""},{"$f":"IF(C15=\"\",\"\",D$5&\"-\"&D$6&\"-\"&D$7&\"-\"&D$8&\"-\"&D$9&\"-\"&D$10)","v":""}]
[{"$f":"IF(C16=\"\",\"\",A15+1)","v":""},""]
["",""]
["",""]
["",""]
["",""]
[null,";ksx",null,{"$f":"SUM(D14:D20)","v":0},{"$f":"SUM(E14:E20)","v":0},0,0,0,0,0,0,0,0,0,0,0,0]
[]
[null,null,null,null,null,null,null,null,null,null,null,null,null,null,null,{"$f":"Database!A3","v":"प्रधानाचार्य"}]
[null,null,null,null,null,null,null,null,null,null,null,null,null,null,null,{"$f":"Database!A4","v":"jktdh; mPp ek/;fed fo|ky;"}]
[null,null,null,null,null,null,null,null,null,null,null,null,null,null,null,{"$f":"Database!A5","v":"pkSxkbZa] Vksad"}]
[null,null,null,null,null,null,null,null,null,null,null,null,null,null,null,{"$f":"Database!H5","v":27306}]

{"sheet":"7","index":34,"n_rows":26,"n_cols":6,"rows_kept":26,"cut":false,"hidden":true,"merged":[[0,0,0,5],[1,0,1,5],[2,0,2,5],[3,0,3,5],[10,0,11,0],[10,1,11,1],[10,2,11,2],[10,5,11,5],[10,3,10,4]]}
[{"$f":"Database!B1&Database!F1","v":"dk;kZy;&jktdh; mPp ek/;fed fo|ky;&pkSxkbZa] Vksad"}]
[{"$f":"Database!B2","v":"vk; O;;d vuqeku&2024&25 rFkk la'kksf/kr vuqeku 2023&24"}]
["izi= 7"]
["jktdh; izR;kHkwfr ls lacaf/kr lwpuk,a"]
[null,null,{"$f":"Database!B3","v":"eq[; ys[kk 'kh\"kZ&"},{"$f":"Database!B4","v":2202},{"$f":"Database!C4","v":"lkekU; f'k{kk"}]
[null,{"$f":"Database!H4","v":"MhMhvks dksM&"},{"$f":"Database!H5","v":27306},{"$f":"Database!B5","v":2},{"$f":"Database!C5","v":"ek/;fed f'k{kk"}]
[null,null,null,{"$f":"Database!B6","v":109},{"$f":"Database!C6","v":"jktdh; mPp ek/;fed fo|ky;"}]
[null,null,null,{"$f":"Database!B7","v":1},{"$f":"Database!C7","v":"yMdksa ds fo|ky;"}]
[null,null,null,{"$f":"Database!B8","v":0},{"$f":"Database!C8","v":"lkekU; O;;"}]
[null,null,{"$f":"Database!F8","v":"Ldhe dk uke&"},{"$f":"Database!H8","v":"राज्य निधि"}]
[null,"jktdh; midze@ fuxe@ eaMy@ dk uke ","dqy izR;kHkwfr jkf'k","dqy cdk;k ns; jkf'k 30-9-2022 dks",null,"vkxkeh o\"kZ 2023&24 ds nkSjku pkgh xbZ izR;kHkwfr dh jkf'k"]
[null,null,null,"ewy","C;kt"]
[1,2,3,4,5,6]
[{"$f":"IF(B14=\"\",\"\",1)","v":""}]
[{"$f":"IF(B15=\"\",\"\",A14+1)","v":""}]
[{"$f":"IF(B16=\"\",\"\",A15+1)","v":""}]
[""]
[""]
[""]
[""]
[null,";ksx",{"$f":"SUM(C14:C20)","v":0},{"$f":"SUM(D14:D20)","v":0},0,0]
[]
[null,null,null,null,null,{"$f":"Database!N38","v":"प्रधानाचार्य"}]
[null,null,null,null,null,{"$f":"Database!N39","v":"jktdh; mPp ek/;fed fo|ky;"}]
[null,null,null,null,null,{"$f":"Database!N40","v":"pkSxkbZa] Vksad"}]
[null,null,null,null,null,{"$f":"Database!N41","v":27306}]

{"sheet":"Rent","index":35,"n_rows":29,"n_cols":10,"rows_kept":29,"cut":false,"hidden":true,"merged":[[25,8,25,9],[26,8,26,9],[27,8,27,9],[28,8,28,9],[8,7,9,7],[8,8,9,8],[8,9,9,9],[8,0,9,0],[0,0,0,9],[1,0,1,9],[2,1,2,2],[8,1,9,1],[8,2,9,2],[8,3,9,3],[8,4,9,4],[8,5,9,5],[8,6,9,6]]}
[{"$f":"Database!B1&Database!F1","v":"dk;kZy;&jktdh; mPp ek/;fed fo|ky;&pkSxkbZa] Vksad"}]
["izi=& Hkou fdjk;s dh lwpuk"]
[null,{"$f":"Database!B3","v":"eq[; ys[kk 'kh\"kZ&"},null,{"$f":"Database!B4","v":2202},{"$f":"Database!C4","v":"lkekU; f'k{kk"},null,null,{"$f":"Database!H4","v":"MhMhvks dksM&"},{"$f":"Database!H5","v":27306}]
[null,null,null,{"$f":"Database!B5","v":2},{"$f":"Database!C5","v":"ek/;fed f'k{kk"}]
[null,null,null,{"$f":"Database!B6","v":109},{"$f":"Database!C6","v":"jktdh; mPp ek/;fed fo|ky;"}]
[null,null,null,{"$f":"Database!B7","v":1},{"$f":"Database!C7","v":"yMdksa ds fo|ky;"}]
[null,null,null,{"$f":"Database!B8","v":0},{"$f":"Database!C8","v":"lkekU; O;;"}]
[null,null,null,{"$f":"Database!F8","v":"Ldhe dk uke&"},{"$f":"Database!H8","v":"राज्य निधि"}]
["dz0la0","dk;kZy; dk uke","Hkou ekfyd dk uke","Hkou fdjk;s ij ysus dh frfFk","ekfld fdjk;k","okf\"kZd jkf'k","cdk;k ,fj;j dh jkf’k",{"$f":"Database!K21","v":"lEHkkfor O;; 2023&24"},{"$f":"Database!O20","v":"O;; vuqeku 2024&25"},",fj;j jgus dk dkj.k"]
[]
[1,2,3,4,5,6,7,8,9,10]
[{"$f":"IF(B12=\"\",\"\",1)","v":""},null,null,null,null,{"$f":"E12*12","v":0},null,{"$f":"F12+G12","v":0},{"$f":"F12","v":0}]
[{"$f":"IF(B13=\"\",\"\",A12+1)","v":""},null,null,null,null,{"$f":"E13*12","v":0},null,{"$f":"F13+G13","v":0},{"$f":"F13","v":0}]
[{"$f":"IF(B14=\"\",\"\",A13+1)","v":""},null,null,null,null,0,null,0,0]
["",null,null,null,null,0,null,0,0]
["",null,null,null,null,0,null,0,0]
["",null,null,null,null,0,null,0,0]
["",null,null,null,null,0,null,0,0]
["",null,null,null,null,0,null,0,0]
["",null,null,null,null,0,null,0,0]
["",null,null,null,null,0,null,0,0]
["",null,null,null,null,0,null,0,0]
["",null,null,null,null,0,null,0,0]
[null,";ksx",null,null,null,{"$f":"SUM(F12:F23)","v":0},{"$f":"SUM(G12:G23)","v":0},0,0]
[]
[null,null,null,null,null,null,null,null,{"$f":"Database!N38","v":"प्रधानाचार्य"}]
[null,null,null,null,null,null,null,null,{"$f":"Database!N39","v":"jktdh; mPp ek/;fed fo|ky;"}]
[null,null,null,null,null,null,null,null,{"$f":"Database!N40","v":"pkSxkbZa] Vksad"}]
[null,null,null,null,null,null,null,null,{"$f":"Database!N41","v":27306}]

{"sheet":"CCA","index":36,"n_rows":116,"n_cols":8,"rows_kept":116,"cut":false,"hidden":true,"merged":[[111,0,111,1],[112,0,112,1],[113,0,113,1],[114,0,114,1],[115,0,115,1],[0,2,0,7],[1,1,1,7],[2,1,2,2],[7,2,7,3],[7,4,7,5],[0,0,0,1]]}
[{"$f":"Database!B1","v":"dk;kZy;&"},null,{"$f":"Database!F1","v":"jktdh; mPp ek/;fed fo|ky;&pkSxkbZa] Vksad"}]
[null," 'kgjh HkRrk fooj.k"]
[null,{"$f":"Database!B3","v":"eq[; ys[kk 'kh\"kZ&"},null,{"$f":"Database!B4","v":2202},{"$f":"Database!C4","v":"lkekU; f'k{kk"},null,null,{"$f":"Database!H4","v":"MhMhvks dksM&"}]
[null,null,null,{"$f":"Database!B5","v":2},{"$f":"Database!C5","v":"ek/;fed f'k{kk"},null,null,{"$f":"Database!H5","v":27306}]
[null,null,null,{"$f":"Database!B6","v":109},{"$f":"Database!C6","v":"jktdh; mPp ek/;fed fo|ky;"}]
[null,null,null,{"$f":"Database!B7","v":1},{"$f":"Database!C7","v":"yMdksa ds fo|ky;"}]
[null,null,null,{"$f":"Database!B8","v":0},{"$f":"Database!C8","v":"lkekU; O;;"}]
[null,null,{"$f":"Database!F8","v":"Ldhe dk uke&"},null,{"$f":"Database!H8","v":"राज्य निधि"}]
["Ø-la-","DDO CODE","uke dkfeZd","in","is&ysoy","ewy osru"," 'kgjh HkRrs dh nj","okf\"kZd O;;"]
[1,2,3,4,5,6,7,8]
[{"$f":"IF(B11=\"\",\"\",1)","v":""},{"$f":"Estemate!B11","v":""},{"$f":"Estemate!G11","v":0},{"$f":"Estemate!C11","v":0},{"$f":"Estemate!L11","v":0},{"$f":"Estemate!M11","v":0},null,{"$f":"G11*12","v":0}]
[{"$f":"IF(B12=\"\",\"\",A11+1)","v":""},{"$f":"Estemate!B12","v":""},{"$f":"Estemate!G12","v":0},{"$f":"Estemate!C12","v":0},{"$f":"Estemate!L12","v":0},{"$f":"Estemate!M12","v":0},null,{"$f":"G12*12","v":0}]
[{"$f":"IF(B13=\"\",\"\",A12+1)","v":""},{"$f":"Estemate!B13","v":""},{"$f":"Estemate!G13","v":0},{"$f":"Estemate!C13","v":0},{"$f":"Estemate!L13","v":0},{"$f":"Estemate!M13","v":0},null,{"$f":"G13*12","v":0}]
["",{"$f":"Estemate!B14","v":""},{"$f":"Estemate!G14","v":0},{"$f":"Estemate!C14","v":0},{"$f":"Estemate!L14","v":0},{"$f":"Estemate!M14","v":0},null,{"$f":"G14*12","v":0}]
["",{"$f":"Estemate!B15","v":""},{"$f":"Estemate!G15","v":0},{"$f":"Estemate!C15","v":0},{"$f":"Estemate!L15","v":0},{"$f":"Estemate!M15","v":0},null,{"$f":"G15*12","v":0}]
["",{"$f":"Estemate!B16","v":""},{"$f":"Estemate!G16","v":0},{"$f":"Estemate!C16","v":0},{"$f":"Estemate!L16","v":0},{"$f":"Estemate!M16","v":0},null,0]
["",{"$f":"Estemate!B17","v":""},{"$f":"Estemate!G17","v":0},{"$f":"Estemate!C17","v":0},{"$f":"Estemate!L17","v":0},{"$f":"Estemate!M17","v":0},null,0]
["",{"$f":"Estemate!B18","v":""},{"$f":"Estemate!G18","v":0},{"$f":"Estemate!C18","v":0},{"$f":"Estemate!L18","v":0},{"$f":"Estemate!M18","v":0},null,0]
["",{"$f":"Estemate!B19","v":""},{"$f":"Estemate!G19","v":0},{"$f":"Estemate!C19","v":0},{"$f":"Estemate!L19","v":0},{"$f":"Estemate!M19","v":0},null,0]
["",{"$f":"Estemate!B20","v":""},{"$f":"Estemate!G20","v":0},{"$f":"Estemate!C20","v":0},{"$f":"Estemate!L20","v":0},{"$f":"Estemate!M20","v":0},null,0]
["",{"$f":"Estemate!B21","v":""},{"$f":"Estemate!G21","v":0},{"$f":"Estemate!C21","v":0},{"$f":"Estemate!L21","v":0},{"$f":"Estemate!M21","v":0},null,0]
["",{"$f":"Estemate!B22","v":""},{"$f":"Estemate!G22","v":0},{"$f":"Estemate!C22","v":0},{"$f":"Estemate!L22","v":0},{"$f":"Estemate!M22","v":0},null,0]
["",{"$f":"Estemate!B23","v":""},{"$f":"Estemate!G23","v":0},{"$f":"Estemate!C23","v":0},{"$f":"Estemate!L23","v":0},{"$f":"Estemate!M23","v":0},null,0]
["",{"$f":"Estemate!B24","v":""},{"$f":"Estemate!G24","v":0},{"$f":"Estemate!C24","v":0},{"$f":"Estemate!L24","v":0},{"$f":"Estemate!M24","v":0},null,0]
["",{"$f":"Estemate!B25","v":""},{"$f":"Estemate!G25","v":0},{"$f":"Estemate!C25","v":0},{"$f":"Estemate!L25","v":0},{"$f":"Estemate!M25","v":0},null,0]
["",{"$f":"Estemate!B26","v":""},{"$f":"Estemate!G26","v":0},{"$f":"Estemate!C26","v":0},{"$f":"Estemate!L26","v":0},{"$f":"Estemate!M26","v":0},null,0]
["",{"$f":"Estemate!B27","v":""},{"$f":"Estemate!G27","v":0},{"$f":"Estemate!C27","v":0},{"$f":"Estemate!L27","v":0},{"$f":"Estemate!M27","v":0},null,0]
["",{"$f":"Estemate!B28","v":""},{"$f":"Estemate!G28","v":0},{"$f":"Estemate!C28","v":0},{"$f":"Estemate!L28","v":0},{"$f":"Estemate!M28","v":0},null,0]
["",{"$f":"Estemate!B29","v":""},{"$f":"Estemate!G29","v":0},{"$f":"Estemate!C29","v":0},{"$f":"Estemate!L29","v":0},{"$f":"Estemate!M29","v":0},null,0]
["",{"$f":"Estemate!B30","v":""},{"$f":"Estemate!G30","v":0},{"$f":"Estemate!C30","v":0},{"$f":"Estemate!L30","v":0},{"$f":"Estemate!M30","v":0},null,0]
["",{"$f":"Estemate!B31","v":""},{"$f":"Estemate!G31","v":0},{"$f":"Estemate!C31","v":0},{"$f":"Estemate!L31","v":0},{"$f":"Estemate!M31","v":0},null,0]
["",{"$f":"Estemate!B32","v":""},{"$f":"Estemate!G32","v":0},{"$f":"Estemate!C32","v":0},{"$f":"Estemate!L32","v":0},{"$f":"Estemate!M32","v":0},null,0]
["",{"$f":"Estemate!B33","v":""},{"$f":"Estemate!G33","v":0},{"$f":"Estemate!C33","v":0},{"$f":"Estemate!L33","v":0},{"$f":"Estemate!M33","v":0},null,0]
["",{"$f":"Estemate!B34","v":""},{"$f":"Estemate!G34","v":0},{"$f":"Estemate!C34","v":0},{"$f":"Estemate!L34","v":0},{"$f":"Estemate!M34","v":0},null,0]
["",{"$f":"Estemate!B35","v":""},{"$f":"Estemate!G35","v":0},{"$f":"Estemate!C35","v":0},{"$f":"Estemate!L35","v":0},{"$f":"Estemate!M35","v":0},null,0]
["",{"$f":"Estemate!B36","v":""},{"$f":"Estemate!G36","v":0},{"$f":"Estemate!C36","v":0},{"$f":"Estemate!L36","v":0},{"$f":"Estemate!M36","v":0},null,0]
["",{"$f":"Estemate!B37","v":""},{"$f":"Estemate!G37","v":0},{"$f":"Estemate!C37","v":0},{"$f":"Estemate!L37","v":0},{"$f":"Estemate!M37","v":0},null,0]
["",{"$f":"Estemate!B38","v":""},{"$f":"Estemate!G38","v":0},{"$f":"Estemate!C38","v":0},{"$f":"Estemate!L38","v":0},{"$f":"Estemate!M38","v":0},null,0]
["",{"$f":"Estemate!B39","v":""},{"$f":"Estemate!G39","v":0},{"$f":"Estemate!C39","v":0},{"$f":"Estemate!L39","v":0},{"$f":"Estemate!M39","v":0},null,0]
["",{"$f":"Estemate!B40","v":""},{"$f":"Estemate!G40","v":0},{"$f":"Estemate!C40","v":0},{"$f":"Estemate!L40","v":0},{"$f":"Estemate!M40","v":0},null,0]
["",{"$f":"Estemate!B41","v":""},{"$f":"Estemate!G41","v":0},{"$f":"Estemate!C41","v":0},{"$f":"Estemate!L41","v":0},{"$f":"Estemate!M41","v":0},null,0]
["",{"$f":"Estemate!B42","v":""},{"$f":"Estemate!G42","v":0},{"$f":"Estemate!C42","v":0},{"$f":"Estemate!L42","v":0},{"$f":"Estemate!M42","v":0},null,0]
["",{"$f":"Estemate!B43","v":""},{"$f":"Estemate!G43","v":0},{"$f":"Estemate!C43","v":0},{"$f":"Estemate!L43","v":0},{"$f":"Estemate!M43","v":0},null,0]
["",{"$f":"Estemate!B44","v":""},{"$f":"Estemate!G44","v":0},{"$f":"Estemate!C44","v":0},{"$f":"Estemate!L44","v":0},{"$f":"Estemate!M44","v":0},null,0]
["",{"$f":"Estemate!B45","v":""},{"$f":"Estemate!G45","v":0},{"$f":"Estemate!C45","v":0},{"$f":"Estemate!L45","v":0},{"$f":"Estemate!M45","v":0},null,0]
["",{"$f":"Estemate!B46","v":""},{"$f":"Estemate!G46","v":0},{"$f":"Estemate!C46","v":0},{"$f":"Estemate!L46","v":0},{"$f":"Estemate!M46","v":0},null,0]
["",{"$f":"Estemate!B47","v":""},{"$f":"Estemate!G47","v":0},{"$f":"Estemate!C47","v":0},{"$f":"Estemate!L47","v":0},{"$f":"Estemate!M47","v":0},null,0]
["",{"$f":"Estemate!B48","v":""},{"$f":"Estemate!G48","v":0},{"$f":"Estemate!C48","v":0},{"$f":"Estemate!L48","v":0},{"$f":"Estemate!M48","v":0},null,0]
["",{"$f":"Estemate!B49","v":""},{"$f":"Estemate!G49","v":0},{"$f":"Estemate!C49","v":0},{"$f":"Estemate!L49","v":0},{"$f":"Estemate!M49","v":0},null,0]
["",{"$f":"Estemate!B50","v":""},{"$f":"Estemate!G50","v":0},{"$f":"Estemate!C50","v":0},{"$f":"Estemate!L50","v":0},{"$f":"Estemate!M50","v":0},null,0]
["",{"$f":"Estemate!B51","v":""},{"$f":"Estemate!G51","v":0},{"$f":"Estemate!C51","v":0},{"$f":"Estemate!L51","v":0},{"$f":"Estemate!M51","v":0},null,0]
["",{"$f":"Estemate!B52","v":""},{"$f":"Estemate!G52","v":0},{"$f":"Estemate!C52","v":0},{"$f":"Estemate!L52","v":0},{"$f":"Estemate!M52","v":0},null,0]
["",{"$f":"Estemate!B53","v":""},{"$f":"Estemate!G53","v":0},{"$f":"Estemate!C53","v":0},{"$f":"Estemate!L53","v":0},{"$f":"Estemate!M53","v":0},null,0]
["",{"$f":"Estemate!B54","v":""},{"$f":"Estemate!G54","v":0},{"$f":"Estemate!C54","v":0},{"$f":"Estemate!L54","v":0},{"$f":"Estemate!M54","v":0},null,0]
["",{"$f":"Estemate!B55","v":""},{"$f":"Estemate!G55","v":0},{"$f":"Estemate!C55","v":0},{"$f":"Estemate!L55","v":0},{"$f":"Estemate!M55","v":0},null,0]
["",{"$f":"Estemate!B56","v":""},{"$f":"Estemate!G56","v":0},{"$f":"Estemate!C56","v":0},{"$f":"Estemate!L56","v":0},{"$f":"Estemate!M56","v":0},null,0]
["",{"$f":"Estemate!B57","v":""},{"$f":"Estemate!G57","v":0},{"$f":"Estemate!C57","v":0},{"$f":"Estemate!L57","v":0},{"$f":"Estemate!M57","v":0},null,0]
["",{"$f":"Estemate!B58","v":""},{"$f":"Estemate!G58","v":0},{"$f":"Estemate!C58","v":0},{"$f":"Estemate!L58","v":0},{"$f":"Estemate!M58","v":0},null,0]
["",{"$f":"Estemate!B59","v":""},{"$f":"Estemate!G59","v":0},{"$f":"Estemate!C59","v":0},{"$f":"Estemate!L59","v":0},{"$f":"Estemate!M59","v":0},null,0]
["",{"$f":"Estemate!B60","v":""},{"$f":"Estemate!G60","v":0},{"$f":"Estemate!C60","v":0},{"$f":"Estemate!L60","v":0},{"$f":"Estemate!M60","v":0},null,0]
["",{"$f":"Estemate!B61","v":""},{"$f":"Estemate!G61","v":0},{"$f":"Estemate!C61","v":0},{"$f":"Estemate!L61","v":0},{"$f":"Estemate!M61","v":0},null,0]
["",{"$f":"Estemate!B62","v":""},{"$f":"Estemate!G62","v":0},{"$f":"Estemate!C62","v":0},{"$f":"Estemate!L62","v":0},{"$f":"Estemate!M62","v":0},null,0]
["",{"$f":"Estemate!B63","v":""},{"$f":"Estemate!G63","v":0},{"$f":"Estemate!C63","v":0},{"$f":"Estemate!L63","v":0},{"$f":"Estemate!M63","v":0},null,0]
["",{"$f":"Estemate!B64","v":""},{"$f":"Estemate!G64","v":0},{"$f":"Estemate!C64","v":0},{"$f":"Estemate!L64","v":0},{"$f":"Estemate!M64","v":0},null,0]
["",{"$f":"Estemate!B65","v":""},{"$f":"Estemate!G65","v":0},{"$f":"Estemate!C65","v":0},{"$f":"Estemate!L65","v":0},{"$f":"Estemate!M65","v":0},null,0]
["",{"$f":"Estemate!B66","v":""},{"$f":"Estemate!G66","v":0},{"$f":"Estemate!C66","v":0},{"$f":"Estemate!L66","v":0},{"$f":"Estemate!M66","v":0},null,0]
["",{"$f":"Estemate!B67","v":""},{"$f":"Estemate!G67","v":0},{"$f":"Estemate!C67","v":0},{"$f":"Estemate!L67","v":0},{"$f":"Estemate!M67","v":0},null,0]
["",{"$f":"Estemate!B68","v":""},{"$f":"Estemate!G68","v":0},{"$f":"Estemate!C68","v":0},{"$f":"Estemate!L68","v":0},{"$f":"Estemate!M68","v":0},null,0]
["",{"$f":"Estemate!B69","v":""},{"$f":"Estemate!G69","v":0},{"$f":"Estemate!C69","v":0},{"$f":"Estemate!L69","v":0},{"$f":"Estemate!M69","v":0},null,0]
["",{"$f":"Estemate!B70","v":""},{"$f":"Estemate!G70","v":0},{"$f":"Estemate!C70","v":0},{"$f":"Estemate!L70","v":0},{"$f":"Estemate!M70","v":0},null,0]
["",{"$f":"Estemate!B71","v":""},{"$f":"Estemate!G71","v":0},{"$f":"Estemate!C71","v":0},{"$f":"Estemate!L71","v":0},{"$f":"Estemate!M71","v":0},null,0]
["",{"$f":"Estemate!B72","v":""},{"$f":"Estemate!G72","v":0},{"$f":"Estemate!C72","v":0},{"$f":"Estemate!L72","v":0},{"$f":"Estemate!M72","v":0},null,0]
["",{"$f":"Estemate!B73","v":""},{"$f":"Estemate!G73","v":0},{"$f":"Estemate!C73","v":0},{"$f":"Estemate!L73","v":0},{"$f":"Estemate!M73","v":0},null,0]
["",{"$f":"Estemate!B74","v":""},{"$f":"Estemate!G74","v":0},{"$f":"Estemate!C74","v":0},{"$f":"Estemate!L74","v":0},{"$f":"Estemate!M74","v":0},null,0]
["",{"$f":"Estemate!B75","v":""},{"$f":"Estemate!G75","v":0},{"$f":"Estemate!C75","v":0},{"$f":"Estemate!L75","v":0},{"$f":"Estemate!M75","v":0},null,0]
["",{"$f":"Estemate!B76","v":""},{"$f":"Estemate!G76","v":0},{"$f":"Estemate!C76","v":0},{"$f":"Estemate!L76","v":0},{"$f":"Estemate!M76","v":0},null,0]
[{"$f":"IF(B77=\"\",\"\",A76+1)","v":""},{"$f":"Estemate!B77","v":""},{"$f":"Estemate!G77","v":0},{"$f":"Estemate!C77","v":0},{"$f":"Estemate!L77","v":0},{"$f":"Estemate!M77","v":0},null,0]
["",{"$f":"Estemate!B78","v":""},{"$f":"Estemate!G78","v":0},{"$f":"Estemate!C78","v":0},{"$f":"Estemate!L78","v":0},{"$f":"Estemate!M78","v":0},null,{"$f":"G78*12","v":0}]
["",{"$f":"Estemate!B79","v":""},{"$f":"Estemate!G79","v":0},{"$f":"Estemate!C79","v":0},{"$f":"Estemate!L79","v":0},{"$f":"Estemate!M79","v":0},null,0]
["",{"$f":"Estemate!B80","v":""},{"$f":"Estemate!G80","v":0},{"$f":"Estemate!C80","v":0},{"$f":"Estemate!L80","v":0},{"$f":"Estemate!M80","v":0},null,0]
["",{"$f":"Estemate!B81","v":""},{"$f":"Estemate!G81","v":0},{"$f":"Estemate!C81","v":0},{"$f":"Estemate!L81","v":0},{"$f":"Estemate!M81","v":0},null,0]
["",{"$f":"Estemate!B82","v":""},{"$f":"Estemate!G82","v":0},{"$f":"Estemate!C82","v":0},{"$f":"Estemate!L82","v":0},{"$f":"Estemate!M82","v":0},null,0]
["",{"$f":"Estemate!B83","v":""},{"$f":"Estemate!G83","v":0},{"$f":"Estemate!C83","v":0},{"$f":"Estemate!L83","v":0},{"$f":"Estemate!M83","v":0},null,0]
["",{"$f":"Estemate!B84","v":""},{"$f":"Estemate!G84","v":0},{"$f":"Estemate!C84","v":0},{"$f":"Estemate!L84","v":0},{"$f":"Estemate!M84","v":0},null,0]
["",{"$f":"Estemate!B85","v":""},{"$f":"Estemate!G85","v":0},{"$f":"Estemate!C85","v":0},{"$f":"Estemate!L85","v":0},{"$f":"Estemate!M85","v":0},null,0]
["",{"$f":"Estemate!B86","v":""},{"$f":"Estemate!G86","v":0},{"$f":"Estemate!C86","v":0},{"$f":"Estemate!L86","v":0},{"$f":"Estemate!M86","v":0},null,0]
["",{"$f":"Estemate!B87","v":""},{"$f":"Estemate!G87","v":0},{"$f":"Estemate!C87","v":0},{"$f":"Estemate!L87","v":0},{"$f":"Estemate!M87","v":0},null,0]
["",{"$f":"Estemate!B88","v":""},{"$f":"Estemate!G88","v":0},{"$f":"Estemate!C88","v":0},{"$f":"Estemate!L88","v":0},{"$f":"Estemate!M88","v":0},null,0]
["",{"$f":"Estemate!B89","v":""},{"$f":"Estemate!G89","v":0},{"$f":"Estemate!C89","v":0},{"$f":"Estemate!L89","v":0},{"$f":"Estemate!M89","v":0},null,0]
["",{"$f":"Estemate!B90","v":""},{"$f":"Estemate!G90","v":0},{"$f":"Estemate!C90","v":0},{"$f":"Estemate!L90","v":0},{"$f":"Estemate!M90","v":0},null,0]
["",{"$f":"Estemate!B91","v":""},{"$f":"Estemate!G91","v":0},{"$f":"Estemate!C91","v":0},{"$f":"Estemate!L91","v":0},{"$f":"Estemate!M91","v":0},null,0]
["",{"$f":"Estemate!B92","v":""},{"$f":"Estemate!G92","v":0},{"$f":"Estemate!C92","v":0},{"$f":"Estemate!L92","v":0},{"$f":"Estemate!M92","v":0},null,0]
["",{"$f":"Estemate!B93","v":""},{"$f":"Estemate!G93","v":0},{"$f":"Estemate!C93","v":0},{"$f":"Estemate!L93","v":0},{"$f":"Estemate!M93","v":0},null,0]
["",{"$f":"Estemate!B94","v":""},{"$f":"Estemate!G94","v":0},{"$f":"Estemate!C94","v":0},{"$f":"Estemate!L94","v":0},{"$f":"Estemate!M94","v":0},null,0]
["",{"$f":"Estemate!B95","v":""},{"$f":"Estemate!G95","v":0},{"$f":"Estemate!C95","v":0},{"$f":"Estemate!L95","v":0},{"$f":"Estemate!M95","v":0},null,0]
["",{"$f":"Estemate!B96","v":""},{"$f":"Estemate!G96","v":0},{"$f":"Estemate!C96","v":0},{"$f":"Estemate!L96","v":0},{"$f":"Estemate!M96","v":0},null,0]
["",{"$f":"Estemate!B97","v":""},{"$f":"Estemate!G97","v":0},{"$f":"Estemate!C97","v":0},{"$f":"Estemate!L97","v":0},{"$f":"Estemate!M97","v":0},null,0]
["",{"$f":"Estemate!B98","v":""},{"$f":"Estemate!G98","v":0},{"$f":"Estemate!C98","v":0},{"$f":"Estemate!L98","v":0},{"$f":"Estemate!M98","v":0},null,0]
["",{"$f":"Estemate!B99","v":""},{"$f":"Estemate!G99","v":0},{"$f":"Estemate!C99","v":0},{"$f":"Estemate!L99","v":0},{"$f":"Estemate!M99","v":0},null,0]
["",{"$f":"Estemate!B100","v":""},{"$f":"Estemate!G100","v":0},{"$f":"Estemate!C100","v":0},{"$f":"Estemate!L100","v":0},{"$f":"Estemate!M100","v":0},null,0]
["",{"$f":"Estemate!B101","v":""},{"$f":"Estemate!G101","v":0},{"$f":"Estemate!C101","v":0},{"$f":"Estemate!L101","v":0},{"$f":"Estemate!M101","v":0},null,0]
["",{"$f":"Estemate!B102","v":""},{"$f":"Estemate!G102","v":0},{"$f":"Estemate!C102","v":0},{"$f":"Estemate!L102","v":0},{"$f":"Estemate!M102","v":0},null,0]
["",{"$f":"Estemate!B103","v":""},{"$f":"Estemate!G103","v":0},{"$f":"Estemate!C103","v":0},{"$f":"Estemate!L103","v":0},{"$f":"Estemate!M103","v":0},null,0]
["",{"$f":"Estemate!B104","v":""},{"$f":"Estemate!G104","v":0},{"$f":"Estemate!C104","v":0},{"$f":"Estemate!L104","v":0},{"$f":"Estemate!M104","v":0},null,0]
["",{"$f":"Estemate!B105","v":""},{"$f":"Estemate!G105","v":0},{"$f":"Estemate!C105","v":0},{"$f":"Estemate!L105","v":0},{"$f":"Estemate!M105","v":0},null,0]
["",{"$f":"Estemate!B106","v":""},{"$f":"Estemate!G106","v":0},{"$f":"Estemate!C106","v":0},{"$f":"Estemate!L106","v":0},{"$f":"Estemate!M106","v":0},null,0]
["",{"$f":"Estemate!B107","v":""},{"$f":"Estemate!G107","v":0},{"$f":"Estemate!C107","v":0},{"$f":"Estemate!L107","v":0},{"$f":"Estemate!M107","v":0},null,0]
["",{"$f":"Estemate!B108","v":""},{"$f":"Estemate!G108","v":0},{"$f":"Estemate!C108","v":0},{"$f":"Estemate!L108","v":0},{"$f":"Estemate!M108","v":0},null,0]
["",{"$f":"Estemate!B109","v":""},{"$f":"Estemate!G109","v":0},{"$f":"Estemate!C109","v":0},{"$f":"Estemate!L109","v":0},{"$f":"Estemate!M109","v":0},null,0]
[{"$f":"IF(B110=\"\",\"\",A109+1)","v":""},{"$f":"Estemate!B110","v":""},{"$f":"Estemate!G110","v":0},{"$f":"Estemate!C110","v":0},{"$f":"Estemate!L110","v":0},{"$f":"Estemate!M110","v":0},null,0]
[null,null,";ksx",null,null,null,null,{"$f":"SUM(H11:H110)","v":0}]
[]
[null,null,null,null,null,null,{"$f":"Database!N38","v":"प्रधानाचार्य"}]
[null,null,null,null,null,null,{"$f":"Database!N39","v":"jktdh; mPp ek/;fed fo|ky;"}]
[null,null,null,null,null,null,{"$f":"Database!N40","v":"pkSxkbZa] Vksad"}]
[null,null,null,null,null,null,{"$f":"Database!N41","v":27306}]