{"text_format":"1","workbook":"xlsx","n_sheets":12,"sheets":["Home","Report Budget","Budget Allotment(21-22","Budget Head","table","Report Bill Register","Monthly report","Bill Register 20-21","FINAL DATA","Inst.","TV Pending ","error"],"not_rendered":{"charts":0,"images":0,"macros":1,"external_links":0,"defined_names":30,"comments":0,"pivot_tables":3},"unopened":[],"bounds":{"document_bytes":16777216,"sheet_cells":100000,"rows_first":2000,"rows_last":500,"rows_between":2000,"halvings":0,"cell_chars":16384,"cell_head_chars":4096},"cells_cut":0,"cells_raw":0,"read":"whole","date_system":"1900"}

{"sheet":"Home","index":0,"n_rows":25,"n_cols":18,"rows_kept":25,"cut":false,"hidden":false,"merged":[[1,0,3,14],[5,1,5,13],[10,1,11,6],[10,8,11,13],[12,1,12,13],[7,1,8,13],[4,9,4,14],[20,1,21,6],[20,9,21,13],[17,1,18,6],[14,9,15,13],[17,9,18,13],[14,1,15,6]]}
[]
["Design & Prepaired by Pravesh Kumar Sharma, Accountant, write mail to  praveshbkn@gmail.com for further query/error/updation/suggestion"]
[]
[]
[null,null,null,null,null,null,null,null,null,"Instruction-How to use this sheet"]
[null,"Data Entry"]
[]
[null,"Add/Update Office Name/Budget Head"]
[]
[]
[null,"Budget  Register",null,null,null,null,null,null,"Bill Register",null,null,null,null,null,null,null,null,"Design & Prepaired by Pravesh Kumar Sharma, Accountant, write mail to  praveshbkn@gmail.com for further query/error/updation/suggestion"]
[]
[null,"Report/Query"]
[]
[null,"View all type of queries based on \n\"Budget Register\"",null,null,null,null,null,null,null,"Budget Register "]
[]
[]
[null,"View all type of queries based on \n\"Bill Register\"",null,null,null,null,null,null,null,"Bill Register"]
[]
[]
[null,"View expenditure report on month end basis",null,null,null,null,null,null,null,"Monthly Report (like GA 19)"]
[]
[]
[]
[null,null,"2021-03-18"]

{"sheet":"Report Budget","index":1,"n_rows":4,"n_cols":7,"rows_kept":4,"cut":false,"hidden":false,"merged":[[0,6,0,8]]}
["Treatment of Budget","(Multiple Items)",null,null,null,null,"Home-Back"]
[]
["Budget Head","Demand No.","Object Head","Transaction Date","Sum of Amt."]
["Grand Total"]

{"sheet":"Budget Allotment(21-22","index":2,"n_rows":152,"n_cols":12,"rows_kept":152,"cut":false,"hidden":false,"merged":[[8,4,8,5],[2,5,2,9],[4,4,4,6],[7,2,7,9],[7,0,7,1],[3,0,3,9],[4,0,4,2],[0,0,0,6],[0,7,0,9],[9,0,9,9],[5,7,5,9],[5,0,5,1],[5,2,5,3],[5,4,5,5],[6,7,6,9],[6,4,6,5],[6,2,6,3],[6,0,6,1],[1,0,1,9],[2,0,2,2],[8,0,8,1],[8,2,8,3],[8,7,8,9]]}
["¨Use only unhighlighted cells (i.e. white colour cells) ¨¨\nDesign & prepared by Pravesh Kumar Sharma-",null,null,null,null,null,null,"Home-Back"]
[]
["Budget Head & Object Head",null,null,"2202-02-109-27-02","01","123-secondary education"]
[]
[{"$f":"CONCATENATE(\"Total Exp.for Budget Head\",\" \",D3,\" \",\"&\",\" \",\"Obj.Head\",\" \",E3)","v":"Total Exp.for Budget Head 2202-02-109-27-02 & Obj.Head 01"},null,null,{"$f":"SUMPRODUCT((('Bill Register 20-21'!$D$3:$D$1119=$D$3)*('Bill Register 20-21'!$E$3:$E$1119=$E$3)*Gross_Amount))","v":0},{"$f":"INDEX(Object_Code_BILL,MATCH('Budget Allotment(21-22'!$E$3,Object_Code,0))","v":"Salaries"},null,null,"Demand No.",null,{"$f":"INDEX(table!$B$104:$B$250,MATCH('Budget Allotment(21-22'!D3,table!$D$104:$D$250,0))","v":24}]
["Received",null,"Allotment",null,"Withdrawal",null,"Surrendar","Balance Avaible"]
[{"$f":"SUMPRODUCT(((Budget_Head_Cash=$D$3)*(Object_code_cash=$E$3)*(Usues_budget=$A$6)*Budget_Allotment_cash))","v":0},null,{"$f":"SUMPRODUCT(((Budget_Head_Cash=$D$3)*(Object_code_cash=$E$3)*(Usues_budget=$C$6)*Budget_Allotment_cash))","v":0},null,{"$f":"SUMPRODUCT(((Budget_Head_Cash=$D$3)*(Object_code_cash=$E$3)*(Usues_budget=$E$6)*Budget_Allotment_cash))","v":0},null,{"$f":"SUMPRODUCT(((Budget_Head_Cash=$D$3)*(Object_code_cash=$E$3)*(Usues_budget=$G$6)*Budget_Allotment_cash))","v":0},{"$f":"A7-C7+E7+G7","v":0}]
["Selected Officewise",null,{"$f":"CONCATENATE(F3,\"  \",\",Budget head\",\"  \",D3,\"  \",\"& object head\",\"  \",E3)","v":"123-secondary education  ,Budget head  2202-02-109-27-02  & object head  01"}]
[{"$f":"SUMPRODUCT(((Budget_Head_Cash=$D$3)*(Object_code_cash=$E$3)*(Usues_budget=$A$6)*($D$12:$D$143=$F$3)*Budget_Allotment_cash))","v":0},null,{"$f":"SUMPRODUCT(((Budget_Head_Cash=$D$3)*(Object_code_cash=$E$3)*(Usues_budget=$C$6)*($D$12:$D$143=$F$3)*Budget_Allotment_cash))","v":0},null,{"$f":"SUMPRODUCT(((Budget_Head_Cash=$D$3)*(Object_code_cash=$E$3)*(Usues_budget=$E$6)*($D$12:$D$143=$F$3)*Budget_Allotment_cash))","v":0},null,{"$f":"SUMPRODUCT(((Budget_Head_Cash=$D$3)*(Object_code_cash=$E$3)*(Usues_budget=$G$6)*($D$12:$D$143=$F$3)*Budget_Allotment_cash))","v":0},{"$f":"A9-C9-G9+E9","v":0}]
[]
["S.N.","Budget Head","Demand No.","Name of Office","Object Head","Details of Object Head","Transaction Date","Treatment of Budget","Code","Amt.",null,"Used Budget Head List"]
[1,null,{"$f":"IF(B12=\"\",\"\",INDEX(table!$B$104:$B$250,MATCH('Budget Allotment(21-22'!B12,table!$D$104:$D$250,0)))","v":""},null,null,{"$f":"IF(B12=\"\",\"\",INDEX(Object_Code_BILL,MATCH('Budget Allotment(21-22'!E12,Object_Code,0)))","v":""},null,null,null,null,null,{"$f":"IFERROR(INDEX(Budget_Head_Cash, MATCH(0,COUNTIF($L$11:L11, Budget_Head_Cash), 0)),\"\")","v":0}]
[{"$f":"IF(B13=\"\",\"\",A12+1)","v":""},null,{"$f":"IF(B13=\"\",\"\",INDEX(table!$B$104:$B$250,MATCH('Budget Allotment(21-22'!B13,table!$D$104:$D$250,0)))","v":""},null,null,{"$f":"IF(B13=\"\",\"\",INDEX(Object_Code_BILL,MATCH('Budget Allotment(21-22'!E13,Object_Code,0)))","v":""},null,null,null,null,null,{"$f":"IFERROR(INDEX(Budget_Head_Cash, MATCH(0,COUNTIF($L$11:L12, Budget_Head_Cash), 0)),\"\")","v":""}]
[{"$f":"IF(B14=\"\",\"\",A13+1)","v":""},null,{"$f":"IF(B14=\"\",\"\",INDEX(table!$B$104:$B$250,MATCH('Budget Allotment(21-22'!B14,table!$D$104:$D$250,0)))","v":""},null,null,{"$f":"IF(B14=\"\",\"\",INDEX(Object_Code_BILL,MATCH('Budget Allotment(21-22'!E14,Object_Code,0)))","v":""},null,null,null,null,null,{"$f":"IFERROR(INDEX(Budget_Head_Cash, MATCH(0,COUNTIF($L$11:L13, Budget_Head_Cash), 0)),\"\")","v":""}]
["",null,{"$f":"IF(B15=\"\",\"\",INDEX(table!$B$104:$B$250,MATCH('Budget Allotment(21-22'!B15,table!$D$104:$D$250,0)))","v":""},null,null,{"$f":"IF(B15=\"\",\"\",INDEX(Object_Code_BILL,MATCH('Budget Allotment(21-22'!E15,Object_Code,0)))","v":""},null,null,null,null,null,{"$f":"IFERROR(INDEX(Budget_Head_Cash, MATCH(0,COUNTIF($L$11:L14, Budget_Head_Cash), 0)),\"\")","v":""}]
["",null,{"$f":"IF(B16=\"\",\"\",INDEX(table!$B$104:$B$250,MATCH('Budget Allotment(21-22'!B16,table!$D$104:$D$250,0)))","v":""},null,null,{"$f":"IF(B16=\"\",\"\",INDEX(Object_Code_BILL,MATCH('Budget Allotment(21-22'!E16,Object_Code,0)))","v":""},null,null,null,null,null,{"$f":"IFERROR(INDEX(Budget_Head_Cash, MATCH(0,COUNTIF($L$11:L15, Budget_Head_Cash), 0)),\"\")","v":""}]
["",null,{"$f":"IF(B17=\"\",\"\",INDEX(table!$B$104:$B$250,MATCH('Budget Allotment(21-22'!B17,table!$D$104:$D$250,0)))","v":""},null,null,{"$f":"IF(B17=\"\",\"\",INDEX(Object_Code_BILL,MATCH('Budget Allotment(21-22'!E17,Object_Code,0)))","v":""},null,null,null,null,null,{"$f":"IFERROR(INDEX(Budget_Head_Cash, MATCH(0,COUNTIF($L$11:L16, Budget_Head_Cash), 0)),\"\")","v":""}]
["",null,{"$f":"IF(B18=\"\",\"\",INDEX(table!$B$104:$B$250,MATCH('Budget Allotment(21-22'!B18,table!$D$104:$D$250,0)))","v":""},null,null,{"$f":"IF(B18=\"\",\"\",INDEX(Object_Code_BILL,MATCH('Budget Allotment(21-22'!E18,Object_Code,0)))","v":""},null,null,null,null,null,{"$f":"IFERROR(INDEX(Budget_Head_Cash, MATCH(0,COUNTIF($L$11:L17, Budget_Head_Cash), 0)),\"\")","v":""}]
["",null,{"$f":"IF(B19=\"\",\"\",INDEX(table!$B$104:$B$250,MATCH('Budget Allotment(21-22'!B19,table!$D$104:$D$250,0)))","v":""},null,null,{"$f":"IF(B19=\"\",\"\",INDEX(Object_Code_BILL,MATCH('Budget Allotment(21-22'!E19,Object_Code,0)))","v":""},null,null,null,null,null,{"$f":"IFERROR(INDEX(Budget_Head_Cash, MATCH(0,COUNTIF($L$11:L18, Budget_Head_Cash), 0)),\"\")","v":""}]
["",null,{"$f":"IF(B20=\"\",\"\",INDEX(table!$B$104:$B$250,MATCH('Budget Allotment(21-22'!B20,table!$D$104:$D$250,0)))","v":""},null,null,{"$f":"IF(B20=\"\",\"\",INDEX(Object_Code_BILL,MATCH('Budget Allotment(21-22'!E20,Object_Code,0)))","v":""},null,null,null,null,null,{"$f":"IFERROR(INDEX(Budget_Head_Cash, MATCH(0,COUNTIF($L$11:L19, Budget_Head_Cash), 0)),\"\")","v":""}]
["",null,{"$f":"IF(B21=\"\",\"\",INDEX(table!$B$104:$B$250,MATCH('Budget Allotment(21-22'!B21,table!$D$104:$D$250,0)))","v":""},null,null,{"$f":"IF(B21=\"\",\"\",INDEX(Object_Code_BILL,MATCH('Budget Allotment(21-22'!E21,Object_Code,0)))","v":""},null,null,null,null,null,{"$f":"IFERROR(INDEX(Budget_Head_Cash, MATCH(0,COUNTIF($L$11:L20, Budget_Head_Cash), 0)),\"\")","v":""}]
["",null,{"$f":"IF(B22=\"\",\"\",INDEX(table!$B$104:$B$250,MATCH('Budget Allotment(21-22'!B22,table!$D$104:$D$250,0)))","v":""},null,null,{"$f":"IF(B22=\"\",\"\",INDEX(Object_Code_BILL,MATCH('Budget Allotment(21-22'!E22,Object_Code,0)))","v":""},null,null,null,null,null,{"$f":"IFERROR(INDEX(Budget_Head_Cash, MATCH(0,COUNTIF($L$11:L21, Budget_Head_Cash), 0)),\"\")","v":""}]
["",null,{"$f":"IF(B23=\"\",\"\",INDEX(table!$B$104:$B$250,MATCH('Budget Allotment(21-22'!B23,table!$D$104:$D$250,0)))","v":""},null,null,{"$f":"IF(B23=\"\",\"\",INDEX(Object_Code_BILL,MATCH('Budget Allotment(21-22'!E23,Object_Code,0)))","v":""},null,null,null,null,null,{"$f":"IFERROR(INDEX(Budget_Head_Cash, MATCH(0,COUNTIF($L$11:L22, Budget_Head_Cash), 0)),\"\")","v":""}]
["",null,{"$f":"IF(B24=\"\",\"\",INDEX(table!$B$104:$B$250,MATCH('Budget Allotment(21-22'!B24,table!$D$104:$D$250,0)))","v":""},null,null,{"$f":"IF(B24=\"\",\"\",INDEX(Object_Code_BILL,MATCH('Budget Allotment(21-22'!E24,Object_Code,0)))","v":""},null,null,null,null,null,{"$f":"IFERROR(INDEX(Budget_Head_Cash, MATCH(0,COUNTIF($L$11:L23, Budget_Head_Cash), 0)),\"\")","v":""}]
["",null,{"$f":"IF(B25=\"\",\"\",INDEX(table!$B$104:$B$250,MATCH('Budget Allotment(21-22'!B25,table!$D$104:$D$250,0)))","v":""},null,null,{"$f":"IF(B25=\"\",\"\",INDEX(Object_Code_BILL,MATCH('Budget Allotment(21-22'!E25,Object_Code,0)))","v":""},null,null,null,null,null,{"$f":"IFERROR(INDEX(Budget_Head_Cash, MATCH(0,COUNTIF($L$11:L24, Budget_Head_Cash), 0)),\"\")","v":""}]
["",null,{"$f":"IF(B26=\"\",\"\",INDEX(table!$B$104:$B$250,MATCH('Budget Allotment(21-22'!B26,table!$D$104:$D$250,0)))","v":""},null,null,{"$f":"IF(B26=\"\",\"\",INDEX(Object_Code_BILL,MATCH('Budget Allotment(21-22'!E26,Object_Code,0)))","v":""},null,null,null,null,null,{"$f":"IFERROR(INDEX(Budget_Head_Cash, MATCH(0,COUNTIF($L$11:L25, Budget_Head_Cash), 0)),\"\")","v":""}]
["",null,{"$f":"IF(B27=\"\",\"\",INDEX(table!$B$104:$B$250,MATCH('Budget Allotment(21-22'!B27,table!$D$104:$D$250,0)))","v":""},null,null,{"$f":"IF(B27=\"\",\"\",INDEX(Object_Code_BILL,MATCH('Budget Allotment(21-22'!E27,Object_Code,0)))","v":""},null,null,null,null,null,{"$f":"IFERROR(INDEX(Budget_Head_Cash, MATCH(0,COUNTIF($L$11:L26, Budget_Head_Cash), 0)),\"\")","v":""}]
["",null,{"$f":"IF(B28=\"\",\"\",INDEX(table!$B$104:$B$250,MATCH('Budget Allotment(21-22'!B28,table!$D$104:$D$250,0)))","v":""},null,null,{"$f":"IF(B28=\"\",\"\",INDEX(Object_Code_BILL,MATCH('Budget Allotment(21-22'!E28,Object_Code,0)))","v":""},null,null,null,null,null,{"$f":"IFERROR(INDEX(Budget_Head_Cash, MATCH(0,COUNTIF($L$11:L27, Budget_Head_Cash), 0)),\"\")","v":""}]
["",null,{"$f":"IF(B29=\"\",\"\",INDEX(table!$B$104:$B$250,MATCH('Budget Allotment(21-22'!B29,table!$D$104:$D$250,0)))","v":""},null,null,{"$f":"IF(B29=\"\",\"\",INDEX(Object_Code_BILL,MATCH('Budget Allotment(21-22'!E29,Object_Code,0)))","v":""},null,null,null,null,null,{"$f":"IFERROR(INDEX(Budget_Head_Cash, MATCH(0,COUNTIF($L$11:L28, Budget_Head_Cash), 0)),\"\")","v":""}]
["",null,{"$f":"IF(B30=\"\",\"\",INDEX(table!$B$104:$B$250,MATCH('Budget Allotment(21-22'!B30,table!$D$104:$D$250,0)))","v":""},null,null,{"$f":"IF(B30=\"\",\"\",INDEX(Object_Code_BILL,MATCH('Budget Allotment(21-22'!E30,Object_Code,0)))","v":""},null,null,null,null,null,{"$f":"IFERROR(INDEX(Budget_Head_Cash, MATCH(0,COUNTIF($L$11:L29, Budget_Head_Cash), 0)),\"\")","v":""}]
["",null,{"$f":"IF(B31=\"\",\"\",INDEX(table!$B$104:$B$250,MATCH('Budget Allotment(21-22'!B31,table!$D$104:$D$250,0)))","v":""},null,null,{"$f":"IF(B31=\"\",\"\",INDEX(Object_Code_BILL,MATCH('Budget Allotment(21-22'!E31,Object_Code,0)))","v":""},null,null,null,null,null,{"$f":"IFERROR(INDEX(Budget_Head_Cash, MATCH(0,COUNTIF($L$11:L30, Budget_Head_Cash), 0)),\"\")","v":""}]
["",null,{"$f":"IF(B32=\"\",\"\",INDEX(table!$B$104:$B$250,MATCH('Budget Allotment(21-22'!B32,table!$D$104:$D$250,0)))","v":""},null,null,{"$f":"IF(B32=\"\",\"\",INDEX(Object_Code_BILL,MATCH('Budget Allotment(21-22'!E32,Object_Code,0)))","v":""},null,null,null,null,null,{"$f":"IFERROR(INDEX(Budget_Head_Cash, MATCH(0,COUNTIF($L$11:L31, Budget_Head_Cash), 0)),\"\")","v":""}]
["",null,{"$f":"IF(B33=\"\",\"\",INDEX(table!$B$104:$B$250,MATCH('Budget Allotment(21-22'!B33,table!$D$104:$D$250,0)))","v":""},null,null,{"$f":"IF(B33=\"\",\"\",INDEX(Object_Code_BILL,MATCH('Budget Allotment(21-22'!E33,Object_Code,0)))","v":""},null,null,null,null,null,{"$f":"IFERROR(INDEX(Budget_Head_Cash, MATCH(0,COUNTIF($L$11:L32, Budget_Head_Cash), 0)),\"\")","v":""}]
["",null,{"$f":"IF(B34=\"\",\"\",INDEX(table!$B$104:$B$250,MATCH('Budget Allotment(21-22'!B34,table!$D$104:$D$250,0)))","v":""},null,null,{"$f":"IF(B34=\"\",\"\",INDEX(Object_Code_BILL,MATCH('Budget Allotment(21-22'!E34,Object_Code,0)))","v":""},null,null,null,null,null,{"$f":"IFERROR(INDEX(Budget_Head_Cash, MATCH(0,COUNTIF($L$11:L33, Budget_Head_Cash), 0)),\"\")","v":""}]
["",null,{"$f":"IF(B35=\"\",\"\",INDEX(table!$B$104:$B$250,MATCH('Budget Allotment(21-22'!B35,table!$D$104:$D$250,0)))","v":""},null,null,{"$f":"IF(B35=\"\",\"\",INDEX(Object_Code_BILL,MATCH('Budget Allotment(21-22'!E35,Object_Code,0)))","v":""},null,null,null,null,null,{"$f":"IFERROR(INDEX(Budget_Head_Cash, MATCH(0,COUNTIF($L$11:L34, Budget_Head_Cash), 0)),\"\")","v":""}]
["",null,{"$f":"IF(B36=\"\",\"\",INDEX(table!$B$104:$B$250,MATCH('Budget Allotment(21-22'!B36,table!$D$104:$D$250,0)))","v":""},null,null,{"$f":"IF(B36=\"\",\"\",INDEX(Object_Code_BILL,MATCH('Budget Allotment(21-22'!E36,Object_Code,0)))","v":""},null,null,null,null,null,{"$f":"IFERROR(INDEX(Budget_Head_Cash, MATCH(0,COUNTIF($L$11:L35, Budget_Head_Cash), 0)),\"\")","v":""}]
["",null,{"$f":"IF(B37=\"\",\"\",INDEX(table!$B$104:$B$250,MATCH('Budget Allotment(21-22'!B37,table!$D$104:$D$250,0)))","v":""},null,null,{"$f":"IF(B37=\"\",\"\",INDEX(Object_Code_BILL,MATCH('Budget Allotment(21-22'!E37,Object_Code,0)))","v":""},null,null,null,null,null,{"$f":"IFERROR(INDEX(Budget_Head_Cash, MATCH(0,COUNTIF($L$11:L36, Budget_Head_Cash), 0)),\"\")","v":""}]
["",null,{"$f":"IF(B38=\"\",\"\",INDEX(table!$B$104:$B$250,MATCH('Budget Allotment(21-22'!B38,table!$D$104:$D$250,0)))","v":""},null,null,{"$f":"IF(B38=\"\",\"\",INDEX(Object_Code_BILL,MATCH('Budget Allotment(21-22'!E38,Object_Code,0)))","v":""},null,null,null,null,null,{"$f":"IFERROR(INDEX(Budget_Head_Cash, MATCH(0,COUNTIF($L$11:L37, Budget_Head_Cash), 0)),\"\")","v":""}]
["",null,{"$f":"IF(B39=\"\",\"\",INDEX(table!$B$104:$B$250,MATCH('Budget Allotment(21-22'!B39,table!$D$104:$D$250,0)))","v":""},null,null,{"$f":"IF(B39=\"\",\"\",INDEX(Object_Code_BILL,MATCH('Budget Allotment(21-22'!E39,Object_Code,0)))","v":""},null,null,null,null,null,{"$f":"IFERROR(INDEX(Budget_Head_Cash, MATCH(0,COUNTIF($L$11:L38, Budget_Head_Cash), 0)),\"\")","v":""}]
["",null,{"$f":"IF(B40=\"\",\"\",INDEX(table!$B$104:$B$250,MATCH('Budget Allotment(21-22'!B40,table!$D$104:$D$250,0)))","v":""},null,null,{"$f":"IF(B40=\"\",\"\",INDEX(Object_Code_BILL,MATCH('Budget Allotment(21-22'!E40,Object_Code,0)))","v":""},null,null,null,null,null,{"$f":"IFERROR(INDEX(Budget_Head_Cash, MATCH(0,COUNTIF($L$11:L39, Budget_Head_Cash), 0)),\"\")","v":""}]
["",null,{"$f":"IF(B41=\"\",\"\",INDEX(table!$B$104:$B$250,MATCH('Budget Allotment(21-22'!B41,table!$D$104:$D$250,0)))","v":""},null,null,{"$f":"IF(B41=\"\",\"\",INDEX(Object_Code_BILL,MATCH('Budget Allotment(21-22'!E41,Object_Code,0)))","v":""},null,null,null,null,null,{"$f":"IFERROR(INDEX(Budget_Head_Cash, MATCH(0,COUNTIF($L$11:L40, Budget_Head_Cash), 0)),\"\")","v":""}]
["",null,{"$f":"IF(B42=\"\",\"\",INDEX(table!$B$104:$B$250,MATCH('Budget Allotment(21-22'!B42,table!$D$104:$D$250,0)))","v":""},null,null,{"$f":"IF(B42=\"\",\"\",INDEX(Object_Code_BILL,MATCH('Budget Allotment(21-22'!E42,Object_Code,0)))","v":""},null,null,null,null,null,{"$f":"IFERROR(INDEX(Budget_Head_Cash, MATCH(0,COUNTIF($L$11:L41, Budget_Head_Cash), 0)),\"\")","v":""}]
["",null,{"$f":"IF(B43=\"\",\"\",INDEX(table!$B$104:$B$250,MATCH('Budget Allotment(21-22'!B43,table!$D$104:$D$250,0)))","v":""},null,null,{"$f":"IF(B43=\"\",\"\",INDEX(Object_Code_BILL,MATCH('Budget Allotment(21-22'!E43,Object_Code,0)))","v":""},null,null,null,null,null,{"$f":"IFERROR(INDEX(Budget_Head_Cash, MATCH(0,COUNTIF($L$11:L42, Budget_Head_Cash), 0)),\"\")","v":""}]
["",null,{"$f":"IF(B44=\"\",\"\",INDEX(table!$B$104:$B$250,MATCH('Budget Allotment(21-22'!B44,table!$D$104:$D$250,0)))","v":""},null,null,{"$f":"IF(B44=\"\",\"\",INDEX(Object_Code_BILL,MATCH('Budget Allotment(21-22'!E44,Object_Code,0)))","v":""},null,null,null,null,null,{"$f":"IFERROR(INDEX(Budget_Head_Cash, MATCH(0,COUNTIF($L$11:L43, Budget_Head_Cash), 0)),\"\")","v":""}]
["",null,{"$f":"IF(B45=\"\",\"\",INDEX(table!$B$104:$B$250,MATCH('Budget Allotment(21-22'!B45,table!$D$104:$D$250,0)))","v":""},null,null,{"$f":"IF(B45=\"\",\"\",INDEX(Object_Code_BILL,MATCH('Budget Allotment(21-22'!E45,Object_Code,0)))","v":""},null,null,null,null,null,{"$f":"IFERROR(INDEX(Budget_Head_Cash, MATCH(0,COUNTIF($L$11:L44, Budget_Head_Cash), 0)),\"\")","v":""}]
["",null,{"$f":"IF(B46=\"\",\"\",INDEX(table!$B$104:$B$250,MATCH('Budget Allotment(21-22'!B46,table!$D$104:$D$250,0)))","v":""},null,null,{"$f":"IF(B46=\"\",\"\",INDEX(Object_Code_BILL,MATCH('Budget Allotment(21-22'!E46,Object_Code,0)))","v":""},null,null,null,null,null,{"$f":"IFERROR(INDEX(Budget_Head_Cash, MATCH(0,COUNTIF($L$11:L45, Budget_Head_Cash), 0)),\"\")","v":""}]
["",null,{"$f":"IF(B47=\"\",\"\",INDEX(table!$B$104:$B$250,MATCH('Budget Allotment(21-22'!B47,table!$D$104:$D$250,0)))","v":""},null,null,{"$f":"IF(B47=\"\",\"\",INDEX(Object_Code_BILL,MATCH('Budget Allotment(21-22'!E47,Object_Code,0)))","v":""}]
["",null,{"$f":"IF(B48=\"\",\"\",INDEX(table!$B$104:$B$250,MATCH('Budget Allotment(21-22'!B48,table!$D$104:$D$250,0)))","v":""},null,null,{"$f":"IF(B48=\"\",\"\",INDEX(Object_Code_BILL,MATCH('Budget Allotment(21-22'!E48,Object_Code,0)))","v":""}]
["",null,{"$f":"IF(B49=\"\",\"\",INDEX(table!$B$104:$B$250,MATCH('Budget Allotment(21-22'!B49,table!$D$104:$D$250,0)))","v":""},null,null,{"$f":"IF(B49=\"\",\"\",INDEX(Object_Code_BILL,MATCH('Budget Allotment(21-22'!E49,Object_Code,0)))","v":""}]
["",null,{"$f":"IF(B50=\"\",\"\",INDEX(table!$B$104:$B$250,MATCH('Budget Allotment(21-22'!B50,table!$D$104:$D$250,0)))","v":""},null,null,{"$f":"IF(B50=\"\",\"\",INDEX(Object_Code_BILL,MATCH('Budget Allotment(21-22'!E50,Object_Code,0)))","v":""}]
["",null,{"$f":"IF(B51=\"\",\"\",INDEX(table!$B$104:$B$250,MATCH('Budget Allotment(21-22'!B51,table!$D$104:$D$250,0)))","v":""},null,null,{"$f":"IF(B51=\"\",\"\",INDEX(Object_Code_BILL,MATCH('Budget Allotment(21-22'!E51,Object_Code,0)))","v":""}]
["",null,{"$f":"IF(B52=\"\",\"\",INDEX(table!$B$104:$B$250,MATCH('Budget Allotment(21-22'!B52,table!$D$104:$D$250,0)))","v":""},null,null,{"$f":"IF(B52=\"\",\"\",INDEX(Object_Code_BILL,MATCH('Budget Allotment(21-22'!E52,Object_Code,0)))","v":""}]
["",null,{"$f":"IF(B53=\"\",\"\",INDEX(table!$B$104:$B$250,MATCH('Budget Allotment(21-22'!B53,table!$D$104:$D$250,0)))","v":""},null,null,{"$f":"IF(B53=\"\",\"\",INDEX(Object_Code_BILL,MATCH('Budget Allotment(21-22'!E53,Object_Code,0)))","v":""}]
["",null,{"$f":"IF(B54=\"\",\"\",INDEX(table!$B$104:$B$250,MATCH('Budget Allotment(21-22'!B54,table!$D$104:$D$250,0)))","v":""},null,null,{"$f":"IF(B54=\"\",\"\",INDEX(Object_Code_BILL,MATCH('Budget Allotment(21-22'!E54,Object_Code,0)))","v":""}]
["",null,{"$f":"IF(B55=\"\",\"\",INDEX(table!$B$104:$B$250,MATCH('Budget Allotment(21-22'!B55,table!$D$104:$D$250,0)))","v":""},null,null,{"$f":"IF(B55=\"\",\"\",INDEX(Object_Code_BILL,MATCH('Budget Allotment(21-22'!E55,Object_Code,0)))","v":""}]
["",null,{"$f":"IF(B56=\"\",\"\",INDEX(table!$B$104:$B$250,MATCH('Budget Allotment(21-22'!B56,table!$D$104:$D$250,0)))","v":""},null,null,{"$f":"IF(B56=\"\",\"\",INDEX(Object_Code_BILL,MATCH('Budget Allotment(21-22'!E56,Object_Code,0)))","v":""}]
["",null,{"$f":"IF(B57=\"\",\"\",INDEX(table!$B$104:$B$250,MATCH('Budget Allotment(21-22'!B57,table!$D$104:$D$250,0)))","v":""},null,null,{"$f":"IF(B57=\"\",\"\",INDEX(Object_Code_BILL,MATCH('Budget Allotment(21-22'!E57,Object_Code,0)))","v":""}]
["",null,{"$f":"IF(B58=\"\",\"\",INDEX(table!$B$104:$B$250,MATCH('Budget Allotment(21-22'!B58,table!$D$104:$D$250,0)))","v":""},null,null,{"$f":"IF(B58=\"\",\"\",INDEX(Object_Code_BILL,MATCH('Budget Allotment(21-22'!E58,Object_Code,0)))","v":""}]
["",null,{"$f":"IF(B59=\"\",\"\",INDEX(table!$B$104:$B$250,MATCH('Budget Allotment(21-22'!B59,table!$D$104:$D$250,0)))","v":""},null,null,{"$f":"IF(B59=\"\",\"\",INDEX(Object_Code_BILL,MATCH('Budget Allotment(21-22'!E59,Object_Code,0)))","v":""}]
["",null,{"$f":"IF(B60=\"\",\"\",INDEX(table!$B$104:$B$250,MATCH('Budget Allotment(21-22'!B60,table!$D$104:$D$250,0)))","v":""},null,null,{"$f":"IF(B60=\"\",\"\",INDEX(Object_Code_BILL,MATCH('Budget Allotment(21-22'!E60,Object_Code,0)))","v":""}]
["",null,{"$f":"IF(B61=\"\",\"\",INDEX(table!$B$104:$B$250,MATCH('Budget Allotment(21-22'!B61,table!$D$104:$D$250,0)))","v":""},null,null,{"$f":"IF(B61=\"\",\"\",INDEX(Object_Code_BILL,MATCH('Budget Allotment(21-22'!E61,Object_Code,0)))","v":""}]
["",null,{"$f":"IF(B62=\"\",\"\",INDEX(table!$B$104:$B$250,MATCH('Budget Allotment(21-22'!B62,table!$D$104:$D$250,0)))","v":""},null,null,{"$f":"IF(B62=\"\",\"\",INDEX(Object_Code_BILL,MATCH('Budget Allotment(21-22'!E62,Object_Code,0)))","v":""}]
["",null,{"$f":"IF(B63=\"\",\"\",INDEX(table!$B$104:$B$250,MATCH('Budget Allotment(21-22'!B63,table!$D$104:$D$250,0)))","v":""},null,null,{"$f":"IF(B63=\"\",\"\",INDEX(Object_Code_BILL,MATCH('Budget Allotment(21-22'!E63,Object_Code,0)))","v":""}]
["",null,{"$f":"IF(B64=\"\",\"\",INDEX(table!$B$104:$B$250,MATCH('Budget Allotment(21-22'!B64,table!$D$104:$D$250,0)))","v":""},null,null,{"$f":"IF(B64=\"\",\"\",INDEX(Object_Code_BILL,MATCH('Budget Allotment(21-22'!E64,Object_Code,0)))","v":""}]
["",null,{"$f":"IF(B65=\"\",\"\",INDEX(table!$B$104:$B$250,MATCH('Budget Allotment(21-22'!B65,table!$D$104:$D$250,0)))","v":""},null,null,{"$f":"IF(B65=\"\",\"\",INDEX(Object_Code_BILL,MATCH('Budget Allotment(21-22'!E65,Object_Code,0)))","v":""}]
["",null,{"$f":"IF(B66=\"\",\"\",INDEX(table!$B$104:$B$250,MATCH('Budget Allotment(21-22'!B66,table!$D$104:$D$250,0)))","v":""},null,null,{"$f":"IF(B66=\"\",\"\",INDEX(Object_Code_BILL,MATCH('Budget Allotment(21-22'!E66,Object_Code,0)))","v":""}]
["",null,{"$f":"IF(B67=\"\",\"\",INDEX(table!$B$104:$B$250,MATCH('Budget Allotment(21-22'!B67,table!$D$104:$D$250,0)))","v":""},null,null,{"$f":"IF(B67=\"\",\"\",INDEX(Object_Code_BILL,MATCH('Budget Allotment(21-22'!E67,Object_Code,0)))","v":""}]
["",null,{"$f":"IF(B68=\"\",\"\",INDEX(table!$B$104:$B$250,MATCH('Budget Allotment(21-22'!B68,table!$D$104:$D$250,0)))","v":""},null,null,{"$f":"IF(B68=\"\",\"\",INDEX(Object_Code_BILL,MATCH('Budget Allotment(21-22'!E68,Object_Code,0)))","v":""}]
["",null,{"$f":"IF(B69=\"\",\"\",INDEX(table!$B$104:$B$250,MATCH('Budget Allotment(21-22'!B69,table!$D$104:$D$250,0)))","v":""},null,null,{"$f":"IF(B69=\"\",\"\",INDEX(Object_Code_BILL,MATCH('Budget Allotment(21-22'!E69,Object_Code,0)))","v":""}]
["",null,{"$f":"IF(B70=\"\",\"\",INDEX(table!$B$104:$B$250,MATCH('Budget Allotment(21-22'!B70,table!$D$104:$D$250,0)))","v":""},null,null,{"$f":"IF(B70=\"\",\"\",INDEX(Object_Code_BILL,MATCH('Budget Allotment(21-22'!E70,Object_Code,0)))","v":""}]
["",null,{"$f":"IF(B71=\"\",\"\",INDEX(table!$B$104:$B$250,MATCH('Budget Allotment(21-22'!B71,table!$D$104:$D$250,0)))","v":""},null,null,{"$f":"IF(B71=\"\",\"\",INDEX(Object_Code_BILL,MATCH('Budget Allotment(21-22'!E71,Object_Code,0)))","v":""}]
["",null,{"$f":"IF(B72=\"\",\"\",INDEX(table!$B$104:$B$250,MATCH('Budget Allotment(21-22'!B72,table!$D$104:$D$250,0)))","v":""},null,null,{"$f":"IF(B72=\"\",\"\",INDEX(Object_Code_BILL,MATCH('Budget Allotment(21-22'!E72,Object_Code,0)))","v":""}]
["",null,{"$f":"IF(B73=\"\",\"\",INDEX(table!$B$104:$B$250,MATCH('Budget Allotment(21-22'!B73,table!$D$104:$D$250,0)))","v":""},null,null,{"$f":"IF(B73=\"\",\"\",INDEX(Object_Code_BILL,MATCH('Budget Allotment(21-22'!E73,Object_Code,0)))","v":""}]
["",null,{"$f":"IF(B74=\"\",\"\",INDEX(table!$B$104:$B$250,MATCH('Budget Allotment(21-22'!B74,table!$D$104:$D$250,0)))","v":""},null,null,{"$f":"IF(B74=\"\",\"\",INDEX(Object_Code_BILL,MATCH('Budget Allotment(21-22'!E74,Object_Code,0)))","v":""}]
["",null,{"$f":"IF(B75=\"\",\"\",INDEX(table!$B$104:$B$250,MATCH('Budget Allotment(21-22'!B75,table!$D$104:$D$250,0)))","v":""},null,null,{"$f":"IF(B75=\"\",\"\",INDEX(Object_Code_BILL,MATCH('Budget Allotment(21-22'!E75,Object_Code,0)))","v":""}]
["",null,{"$f":"IF(B76=\"\",\"\",INDEX(table!$B$104:$B$250,MATCH('Budget Allotment(21-22'!B76,table!$D$104:$D$250,0)))","v":""},null,null,{"$f":"IF(B76=\"\",\"\",INDEX(Object_Code_BILL,MATCH('Budget Allotment(21-22'!E76,Object_Code,0)))","v":""}]
["",null,{"$f":"IF(B77=\"\",\"\",INDEX(table!$B$104:$B$250,MATCH('Budget Allotment(21-22'!B77,table!$D$104:$D$250,0)))","v":""},null,null,{"$f":"IF(B77=\"\",\"\",INDEX(Object_Code_BILL,MATCH('Budget Allotment(21-22'!E77,Object_Code,0)))","v":""}]
[{"$f":"IF(B78=\"\",\"\",A77+1)","v":""},null,{"$f":"IF(B78=\"\",\"\",INDEX(table!$B$104:$B$250,MATCH('Budget Allotment(21-22'!B78,table!$D$104:$D$250,0)))","v":""},null,null,{"$f":"IF(B78=\"\",\"\",INDEX(Object_Code_BILL,MATCH('Budget Allotment(21-22'!E78,Object_Code,0)))","v":""}]
["",null,{"$f":"IF(B79=\"\",\"\",INDEX(table!$B$104:$B$250,MATCH('Budget Allotment(21-22'!B79,table!$D$104:$D$250,0)))","v":""},null,null,{"$f":"IF(B79=\"\",\"\",INDEX(Object_Code_BILL,MATCH('Budget Allotment(21-22'!E79,Object_Code,0)))","v":""}]
["",null,{"$f":"IF(B80=\"\",\"\",INDEX(table!$B$104:$B$250,MATCH('Budget Allotment(21-22'!B80,table!$D$104:$D$250,0)))","v":""},null,null,{"$f":"IF(B80=\"\",\"\",INDEX(Object_Code_BILL,MATCH('Budget Allotment(21-22'!E80,Object_Code,0)))","v":""}]
["",null,{"$f":"IF(B81=\"\",\"\",INDEX(table!$B$104:$B$250,MATCH('Budget Allotment(21-22'!B81,table!$D$104:$D$250,0)))","v":""},null,null,{"$f":"IF(B81=\"\",\"\",INDEX(Object_Code_BILL,MATCH('Budget Allotment(21-22'!E81,Object_Code,0)))","v":""}]
["",null,{"$f":"IF(B82=\"\",\"\",INDEX(table!$B$104:$B$250,MATCH('Budget Allotment(21-22'!B82,table!$D$104:$D$250,0)))","v":""},null,null,{"$f":"IF(B82=\"\",\"\",INDEX(Object_Code_BILL,MATCH('Budget Allotment(21-22'!E82,Object_Code,0)))","v":""}]
["",null,{"$f":"IF(B83=\"\",\"\",INDEX(table!$B$104:$B$250,MATCH('Budget Allotment(21-22'!B83,table!$D$104:$D$250,0)))","v":""},null,null,{"$f":"IF(B83=\"\",\"\",INDEX(Object_Code_BILL,MATCH('Budget Allotment(21-22'!E83,Object_Code,0)))","v":""}]
["",null,{"$f":"IF(B84=\"\",\"\",INDEX(table!$B$104:$B$250,MATCH('Budget Allotment(21-22'!B84,table!$D$104:$D$250,0)))","v":""},null,null,{"$f":"IF(B84=\"\",\"\",INDEX(Object_Code_BILL,MATCH('Budget Allotment(21-22'!E84,Object_Code,0)))","v":""}]
["",null,{"$f":"IF(B85=\"\",\"\",INDEX(table!$B$104:$B$250,MATCH('Budget Allotment(21-22'!B85,table!$D$104:$D$250,0)))","v":""},null,null,{"$f":"IF(B85=\"\",\"\",INDEX(Object_Code_BILL,MATCH('Budget Allotment(21-22'!E85,Object_Code,0)))","v":""}]
["",null,{"$f":"IF(B86=\"\",\"\",INDEX(table!$B$104:$B$250,MATCH('Budget Allotment(21-22'!B86,table!$D$104:$D$250,0)))","v":""},null,null,{"$f":"IF(B86=\"\",\"\",INDEX(Object_Code_BILL,MATCH('Budget Allotment(21-22'!E86,Object_Code,0)))","v":""}]
["",null,{"$f":"IF(B87=\"\",\"\",INDEX(table!$B$104:$B$250,MATCH('Budget Allotment(21-22'!B87,table!$D$104:$D$250,0)))","v":""},null,null,{"$f":"IF(B87=\"\",\"\",INDEX(Object_Code_BILL,MATCH('Budget Allotment(21-22'!E87,Object_Code,0)))","v":""}]
["",null,{"$f":"IF(B88=\"\",\"\",INDEX(table!$B$104:$B$250,MATCH('Budget Allotment(21-22'!B88,table!$D$104:$D$250,0)))","v":""},null,null,{"$f":"IF(B88=\"\",\"\",INDEX(Object_Code_BILL,MATCH('Budget Allotment(21-22'!E88,Object_Code,0)))","v":""}]
["",null,{"$f":"IF(B89=\"\",\"\",INDEX(table!$B$104:$B$250,MATCH('Budget Allotment(21-22'!B89,table!$D$104:$D$250,0)))","v":""},null,null,{"$f":"IF(B89=\"\",\"\",INDEX(Object_Code_BILL,MATCH('Budget Allotment(21-22'!E89,Object_Code,0)))","v":""}]
["",null,{"$f":"IF(B90=\"\",\"\",INDEX(table!$B$104:$B$250,MATCH('Budget Allotment(21-22'!B90,table!$D$104:$D$250,0)))","v":""},null,null,{"$f":"IF(B90=\"\",\"\",INDEX(Object_Code_BILL,MATCH('Budget Allotment(21-22'!E90,Object_Code,0)))","v":""}]
["",null,{"$f":"IF(B91=\"\",\"\",INDEX(table!$B$104:$B$250,MATCH('Budget Allotment(21-22'!B91,table!$D$104:$D$250,0)))","v":""},null,null,{"$f":"IF(B91=\"\",\"\",INDEX(Object_Code_BILL,MATCH('Budget Allotment(21-22'!E91,Object_Code,0)))","v":""}]
["",null,{"$f":"IF(B92=\"\",\"\",INDEX(table!$B$104:$B$250,MATCH('Budget Allotment(21-22'!B92,table!$D$104:$D$250,0)))","v":""},null,null,{"$f":"IF(B92=\"\",\"\",INDEX(Object_Code_BILL,MATCH('Budget Allotment(21-22'!E92,Object_Code,0)))","v":""}]
["",null,{"$f":"IF(B93=\"\",\"\",INDEX(table!$B$104:$B$250,MATCH('Budget Allotment(21-22'!B93,table!$D$104:$D$250,0)))","v":""},null,null,{"$f":"IF(B93=\"\",\"\",INDEX(Object_Code_BILL,MATCH('Budget Allotment(21-22'!E93,Object_Code,0)))","v":""}]
["",null,{"$f":"IF(B94=\"\",\"\",INDEX(table!$B$104:$B$250,MATCH('Budget Allotment(21-22'!B94,table!$D$104:$D$250,0)))","v":""},null,null,{"$f":"IF(B94=\"\",\"\",INDEX(Object_Code_BILL,MATCH('Budget Allotment(21-22'!E94,Object_Code,0)))","v":""}]
["",null,{"$f":"IF(B95=\"\",\"\",INDEX(table!$B$104:$B$250,MATCH('Budget Allotment(21-22'!B95,table!$D$104:$D$250,0)))","v":""},null,null,{"$f":"IF(B95=\"\",\"\",INDEX(Object_Code_BILL,MATCH('Budget Allotment(21-22'!E95,Object_Code,0)))","v":""}]
["",null,{"$f":"IF(B96=\"\",\"\",INDEX(table!$B$104:$B$250,MATCH('Budget Allotment(21-22'!B96,table!$D$104:$D$250,0)))","v":""},null,null,{"$f":"IF(B96=\"\",\"\",INDEX(Object_Code_BILL,MATCH('Budget Allotment(21-22'!E96,Object_Code,0)))","v":""}]
["",null,{"$f":"IF(B97=\"\",\"\",INDEX(table!$B$104:$B$250,MATCH('Budget Allotment(21-22'!B97,table!$D$104:$D$250,0)))","v":""},null,null,{"$f":"IF(B97=\"\",\"\",INDEX(Object_Code_BILL,MATCH('Budget Allotment(21-22'!E97,Object_Code,0)))","v":""}]
["",null,{"$f":"IF(B98=\"\",\"\",INDEX(table!$B$104:$B$250,MATCH('Budget Allotment(21-22'!B98,table!$D$104:$D$250,0)))","v":""},null,null,{"$f":"IF(B98=\"\",\"\",INDEX(Object_Code_BILL,MATCH('Budget Allotment(21-22'!E98,Object_Code,0)))","v":""}]
["",null,{"$f":"IF(B99=\"\",\"\",INDEX(table!$B$104:$B$250,MATCH('Budget Allotment(21-22'!B99,table!$D$104:$D$250,0)))","v":""},null,null,{"$f":"IF(B99=\"\",\"\",INDEX(Object_Code_BILL,MATCH('Budget Allotment(21-22'!E99,Object_Code,0)))","v":""}]
["",null,{"$f":"IF(B100=\"\",\"\",INDEX(table!$B$104:$B$250,MATCH('Budget Allotment(21-22'!B100,table!$D$104:$D$250,0)))","v":""},null,null,{"$f":"IF(B100=\"\",\"\",INDEX(Object_Code_BILL,MATCH('Budget Allotment(21-22'!E100,Object_Code,0)))","v":""}]
["",null,{"$f":"IF(B101=\"\",\"\",INDEX(table!$B$104:$B$250,MATCH('Budget Allotment(21-22'!B101,table!$D$104:$D$250,0)))","v":""},null,null,{"$f":"IF(B101=\"\",\"\",INDEX(Object_Code_BILL,MATCH('Budget Allotment(21-22'!E101,Object_Code,0)))","v":""}]
["",null,{"$f":"IF(B102=\"\",\"\",INDEX(table!$B$104:$B$250,MATCH('Budget Allotment(21-22'!B102,table!$D$104:$D$250,0)))","v":""},null,null,{"$f":"IF(B102=\"\",\"\",INDEX(Object_Code_BILL,MATCH('Budget Allotment(21-22'!E102,Object_Code,0)))","v":""}]
["",null,{"$f":"IF(B103=\"\",\"\",INDEX(table!$B$104:$B$250,MATCH('Budget Allotment(21-22'!B103,table!$D$104:$D$250,0)))","v":""},null,null,{"$f":"IF(B103=\"\",\"\",INDEX(Object_Code_BILL,MATCH('Budget Allotment(21-22'!E103,Object_Code,0)))","v":""}]
["",null,{"$f":"IF(B104=\"\",\"\",INDEX(table!$B$104:$B$250,MATCH('Budget Allotment(21-22'!B104,table!$D$104:$D$250,0)))","v":""},null,null,{"$f":"IF(B104=\"\",\"\",INDEX(Object_Code_BILL,MATCH('Budget Allotment(21-22'!E104,Object_Code,0)))","v":""}]
["",null,{"$f":"IF(B105=\"\",\"\",INDEX(table!$B$104:$B$250,MATCH('Budget Allotment(21-22'!B105,table!$D$104:$D$250,0)))","v":""},null,null,{"$f":"IF(B105=\"\",\"\",INDEX(Object_Code_BILL,MATCH('Budget Allotment(21-22'!E105,Object_Code,0)))","v":""}]
["",null,{"$f":"IF(B106=\"\",\"\",INDEX(table!$B$104:$B$250,MATCH('Budget Allotment(21-22'!B106,table!$D$104:$D$250,0)))","v":""},null,null,{"$f":"IF(B106=\"\",\"\",INDEX(Object_Code_BILL,MATCH('Budget Allotment(21-22'!E106,Object_Code,0)))","v":""}]
["",null,{"$f":"IF(B107=\"\",\"\",INDEX(table!$B$104:$B$250,MATCH('Budget Allotment(21-22'!B107,table!$D$104:$D$250,0)))","v":""},null,null,{"$f":"IF(B107=\"\",\"\",INDEX(Object_Code_BILL,MATCH('Budget Allotment(21-22'!E107,Object_Code,0)))","v":""}]
["",null,{"$f":"IF(B108=\"\",\"\",INDEX(table!$B$104:$B$250,MATCH('Budget Allotment(21-22'!B108,table!$D$104:$D$250,0)))","v":""},null,null,{"$f":"IF(B108=\"\",\"\",INDEX(Object_Code_BILL,MATCH('Budget Allotment(21-22'!E108,Object_Code,0)))","v":""}]
["",null,{"$f":"IF(B109=\"\",\"\",INDEX(table!$B$104:$B$250,MATCH('Budget Allotment(21-22'!B109,table!$D$104:$D$250,0)))","v":""},null,null,{"$f":"IF(B109=\"\",\"\",INDEX(Object_Code_BILL,MATCH('Budget Allotment(21-22'!E109,Object_Code,0)))","v":""}]
["",null,{"$f":"IF(B110=\"\",\"\",INDEX(table!$B$104:$B$250,MATCH('Budget Allotment(21-22'!B110,table!$D$104:$D$250,0)))","v":""},null,null,{"$f":"IF(B110=\"\",\"\",INDEX(Object_Code_BILL,MATCH('Budget Allotment(21-22'!E110,Object_Code,0)))","v":""}]
["",null,{"$f":"IF(B111=\"\",\"\",INDEX(table!$B$104:$B$250,MATCH('Budget Allotment(21-22'!B111,table!$D$104:$D$250,0)))","v":""},null,null,{"$f":"IF(B111=\"\",\"\",INDEX(Object_Code_BILL,MATCH('Budget Allotment(21-22'!E111,Object_Code,0)))","v":""}]
["",null,{"$f":"IF(B112=\"\",\"\",INDEX(table!$B$104:$B$250,MATCH('Budget Allotment(21-22'!B112,table!$D$104:$D$250,0)))","v":""},null,null,{"$f":"IF(B112=\"\",\"\",INDEX(Object_Code_BILL,MATCH('Budget Allotment(21-22'!E112,Object_Code,0)))","v":""}]
["",null,{"$f":"IF(B113=\"\",\"\",INDEX(table!$B$104:$B$250,MATCH('Budget Allotment(21-22'!B113,table!$D$104:$D$250,0)))","v":""},null,null,{"$f":"IF(B113=\"\",\"\",INDEX(Object_Code_BILL,MATCH('Budget Allotment(21-22'!E113,Object_Code,0)))","v":""}]
["",null,{"$f":"IF(B114=\"\",\"\",INDEX(table!$B$104:$B$250,MATCH('Budget Allotment(21-22'!B114,table!$D$104:$D$250,0)))","v":""},null,null,{"$f":"IF(B114=\"\",\"\",INDEX(Object_Code_BILL,MATCH('Budget Allotment(21-22'!E114,Object_Code,0)))","v":""}]
["",null,{"$f":"IF(B115=\"\",\"\",INDEX(table!$B$104:$B$250,MATCH('Budget Allotment(21-22'!B115,table!$D$104:$D$250,0)))","v":""},null,null,{"$f":"IF(B115=\"\",\"\",INDEX(Object_Code_BILL,MATCH('Budget Allotment(21-22'!E115,Object_Code,0)))","v":""}]
["",null,{"$f":"IF(B116=\"\",\"\",INDEX(table!$B$104:$B$250,MATCH('Budget Allotment(21-22'!B116,table!$D$104:$D$250,0)))","v":""},null,null,{"$f":"IF(B116=\"\",\"\",INDEX(Object_Code_BILL,MATCH('Budget Allotment(21-22'!E116,Object_Code,0)))","v":""}]
["",null,{"$f":"IF(B117=\"\",\"\",INDEX(table!$B$104:$B$250,MATCH('Budget Allotment(21-22'!B117,table!$D$104:$D$250,0)))","v":""},null,null,{"$f":"IF(B117=\"\",\"\",INDEX(Object_Code_BILL,MATCH('Budget Allotment(21-22'!E117,Object_Code,0)))","v":""}]
["",null,{"$f":"IF(B118=\"\",\"\",INDEX(table!$B$104:$B$250,MATCH('Budget Allotment(21-22'!B118,table!$D$104:$D$250,0)))","v":""},null,null,{"$f":"IF(B118=\"\",\"\",INDEX(Object_Code_BILL,MATCH('Budget Allotment(21-22'!E118,Object_Code,0)))","v":""}]
["",null,{"$f":"IF(B119=\"\",\"\",INDEX(table!$B$104:$B$250,MATCH('Budget Allotment(21-22'!B119,table!$D$104:$D$250,0)))","v":""},null,null,{"$f":"IF(B119=\"\",\"\",INDEX(Object_Code_BILL,MATCH('Budget Allotment(21-22'!E119,Object_Code,0)))","v":""}]
["",null,{"$f":"IF(B120=\"\",\"\",INDEX(table!$B$104:$B$250,MATCH('Budget Allotment(21-22'!B120,table!$D$104:$D$250,0)))","v":""},null,null,{"$f":"IF(B120=\"\",\"\",INDEX(Object_Code_BILL,MATCH('Budget Allotment(21-22'!E120,Object_Code,0)))","v":""}]
["",null,{"$f":"IF(B121=\"\",\"\",INDEX(table!$B$104:$B$250,MATCH('Budget Allotment(21-22'!B121,table!$D$104:$D$250,0)))","v":""},null,null,{"$f":"IF(B121=\"\",\"\",INDEX(Object_Code_BILL,MATCH('Budget Allotment(21-22'!E121,Object_Code,0)))","v":""}]
["",null,{"$f":"IF(B122=\"\",\"\",INDEX(table!$B$104:$B$250,MATCH('Budget Allotment(21-22'!B122,table!$D$104:$D$250,0)))","v":""},null,null,{"$f":"IF(B122=\"\",\"\",INDEX(Object_Code_BILL,MATCH('Budget Allotment(21-22'!E122,Object_Code,0)))","v":""}]
["",null,{"$f":"IF(B123=\"\",\"\",INDEX(table!$B$104:$B$250,MATCH('Budget Allotment(21-22'!B123,table!$D$104:$D$250,0)))","v":""},null,null,{"$f":"IF(B123=\"\",\"\",INDEX(Object_Code_BILL,MATCH('Budget Allotment(21-22'!E123,Object_Code,0)))","v":""}]
["",null,{"$f":"IF(B124=\"\",\"\",INDEX(table!$B$104:$B$250,MATCH('Budget Allotment(21-22'!B124,table!$D$104:$D$250,0)))","v":""},null,null,{"$f":"IF(B124=\"\",\"\",INDEX(Object_Code_BILL,MATCH('Budget Allotment(21-22'!E124,Object_Code,0)))","v":""}]
["",null,{"$f":"IF(B125=\"\",\"\",INDEX(table!$B$104:$B$250,MATCH('Budget Allotment(21-22'!B125,table!$D$104:$D$250,0)))","v":""},null,null,{"$f":"IF(B125=\"\",\"\",INDEX(Object_Code_BILL,MATCH('Budget Allotment(21-22'!E125,Object_Code,0)))","v":""}]
["",null,{"$f":"IF(B126=\"\",\"\",INDEX(table!$B$104:$B$250,MATCH('Budget Allotment(21-22'!B126,table!$D$104:$D$250,0)))","v":""},null,null,{"$f":"IF(B126=\"\",\"\",INDEX(Object_Code_BILL,MATCH('Budget Allotment(21-22'!E126,Object_Code,0)))","v":""}]
["",null,{"$f":"IF(B127=\"\",\"\",INDEX(table!$B$104:$B$250,MATCH('Budget Allotment(21-22'!B127,table!$D$104:$D$250,0)))","v":""},null,null,{"$f":"IF(B127=\"\",\"\",INDEX(Object_Code_BILL,MATCH('Budget Allotment(21-22'!E127,Object_Code,0)))","v":""}]
["",null,{"$f":"IF(B128=\"\",\"\",INDEX(table!$B$104:$B$250,MATCH('Budget Allotment(21-22'!B128,table!$D$104:$D$250,0)))","v":""},null,null,{"$f":"IF(B128=\"\",\"\",INDEX(Object_Code_BILL,MATCH('Budget Allotment(21-22'!E128,Object_Code,0)))","v":""}]
["",null,{"$f":"IF(B129=\"\",\"\",INDEX(table!$B$104:$B$250,MATCH('Budget Allotment(21-22'!B129,table!$D$104:$D$250,0)))","v":""},null,null,{"$f":"IF(B129=\"\",\"\",INDEX(Object_Code_BILL,MATCH('Budget Allotment(21-22'!E129,Object_Code,0)))","v":""}]
["",null,{"$f":"IF(B130=\"\",\"\",INDEX(table!$B$104:$B$250,MATCH('Budget Allotment(21-22'!B130,table!$D$104:$D$250,0)))","v":""},null,null,{"$f":"IF(B130=\"\",\"\",INDEX(Object_Code_BILL,MATCH('Budget Allotment(21-22'!E130,Object_Code,0)))","v":""}]
["",null,{"$f":"IF(B131=\"\",\"\",INDEX(table!$B$104:$B$250,MATCH('Budget Allotment(21-22'!B131,table!$D$104:$D$250,0)))","v":""},null,null,{"$f":"IF(B131=\"\",\"\",INDEX(Object_Code_BILL,MATCH('Budget Allotment(21-22'!E131,Object_Code,0)))","v":""}]
["",null,{"$f":"IF(B132=\"\",\"\",INDEX(table!$B$104:$B$250,MATCH('Budget Allotment(21-22'!B132,table!$D$104:$D$250,0)))","v":""},null,null,{"$f":"IF(B132=\"\",\"\",INDEX(Object_Code_BILL,MATCH('Budget Allotment(21-22'!E132,Object_Code,0)))","v":""}]
["",null,{"$f":"IF(B133=\"\",\"\",INDEX(table!$B$104:$B$250,MATCH('Budget Allotment(21-22'!B133,table!$D$104:$D$250,0)))","v":""},null,null,{"$f":"IF(B133=\"\",\"\",INDEX(Object_Code_BILL,MATCH('Budget Allotment(21-22'!E133,Object_Code,0)))","v":""}]
["",null,{"$f":"IF(B134=\"\",\"\",INDEX(table!$B$104:$B$250,MATCH('Budget Allotment(21-22'!B134,table!$D$104:$D$250,0)))","v":""},null,null,{"$f":"IF(B134=\"\",\"\",INDEX(Object_Code_BILL,MATCH('Budget Allotment(21-22'!E134,Object_Code,0)))","v":""}]
["",null,{"$f":"IF(B135=\"\",\"\",INDEX(table!$B$104:$B$250,MATCH('Budget Allotment(21-22'!B135,table!$D$104:$D$250,0)))","v":""},null,null,{"$f":"IF(B135=\"\",\"\",INDEX(Object_Code_BILL,MATCH('Budget Allotment(21-22'!E135,Object_Code,0)))","v":""}]
["",null,{"$f":"IF(B136=\"\",\"\",INDEX(table!$B$104:$B$250,MATCH('Budget Allotment(21-22'!B136,table!$D$104:$D$250,0)))","v":""},null,null,{"$f":"IF(B136=\"\",\"\",INDEX(Object_Code_BILL,MATCH('Budget Allotment(21-22'!E136,Object_Code,0)))","v":""}]
["",null,{"$f":"IF(B137=\"\",\"\",INDEX(table!$B$104:$B$250,MATCH('Budget Allotment(21-22'!B137,table!$D$104:$D$250,0)))","v":""},null,null,{"$f":"IF(B137=\"\",\"\",INDEX(Object_Code_BILL,MATCH('Budget Allotment(21-22'!E137,Object_Code,0)))","v":""}]
["",null,{"$f":"IF(B138=\"\",\"\",INDEX(table!$B$104:$B$250,MATCH('Budget Allotment(21-22'!B138,table!$D$104:$D$250,0)))","v":""},null,null,{"$f":"IF(B138=\"\",\"\",INDEX(Object_Code_BILL,MATCH('Budget Allotment(21-22'!E138,Object_Code,0)))","v":""}]
["",null,{"$f":"IF(B139=\"\",\"\",INDEX(table!$B$104:$B$250,MATCH('Budget Allotment(21-22'!B139,table!$D$104:$D$250,0)))","v":""},null,null,{"$f":"IF(B139=\"\",\"\",INDEX(Object_Code_BILL,MATCH('Budget Allotment(21-22'!E139,Object_Code,0)))","v":""}]
["",null,{"$f":"IF(B140=\"\",\"\",INDEX(table!$B$104:$B$250,MATCH('Budget Allotment(21-22'!B140,table!$D$104:$D$250,0)))","v":""},null,null,{"$f":"IF(B140=\"\",\"\",INDEX(Object_Code_BILL,MATCH('Budget Allotment(21-22'!E140,Object_Code,0)))","v":""}]
["",null,{"$f":"IF(B141=\"\",\"\",INDEX(table!$B$104:$B$250,MATCH('Budget Allotment(21-22'!B141,table!$D$104:$D$250,0)))","v":""},null,null,{"$f":"IF(B141=\"\",\"\",INDEX(Object_Code_BILL,MATCH('Budget Allotment(21-22'!E141,Object_Code,0)))","v":""}]
[{"$f":"IF(B142=\"\",\"\",A141+1)","v":""},null,{"$f":"IF(B142=\"\",\"\",INDEX(table!$B$104:$B$250,MATCH('Budget Allotment(21-22'!B142,table!$D$104:$D$250,0)))","v":""},null,null,{"$f":"IF(B142=\"\",\"\",INDEX(Object_Code_BILL,MATCH('Budget Allotment(21-22'!E142,Object_Code,0)))","v":""}]
["",null,{"$f":"IF(B143=\"\",\"\",INDEX(table!$B$104:$B$250,MATCH('Budget Allotment(21-22'!B143,table!$D$104:$D$250,0)))","v":""},null,null,{"$f":"IF(B143=\"\",\"\",INDEX(Object_Code_BILL,MATCH('Budget Allotment(21-22'!E143,Object_Code,0)))","v":""}]
[{"$error":"#VALUE!"},"End_line","End_line",null,"End_line","End_line","End_line","End_line","End_line","End_line"]
[]
[]
[]
[]
[]
["Private Sub Worksheet_Change(ByVal Target As Range)"]
["  Worksheets(\"Pivot table\").PivotTables(\"PivotTable1\").PivotCache.Refresh"]
["End Sub"]

{"sheet":"Budget Head","index":3,"n_rows":6,"n_cols":6,"rows_kept":6,"cut":false,"hidden":false,"merged":[[1,1,2,2]]}
[]
[null,"Add your budget head in proper way\n (i.e. 2202-02-109-27-01)",null,null,null,"Home-Back"]
[]
[null,"Budget Head","Demand No.",null,"Office ID","Name of Office"]
[null,"2202-02-109-27-01",24,null,123,"secondary education"]
[null,"2202-02-109-27-02",24,null,999,"Directrate secondary education"]

{"sheet":"table","index":4,"n_rows":283,"n_cols":23,"rows_kept":283,"cut":false,"hidden":true,"merged":[]}
["Object Code","New Object Head",null,"Object Code","New Object Head","General Description",null,null,null,"Private Sub Worksheet_Change(ByVal Target As Range)"]
["01","Salaries",null,"01","Salaries","Provision for basic pay, personal pay, special pay,  DP,  DA, HRA, CCA, NPA/ Non Clinical Allowance, Subsistence Allowance, all other allowances treated as a part of salary, honorarium, bonus, leave encashment (surrendered leave during service), monthly remuneration to persons engaged on a non-regular basis against sanctioned posts",null,null,null,"  Worksheets(\"Pivot table\").PivotTables(\"PivotTable1\").PivotCache.Refresh"]
["02","Wages",null,"02","Wages","Provision for monthly remuneration to work charged employees",null,null,null,"End Sub"]
["03","Travelling Expenses",null,"03","Travelling Expenses","Provision for travelling expenses for official tour and on transfer, fixed Travelling Allowance (TA)"]
["04","Medical Expenses",null,"04","Medical Expenses","Provision for reimbursement of medical expenses"]
["05","Office Expenses",null,"05","Office Expenses","Provision for general expenses for office management/ maintenance like electricity, water, telephone and postal charges, purchase and repair of furniture, purchase of books and periodicals, stationery, etc."]
["06","Purchase of Vehicles",null,"06","Purchase of Vehicles","Provision for purchase of new office vehicles including functional vehicles"]
["07","Running and Maintenance of Office Vehicles",null,"07","Running and Maintenance of Office Vehicles","Provision for expenses on Petrol, Oil and Lubricants and repair and maintenance"]
["08","Professional and Special Services",null,"08","Professional and Special Services","Provision for payment for legal services, consultancy charges, other hired professional services, services rendered by other government agencies/bodies like railway police, etc., and payment to examiners, auditors, invigilators, inspection officials, artists, etc."]
["09","Rent, Rate and Taxes/Royalty",null,"09","Rent, Rate and Taxes/Royalty","Provision for payment for rented buildings used for official purpose, all taxes related to government owned buildings"]
["10","Publication Expenses",null,"10","Publication Expenses","Provision for expenses on publication/ printing of departmental books/ periodicals/ reports/ other official literature and documents"]
["11","Advertisement, Sale and Publicity Expenses",null,"11","Advertisement, Sale and Publicity Expenses","Provision for expenses on Notice Inviting Tenders (NITs), notifications, notices, pamphlets, leaflets, posters, all other expenses incurred on advertisements in electronic and print media"]
["12","Grant in Aid (Other than Salary)",null,"12","Grant in Aid (Other than Salary)","Grant in aid given by the Government for general purposes other than payment of salary and creation of assets"]
["13","Scholarship and Stipend",null,"13","Scholarship and Stipend","Provision for expenses on scholarships and stipends to all categories of students"]
["14","Sumptuary / Entertainment / Gift Expenses, etc.",null,"14","Sumptuary / Entertainment / Gift Expenses, etc.","Provision for expenses on sumptuary, refreshments, entertainments and gifts"]
["15","Secret Service Expenses",null,"15","Secret Service Expenses","Provision for expenses on services not to be disclosed in public interest (for specific departments only)"]
["16","Minor Works",null,"16","Minor Works","Provision for expenses on works of the nature of additions, alterations and renovations which should not be of considerable value (not more than Rupees 50 lakh) and should not add to the usefulness of the property significantly"]
["17","Major Works",null,"17","Major Works","Provision for expenses on construction works (more than Rupees 50 lakh)"]
["18","Machinery and Equipments/ Tools and Plants (METP)",null,"18","Machinery and Equipments/ Tools and Plants (METP)","Provision for purchases of all kinds of machineries, equipments, tools and plants for specific works and are not required for routine office activities"]
["19","Electricity and Water Charges",null,"19","Electricity and Water Charges","Provision for payment on electricity and water charges incurred on functional activities by specific departments like Public Health & Engineering Department and Medical & Health Department"]
["20","Running and Maintenance of Functional Vehicles",null,"20","Running and Maintenance of Functional Vehicles","Provision for expenses on running and maintenance of functional vehicles including Petrol, Oil and Lubricants (POL), Diesel, etc."]
["21","Maintenance and Repairs",null,"21","Maintenance and Repairs","Provision for expenses on all kinds of repairs and maintenance of machineries, buildings, equipments, tools and plants, etc."]
["22","Material and Supplies",null,"22","Material and Supplies","Provision for purchases of materials and supplies"]
["23","Interest/ Dividends",null,"23","Interest/ Dividends","Provision for payment of interest on borrowings and deposits and payment of dividends on share capital"]
["24","Pension and Gratuity",null,"24","Pension and Gratuity","Provision for social security pension payments"]
["25","Depreciation",null,"25","Depreciation","Provision for annual depreciation in the value of assets"]
["26","Write off / Losses",null,"26","Write off / Losses","Provision for writing off losses after obtaining sanction of the competent authority"]
["27","Suspense",null,"27","Suspense","Balancing accounting head"]
["28","Miscellaneous Expenses",null,"28","Miscellaneous Expenses","Provision for expenses that cannot be classified under any other object head"]
["29","Training, Tours and Conference Expenses",null,"29","Training, Tours and Conference Expenses","Provision for expenses on training programmes, academic tours, and conferences organised"]
["30","Functions and Exhibitions",null,"30","Functions and Exhibitions","Provision for expenses on ceremonies, celebrations, and exhibitions related to departmental activities"]
["31","Expenses on Library and Periodicals",null,"31","Expenses on Library and Periodicals","Provision for expenses on purchase of books/ journals/ magazines/ other periodicals, etc., for libraries"]
["32","Decretal Charges",null,"32","Decretal Charges","Provision for expenses to be booked in compliance of court orders"]
["33","Laboratory Expenses",null,"33","Laboratory Expenses","Provision for expenses for purchase of laboratory equipments and / or related materials"]
["34","Interest on Capital Accounts",null,"34","Interest on Capital Accounts","Provision for interest charged on value of capital assets"]
["35","Interest on Refunds",null,"35","Interest on Refunds","Provision for interest payment on refund of revenues"]
["36","Hiring Charges of Vehicles",null,"36","Hiring Charges of Vehicles","Provision for expenses on hiring of vehicles"]
["37","Liveries and other facilities",null,"37","Liveries and other facilities","Provision for expenses on liveries and other facilities for eligible employees"]
["38","Stationery Expenses",null,"38","Stationery Expenses","Provision for expenses on purchase of office stationery"]
["39","Printing Expenses",null,"39","Printing Expenses","Provision for expenses on printed material purchased from State Government Press and/or other printing tasks got done by State Government Press or any other Press on behalf of State Government Press"]
["40","Research, Evaluation and Survey Expenses",null,"40","Research, Evaluation and Survey Expenses","Provision for expenses on research, evaluation and surveys"]
["41","Contractual Expenses",null,"41","Contractual Expenses","Provision for expenditure on hiring of services through agencies or on individuals directly engaged on contract basis against no sanctioned posts"]
["42","Incentive and Honorarium Expenses",null,"42","Incentive and Honorarium Expenses","Provision for expenditure under the Incentive Scheme of the State"]
["43","Employees and Labour Welfare Expenses",null,"43","Employees and Labour Welfare Expenses","Provision for expenditure for welfare activities of labour / employees"]
["44","Transport, Collection and Distribution Expenses",null,"44","Transport, Collection and Distribution Expenses","Provision for expenditure on distribution of supplies under Public Distribution System (PDS)"]
["45","Improvement in Distributory System",null,"45","Improvement in Distributory System","Provision for expenditure on improving drinking water distributory system by Public Health and Engineering Department"]
["46","Telephone, Light and Water facility to Members of Legislative Assembly",null,"46","Telephone, Light and Water facility to Members of Legislative Assembly","Provision for expenses on telephone, light and water facilities provided to Members of Legislative Assembly"]
["47","House Rent, Vehicle and Transport Allowance to Members of Legislative Assembly",null,"47","House Rent, Vehicle and Transport Allowance to Members of Legislative Assembly","Provision for expenses on House Rent, Vehicle and Transport Allowance provided to Members of Legislative Assembly"]
["48","Award and Compensation",null,"48","Award and Compensation","Provision for expenses on land acquisition"]
["49","Payment of Transport Equalisation",null,"49","Payment of Transport Equalisation","Provision for expenditure on transport equalization under Public Distribution System (PDS)"]
["50","Disposal of Biochemical Waste",null,"50","Disposal of Biochemical Waste","Provision for expenditure on disposal of biochemical waste"]
["51","Expenses on Self Financing Services",null,"51","Expenses on Self Financing Services","Provision for running on self financing services"]
["52","Soil Conservation Works",null,"52","Soil Conservation Works","Provision for expenditure on soil conservation works"]
["53","Payment of Difference Amount",null,"53","Payment of Difference Amount","Payment of difference amount under Public Distribution System (PDS)"]
["54","Maintenance (Material)",null,"54","Maintenance (Material)","Provision for expenditure on purchase of material for maintenance of capital works"]
["55","Maintenance (Establishment)",null,"55","Maintenance (Establishment)","Establishment cost of maintenance of capital works"]
["56","Mess Management",null,"56","Mess Management","Provision for expenditure on running of messes of guest houses, circuit houses, government hostels, Jodhpur House, Rajasthan House, Bikaner House, etc."]
["57","Expenses on Specific Services by the Departments",null,"57","Expenses on Specific Services by the Departments","Provision for expenses on specific services relating to departmental activities"]
["58","Beds and Clothes",null,"58","Beds and Clothes","Provision for expenditure on purchase of beds and clothes in hospitals/ dispensaries/ clinics/ health centres/ jails"]
["59","Specific Purchases by Departments",null,"59","Specific Purchases by Departments","Provision for expenses on specific purchases relating to departmental activities"]
["60","Drugs and Medicines",null,"60","Drugs and Medicines","Provision for expenditure on purchase of drugs and medicines in hospitals/ dispensaries/ clinics/ health centres"]
["61","Grocery and Food Stuff",null,"61","Grocery and Food Stuff","Provision for expenditure on grocery and food materials supplied in departments dealing with jails, education, medical services, social welfare and relief services, etc."]
["62","Computerisation and Related Communication Expenses",null,"62","Computerisation and Related Communication Expenses","Provision for expenditure relating to use of Information Technology (IT) in government departments, including expenditure on hiring of machines with men"]
["63","Plantation",null,"63","Plantation","Provision for expenditure on plantation work carried out by Forest Department"]
["64","Construction of Ponds and Diggis",null,"64","Construction of Ponds and Diggis","Provision for expenditure on construction of ponds and diggis by Water Resources Department"]
["65","Canals",null,"65","Canals","Provision for expenditure on construction of canals by Water Resources Department"]
["66","Branches",null,"66","Branches","Provision for expenditure on construction of branches by Water Resources Department"]
["67","Distributories",null,"67","Distributories","Provision for expenditure on construction of distributories by Water Resources Department"]
["68","Underground Canals and Water Courses",null,"68","Underground Canals and Water Courses","Provision for expenditure on construction of canals and water courses by Water Resources Department"]
["69","Expenses on Raw Water",null,"69","Expenses on Raw Water","Provision for expenditure on extraction of water for drinking purposes"]
["70","Chemical Charges",null,"70","Chemical Charges","Provision for expenditure on treatment of water for drinking purposes"]
["71","State Share in Construction Works",null,"71","State Share in Construction Works","Provision for expenditure on State's share in inter-state construction projects"]
["72","Modernisation, Strengthening, Renovation and Upgradation Expenses",null,"72","Modernisation, Strengthening, Renovation and Upgradation Expenses","Provision for expenses on works of the nature of modernisation, strengthening and upgradations that add to the usefulness of the property/ equipments"]
["73","Share Capital",null,"73","Share Capital","Provision for investment in capital of any Government / non Government / quasi government agency/ body"]
["74","Expenses on Construction of Roads and Bridges",null,"74","Expenses on Construction of Roads and Bridges","Provision for expenditure on construction of roads and bridges"]
["75","Loans",null,"75","Loans","Provision for disbursement of loans"]
["76","Stock and Storage (Aaklan)",null,"76","Stock and Storage (Aaklan)","Accounting adjustment entry"]
["77","Advances for Public Works (Aaklan)",null,"77","Advances for Public Works (Aaklan)","Accounting adjustment entry"]
["78","Manufacturing Account (Aaklan)",null,"78","Manufacturing Account (Aaklan)","Accounting adjustment entry"]
["79","Stock and Storage (Viklan)",null,"79","Stock and Storage (Viklan)","Accounting adjustment entry"]
["80","Advances for Construction of Public Works (Viklan)",null,"80","Advances for Construction of Public Works (Viklan)","Accounting adjustment entry"]
["81","Manufacturing Account (Viklan)",null,"81","Manufacturing Account (Viklan)","Accounting adjustment entry"]
["82","Transfer to Fund",null,"82","Transfer to Fund","Accounting adjustment entry"]
["83","Transfer from Fund",null,"83","Transfer from Fund","Accounting adjustment entry"]
["84","Pension and Retiral Benefits",null,"84","Pension and Retiral Benefits","Provision for payment of retirement benefits and payment of regular pension"]
["86","Machinery and Equipments / Tools and Plants (Aaklan)",null,"86","Machinery and Equipments / Tools and Plants (Aaklan)","Accounting adjustment entry"]
["87","Health Insurance Premium",null,"87","Health Insurance Premium","Provision for payment of premium for health insurance of employees appointed on or after 1st January, 2004"]
["88","Tax on Cash Withdrawals from Banks",null,"88","Tax on Cash Withdrawals from Banks","Provision for payment of tax on cash withdrawals from Banks"]
["89","Government Contribution in Contributory Pension Scheme",null,"89","Government Contribution in Contributory Pension Scheme","Provision for State Government's contribution to Contributory Pension Scheme for employees appointed on or after 1st January, 2004"]
["90","Contribution",null,"90","Contribution","Provision for contribution or donation by a superior governmental entity to a local entity for a specified purpose. Contribution would normally arise out of obligation under an arrangement entered."]
["91","Subsidy",null,"91","Subsidy","Provision for benefit given by government to groups, individuals and autonomous bodies usually in the form of cash payment"]
["92","Grant -in-Aid General (Salary)",null,"92","Grant -in-Aid General (Salary)","Grant in aid given by the government for payment of salary"]
["93","Grant-in-Aid for creation of Capital Assets",null,"93","Grant-in-Aid for creation of Capital Assets","Grant in aid given by the government for creation of assets"]
["97","Add",null,"97","Add","Accounting adjustment entry"]
["98","Deduct",null,"98","Deduct","Accounting adjustment entry"]
["101","GPF ",null,101,"GPF LOAN"]
["105","SI",null,105,"SI LOAN"]
[null,null,null,"GPF FINAL","GPF FINAL PAYMENT"]
[null,null,null,"SI FINAL","SI FINAL PAYMENT"]
[]
[]
[null,null,null,null,null,"Home-Back",null,null,null,null,null,null,null,null,null,null,{"$f":"'Budget Head'!E4","v":"Office ID"},null,{"$f":"'Budget Head'!F4","v":"Name of Office"},"Name_of_office",null,null,"Office_ID_Name"]
[null,"Demand No.",null,"Budget Head",null,"Budget_Head",null,"D.N.",null,null,"Received",1,null,null,null,null,{"$f":"IF('Budget Head'!E5=\"\",\"\",'Budget Head'!E5)","v":123},{"$f":"IF(S103=\"\",\"\",COUNTIF(DDO_list,\"<=\"&S103))","v":2},{"$f":"'Budget Head'!F5","v":"secondary education"},{"$f":"VLOOKUP(ROW()-ROW($U$102),$R$103:$S$282,2,FALSE)","v":"Directrate secondary education"},{"$f":"INDEX($Q$103:$Q$282,MATCH(T103,DDO_list,0))","v":999},{"$f":"CONCATENATE(U103,\"-\",T103)","v":"999-Directrate secondary education"},{"$f":"IFERROR(V103,\"\")","v":"999-Directrate secondary education"}]
[null,{"$f":"'Budget Head'!C5","v":24},{"$f":"IF(D104=\"\",\"\",COUNTIF($D$104:$D$250,\"<=\"&D104))","v":1},{"$f":"IF('Budget Head'!B5=\"\",\"\",'Budget Head'!B5)","v":"2202-02-109-27-01"},{"$f":"VLOOKUP(ROW()-ROW($E$103),$C$104:$D$250,2,FALSE)","v":"2202-02-109-27-01"},{"$f":"IFERROR(E104,\"\")","v":"2202-02-109-27-01"},{"$f":"INDEX($B$104:$B$245,MATCH(F104,$E$104:$E$250,0))","v":24},{"$f":"IFERROR(G104,\"\")","v":24},null,null,"Allotment",2,null,null,null,null,{"$f":"IF('Budget Head'!E6=\"\",\"\",'Budget Head'!E6)","v":999},1,{"$f":"'Budget Head'!F6","v":"Directrate secondary education"},{"$f":"VLOOKUP(ROW()-ROW($U$102),$R$103:$S$282,2,FALSE)","v":"secondary education"},123,{"$f":"CONCATENATE(U104,\"-\",T104)","v":"123-secondary education"},{"$f":"IFERROR(V104,\"\")","v":"123-secondary education"}]
[null,{"$f":"'Budget Head'!C6","v":24},2,{"$f":"'Budget Head'!B6","v":"2202-02-109-27-02"},{"$f":"VLOOKUP(ROW()-ROW($E$103),$C$104:$D$250,2,FALSE)","v":"2202-02-109-27-02"},{"$f":"IFERROR(E105,\"\")","v":"2202-02-109-27-02"},{"$f":"INDEX($B$104:$B$245,MATCH(F105,$E$104:$E$250,0))","v":24},{"$f":"IFERROR(G105,\"\")","v":24},null,null,"Withdrawal",3,null,null,null,null,{"$f":"IF('Budget Head'!E7=\"\",\"\",'Budget Head'!E7)","v":""},178,{"$f":"'Budget Head'!F7","v":0},{"$error":"#N/A"},{"$error":"#N/A"},{"$error":"#N/A"},""]
[null,{"$f":"'Budget Head'!C7","v":0},145,{"$f":"'Budget Head'!B7","v":0},{"$error":"#N/A"},{"$f":"IFERROR(E106,\"\")","v":""},{"$error":"#N/A"},{"$f":"IFERROR(G106,\"\")","v":""},null,null,"Surrendar",4,null,null,null,null,{"$f":"IF('Budget Head'!E8=\"\",\"\",'Budget Head'!E8)","v":""},178,{"$f":"'Budget Head'!F8","v":0},{"$error":"#N/A"},{"$error":"#N/A"},{"$error":"#N/A"},""]
[null,{"$f":"'Budget Head'!C8","v":0},145,{"$f":"'Budget Head'!B8","v":0},{"$error":"#N/A"},"",{"$error":"#N/A"},"",null,null,null,null,null,null,null,null,{"$f":"IF('Budget Head'!E9=\"\",\"\",'Budget Head'!E9)","v":""},178,{"$f":"'Budget Head'!F9","v":0},{"$error":"#N/A"},{"$error":"#N/A"},{"$error":"#N/A"},""]
[null,{"$f":"'Budget Head'!C9","v":0},145,{"$f":"'Budget Head'!B9","v":0},{"$error":"#N/A"},"",{"$error":"#N/A"},"",null,null,null,null,null,null,null,null,{"$f":"IF('Budget Head'!E10=\"\",\"\",'Budget Head'!E10)","v":""},178,{"$f":"'Budget Head'!F10","v":0},{"$error":"#N/A"},{"$error":"#N/A"},{"$error":"#N/A"},""]
[null,{"$f":"'Budget Head'!C10","v":0},145,{"$f":"'Budget Head'!B10","v":0},{"$error":"#N/A"},"",{"$error":"#N/A"},"",null,null,null,null,null,null,null,null,{"$f":"IF('Budget Head'!E11=\"\",\"\",'Budget Head'!E11)","v":""},178,{"$f":"'Budget Head'!F11","v":0},{"$error":"#N/A"},{"$error":"#N/A"},{"$error":"#N/A"},""]
[null,{"$f":"'Budget Head'!C11","v":0},145,{"$f":"'Budget Head'!B11","v":0},{"$error":"#N/A"},"",{"$error":"#N/A"},"",null,null,null,null,null,null,null,null,{"$f":"IF('Budget Head'!E12=\"\",\"\",'Budget Head'!E12)","v":""},178,{"$f":"'Budget Head'!F12","v":0},{"$error":"#N/A"},{"$error":"#N/A"},{"$error":"#N/A"},""]
[null,{"$f":"'Budget Head'!C12","v":0},145,{"$f":"'Budget Head'!B12","v":0},{"$error":"#N/A"},"",{"$error":"#N/A"},"",null,null,null,null,null,null,null,null,{"$f":"IF('Budget Head'!E13=\"\",\"\",'Budget Head'!E13)","v":""},178,{"$f":"'Budget Head'!F13","v":0},{"$error":"#N/A"},{"$error":"#N/A"},{"$error":"#N/A"},""]
[null,{"$f":"'Budget Head'!C13","v":0},145,{"$f":"'Budget Head'!B13","v":0},{"$error":"#N/A"},"",{"$error":"#N/A"},"",null,null,null,null,null,null,null,null,{"$f":"IF('Budget Head'!E14=\"\",\"\",'Budget Head'!E14)","v":""},178,{"$f":"'Budget Head'!F14","v":0},{"$error":"#N/A"},{"$error":"#N/A"},{"$error":"#N/A"},""]
[null,{"$f":"'Budget Head'!C14","v":0},145,{"$f":"'Budget Head'!B14","v":0},{"$error":"#N/A"},"",{"$error":"#N/A"},"",null,null,null,null,null,null,null,null,{"$f":"IF('Budget Head'!E15=\"\",\"\",'Budget Head'!E15)","v":""},178,{"$f":"'Budget Head'!F15","v":0},{"$error":"#N/A"},{"$error":"#N/A"},{"$error":"#N/A"},""]
[null,{"$f":"'Budget Head'!C15","v":0},145,{"$f":"'Budget Head'!B15","v":0},{"$error":"#N/A"},"",{"$error":"#N/A"},"",null,null,null,null,null,null,null,null,{"$f":"IF('Budget Head'!E16=\"\",\"\",'Budget Head'!E16)","v":""},178,{"$f":"'Budget Head'!F16","v":0},{"$error":"#N/A"},{"$error":"#N/A"},{"$error":"#N/A"},""]
[null,{"$f":"'Budget Head'!C16","v":0},145,{"$f":"'Budget Head'!B16","v":0},{"$error":"#N/A"},"",{"$error":"#N/A"},"",null,null,null,null,null,null,null,null,{"$f":"IF('Budget Head'!E17=\"\",\"\",'Budget Head'!E17)","v":""},178,{"$f":"'Budget Head'!F17","v":0},{"$error":"#N/A"},{"$error":"#N/A"},{"$error":"#N/A"},""]
[null,{"$f":"'Budget Head'!C17","v":0},145,{"$f":"'Budget Head'!B17","v":0},{"$error":"#N/A"},"",{"$error":"#N/A"},"",null,null,null,null,null,null,null,null,{"$f":"IF('Budget Head'!E18=\"\",\"\",'Budget Head'!E18)","v":""},178,{"$f":"'Budget Head'!F18","v":0},{"$error":"#N/A"},{"$error":"#N/A"},{"$error":"#N/A"},""]
[null,{"$f":"'Budget Head'!C18","v":0},145,{"$f":"'Budget Head'!B18","v":0},{"$error":"#N/A"},"",{"$error":"#N/A"},"",null,null,null,null,null,null,null,null,{"$f":"IF('Budget Head'!E19=\"\",\"\",'Budget Head'!E19)","v":""},178,{"$f":"'Budget Head'!F19","v":0},{"$error":"#N/A"},{"$error":"#N/A"},{"$error":"#N/A"},""]
[null,{"$f":"'Budget Head'!C19","v":0},145,{"$f":"'Budget Head'!B19","v":0},{"$error":"#N/A"},"",{"$error":"#N/A"},"",null,null,null,null,null,null,null,null,{"$f":"IF('Budget Head'!E20=\"\",\"\",'Budget Head'!E20)","v":""},178,{"$f":"'Budget Head'!F20","v":0},{"$error":"#N/A"},{"$error":"#N/A"},{"$error":"#N/A"},""]
[null,{"$f":"'Budget Head'!C20","v":0},145,{"$f":"'Budget Head'!B20","v":0},{"$error":"#N/A"},"",{"$error":"#N/A"},"",null,null,null,null,null,null,null,null,{"$f":"IF('Budget Head'!E21=\"\",\"\",'Budget Head'!E21)","v":""},178,{"$f":"'Budget Head'!F21","v":0},{"$error":"#N/A"},{"$error":"#N/A"},{"$error":"#N/A"},""]
[null,{"$f":"'Budget Head'!C21","v":0},145,{"$f":"'Budget Head'!B21","v":0},{"$error":"#N/A"},"",{"$error":"#N/A"},"",null,null,null,null,null,null,null,null,{"$f":"IF('Budget Head'!E22=\"\",\"\",'Budget Head'!E22)","v":""},178,{"$f":"'Budget Head'!F22","v":0},{"$error":"#N/A"},{"$error":"#N/A"},{"$error":"#N/A"},""]
[null,{"$f":"'Budget Head'!C22","v":0},145,{"$f":"'Budget Head'!B22","v":0},{"$error":"#N/A"},"",{"$error":"#N/A"},"",null,null,null,null,null,null,null,null,{"$f":"IF('Budget Head'!E23=\"\",\"\",'Budget Head'!E23)","v":""},178,{"$f":"'Budget Head'!F23","v":0},{"$error":"#N/A"},{"$error":"#N/A"},{"$error":"#N/A"},""]
[null,{"$f":"'Budget Head'!C23","v":0},145,{"$f":"'Budget Head'!B23","v":0},{"$error":"#N/A"},"",{"$error":"#N/A"},"",null,null,null,null,null,null,null,null,{"$f":"IF('Budget Head'!E24=\"\",\"\",'Budget Head'!E24)","v":""},178,{"$f":"'Budget Head'!F24","v":0},{"$error":"#N/A"},{"$error":"#N/A"},{"$error":"#N/A"},""]
[null,{"$f":"'Budget Head'!C24","v":0},145,{"$f":"'Budget Head'!B24","v":0},{"$error":"#N/A"},"",{"$error":"#N/A"},"",null,null,null,null,null,null,null,null,{"$f":"IF('Budget Head'!E25=\"\",\"\",'Budget Head'!E25)","v":""},178,{"$f":"'Budget Head'!F25","v":0},{"$error":"#N/A"},{"$error":"#N/A"},{"$error":"#N/A"},""]
[null,{"$f":"'Budget Head'!C25","v":0},145,{"$f":"'Budget Head'!B25","v":0},{"$error":"#N/A"},"",{"$error":"#N/A"},"",null,null,null,null,null,null,null,null,{"$f":"IF('Budget Head'!E26=\"\",\"\",'Budget Head'!E26)","v":""},178,{"$f":"'Budget Head'!F26","v":0},{"$error":"#N/A"},{"$error":"#N/A"},{"$error":"#N/A"},""]
[null,{"$f":"'Budget Head'!C26","v":0},145,{"$f":"'Budget Head'!B26","v":0},{"$error":"#N/A"},"",{"$error":"#N/A"},"",null,null,null,null,null,null,null,null,{"$f":"IF('Budget Head'!E27=\"\",\"\",'Budget Head'!E27)","v":""},178,{"$f":"'Budget Head'!F27","v":0},{"$error":"#N/A"},{"$error":"#N/A"},{"$error":"#N/A"},""]
[null,{"$f":"'Budget Head'!C27","v":0},145,{"$f":"'Budget Head'!B27","v":0},{"$error":"#N/A"},"",{"$error":"#N/A"},"",null,null,null,null,null,null,null,null,{"$f":"IF('Budget Head'!E28=\"\",\"\",'Budget Head'!E28)","v":""},178,{"$f":"'Budget Head'!F28","v":0},{"$error":"#N/A"},{"$error":"#N/A"},{"$error":"#N/A"},""]
[null,{"$f":"'Budget Head'!C28","v":0},145,{"$f":"'Budget Head'!B28","v":0},{"$error":"#N/A"},"",{"$error":"#N/A"},"",null,null,null,null,null,null,null,null,{"$f":"IF('Budget Head'!E29=\"\",\"\",'Budget Head'!E29)","v":""},178,{"$f":"'Budget Head'!F29","v":0},{"$error":"#N/A"},{"$error":"#N/A"},{"$error":"#N/A"},""]
[null,{"$f":"'Budget Head'!C29","v":0},145,{"$f":"'Budget Head'!B29","v":0},{"$error":"#N/A"},"",{"$error":"#N/A"},"",null,null,null,null,null,null,null,null,{"$f":"IF('Budget Head'!E30=\"\",\"\",'Budget Head'!E30)","v":""},178,{"$f":"'Budget Head'!F30","v":0},{"$error":"#N/A"},{"$error":"#N/A"},{"$error":"#N/A"},""]
[null,{"$f":"'Budget Head'!C30","v":0},145,{"$f":"'Budget Head'!B30","v":0},{"$error":"#N/A"},"",{"$error":"#N/A"},"",null,null,null,null,null,null,null,null,{"$f":"IF('Budget Head'!E31=\"\",\"\",'Budget Head'!E31)","v":""},178,{"$f":"'Budget Head'!F31","v":0},{"$error":"#N/A"},{"$error":"#N/A"},{"$error":"#N/A"},""]
[null,{"$f":"'Budget Head'!C31","v":0},145,{"$f":"'Budget Head'!B31","v":0},{"$error":"#N/A"},"",{"$error":"#N/A"},"",null,null,null,null,null,null,null,null,{"$f":"IF('Budget Head'!E32=\"\",\"\",'Budget Head'!E32)","v":""},178,{"$f":"'Budget Head'!F32","v":0},{"$error":"#N/A"},{"$error":"#N/A"},{"$error":"#N/A"},""]
[null,{"$f":"'Budget Head'!C32","v":0},145,{"$f":"'Budget Head'!B32","v":0},{"$error":"#N/A"},"",{"$error":"#N/A"},"",null,null,null,null,null,null,null,null,{"$f":"IF('Budget Head'!E33=\"\",\"\",'Budget Head'!E33)","v":""},178,{"$f":"'Budget Head'!F33","v":0},{"$error":"#N/A"},{"$error":"#N/A"},{"$error":"#N/A"},""]
[null,{"$f":"'Budget Head'!C33","v":0},145,{"$f":"'Budget Head'!B33","v":0},{"$error":"#N/A"},"",{"$error":"#N/A"},"",null,null,null,null,null,null,null,null,{"$f":"IF('Budget Head'!E34=\"\",\"\",'Budget Head'!E34)","v":""},178,{"$f":"'Budget Head'!F34","v":0},{"$error":"#N/A"},{"$error":"#N/A"},{"$error":"#N/A"},""]
[null,{"$f":"'Budget Head'!C34","v":0},145,{"$f":"'Budget Head'!B34","v":0},{"$error":"#N/A"},"",{"$error":"#N/A"},"",null,null,null,null,null,null,null,null,{"$f":"IF('Budget Head'!E35=\"\",\"\",'Budget Head'!E35)","v":""},178,{"$f":"'Budget Head'!F35","v":0},{"$error":"#N/A"},{"$error":"#N/A"},{"$error":"#N/A"},""]
[null,{"$f":"'Budget Head'!C35","v":0},145,{"$f":"'Budget Head'!B35","v":0},{"$error":"#N/A"},"",{"$error":"#N/A"},"",null,null,null,null,null,null,null,null,{"$f":"IF('Budget Head'!E36=\"\",\"\",'Budget Head'!E36)","v":""},178,{"$f":"'Budget Head'!F36","v":0},{"$error":"#N/A"},{"$error":"#N/A"},{"$error":"#N/A"},""]
[null,{"$f":"'Budget Head'!C36","v":0},145,{"$f":"'Budget Head'!B36","v":0},{"$error":"#N/A"},"",{"$error":"#N/A"},"",null,null,null,null,null,null,null,null,{"$f":"IF('Budget Head'!E37=\"\",\"\",'Budget Head'!E37)","v":""},{"$f":"IF(S135=\"\",\"\",COUNTIF(DDO_list,\"<=\"&S135))","v":178},{"$f":"'Budget Head'!F37","v":0},{"$error":"#N/A"},{"$f":"INDEX($Q$103:$Q$282,MATCH(T135,DDO_list,0))","v":{"$error":"#N/A"}},{"$error":"#N/A"},""]
[null,{"$f":"'Budget Head'!C37","v":0},{"$f":"IF(D136=\"\",\"\",COUNTIF($D$104:$D$250,\"<=\"&D136))","v":145},{"$f":"'Budget Head'!B37","v":0},{"$error":"#N/A"},"",{"$error":"#N/A"},"",null,null,null,null,null,null,null,null,{"$f":"IF('Budget Head'!E38=\"\",\"\",'Budget Head'!E38)","v":""},178,{"$f":"'Budget Head'!F38","v":0},{"$error":"#N/A"},{"$error":"#N/A"},{"$error":"#N/A"},""]
[null,{"$f":"'Budget Head'!C38","v":0},145,{"$f":"'Budget Head'!B38","v":0},{"$error":"#N/A"},"",{"$error":"#N/A"},"",null,null,null,null,null,null,null,null,{"$f":"IF('Budget Head'!E39=\"\",\"\",'Budget Head'!E39)","v":""},178,{"$f":"'Budget Head'!F39","v":0},{"$error":"#N/A"},{"$error":"#N/A"},{"$error":"#N/A"},""]
[null,{"$f":"'Budget Head'!C39","v":0},145,{"$f":"'Budget Head'!B39","v":0},{"$error":"#N/A"},"",{"$error":"#N/A"},"",null,null,null,null,null,null,null,null,{"$f":"IF('Budget Head'!E40=\"\",\"\",'Budget Head'!E40)","v":""},178,{"$f":"'Budget Head'!F40","v":0},{"$error":"#N/A"},{"$error":"#N/A"},{"$error":"#N/A"},""]
[null,{"$f":"'Budget Head'!C40","v":0},145,{"$f":"'Budget Head'!B40","v":0},{"$error":"#N/A"},"",{"$error":"#N/A"},"",null,null,null,null,null,null,null,null,{"$f":"IF('Budget Head'!E41=\"\",\"\",'Budget Head'!E41)","v":""},178,{"$f":"'Budget Head'!F41","v":0},{"$error":"#N/A"},{"$error":"#N/A"},{"$error":"#N/A"},""]
[null,{"$f":"'Budget Head'!C41","v":0},145,{"$f":"'Budget Head'!B41","v":0},{"$error":"#N/A"},"",{"$error":"#N/A"},"",null,null,null,null,null,null,null,null,{"$f":"IF('Budget Head'!E42=\"\",\"\",'Budget Head'!E42)","v":""},178,{"$f":"'Budget Head'!F42","v":0},{"$error":"#N/A"},{"$error":"#N/A"},{"$error":"#N/A"},""]
[null,{"$f":"'Budget Head'!C42","v":0},145,{"$f":"'Budget Head'!B42","v":0},{"$error":"#N/A"},"",{"$error":"#N/A"},"",null,null,null,null,null,null,null,null,{"$f":"IF('Budget Head'!E43=\"\",\"\",'Budget Head'!E43)","v":""},178,{"$f":"'Budget Head'!F43","v":0},{"$error":"#N/A"},{"$error":"#N/A"},{"$error":"#N/A"},""]
[null,{"$f":"'Budget Head'!C43","v":0},145,{"$f":"'Budget Head'!B43","v":0},{"$error":"#N/A"},"",{"$error":"#N/A"},"",null,null,null,null,null,null,null,null,{"$f":"IF('Budget Head'!E44=\"\",\"\",'Budget Head'!E44)","v":""},178,{"$f":"'Budget Head'!F44","v":0},{"$error":"#N/A"},{"$error":"#N/A"},{"$error":"#N/A"},""]
[null,{"$f":"'Budget Head'!C44","v":0},145,{"$f":"'Budget Head'!B44","v":0},{"$error":"#N/A"},"",{"$error":"#N/A"},"",null,null,null,null,null,null,null,null,{"$f":"IF('Budget Head'!E45=\"\",\"\",'Budget Head'!E45)","v":""},178,{"$f":"'Budget Head'!F45","v":0},{"$error":"#N/A"},{"$error":"#N/A"},{"$error":"#N/A"},""]
[null,{"$f":"'Budget Head'!C45","v":0},145,{"$f":"'Budget Head'!B45","v":0},{"$error":"#N/A"},"",{"$error":"#N/A"},"",null,null,null,null,null,null,null,null,{"$f":"IF('Budget Head'!E46=\"\",\"\",'Budget Head'!E46)","v":""},178,{"$f":"'Budget Head'!F46","v":0},{"$error":"#N/A"},{"$error":"#N/A"},{"$error":"#N/A"},""]
[null,{"$f":"'Budget Head'!C46","v":0},145,{"$f":"'Budget Head'!B46","v":0},{"$error":"#N/A"},"",{"$error":"#N/A"},"",null,null,null,null,null,null,null,null,{"$f":"IF('Budget Head'!E47=\"\",\"\",'Budget Head'!E47)","v":""},178,{"$f":"'Budget Head'!F47","v":0},{"$error":"#N/A"},{"$error":"#N/A"},{"$error":"#N/A"},""]
[null,{"$f":"'Budget Head'!C47","v":0},145,{"$f":"'Budget Head'!B47","v":0},{"$error":"#N/A"},"",{"$error":"#N/A"},"",null,null,null,null,null,null,null,null,{"$f":"IF('Budget Head'!E48=\"\",\"\",'Budget Head'!E48)","v":""},178,{"$f":"'Budget Head'!F48","v":0},{"$error":"#N/A"},{"$error":"#N/A"},{"$error":"#N/A"},""]
[null,{"$f":"'Budget Head'!C48","v":0},145,{"$f":"'Budget Head'!B48","v":0},{"$error":"#N/A"},"",{"$error":"#N/A"},"",null,null,null,null,null,null,null,null,{"$f":"IF('Budget Head'!E49=\"\",\"\",'Budget Head'!E49)","v":""},178,{"$f":"'Budget Head'!F49","v":0},{"$error":"#N/A"},{"$error":"#N/A"},{"$error":"#N/A"},""]
[null,{"$f":"'Budget Head'!C49","v":0},145,{"$f":"'Budget Head'!B49","v":0},{"$error":"#N/A"},"",{"$error":"#N/A"},"",null,null,null,null,null,null,null,null,{"$f":"IF('Budget Head'!E50=\"\",\"\",'Budget Head'!E50)","v":""},178,{"$f":"'Budget Head'!F50","v":0},{"$error":"#N/A"},{"$error":"#N/A"},{"$error":"#N/A"},""]
[null,{"$f":"'Budget Head'!C50","v":0},145,{"$f":"'Budget Head'!B50","v":0},{"$error":"#N/A"},"",{"$error":"#N/A"},"",null,null,null,null,null,null,null,null,{"$f":"IF('Budget Head'!E51=\"\",\"\",'Budget Head'!E51)","v":""},178,{"$f":"'Budget Head'!F51","v":0},{"$error":"#N/A"},{"$error":"#N/A"},{"$error":"#N/A"},""]
[null,{"$f":"'Budget Head'!C51","v":0},145,{"$f":"'Budget Head'!B51","v":0},{"$error":"#N/A"},"",{"$error":"#N/A"},"",null,null,null,null,null,null,null,null,{"$f":"IF('Budget Head'!E52=\"\",\"\",'Budget Head'!E52)","v":""},178,{"$f":"'Budget Head'!F52","v":0},{"$error":"#N/A"},{"$error":"#N/A"},{"$error":"#N/A"},""]
[null,{"$f":"'Budget Head'!C52","v":0},145,{"$f":"'Budget Head'!B52","v":0},{"$error":"#N/A"},"",{"$error":"#N/A"},"",null,null,null,null,null,null,null,null,{"$f":"IF('Budget Head'!E53=\"\",\"\",'Budget Head'!E53)","v":""},178,{"$f":"'Budget Head'!F53","v":0},{"$error":"#N/A"},{"$error":"#N/A"},{"$error":"#N/A"},""]
[null,{"$f":"'Budget Head'!C53","v":0},145,{"$f":"'Budget Head'!B53","v":0},{"$error":"#N/A"},"",{"$error":"#N/A"},"",null,null,null,null,null,null,null,null,{"$f":"IF('Budget Head'!E54=\"\",\"\",'Budget Head'!E54)","v":""},178,{"$f":"'Budget Head'!F54","v":0},{"$error":"#N/A"},{"$error":"#N/A"},{"$error":"#N/A"},""]
[null,{"$f":"'Budget Head'!C54","v":0},145,{"$f":"'Budget Head'!B54","v":0},{"$error":"#N/A"},"",{"$error":"#N/A"},"",null,null,null,null,null,null,null,null,{"$f":"IF('Budget Head'!E55=\"\",\"\",'Budget Head'!E55)","v":""},178,{"$f":"'Budget Head'!F55","v":0},{"$error":"#N/A"},{"$error":"#N/A"},{"$error":"#N/A"},""]
[null,{"$f":"'Budget Head'!C55","v":0},145,{"$f":"'Budget Head'!B55","v":0},{"$error":"#N/A"},"",{"$error":"#N/A"},"",null,null,null,null,null,null,null,null,{"$f":"IF('Budget Head'!E56=\"\",\"\",'Budget Head'!E56)","v":""},178,{"$f":"'Budget Head'!F56","v":0},{"$error":"#N/A"},{"$error":"#N/A"},{"$error":"#N/A"},""]
[null,{"$f":"'Budget Head'!C56","v":0},145,{"$f":"'Budget Head'!B56","v":0},{"$error":"#N/A"},"",{"$error":"#N/A"},"",null,null,null,null,null,null,null,null,{"$f":"IF('Budget Head'!E57=\"\",\"\",'Budget Head'!E57)","v":""},178,{"$f":"'Budget Head'!F57","v":0},{"$error":"#N/A"},{"$error":"#N/A"},{"$error":"#N/A"},""]
[null,{"$f":"'Budget Head'!C57","v":0},145,{"$f":"'Budget Head'!B57","v":0},{"$error":"#N/A"},"",{"$error":"#N/A"},"",null,null,null,null,null,null,null,null,{"$f":"IF('Budget Head'!E58=\"\",\"\",'Budget Head'!E58)","v":""},178,{"$f":"'Budget Head'!F58","v":0},{"$error":"#N/A"},{"$error":"#N/A"},{"$error":"#N/A"},""]
[null,{"$f":"'Budget Head'!C58","v":0},145,{"$f":"'Budget Head'!B58","v":0},{"$error":"#N/A"},"",{"$error":"#N/A"},"",null,null,null,null,null,null,null,null,{"$f":"IF('Budget Head'!E59=\"\",\"\",'Budget Head'!E59)","v":""},178,{"$f":"'Budget Head'!F59","v":0},{"$error":"#N/A"},{"$error":"#N/A"},{"$error":"#N/A"},""]
[null,{"$f":"'Budget Head'!C59","v":0},145,{"$f":"'Budget Head'!B59","v":0},{"$error":"#N/A"},"",{"$error":"#N/A"},"",null,null,null,null,null,null,null,null,{"$f":"IF('Budget Head'!E60=\"\",\"\",'Budget Head'!E60)","v":""},178,{"$f":"'Budget Head'!F60","v":0},{"$error":"#N/A"},{"$error":"#N/A"},{"$error":"#N/A"},""]
[null,{"$f":"'Budget Head'!C60","v":0},145,{"$f":"'Budget Head'!B60","v":0},{"$error":"#N/A"},"",{"$error":"#N/A"},"",null,null,null,null,null,null,null,null,{"$f":"IF('Budget Head'!E61=\"\",\"\",'Budget Head'!E61)","v":""},178,{"$f":"'Budget Head'!F61","v":0},{"$error":"#N/A"},{"$error":"#N/A"},{"$error":"#N/A"},""]
[null,{"$f":"'Budget Head'!C61","v":0},145,{"$f":"'Budget Head'!B61","v":0},{"$error":"#N/A"},"",{"$error":"#N/A"},"",null,null,null,null,null,null,null,null,{"$f":"IF('Budget Head'!E62=\"\",\"\",'Budget Head'!E62)","v":""},178,{"$f":"'Budget Head'!F62","v":0},{"$error":"#N/A"},{"$error":"#N/A"},{"$error":"#N/A"},""]
[null,{"$f":"'Budget Head'!C62","v":0},145,{"$f":"'Budget Head'!B62","v":0},{"$error":"#N/A"},"",{"$error":"#N/A"},"",null,null,null,null,null,null,null,null,{"$f":"IF('Budget Head'!E63=\"\",\"\",'Budget Head'!E63)","v":""},178,{"$f":"'Budget Head'!F63","v":0},{"$error":"#N/A"},{"$error":"#N/A"},{"$error":"#N/A"},""]
[null,{"$f":"'Budget Head'!C63","v":0},145,{"$f":"'Budget Head'!B63","v":0},{"$error":"#N/A"},"",{"$error":"#N/A"},"",null,null,null,null,null,null,null,null,{"$f":"IF('Budget Head'!E64=\"\",\"\",'Budget Head'!E64)","v":""},178,{"$f":"'Budget Head'!F64","v":0},{"$error":"#N/A"},{"$error":"#N/A"},{"$error":"#N/A"},""]
[null,{"$f":"'Budget Head'!C64","v":0},145,{"$f":"'Budget Head'!B64","v":0},{"$error":"#N/A"},"",{"$error":"#N/A"},"",null,null,null,null,null,null,null,null,{"$f":"IF('Budget Head'!E65=\"\",\"\",'Budget Head'!E65)","v":""},178,{"$f":"'Budget Head'!F65","v":0},{"$error":"#N/A"},{"$error":"#N/A"},{"$error":"#N/A"},""]
[null,{"$f":"'Budget Head'!C65","v":0},145,{"$f":"'Budget Head'!B65","v":0},{"$error":"#N/A"},"",{"$error":"#N/A"},"",null,null,null,null,null,null,null,null,{"$f":"IF('Budget Head'!E66=\"\",\"\",'Budget Head'!E66)","v":""},178,{"$f":"'Budget Head'!F66","v":0},{"$error":"#N/A"},{"$error":"#N/A"},{"$error":"#N/A"},""]
[null,{"$f":"'Budget Head'!C66","v":0},145,{"$f":"'Budget Head'!B66","v":0},{"$error":"#N/A"},"",{"$error":"#N/A"},"",null,null,null,null,null,null,null,null,{"$f":"IF('Budget Head'!E67=\"\",\"\",'Budget Head'!E67)","v":""},178,{"$f":"'Budget Head'!F67","v":0},{"$error":"#N/A"},{"$error":"#N/A"},{"$error":"#N/A"},""]
[null,{"$f":"'Budget Head'!C67","v":0},145,{"$f":"'Budget Head'!B67","v":0},{"$error":"#N/A"},"",{"$error":"#N/A"},"",null,null,null,null,null,null,null,null,{"$f":"IF('Budget Head'!E68=\"\",\"\",'Budget Head'!E68)","v":""},178,{"$f":"'Budget Head'!F68","v":0},{"$error":"#N/A"},{"$error":"#N/A"},{"$error":"#N/A"},""]
[null,{"$f":"'Budget Head'!C68","v":0},145,{"$f":"'Budget Head'!B68","v":0},{"$error":"#N/A"},"",{"$error":"#N/A"},"",null,null,null,null,null,null,null,null,{"$f":"IF('Budget Head'!E69=\"\",\"\",'Budget Head'!E69)","v":""},{"$f":"IF(S167=\"\",\"\",COUNTIF(DDO_list,\"<=\"&S167))","v":178},{"$f":"'Budget Head'!F69","v":0},{"$error":"#N/A"},{"$f":"INDEX($Q$103:$Q$282,MATCH(T167,DDO_list,0))","v":{"$error":"#N/A"}},{"$error":"#N/A"},""]
[null,{"$f":"'Budget Head'!C69","v":0},{"$f":"IF(D168=\"\",\"\",COUNTIF($D$104:$D$250,\"<=\"&D168))","v":145},{"$f":"'Budget Head'!B69","v":0},{"$error":"#N/A"},"",{"$error":"#N/A"},"",null,null,null,null,null,null,null,null,{"$f":"IF('Budget Head'!E70=\"\",\"\",'Budget Head'!E70)","v":""},178,{"$f":"'Budget Head'!F70","v":0},{"$f":"VLOOKUP(ROW()-ROW($U$102),$R$103:$S$282,2,FALSE)","v":{"$error":"#N/A"}},{"$error":"#N/A"},{"$f":"CONCATENATE(U168,\"-\",T168)","v":{"$error":"#N/A"}},{"$f":"IFERROR(V168,\"\")","v":""}]
[null,{"$f":"'Budget Head'!C70","v":0},145,{"$f":"'Budget Head'!B70","v":0},{"$f":"VLOOKUP(ROW()-ROW($E$103),$C$104:$D$250,2,FALSE)","v":{"$error":"#N/A"}},"",{"$f":"INDEX($B$104:$B$245,MATCH(F169,$E$104:$E$250,0))","v":{"$error":"#N/A"}},"",null,null,null,null,null,null,null,null,{"$f":"IF('Budget Head'!E71=\"\",\"\",'Budget Head'!E71)","v":""},178,{"$f":"'Budget Head'!F71","v":0},{"$error":"#N/A"},{"$error":"#N/A"},{"$error":"#N/A"},""]
[null,{"$f":"'Budget Head'!C71","v":0},145,{"$f":"'Budget Head'!B71","v":0},{"$error":"#N/A"},{"$f":"IFERROR(E170,\"\")","v":""},{"$error":"#N/A"},{"$f":"IFERROR(G170,\"\")","v":""},null,null,null,null,null,null,null,null,{"$f":"IF('Budget Head'!E72=\"\",\"\",'Budget Head'!E72)","v":""},178,{"$f":"'Budget Head'!F72","v":0},{"$error":"#N/A"},{"$error":"#N/A"},{"$error":"#N/A"},""]
[null,{"$f":"'Budget Head'!C72","v":0},145,{"$f":"'Budget Head'!B72","v":0},{"$error":"#N/A"},"",{"$error":"#N/A"},"",null,null,null,null,null,null,null,null,{"$f":"IF('Budget Head'!E73=\"\",\"\",'Budget Head'!E73)","v":""},178,{"$f":"'Budget Head'!F73","v":0},{"$error":"#N/A"},{"$error":"#N/A"},{"$error":"#N/A"},""]
[null,{"$f":"'Budget Head'!C73","v":0},145,{"$f":"'Budget Head'!B73","v":0},{"$error":"#N/A"},"",{"$error":"#N/A"},"",null,null,null,null,null,null,null,null,{"$f":"IF('Budget Head'!E74=\"\",\"\",'Budget Head'!E74)","v":""},178,{"$f":"'Budget Head'!F74","v":0},{"$error":"#N/A"},{"$error":"#N/A"},{"$error":"#N/A"},""]
[null,{"$f":"'Budget Head'!C74","v":0},145,{"$f":"'Budget Head'!B74","v":0},{"$error":"#N/A"},"",{"$error":"#N/A"},"",null,null,null,null,null,null,null,null,{"$f":"IF('Budget Head'!E75=\"\",\"\",'Budget Head'!E75)","v":""},178,{"$f":"'Budget Head'!F75","v":0},{"$error":"#N/A"},{"$error":"#N/A"},{"$error":"#N/A"},""]
[null,{"$f":"'Budget Head'!C75","v":0},145,{"$f":"'Budget Head'!B75","v":0},{"$error":"#N/A"},"",{"$error":"#N/A"},"",null,null,null,null,null,null,null,null,{"$f":"IF('Budget Head'!E76=\"\",\"\",'Budget Head'!E76)","v":""},178,{"$f":"'Budget Head'!F76","v":0},{"$error":"#N/A"},{"$error":"#N/A"},{"$error":"#N/A"},""]
[null,{"$f":"'Budget Head'!C76","v":0},145,{"$f":"'Budget Head'!B76","v":0},{"$error":"#N/A"},"",{"$error":"#N/A"},"",null,null,null,null,null,null,null,null,{"$f":"IF('Budget Head'!E77=\"\",\"\",'Budget Head'!E77)","v":""},178,{"$f":"'Budget Head'!F77","v":0},{"$error":"#N/A"},{"$error":"#N/A"},{"$error":"#N/A"},""]
[null,{"$f":"'Budget Head'!C77","v":0},145,{"$f":"'Budget Head'!B77","v":0},{"$error":"#N/A"},"",{"$error":"#N/A"},"",null,null,null,null,null,null,null,null,{"$f":"IF('Budget Head'!E78=\"\",\"\",'Budget Head'!E78)","v":""},178,{"$f":"'Budget Head'!F78","v":0},{"$error":"#N/A"},{"$error":"#N/A"},{"$error":"#N/A"},""]
[null,{"$f":"'Budget Head'!C78","v":0},145,{"$f":"'Budget Head'!B78","v":0},{"$error":"#N/A"},"",{"$error":"#N/A"},"",null,null,null,null,null,null,null,null,{"$f":"IF('Budget Head'!E79=\"\",\"\",'Budget Head'!E79)","v":""},178,{"$f":"'Budget Head'!F79","v":0},{"$error":"#N/A"},{"$error":"#N/A"},{"$error":"#N/A"},""]
[null,{"$f":"'Budget Head'!C79","v":0},145,{"$f":"'Budget Head'!B79","v":0},{"$error":"#N/A"},"",{"$error":"#N/A"},"",null,null,null,null,null,null,null,null,{"$f":"IF('Budget Head'!E80=\"\",\"\",'Budget Head'!E80)","v":""},178,{"$f":"'Budget Head'!F80","v":0},{"$error":"#N/A"},{"$error":"#N/A"},{"$error":"#N/A"},""]
[null,{"$f":"'Budget Head'!C80","v":0},145,{"$f":"'Budget Head'!B80","v":0},{"$error":"#N/A"},"",{"$error":"#N/A"},"",null,null,null,null,null,null,null,null,{"$f":"IF('Budget Head'!E81=\"\",\"\",'Budget Head'!E81)","v":""},178,{"$f":"'Budget Head'!F81","v":0},{"$error":"#N/A"},{"$error":"#N/A"},{"$error":"#N/A"},""]
[null,{"$f":"'Budget Head'!C81","v":0},145,{"$f":"'Budget Head'!B81","v":0},{"$error":"#N/A"},"",{"$error":"#N/A"},"",null,null,null,null,null,null,null,null,{"$f":"IF('Budget Head'!E82=\"\",\"\",'Budget Head'!E82)","v":""},178,{"$f":"'Budget Head'!F82","v":0},{"$error":"#N/A"},{"$error":"#N/A"},{"$error":"#N/A"},""]
[null,{"$f":"'Budget Head'!C82","v":0},145,{"$f":"'Budget Head'!B82","v":0},{"$error":"#N/A"},"",{"$error":"#N/A"},"",null,null,null,null,null,null,null,null,{"$f":"IF('Budget Head'!E83=\"\",\"\",'Budget Head'!E83)","v":""},178,{"$f":"'Budget Head'!F83","v":0},{"$error":"#N/A"},{"$error":"#N/A"},{"$error":"#N/A"},""]
[null,{"$f":"'Budget Head'!C83","v":0},145,{"$f":"'Budget Head'!B83","v":0},{"$error":"#N/A"},"",{"$error":"#N/A"},"",null,null,null,null,null,null,null,null,{"$f":"IF('Budget Head'!E84=\"\",\"\",'Budget Head'!E84)","v":""},178,{"$f":"'Budget Head'!F84","v":0},{"$error":"#N/A"},{"$error":"#N/A"},{"$error":"#N/A"},""]
[null,{"$f":"'Budget Head'!C84","v":0},145,{"$f":"'Budget Head'!B84","v":0},{"$error":"#N/A"},"",{"$error":"#N/A"},"",null,null,null,null,null,null,null,null,{"$f":"IF('Budget Head'!E85=\"\",\"\",'Budget Head'!E85)","v":""},178,{"$f":"'Budget Head'!F85","v":0},{"$error":"#N/A"},{"$error":"#N/A"},{"$error":"#N/A"},""]
[null,{"$f":"'Budget Head'!C85","v":0},145,{"$f":"'Budget Head'!B85","v":0},{"$error":"#N/A"},"",{"$error":"#N/A"},"",null,null,null,null,null,null,null,null,{"$f":"IF('Budget Head'!E86=\"\",\"\",'Budget Head'!E86)","v":""},178,{"$f":"'Budget Head'!F86","v":0},{"$error":"#N/A"},{"$error":"#N/A"},{"$error":"#N/A"},""]
[null,{"$f":"'Budget Head'!C86","v":0},145,{"$f":"'Budget Head'!B86","v":0},{"$error":"#N/A"},"",{"$error":"#N/A"},"",null,null,null,null,null,null,null,null,{"$f":"IF('Budget Head'!E87=\"\",\"\",'Budget Head'!E87)","v":""},178,{"$f":"'Budget Head'!F87","v":0},{"$error":"#N/A"},{"$error":"#N/A"},{"$error":"#N/A"},""]
[null,{"$f":"'Budget Head'!C87","v":0},145,{"$f":"'Budget Head'!B87","v":0},{"$error":"#N/A"},"",{"$error":"#N/A"},"",null,null,null,null,null,null,null,null,{"$f":"IF('Budget Head'!E88=\"\",\"\",'Budget Head'!E88)","v":""},178,{"$f":"'Budget Head'!F88","v":0},{"$error":"#N/A"},{"$error":"#N/A"},{"$error":"#N/A"},""]
[null,{"$f":"'Budget Head'!C88","v":0},145,{"$f":"'Budget Head'!B88","v":0},{"$error":"#N/A"},"",{"$error":"#N/A"},"",null,null,null,null,null,null,null,null,{"$f":"IF('Budget Head'!E89=\"\",\"\",'Budget Head'!E89)","v":""},178,{"$f":"'Budget Head'!F89","v":0},{"$error":"#N/A"},{"$error":"#N/A"},{"$error":"#N/A"},""]
[null,{"$f":"'Budget Head'!C89","v":0},145,{"$f":"'Budget Head'!B89","v":0},{"$error":"#N/A"},"",{"$error":"#N/A"},"",null,null,null,null,null,null,null,null,{"$f":"IF('Budget Head'!E90=\"\",\"\",'Budget Head'!E90)","v":""},178,{"$f":"'Budget Head'!F90","v":0},{"$error":"#N/A"},{"$error":"#N/A"},{"$error":"#N/A"},""]
[null,{"$f":"'Budget Head'!C90","v":0},145,{"$f":"'Budget Head'!B90","v":0},{"$error":"#N/A"},"",{"$error":"#N/A"},"",null,null,null,null,null,null,null,null,{"$f":"IF('Budget Head'!E91=\"\",\"\",'Budget Head'!E91)","v":""},178,{"$f":"'Budget Head'!F91","v":0},{"$error":"#N/A"},{"$error":"#N/A"},{"$error":"#N/A"},""]
[null,{"$f":"'Budget Head'!C91","v":0},145,{"$f":"'Budget Head'!B91","v":0},{"$error":"#N/A"},"",{"$error":"#N/A"},"",null,null,null,null,null,null,null,null,{"$f":"IF('Budget Head'!E92=\"\",\"\",'Budget Head'!E92)","v":""},178,{"$f":"'Budget Head'!F92","v":0},{"$error":"#N/A"},{"$error":"#N/A"},{"$error":"#N/A"},""]
[null,{"$f":"'Budget Head'!C92","v":0},145,{"$f":"'Budget Head'!B92","v":0},{"$error":"#N/A"},"",{"$error":"#N/A"},"",null,null,null,null,null,null,null,null,{"$f":"IF('Budget Head'!E93=\"\",\"\",'Budget Head'!E93)","v":""},178,{"$f":"'Budget Head'!F93","v":0},{"$error":"#N/A"},{"$error":"#N/A"},{"$error":"#N/A"},""]
[null,{"$f":"'Budget Head'!C93","v":0},145,{"$f":"'Budget Head'!B93","v":0},{"$error":"#N/A"},"",{"$error":"#N/A"},"",null,null,null,null,null,null,null,null,{"$f":"IF('Budget Head'!E94=\"\",\"\",'Budget Head'!E94)","v":""},178,{"$f":"'Budget Head'!F94","v":0},{"$error":"#N/A"},{"$error":"#N/A"},{"$error":"#N/A"},""]
[null,{"$f":"'Budget Head'!C94","v":0},145,{"$f":"'Budget Head'!B94","v":0},{"$error":"#N/A"},"",{"$error":"#N/A"},"",null,null,null,null,null,null,null,null,{"$f":"IF('Budget Head'!E95=\"\",\"\",'Budget Head'!E95)","v":""},178,{"$f":"'Budget Head'!F95","v":0},{"$error":"#N/A"},{"$error":"#N/A"},{"$error":"#N/A"},""]
[null,{"$f":"'Budget Head'!C95","v":0},145,{"$f":"'Budget Head'!B95","v":0},{"$error":"#N/A"},"",{"$error":"#N/A"},"",null,null,null,null,null,null,null,null,{"$f":"IF('Budget Head'!E96=\"\",\"\",'Budget Head'!E96)","v":""},178,{"$f":"'Budget Head'!F96","v":0},{"$error":"#N/A"},{"$error":"#N/A"},{"$error":"#N/A"},""]
[null,{"$f":"'Budget Head'!C96","v":0},145,{"$f":"'Budget Head'!B96","v":0},{"$error":"#N/A"},"",{"$error":"#N/A"},"",null,null,null,null,null,null,null,null,{"$f":"IF('Budget Head'!E97=\"\",\"\",'Budget Head'!E97)","v":""},178,{"$f":"'Budget Head'!F97","v":0},{"$error":"#N/A"},{"$error":"#N/A"},{"$error":"#N/A"},""]
[null,{"$f":"'Budget Head'!C97","v":0},145,{"$f":"'Budget Head'!B97","v":0},{"$error":"#N/A"},"",{"$error":"#N/A"},"",null,null,null,null,null,null,null,null,{"$f":"IF('Budget Head'!E98=\"\",\"\",'Budget Head'!E98)","v":""},178,{"$f":"'Budget Head'!F98","v":0},{"$error":"#N/A"},{"$error":"#N/A"},{"$error":"#N/A"},""]
[null,{"$f":"'Budget Head'!C98","v":0},145,{"$f":"'Budget Head'!B98","v":0},{"$error":"#N/A"},"",{"$error":"#N/A"},"",null,null,null,null,null,null,null,null,{"$f":"IF('Budget Head'!E99=\"\",\"\",'Budget Head'!E99)","v":""},178,{"$f":"'Budget Head'!F99","v":0},{"$error":"#N/A"},{"$error":"#N/A"},{"$error":"#N/A"},""]
[null,{"$f":"'Budget Head'!C99","v":0},145,{"$f":"'Budget Head'!B99","v":0},{"$error":"#N/A"},"",{"$error":"#N/A"},"",null,null,null,null,null,null,null,null,{"$f":"IF('Budget Head'!E100=\"\",\"\",'Budget Head'!E100)","v":""},178,{"$f":"'Budget Head'!F100","v":0},{"$error":"#N/A"},{"$error":"#N/A"},{"$error":"#N/A"},""]
[null,{"$f":"'Budget Head'!C100","v":0},145,{"$f":"'Budget Head'!B100","v":0},{"$error":"#N/A"},"",{"$error":"#N/A"},"",null,null,null,null,null,null,null,null,{"$f":"IF('Budget Head'!E101=\"\",\"\",'Budget Head'!E101)","v":""},{"$f":"IF(S199=\"\",\"\",COUNTIF(DDO_list,\"<=\"&S199))","v":178},{"$f":"'Budget Head'!F101","v":0},{"$error":"#N/A"},{"$f":"INDEX($Q$103:$Q$282,MATCH(T199,DDO_list,0))","v":{"$error":"#N/A"}},{"$error":"#N/A"},""]
[null,{"$f":"'Budget Head'!C101","v":0},{"$f":"IF(D200=\"\",\"\",COUNTIF($D$104:$D$250,\"<=\"&D200))","v":145},{"$f":"'Budget Head'!B101","v":0},{"$error":"#N/A"},"",{"$error":"#N/A"},"",null,null,null,null,null,null,null,null,{"$f":"IF('Budget Head'!E102=\"\",\"\",'Budget Head'!E102)","v":""},178,{"$f":"'Budget Head'!F102","v":0},{"$error":"#N/A"},{"$error":"#N/A"},{"$error":"#N/A"},""]
[null,{"$f":"'Budget Head'!C102","v":0},145,{"$f":"'Budget Head'!B102","v":0},{"$error":"#N/A"},"",{"$error":"#N/A"},"",null,null,null,null,null,null,null,null,{"$f":"IF('Budget Head'!E103=\"\",\"\",'Budget Head'!E103)","v":""},178,{"$f":"'Budget Head'!F103","v":0},{"$error":"#N/A"},{"$error":"#N/A"},{"$error":"#N/A"},""]
[null,{"$f":"'Budget Head'!C103","v":0},145,{"$f":"'Budget Head'!B103","v":0},{"$error":"#N/A"},"",{"$error":"#N/A"},"",null,null,null,null,null,null,null,null,{"$f":"IF('Budget Head'!E104=\"\",\"\",'Budget Head'!E104)","v":""},178,{"$f":"'Budget Head'!F104","v":0},{"$error":"#N/A"},{"$error":"#N/A"},{"$error":"#N/A"},""]
[null,{"$f":"'Budget Head'!C104","v":0},145,{"$f":"'Budget Head'!B104","v":0},{"$error":"#N/A"},"",{"$error":"#N/A"},"",null,null,null,null,null,null,null,null,{"$f":"IF('Budget Head'!E105=\"\",\"\",'Budget Head'!E105)","v":""},178,{"$f":"'Budget Head'!F105","v":0},{"$error":"#N/A"},{"$error":"#N/A"},{"$error":"#N/A"},""]
[null,{"$f":"'Budget Head'!C105","v":0},145,{"$f":"'Budget Head'!B105","v":0},{"$error":"#N/A"},"",{"$error":"#N/A"},"",null,null,null,null,null,null,null,null,{"$f":"IF('Budget Head'!E106=\"\",\"\",'Budget Head'!E106)","v":""},178,{"$f":"'Budget Head'!F106","v":0},{"$error":"#N/A"},{"$error":"#N/A"},{"$error":"#N/A"},""]
[null,{"$f":"'Budget Head'!C106","v":0},145,{"$f":"'Budget Head'!B106","v":0},{"$error":"#N/A"},"",{"$error":"#N/A"},"",null,null,null,null,null,null,null,null,{"$f":"IF('Budget Head'!E107=\"\",\"\",'Budget Head'!E107)","v":""},178,{"$f":"'Budget Head'!F107","v":0},{"$error":"#N/A"},{"$error":"#N/A"},{"$error":"#N/A"},""]
[null,{"$f":"'Budget Head'!C107","v":0},145,{"$f":"'Budget Head'!B107","v":0},{"$error":"#N/A"},"",{"$error":"#N/A"},"",null,null,null,null,null,null,null,null,{"$f":"IF('Budget Head'!E108=\"\",\"\",'Budget Head'!E108)","v":""},178,{"$f":"'Budget Head'!F108","v":0},{"$error":"#N/A"},{"$error":"#N/A"},{"$error":"#N/A"},""]
[null,{"$f":"'Budget Head'!C108","v":0},145,{"$f":"'Budget Head'!B108","v":0},{"$error":"#N/A"},"",{"$error":"#N/A"},"",null,null,null,null,null,null,null,null,{"$f":"IF('Budget Head'!E109=\"\",\"\",'Budget Head'!E109)","v":""},178,{"$f":"'Budget Head'!F109","v":0},{"$error":"#N/A"},{"$error":"#N/A"},{"$error":"#N/A"},""]
[null,{"$f":"'Budget Head'!C109","v":0},145,{"$f":"'Budget Head'!B109","v":0},{"$error":"#N/A"},"",{"$error":"#N/A"},"",null,null,null,null,null,null,null,null,{"$f":"IF('Budget Head'!E110=\"\",\"\",'Budget Head'!E110)","v":""},178,{"$f":"'Budget Head'!F110","v":0},{"$error":"#N/A"},{"$error":"#N/A"},{"$error":"#N/A"},""]
[null,{"$f":"'Budget Head'!C110","v":0},145,{"$f":"'Budget Head'!B110","v":0},{"$error":"#N/A"},"",{"$error":"#N/A"},"",null,null,null,null,null,null,null,null,{"$f":"IF('Budget Head'!E111=\"\",\"\",'Budget Head'!E111)","v":""},178,{"$f":"'Budget Head'!F111","v":0},{"$error":"#N/A"},{"$error":"#N/A"},{"$error":"#N/A"},""]
[null,{"$f":"'Budget Head'!C111","v":0},145,{"$f":"'Budget Head'!B111","v":0},{"$error":"#N/A"},"",{"$error":"#N/A"},"",null,null,null,null,null,null,null,null,{"$f":"IF('Budget Head'!E112=\"\",\"\",'Budget Head'!E112)","v":""},178,{"$f":"'Budget Head'!F112","v":0},{"$error":"#N/A"},{"$error":"#N/A"},{"$error":"#N/A"},""]
[null,{"$f":"'Budget Head'!C112","v":0},145,{"$f":"'Budget Head'!B112","v":0},{"$error":"#N/A"},"",{"$error":"#N/A"},"",null,null,null,null,null,null,null,null,{"$f":"IF('Budget Head'!E113=\"\",\"\",'Budget Head'!E113)","v":""},178,{"$f":"'Budget Head'!F113","v":0},{"$error":"#N/A"},{"$error":"#N/A"},{"$error":"#N/A"},""]
[null,{"$f":"'Budget Head'!C113","v":0},145,{"$f":"'Budget Head'!B113","v":0},{"$error":"#N/A"},"",{"$error":"#N/A"},"",null,null,null,null,null,null,null,null,{"$f":"IF('Budget Head'!E114=\"\",\"\",'Budget Head'!E114)","v":""},178,{"$f":"'Budget Head'!F114","v":0},{"$error":"#N/A"},{"$error":"#N/A"},{"$error":"#N/A"},""]
[null,{"$f":"'Budget Head'!C114","v":0},145,{"$f":"'Budget Head'!B114","v":0},{"$error":"#N/A"},"",{"$error":"#N/A"},"",null,null,null,null,null,null,null,null,{"$f":"IF('Budget Head'!E115=\"\",\"\",'Budget Head'!E115)","v":""},178,{"$f":"'Budget Head'!F115","v":0},{"$error":"#N/A"},{"$error":"#N/A"},{"$error":"#N/A"},""]
[null,{"$f":"'Budget Head'!C115","v":0},145,{"$f":"'Budget Head'!B115","v":0},{"$error":"#N/A"},"",{"$error":"#N/A"},"",null,null,null,null,null,null,null,null,{"$f":"IF('Budget Head'!E116=\"\",\"\",'Budget Head'!E116)","v":""},178,{"$f":"'Budget Head'!F116","v":0},{"$error":"#N/A"},{"$error":"#N/A"},{"$error":"#N/A"},""]
[null,{"$f":"'Budget Head'!C116","v":0},145,{"$f":"'Budget Head'!B116","v":0},{"$error":"#N/A"},"",{"$error":"#N/A"},"",null,null,null,null,null,null,null,null,{"$f":"IF('Budget Head'!E117=\"\",\"\",'Budget Head'!E117)","v":""},178,{"$f":"'Budget Head'!F117","v":0},{"$error":"#N/A"},{"$error":"#N/A"},{"$error":"#N/A"},""]
[null,{"$f":"'Budget Head'!C117","v":0},145,{"$f":"'Budget Head'!B117","v":0},{"$error":"#N/A"},"",{"$error":"#N/A"},"",null,null,null,null,null,null,null,null,{"$f":"IF('Budget Head'!E118=\"\",\"\",'Budget Head'!E118)","v":""},178,{"$f":"'Budget Head'!F118","v":0},{"$error":"#N/A"},{"$error":"#N/A"},{"$error":"#N/A"},""]
[null,{"$f":"'Budget Head'!C118","v":0},145,{"$f":"'Budget Head'!B118","v":0},{"$error":"#N/A"},"",{"$error":"#N/A"},"",null,null,null,null,null,null,null,null,{"$f":"IF('Budget Head'!E119=\"\",\"\",'Budget Head'!E119)","v":""},178,{"$f":"'Budget Head'!F119","v":0},{"$error":"#N/A"},{"$error":"#N/A"},{"$error":"#N/A"},""]
[null,{"$f":"'Budget Head'!C119","v":0},145,{"$f":"'Budget Head'!B119","v":0},{"$error":"#N/A"},"",{"$error":"#N/A"},"",null,null,null,null,null,null,null,null,{"$f":"IF('Budget Head'!E120=\"\",\"\",'Budget Head'!E120)","v":""},178,{"$f":"'Budget Head'!F120","v":0},{"$error":"#N/A"},{"$error":"#N/A"},{"$error":"#N/A"},""]
[null,{"$f":"'Budget Head'!C120","v":0},145,{"$f":"'Budget Head'!B120","v":0},{"$error":"#N/A"},"",{"$error":"#N/A"},"",null,null,null,null,null,null,null,null,{"$f":"IF('Budget Head'!E121=\"\",\"\",'Budget Head'!E121)","v":""},178,{"$f":"'Budget Head'!F121","v":0},{"$error":"#N/A"},{"$error":"#N/A"},{"$error":"#N/A"},""]
[null,{"$f":"'Budget Head'!C121","v":0},145,{"$f":"'Budget Head'!B121","v":0},{"$error":"#N/A"},"",{"$error":"#N/A"},"",null,null,null,null,null,null,null,null,{"$f":"IF('Budget Head'!E122=\"\",\"\",'Budget Head'!E122)","v":""},178,{"$f":"'Budget Head'!F122","v":0},{"$error":"#N/A"},{"$error":"#N/A"},{"$error":"#N/A"},""]
[null,{"$f":"'Budget Head'!C122","v":0},145,{"$f":"'Budget Head'!B122","v":0},{"$error":"#N/A"},"",{"$error":"#N/A"},"",null,null,null,null,null,null,null,null,{"$f":"IF('Budget Head'!E123=\"\",\"\",'Budget Head'!E123)","v":""},178,{"$f":"'Budget Head'!F123","v":0},{"$error":"#N/A"},{"$error":"#N/A"},{"$error":"#N/A"},""]
[null,{"$f":"'Budget Head'!C123","v":0},145,{"$f":"'Budget Head'!B123","v":0},{"$error":"#N/A"},"",{"$error":"#N/A"},"",null,null,null,null,null,null,null,null,{"$f":"IF('Budget Head'!E124=\"\",\"\",'Budget Head'!E124)","v":""},178,{"$f":"'Budget Head'!F124","v":0},{"$error":"#N/A"},{"$error":"#N/A"},{"$error":"#N/A"},""]
[null,{"$f":"'Budget Head'!C124","v":0},145,{"$f":"'Budget Head'!B124","v":0},{"$error":"#N/A"},"",{"$error":"#N/A"},"",null,null,null,null,null,null,null,null,{"$f":"IF('Budget Head'!E125=\"\",\"\",'Budget Head'!E125)","v":""},178,{"$f":"'Budget Head'!F125","v":0},{"$error":"#N/A"},{"$error":"#N/A"},{"$error":"#N/A"},""]
[null,{"$f":"'Budget Head'!C125","v":0},145,{"$f":"'Budget Head'!B125","v":0},{"$error":"#N/A"},"",{"$error":"#N/A"},"",null,null,null,null,null,null,null,null,{"$f":"IF('Budget Head'!E126=\"\",\"\",'Budget Head'!E126)","v":""},178,{"$f":"'Budget Head'!F126","v":0},{"$error":"#N/A"},{"$error":"#N/A"},{"$error":"#N/A"},""]
[null,{"$f":"'Budget Head'!C126","v":0},145,{"$f":"'Budget Head'!B126","v":0},{"$error":"#N/A"},"",{"$error":"#N/A"},"",null,null,null,null,null,null,null,null,{"$f":"IF('Budget Head'!E127=\"\",\"\",'Budget Head'!E127)","v":""},178,{"$f":"'Budget Head'!F127","v":0},{"$error":"#N/A"},{"$error":"#N/A"},{"$error":"#N/A"},""]
[null,{"$f":"'Budget Head'!C127","v":0},145,{"$f":"'Budget Head'!B127","v":0},{"$error":"#N/A"},"",{"$error":"#N/A"},"",null,null,null,null,null,null,null,null,{"$f":"IF('Budget Head'!E128=\"\",\"\",'Budget Head'!E128)","v":""},178,{"$f":"'Budget Head'!F128","v":0},{"$error":"#N/A"},{"$error":"#N/A"},{"$error":"#N/A"},""]
[null,{"$f":"'Budget Head'!C128","v":0},145,{"$f":"'Budget Head'!B128","v":0},{"$error":"#N/A"},"",{"$error":"#N/A"},"",null,null,null,null,null,null,null,null,{"$f":"IF('Budget Head'!E129=\"\",\"\",'Budget Head'!E129)","v":""},178,{"$f":"'Budget Head'!F129","v":0},{"$error":"#N/A"},{"$error":"#N/A"},{"$error":"#N/A"},""]
[null,{"$f":"'Budget Head'!C129","v":0},145,{"$f":"'Budget Head'!B129","v":0},{"$error":"#N/A"},"",{"$error":"#N/A"},"",null,null,null,null,null,null,null,null,{"$f":"IF('Budget Head'!E130=\"\",\"\",'Budget Head'!E130)","v":""},178,{"$f":"'Budget Head'!F130","v":0},{"$error":"#N/A"},{"$error":"#N/A"},{"$error":"#N/A"},""]
[null,{"$f":"'Budget Head'!C130","v":0},145,{"$f":"'Budget Head'!B130","v":0},{"$error":"#N/A"},"",{"$error":"#N/A"},"",null,null,null,null,null,null,null,null,{"$f":"IF('Budget Head'!E131=\"\",\"\",'Budget Head'!E131)","v":""},178,{"$f":"'Budget Head'!F131","v":0},{"$error":"#N/A"},{"$error":"#N/A"},{"$error":"#N/A"},""]
[null,{"$f":"'Budget Head'!C131","v":0},145,{"$f":"'Budget Head'!B131","v":0},{"$error":"#N/A"},"",{"$error":"#N/A"},"",null,null,null,null,null,null,null,null,{"$f":"IF('Budget Head'!E132=\"\",\"\",'Budget Head'!E132)","v":""},178,{"$f":"'Budget Head'!F132","v":0},{"$error":"#N/A"},{"$error":"#N/A"},{"$error":"#N/A"},""]
[null,{"$f":"'Budget Head'!C132","v":0},145,{"$f":"'Budget Head'!B132","v":0},{"$error":"#N/A"},"",{"$error":"#N/A"},"",null,null,null,null,null,null,null,null,{"$f":"IF('Budget Head'!E133=\"\",\"\",'Budget Head'!E133)","v":""},{"$f":"IF(S231=\"\",\"\",COUNTIF(DDO_list,\"<=\"&S231))","v":178},{"$f":"'Budget Head'!F133","v":0},{"$error":"#N/A"},{"$f":"INDEX($Q$103:$Q$282,MATCH(T231,DDO_list,0))","v":{"$error":"#N/A"}},{"$error":"#N/A"},""]
[null,{"$f":"'Budget Head'!C133","v":0},{"$f":"IF(D232=\"\",\"\",COUNTIF($D$104:$D$250,\"<=\"&D232))","v":145},{"$f":"'Budget Head'!B133","v":0},{"$error":"#N/A"},"",{"$error":"#N/A"},"",null,null,null,null,null,null,null,null,{"$f":"IF('Budget Head'!E134=\"\",\"\",'Budget Head'!E134)","v":""},178,{"$f":"'Budget Head'!F134","v":0},{"$f":"VLOOKUP(ROW()-ROW($U$102),$R$103:$S$282,2,FALSE)","v":{"$error":"#N/A"}},{"$error":"#N/A"},{"$f":"CONCATENATE(U232,\"-\",T232)","v":{"$error":"#N/A"}},{"$f":"IFERROR(V232,\"\")","v":""}]
[null,{"$f":"'Budget Head'!C134","v":0},145,{"$f":"'Budget Head'!B134","v":0},{"$f":"VLOOKUP(ROW()-ROW($E$103),$C$104:$D$250,2,FALSE)","v":{"$error":"#N/A"}},"",{"$f":"INDEX($B$104:$B$245,MATCH(F233,$E$104:$E$250,0))","v":{"$error":"#N/A"}},"",null,null,null,null,null,null,null,null,{"$f":"IF('Budget Head'!E135=\"\",\"\",'Budget Head'!E135)","v":""},178,{"$f":"'Budget Head'!F135","v":0},{"$error":"#N/A"},{"$error":"#N/A"},{"$error":"#N/A"},""]
[null,{"$f":"'Budget Head'!C135","v":0},145,{"$f":"'Budget Head'!B135","v":0},{"$error":"#N/A"},{"$f":"IFERROR(E234,\"\")","v":""},{"$error":"#N/A"},{"$f":"IFERROR(G234,\"\")","v":""},null,null,null,null,null,null,null,null,{"$f":"IF('Budget Head'!E136=\"\",\"\",'Budget Head'!E136)","v":""},178,{"$f":"'Budget Head'!F136","v":0},{"$error":"#N/A"},{"$error":"#N/A"},{"$error":"#N/A"},""]
[null,{"$f":"'Budget Head'!C136","v":0},145,{"$f":"'Budget Head'!B136","v":0},{"$error":"#N/A"},"",{"$error":"#N/A"},"",null,null,null,null,null,null,null,null,{"$f":"IF('Budget Head'!E137=\"\",\"\",'Budget Head'!E137)","v":""},178,{"$f":"'Budget Head'!F137","v":0},{"$error":"#N/A"},{"$error":"#N/A"},{"$error":"#N/A"},""]
[null,{"$f":"'Budget Head'!C137","v":0},145,{"$f":"'Budget Head'!B137","v":0},{"$error":"#N/A"},"",{"$error":"#N/A"},"",null,null,null,null,null,null,null,null,{"$f":"IF('Budget Head'!E138=\"\",\"\",'Budget Head'!E138)","v":""},178,{"$f":"'Budget Head'!F138","v":0},{"$error":"#N/A"},{"$error":"#N/A"},{"$error":"#N/A"},""]
[null,{"$f":"'Budget Head'!C138","v":0},145,{"$f":"'Budget Head'!B138","v":0},{"$error":"#N/A"},"",{"$error":"#N/A"},"",null,null,null,null,null,null,null,null,{"$f":"IF('Budget Head'!E139=\"\",\"\",'Budget Head'!E139)","v":""},178,{"$f":"'Budget Head'!F139","v":0},{"$error":"#N/A"},{"$error":"#N/A"},{"$error":"#N/A"},""]
[null,{"$f":"'Budget Head'!C139","v":0},145,{"$f":"'Budget Head'!B139","v":0},{"$error":"#N/A"},"",{"$error":"#N/A"},"",null,null,null,null,null,null,null,null,{"$f":"IF('Budget Head'!E140=\"\",\"\",'Budget Head'!E140)","v":""},178,{"$f":"'Budget Head'!F140","v":0},{"$error":"#N/A"},{"$error":"#N/A"},{"$error":"#N/A"},""]
[null,{"$f":"'Budget Head'!C140","v":0},145,{"$f":"'Budget Head'!B140","v":0},{"$error":"#N/A"},"",{"$error":"#N/A"},"",null,null,null,null,null,null,null,null,{"$f":"IF('Budget Head'!E141=\"\",\"\",'Budget Head'!E141)","v":""},178,{"$f":"'Budget Head'!F141","v":0},{"$error":"#N/A"},{"$error":"#N/A"},{"$error":"#N/A"},""]
[null,{"$f":"'Budget Head'!C141","v":0},145,{"$f":"'Budget Head'!B141","v":0},{"$error":"#N/A"},"",{"$error":"#N/A"},"",null,null,null,null,null,null,null,null,{"$f":"IF('Budget Head'!E142=\"\",\"\",'Budget Head'!E142)","v":""},178,{"$f":"'Budget Head'!F142","v":0},{"$error":"#N/A"},{"$error":"#N/A"},{"$error":"#N/A"},""]
[null,{"$f":"'Budget Head'!C142","v":0},145,{"$f":"'Budget Head'!B142","v":0},{"$error":"#N/A"},"",{"$error":"#N/A"},"",null,null,null,null,null,null,null,null,{"$f":"IF('Budget Head'!E143=\"\",\"\",'Budget Head'!E143)","v":""},178,{"$f":"'Budget Head'!F143","v":0},{"$error":"#N/A"},{"$error":"#N/A"},{"$error":"#N/A"},""]
[null,{"$f":"'Budget Head'!C143","v":0},145,{"$f":"'Budget Head'!B143","v":0},{"$error":"#N/A"},"",{"$error":"#N/A"},"",null,null,null,null,null,null,null,null,{"$f":"IF('Budget Head'!E144=\"\",\"\",'Budget Head'!E144)","v":""},178,{"$f":"'Budget Head'!F144","v":0},{"$error":"#N/A"},{"$error":"#N/A"},{"$error":"#N/A"},""]
[null,{"$f":"'Budget Head'!C144","v":0},145,{"$f":"'Budget Head'!B144","v":0},{"$error":"#N/A"},"",{"$error":"#N/A"},"",null,null,null,null,null,null,null,null,{"$f":"IF('Budget Head'!E145=\"\",\"\",'Budget Head'!E145)","v":""},178,{"$f":"'Budget Head'!F145","v":0},{"$error":"#N/A"},{"$error":"#N/A"},{"$error":"#N/A"},""]
[null,{"$f":"'Budget Head'!C145","v":0},145,{"$f":"'Budget Head'!B145","v":0},{"$error":"#N/A"},"",{"$error":"#N/A"},"",null,null,null,null,null,null,null,null,{"$f":"IF('Budget Head'!E146=\"\",\"\",'Budget Head'!E146)","v":""},178,{"$f":"'Budget Head'!F146","v":0},{"$error":"#N/A"},{"$error":"#N/A"},{"$error":"#N/A"},""]
[null,{"$f":"'Budget Head'!C146","v":0},145,{"$f":"'Budget Head'!B146","v":0},{"$error":"#N/A"},"",{"$error":"#N/A"},"",null,null,null,null,null,null,null,null,{"$f":"IF('Budget Head'!E147=\"\",\"\",'Budget Head'!E147)","v":""},178,{"$f":"'Budget Head'!F147","v":0},{"$error":"#N/A"},{"$error":"#N/A"},{"$error":"#N/A"},""]
[null,{"$f":"'Budget Head'!C147","v":0},145,{"$f":"'Budget Head'!B147","v":0},{"$error":"#N/A"},"",{"$error":"#N/A"},"",null,null,null,null,null,null,null,null,{"$f":"IF('Budget Head'!E148=\"\",\"\",'Budget Head'!E148)","v":""},178,{"$f":"'Budget Head'!F148","v":0},{"$error":"#N/A"},{"$error":"#N/A"},{"$error":"#N/A"},""]
[null,{"$f":"'Budget Head'!C148","v":0},145,{"$f":"'Budget Head'!B148","v":0},{"$error":"#N/A"},"",{"$error":"#N/A"},"",null,null,null,null,null,null,null,null,{"$f":"IF('Budget Head'!E149=\"\",\"\",'Budget Head'!E149)","v":""},178,{"$f":"'Budget Head'!F149","v":0},{"$error":"#N/A"},{"$error":"#N/A"},{"$error":"#N/A"},""]
[null,{"$f":"'Budget Head'!C149","v":0},145,{"$f":"'Budget Head'!B149","v":0},0,0,{"$error":"#REF!"},"",null,null,null,null,null,null,null,null,{"$f":"IF('Budget Head'!E150=\"\",\"\",'Budget Head'!E150)","v":""},178,{"$f":"'Budget Head'!F150","v":0},{"$error":"#N/A"},{"$error":"#N/A"},{"$error":"#N/A"},""]
[null,{"$f":"'Budget Head'!C150","v":0},145,{"$f":"'Budget Head'!B150","v":0},{"$error":"#N/A"},"",{"$error":"#N/A"},"",null,null,null,null,null,null,null,null,{"$f":"IF('Budget Head'!E151=\"\",\"\",'Budget Head'!E151)","v":""},178,{"$f":"'Budget Head'!F151","v":0},{"$error":"#N/A"},{"$error":"#N/A"},{"$error":"#N/A"},""]
[null,{"$f":"'Budget Head'!C151","v":0},145,{"$f":"'Budget Head'!B151","v":0},{"$error":"#N/A"},"",{"$error":"#N/A"},"",null,null,null,null,null,null,null,null,{"$f":"IF('Budget Head'!E152=\"\",\"\",'Budget Head'!E152)","v":""},178,{"$f":"'Budget Head'!F152","v":0},{"$error":"#N/A"},{"$error":"#N/A"},{"$error":"#N/A"},""]
[null,"End Line","End Line","End Line",{"$error":"#N/A"},"End Line","End Line","End Line",null,null,null,null,null,null,null,null,{"$f":"IF('Budget Head'!E153=\"\",\"\",'Budget Head'!E153)","v":""},178,{"$f":"'Budget Head'!F153","v":0},{"$error":"#N/A"},{"$error":"#N/A"},{"$error":"#N/A"},""]
[null,null,null,null,null,null,null,null,null,null,null,null,null,null,null,null,{"$f":"IF('Budget Head'!E154=\"\",\"\",'Budget Head'!E154)","v":""},178,{"$f":"'Budget Head'!F154","v":0},{"$error":"#N/A"},{"$error":"#N/A"},{"$error":"#N/A"},""]
[null,null,null,null,null,null,null,null,null,null,null,null,null,null,null,null,{"$f":"IF('Budget Head'!E155=\"\",\"\",'Budget Head'!E155)","v":""},178,{"$f":"'Budget Head'!F155","v":0},{"$error":"#N/A"},{"$error":"#N/A"},{"$error":"#N/A"},""]
[null,null,null,null,null,null,null,null,null,null,null,null,null,null,null,null,{"$f":"IF('Budget Head'!E156=\"\",\"\",'Budget Head'!E156)","v":""},178,{"$f":"'Budget Head'!F156","v":0},{"$error":"#N/A"},{"$error":"#N/A"},{"$error":"#N/A"},""]
[null,null,null,null,null,null,null,null,null,null,null,null,null,null,null,null,{"$f":"IF('Budget Head'!E157=\"\",\"\",'Budget Head'!E157)","v":""},178,{"$f":"'Budget Head'!F157","v":0},{"$error":"#N/A"},{"$error":"#N/A"},{"$error":"#N/A"},""]
[null,null,null,null,null,null,null,null,null,null,null,null,null,null,null,null,{"$f":"IF('Budget Head'!E158=\"\",\"\",'Budget Head'!E158)","v":""},178,{"$f":"'Budget Head'!F158","v":0},{"$error":"#N/A"},{"$error":"#N/A"},{"$error":"#N/A"},""]
[null,null,null,null,null,null,null,null,null,null,null,null,null,null,null,null,{"$f":"IF('Budget Head'!E159=\"\",\"\",'Budget Head'!E159)","v":""},178,{"$f":"'Budget Head'!F159","v":0},{"$error":"#N/A"},{"$error":"#N/A"},{"$error":"#N/A"},""]
[null,null,null,null,null,null,null,null,null,null,null,null,null,null,null,null,{"$f":"IF('Budget Head'!E160=\"\",\"\",'Budget Head'!E160)","v":""},178,{"$f":"'Budget Head'!F160","v":0},{"$error":"#N/A"},{"$error":"#N/A"},{"$error":"#N/A"},""]
[null,null,null,null,null,null,null,null,null,null,null,null,null,null,null,null,{"$f":"IF('Budget Head'!E161=\"\",\"\",'Budget Head'!E161)","v":""},178,{"$f":"'Budget Head'!F161","v":0},{"$error":"#N/A"},{"$error":"#N/A"},{"$error":"#N/A"},""]
[null,null,null,null,null,null,null,null,null,null,null,null,null,null,null,null,{"$f":"IF('Budget Head'!E162=\"\",\"\",'Budget Head'!E162)","v":""},178,{"$f":"'Budget Head'!F162","v":0},{"$error":"#N/A"},{"$error":"#N/A"},{"$error":"#N/A"},""]
[null,null,null,null,null,null,null,null,null,null,null,null,null,null,null,null,{"$f":"IF('Budget Head'!E163=\"\",\"\",'Budget Head'!E163)","v":""},178,{"$f":"'Budget Head'!F163","v":0},{"$error":"#N/A"},{"$error":"#N/A"},{"$error":"#N/A"},""]
[null,null,null,null,null,null,null,null,null,null,null,null,null,null,null,null,{"$f":"IF('Budget Head'!E164=\"\",\"\",'Budget Head'!E164)","v":""},178,{"$f":"'Budget Head'!F164","v":0},{"$error":"#N/A"},{"$error":"#N/A"},{"$error":"#N/A"},""]
[null,null,null,null,null,null,null,null,null,null,null,null,null,null,null,null,{"$f":"IF('Budget Head'!E165=\"\",\"\",'Budget Head'!E165)","v":""},{"$f":"IF(S263=\"\",\"\",COUNTIF(DDO_list,\"<=\"&S263))","v":178},{"$f":"'Budget Head'!F165","v":0},{"$error":"#N/A"},{"$f":"INDEX($Q$103:$Q$282,MATCH(T263,DDO_list,0))","v":{"$error":"#N/A"}},{"$error":"#N/A"},""]
[null,null,null,null,null,null,null,null,null,null,null,null,null,null,null,null,{"$f":"IF('Budget Head'!E166=\"\",\"\",'Budget Head'!E166)","v":""},178,{"$f":"'Budget Head'!F166","v":0},{"$error":"#N/A"},{"$error":"#N/A"},{"$error":"#N/A"},""]
[null,null,null,null,null,null,null,null,null,null,null,null,null,null,null,null,{"$f":"IF('Budget Head'!E167=\"\",\"\",'Budget Head'!E167)","v":""},178,{"$f":"'Budget Head'!F167","v":0},{"$error":"#N/A"},{"$error":"#N/A"},{"$error":"#N/A"},""]
[null,null,null,null,null,null,null,null,null,null,null,null,null,null,null,null,{"$f":"IF('Budget Head'!E168=\"\",\"\",'Budget Head'!E168)","v":""},178,{"$f":"'Budget Head'!F168","v":0},{"$error":"#N/A"},{"$error":"#N/A"},{"$error":"#N/A"},""]
[null,null,null,null,null,null,null,null,null,null,null,null,null,null,null,null,{"$f":"IF('Budget Head'!E169=\"\",\"\",'Budget Head'!E169)","v":""},178,{"$f":"'Budget Head'!F169","v":0},{"$error":"#N/A"},{"$error":"#N/A"},{"$error":"#N/A"},""]
[null,null,null,null,null,null,null,null,null,null,null,null,null,null,null,null,{"$f":"IF('Budget Head'!E170=\"\",\"\",'Budget Head'!E170)","v":""},178,{"$f":"'Budget Head'!F170","v":0},{"$error":"#N/A"},{"$error":"#N/A"},{"$error":"#N/A"},""]
[null,null,null,null,null,null,null,null,null,null,null,null,null,null,null,null,{"$f":"IF('Budget Head'!E171=\"\",\"\",'Budget Head'!E171)","v":""},178,{"$f":"'Budget Head'!F171","v":0},{"$error":"#N/A"},{"$error":"#N/A"},{"$error":"#N/A"},""]
[null,null,null,null,null,null,null,null,null,null,null,null,null,null,null,null,{"$f":"IF('Budget Head'!E172=\"\",\"\",'Budget Head'!E172)","v":""},178,{"$f":"'Budget Head'!F172","v":0},{"$error":"#N/A"},{"$error":"#N/A"},{"$error":"#N/A"},""]
[null,null,null,null,null,null,null,null,null,null,null,null,null,null,null,null,{"$f":"IF('Budget Head'!E173=\"\",\"\",'Budget Head'!E173)","v":""},178,{"$f":"'Budget Head'!F173","v":0},{"$error":"#N/A"},{"$error":"#N/A"},{"$error":"#N/A"},""]
[null,null,null,null,null,null,null,null,null,null,null,null,null,null,null,null,{"$f":"IF('Budget Head'!E174=\"\",\"\",'Budget Head'!E174)","v":""},178,{"$f":"'Budget Head'!F174","v":0},{"$error":"#N/A"},{"$error":"#N/A"},{"$error":"#N/A"},""]
[null,null,null,null,null,null,null,null,null,null,null,null,null,null,null,null,{"$f":"IF('Budget Head'!E175=\"\",\"\",'Budget Head'!E175)","v":""},178,{"$f":"'Budget Head'!F175","v":0},{"$error":"#N/A"},{"$error":"#N/A"},{"$error":"#N/A"},""]
[null,null,null,null,null,null,null,null,null,null,null,null,null,null,null,null,{"$f":"IF('Budget Head'!E176=\"\",\"\",'Budget Head'!E176)","v":""},178,{"$f":"'Budget Head'!F176","v":0},{"$error":"#N/A"},{"$error":"#N/A"},{"$error":"#N/A"},""]
[null,null,null,null,null,null,null,null,null,null,null,null,null,null,null,null,{"$f":"IF('Budget Head'!E177=\"\",\"\",'Budget Head'!E177)","v":""},178,{"$f":"'Budget Head'!F177","v":0},{"$error":"#N/A"},{"$error":"#N/A"},{"$error":"#N/A"},""]
[null,null,null,null,null,null,null,null,null,null,null,null,null,null,null,null,{"$f":"IF('Budget Head'!E178=\"\",\"\",'Budget Head'!E178)","v":""},178,{"$f":"'Budget Head'!F178","v":0},{"$error":"#N/A"},{"$error":"#N/A"},{"$error":"#N/A"},""]
[null,null,null,null,null,null,null,null,null,null,null,null,null,null,null,null,{"$f":"IF('Budget Head'!E179=\"\",\"\",'Budget Head'!E179)","v":""},178,{"$f":"'Budget Head'!F179","v":0},{"$error":"#N/A"},{"$error":"#N/A"},{"$error":"#N/A"},""]
[null,null,null,null,null,null,null,null,null,null,null,null,null,null,null,null,{"$f":"IF('Budget Head'!E180=\"\",\"\",'Budget Head'!E180)","v":""},178,{"$f":"'Budget Head'!F180","v":0},{"$error":"#N/A"},{"$error":"#N/A"},{"$error":"#N/A"},""]
[null,null,null,null,null,null,null,null,null,null,null,null,null,null,null,null,{"$f":"IF('Budget Head'!E181=\"\",\"\",'Budget Head'!E181)","v":""},178,{"$f":"'Budget Head'!F181","v":0},{"$error":"#N/A"},{"$error":"#N/A"},{"$error":"#N/A"},""]
[null,null,null,null,null,null,null,null,null,null,null,null,null,null,null,null,{"$f":"IF('Budget Head'!E182=\"\",\"\",'Budget Head'!E182)","v":""},178,{"$f":"'Budget Head'!F182","v":0},0,"","-0","-0"]
[null,null,null,null,null,null,null,null,null,null,null,null,null,null,null,null,{"$f":"IF('Budget Head'!E183=\"\",\"\",'Budget Head'!E183)","v":""},178,{"$f":"'Budget Head'!F183","v":0},{"$error":"#N/A"},{"$error":"#N/A"},{"$error":"#N/A"},""]
[null,null,null,null,null,null,null,null,null,null,null,null,null,null,null,null,{"$f":"IF('Budget Head'!E184=\"\",\"\",'Budget Head'!E184)","v":""},178,{"$f":"'Budget Head'!F184","v":0},{"$error":"#N/A"},{"$error":"#N/A"},{"$error":"#N/A"},""]
[null,null,null,null,null,null,null,null,null,null,null,null,null,null,null,null,"End Line","End Line","End Line","End Line","End Line","End Line-End Line","End Line-End Line"]

{"sheet":"Report Bill Register","index":5,"n_rows":7,"n_cols":7,"rows_kept":7,"cut":false,"hidden":false,"merged":[[0,4,0,6]]}
["Name of Office","(blank)",null,null,"Home-Back"]
["BudgetHead","(Multiple Items)"]
["Vou Month"]
[]
[null,null,null,null,null,"Values"]
["Bill No","Bill Date","Object Head","Voucher No","Voucher Date","Sum of Cash Amount","Sum of Gross Amount"]
["Grand Total"]

{"sheet":"Monthly report","index":6,"n_rows":7,"n_cols":6,"rows_kept":7,"cut":false,"hidden":false,"merged":[[0,5,0,6]]}
["Name of Office","(blank)",null,null,null,"Home-Back"]
["BudgetHead","(Multiple Items)"]
["Vou Month","(Multiple Items)"]
[]
["Sum of Gross Amount",null,null,null,"Object Head"]
["Bill No","Bill Date","Voucher No","Voucher Date","Grand Total"]
["Grand Total"]

{"sheet":"Bill Register 20-21","index":7,"n_rows":1120,"n_cols":14,"rows_kept":1120,"cut":false,"hidden":false,"merged":[[0,9,0,10]]}
[null,null,null,"voucher update","upto","2018-09-15",null,null,null,"Home-Back",null,null,null,{"$f":"MAX(Voucher_Date_1819,0)","v":0}]
["Name of Office","Bill No","Bill Date","BudgetHead","Object Head","Content of Bill","Period(Particular/Remark)","Gr. No (If any)","Cash Amount","Gross Amount","Voucher No","Voucher Date","Vou Month"]
[null,null,null,null,null,{"$f":"IF(E3=\"\",\"\",IF(E3>0,IF(MID(D3,8,4)=\"-101\",\"GPF Loan\",IF(MID(D3,8,4)=\"-105\",\"SI Loan\",(INDEX(New_Object_Head_1718,MATCH('Bill Register 20-21'!E3,Object_Code_bill_register,0)))))))","v":""},null,null,null,null,null,null,{"$f":"IF(L3=\"\",\"\",EOMONTH(L3,0))","v":""},{"$f":"'Budget Allotment(21-22'!L12","v":0}]
[null,null,null,null,null,{"$f":"IF(E4=\"\",\"\",IF(E4>0,IF(MID(D4,8,4)=\"-101\",\"GPF Loan\",IF(MID(D4,8,4)=\"-105\",\"SI Loan\",(INDEX(New_Object_Head_1718,MATCH('Bill Register 20-21'!E4,Object_Code_bill_register,0)))))))","v":""},null,null,null,null,null,null,{"$f":"IF(L4=\"\",\"\",EOMONTH(L4,0))","v":""},{"$f":"'Budget Allotment(21-22'!L13","v":""}]
[null,null,null,null,null,{"$f":"IF(E5=\"\",\"\",IF(E5>0,IF(MID(D5,8,4)=\"-101\",\"GPF Loan\",IF(MID(D5,8,4)=\"-105\",\"SI Loan\",(INDEX(New_Object_Head_1718,MATCH('Bill Register 20-21'!E5,Object_Code_bill_register,0)))))))","v":""},null,null,null,null,null,null,"",{"$f":"'Budget Allotment(21-22'!L14","v":""}]
[null,null,null,null,null,{"$f":"IF(E6=\"\",\"\",IF(E6>0,IF(MID(D6,8,4)=\"-101\",\"GPF Loan\",IF(MID(D6,8,4)=\"-105\",\"SI Loan\",(INDEX(New_Object_Head_1718,MATCH('Bill Register 20-21'!E6,Object_Code_bill_register,0)))))))","v":""},null,null,null,null,null,null,"",{"$f":"'Budget Allotment(21-22'!L15","v":""}]
[null,null,null,null,null,{"$f":"IF(E7=\"\",\"\",IF(E7>0,IF(MID(D7,8,4)=\"-101\",\"GPF Loan\",IF(MID(D7,8,4)=\"-105\",\"SI Loan\",(INDEX(New_Object_Head_1718,MATCH('Bill Register 20-21'!E7,Object_Code_bill_register,0)))))))","v":""},null,null,null,null,null,null,"",{"$f":"'Budget Allotment(21-22'!L16","v":""}]
[null,null,null,null,null,{"$f":"IF(E8=\"\",\"\",IF(E8>0,IF(MID(D8,8,4)=\"-101\",\"GPF Loan\",IF(MID(D8,8,4)=\"-105\",\"SI Loan\",(INDEX(New_Object_Head_1718,MATCH('Bill Register 20-21'!E8,Object_Code_bill_register,0)))))))","v":""},null,null,null,null,null,null,"",{"$f":"'Budget Allotment(21-22'!L17","v":""}]
[null,null,null,null,null,{"$f":"IF(E9=\"\",\"\",IF(E9>0,IF(MID(D9,8,4)=\"-101\",\"GPF Loan\",IF(MID(D9,8,4)=\"-105\",\"SI Loan\",(INDEX(New_Object_Head_1718,MATCH('Bill Register 20-21'!E9,Object_Code_bill_register,0)))))))","v":""},null,null,null,null,null,null,"",{"$f":"'Budget Allotment(21-22'!L18","v":""}]
[null,null,null,null,null,{"$f":"IF(E10=\"\",\"\",IF(E10>0,IF(MID(D10,8,4)=\"-101\",\"GPF Loan\",IF(MID(D10,8,4)=\"-105\",\"SI Loan\",(INDEX(New_Object_Head_1718,MATCH('Bill Register 20-21'!E10,Object_Code_bill_register,0)))))))","v":""},null,null,null,null,null,null,"",{"$f":"'Budget Allotment(21-22'!L19","v":""}]
[null,null,null,null,null,{"$f":"IF(E11=\"\",\"\",IF(E11>0,IF(MID(D11,8,4)=\"-101\",\"GPF Loan\",IF(MID(D11,8,4)=\"-105\",\"SI Loan\",(INDEX(New_Object_Head_1718,MATCH('Bill Register 20-21'!E11,Object_Code_bill_register,0)))))))","v":""},null,null,null,null,null,null,"",{"$f":"'Budget Allotment(21-22'!L20","v":""}]
[null,null,null,null,null,{"$f":"IF(E12=\"\",\"\",IF(E12>0,IF(MID(D12,8,4)=\"-101\",\"GPF Loan\",IF(MID(D12,8,4)=\"-105\",\"SI Loan\",(INDEX(New_Object_Head_1718,MATCH('Bill Register 20-21'!E12,Object_Code_bill_register,0)))))))","v":""},null,null,null,null,null,null,"",{"$f":"'Budget Allotment(21-22'!L21","v":""}]
[null,null,null,null,null,{"$f":"IF(E13=\"\",\"\",IF(E13>0,IF(MID(D13,8,4)=\"-101\",\"GPF Loan\",IF(MID(D13,8,4)=\"-105\",\"SI Loan\",(INDEX(New_Object_Head_1718,MATCH('Bill Register 20-21'!E13,Object_Code_bill_register,0)))))))","v":""},null,null,null,null,null,null,"",{"$f":"'Budget Allotment(21-22'!L22","v":""}]
[null,null,null,null,null,{"$f":"IF(E14=\"\",\"\",IF(E14>0,IF(MID(D14,8,4)=\"-101\",\"GPF Loan\",IF(MID(D14,8,4)=\"-105\",\"SI Loan\",(INDEX(New_Object_Head_1718,MATCH('Bill Register 20-21'!E14,Object_Code_bill_register,0)))))))","v":""},null,null,null,null,null,null,"",{"$f":"'Budget Allotment(21-22'!L23","v":""}]
[null,null,null,null,null,{"$f":"IF(E15=\"\",\"\",IF(E15>0,IF(MID(D15,8,4)=\"-101\",\"GPF Loan\",IF(MID(D15,8,4)=\"-105\",\"SI Loan\",(INDEX(New_Object_Head_1718,MATCH('Bill Register 20-21'!E15,Object_Code_bill_register,0)))))))","v":""},null,null,null,null,null,null,""]
[null,null,null,null,null,{"$f":"IF(E16=\"\",\"\",IF(E16>0,IF(MID(D16,8,4)=\"-101\",\"GPF Loan\",IF(MID(D16,8,4)=\"-105\",\"SI Loan\",(INDEX(New_Object_Head_1718,MATCH('Bill Register 20-21'!E16,Object_Code_bill_register,0)))))))","v":""},null,null,null,null,null,null,""]
[null,null,null,null,null,{"$f":"IF(E17=\"\",\"\",IF(E17>0,IF(MID(D17,8,4)=\"-101\",\"GPF Loan\",IF(MID(D17,8,4)=\"-105\",\"SI Loan\",(INDEX(New_Object_Head_1718,MATCH('Bill Register 20-21'!E17,Object_Code_bill_register,0)))))))","v":""},null,null,null,null,null,null,""]
[null,null,null,null,null,{"$f":"IF(E18=\"\",\"\",IF(E18>0,IF(MID(D18,8,4)=\"-101\",\"GPF Loan\",IF(MID(D18,8,4)=\"-105\",\"SI Loan\",(INDEX(New_Object_Head_1718,MATCH('Bill Register 20-21'!E18,Object_Code_bill_register,0)))))))","v":""},null,null,null,null,null,null,""]
[null,null,null,null,null,{"$f":"IF(E19=\"\",\"\",IF(E19>0,IF(MID(D19,8,3)=\"-101\",\"GPF Loan\",IF(MID(D19,8,4)=\"-105\",\"SI Loan\",(INDEX(New_Object_Head_1718,MATCH('Bill Register 20-21'!E19,Object_Code_bill_register,0)))))))","v":""},null,null,null,null,null,null,""]
[null,null,null,null,null,{"$f":"IF(E20=\"\",\"\",IF(E20>0,IF(MID(D20,8,3)=\"-101\",\"GPF Loan\",IF(MID(D20,8,4)=\"-105\",\"SI Loan\",(INDEX(New_Object_Head_1718,MATCH('Bill Register 20-21'!E20,Object_Code_bill_register,0)))))))","v":""},null,null,null,null,null,null,""]
[null,null,null,null,null,{"$f":"IF(E21=\"\",\"\",IF(E21>0,IF(MID(D21,8,3)=\"-101\",\"GPF Loan\",IF(MID(D21,8,4)=\"-105\",\"SI Loan\",(INDEX(New_Object_Head_1718,MATCH('Bill Register 20-21'!E21,Object_Code_bill_register,0)))))))","v":""},null,null,null,null,null,null,""]
[null,null,null,null,null,{"$f":"IF(E22=\"\",\"\",IF(E22>0,IF(MID(D22,8,3)=\"-101\",\"GPF Loan\",IF(MID(D22,8,4)=\"-105\",\"SI Loan\",(INDEX(New_Object_Head_1718,MATCH('Bill Register 20-21'!E22,Object_Code_bill_register,0)))))))","v":""},null,null,null,null,null,null,""]
[null,null,null,null,null,{"$f":"IF(E23=\"\",\"\",IF(E23>0,IF(MID(D23,8,3)=\"-101\",\"GPF Loan\",IF(MID(D23,8,4)=\"-105\",\"SI Loan\",(INDEX(New_Object_Head_1718,MATCH('Bill Register 20-21'!E23,Object_Code_bill_register,0)))))))","v":""},null,null,null,null,null,null,""]
[null,null,null,null,null,{"$f":"IF(E24=\"\",\"\",IF(E24>0,IF(MID(D24,8,3)=\"-101\",\"GPF Loan\",IF(MID(D24,8,4)=\"-105\",\"SI Loan\",(INDEX(New_Object_Head_1718,MATCH('Bill Register 20-21'!E24,Object_Code_bill_register,0)))))))","v":""},null,null,null,null,null,null,""]
[null,null,null,null,null,{"$f":"IF(E25=\"\",\"\",IF(E25>0,IF(MID(D25,8,3)=\"-101\",\"GPF Loan\",IF(MID(D25,8,4)=\"-105\",\"SI Loan\",(INDEX(New_Object_Head_1718,MATCH('Bill Register 20-21'!E25,Object_Code_bill_register,0)))))))","v":""},null,null,null,null,null,null,""]
[null,null,null,null,null,{"$f":"IF(E26=\"\",\"\",IF(E26>0,IF(MID(D26,8,3)=\"-101\",\"GPF Loan\",IF(MID(D26,8,4)=\"-105\",\"SI Loan\",(INDEX(New_Object_Head_1718,MATCH('Bill Register 20-21'!E26,Object_Code_bill_register,0)))))))","v":""},null,null,null,null,null,null,""]
[null,null,null,null,null,{"$f":"IF(E27=\"\",\"\",IF(E27>0,IF(MID(D27,8,3)=\"-101\",\"GPF Loan\",IF(MID(D27,8,4)=\"-105\",\"SI Loan\",(INDEX(New_Object_Head_1718,MATCH('Bill Register 20-21'!E27,Object_Code_bill_register,0)))))))","v":""},null,null,null,null,null,null,""]
[null,null,null,null,null,{"$f":"IF(E28=\"\",\"\",IF(E28>0,IF(MID(D28,8,3)=\"-101\",\"GPF Loan\",IF(MID(D28,8,4)=\"-105\",\"SI Loan\",(INDEX(New_Object_Head_1718,MATCH('Bill Register 20-21'!E28,Object_Code_bill_register,0)))))))","v":""},null,null,null,null,null,null,""]
[null,null,null,null,null,{"$f":"IF(E29=\"\",\"\",IF(E29>0,IF(MID(D29,8,3)=\"-101\",\"GPF Loan\",IF(MID(D29,8,4)=\"-105\",\"SI Loan\",(INDEX(New_Object_Head_1718,MATCH('Bill Register 20-21'!E29,Object_Code_bill_register,0)))))))","v":""},null,null,null,null,null,null,""]
[null,null,null,null,null,{"$f":"IF(E30=\"\",\"\",IF(E30>0,IF(MID(D30,8,3)=\"-101\",\"GPF Loan\",IF(MID(D30,8,4)=\"-105\",\"SI Loan\",(INDEX(New_Object_Head_1718,MATCH('Bill Register 20-21'!E30,Object_Code_bill_register,0)))))))","v":""},null,null,null,null,null,null,""]
[null,null,null,null,null,{"$f":"IF(E31=\"\",\"\",IF(E31>0,IF(MID(D31,8,3)=\"-101\",\"GPF Loan\",IF(MID(D31,8,4)=\"-105\",\"SI Loan\",(INDEX(New_Object_Head_1718,MATCH('Bill Register 20-21'!E31,Object_Code_bill_register,0)))))))","v":""},null,null,null,null,null,null,""]
[null,null,null,null,null,{"$f":"IF(E32=\"\",\"\",IF(E32>0,IF(MID(D32,8,3)=\"-101\",\"GPF Loan\",IF(MID(D32,8,4)=\"-105\",\"SI Loan\",(INDEX(New_Object_Head_1718,MATCH('Bill Register 20-21'!E32,Object_Code_bill_register,0)))))))","v":""},null,null,null,null,null,null,""]
[null,null,null,null,null,{"$f":"IF(E33=\"\",\"\",IF(E33>0,IF(MID(D33,8,3)=\"-101\",\"GPF Loan\",IF(MID(D33,8,4)=\"-105\",\"SI Loan\",(INDEX(New_Object_Head_1718,MATCH('Bill Register 20-21'!E33,Object_Code_bill_register,0)))))))","v":""},null,null,null,null,null,null,""]
[null,null,null,null,null,{"$f":"IF(E34=\"\",\"\",IF(E34>0,IF(MID(D34,8,3)=\"-101\",\"GPF Loan\",IF(MID(D34,8,4)=\"-105\",\"SI Loan\",(INDEX(New_Object_Head_1718,MATCH('Bill Register 20-21'!E34,Object_Code_bill_register,0)))))))","v":""},null,null,null,null,null,null,""]
[null,null,null,null,null,{"$f":"IF(E35=\"\",\"\",IF(E35>0,IF(MID(D35,8,3)=\"-101\",\"GPF Loan\",IF(MID(D35,8,4)=\"-105\",\"SI Loan\",(INDEX(New_Object_Head_1718,MATCH('Bill Register 20-21'!E35,Object_Code_bill_register,0)))))))","v":""},null,null,null,null,null,null,""]
[null,null,null,null,null,{"$f":"IF(E36=\"\",\"\",IF(E36>0,IF(MID(D36,8,3)=\"-101\",\"GPF Loan\",IF(MID(D36,8,4)=\"-105\",\"SI Loan\",(INDEX(New_Object_Head_1718,MATCH('Bill Register 20-21'!E36,Object_Code_bill_register,0)))))))","v":""},null,null,null,null,null,null,""]
[null,null,null,null,null,{"$f":"IF(E37=\"\",\"\",IF(E37>0,IF(MID(D37,8,3)=\"-101\",\"GPF Loan\",IF(MID(D37,8,4)=\"-105\",\"SI Loan\",(INDEX(New_Object_Head_1718,MATCH('Bill Register 20-21'!E37,Object_Code_bill_register,0)))))))","v":""},null,null,null,null,null,null,""]
[null,null,null,null,null,{"$f":"IF(E38=\"\",\"\",IF(E38>0,IF(MID(D38,8,3)=\"-101\",\"GPF Loan\",IF(MID(D38,8,4)=\"-105\",\"SI Loan\",(INDEX(New_Object_Head_1718,MATCH('Bill Register 20-21'!E38,Object_Code_bill_register,0)))))))","v":""},null,null,null,null,null,null,""]
[null,null,null,null,null,{"$f":"IF(E39=\"\",\"\",IF(E39>0,IF(MID(D39,8,3)=\"-101\",\"GPF Loan\",IF(MID(D39,8,4)=\"-105\",\"SI Loan\",(INDEX(New_Object_Head_1718,MATCH('Bill Register 20-21'!E39,Object_Code_bill_register,0)))))))","v":""},null,null,null,null,null,null,""]
[null,null,null,null,null,{"$f":"IF(E40=\"\",\"\",IF(E40>0,IF(MID(D40,8,3)=\"-101\",\"GPF Loan\",IF(MID(D40,8,4)=\"-105\",\"SI Loan\",(INDEX(New_Object_Head_1718,MATCH('Bill Register 20-21'!E40,Object_Code_bill_register,0)))))))","v":""},null,null,null,null,null,null,""]
[null,null,null,null,null,{"$f":"IF(E41=\"\",\"\",IF(E41>0,IF(MID(D41,8,3)=\"-101\",\"GPF Loan\",IF(MID(D41,8,4)=\"-105\",\"SI Loan\",(INDEX(New_Object_Head_1718,MATCH('Bill Register 20-21'!E41,Object_Code_bill_register,0)))))))","v":""},null,null,null,null,null,null,""]
[null,null,null,null,null,{"$f":"IF(E42=\"\",\"\",IF(E42>0,IF(MID(D42,8,3)=\"-101\",\"GPF Loan\",IF(MID(D42,8,4)=\"-105\",\"SI Loan\",(INDEX(New_Object_Head_1718,MATCH('Bill Register 20-21'!E42,Object_Code_bill_register,0)))))))","v":""},null,null,null,null,null,null,""]
[null,null,null,null,null,{"$f":"IF(E43=\"\",\"\",IF(E43>0,IF(MID(D43,8,3)=\"-101\",\"GPF Loan\",IF(MID(D43,8,4)=\"-105\",\"SI Loan\",(INDEX(New_Object_Head_1718,MATCH('Bill Register 20-21'!E43,Object_Code_bill_register,0)))))))","v":""},null,null,null,null,null,null,""]
[null,null,null,null,null,{"$f":"IF(E44=\"\",\"\",IF(E44>0,IF(MID(D44,8,3)=\"-101\",\"GPF Loan\",IF(MID(D44,8,4)=\"-105\",\"SI Loan\",(INDEX(New_Object_Head_1718,MATCH('Bill Register 20-21'!E44,Object_Code_bill_register,0)))))))","v":""},null,null,null,null,null,null,""]
[null,null,null,null,null,{"$f":"IF(E45=\"\",\"\",IF(E45>0,IF(MID(D45,8,3)=\"-101\",\"GPF Loan\",IF(MID(D45,8,4)=\"-105\",\"SI Loan\",(INDEX(New_Object_Head_1718,MATCH('Bill Register 20-21'!E45,Object_Code_bill_register,0)))))))","v":""},null,null,null,null,null,null,""]
[null,null,null,null,null,{"$f":"IF(E46=\"\",\"\",IF(E46>0,IF(MID(D46,8,3)=\"-101\",\"GPF Loan\",IF(MID(D46,8,4)=\"-105\",\"SI Loan\",(INDEX(New_Object_Head_1718,MATCH('Bill Register 20-21'!E46,Object_Code_bill_register,0)))))))","v":""},null,null,null,null,null,null,""]
[null,null,null,null,null,{"$f":"IF(E47=\"\",\"\",IF(E47>0,IF(MID(D47,8,3)=\"-101\",\"GPF Loan\",IF(MID(D47,8,4)=\"-105\",\"SI Loan\",(INDEX(New_Object_Head_1718,MATCH('Bill Register 20-21'!E47,Object_Code_bill_register,0)))))))","v":""},null,null,null,null,null,null,""]
[null,null,null,null,null,{"$f":"IF(E48=\"\",\"\",IF(E48>0,IF(MID(D48,8,3)=\"-101\",\"GPF Loan\",IF(MID(D48,8,4)=\"-105\",\"SI Loan\",(INDEX(New_Object_Head_1718,MATCH('Bill Register 20-21'!E48,Object_Code_bill_register,0)))))))","v":""},null,null,null,null,null,null,""]
[null,null,null,null,null,{"$f":"IF(E49=\"\",\"\",IF(E49>0,IF(MID(D49,8,3)=\"-101\",\"GPF Loan\",IF(MID(D49,8,4)=\"-105\",\"SI Loan\",(INDEX(New_Object_Head_1718,MATCH('Bill Register 20-21'!E49,Object_Code_bill_register,0)))))))","v":""},null,null,null,null,null,null,""]
[null,null,null,null,null,{"$f":"IF(E50=\"\",\"\",IF(E50>0,IF(MID(D50,8,3)=\"-101\",\"GPF Loan\",IF(MID(D50,8,4)=\"-105\",\"SI Loan\",(INDEX(New_Object_Head_1718,MATCH('Bill Register 20-21'!E50,Object_Code_bill_register,0)))))))","v":""},null,null,null,null,null,null,""]
[null,null,null,null,null,{"$f":"IF(E51=\"\",\"\",IF(E51>0,IF(MID(D51,8,3)=\"-101\",\"GPF Loan\",IF(MID(D51,8,4)=\"-105\",\"SI Loan\",(INDEX(New_Object_Head_1718,MATCH('Bill Register 20-21'!E51,Object_Code_bill_register,0)))))))","v":""},null,null,null,null,null,null,""]
[null,null,null,null,null,{"$f":"IF(E52=\"\",\"\",IF(E52>0,IF(MID(D52,8,3)=\"-101\",\"GPF Loan\",IF(MID(D52,8,4)=\"-105\",\"SI Loan\",(INDEX(New_Object_Head_1718,MATCH('Bill Register 20-21'!E52,Object_Code_bill_register,0)))))))","v":""},null,null,null,null,null,null,""]
[null,null,null,null,null,{"$f":"IF(E53=\"\",\"\",IF(E53>0,IF(MID(D53,8,3)=\"-101\",\"GPF Loan\",IF(MID(D53,8,4)=\"-105\",\"SI Loan\",(INDEX(New_Object_Head_1718,MATCH('Bill Register 20-21'!E53,Object_Code_bill_register,0)))))))","v":""},null,null,null,null,null,null,""]
[null,null,null,null,null,{"$f":"IF(E54=\"\",\"\",IF(E54>0,IF(MID(D54,8,3)=\"-101\",\"GPF Loan\",IF(MID(D54,8,4)=\"-105\",\"SI Loan\",(INDEX(New_Object_Head_1718,MATCH('Bill Register 20-21'!E54,Object_Code_bill_register,0)))))))","v":""},null,null,null,null,null,null,""]
[null,null,null,null,null,{"$f":"IF(E55=\"\",\"\",IF(E55>0,IF(MID(D55,8,3)=\"-101\",\"GPF Loan\",IF(MID(D55,8,4)=\"-105\",\"SI Loan\",(INDEX(New_Object_Head_1718,MATCH('Bill Register 20-21'!E55,Object_Code_bill_register,0)))))))","v":""},null,null,null,null,null,null,""]
[null,null,null,null,null,{"$f":"IF(E56=\"\",\"\",IF(E56>0,IF(MID(D56,8,3)=\"-101\",\"GPF Loan\",IF(MID(D56,8,4)=\"-105\",\"SI Loan\",(INDEX(New_Object_Head_1718,MATCH('Bill Register 20-21'!E56,Object_Code_bill_register,0)))))))","v":""},null,null,null,null,null,null,""]
[null,null,null,null,null,{"$f":"IF(E57=\"\",\"\",IF(E57>0,IF(MID(D57,8,3)=\"-101\",\"GPF Loan\",IF(MID(D57,8,4)=\"-105\",\"SI Loan\",(INDEX(New_Object_Head_1718,MATCH('Bill Register 20-21'!E57,Object_Code_bill_register,0)))))))","v":""},null,null,null,null,null,null,""]
[null,null,null,null,null,{"$f":"IF(E58=\"\",\"\",IF(E58>0,IF(MID(D58,8,3)=\"-101\",\"GPF Loan\",IF(MID(D58,8,4)=\"-105\",\"SI Loan\",(INDEX(New_Object_Head_1718,MATCH('Bill Register 20-21'!E58,Object_Code_bill_register,0)))))))","v":""},null,null,null,null,null,null,""]
[null,null,null,null,null,{"$f":"IF(E59=\"\",\"\",IF(E59>0,IF(MID(D59,8,3)=\"-101\",\"GPF Loan\",IF(MID(D59,8,4)=\"-105\",\"SI Loan\",(INDEX(New_Object_Head_1718,MATCH('Bill Register 20-21'!E59,Object_Code_bill_register,0)))))))","v":""},null,null,null,null,null,null,""]
[null,null,null,null,null,{"$f":"IF(E60=\"\",\"\",IF(E60>0,IF(MID(D60,8,3)=\"-101\",\"GPF Loan\",IF(MID(D60,8,4)=\"-105\",\"SI Loan\",(INDEX(New_Object_Head_1718,MATCH('Bill Register 20-21'!E60,Object_Code_bill_register,0)))))))","v":""},null,null,null,null,null,null,""]
[null,null,null,null,null,{"$f":"IF(E61=\"\",\"\",IF(E61>0,IF(MID(D61,8,3)=\"-101\",\"GPF Loan\",IF(MID(D61,8,4)=\"-105\",\"SI Loan\",(INDEX(New_Object_Head_1718,MATCH('Bill Register 20-21'!E61,Object_Code_bill_register,0)))))))","v":""},null,null,null,null,null,null,""]
[null,null,null,null,null,{"$f":"IF(E62=\"\",\"\",IF(E62>0,IF(MID(D62,8,3)=\"-101\",\"GPF Loan\",IF(MID(D62,8,4)=\"-105\",\"SI Loan\",(INDEX(New_Object_Head_1718,MATCH('Bill Register 20-21'!E62,Object_Code_bill_register,0)))))))","v":""},null,null,null,null,null,null,""]
[null,null,null,null,null,{"$f":"IF(E63=\"\",\"\",IF(E63>0,IF(MID(D63,8,3)=\"-101\",\"GPF Loan\",IF(MID(D63,8,4)=\"-105\",\"SI Loan\",(INDEX(New_Object_Head_1718,MATCH('Bill Register 20-21'!E63,Object_Code_bill_register,0)))))))","v":""},null,null,null,null,null,null,""]
[null,null,null,null,null,{"$f":"IF(E64=\"\",\"\",IF(E64>0,IF(MID(D64,8,3)=\"-101\",\"GPF Loan\",IF(MID(D64,8,4)=\"-105\",\"SI Loan\",(INDEX(New_Object_Head_1718,MATCH('Bill Register 20-21'!E64,Object_Code_bill_register,0)))))))","v":""},null,null,null,null,null,null,""]
[null,null,null,null,null,{"$f":"IF(E65=\"\",\"\",IF(E65>0,IF(MID(D65,8,3)=\"-101\",\"GPF Loan\",IF(MID(D65,8,4)=\"-105\",\"SI Loan\",(INDEX(New_Object_Head_1718,MATCH('Bill Register 20-21'!E65,Object_Code_bill_register,0)))))))","v":""},null,null,null,null,null,null,""]
[null,null,null,null,null,{"$f":"IF(E66=\"\",\"\",IF(E66>0,IF(MID(D66,8,3)=\"-101\",\"GPF Loan\",IF(MID(D66,8,4)=\"-105\",\"SI Loan\",(INDEX(New_Object_Head_1718,MATCH('Bill Register 20-21'!E66,Object_Code_bill_register,0)))))))","v":""},null,null,null,null,null,null,""]
[null,null,null,null,null,{"$f":"IF(E67=\"\",\"\",IF(E67>0,IF(MID(D67,8,3)=\"-101\",\"GPF Loan\",IF(MID(D67,8,4)=\"-105\",\"SI Loan\",(INDEX(New_Object_Head_1718,MATCH('Bill Register 20-21'!E67,Object_Code_bill_register,0)))))))","v":""},null,null,null,null,null,null,""]
[null,null,null,null,null,{"$f":"IF(E68=\"\",\"\",IF(E68>0,IF(MID(D68,8,3)=\"-101\",\"GPF Loan\",IF(MID(D68,8,4)=\"-105\",\"SI Loan\",(INDEX(New_Object_Head_1718,MATCH('Bill Register 20-21'!E68,Object_Code_bill_register,0)))))))","v":""},null,null,null,null,null,null,{"$f":"IF(L68=\"\",\"\",EOMONTH(L68,0))","v":""}]
[null,null,null,null,null,{"$f":"IF(E69=\"\",\"\",IF(E69>0,IF(MID(D69,8,3)=\"-101\",\"GPF Loan\",IF(MID(D69,8,4)=\"-105\",\"SI Loan\",(INDEX(New_Object_Head_1718,MATCH('Bill Register 20-21'!E69,Object_Code_bill_register,0)))))))","v":""},null,null,null,null,null,null,""]
[null,null,null,null,null,{"$f":"IF(E70=\"\",\"\",IF(E70>0,IF(MID(D70,8,3)=\"-101\",\"GPF Loan\",IF(MID(D70,8,4)=\"-105\",\"SI Loan\",(INDEX(New_Object_Head_1718,MATCH('Bill Register 20-21'!E70,Object_Code_bill_register,0)))))))","v":""},null,null,null,null,null,null,""]
[null,null,null,null,null,{"$f":"IF(E71=\"\",\"\",IF(E71>0,IF(MID(D71,8,3)=\"-101\",\"GPF Loan\",IF(MID(D71,8,4)=\"-105\",\"SI Loan\",(INDEX(New_Object_Head_1718,MATCH('Bill Register 20-21'!E71,Object_Code_bill_register,0)))))))","v":""},null,null,null,null,null,null,""]
[null,null,null,null,null,{"$f":"IF(E72=\"\",\"\",IF(E72>0,IF(MID(D72,8,3)=\"-101\",\"GPF Loan\",IF(MID(D72,8,4)=\"-105\",\"SI Loan\",(INDEX(New_Object_Head_1718,MATCH('Bill Register 20-21'!E72,Object_Code_bill_register,0)))))))","v":""},null,null,null,null,null,null,""]
[null,null,null,null,null,{"$f":"IF(E73=\"\",\"\",IF(E73>0,IF(MID(D73,8,3)=\"-101\",\"GPF Loan\",IF(MID(D73,8,4)=\"-105\",\"SI Loan\",(INDEX(New_Object_Head_1718,MATCH('Bill Register 20-21'!E73,Object_Code_bill_register,0)))))))","v":""},null,null,null,null,null,null,""]
[null,null,null,null,null,{"$f":"IF(E74=\"\",\"\",IF(E74>0,IF(MID(D74,8,3)=\"-101\",\"GPF Loan\",IF(MID(D74,8,4)=\"-105\",\"SI Loan\",(INDEX(New_Object_Head_1718,MATCH('Bill Register 20-21'!E74,Object_Code_bill_register,0)))))))","v":""},null,null,null,null,null,null,""]
[null,null,null,null,null,{"$f":"IF(E75=\"\",\"\",IF(E75>0,IF(MID(D75,8,3)=\"-101\",\"GPF Loan\",IF(MID(D75,8,4)=\"-105\",\"SI Loan\",(INDEX(New_Object_Head_1718,MATCH('Bill Register 20-21'!E75,Object_Code_bill_register,0)))))))","v":""},null,null,null,null,null,null,""]
[null,null,null,null,null,{"$f":"IF(E76=\"\",\"\",IF(E76>0,IF(MID(D76,8,3)=\"-101\",\"GPF Loan\",IF(MID(D76,8,4)=\"-105\",\"SI Loan\",(INDEX(New_Object_Head_1718,MATCH('Bill Register 20-21'!E76,Object_Code_bill_register,0)))))))","v":""},null,null,null,null,null,null,""]
[null,null,null,null,null,{"$f":"IF(E77=\"\",\"\",IF(E77>0,IF(MID(D77,8,3)=\"-101\",\"GPF Loan\",IF(MID(D77,8,4)=\"-105\",\"SI Loan\",(INDEX(New_Object_Head_1718,MATCH('Bill Register 20-21'!E77,Object_Code_bill_register,0)))))))","v":""},null,null,null,null,null,null,""]
[null,null,null,null,null,{"$f":"IF(E78=\"\",\"\",IF(E78>0,IF(MID(D78,8,3)=\"-101\",\"GPF Loan\",IF(MID(D78,8,4)=\"-105\",\"SI Loan\",(INDEX(New_Object_Head_1718,MATCH('Bill Register 20-21'!E78,Object_Code_bill_register,0)))))))","v":""},null,null,null,null,null,null,""]
[null,null,null,null,null,{"$f":"IF(E79=\"\",\"\",IF(E79>0,IF(MID(D79,8,3)=\"-101\",\"GPF Loan\",IF(MID(D79,8,4)=\"-105\",\"SI Loan\",(INDEX(New_Object_Head_1718,MATCH('Bill Register 20-21'!E79,Object_Code_bill_register,0)))))))","v":""},null,null,null,null,null,null,""]
[null,null,null,null,null,{"$f":"IF(E80=\"\",\"\",IF(E80>0,IF(MID(D80,8,3)=\"-101\",\"GPF Loan\",IF(MID(D80,8,4)=\"-105\",\"SI Loan\",(INDEX(New_Object_Head_1718,MATCH('Bill Register 20-21'!E80,Object_Code_bill_register,0)))))))","v":""},null,null,null,null,null,null,""]
[null,null,null,null,null,{"$f":"IF(E81=\"\",\"\",IF(E81>0,IF(MID(D81,8,3)=\"-101\",\"GPF Loan\",IF(MID(D81,8,4)=\"-105\",\"SI Loan\",(INDEX(New_Object_Head_1718,MATCH('Bill Register 20-21'!E81,Object_Code_bill_register,0)))))))","v":""},null,null,null,null,null,null,""]
[null,null,null,null,null,{"$f":"IF(E82=\"\",\"\",IF(E82>0,IF(MID(D82,8,3)=\"-101\",\"GPF Loan\",IF(MID(D82,8,4)=\"-105\",\"SI Loan\",(INDEX(New_Object_Head_1718,MATCH('Bill Register 20-21'!E82,Object_Code_bill_register,0)))))))","v":""},null,null,null,null,null,null,""]
[null,null,null,null,null,{"$f":"IF(E83=\"\",\"\",IF(E83>0,IF(MID(D83,8,3)=\"-101\",\"GPF Loan\",IF(MID(D83,8,4)=\"-105\",\"SI Loan\",(INDEX(New_Object_Head_1718,MATCH('Bill Register 20-21'!E83,Object_Code_bill_register,0)))))))","v":""},null,null,null,null,null,null,""]
[null,null,null,null,null,{"$f":"IF(E84=\"\",\"\",IF(E84>0,IF(MID(D84,8,3)=\"-101\",\"GPF Loan\",IF(MID(D84,8,4)=\"-105\",\"SI Loan\",(INDEX(New_Object_Head_1718,MATCH('Bill Register 20-21'!E84,Object_Code_bill_register,0)))))))","v":""},null,null,null,null,null,null,""]
[null,null,null,null,null,{"$f":"IF(E85=\"\",\"\",IF(E85>0,IF(MID(D85,8,3)=\"-101\",\"GPF Loan\",IF(MID(D85,8,4)=\"-105\",\"SI Loan\",(INDEX(New_Object_Head_1718,MATCH('Bill Register 20-21'!E85,Object_Code_bill_register,0)))))))","v":""},null,null,null,null,null,null,""]
[null,null,null,null,null,{"$f":"IF(E86=\"\",\"\",IF(E86>0,IF(MID(D86,8,3)=\"-101\",\"GPF Loan\",IF(MID(D86,8,4)=\"-105\",\"SI Loan\",(INDEX(New_Object_Head_1718,MATCH('Bill Register 20-21'!E86,Object_Code_bill_register,0)))))))","v":""},null,null,null,null,null,null,""]
[null,null,null,null,null,{"$f":"IF(E87=\"\",\"\",IF(E87>0,IF(MID(D87,8,3)=\"-101\",\"GPF Loan\",IF(MID(D87,8,4)=\"-105\",\"SI Loan\",(INDEX(New_Object_Head_1718,MATCH('Bill Register 20-21'!E87,Object_Code_bill_register,0)))))))","v":""},null,null,null,null,null,null,""]
[null,null,null,null,null,{"$f":"IF(E88=\"\",\"\",IF(E88>0,IF(MID(D88,8,3)=\"-101\",\"GPF Loan\",IF(MID(D88,8,4)=\"-105\",\"SI Loan\",(INDEX(New_Object_Head_1718,MATCH('Bill Register 20-21'!E88,Object_Code_bill_register,0)))))))","v":""},null,null,null,null,null,null,""]
[null,null,null,null,null,{"$f":"IF(E89=\"\",\"\",IF(E89>0,IF(MID(D89,8,3)=\"-101\",\"GPF Loan\",IF(MID(D89,8,4)=\"-105\",\"SI Loan\",(INDEX(New_Object_Head_1718,MATCH('Bill Register 20-21'!E89,Object_Code_bill_register,0)))))))","v":""},null,null,null,null,null,null,""]
[null,null,null,null,null,{"$f":"IF(E90=\"\",\"\",IF(E90>0,IF(MID(D90,8,3)=\"-101\",\"GPF Loan\",IF(MID(D90,8,4)=\"-105\",\"SI Loan\",(INDEX(New_Object_Head_1718,MATCH('Bill Register 20-21'!E90,Object_Code_bill_register,0)))))))","v":""},null,null,null,null,null,null,""]
[null,null,null,null,null,{"$f":"IF(E91=\"\",\"\",IF(E91>0,IF(MID(D91,8,3)=\"-101\",\"GPF Loan\",IF(MID(D91,8,4)=\"-105\",\"SI Loan\",(INDEX(New_Object_Head_1718,MATCH('Bill Register 20-21'!E91,Object_Code_bill_register,0)))))))","v":""},null,null,null,null,null,null,""]
[null,null,null,null,null,{"$f":"IF(E92=\"\",\"\",IF(E92>0,IF(MID(D92,8,3)=\"-101\",\"GPF Loan\",IF(MID(D92,8,4)=\"-105\",\"SI Loan\",(INDEX(New_Object_Head_1718,MATCH('Bill Register 20-21'!E92,Object_Code_bill_register,0)))))))","v":""},null,null,null,null,null,null,""]
[null,null,null,null,null,{"$f":"IF(E93=\"\",\"\",IF(E93>0,IF(MID(D93,8,3)=\"-101\",\"GPF Loan\",IF(MID(D93,8,4)=\"-105\",\"SI Loan\",(INDEX(New_Object_Head_1718,MATCH('Bill Register 20-21'!E93,Object_Code_bill_register,0)))))))","v":""},null,null,null,null,null,null,""]
[null,null,null,null,null,{"$f":"IF(E94=\"\",\"\",IF(E94>0,IF(MID(D94,8,3)=\"-101\",\"GPF Loan\",IF(MID(D94,8,4)=\"-105\",\"SI Loan\",(INDEX(New_Object_Head_1718,MATCH('Bill Register 20-21'!E94,Object_Code_bill_register,0)))))))","v":""},null,null,null,null,null,null,""]
[null,null,null,null,null,{"$f":"IF(E95=\"\",\"\",IF(E95>0,IF(MID(D95,8,3)=\"-101\",\"GPF Loan\",IF(MID(D95,8,4)=\"-105\",\"SI Loan\",(INDEX(New_Object_Head_1718,MATCH('Bill Register 20-21'!E95,Object_Code_bill_register,0)))))))","v":""},null,null,null,null,null,null,""]
[null,null,null,null,null,{"$f":"IF(E96=\"\",\"\",IF(E96>0,IF(MID(D96,8,3)=\"-101\",\"GPF Loan\",IF(MID(D96,8,4)=\"-105\",\"SI Loan\",(INDEX(New_Object_Head_1718,MATCH('Bill Register 20-21'!E96,Object_Code_bill_register,0)))))))","v":""},null,null,null,null,null,null,""]
[null,null,null,null,null,{"$f":"IF(E97=\"\",\"\",IF(E97>0,IF(MID(D97,8,3)=\"-101\",\"GPF Loan\",IF(MID(D97,8,4)=\"-105\",\"SI Loan\",(INDEX(New_Object_Head_1718,MATCH('Bill Register 20-21'!E97,Object_Code_bill_register,0)))))))","v":""},null,null,null,null,null,null,"",{"$f":"MAX(L97:L98)","v":"00:00:00"}]
[null,null,null,null,null,{"$f":"IF(E98=\"\",\"\",IF(E98>0,IF(MID(D98,8,3)=\"-101\",\"GPF Loan\",IF(MID(D98,8,4)=\"-105\",\"SI Loan\",(INDEX(New_Object_Head_1718,MATCH('Bill Register 20-21'!E98,Object_Code_bill_register,0)))))))","v":""},null,null,null,null,null,null,""]
[null,null,null,null,null,{"$f":"IF(E99=\"\",\"\",IF(E99>0,IF(MID(D99,8,3)=\"-101\",\"GPF Loan\",IF(MID(D99,8,4)=\"-105\",\"SI Loan\",(INDEX(New_Object_Head_1718,MATCH('Bill Register 20-21'!E99,Object_Code_bill_register,0)))))))","v":""},null,null,null,null,null,null,""]
[null,null,null,null,null,{"$f":"IF(E100=\"\",\"\",IF(E100>0,IF(MID(D100,8,3)=\"-101\",\"GPF Loan\",IF(MID(D100,8,4)=\"-105\",\"SI Loan\",(INDEX(New_Object_Head_1718,MATCH('Bill Register 20-21'!E100,Object_Code_bill_register,0)))))))","v":""},null,null,null,null,null,null,""]
[null,null,null,null,null,{"$f":"IF(E101=\"\",\"\",IF(E101>0,IF(MID(D101,8,3)=\"-101\",\"GPF Loan\",IF(MID(D101,8,4)=\"-105\",\"SI Loan\",(INDEX(New_Object_Head_1718,MATCH('Bill Register 20-21'!E101,Object_Code_bill_register,0)))))))","v":""},null,null,null,null,null,null,""]
[null,null,null,null,null,{"$f":"IF(E102=\"\",\"\",IF(E102>0,IF(MID(D102,8,3)=\"-101\",\"GPF Loan\",IF(MID(D102,8,4)=\"-105\",\"SI Loan\",(INDEX(New_Object_Head_1718,MATCH('Bill Register 20-21'!E102,Object_Code_bill_register,0)))))))","v":""},null,null,null,null,null,null,""]
[null,null,null,null,null,{"$f":"IF(E103=\"\",\"\",IF(E103>0,IF(MID(D103,8,3)=\"-101\",\"GPF Loan\",IF(MID(D103,8,4)=\"-105\",\"SI Loan\",(INDEX(New_Object_Head_1718,MATCH('Bill Register 20-21'!E103,Object_Code_bill_register,0)))))))","v":""},null,null,null,null,null,null,""]
[null,null,null,null,null,{"$f":"IF(E104=\"\",\"\",IF(E104>0,IF(MID(D104,8,3)=\"-101\",\"GPF Loan\",IF(MID(D104,8,4)=\"-105\",\"SI Loan\",(INDEX(New_Object_Head_1718,MATCH('Bill Register 20-21'!E104,Object_Code_bill_register,0)))))))","v":""},null,null,null,null,null,null,""]
[null,null,null,null,null,{"$f":"IF(E105=\"\",\"\",IF(E105>0,IF(MID(D105,8,3)=\"-101\",\"GPF Loan\",IF(MID(D105,8,4)=\"-105\",\"SI Loan\",(INDEX(New_Object_Head_1718,MATCH('Bill Register 20-21'!E105,Object_Code_bill_register,0)))))))","v":""},null,null,null,null,null,null,""]
[null,null,null,null,null,{"$f":"IF(E106=\"\",\"\",IF(E106>0,IF(MID(D106,8,3)=\"-101\",\"GPF Loan\",IF(MID(D106,8,4)=\"-105\",\"SI Loan\",(INDEX(New_Object_Head_1718,MATCH('Bill Register 20-21'!E106,Object_Code_bill_register,0)))))))","v":""},null,null,null,null,null,null,""]
[null,null,null,null,null,{"$f":"IF(E107=\"\",\"\",IF(E107>0,IF(MID(D107,8,3)=\"-101\",\"GPF Loan\",IF(MID(D107,8,4)=\"-105\",\"SI Loan\",(INDEX(New_Object_Head_1718,MATCH('Bill Register 20-21'!E107,Object_Code_bill_register,0)))))))","v":""},null,null,null,null,null,null,""]
[null,null,null,null,null,{"$f":"IF(E108=\"\",\"\",IF(E108>0,IF(MID(D108,8,3)=\"-101\",\"GPF Loan\",IF(MID(D108,8,4)=\"-105\",\"SI Loan\",(INDEX(New_Object_Head_1718,MATCH('Bill Register 20-21'!E108,Object_Code_bill_register,0)))))))","v":""},null,null,null,null,null,null,""]
[null,null,null,null,null,{"$f":"IF(E109=\"\",\"\",IF(E109>0,IF(MID(D109,8,3)=\"-101\",\"GPF Loan\",IF(MID(D109,8,4)=\"-105\",\"SI Loan\",(INDEX(New_Object_Head_1718,MATCH('Bill Register 20-21'!E109,Object_Code_bill_register,0)))))))","v":""},null,null,null,null,null,null,""]
[null,null,null,null,null,{"$f":"IF(E110=\"\",\"\",IF(E110>0,IF(MID(D110,8,3)=\"-101\",\"GPF Loan\",IF(MID(D110,8,4)=\"-105\",\"SI Loan\",(INDEX(New_Object_Head_1718,MATCH('Bill Register 20-21'!E110,Object_Code_bill_register,0)))))))","v":""},null,null,null,null,null,null,""]
[null,null,null,null,null,{"$f":"IF(E111=\"\",\"\",IF(E111>0,IF(MID(D111,8,3)=\"-101\",\"GPF Loan\",IF(MID(D111,8,4)=\"-105\",\"SI Loan\",(INDEX(New_Object_Head_1718,MATCH('Bill Register 20-21'!E111,Object_Code_bill_register,0)))))))","v":""},null,null,null,null,null,null,""]
[null,null,null,null,null,{"$f":"IF(E112=\"\",\"\",IF(E112>0,IF(MID(D112,8,3)=\"-101\",\"GPF Loan\",IF(MID(D112,8,4)=\"-105\",\"SI Loan\",(INDEX(New_Object_Head_1718,MATCH('Bill Register 20-21'!E112,Object_Code_bill_register,0)))))))","v":""},null,null,null,null,null,null,""]
[null,null,null,null,null,{"$f":"IF(E113=\"\",\"\",IF(E113>0,IF(MID(D113,8,3)=\"-101\",\"GPF Loan\",IF(MID(D113,8,4)=\"-105\",\"SI Loan\",(INDEX(New_Object_Head_1718,MATCH('Bill Register 20-21'!E113,Object_Code_bill_register,0)))))))","v":""},null,null,null,null,null,null,""]
[null,null,null,null,null,{"$f":"IF(E114=\"\",\"\",IF(E114>0,IF(MID(D114,8,3)=\"-101\",\"GPF Loan\",IF(MID(D114,8,4)=\"-105\",\"SI Loan\",(INDEX(New_Object_Head_1718,MATCH('Bill Register 20-21'!E114,Object_Code_bill_register,0)))))))","v":""},null,null,null,null,null,null,""]
[null,null,null,null,null,{"$f":"IF(E115=\"\",\"\",IF(E115>0,IF(MID(D115,8,3)=\"-101\",\"GPF Loan\",IF(MID(D115,8,4)=\"-105\",\"SI Loan\",(INDEX(New_Object_Head_1718,MATCH('Bill Register 20-21'!E115,Object_Code_bill_register,0)))))))","v":""},null,null,null,null,null,null,""]
[null,null,null,null,null,{"$f":"IF(E116=\"\",\"\",IF(E116>0,IF(MID(D116,8,3)=\"-101\",\"GPF Loan\",IF(MID(D116,8,4)=\"-105\",\"SI Loan\",(INDEX(New_Object_Head_1718,MATCH('Bill Register 20-21'!E116,Object_Code_bill_register,0)))))))","v":""},null,null,null,null,null,null,""]
[null,null,null,null,null,{"$f":"IF(E117=\"\",\"\",IF(E117>0,IF(MID(D117,8,3)=\"-101\",\"GPF Loan\",IF(MID(D117,8,4)=\"-105\",\"SI Loan\",(INDEX(New_Object_Head_1718,MATCH('Bill Register 20-21'!E117,Object_Code_bill_register,0)))))))","v":""},null,null,null,null,null,null,""]
[null,null,null,null,null,{"$f":"IF(E118=\"\",\"\",IF(E118>0,IF(MID(D118,8,3)=\"-101\",\"GPF Loan\",IF(MID(D118,8,4)=\"-105\",\"SI Loan\",(INDEX(New_Object_Head_1718,MATCH('Bill Register 20-21'!E118,Object_Code_bill_register,0)))))))","v":""},null,null,null,null,null,null,""]
[null,null,null,null,null,{"$f":"IF(E119=\"\",\"\",IF(E119>0,IF(MID(D119,8,3)=\"-101\",\"GPF Loan\",IF(MID(D119,8,4)=\"-105\",\"SI Loan\",(INDEX(New_Object_Head_1718,MATCH('Bill Register 20-21'!E119,Object_Code_bill_register,0)))))))","v":""},null,null,null,null,null,null,""]
[null,null,null,null,null,{"$f":"IF(E120=\"\",\"\",IF(E120>0,IF(MID(D120,8,3)=\"-101\",\"GPF Loan\",IF(MID(D120,8,4)=\"-105\",\"SI Loan\",(INDEX(New_Object_Head_1718,MATCH('Bill Register 20-21'!E120,Object_Code_bill_register,0)))))))","v":""},null,null,null,null,null,null,""]
[null,null,null,null,null,{"$f":"IF(E121=\"\",\"\",IF(E121>0,IF(MID(D121,8,3)=\"-101\",\"GPF Loan\",IF(MID(D121,8,4)=\"-105\",\"SI Loan\",(INDEX(New_Object_Head_1718,MATCH('Bill Register 20-21'!E121,Object_Code_bill_register,0)))))))","v":""},null,null,null,null,null,null,""]
[null,null,null,null,null,{"$f":"IF(E122=\"\",\"\",IF(E122>0,IF(MID(D122,8,3)=\"-101\",\"GPF Loan\",IF(MID(D122,8,4)=\"-105\",\"SI Loan\",(INDEX(New_Object_Head_1718,MATCH('Bill Register 20-21'!E122,Object_Code_bill_register,0)))))))","v":""},null,null,null,null,null,null,""]
[null,null,null,null,null,{"$f":"IF(E123=\"\",\"\",IF(E123>0,IF(MID(D123,8,3)=\"-101\",\"GPF Loan\",IF(MID(D123,8,4)=\"-105\",\"SI Loan\",(INDEX(New_Object_Head_1718,MATCH('Bill Register 20-21'!E123,Object_Code_bill_register,0)))))))","v":""},null,null,null,null,null,null,""]
[null,null,null,null,null,{"$f":"IF(E124=\"\",\"\",IF(E124>0,IF(MID(D124,8,3)=\"-101\",\"GPF Loan\",IF(MID(D124,8,4)=\"-105\",\"SI Loan\",(INDEX(New_Object_Head_1718,MATCH('Bill Register 20-21'!E124,Object_Code_bill_register,0)))))))","v":""},null,null,null,null,null,null,""]
[null,null,null,null,null,{"$f":"IF(E125=\"\",\"\",IF(E125>0,IF(MID(D125,8,3)=\"-101\",\"GPF Loan\",IF(MID(D125,8,4)=\"-105\",\"SI Loan\",(INDEX(New_Object_Head_1718,MATCH('Bill Register 20-21'!E125,Object_Code_bill_register,0)))))))","v":""},null,null,null,null,null,null,""]
[null,null,null,null,null,{"$f":"IF(E126=\"\",\"\",IF(E126>0,IF(MID(D126,8,3)=\"-101\",\"GPF Loan\",IF(MID(D126,8,4)=\"-105\",\"SI Loan\",(INDEX(New_Object_Head_1718,MATCH('Bill Register 20-21'!E126,Object_Code_bill_register,0)))))))","v":""},null,null,null,null,null,null,""]
[null,null,null,null,null,{"$f":"IF(E127=\"\",\"\",IF(E127>0,IF(MID(D127,8,3)=\"-101\",\"GPF Loan\",IF(MID(D127,8,4)=\"-105\",\"SI Loan\",(INDEX(New_Object_Head_1718,MATCH('Bill Register 20-21'!E127,Object_Code_bill_register,0)))))))","v":""},null,null,null,null,null,null,""]
[null,null,null,null,null,{"$f":"IF(E128=\"\",\"\",IF(E128>0,IF(MID(D128,8,3)=\"-101\",\"GPF Loan\",IF(MID(D128,8,4)=\"-105\",\"SI Loan\",(INDEX(New_Object_Head_1718,MATCH('Bill Register 20-21'!E128,Object_Code_bill_register,0)))))))","v":""},null,null,null,null,null,null,""]
[null,null,null,null,null,{"$f":"IF(E129=\"\",\"\",IF(E129>0,IF(MID(D129,8,3)=\"-101\",\"GPF Loan\",IF(MID(D129,8,4)=\"-105\",\"SI Loan\",(INDEX(New_Object_Head_1718,MATCH('Bill Register 20-21'!E129,Object_Code_bill_register,0)))))))","v":""},null,null,null,null,null,null,""]
[null,null,null,null,null,{"$f":"IF(E130=\"\",\"\",IF(E130>0,IF(MID(D130,8,3)=\"-101\",\"GPF Loan\",IF(MID(D130,8,4)=\"-105\",\"SI Loan\",(INDEX(New_Object_Head_1718,MATCH('Bill Register 20-21'!E130,Object_Code_bill_register,0)))))))","v":""},null,null,null,null,null,null,""]
[null,null,null,null,null,{"$f":"IF(E131=\"\",\"\",IF(E131>0,IF(MID(D131,8,3)=\"-101\",\"GPF Loan\",IF(MID(D131,8,4)=\"-105\",\"SI Loan\",(INDEX(New_Object_Head_1718,MATCH('Bill Register 20-21'!E131,Object_Code_bill_register,0)))))))","v":""},null,null,null,null,null,null,""]
[null,null,null,null,null,{"$f":"IF(E132=\"\",\"\",IF(E132>0,IF(MID(D132,8,3)=\"-101\",\"GPF Loan\",IF(MID(D132,8,4)=\"-105\",\"SI Loan\",(INDEX(New_Object_Head_1718,MATCH('Bill Register 20-21'!E132,Object_Code_bill_register,0)))))))","v":""},null,null,null,null,null,null,{"$f":"IF(L132=\"\",\"\",EOMONTH(L132,0))","v":""}]
[null,null,null,null,null,{"$f":"IF(E133=\"\",\"\",IF(E133>0,IF(MID(D133,8,3)=\"-101\",\"GPF Loan\",IF(MID(D133,8,4)=\"-105\",\"SI Loan\",(INDEX(New_Object_Head_1718,MATCH('Bill Register 20-21'!E133,Object_Code_bill_register,0)))))))","v":""},null,null,null,null,null,null,""]
[null,null,null,null,null,{"$f":"IF(E134=\"\",\"\",IF(E134>0,IF(MID(D134,8,3)=\"-101\",\"GPF Loan\",IF(MID(D134,8,4)=\"-105\",\"SI Loan\",(INDEX(New_Object_Head_1718,MATCH('Bill Register 20-21'!E134,Object_Code_bill_register,0)))))))","v":""},null,null,null,null,null,null,""]
[null,null,null,null,null,{"$f":"IF(E135=\"\",\"\",IF(E135>0,IF(MID(D135,8,3)=\"-101\",\"GPF Loan\",IF(MID(D135,8,4)=\"-105\",\"SI Loan\",(INDEX(New_Object_Head_1718,MATCH('Bill Register 20-21'!E135,Object_Code_bill_register,0)))))))","v":""},null,null,null,null,null,null,""]
[null,null,null,null,null,{"$f":"IF(E136=\"\",\"\",IF(E136>0,IF(MID(D136,8,3)=\"-101\",\"GPF Loan\",IF(MID(D136,8,4)=\"-105\",\"SI Loan\",(INDEX(New_Object_Head_1718,MATCH('Bill Register 20-21'!E136,Object_Code_bill_register,0)))))))","v":""},null,null,null,null,null,null,""]
[null,null,null,null,null,{"$f":"IF(E137=\"\",\"\",IF(E137>0,IF(MID(D137,8,3)=\"-101\",\"GPF Loan\",IF(MID(D137,8,4)=\"-105\",\"SI Loan\",(INDEX(New_Object_Head_1718,MATCH('Bill Register 20-21'!E137,Object_Code_bill_register,0)))))))","v":""},null,null,null,null,null,null,""]
[null,null,null,null,null,{"$f":"IF(E138=\"\",\"\",IF(E138>0,IF(MID(D138,8,3)=\"-101\",\"GPF Loan\",IF(MID(D138,8,4)=\"-105\",\"SI Loan\",(INDEX(New_Object_Head_1718,MATCH('Bill Register 20-21'!E138,Object_Code_bill_register,0)))))))","v":""},null,null,null,null,null,null,""]
[null,null,null,null,null,{"$f":"IF(E139=\"\",\"\",IF(E139>0,IF(MID(D139,8,3)=\"-101\",\"GPF Loan\",IF(MID(D139,8,4)=\"-105\",\"SI Loan\",(INDEX(New_Object_Head_1718,MATCH('Bill Register 20-21'!E139,Object_Code_bill_register,0)))))))","v":""},null,null,null,null,null,null,""]
[null,null,null,null,null,{"$f":"IF(E140=\"\",\"\",IF(E140>0,IF(MID(D140,8,3)=\"-101\",\"GPF Loan\",IF(MID(D140,8,4)=\"-105\",\"SI Loan\",(INDEX(New_Object_Head_1718,MATCH('Bill Register 20-21'!E140,Object_Code_bill_register,0)))))))","v":""},null,null,null,null,null,null,""]
[null,null,null,null,null,{"$f":"IF(E141=\"\",\"\",IF(E141>0,IF(MID(D141,8,3)=\"-101\",\"GPF Loan\",IF(MID(D141,8,4)=\"-105\",\"SI Loan\",(INDEX(New_Object_Head_1718,MATCH('Bill Register 20-21'!E141,Object_Code_bill_register,0)))))))","v":""},null,null,null,null,null,null,""]
[null,null,null,null,null,{"$f":"IF(E142=\"\",\"\",IF(E142>0,IF(MID(D142,8,3)=\"-101\",\"GPF Loan\",IF(MID(D142,8,4)=\"-105\",\"SI Loan\",(INDEX(New_Object_Head_1718,MATCH('Bill Register 20-21'!E142,Object_Code_bill_register,0)))))))","v":""},null,null,null,null,null,null,""]
[null,null,null,null,null,{"$f":"IF(E143=\"\",\"\",IF(E143>0,IF(MID(D143,8,3)=\"-101\",\"GPF Loan\",IF(MID(D143,8,4)=\"-105\",\"SI Loan\",(INDEX(New_Object_Head_1718,MATCH('Bill Register 20-21'!E143,Object_Code_bill_register,0)))))))","v":""},null,null,null,null,null,null,""]
[null,null,null,null,null,{"$f":"IF(E144=\"\",\"\",IF(E144>0,IF(MID(D144,8,3)=\"-101\",\"GPF Loan\",IF(MID(D144,8,4)=\"-105\",\"SI Loan\",(INDEX(New_Object_Head_1718,MATCH('Bill Register 20-21'!E144,Object_Code_bill_register,0)))))))","v":""},null,null,null,null,null,null,""]
[null,null,null,null,null,{"$f":"IF(E145=\"\",\"\",IF(E145>0,IF(MID(D145,8,3)=\"-101\",\"GPF Loan\",IF(MID(D145,8,4)=\"-105\",\"SI Loan\",(INDEX(New_Object_Head_1718,MATCH('Bill Register 20-21'!E145,Object_Code_bill_register,0)))))))","v":""},null,null,null,null,null,null,""]
[null,null,null,null,null,{"$f":"IF(E146=\"\",\"\",IF(E146>0,IF(MID(D146,8,3)=\"-101\",\"GPF Loan\",IF(MID(D146,8,4)=\"-105\",\"SI Loan\",(INDEX(New_Object_Head_1718,MATCH('Bill Register 20-21'!E146,Object_Code_bill_register,0)))))))","v":""},null,null,null,null,null,null,""]
[null,null,null,null,null,{"$f":"IF(E147=\"\",\"\",IF(E147>0,IF(MID(D147,8,3)=\"-101\",\"GPF Loan\",IF(MID(D147,8,4)=\"-105\",\"SI Loan\",(INDEX(New_Object_Head_1718,MATCH('Bill Register 20-21'!E147,Object_Code_bill_register,0)))))))","v":""},null,null,null,null,null,null,""]
[null,null,null,null,null,{"$f":"IF(E148=\"\",\"\",IF(E148>0,IF(MID(D148,8,3)=\"-101\",\"GPF Loan\",IF(MID(D148,8,4)=\"-105\",\"SI Loan\",(INDEX(New_Object_Head_1718,MATCH('Bill Register 20-21'!E148,Object_Code_bill_register,0)))))))","v":""},null,null,null,null,null,null,""]
[null,null,null,null,null,{"$f":"IF(E149=\"\",\"\",IF(E149>0,IF(MID(D149,8,3)=\"-101\",\"GPF Loan\",IF(MID(D149,8,4)=\"-105\",\"SI Loan\",(INDEX(New_Object_Head_1718,MATCH('Bill Register 20-21'!E149,Object_Code_bill_register,0)))))))","v":""},null,null,null,null,null,null,""]
[null,null,null,null,null,{"$f":"IF(E150=\"\",\"\",IF(E150>0,IF(MID(D150,8,3)=\"-101\",\"GPF Loan\",IF(MID(D150,8,4)=\"-105\",\"SI Loan\",(INDEX(New_Object_Head_1718,MATCH('Bill Register 20-21'!E150,Object_Code_bill_register,0)))))))","v":""},null,null,null,null,null,null,""]
[null,null,null,null,null,{"$f":"IF(E151=\"\",\"\",IF(E151>0,IF(MID(D151,8,3)=\"-101\",\"GPF Loan\",IF(MID(D151,8,4)=\"-105\",\"SI Loan\",(INDEX(New_Object_Head_1718,MATCH('Bill Register 20-21'!E151,Object_Code_bill_register,0)))))))","v":""},null,null,null,null,null,null,""]
[null,null,null,null,null,{"$f":"IF(E152=\"\",\"\",IF(E152>0,IF(MID(D152,8,3)=\"-101\",\"GPF Loan\",IF(MID(D152,8,4)=\"-105\",\"SI Loan\",(INDEX(New_Object_Head_1718,MATCH('Bill Register 20-21'!E152,Object_Code_bill_register,0)))))))","v":""},null,null,null,null,null,null,""]
[null,null,null,null,null,{"$f":"IF(E153=\"\",\"\",IF(E153>0,IF(MID(D153,8,3)=\"-101\",\"GPF Loan\",IF(MID(D153,8,4)=\"-105\",\"SI Loan\",(INDEX(New_Object_Head_1718,MATCH('Bill Register 20-21'!E153,Object_Code_bill_register,0)))))))","v":""},null,null,null,null,null,null,""]
[null,null,null,null,null,{"$f":"IF(E154=\"\",\"\",IF(E154>0,IF(MID(D154,8,3)=\"-101\",\"GPF Loan\",IF(MID(D154,8,4)=\"-105\",\"SI Loan\",(INDEX(New_Object_Head_1718,MATCH('Bill Register 20-21'!E154,Object_Code_bill_register,0)))))))","v":""},null,null,null,null,null,null,""]
[null,null,null,null,null,{"$f":"IF(E155=\"\",\"\",IF(E155>0,IF(MID(D155,8,3)=\"-101\",\"GPF Loan\",IF(MID(D155,8,4)=\"-105\",\"SI Loan\",(INDEX(New_Object_Head_1718,MATCH('Bill Register 20-21'!E155,Object_Code_bill_register,0)))))))","v":""},null,null,null,null,null,null,""]
[null,null,null,null,null,{"$f":"IF(E156=\"\",\"\",IF(E156>0,IF(MID(D156,8,3)=\"-101\",\"GPF Loan\",IF(MID(D156,8,4)=\"-105\",\"SI Loan\",(INDEX(New_Object_Head_1718,MATCH('Bill Register 20-21'!E156,Object_Code_bill_register,0)))))))","v":""},null,null,null,null,null,null,""]
[null,null,null,null,null,{"$f":"IF(E157=\"\",\"\",IF(E157>0,IF(MID(D157,8,3)=\"-101\",\"GPF Loan\",IF(MID(D157,8,4)=\"-105\",\"SI Loan\",(INDEX(New_Object_Head_1718,MATCH('Bill Register 20-21'!E157,Object_Code_bill_register,0)))))))","v":""},null,null,null,null,null,null,""]
[null,null,null,null,null,{"$f":"IF(E158=\"\",\"\",IF(E158>0,IF(MID(D158,8,3)=\"-101\",\"GPF Loan\",IF(MID(D158,8,4)=\"-105\",\"SI Loan\",(INDEX(New_Object_Head_1718,MATCH('Bill Register 20-21'!E158,Object_Code_bill_register,0)))))))","v":""},null,null,null,null,null,null,""]
[null,null,null,null,null,{"$f":"IF(E159=\"\",\"\",IF(E159>0,IF(MID(D159,8,3)=\"-101\",\"GPF Loan\",IF(MID(D159,8,4)=\"-105\",\"SI Loan\",(INDEX(New_Object_Head_1718,MATCH('Bill Register 20-21'!E159,Object_Code_bill_register,0)))))))","v":""},null,null,null,null,null,null,""]
[null,null,null,null,null,{"$f":"IF(E160=\"\",\"\",IF(E160>0,IF(MID(D160,8,3)=\"-101\",\"GPF Loan\",IF(MID(D160,8,4)=\"-105\",\"SI Loan\",(INDEX(New_Object_Head_1718,MATCH('Bill Register 20-21'!E160,Object_Code_bill_register,0)))))))","v":""},null,null,null,null,null,null,""]
[null,null,null,null,null,{"$f":"IF(E161=\"\",\"\",IF(E161>0,IF(MID(D161,8,3)=\"-101\",\"GPF Loan\",IF(MID(D161,8,4)=\"-105\",\"SI Loan\",(INDEX(New_Object_Head_1718,MATCH('Bill Register 20-21'!E161,Object_Code_bill_register,0)))))))","v":""},null,null,null,null,null,null,""]
[null,null,null,null,null,{"$f":"IF(E162=\"\",\"\",IF(E162>0,IF(MID(D162,8,3)=\"-101\",\"GPF Loan\",IF(MID(D162,8,4)=\"-105\",\"SI Loan\",(INDEX(New_Object_Head_1718,MATCH('Bill Register 20-21'!E162,Object_Code_bill_register,0)))))))","v":""},null,null,null,null,null,null,""]
[null,null,null,null,null,{"$f":"IF(E163=\"\",\"\",IF(E163>0,IF(MID(D163,8,3)=\"-101\",\"GPF Loan\",IF(MID(D163,8,4)=\"-105\",\"SI Loan\",(INDEX(New_Object_Head_1718,MATCH('Bill Register 20-21'!E163,Object_Code_bill_register,0)))))))","v":""},null,null,null,null,null,null,""]
[null,null,null,null,null,{"$f":"IF(E164=\"\",\"\",IF(E164>0,IF(MID(D164,8,3)=\"-101\",\"GPF Loan\",IF(MID(D164,8,4)=\"-105\",\"SI Loan\",(INDEX(New_Object_Head_1718,MATCH('Bill Register 20-21'!E164,Object_Code_bill_register,0)))))))","v":""},null,null,null,null,null,null,""]
[null,null,null,null,null,{"$f":"IF(E165=\"\",\"\",IF(E165>0,IF(MID(D165,8,3)=\"-101\",\"GPF Loan\",IF(MID(D165,8,4)=\"-105\",\"SI Loan\",(INDEX(New_Object_Head_1718,MATCH('Bill Register 20-21'!E165,Object_Code_bill_register,0)))))))","v":""},null,null,null,null,null,null,""]
[null,null,null,null,null,{"$f":"IF(E166=\"\",\"\",IF(E166>0,IF(MID(D166,8,3)=\"-101\",\"GPF Loan\",IF(MID(D166,8,4)=\"-105\",\"SI Loan\",(INDEX(New_Object_Head_1718,MATCH('Bill Register 20-21'!E166,Object_Code_bill_register,0)))))))","v":""},null,null,null,null,null,null,""]
[null,null,null,null,null,{"$f":"IF(E167=\"\",\"\",IF(E167>0,IF(MID(D167,8,3)=\"-101\",\"GPF Loan\",IF(MID(D167,8,4)=\"-105\",\"SI Loan\",(INDEX(New_Object_Head_1718,MATCH('Bill Register 20-21'!E167,Object_Code_bill_register,0)))))))","v":""},null,null,null,null,null,null,""]
[null,null,null,null,null,{"$f":"IF(E168=\"\",\"\",IF(E168>0,IF(MID(D168,8,3)=\"-101\",\"GPF Loan\",IF(MID(D168,8,4)=\"-105\",\"SI Loan\",(INDEX(New_Object_Head_1718,MATCH('Bill Register 20-21'!E168,Object_Code_bill_register,0)))))))","v":""},null,null,null,null,null,null,""]
[null,null,null,null,null,{"$f":"IF(E169=\"\",\"\",IF(E169>0,IF(MID(D169,8,3)=\"-101\",\"GPF Loan\",IF(MID(D169,8,4)=\"-105\",\"SI Loan\",(INDEX(New_Object_Head_1718,MATCH('Bill Register 20-21'!E169,Object_Code_bill_register,0)))))))","v":""},null,null,null,null,null,null,""]
[null,null,null,null,null,{"$f":"IF(E170=\"\",\"\",IF(E170>0,IF(MID(D170,8,3)=\"-101\",\"GPF Loan\",IF(MID(D170,8,4)=\"-105\",\"SI Loan\",(INDEX(New_Object_Head_1718,MATCH('Bill Register 20-21'!E170,Object_Code_bill_register,0)))))))","v":""},null,null,null,null,null,null,""]
[null,null,null,null,null,{"$f":"IF(E171=\"\",\"\",IF(E171>0,IF(MID(D171,8,3)=\"-101\",\"GPF Loan\",IF(MID(D171,8,4)=\"-105\",\"SI Loan\",(INDEX(New_Object_Head_1718,MATCH('Bill Register 20-21'!E171,Object_Code_bill_register,0)))))))","v":""},null,null,null,null,null,null,""]
[null,null,null,null,null,{"$f":"IF(E172=\"\",\"\",IF(E172>0,IF(MID(D172,8,3)=\"-101\",\"GPF Loan\",IF(MID(D172,8,4)=\"-105\",\"SI Loan\",(INDEX(New_Object_Head_1718,MATCH('Bill Register 20-21'!E172,Object_Code_bill_register,0)))))))","v":""},null,null,null,null,null,null,""]
[null,null,null,null,null,{"$f":"IF(E173=\"\",\"\",IF(E173>0,IF(MID(D173,8,3)=\"-101\",\"GPF Loan\",IF(MID(D173,8,4)=\"-105\",\"SI Loan\",(INDEX(New_Object_Head_1718,MATCH('Bill Register 20-21'!E173,Object_Code_bill_register,0)))))))","v":""},null,null,null,null,null,null,""]
[null,null,null,null,null,{"$f":"IF(E174=\"\",\"\",IF(E174>0,IF(MID(D174,8,3)=\"-101\",\"GPF Loan\",IF(MID(D174,8,4)=\"-105\",\"SI Loan\",(INDEX(New_Object_Head_1718,MATCH('Bill Register 20-21'!E174,Object_Code_bill_register,0)))))))","v":""},null,null,null,null,null,null,""]
[null,null,null,null,null,{"$f":"IF(E175=\"\",\"\",IF(E175>0,IF(MID(D175,8,3)=\"-101\",\"GPF Loan\",IF(MID(D175,8,4)=\"-105\",\"SI Loan\",(INDEX(New_Object_Head_1718,MATCH('Bill Register 20-21'!E175,Object_Code_bill_register,0)))))))","v":""},null,null,null,null,null,null,""]
[null,null,null,null,null,{"$f":"IF(E176=\"\",\"\",IF(E176>0,IF(MID(D176,8,3)=\"-101\",\"GPF Loan\",IF(MID(D176,8,4)=\"-105\",\"SI Loan\",(INDEX(New_Object_Head_1718,MATCH('Bill Register 20-21'!E176,Object_Code_bill_register,0)))))))","v":""},null,null,null,null,null,null,""]
[null,null,null,null,null,{"$f":"IF(E177=\"\",\"\",IF(E177>0,IF(MID(D177,8,3)=\"-101\",\"GPF Loan\",IF(MID(D177,8,4)=\"-105\",\"SI Loan\",(INDEX(New_Object_Head_1718,MATCH('Bill Register 20-21'!E177,Object_Code_bill_register,0)))))))","v":""},null,null,null,null,null,null,""]
[null,null,null,null,null,{"$f":"IF(E178=\"\",\"\",IF(E178>0,IF(MID(D178,8,3)=\"-101\",\"GPF Loan\",IF(MID(D178,8,4)=\"-105\",\"SI Loan\",(INDEX(New_Object_Head_1718,MATCH('Bill Register 20-21'!E178,Object_Code_bill_register,0)))))))","v":""},null,null,null,null,null,null,""]
[null,null,null,null,null,{"$f":"IF(E179=\"\",\"\",IF(E179>0,IF(MID(D179,8,3)=\"-101\",\"GPF Loan\",IF(MID(D179,8,4)=\"-105\",\"SI Loan\",(INDEX(New_Object_Head_1718,MATCH('Bill Register 20-21'!E179,Object_Code_bill_register,0)))))))","v":""},null,null,null,null,null,null,""]
[null,null,null,null,null,{"$f":"IF(E180=\"\",\"\",IF(E180>0,IF(MID(D180,8,3)=\"-101\",\"GPF Loan\",IF(MID(D180,8,4)=\"-105\",\"SI Loan\",(INDEX(New_Object_Head_1718,MATCH('Bill Register 20-21'!E180,Object_Code_bill_register,0)))))))","v":""},null,null,null,null,null,null,""]
[null,null,null,null,null,{"$f":"IF(E181=\"\",\"\",IF(E181>0,IF(MID(D181,8,3)=\"-101\",\"GPF Loan\",IF(MID(D181,8,4)=\"-105\",\"SI Loan\",(INDEX(New_Object_Head_1718,MATCH('Bill Register 20-21'!E181,Object_Code_bill_register,0)))))))","v":""},null,null,null,null,null,null,""]
[null,null,null,null,null,{"$f":"IF(E182=\"\",\"\",IF(E182>0,IF(MID(D182,8,3)=\"-101\",\"GPF Loan\",IF(MID(D182,8,4)=\"-105\",\"SI Loan\",(INDEX(New_Object_Head_1718,MATCH('Bill Register 20-21'!E182,Object_Code_bill_register,0)))))))","v":""},null,null,null,null,null,null,""]
[null,null,null,null,null,{"$f":"IF(E183=\"\",\"\",IF(E183>0,IF(MID(D183,8,3)=\"-101\",\"GPF Loan\",IF(MID(D183,8,4)=\"-105\",\"SI Loan\",(INDEX(New_Object_Head_1718,MATCH('Bill Register 20-21'!E183,Object_Code_bill_register,0)))))))","v":""},null,null,null,null,null,null,""]
[null,null,null,null,null,{"$f":"IF(E184=\"\",\"\",IF(E184>0,IF(MID(D184,8,3)=\"-101\",\"GPF Loan\",IF(MID(D184,8,4)=\"-105\",\"SI Loan\",(INDEX(New_Object_Head_1718,MATCH('Bill Register 20-21'!E184,Object_Code_bill_register,0)))))))","v":""},null,null,null,null,null,null,""]
[null,null,null,null,null,{"$f":"IF(E185=\"\",\"\",IF(E185>0,IF(MID(D185,8,3)=\"-101\",\"GPF Loan\",IF(MID(D185,8,4)=\"-105\",\"SI Loan\",(INDEX(New_Object_Head_1718,MATCH('Bill Register 20-21'!E185,Object_Code_bill_register,0)))))))","v":""},null,null,null,null,null,null,""]
[null,null,null,null,null,{"$f":"IF(E186=\"\",\"\",IF(E186>0,IF(MID(D186,8,3)=\"-101\",\"GPF Loan\",IF(MID(D186,8,4)=\"-105\",\"SI Loan\",(INDEX(New_Object_Head_1718,MATCH('Bill Register 20-21'!E186,Object_Code_bill_register,0)))))))","v":""},null,null,null,null,null,null,""]
[null,null,null,null,null,{"$f":"IF(E187=\"\",\"\",IF(E187>0,IF(MID(D187,8,3)=\"-101\",\"GPF Loan\",IF(MID(D187,8,4)=\"-105\",\"SI Loan\",(INDEX(New_Object_Head_1718,MATCH('Bill Register 20-21'!E187,Object_Code_bill_register,0)))))))","v":""},null,null,null,null,null,null,""]
[null,null,null,null,null,{"$f":"IF(E188=\"\",\"\",IF(E188>0,IF(MID(D188,8,3)=\"-101\",\"GPF Loan\",IF(MID(D188,8,4)=\"-105\",\"SI Loan\",(INDEX(New_Object_Head_1718,MATCH('Bill Register 20-21'!E188,Object_Code_bill_register,0)))))))","v":""},null,null,null,null,null,null,""]
[null,null,null,null,null,{"$f":"IF(E189=\"\",\"\",IF(E189>0,IF(MID(D189,8,3)=\"-101\",\"GPF Loan\",IF(MID(D189,8,4)=\"-105\",\"SI Loan\",(INDEX(New_Object_Head_1718,MATCH('Bill Register 20-21'!E189,Object_Code_bill_register,0)))))))","v":""},null,null,null,null,null,null,""]
[null,null,null,null,null,{"$f":"IF(E190=\"\",\"\",IF(E190>0,IF(MID(D190,8,3)=\"-101\",\"GPF Loan\",IF(MID(D190,8,4)=\"-105\",\"SI Loan\",(INDEX(New_Object_Head_1718,MATCH('Bill Register 20-21'!E190,Object_Code_bill_register,0)))))))","v":""},null,null,null,null,null,null,""]
[null,null,null,null,null,{"$f":"IF(E191=\"\",\"\",IF(E191>0,IF(MID(D191,8,3)=\"-101\",\"GPF Loan\",IF(MID(D191,8,4)=\"-105\",\"SI Loan\",(INDEX(New_Object_Head_1718,MATCH('Bill Register 20-21'!E191,Object_Code_bill_register,0)))))))","v":""},null,null,null,null,null,null,""]
[null,null,null,null,null,{"$f":"IF(E192=\"\",\"\",IF(E192>0,IF(MID(D192,8,3)=\"-101\",\"GPF Loan\",IF(MID(D192,8,4)=\"-105\",\"SI Loan\",(INDEX(New_Object_Head_1718,MATCH('Bill Register 20-21'!E192,Object_Code_bill_register,0)))))))","v":""},null,null,null,null,null,null,""]
[null,null,null,null,null,{"$f":"IF(E193=\"\",\"\",IF(E193>0,IF(MID(D193,8,3)=\"-101\",\"GPF Loan\",IF(MID(D193,8,4)=\"-105\",\"SI Loan\",(INDEX(New_Object_Head_1718,MATCH('Bill Register 20-21'!E193,Object_Code_bill_register,0)))))))","v":""},null,null,null,null,null,null,""]
[null,null,null,null,null,{"$f":"IF(E194=\"\",\"\",IF(E194>0,IF(MID(D194,8,3)=\"-101\",\"GPF Loan\",IF(MID(D194,8,4)=\"-105\",\"SI Loan\",(INDEX(New_Object_Head_1718,MATCH('Bill Register 20-21'!E194,Object_Code_bill_register,0)))))))","v":""},null,null,null,null,null,null,""]
[null,null,null,null,null,{"$f":"IF(E195=\"\",\"\",IF(E195>0,IF(MID(D195,8,3)=\"-101\",\"GPF Loan\",IF(MID(D195,8,4)=\"-105\",\"SI Loan\",(INDEX(New_Object_Head_1718,MATCH('Bill Register 20-21'!E195,Object_Code_bill_register,0)))))))","v":""},null,null,null,null,null,null,""]
[null,null,null,null,null,{"$f":"IF(E196=\"\",\"\",IF(E196>0,IF(MID(D196,8,3)=\"-101\",\"GPF Loan\",IF(MID(D196,8,4)=\"-105\",\"SI Loan\",(INDEX(New_Object_Head_1718,MATCH('Bill Register 20-21'!E196,Object_Code_bill_register,0)))))))","v":""},null,null,null,null,null,null,{"$f":"IF(L196=\"\",\"\",EOMONTH(L196,0))","v":""}]
[null,null,null,null,null,{"$f":"IF(E197=\"\",\"\",IF(E197>0,IF(MID(D197,8,3)=\"-101\",\"GPF Loan\",IF(MID(D197,8,4)=\"-105\",\"SI Loan\",(INDEX(New_Object_Head_1718,MATCH('Bill Register 20-21'!E197,Object_Code_bill_register,0)))))))","v":""},null,null,null,null,null,null,""]
[null,null,null,null,null,{"$f":"IF(E198=\"\",\"\",IF(E198>0,IF(MID(D198,8,3)=\"-101\",\"GPF Loan\",IF(MID(D198,8,4)=\"-105\",\"SI Loan\",(INDEX(New_Object_Head_1718,MATCH('Bill Register 20-21'!E198,Object_Code_bill_register,0)))))))","v":""},null,null,null,null,null,null,""]
[null,null,null,null,null,{"$f":"IF(E199=\"\",\"\",IF(E199>0,IF(MID(D199,8,3)=\"-101\",\"GPF Loan\",IF(MID(D199,8,4)=\"-105\",\"SI Loan\",(INDEX(New_Object_Head_1718,MATCH('Bill Register 20-21'!E199,Object_Code_bill_register,0)))))))","v":""},null,null,null,null,null,null,""]
[null,null,null,null,null,{"$f":"IF(E200=\"\",\"\",IF(E200>0,IF(MID(D200,8,3)=\"-101\",\"GPF Loan\",IF(MID(D200,8,4)=\"-105\",\"SI Loan\",(INDEX(New_Object_Head_1718,MATCH('Bill Register 20-21'!E200,Object_Code_bill_register,0)))))))","v":""},null,null,null,null,null,null,""]
[null,null,null,null,null,{"$f":"IF(E201=\"\",\"\",IF(E201>0,IF(MID(D201,8,3)=\"-101\",\"GPF Loan\",IF(MID(D201,8,4)=\"-105\",\"SI Loan\",(INDEX(New_Object_Head_1718,MATCH('Bill Register 20-21'!E201,Object_Code_bill_register,0)))))))","v":""},null,null,null,null,null,null,""]
[null,null,null,null,null,{"$f":"IF(E202=\"\",\"\",IF(E202>0,IF(MID(D202,8,3)=\"-101\",\"GPF Loan\",IF(MID(D202,8,4)=\"-105\",\"SI Loan\",(INDEX(New_Object_Head_1718,MATCH('Bill Register 20-21'!E202,Object_Code_bill_register,0)))))))","v":""},null,null,null,null,null,null,""]
[null,null,null,null,null,{"$f":"IF(E203=\"\",\"\",IF(E203>0,IF(MID(D203,8,3)=\"-101\",\"GPF Loan\",IF(MID(D203,8,4)=\"-105\",\"SI Loan\",(INDEX(New_Object_Head_1718,MATCH('Bill Register 20-21'!E203,Object_Code_bill_register,0)))))))","v":""},null,null,null,null,null,null,""]
[null,null,null,null,null,{"$f":"IF(E204=\"\",\"\",IF(E204>0,IF(MID(D204,8,3)=\"-101\",\"GPF Loan\",IF(MID(D204,8,4)=\"-105\",\"SI Loan\",(INDEX(New_Object_Head_1718,MATCH('Bill Register 20-21'!E204,Object_Code_bill_register,0)))))))","v":""},null,null,null,null,null,null,""]
[null,null,null,null,null,{"$f":"IF(E205=\"\",\"\",IF(E205>0,IF(MID(D205,8,3)=\"-101\",\"GPF Loan\",IF(MID(D205,8,4)=\"-105\",\"SI Loan\",(INDEX(New_Object_Head_1718,MATCH('Bill Register 20-21'!E205,Object_Code_bill_register,0)))))))","v":""},null,null,null,null,null,null,""]
[null,null,null,null,null,{"$f":"IF(E206=\"\",\"\",IF(E206>0,IF(MID(D206,8,3)=\"-101\",\"GPF Loan\",IF(MID(D206,8,4)=\"-105\",\"SI Loan\",(INDEX(New_Object_Head_1718,MATCH('Bill Register 20-21'!E206,Object_Code_bill_register,0)))))))","v":""},null,null,null,null,null,null,""]
[null,null,null,null,null,{"$f":"IF(E207=\"\",\"\",IF(E207>0,IF(MID(D207,8,3)=\"-101\",\"GPF Loan\",IF(MID(D207,8,4)=\"-105\",\"SI Loan\",(INDEX(New_Object_Head_1718,MATCH('Bill Register 20-21'!E207,Object_Code_bill_register,0)))))))","v":""},null,null,null,null,null,null,""]
[null,null,null,null,null,{"$f":"IF(E208=\"\",\"\",IF(E208>0,IF(MID(D208,8,3)=\"-101\",\"GPF Loan\",IF(MID(D208,8,4)=\"-105\",\"SI Loan\",(INDEX(New_Object_Head_1718,MATCH('Bill Register 20-21'!E208,Object_Code_bill_register,0)))))))","v":""},null,null,null,null,null,null,""]
[null,null,null,null,null,{"$f":"IF(E209=\"\",\"\",IF(E209>0,IF(MID(D209,8,3)=\"-101\",\"GPF Loan\",IF(MID(D209,8,4)=\"-105\",\"SI Loan\",(INDEX(New_Object_Head_1718,MATCH('Bill Register 20-21'!E209,Object_Code_bill_register,0)))))))","v":""},null,null,null,null,null,null,""]
[null,null,null,null,null,{"$f":"IF(E210=\"\",\"\",IF(E210>0,IF(MID(D210,8,3)=\"-101\",\"GPF Loan\",IF(MID(D210,8,4)=\"-105\",\"SI Loan\",(INDEX(New_Object_Head_1718,MATCH('Bill Register 20-21'!E210,Object_Code_bill_register,0)))))))","v":""},null,null,null,null,null,null,""]
[null,null,null,null,null,{"$f":"IF(E211=\"\",\"\",IF(E211>0,IF(MID(D211,8,3)=\"-101\",\"GPF Loan\",IF(MID(D211,8,4)=\"-105\",\"SI Loan\",(INDEX(New_Object_Head_1718,MATCH('Bill Register 20-21'!E211,Object_Code_bill_register,0)))))))","v":""},null,null,null,null,null,null,""]
[null,null,null,null,null,{"$f":"IF(E212=\"\",\"\",IF(E212>0,IF(MID(D212,8,3)=\"-101\",\"GPF Loan\",IF(MID(D212,8,4)=\"-105\",\"SI Loan\",(INDEX(New_Object_Head_1718,MATCH('Bill Register 20-21'!E212,Object_Code_bill_register,0)))))))","v":""},null,null,null,null,null,null,""]
[null,null,null,null,null,{"$f":"IF(E213=\"\",\"\",IF(E213>0,IF(MID(D213,8,3)=\"-101\",\"GPF Loan\",IF(MID(D213,8,4)=\"-105\",\"SI Loan\",(INDEX(New_Object_Head_1718,MATCH('Bill Register 20-21'!E213,Object_Code_bill_register,0)))))))","v":""},null,null,null,null,null,null,""]
[null,null,null,null,null,{"$f":"IF(E214=\"\",\"\",IF(E214>0,IF(MID(D214,8,3)=\"-101\",\"GPF Loan\",IF(MID(D214,8,4)=\"-105\",\"SI Loan\",(INDEX(New_Object_Head_1718,MATCH('Bill Register 20-21'!E214,Object_Code_bill_register,0)))))))","v":""},null,null,null,null,null,null,""]
[null,null,null,null,null,{"$f":"IF(E215=\"\",\"\",IF(E215>0,IF(MID(D215,8,3)=\"-101\",\"GPF Loan\",IF(MID(D215,8,4)=\"-105\",\"SI Loan\",(INDEX(New_Object_Head_1718,MATCH('Bill Register 20-21'!E215,Object_Code_bill_register,0)))))))","v":""},null,null,null,null,null,null,""]
[null,null,null,null,null,{"$f":"IF(E216=\"\",\"\",IF(E216>0,IF(MID(D216,8,3)=\"-101\",\"GPF Loan\",IF(MID(D216,8,4)=\"-105\",\"SI Loan\",(INDEX(New_Object_Head_1718,MATCH('Bill Register 20-21'!E216,Object_Code_bill_register,0)))))))","v":""},null,null,null,null,null,null,""]
[null,null,null,null,null,{"$f":"IF(E217=\"\",\"\",IF(E217>0,IF(MID(D217,8,3)=\"-101\",\"GPF Loan\",IF(MID(D217,8,4)=\"-105\",\"SI Loan\",(INDEX(New_Object_Head_1718,MATCH('Bill Register 20-21'!E217,Object_Code_bill_register,0)))))))","v":""},null,null,null,null,null,null,""]
[null,null,null,null,null,{"$f":"IF(E218=\"\",\"\",IF(E218>0,IF(MID(D218,8,3)=\"-101\",\"GPF Loan\",IF(MID(D218,8,4)=\"-105\",\"SI Loan\",(INDEX(New_Object_Head_1718,MATCH('Bill Register 20-21'!E218,Object_Code_bill_register,0)))))))","v":""},null,null,null,null,null,null,""]
[null,null,null,null,null,{"$f":"IF(E219=\"\",\"\",IF(E219>0,IF(MID(D219,8,3)=\"-101\",\"GPF Loan\",IF(MID(D219,8,4)=\"-105\",\"SI Loan\",(INDEX(New_Object_Head_1718,MATCH('Bill Register 20-21'!E219,Object_Code_bill_register,0)))))))","v":""},null,null,null,null,null,null,""]
[null,null,null,null,null,{"$f":"IF(E220=\"\",\"\",IF(E220>0,IF(MID(D220,8,3)=\"-101\",\"GPF Loan\",IF(MID(D220,8,4)=\"-105\",\"SI Loan\",(INDEX(New_Object_Head_1718,MATCH('Bill Register 20-21'!E220,Object_Code_bill_register,0)))))))","v":""},null,null,null,null,null,null,""]
[null,null,null,null,null,{"$f":"IF(E221=\"\",\"\",IF(E221>0,IF(MID(D221,8,3)=\"-101\",\"GPF Loan\",IF(MID(D221,8,4)=\"-105\",\"SI Loan\",(INDEX(New_Object_Head_1718,MATCH('Bill Register 20-21'!E221,Object_Code_bill_register,0)))))))","v":""},null,null,null,null,null,null,""]
[null,null,null,null,null,{"$f":"IF(E222=\"\",\"\",IF(E222>0,IF(MID(D222,8,3)=\"-101\",\"GPF Loan\",IF(MID(D222,8,4)=\"-105\",\"SI Loan\",(INDEX(New_Object_Head_1718,MATCH('Bill Register 20-21'!E222,Object_Code_bill_register,0)))))))","v":""},null,null,null,null,null,null,""]
[null,null,null,null,null,{"$f":"IF(E223=\"\",\"\",IF(E223>0,IF(MID(D223,8,3)=\"-101\",\"GPF Loan\",IF(MID(D223,8,4)=\"-105\",\"SI Loan\",(INDEX(New_Object_Head_1718,MATCH('Bill Register 20-21'!E223,Object_Code_bill_register,0)))))))","v":""},null,null,null,null,null,null,""]
[null,null,null,null,null,{"$f":"IF(E224=\"\",\"\",IF(E224>0,IF(MID(D224,8,3)=\"-101\",\"GPF Loan\",IF(MID(D224,8,4)=\"-105\",\"SI Loan\",(INDEX(New_Object_Head_1718,MATCH('Bill Register 20-21'!E224,Object_Code_bill_register,0)))))))","v":""},null,null,null,null,null,null,""]
[null,null,null,null,null,{"$f":"IF(E225=\"\",\"\",IF(E225>0,IF(MID(D225,8,3)=\"-101\",\"GPF Loan\",IF(MID(D225,8,4)=\"-105\",\"SI Loan\",(INDEX(New_Object_Head_1718,MATCH('Bill Register 20-21'!E225,Object_Code_bill_register,0)))))))","v":""},null,null,null,null,null,null,""]
[null,null,null,null,null,{"$f":"IF(E226=\"\",\"\",IF(E226>0,IF(MID(D226,8,3)=\"-101\",\"GPF Loan\",IF(MID(D226,8,4)=\"-105\",\"SI Loan\",(INDEX(New_Object_Head_1718,MATCH('Bill Register 20-21'!E226,Object_Code_bill_register,0)))))))","v":""},null,null,null,null,null,null,""]
[null,null,null,null,null,{"$f":"IF(E227=\"\",\"\",IF(E227>0,IF(MID(D227,8,3)=\"-101\",\"GPF Loan\",IF(MID(D227,8,4)=\"-105\",\"SI Loan\",(INDEX(New_Object_Head_1718,MATCH('Bill Register 20-21'!E227,Object_Code_bill_register,0)))))))","v":""},null,null,null,null,null,null,""]
[null,null,null,null,null,{"$f":"IF(E228=\"\",\"\",IF(E228>0,IF(MID(D228,8,3)=\"-101\",\"GPF Loan\",IF(MID(D228,8,4)=\"-105\",\"SI Loan\",(INDEX(New_Object_Head_1718,MATCH('Bill Register 20-21'!E228,Object_Code_bill_register,0)))))))","v":""},null,null,null,null,null,null,""]
[null,null,null,null,null,{"$f":"IF(E229=\"\",\"\",IF(E229>0,IF(MID(D229,8,3)=\"-101\",\"GPF Loan\",IF(MID(D229,8,4)=\"-105\",\"SI Loan\",(INDEX(New_Object_Head_1718,MATCH('Bill Register 20-21'!E229,Object_Code_bill_register,0)))))))","v":""},null,null,null,null,null,null,""]
[null,null,null,null,null,{"$f":"IF(E230=\"\",\"\",IF(E230>0,IF(MID(D230,8,3)=\"-101\",\"GPF Loan\",IF(MID(D230,8,4)=\"-105\",\"SI Loan\",(INDEX(New_Object_Head_1718,MATCH('Bill Register 20-21'!E230,Object_Code_bill_register,0)))))))","v":""},null,null,null,null,null,null,""]
[null,null,null,null,null,{"$f":"IF(E231=\"\",\"\",IF(E231>0,IF(MID(D231,8,3)=\"-101\",\"GPF Loan\",IF(MID(D231,8,4)=\"-105\",\"SI Loan\",(INDEX(New_Object_Head_1718,MATCH('Bill Register 20-21'!E231,Object_Code_bill_register,0)))))))","v":""},null,null,null,null,null,null,""]
[null,null,null,null,null,{"$f":"IF(E232=\"\",\"\",IF(E232>0,IF(MID(D232,8,3)=\"-101\",\"GPF Loan\",IF(MID(D232,8,4)=\"-105\",\"SI Loan\",(INDEX(New_Object_Head_1718,MATCH('Bill Register 20-21'!E232,Object_Code_bill_register,0)))))))","v":""},null,null,null,null,null,null,""]
[null,null,null,null,null,{"$f":"IF(E233=\"\",\"\",IF(E233>0,IF(MID(D233,8,3)=\"-101\",\"GPF Loan\",IF(MID(D233,8,4)=\"-105\",\"SI Loan\",(INDEX(New_Object_Head_1718,MATCH('Bill Register 20-21'!E233,Object_Code_bill_register,0)))))))","v":""},null,null,null,null,null,null,""]
[null,null,null,null,null,{"$f":"IF(E234=\"\",\"\",IF(E234>0,IF(MID(D234,8,3)=\"-101\",\"GPF Loan\",IF(MID(D234,8,4)=\"-105\",\"SI Loan\",(INDEX(New_Object_Head_1718,MATCH('Bill Register 20-21'!E234,Object_Code_bill_register,0)))))))","v":""},null,null,null,null,null,null,""]
[null,null,null,null,null,{"$f":"IF(E235=\"\",\"\",IF(E235>0,IF(MID(D235,8,3)=\"-101\",\"GPF Loan\",IF(MID(D235,8,4)=\"-105\",\"SI Loan\",(INDEX(New_Object_Head_1718,MATCH('Bill Register 20-21'!E235,Object_Code_bill_register,0)))))))","v":""},null,null,null,null,null,null,""]
[null,null,null,null,null,{"$f":"IF(E236=\"\",\"\",IF(E236>0,IF(MID(D236,8,3)=\"-101\",\"GPF Loan\",IF(MID(D236,8,4)=\"-105\",\"SI Loan\",(INDEX(New_Object_Head_1718,MATCH('Bill Register 20-21'!E236,Object_Code_bill_register,0)))))))","v":""},null,null,null,null,null,null,""]
[null,null,null,null,null,{"$f":"IF(E237=\"\",\"\",IF(E237>0,IF(MID(D237,8,3)=\"-101\",\"GPF Loan\",IF(MID(D237,8,4)=\"-105\",\"SI Loan\",(INDEX(New_Object_Head_1718,MATCH('Bill Register 20-21'!E237,Object_Code_bill_register,0)))))))","v":""},null,null,null,null,null,null,""]
[null,null,null,null,null,{"$f":"IF(E238=\"\",\"\",IF(E238>0,IF(MID(D238,8,3)=\"-101\",\"GPF Loan\",IF(MID(D238,8,4)=\"-105\",\"SI Loan\",(INDEX(New_Object_Head_1718,MATCH('Bill Register 20-21'!E238,Object_Code_bill_register,0)))))))","v":""},null,null,null,null,null,null,""]
[null,null,null,null,null,{"$f":"IF(E239=\"\",\"\",IF(E239>0,IF(MID(D239,8,3)=\"-101\",\"GPF Loan\",IF(MID(D239,8,4)=\"-105\",\"SI Loan\",(INDEX(New_Object_Head_1718,MATCH('Bill Register 20-21'!E239,Object_Code_bill_register,0)))))))","v":""},null,null,null,null,null,null,""]
[null,null,null,null,null,{"$f":"IF(E240=\"\",\"\",IF(E240>0,IF(MID(D240,8,3)=\"-101\",\"GPF Loan\",IF(MID(D240,8,4)=\"-105\",\"SI Loan\",(INDEX(New_Object_Head_1718,MATCH('Bill Register 20-21'!E240,Object_Code_bill_register,0)))))))","v":""},null,null,null,null,null,null,""]
[null,null,null,null,null,{"$f":"IF(E241=\"\",\"\",IF(E241>0,IF(MID(D241,8,3)=\"-101\",\"GPF Loan\",IF(MID(D241,8,4)=\"-105\",\"SI Loan\",(INDEX(New_Object_Head_1718,MATCH('Bill Register 20-21'!E241,Object_Code_bill_register,0)))))))","v":""},null,null,null,null,null,null,""]
[null,null,null,null,null,{"$f":"IF(E242=\"\",\"\",IF(E242>0,IF(MID(D242,8,3)=\"-101\",\"GPF Loan\",IF(MID(D242,8,4)=\"-105\",\"SI Loan\",(INDEX(New_Object_Head_1718,MATCH('Bill Register 20-21'!E242,Object_Code_bill_register,0)))))))","v":""},null,null,null,null,null,null,""]
[null,null,null,null,null,{"$f":"IF(E243=\"\",\"\",IF(E243>0,IF(MID(D243,8,3)=\"-101\",\"GPF Loan\",IF(MID(D243,8,4)=\"-105\",\"SI Loan\",(INDEX(New_Object_Head_1718,MATCH('Bill Register 20-21'!E243,Object_Code_bill_register,0)))))))","v":""},null,null,null,null,null,null,""]
[null,null,null,null,null,{"$f":"IF(E244=\"\",\"\",IF(E244>0,IF(MID(D244,8,3)=\"-101\",\"GPF Loan\",IF(MID(D244,8,4)=\"-105\",\"SI Loan\",(INDEX(New_Object_Head_1718,MATCH('Bill Register 20-21'!E244,Object_Code_bill_register,0)))))))","v":""},null,null,null,null,null,null,""]
[null,null,null,null,null,{"$f":"IF(E245=\"\",\"\",IF(E245>0,IF(MID(D245,8,3)=\"-101\",\"GPF Loan\",IF(MID(D245,8,4)=\"-105\",\"SI Loan\",(INDEX(New_Object_Head_1718,MATCH('Bill Register 20-21'!E245,Object_Code_bill_register,0)))))))","v":""},null,null,null,null,null,null,""]
[null,null,null,null,null,{"$f":"IF(E246=\"\",\"\",IF(E246>0,IF(MID(D246,8,3)=\"-101\",\"GPF Loan\",IF(MID(D246,8,4)=\"-105\",\"SI Loan\",(INDEX(New_Object_Head_1718,MATCH('Bill Register 20-21'!E246,Object_Code_bill_register,0)))))))","v":""},null,null,null,null,null,null,""]
[null,null,null,null,null,{"$f":"IF(E247=\"\",\"\",IF(E247>0,IF(MID(D247,8,3)=\"-101\",\"GPF Loan\",IF(MID(D247,8,4)=\"-105\",\"SI Loan\",(INDEX(New_Object_Head_1718,MATCH('Bill Register 20-21'!E247,Object_Code_bill_register,0)))))))","v":""},null,null,null,null,null,null,""]
[null,null,null,null,null,{"$f":"IF(E248=\"\",\"\",IF(E248>0,IF(MID(D248,8,3)=\"-101\",\"GPF Loan\",IF(MID(D248,8,4)=\"-105\",\"SI Loan\",(INDEX(New_Object_Head_1718,MATCH('Bill Register 20-21'!E248,Object_Code_bill_register,0)))))))","v":""},null,null,null,null,null,null,""]
[null,null,null,null,null,{"$f":"IF(E249=\"\",\"\",IF(E249>0,IF(MID(D249,8,3)=\"-101\",\"GPF Loan\",IF(MID(D249,8,4)=\"-105\",\"SI Loan\",(INDEX(New_Object_Head_1718,MATCH('Bill Register 20-21'!E249,Object_Code_bill_register,0)))))))","v":""},null,null,null,null,null,null,""]
[null,null,null,null,null,{"$f":"IF(E250=\"\",\"\",IF(E250>0,IF(MID(D250,8,3)=\"-101\",\"GPF Loan\",IF(MID(D250,8,4)=\"-105\",\"SI Loan\",(INDEX(New_Object_Head_1718,MATCH('Bill Register 20-21'!E250,Object_Code_bill_register,0)))))))","v":""},null,null,null,null,null,null,""]
[null,null,null,null,null,{"$f":"IF(E251=\"\",\"\",IF(E251>0,IF(MID(D251,8,3)=\"-101\",\"GPF Loan\",IF(MID(D251,8,4)=\"-105\",\"SI Loan\",(INDEX(New_Object_Head_1718,MATCH('Bill Register 20-21'!E251,Object_Code_bill_register,0)))))))","v":""},null,null,null,null,null,null,""]
[null,null,null,null,null,{"$f":"IF(E252=\"\",\"\",IF(E252>0,IF(MID(D252,8,3)=\"-101\",\"GPF Loan\",IF(MID(D252,8,4)=\"-105\",\"SI Loan\",(INDEX(New_Object_Head_1718,MATCH('Bill Register 20-21'!E252,Object_Code_bill_register,0)))))))","v":""},null,null,null,null,null,null,""]
[null,null,null,null,null,{"$f":"IF(E253=\"\",\"\",IF(E253>0,IF(MID(D253,8,3)=\"-101\",\"GPF Loan\",IF(MID(D253,8,4)=\"-105\",\"SI Loan\",(INDEX(New_Object_Head_1718,MATCH('Bill Register 20-21'!E253,Object_Code_bill_register,0)))))))","v":""},null,null,null,null,null,null,""]
[null,null,null,null,null,{"$f":"IF(E254=\"\",\"\",IF(E254>0,IF(MID(D254,8,3)=\"-101\",\"GPF Loan\",IF(MID(D254,8,4)=\"-105\",\"SI Loan\",(INDEX(New_Object_Head_1718,MATCH('Bill Register 20-21'!E254,Object_Code_bill_register,0)))))))","v":""},null,null,null,null,null,null,""]
[null,null,null,null,null,{"$f":"IF(E255=\"\",\"\",IF(E255>0,IF(MID(D255,8,3)=\"-101\",\"GPF Loan\",IF(MID(D255,8,4)=\"-105\",\"SI Loan\",(INDEX(New_Object_Head_1718,MATCH('Bill Register 20-21'!E255,Object_Code_bill_register,0)))))))","v":""},null,null,null,null,null,null,""]
[null,null,null,null,null,{"$f":"IF(E256=\"\",\"\",IF(E256>0,IF(MID(D256,8,3)=\"-101\",\"GPF Loan\",IF(MID(D256,8,4)=\"-105\",\"SI Loan\",(INDEX(New_Object_Head_1718,MATCH('Bill Register 20-21'!E256,Object_Code_bill_register,0)))))))","v":""},null,null,null,null,null,null,""]
[null,null,null,null,null,{"$f":"IF(E257=\"\",\"\",IF(E257>0,IF(MID(D257,8,3)=\"-101\",\"GPF Loan\",IF(MID(D257,8,4)=\"-105\",\"SI Loan\",(INDEX(New_Object_Head_1718,MATCH('Bill Register 20-21'!E257,Object_Code_bill_register,0)))))))","v":""},null,null,null,null,null,null,""]
[null,null,null,null,null,{"$f":"IF(E258=\"\",\"\",IF(E258>0,IF(MID(D258,8,3)=\"-101\",\"GPF Loan\",IF(MID(D258,8,4)=\"-105\",\"SI Loan\",(INDEX(New_Object_Head_1718,MATCH('Bill Register 20-21'!E258,Object_Code_bill_register,0)))))))","v":""},null,null,null,null,null,null,""]
[null,null,null,null,null,{"$f":"IF(E259=\"\",\"\",IF(E259>0,IF(MID(D259,8,3)=\"-101\",\"GPF Loan\",IF(MID(D259,8,4)=\"-105\",\"SI Loan\",(INDEX(New_Object_Head_1718,MATCH('Bill Register 20-21'!E259,Object_Code_bill_register,0)))))))","v":""},null,null,null,null,null,null,""]
[null,null,null,null,null,{"$f":"IF(E260=\"\",\"\",IF(E260>0,IF(MID(D260,8,3)=\"-101\",\"GPF Loan\",IF(MID(D260,8,4)=\"-105\",\"SI Loan\",(INDEX(New_Object_Head_1718,MATCH('Bill Register 20-21'!E260,Object_Code_bill_register,0)))))))","v":""},null,null,null,null,null,null,{"$f":"IF(L260=\"\",\"\",EOMONTH(L260,0))","v":""}]
[null,null,null,null,null,{"$f":"IF(E261=\"\",\"\",IF(E261>0,IF(MID(D261,8,3)=\"-101\",\"GPF Loan\",IF(MID(D261,8,4)=\"-105\",\"SI Loan\",(INDEX(New_Object_Head_1718,MATCH('Bill Register 20-21'!E261,Object_Code_bill_register,0)))))))","v":""},null,null,null,null,null,null,""]
[null,null,null,null,null,{"$f":"IF(E262=\"\",\"\",IF(E262>0,IF(MID(D262,8,3)=\"-101\",\"GPF Loan\",IF(MID(D262,8,4)=\"-105\",\"SI Loan\",(INDEX(New_Object_Head_1718,MATCH('Bill Register 20-21'!E262,Object_Code_bill_register,0)))))))","v":""},null,null,null,null,null,null,""]
[null,null,null,null,null,{"$f":"IF(E263=\"\",\"\",IF(E263>0,IF(MID(D263,8,3)=\"-101\",\"GPF Loan\",IF(MID(D263,8,4)=\"-105\",\"SI Loan\",(INDEX(New_Object_Head_1718,MATCH('Bill Register 20-21'!E263,Object_Code_bill_register,0)))))))","v":""},null,null,null,null,null,null,""]
[null,null,null,null,null,{"$f":"IF(E264=\"\",\"\",IF(E264>0,IF(MID(D264,8,3)=\"-101\",\"GPF Loan\",IF(MID(D264,8,4)=\"-105\",\"SI Loan\",(INDEX(New_Object_Head_1718,MATCH('Bill Register 20-21'!E264,Object_Code_bill_register,0)))))))","v":""},null,null,null,null,null,null,""]
[null,null,null,null,null,{"$f":"IF(E265=\"\",\"\",IF(E265>0,IF(MID(D265,8,3)=\"-101\",\"GPF Loan\",IF(MID(D265,8,4)=\"-105\",\"SI Loan\",(INDEX(New_Object_Head_1718,MATCH('Bill Register 20-21'!E265,Object_Code_bill_register,0)))))))","v":""},null,null,null,null,null,null,""]
[null,null,null,null,null,{"$f":"IF(E266=\"\",\"\",IF(E266>0,IF(MID(D266,8,3)=\"-101\",\"GPF Loan\",IF(MID(D266,8,4)=\"-105\",\"SI Loan\",(INDEX(New_Object_Head_1718,MATCH('Bill Register 20-21'!E266,Object_Code_bill_register,0)))))))","v":""},null,null,null,null,null,null,""]
[null,null,null,null,null,{"$f":"IF(E267=\"\",\"\",IF(E267>0,IF(MID(D267,8,3)=\"-101\",\"GPF Loan\",IF(MID(D267,8,4)=\"-105\",\"SI Loan\",(INDEX(New_Object_Head_1718,MATCH('Bill Register 20-21'!E267,Object_Code_bill_register,0)))))))","v":""},null,null,null,null,null,null,""]
[null,null,null,null,null,{"$f":"IF(E268=\"\",\"\",IF(E268>0,IF(MID(D268,8,3)=\"-101\",\"GPF Loan\",IF(MID(D268,8,4)=\"-105\",\"SI Loan\",(INDEX(New_Object_Head_1718,MATCH('Bill Register 20-21'!E268,Object_Code_bill_register,0)))))))","v":""},null,null,null,null,null,null,""]
[null,null,null,null,null,{"$f":"IF(E269=\"\",\"\",IF(E269>0,IF(MID(D269,8,3)=\"-101\",\"GPF Loan\",IF(MID(D269,8,4)=\"-105\",\"SI Loan\",(INDEX(New_Object_Head_1718,MATCH('Bill Register 20-21'!E269,Object_Code_bill_register,0)))))))","v":""},null,null,null,null,null,null,""]
[null,null,null,null,null,{"$f":"IF(E270=\"\",\"\",IF(E270>0,IF(MID(D270,8,3)=\"-101\",\"GPF Loan\",IF(MID(D270,8,4)=\"-105\",\"SI Loan\",(INDEX(New_Object_Head_1718,MATCH('Bill Register 20-21'!E270,Object_Code_bill_register,0)))))))","v":""},null,null,null,null,null,null,""]
[null,null,null,null,null,{"$f":"IF(E271=\"\",\"\",IF(E271>0,IF(MID(D271,8,3)=\"-101\",\"GPF Loan\",IF(MID(D271,8,4)=\"-105\",\"SI Loan\",(INDEX(New_Object_Head_1718,MATCH('Bill Register 20-21'!E271,Object_Code_bill_register,0)))))))","v":""},null,null,null,null,null,null,""]
[null,null,null,null,null,{"$f":"IF(E272=\"\",\"\",IF(E272>0,IF(MID(D272,8,3)=\"-101\",\"GPF Loan\",IF(MID(D272,8,4)=\"-105\",\"SI Loan\",(INDEX(New_Object_Head_1718,MATCH('Bill Register 20-21'!E272,Object_Code_bill_register,0)))))))","v":""},null,null,null,null,null,null,""]
[null,null,null,null,null,{"$f":"IF(E273=\"\",\"\",IF(E273>0,IF(MID(D273,8,3)=\"-101\",\"GPF Loan\",IF(MID(D273,8,4)=\"-105\",\"SI Loan\",(INDEX(New_Object_Head_1718,MATCH('Bill Register 20-21'!E273,Object_Code_bill_register,0)))))))","v":""},null,null,null,null,null,null,""]
[null,null,null,null,null,{"$f":"IF(E274=\"\",\"\",IF(E274>0,IF(MID(D274,8,3)=\"-101\",\"GPF Loan\",IF(MID(D274,8,4)=\"-105\",\"SI Loan\",(INDEX(New_Object_Head_1718,MATCH('Bill Register 20-21'!E274,Object_Code_bill_register,0)))))))","v":""},null,null,null,null,null,null,""]
[null,null,null,null,null,{"$f":"IF(E275=\"\",\"\",IF(E275>0,IF(MID(D275,8,3)=\"-101\",\"GPF Loan\",IF(MID(D275,8,4)=\"-105\",\"SI Loan\",(INDEX(New_Object_Head_1718,MATCH('Bill Register 20-21'!E275,Object_Code_bill_register,0)))))))","v":""},null,null,null,null,null,null,""]
[null,null,null,null,null,{"$f":"IF(E276=\"\",\"\",IF(E276>0,IF(MID(D276,8,3)=\"-101\",\"GPF Loan\",IF(MID(D276,8,4)=\"-105\",\"SI Loan\",(INDEX(New_Object_Head_1718,MATCH('Bill Register 20-21'!E276,Object_Code_bill_register,0)))))))","v":""},null,null,null,null,null,null,""]
[null,null,null,null,null,{"$f":"IF(E277=\"\",\"\",IF(E277>0,IF(MID(D277,8,3)=\"-101\",\"GPF Loan\",IF(MID(D277,8,4)=\"-105\",\"SI Loan\",(INDEX(New_Object_Head_1718,MATCH('Bill Register 20-21'!E277,Object_Code_bill_register,0)))))))","v":""},null,null,null,null,null,null,""]
[null,null,null,null,null,{"$f":"IF(E278=\"\",\"\",IF(E278>0,IF(MID(D278,8,3)=\"-101\",\"GPF Loan\",IF(MID(D278,8,4)=\"-105\",\"SI Loan\",(INDEX(New_Object_Head_1718,MATCH('Bill Register 20-21'!E278,Object_Code_bill_register,0)))))))","v":""},null,null,null,null,null,null,""]
[null,null,null,null,null,{"$f":"IF(E279=\"\",\"\",IF(E279>0,IF(MID(D279,8,3)=\"-101\",\"GPF Loan\",IF(MID(D279,8,4)=\"-105\",\"SI Loan\",(INDEX(New_Object_Head_1718,MATCH('Bill Register 20-21'!E279,Object_Code_bill_register,0)))))))","v":""},null,null,null,null,null,null,""]
[null,null,null,null,null,{"$f":"IF(E280=\"\",\"\",IF(E280>0,IF(MID(D280,8,3)=\"-101\",\"GPF Loan\",IF(MID(D280,8,4)=\"-105\",\"SI Loan\",(INDEX(New_Object_Head_1718,MATCH('Bill Register 20-21'!E280,Object_Code_bill_register,0)))))))","v":""},null,null,null,null,null,null,""]
[null,null,null,null,null,{"$f":"IF(E281=\"\",\"\",IF(E281>0,IF(MID(D281,8,3)=\"-101\",\"GPF Loan\",IF(MID(D281,8,4)=\"-105\",\"SI Loan\",(INDEX(New_Object_Head_1718,MATCH('Bill Register 20-21'!E281,Object_Code_bill_register,0)))))))","v":""},null,null,null,null,null,null,""]
[null,null,null,null,null,{"$f":"IF(E282=\"\",\"\",IF(E282>0,IF(MID(D282,8,3)=\"-101\",\"GPF Loan\",IF(MID(D282,8,4)=\"-105\",\"SI Loan\",(INDEX(New_Object_Head_1718,MATCH('Bill Register 20-21'!E282,Object_Code_bill_register,0)))))))","v":""},null,null,null,null,null,null,""]
[null,null,null,null,null,{"$f":"IF(E283=\"\",\"\",IF(E283>0,IF(MID(D283,8,3)=\"-101\",\"GPF Loan\",IF(MID(D283,8,4)=\"-105\",\"SI Loan\",(INDEX(New_Object_Head_1718,MATCH('Bill Register 20-21'!E283,Object_Code_bill_register,0)))))))","v":""},null,null,null,null,null,null,""]
[null,null,null,null,null,{"$f":"IF(E284=\"\",\"\",IF(E284>0,IF(MID(D284,8,3)=\"-101\",\"GPF Loan\",IF(MID(D284,8,4)=\"-105\",\"SI Loan\",(INDEX(New_Object_Head_1718,MATCH('Bill Register 20-21'!E284,Object_Code_bill_register,0)))))))","v":""},null,null,null,null,null,null,""]
[null,null,null,null,null,{"$f":"IF(E285=\"\",\"\",IF(E285>0,IF(MID(D285,8,3)=\"-101\",\"GPF Loan\",IF(MID(D285,8,4)=\"-105\",\"SI Loan\",(INDEX(New_Object_Head_1718,MATCH('Bill Register 20-21'!E285,Object_Code_bill_register,0)))))))","v":""},null,null,null,null,null,null,""]
[null,null,null,null,null,{"$f":"IF(E286=\"\",\"\",IF(E286>0,IF(MID(D286,8,3)=\"-101\",\"GPF Loan\",IF(MID(D286,8,4)=\"-105\",\"SI Loan\",(INDEX(New_Object_Head_1718,MATCH('Bill Register 20-21'!E286,Object_Code_bill_register,0)))))))","v":""},null,null,null,null,null,null,""]
[null,null,null,null,null,{"$f":"IF(E287=\"\",\"\",IF(E287>0,IF(MID(D287,8,3)=\"-101\",\"GPF Loan\",IF(MID(D287,8,4)=\"-105\",\"SI Loan\",(INDEX(New_Object_Head_1718,MATCH('Bill Register 20-21'!E287,Object_Code_bill_register,0)))))))","v":""},null,null,null,null,null,null,""]
[null,null,null,null,null,{"$f":"IF(E288=\"\",\"\",IF(E288>0,IF(MID(D288,8,3)=\"-101\",\"GPF Loan\",IF(MID(D288,8,4)=\"-105\",\"SI Loan\",(INDEX(New_Object_Head_1718,MATCH('Bill Register 20-21'!E288,Object_Code_bill_register,0)))))))","v":""},null,null,null,null,null,null,""]
[null,null,null,null,null,{"$f":"IF(E289=\"\",\"\",IF(E289>0,IF(MID(D289,8,3)=\"-101\",\"GPF Loan\",IF(MID(D289,8,4)=\"-105\",\"SI Loan\",(INDEX(New_Object_Head_1718,MATCH('Bill Register 20-21'!E289,Object_Code_bill_register,0)))))))","v":""},null,null,null,null,null,null,""]
[null,null,null,null,null,{"$f":"IF(E290=\"\",\"\",IF(E290>0,IF(MID(D290,8,3)=\"-101\",\"GPF Loan\",IF(MID(D290,8,4)=\"-105\",\"SI Loan\",(INDEX(New_Object_Head_1718,MATCH('Bill Register 20-21'!E290,Object_Code_bill_register,0)))))))","v":""},null,null,null,null,null,null,""]
[null,null,null,null,null,{"$f":"IF(E291=\"\",\"\",IF(E291>0,IF(MID(D291,8,3)=\"-101\",\"GPF Loan\",IF(MID(D291,8,4)=\"-105\",\"SI Loan\",(INDEX(New_Object_Head_1718,MATCH('Bill Register 20-21'!E291,Object_Code_bill_register,0)))))))","v":""},null,null,null,null,null,null,""]
[null,null,null,null,null,{"$f":"IF(E292=\"\",\"\",IF(E292>0,IF(MID(D292,8,3)=\"-101\",\"GPF Loan\",IF(MID(D292,8,4)=\"-105\",\"SI Loan\",(INDEX(New_Object_Head_1718,MATCH('Bill Register 20-21'!E292,Object_Code_bill_register,0)))))))","v":""},null,null,null,null,null,null,""]
[null,null,null,null,null,{"$f":"IF(E293=\"\",\"\",IF(E293>0,IF(MID(D293,8,3)=\"-101\",\"GPF Loan\",IF(MID(D293,8,4)=\"-105\",\"SI Loan\",(INDEX(New_Object_Head_1718,MATCH('Bill Register 20-21'!E293,Object_Code_bill_register,0)))))))","v":""},null,null,null,null,null,null,""]
[null,null,null,null,null,{"$f":"IF(E294=\"\",\"\",IF(E294>0,IF(MID(D294,8,3)=\"-101\",\"GPF Loan\",IF(MID(D294,8,4)=\"-105\",\"SI Loan\",(INDEX(New_Object_Head_1718,MATCH('Bill Register 20-21'!E294,Object_Code_bill_register,0)))))))","v":""},null,null,null,null,null,null,""]
[null,null,null,null,null,{"$f":"IF(E295=\"\",\"\",IF(E295>0,IF(MID(D295,8,3)=\"-101\",\"GPF Loan\",IF(MID(D295,8,4)=\"-105\",\"SI Loan\",(INDEX(New_Object_Head_1718,MATCH('Bill Register 20-21'!E295,Object_Code_bill_register,0)))))))","v":""},null,null,null,null,null,null,""]
[null,null,null,null,null,{"$f":"IF(E296=\"\",\"\",IF(E296>0,IF(MID(D296,8,3)=\"-101\",\"GPF Loan\",IF(MID(D296,8,4)=\"-105\",\"SI Loan\",(INDEX(New_Object_Head_1718,MATCH('Bill Register 20-21'!E296,Object_Code_bill_register,0)))))))","v":""},null,null,null,null,null,null,""]
[null,null,null,null,null,{"$f":"IF(E297=\"\",\"\",IF(E297>0,IF(MID(D297,8,3)=\"-101\",\"GPF Loan\",IF(MID(D297,8,4)=\"-105\",\"SI Loan\",(INDEX(New_Object_Head_1718,MATCH('Bill Register 20-21'!E297,Object_Code_bill_register,0)))))))","v":""},null,null,null,null,null,null,""]
[null,null,null,null,null,{"$f":"IF(E298=\"\",\"\",IF(E298>0,IF(MID(D298,8,3)=\"-101\",\"GPF Loan\",IF(MID(D298,8,4)=\"-105\",\"SI Loan\",(INDEX(New_Object_Head_1718,MATCH('Bill Register 20-21'!E298,Object_Code_bill_register,0)))))))","v":""},null,null,null,null,null,null,""]
[null,null,null,null,null,{"$f":"IF(E299=\"\",\"\",IF(E299>0,IF(MID(D299,8,3)=\"-101\",\"GPF Loan\",IF(MID(D299,8,4)=\"-105\",\"SI Loan\",(INDEX(New_Object_Head_1718,MATCH('Bill Register 20-21'!E299,Object_Code_bill_register,0)))))))","v":""},null,null,null,null,null,null,""]
[null,null,null,null,null,{"$f":"IF(E300=\"\",\"\",IF(E300>0,IF(MID(D300,8,3)=\"-101\",\"GPF Loan\",IF(MID(D300,8,4)=\"-105\",\"SI Loan\",(INDEX(New_Object_Head_1718,MATCH('Bill Register 20-21'!E300,Object_Code_bill_register,0)))))))","v":""},null,null,null,null,null,null,""]
[null,null,null,null,null,{"$f":"IF(E301=\"\",\"\",IF(E301>0,IF(MID(D301,8,3)=\"-101\",\"GPF Loan\",IF(MID(D301,8,4)=\"-105\",\"SI Loan\",(INDEX(New_Object_Head_1718,MATCH('Bill Register 20-21'!E301,Object_Code_bill_register,0)))))))","v":""},null,null,null,null,null,null,""]
[null,null,null,null,null,{"$f":"IF(E302=\"\",\"\",IF(E302>0,IF(MID(D302,8,3)=\"-101\",\"GPF Loan\",IF(MID(D302,8,4)=\"-105\",\"SI Loan\",(INDEX(New_Object_Head_1718,MATCH('Bill Register 20-21'!E302,Object_Code_bill_register,0)))))))","v":""},null,null,null,null,null,null,""]
[null,null,null,null,null,{"$f":"IF(E303=\"\",\"\",IF(E303>0,IF(MID(D303,8,3)=\"-101\",\"GPF Loan\",IF(MID(D303,8,4)=\"-105\",\"SI Loan\",(INDEX(New_Object_Head_1718,MATCH('Bill Register 20-21'!E303,Object_Code_bill_register,0)))))))","v":""},null,null,null,null,null,null,""]
[null,null,null,null,null,{"$f":"IF(E304=\"\",\"\",IF(E304>0,IF(MID(D304,8,3)=\"-101\",\"GPF Loan\",IF(MID(D304,8,4)=\"-105\",\"SI Loan\",(INDEX(New_Object_Head_1718,MATCH('Bill Register 20-21'!E304,Object_Code_bill_register,0)))))))","v":""},null,null,null,null,null,null,""]
[null,null,null,null,null,{"$f":"IF(E305=\"\",\"\",IF(E305>0,IF(MID(D305,8,3)=\"-101\",\"GPF Loan\",IF(MID(D305,8,4)=\"-105\",\"SI Loan\",(INDEX(New_Object_Head_1718,MATCH('Bill Register 20-21'!E305,Object_Code_bill_register,0)))))))","v":""},null,null,null,null,null,null,""]
[null,null,null,null,null,{"$f":"IF(E306=\"\",\"\",IF(E306>0,IF(MID(D306,8,3)=\"-101\",\"GPF Loan\",IF(MID(D306,8,4)=\"-105\",\"SI Loan\",(INDEX(New_Object_Head_1718,MATCH('Bill Register 20-21'!E306,Object_Code_bill_register,0)))))))","v":""},null,null,null,null,null,null,""]
[null,null,null,null,null,{"$f":"IF(E307=\"\",\"\",IF(E307>0,IF(MID(D307,8,3)=\"-101\",\"GPF Loan\",IF(MID(D307,8,4)=\"-105\",\"SI Loan\",(INDEX(New_Object_Head_1718,MATCH('Bill Register 20-21'!E307,Object_Code_bill_register,0)))))))","v":""},null,null,null,null,null,null,""]
[null,null,null,null,null,{"$f":"IF(E308=\"\",\"\",IF(E308>0,IF(MID(D308,8,3)=\"-101\",\"GPF Loan\",IF(MID(D308,8,4)=\"-105\",\"SI Loan\",(INDEX(New_Object_Head_1718,MATCH('Bill Register 20-21'!E308,Object_Code_bill_register,0)))))))","v":""},null,null,null,null,null,null,""]
[null,null,null,null,null,{"$f":"IF(E309=\"\",\"\",IF(E309>0,IF(MID(D309,8,3)=\"-101\",\"GPF Loan\",IF(MID(D309,8,4)=\"-105\",\"SI Loan\",(INDEX(New_Object_Head_1718,MATCH('Bill Register 20-21'!E309,Object_Code_bill_register,0)))))))","v":""},null,null,null,null,null,null,""]
[null,null,null,null,null,{"$f":"IF(E310=\"\",\"\",IF(E310>0,IF(MID(D310,8,3)=\"-101\",\"GPF Loan\",IF(MID(D310,8,4)=\"-105\",\"SI Loan\",(INDEX(New_Object_Head_1718,MATCH('Bill Register 20-21'!E310,Object_Code_bill_register,0)))))))","v":""},null,null,null,null,null,null,""]
[null,null,null,null,null,{"$f":"IF(E311=\"\",\"\",IF(E311>0,IF(MID(D311,8,3)=\"-101\",\"GPF Loan\",IF(MID(D311,8,4)=\"-105\",\"SI Loan\",(INDEX(New_Object_Head_1718,MATCH('Bill Register 20-21'!E311,Object_Code_bill_register,0)))))))","v":""},null,null,null,null,null,null,""]
[null,null,null,null,null,{"$f":"IF(E312=\"\",\"\",IF(E312>0,IF(MID(D312,8,3)=\"-101\",\"GPF Loan\",IF(MID(D312,8,4)=\"-105\",\"SI Loan\",(INDEX(New_Object_Head_1718,MATCH('Bill Register 20-21'!E312,Object_Code_bill_register,0)))))))","v":""},null,null,null,null,null,null,""]
[null,null,null,null,null,{"$f":"IF(E313=\"\",\"\",IF(E313>0,IF(MID(D313,8,3)=\"-101\",\"GPF Loan\",IF(MID(D313,8,4)=\"-105\",\"SI Loan\",(INDEX(New_Object_Head_1718,MATCH('Bill Register 20-21'!E313,Object_Code_bill_register,0)))))))","v":""},null,null,null,null,null,null,""]
[null,null,null,null,null,{"$f":"IF(E314=\"\",\"\",IF(E314>0,IF(MID(D314,8,3)=\"-101\",\"GPF Loan\",IF(MID(D314,8,4)=\"-105\",\"SI Loan\",(INDEX(New_Object_Head_1718,MATCH('Bill Register 20-21'!E314,Object_Code_bill_register,0)))))))","v":""},null,null,null,null,null,null,""]
[null,null,null,null,null,{"$f":"IF(E315=\"\",\"\",IF(E315>0,IF(MID(D315,8,3)=\"-101\",\"GPF Loan\",IF(MID(D315,8,4)=\"-105\",\"SI Loan\",(INDEX(New_Object_Head_1718,MATCH('Bill Register 20-21'!E315,Object_Code_bill_register,0)))))))","v":""},null,null,null,null,null,null,""]
[null,null,null,null,null,{"$f":"IF(E316=\"\",\"\",IF(E316>0,IF(MID(D316,8,3)=\"-101\",\"GPF Loan\",IF(MID(D316,8,4)=\"-105\",\"SI Loan\",(INDEX(New_Object_Head_1718,MATCH('Bill Register 20-21'!E316,Object_Code_bill_register,0)))))))","v":""},null,null,null,null,null,null,""]
[null,null,null,null,null,{"$f":"IF(E317=\"\",\"\",IF(E317>0,IF(MID(D317,8,3)=\"-101\",\"GPF Loan\",IF(MID(D317,8,4)=\"-105\",\"SI Loan\",(INDEX(New_Object_Head_1718,MATCH('Bill Register 20-21'!E317,Object_Code_bill_register,0)))))))","v":""},null,null,null,null,null,null,""]
[null,null,null,null,null,{"$f":"IF(E318=\"\",\"\",IF(E318>0,IF(MID(D318,8,3)=\"-101\",\"GPF Loan\",IF(MID(D318,8,4)=\"-105\",\"SI Loan\",(INDEX(New_Object_Head_1718,MATCH('Bill Register 20-21'!E318,Object_Code_bill_register,0)))))))","v":""},null,null,null,null,null,null,""]
[null,null,null,null,null,{"$f":"IF(E319=\"\",\"\",IF(E319>0,IF(MID(D319,8,3)=\"-101\",\"GPF Loan\",IF(MID(D319,8,4)=\"-105\",\"SI Loan\",(INDEX(New_Object_Head_1718,MATCH('Bill Register 20-21'!E319,Object_Code_bill_register,0)))))))","v":""},null,null,null,null,null,null,""]
[null,null,null,null,null,{"$f":"IF(E320=\"\",\"\",IF(E320>0,IF(MID(D320,8,3)=\"-101\",\"GPF Loan\",IF(MID(D320,8,4)=\"-105\",\"SI Loan\",(INDEX(New_Object_Head_1718,MATCH('Bill Register 20-21'!E320,Object_Code_bill_register,0)))))))","v":""},null,null,null,null,null,null,""]
[null,null,null,null,null,{"$f":"IF(E321=\"\",\"\",IF(E321>0,IF(MID(D321,8,3)=\"-101\",\"GPF Loan\",IF(MID(D321,8,4)=\"-105\",\"SI Loan\",(INDEX(New_Object_Head_1718,MATCH('Bill Register 20-21'!E321,Object_Code_bill_register,0)))))))","v":""},null,null,null,null,null,null,""]
[null,null,null,null,null,{"$f":"IF(E322=\"\",\"\",IF(E322>0,IF(MID(D322,8,3)=\"-101\",\"GPF Loan\",IF(MID(D322,8,4)=\"-105\",\"SI Loan\",(INDEX(New_Object_Head_1718,MATCH('Bill Register 20-21'!E322,Object_Code_bill_register,0)))))))","v":""},null,null,null,null,null,null,""]
[null,null,null,null,null,{"$f":"IF(E323=\"\",\"\",IF(E323>0,IF(MID(D323,8,3)=\"-101\",\"GPF Loan\",IF(MID(D323,8,4)=\"-105\",\"SI Loan\",(INDEX(New_Object_Head_1718,MATCH('Bill Register 20-21'!E323,Object_Code_bill_register,0)))))))","v":""},null,null,null,null,null,null,""]
[null,null,null,null,null,{"$f":"IF(E324=\"\",\"\",IF(E324>0,IF(MID(D324,8,3)=\"-101\",\"GPF Loan\",IF(MID(D324,8,4)=\"-105\",\"SI Loan\",(INDEX(New_Object_Head_1718,MATCH('Bill Register 20-21'!E324,Object_Code_bill_register,0)))))))","v":""},null,null,null,null,null,null,{"$f":"IF(L324=\"\",\"\",EOMONTH(L324,0))","v":""}]
[null,null,null,null,null,{"$f":"IF(E325=\"\",\"\",IF(E325>0,IF(MID(D325,8,3)=\"-101\",\"GPF Loan\",IF(MID(D325,8,4)=\"-105\",\"SI Loan\",(INDEX(New_Object_Head_1718,MATCH('Bill Register 20-21'!E325,Object_Code_bill_register,0)))))))","v":""},null,null,null,null,null,null,""]
[null,null,null,null,null,{"$f":"IF(E326=\"\",\"\",IF(E326>0,IF(MID(D326,8,3)=\"-101\",\"GPF Loan\",IF(MID(D326,8,4)=\"-105\",\"SI Loan\",(INDEX(New_Object_Head_1718,MATCH('Bill Register 20-21'!E326,Object_Code_bill_register,0)))))))","v":""},null,null,null,null,null,null,""]
[null,null,null,null,null,{"$f":"IF(E327=\"\",\"\",IF(E327>0,IF(MID(D327,8,3)=\"-101\",\"GPF Loan\",IF(MID(D327,8,4)=\"-105\",\"SI Loan\",(INDEX(New_Object_Head_1718,MATCH('Bill Register 20-21'!E327,Object_Code_bill_register,0)))))))","v":""},null,null,null,null,null,null,""]
[null,null,null,null,null,{"$f":"IF(E328=\"\",\"\",IF(E328>0,IF(MID(D328,8,3)=\"-101\",\"GPF Loan\",IF(MID(D328,8,4)=\"-105\",\"SI Loan\",(INDEX(New_Object_Head_1718,MATCH('Bill Register 20-21'!E328,Object_Code_bill_register,0)))))))","v":""},null,null,null,null,null,null,""]
[null,null,null,null,null,{"$f":"IF(E329=\"\",\"\",IF(E329>0,IF(MID(D329,8,3)=\"-101\",\"GPF Loan\",IF(MID(D329,8,4)=\"-105\",\"SI Loan\",(INDEX(New_Object_Head_1718,MATCH('Bill Register 20-21'!E329,Object_Code_bill_register,0)))))))","v":""},null,null,null,null,null,null,""]
[null,null,null,null,null,{"$f":"IF(E330=\"\",\"\",IF(E330>0,IF(MID(D330,8,3)=\"-101\",\"GPF Loan\",IF(MID(D330,8,4)=\"-105\",\"SI Loan\",(INDEX(New_Object_Head_1718,MATCH('Bill Register 20-21'!E330,Object_Code_bill_register,0)))))))","v":""},null,null,null,null,null,null,""]
[null,null,null,null,null,{"$f":"IF(E331=\"\",\"\",IF(E331>0,IF(MID(D331,8,3)=\"-101\",\"GPF Loan\",IF(MID(D331,8,4)=\"-105\",\"SI Loan\",(INDEX(New_Object_Head_1718,MATCH('Bill Register 20-21'!E331,Object_Code_bill_register,0)))))))","v":""},null,null,null,null,null,null,""]
[null,null,null,null,null,{"$f":"IF(E332=\"\",\"\",IF(E332>0,IF(MID(D332,8,3)=\"-101\",\"GPF Loan\",IF(MID(D332,8,4)=\"-105\",\"SI Loan\",(INDEX(New_Object_Head_1718,MATCH('Bill Register 20-21'!E332,Object_Code_bill_register,0)))))))","v":""},null,null,null,null,null,null,""]
[null,null,null,null,null,{"$f":"IF(E333=\"\",\"\",IF(E333>0,IF(MID(D333,8,3)=\"-101\",\"GPF Loan\",IF(MID(D333,8,4)=\"-105\",\"SI Loan\",(INDEX(New_Object_Head_1718,MATCH('Bill Register 20-21'!E333,Object_Code_bill_register,0)))))))","v":""},null,null,null,null,null,null,""]
[null,null,null,null,null,{"$f":"IF(E334=\"\",\"\",IF(E334>0,IF(MID(D334,8,3)=\"-101\",\"GPF Loan\",IF(MID(D334,8,4)=\"-105\",\"SI Loan\",(INDEX(New_Object_Head_1718,MATCH('Bill Register 20-21'!E334,Object_Code_bill_register,0)))))))","v":""},null,null,null,null,null,null,""]
[null,null,null,null,null,{"$f":"IF(E335=\"\",\"\",IF(E335>0,IF(MID(D335,8,3)=\"-101\",\"GPF Loan\",IF(MID(D335,8,4)=\"-105\",\"SI Loan\",(INDEX(New_Object_Head_1718,MATCH('Bill Register 20-21'!E335,Object_Code_bill_register,0)))))))","v":""},null,null,null,null,null,null,""]
[null,null,null,null,null,{"$f":"IF(E336=\"\",\"\",IF(E336>0,IF(MID(D336,8,3)=\"-101\",\"GPF Loan\",IF(MID(D336,8,4)=\"-105\",\"SI Loan\",(INDEX(New_Object_Head_1718,MATCH('Bill Register 20-21'!E336,Object_Code_bill_register,0)))))))","v":""},null,null,null,null,null,null,""]
[null,null,null,null,null,{"$f":"IF(E337=\"\",\"\",IF(E337>0,IF(MID(D337,8,3)=\"-101\",\"GPF Loan\",IF(MID(D337,8,4)=\"-105\",\"SI Loan\",(INDEX(New_Object_Head_1718,MATCH('Bill Register 20-21'!E337,Object_Code_bill_register,0)))))))","v":""},null,null,null,null,null,null,""]
[null,null,null,null,null,{"$f":"IF(E338=\"\",\"\",IF(E338>0,IF(MID(D338,8,3)=\"-101\",\"GPF Loan\",IF(MID(D338,8,4)=\"-105\",\"SI Loan\",(INDEX(New_Object_Head_1718,MATCH('Bill Register 20-21'!E338,Object_Code_bill_register,0)))))))","v":""},null,null,null,null,null,null,""]
[null,null,null,null,null,{"$f":"IF(E339=\"\",\"\",IF(E339>0,IF(MID(D339,8,3)=\"-101\",\"GPF Loan\",IF(MID(D339,8,4)=\"-105\",\"SI Loan\",(INDEX(New_Object_Head_1718,MATCH('Bill Register 20-21'!E339,Object_Code_bill_register,0)))))))","v":""},null,null,null,null,null,null,""]
[null,null,null,null,null,{"$f":"IF(E340=\"\",\"\",IF(E340>0,IF(MID(D340,8,3)=\"-101\",\"GPF Loan\",IF(MID(D340,8,4)=\"-105\",\"SI Loan\",(INDEX(New_Object_Head_1718,MATCH('Bill Register 20-21'!E340,Object_Code_bill_register,0)))))))","v":""},null,null,null,null,null,null,""]
[null,null,null,null,null,{"$f":"IF(E341=\"\",\"\",IF(E341>0,IF(MID(D341,8,3)=\"-101\",\"GPF Loan\",IF(MID(D341,8,4)=\"-105\",\"SI Loan\",(INDEX(New_Object_Head_1718,MATCH('Bill Register 20-21'!E341,Object_Code_bill_register,0)))))))","v":""},null,null,null,null,null,null,""]
[null,null,null,null,null,{"$f":"IF(E342=\"\",\"\",IF(E342>0,IF(MID(D342,8,3)=\"-101\",\"GPF Loan\",IF(MID(D342,8,4)=\"-105\",\"SI Loan\",(INDEX(New_Object_Head_1718,MATCH('Bill Register 20-21'!E342,Object_Code_bill_register,0)))))))","v":""},null,null,null,null,null,null,""]
[null,null,null,null,null,{"$f":"IF(E343=\"\",\"\",IF(E343>0,IF(MID(D343,8,3)=\"-101\",\"GPF Loan\",IF(MID(D343,8,4)=\"-105\",\"SI Loan\",(INDEX(New_Object_Head_1718,MATCH('Bill Register 20-21'!E343,Object_Code_bill_register,0)))))))","v":""},null,null,null,null,null,null,""]
[null,null,null,null,null,{"$f":"IF(E344=\"\",\"\",IF(E344>0,IF(MID(D344,8,3)=\"-101\",\"GPF Loan\",IF(MID(D344,8,4)=\"-105\",\"SI Loan\",(INDEX(New_Object_Head_1718,MATCH('Bill Register 20-21'!E344,Object_Code_bill_register,0)))))))","v":""},null,null,null,null,null,null,""]
[null,null,null,null,null,{"$f":"IF(E345=\"\",\"\",IF(E345>0,IF(MID(D345,8,3)=\"-101\",\"GPF Loan\",IF(MID(D345,8,4)=\"-105\",\"SI Loan\",(INDEX(New_Object_Head_1718,MATCH('Bill Register 20-21'!E345,Object_Code_bill_register,0)))))))","v":""},null,null,null,null,null,null,""]
[null,null,null,null,null,{"$f":"IF(E346=\"\",\"\",IF(E346>0,IF(MID(D346,8,3)=\"-101\",\"GPF Loan\",IF(MID(D346,8,4)=\"-105\",\"SI Loan\",(INDEX(New_Object_Head_1718,MATCH('Bill Register 20-21'!E346,Object_Code_bill_register,0)))))))","v":""},null,null,null,null,null,null,""]
[null,null,null,null,null,{"$f":"IF(E347=\"\",\"\",IF(E347>0,IF(MID(D347,8,3)=\"-101\",\"GPF Loan\",IF(MID(D347,8,4)=\"-105\",\"SI Loan\",(INDEX(New_Object_Head_1718,MATCH('Bill Register 20-21'!E347,Object_Code_bill_register,0)))))))","v":""},null,null,null,null,null,null,""]
[null,null,null,null,null,{"$f":"IF(E348=\"\",\"\",IF(E348>0,IF(MID(D348,8,3)=\"-101\",\"GPF Loan\",IF(MID(D348,8,4)=\"-105\",\"SI Loan\",(INDEX(New_Object_Head_1718,MATCH('Bill Register 20-21'!E348,Object_Code_bill_register,0)))))))","v":""},null,null,null,null,null,null,""]
[null,null,null,null,null,{"$f":"IF(E349=\"\",\"\",IF(E349>0,IF(MID(D349,8,3)=\"-101\",\"GPF Loan\",IF(MID(D349,8,4)=\"-105\",\"SI Loan\",(INDEX(New_Object_Head_1718,MATCH('Bill Register 20-21'!E349,Object_Code_bill_register,0)))))))","v":""},null,null,null,null,null,null,""]
[null,null,null,null,null,{"$f":"IF(E350=\"\",\"\",IF(E350>0,IF(MID(D350,8,3)=\"-101\",\"GPF Loan\",IF(MID(D350,8,4)=\"-105\",\"SI Loan\",(INDEX(New_Object_Head_1718,MATCH('Bill Register 20-21'!E350,Object_Code_bill_register,0)))))))","v":""},null,null,null,null,null,null,""]
[null,null,null,null,null,{"$f":"IF(E351=\"\",\"\",IF(E351>0,IF(MID(D351,8,3)=\"-101\",\"GPF Loan\",IF(MID(D351,8,4)=\"-105\",\"SI Loan\",(INDEX(New_Object_Head_1718,MATCH('Bill Register 20-21'!E351,Object_Code_bill_register,0)))))))","v":""},null,null,null,null,null,null,""]
[null,null,null,null,null,{"$f":"IF(E352=\"\",\"\",IF(E352>0,IF(MID(D352,8,3)=\"-101\",\"GPF Loan\",IF(MID(D352,8,4)=\"-105\",\"SI Loan\",(INDEX(New_Object_Head_1718,MATCH('Bill Register 20-21'!E352,Object_Code_bill_register,0)))))))","v":""},null,null,null,null,null,null,""]
[null,null,null,null,null,{"$f":"IF(E353=\"\",\"\",IF(E353>0,IF(MID(D353,8,3)=\"-101\",\"GPF Loan\",IF(MID(D353,8,4)=\"-105\",\"SI Loan\",(INDEX(New_Object_Head_1718,MATCH('Bill Register 20-21'!E353,Object_Code_bill_register,0)))))))","v":""},null,null,null,null,null,null,""]
[null,null,null,null,null,{"$f":"IF(E354=\"\",\"\",IF(E354>0,IF(MID(D354,8,3)=\"-101\",\"GPF Loan\",IF(MID(D354,8,4)=\"-105\",\"SI Loan\",(INDEX(New_Object_Head_1718,MATCH('Bill Register 20-21'!E354,Object_Code_bill_register,0)))))))","v":""},null,null,null,null,null,null,""]
[null,null,null,null,null,{"$f":"IF(E355=\"\",\"\",IF(E355>0,IF(MID(D355,8,3)=\"-101\",\"GPF Loan\",IF(MID(D355,8,4)=\"-105\",\"SI Loan\",(INDEX(New_Object_Head_1718,MATCH('Bill Register 20-21'!E355,Object_Code_bill_register,0)))))))","v":""},null,null,null,null,null,null,""]
[null,null,null,null,null,{"$f":"IF(E356=\"\",\"\",IF(E356>0,IF(MID(D356,8,3)=\"-101\",\"GPF Loan\",IF(MID(D356,8,4)=\"-105\",\"SI Loan\",(INDEX(New_Object_Head_1718,MATCH('Bill Register 20-21'!E356,Object_Code_bill_register,0)))))))","v":""},null,null,null,null,null,null,""]
[null,null,null,null,null,{"$f":"IF(E357=\"\",\"\",IF(E357>0,IF(MID(D357,8,3)=\"-101\",\"GPF Loan\",IF(MID(D357,8,4)=\"-105\",\"SI Loan\",(INDEX(New_Object_Head_1718,MATCH('Bill Register 20-21'!E357,Object_Code_bill_register,0)))))))","v":""},null,null,null,null,null,null,""]
[null,null,null,null,null,{"$f":"IF(E358=\"\",\"\",IF(E358>0,IF(MID(D358,8,3)=\"-101\",\"GPF Loan\",IF(MID(D358,8,4)=\"-105\",\"SI Loan\",(INDEX(New_Object_Head_1718,MATCH('Bill Register 20-21'!E358,Object_Code_bill_register,0)))))))","v":""},null,null,null,null,null,null,""]
[null,null,null,null,null,{"$f":"IF(E359=\"\",\"\",IF(E359>0,IF(MID(D359,8,3)=\"-101\",\"GPF Loan\",IF(MID(D359,8,4)=\"-105\",\"SI Loan\",(INDEX(New_Object_Head_1718,MATCH('Bill Register 20-21'!E359,Object_Code_bill_register,0)))))))","v":""},null,null,null,null,null,null,""]
[null,null,null,null,null,{"$f":"IF(E360=\"\",\"\",IF(E360>0,IF(MID(D360,8,3)=\"-101\",\"GPF Loan\",IF(MID(D360,8,4)=\"-105\",\"SI Loan\",(INDEX(New_Object_Head_1718,MATCH('Bill Register 20-21'!E360,Object_Code_bill_register,0)))))))","v":""},null,null,null,null,null,null,""]
[null,null,null,null,null,{"$f":"IF(E361=\"\",\"\",IF(E361>0,IF(MID(D361,8,3)=\"-101\",\"GPF Loan\",IF(MID(D361,8,4)=\"-105\",\"SI Loan\",(INDEX(New_Object_Head_1718,MATCH('Bill Register 20-21'!E361,Object_Code_bill_register,0)))))))","v":""},null,null,null,null,null,null,""]
[null,null,null,null,null,{"$f":"IF(E362=\"\",\"\",IF(E362>0,IF(MID(D362,8,3)=\"-101\",\"GPF Loan\",IF(MID(D362,8,4)=\"-105\",\"SI Loan\",(INDEX(New_Object_Head_1718,MATCH('Bill Register 20-21'!E362,Object_Code_bill_register,0)))))))","v":""},null,null,null,null,null,null,""]
[null,null,null,null,null,{"$f":"IF(E363=\"\",\"\",IF(E363>0,IF(MID(D363,8,3)=\"-101\",\"GPF Loan\",IF(MID(D363,8,4)=\"-105\",\"SI Loan\",(INDEX(New_Object_Head_1718,MATCH('Bill Register 20-21'!E363,Object_Code_bill_register,0)))))))","v":""},null,null,null,null,null,null,""]
[null,null,null,null,null,{"$f":"IF(E364=\"\",\"\",IF(E364>0,IF(MID(D364,8,3)=\"-101\",\"GPF Loan\",IF(MID(D364,8,4)=\"-105\",\"SI Loan\",(INDEX(New_Object_Head_1718,MATCH('Bill Register 20-21'!E364,Object_Code_bill_register,0)))))))","v":""},null,null,null,null,null,null,""]
[null,null,null,null,null,{"$f":"IF(E365=\"\",\"\",IF(E365>0,IF(MID(D365,8,3)=\"-101\",\"GPF Loan\",IF(MID(D365,8,4)=\"-105\",\"SI Loan\",(INDEX(New_Object_Head_1718,MATCH('Bill Register 20-21'!E365,Object_Code_bill_register,0)))))))","v":""},null,null,null,null,null,null,""]
[null,null,null,null,null,{"$f":"IF(E366=\"\",\"\",IF(E366>0,IF(MID(D366,8,3)=\"-101\",\"GPF Loan\",IF(MID(D366,8,4)=\"-105\",\"SI Loan\",(INDEX(New_Object_Head_1718,MATCH('Bill Register 20-21'!E366,Object_Code_bill_register,0)))))))","v":""},null,null,null,null,null,null,""]
[null,null,null,null,null,{"$f":"IF(E367=\"\",\"\",IF(E367>0,IF(MID(D367,8,3)=\"-101\",\"GPF Loan\",IF(MID(D367,8,4)=\"-105\",\"SI Loan\",(INDEX(New_Object_Head_1718,MATCH('Bill Register 20-21'!E367,Object_Code_bill_register,0)))))))","v":""},null,null,null,null,null,null,""]
[null,null,null,null,null,{"$f":"IF(E368=\"\",\"\",IF(E368>0,IF(MID(D368,8,3)=\"-101\",\"GPF Loan\",IF(MID(D368,8,4)=\"-105\",\"SI Loan\",(INDEX(New_Object_Head_1718,MATCH('Bill Register 20-21'!E368,Object_Code_bill_register,0)))))))","v":""},null,null,null,null,null,null,""]
[null,null,null,null,null,{"$f":"IF(E369=\"\",\"\",IF(E369>0,IF(MID(D369,8,3)=\"-101\",\"GPF Loan\",IF(MID(D369,8,4)=\"-105\",\"SI Loan\",(INDEX(New_Object_Head_1718,MATCH('Bill Register 20-21'!E369,Object_Code_bill_register,0)))))))","v":""},null,null,null,null,null,null,""]
[null,null,null,null,null,{"$f":"IF(E370=\"\",\"\",IF(E370>0,IF(MID(D370,8,3)=\"-101\",\"GPF Loan\",IF(MID(D370,8,4)=\"-105\",\"SI Loan\",(INDEX(New_Object_Head_1718,MATCH('Bill Register 20-21'!E370,Object_Code_bill_register,0)))))))","v":""},null,null,null,null,null,null,""]
[null,null,null,null,null,{"$f":"IF(E371=\"\",\"\",IF(E371>0,IF(MID(D371,8,3)=\"-101\",\"GPF Loan\",IF(MID(D371,8,4)=\"-105\",\"SI Loan\",(INDEX(New_Object_Head_1718,MATCH('Bill Register 20-21'!E371,Object_Code_bill_register,0)))))))","v":""},null,null,null,null,null,null,""]
[null,null,null,null,null,{"$f":"IF(E372=\"\",\"\",IF(E372>0,IF(MID(D372,8,3)=\"-101\",\"GPF Loan\",IF(MID(D372,8,4)=\"-105\",\"SI Loan\",(INDEX(New_Object_Head_1718,MATCH('Bill Register 20-21'!E372,Object_Code_bill_register,0)))))))","v":""},null,null,null,null,null,null,""]
[null,null,null,null,null,{"$f":"IF(E373=\"\",\"\",IF(E373>0,IF(MID(D373,8,3)=\"-101\",\"GPF Loan\",IF(MID(D373,8,4)=\"-105\",\"SI Loan\",(INDEX(New_Object_Head_1718,MATCH('Bill Register 20-21'!E373,Object_Code_bill_register,0)))))))","v":""},null,null,null,null,null,null,""]
[null,null,null,null,null,{"$f":"IF(E374=\"\",\"\",IF(E374>0,IF(MID(D374,8,3)=\"-101\",\"GPF Loan\",IF(MID(D374,8,4)=\"-105\",\"SI Loan\",(INDEX(New_Object_Head_1718,MATCH('Bill Register 20-21'!E374,Object_Code_bill_register,0)))))))","v":""},null,null,null,null,null,null,""]
[null,null,null,null,null,{"$f":"IF(E375=\"\",\"\",IF(E375>0,IF(MID(D375,8,3)=\"-101\",\"GPF Loan\",IF(MID(D375,8,4)=\"-105\",\"SI Loan\",(INDEX(New_Object_Head_1718,MATCH('Bill Register 20-21'!E375,Object_Code_bill_register,0)))))))","v":""},null,null,null,null,null,null,""]
[null,null,null,null,null,{"$f":"IF(E376=\"\",\"\",IF(E376>0,IF(MID(D376,8,3)=\"-101\",\"GPF Loan\",IF(MID(D376,8,4)=\"-105\",\"SI Loan\",(INDEX(New_Object_Head_1718,MATCH('Bill Register 20-21'!E376,Object_Code_bill_register,0)))))))","v":""},null,null,null,null,null,null,""]
[null,null,null,null,null,{"$f":"IF(E377=\"\",\"\",IF(E377>0,IF(MID(D377,8,3)=\"-101\",\"GPF Loan\",IF(MID(D377,8,4)=\"-105\",\"SI Loan\",(INDEX(New_Object_Head_1718,MATCH('Bill Register 20-21'!E377,Object_Code_bill_register,0)))))))","v":""},null,null,null,null,null,null,""]
[null,null,null,null,null,{"$f":"IF(E378=\"\",\"\",IF(E378>0,IF(MID(D378,8,3)=\"-101\",\"GPF Loan\",IF(MID(D378,8,4)=\"-105\",\"SI Loan\",(INDEX(New_Object_Head_1718,MATCH('Bill Register 20-21'!E378,Object_Code_bill_register,0)))))))","v":""},null,null,null,null,null,null,""]
[null,null,null,null,null,{"$f":"IF(E379=\"\",\"\",IF(E379>0,IF(MID(D379,8,3)=\"-101\",\"GPF Loan\",IF(MID(D379,8,4)=\"-105\",\"SI Loan\",(INDEX(New_Object_Head_1718,MATCH('Bill Register 20-21'!E379,Object_Code_bill_register,0)))))))","v":""},null,null,null,null,null,null,""]
[null,null,null,null,null,{"$f":"IF(E380=\"\",\"\",IF(E380>0,IF(MID(D380,8,3)=\"-101\",\"GPF Loan\",IF(MID(D380,8,4)=\"-105\",\"SI Loan\",(INDEX(New_Object_Head_1718,MATCH('Bill Register 20-21'!E380,Object_Code_bill_register,0)))))))","v":""},null,null,null,null,null,null,""]
[null,null,null,null,null,{"$f":"IF(E381=\"\",\"\",IF(E381>0,IF(MID(D381,8,3)=\"-101\",\"GPF Loan\",IF(MID(D381,8,4)=\"-105\",\"SI Loan\",(INDEX(New_Object_Head_1718,MATCH('Bill Register 20-21'!E381,Object_Code_bill_register,0)))))))","v":""},null,null,null,null,null,null,""]
[null,null,null,null,null,{"$f":"IF(E382=\"\",\"\",IF(E382>0,IF(MID(D382,8,3)=\"-101\",\"GPF Loan\",IF(MID(D382,8,4)=\"-105\",\"SI Loan\",(INDEX(New_Object_Head_1718,MATCH('Bill Register 20-21'!E382,Object_Code_bill_register,0)))))))","v":""},null,null,null,null,null,null,""]
[null,null,null,null,null,{"$f":"IF(E383=\"\",\"\",IF(E383>0,IF(MID(D383,8,3)=\"-101\",\"GPF Loan\",IF(MID(D383,8,4)=\"-105\",\"SI Loan\",(INDEX(New_Object_Head_1718,MATCH('Bill Register 20-21'!E383,Object_Code_bill_register,0)))))))","v":""},null,null,null,null,null,null,""]
[null,null,null,null,null,{"$f":"IF(E384=\"\",\"\",IF(E384>0,IF(MID(D384,8,3)=\"-101\",\"GPF Loan\",IF(MID(D384,8,4)=\"-105\",\"SI Loan\",(INDEX(New_Object_Head_1718,MATCH('Bill Register 20-21'!E384,Object_Code_bill_register,0)))))))","v":""},null,null,null,null,null,null,""]
[null,null,null,null,null,{"$f":"IF(E385=\"\",\"\",IF(E385>0,IF(MID(D385,8,3)=\"-101\",\"GPF Loan\",IF(MID(D385,8,4)=\"-105\",\"SI Loan\",(INDEX(New_Object_Head_1718,MATCH('Bill Register 20-21'!E385,Object_Code_bill_register,0)))))))","v":""},null,null,null,null,null,null,""]
[null,null,null,null,null,{"$f":"IF(E386=\"\",\"\",IF(E386>0,IF(MID(D386,8,3)=\"-101\",\"GPF Loan\",IF(MID(D386,8,4)=\"-105\",\"SI Loan\",(INDEX(New_Object_Head_1718,MATCH('Bill Register 20-21'!E386,Object_Code_bill_register,0)))))))","v":""},null,null,null,null,null,null,""]
[null,null,null,null,null,{"$f":"IF(E387=\"\",\"\",IF(E387>0,IF(MID(D387,8,3)=\"-101\",\"GPF Loan\",IF(MID(D387,8,4)=\"-105\",\"SI Loan\",(INDEX(New_Object_Head_1718,MATCH('Bill Register 20-21'!E387,Object_Code_bill_register,0)))))))","v":""},null,null,null,null,null,null,""]
[null,null,null,null,null,{"$f":"IF(E388=\"\",\"\",IF(E388>0,IF(MID(D388,8,3)=\"-101\",\"GPF Loan\",IF(MID(D388,8,4)=\"-105\",\"SI Loan\",(INDEX(New_Object_Head_1718,MATCH('Bill Register 20-21'!E388,Object_Code_bill_register,0)))))))","v":""},null,null,null,null,null,null,{"$f":"IF(L388=\"\",\"\",EOMONTH(L388,0))","v":""}]
[null,null,null,null,null,{"$f":"IF(E389=\"\",\"\",IF(E389>0,IF(MID(D389,8,3)=\"-101\",\"GPF Loan\",IF(MID(D389,8,4)=\"-105\",\"SI Loan\",(INDEX(New_Object_Head_1718,MATCH('Bill Register 20-21'!E389,Object_Code_bill_register,0)))))))","v":""},null,null,null,null,null,null,""]
[null,null,null,null,null,{"$f":"IF(E390=\"\",\"\",IF(E390>0,IF(MID(D390,8,3)=\"-101\",\"GPF Loan\",IF(MID(D390,8,4)=\"-105\",\"SI Loan\",(INDEX(New_Object_Head_1718,MATCH('Bill Register 20-21'!E390,Object_Code_bill_register,0)))))))","v":""},null,null,null,null,null,null,""]
[null,null,null,null,null,{"$f":"IF(E391=\"\",\"\",IF(E391>0,IF(MID(D391,8,3)=\"-101\",\"GPF Loan\",IF(MID(D391,8,4)=\"-105\",\"SI Loan\",(INDEX(New_Object_Head_1718,MATCH('Bill Register 20-21'!E391,Object_Code_bill_register,0)))))))","v":""},null,null,null,null,null,null,""]
[null,null,null,null,null,{"$f":"IF(E392=\"\",\"\",IF(E392>0,IF(MID(D392,8,3)=\"-101\",\"GPF Loan\",IF(MID(D392,8,4)=\"-105\",\"SI Loan\",(INDEX(New_Object_Head_1718,MATCH('Bill Register 20-21'!E392,Object_Code_bill_register,0)))))))","v":""},null,null,null,null,null,null,""]
[null,null,null,null,null,{"$f":"IF(E393=\"\",\"\",IF(E393>0,IF(MID(D393,8,3)=\"-101\",\"GPF Loan\",IF(MID(D393,8,4)=\"-105\",\"SI Loan\",(INDEX(New_Object_Head_1718,MATCH('Bill Register 20-21'!E393,Object_Code_bill_register,0)))))))","v":""},null,null,null,null,null,null,""]
[null,null,null,null,null,{"$f":"IF(E394=\"\",\"\",IF(E394>0,IF(MID(D394,8,3)=\"-101\",\"GPF Loan\",IF(MID(D394,8,4)=\"-105\",\"SI Loan\",(INDEX(New_Object_Head_1718,MATCH('Bill Register 20-21'!E394,Object_Code_bill_register,0)))))))","v":""},null,null,null,null,null,null,""]
[null,null,null,null,null,{"$f":"IF(E395=\"\",\"\",IF(E395>0,IF(MID(D395,8,3)=\"-101\",\"GPF Loan\",IF(MID(D395,8,4)=\"-105\",\"SI Loan\",(INDEX(New_Object_Head_1718,MATCH('Bill Register 20-21'!E395,Object_Code_bill_register,0)))))))","v":""},null,null,null,null,null,null,""]
[null,null,null,null,null,{"$f":"IF(E396=\"\",\"\",IF(E396>0,IF(MID(D396,8,3)=\"-101\",\"GPF Loan\",IF(MID(D396,8,4)=\"-105\",\"SI Loan\",(INDEX(New_Object_Head_1718,MATCH('Bill Register 20-21'!E396,Object_Code_bill_register,0)))))))","v":""},null,null,null,null,null,null,""]
[null,null,null,null,null,{"$f":"IF(E397=\"\",\"\",IF(E397>0,IF(MID(D397,8,3)=\"-101\",\"GPF Loan\",IF(MID(D397,8,4)=\"-105\",\"SI Loan\",(INDEX(New_Object_Head_1718,MATCH('Bill Register 20-21'!E397,Object_Code_bill_register,0)))))))","v":""},null,null,null,null,null,null,""]
[null,null,null,null,null,{"$f":"IF(E398=\"\",\"\",IF(E398>0,IF(MID(D398,8,3)=\"-101\",\"GPF Loan\",IF(MID(D398,8,4)=\"-105\",\"SI Loan\",(INDEX(New_Object_Head_1718,MATCH('Bill Register 20-21'!E398,Object_Code_bill_register,0)))))))","v":""},null,null,null,null,null,null,""]
[null,null,null,null,null,{"$f":"IF(E399=\"\",\"\",IF(E399>0,IF(MID(D399,8,3)=\"-101\",\"GPF Loan\",IF(MID(D399,8,4)=\"-105\",\"SI Loan\",(INDEX(New_Object_Head_1718,MATCH('Bill Register 20-21'!E399,Object_Code_bill_register,0)))))))","v":""},null,null,null,null,null,null,""]
[null,null,null,null,null,{"$f":"IF(E400=\"\",\"\",IF(E400>0,IF(MID(D400,8,3)=\"-101\",\"GPF Loan\",IF(MID(D400,8,4)=\"-105\",\"SI Loan\",(INDEX(New_Object_Head_1718,MATCH('Bill Register 20-21'!E400,Object_Code_bill_register,0)))))))","v":""},null,null,null,null,null,null,""]
[null,null,null,null,null,{"$f":"IF(E401=\"\",\"\",IF(E401>0,IF(MID(D401,8,3)=\"-101\",\"GPF Loan\",IF(MID(D401,8,4)=\"-105\",\"SI Loan\",(INDEX(New_Object_Head_1718,MATCH('Bill Register 20-21'!E401,Object_Code_bill_register,0)))))))","v":""},null,null,null,null,null,null,""]
[null,null,null,null,null,{"$f":"IF(E402=\"\",\"\",IF(E402>0,IF(MID(D402,8,3)=\"-101\",\"GPF Loan\",IF(MID(D402,8,4)=\"-105\",\"SI Loan\",(INDEX(New_Object_Head_1718,MATCH('Bill Register 20-21'!E402,Object_Code_bill_register,0)))))))","v":""},null,null,null,null,null,null,""]
[null,null,null,null,null,{"$f":"IF(E403=\"\",\"\",IF(E403>0,IF(MID(D403,8,3)=\"-101\",\"GPF Loan\",IF(MID(D403,8,4)=\"-105\",\"SI Loan\",(INDEX(New_Object_Head_1718,MATCH('Bill Register 20-21'!E403,Object_Code_bill_register,0)))))))","v":""},null,null,null,null,null,null,""]
[null,null,null,null,null,{"$f":"IF(E404=\"\",\"\",IF(E404>0,IF(MID(D404,8,3)=\"-101\",\"GPF Loan\",IF(MID(D404,8,4)=\"-105\",\"SI Loan\",(INDEX(New_Object_Head_1718,MATCH('Bill Register 20-21'!E404,Object_Code_bill_register,0)))))))","v":""},null,null,null,null,null,null,""]
[null,null,null,null,null,{"$f":"IF(E405=\"\",\"\",IF(E405>0,IF(MID(D405,8,3)=\"-101\",\"GPF Loan\",IF(MID(D405,8,4)=\"-105\",\"SI Loan\",(INDEX(New_Object_Head_1718,MATCH('Bill Register 20-21'!E405,Object_Code_bill_register,0)))))))","v":""},null,null,null,null,null,null,""]
[null,null,null,null,null,{"$f":"IF(E406=\"\",\"\",IF(E406>0,IF(MID(D406,8,3)=\"-101\",\"GPF Loan\",IF(MID(D406,8,4)=\"-105\",\"SI Loan\",(INDEX(New_Object_Head_1718,MATCH('Bill Register 20-21'!E406,Object_Code_bill_register,0)))))))","v":""},null,null,null,null,null,null,""]
[null,null,null,null,null,{"$f":"IF(E407=\"\",\"\",IF(E407>0,IF(MID(D407,8,3)=\"-101\",\"GPF Loan\",IF(MID(D407,8,4)=\"-105\",\"SI Loan\",(INDEX(New_Object_Head_1718,MATCH('Bill Register 20-21'!E407,Object_Code_bill_register,0)))))))","v":""},null,null,null,null,null,null,""]
[null,null,null,null,null,{"$f":"IF(E408=\"\",\"\",IF(E408>0,IF(MID(D408,8,3)=\"-101\",\"GPF Loan\",IF(MID(D408,8,4)=\"-105\",\"SI Loan\",(INDEX(New_Object_Head_1718,MATCH('Bill Register 20-21'!E408,Object_Code_bill_register,0)))))))","v":""},null,null,null,null,null,null,""]
[null,null,null,null,null,{"$f":"IF(E409=\"\",\"\",IF(E409>0,IF(MID(D409,8,3)=\"-101\",\"GPF Loan\",IF(MID(D409,8,4)=\"-105\",\"SI Loan\",(INDEX(New_Object_Head_1718,MATCH('Bill Register 20-21'!E409,Object_Code_bill_register,0)))))))","v":""},null,null,null,null,null,null,""]
[null,null,null,null,null,{"$f":"IF(E410=\"\",\"\",IF(E410>0,IF(MID(D410,8,3)=\"-101\",\"GPF Loan\",IF(MID(D410,8,4)=\"-105\",\"SI Loan\",(INDEX(New_Object_Head_1718,MATCH('Bill Register 20-21'!E410,Object_Code_bill_register,0)))))))","v":""},null,null,null,null,null,null,""]
[null,null,null,null,null,{"$f":"IF(E411=\"\",\"\",IF(E411>0,IF(MID(D411,8,3)=\"-101\",\"GPF Loan\",IF(MID(D411,8,4)=\"-105\",\"SI Loan\",(INDEX(New_Object_Head_1718,MATCH('Bill Register 20-21'!E411,Object_Code_bill_register,0)))))))","v":""},null,null,null,null,null,null,""]
[null,null,null,null,null,{"$f":"IF(E412=\"\",\"\",IF(E412>0,IF(MID(D412,8,3)=\"-101\",\"GPF Loan\",IF(MID(D412,8,4)=\"-105\",\"SI Loan\",(INDEX(New_Object_Head_1718,MATCH('Bill Register 20-21'!E412,Object_Code_bill_register,0)))))))","v":""},null,null,null,null,null,null,""]
[null,null,null,null,null,{"$f":"IF(E413=\"\",\"\",IF(E413>0,IF(MID(D413,8,3)=\"-101\",\"GPF Loan\",IF(MID(D413,8,4)=\"-105\",\"SI Loan\",(INDEX(New_Object_Head_1718,MATCH('Bill Register 20-21'!E413,Object_Code_bill_register,0)))))))","v":""},null,null,null,null,null,null,""]
[null,null,null,null,null,{"$f":"IF(E414=\"\",\"\",IF(E414>0,IF(MID(D414,8,3)=\"-101\",\"GPF Loan\",IF(MID(D414,8,4)=\"-105\",\"SI Loan\",(INDEX(New_Object_Head_1718,MATCH('Bill Register 20-21'!E414,Object_Code_bill_register,0)))))))","v":""},null,null,null,null,null,null,""]
[null,null,null,null,null,{"$f":"IF(E415=\"\",\"\",IF(E415>0,IF(MID(D415,8,3)=\"-101\",\"GPF Loan\",IF(MID(D415,8,4)=\"-105\",\"SI Loan\",(INDEX(New_Object_Head_1718,MATCH('Bill Register 20-21'!E415,Object_Code_bill_register,0)))))))","v":""},null,null,null,null,null,null,""]
[null,null,null,null,null,{"$f":"IF(E416=\"\",\"\",IF(E416>0,IF(MID(D416,8,3)=\"-101\",\"GPF Loan\",IF(MID(D416,8,4)=\"-105\",\"SI Loan\",(INDEX(New_Object_Head_1718,MATCH('Bill Register 20-21'!E416,Object_Code_bill_register,0)))))))","v":""},null,null,null,null,null,null,""]
[null,null,null,null,null,{"$f":"IF(E417=\"\",\"\",IF(E417>0,IF(MID(D417,8,3)=\"-101\",\"GPF Loan\",IF(MID(D417,8,4)=\"-105\",\"SI Loan\",(INDEX(New_Object_Head_1718,MATCH('Bill Register 20-21'!E417,Object_Code_bill_register,0)))))))","v":""},null,null,null,null,null,null,""]
[null,null,null,null,null,{"$f":"IF(E418=\"\",\"\",IF(E418>0,IF(MID(D418,8,3)=\"-101\",\"GPF Loan\",IF(MID(D418,8,4)=\"-105\",\"SI Loan\",(INDEX(New_Object_Head_1718,MATCH('Bill Register 20-21'!E418,Object_Code_bill_register,0)))))))","v":""},null,null,null,null,null,null,""]
[null,null,null,null,null,{"$f":"IF(E419=\"\",\"\",IF(E419>0,IF(MID(D419,8,3)=\"-101\",\"GPF Loan\",IF(MID(D419,8,4)=\"-105\",\"SI Loan\",(INDEX(New_Object_Head_1718,MATCH('Bill Register 20-21'!E419,Object_Code_bill_register,0)))))))","v":""},null,null,null,null,null,null,""]
[null,null,null,null,null,{"$f":"IF(E420=\"\",\"\",IF(E420>0,IF(MID(D420,8,3)=\"-101\",\"GPF Loan\",IF(MID(D420,8,4)=\"-105\",\"SI Loan\",(INDEX(New_Object_Head_1718,MATCH('Bill Register 20-21'!E420,Object_Code_bill_register,0)))))))","v":""},null,null,null,null,null,null,""]
[null,null,null,null,null,{"$f":"IF(E421=\"\",\"\",IF(E421>0,IF(MID(D421,8,3)=\"-101\",\"GPF Loan\",IF(MID(D421,8,4)=\"-105\",\"SI Loan\",(INDEX(New_Object_Head_1718,MATCH('Bill Register 20-21'!E421,Object_Code_bill_register,0)))))))","v":""},null,null,null,null,null,null,""]
[null,null,null,null,null,{"$f":"IF(E422=\"\",\"\",IF(E422>0,IF(MID(D422,8,3)=\"-101\",\"GPF Loan\",IF(MID(D422,8,4)=\"-105\",\"SI Loan\",(INDEX(New_Object_Head_1718,MATCH('Bill Register 20-21'!E422,Object_Code_bill_register,0)))))))","v":""},null,null,null,null,null,null,""]
[null,null,null,null,null,{"$f":"IF(E423=\"\",\"\",IF(E423>0,IF(MID(D423,8,3)=\"-101\",\"GPF Loan\",IF(MID(D423,8,4)=\"-105\",\"SI Loan\",(INDEX(New_Object_Head_1718,MATCH('Bill Register 20-21'!E423,Object_Code_bill_register,0)))))))","v":""},null,null,null,null,null,null,""]
[null,null,null,null,null,{"$f":"IF(E424=\"\",\"\",IF(E424>0,IF(MID(D424,8,3)=\"-101\",\"GPF Loan\",IF(MID(D424,8,4)=\"-105\",\"SI Loan\",(INDEX(New_Object_Head_1718,MATCH('Bill Register 20-21'!E424,Object_Code_bill_register,0)))))))","v":""},null,null,null,null,null,null,""]
[null,null,null,null,null,{"$f":"IF(E425=\"\",\"\",IF(E425>0,IF(MID(D425,8,3)=\"-101\",\"GPF Loan\",IF(MID(D425,8,4)=\"-105\",\"SI Loan\",(INDEX(New_Object_Head_1718,MATCH('Bill Register 20-21'!E425,Object_Code_bill_register,0)))))))","v":""},null,null,null,null,null,null,""]
[null,null,null,null,null,{"$f":"IF(E426=\"\",\"\",IF(E426>0,IF(MID(D426,8,3)=\"-101\",\"GPF Loan\",IF(MID(D426,8,4)=\"-105\",\"SI Loan\",(INDEX(New_Object_Head_1718,MATCH('Bill Register 20-21'!E426,Object_Code_bill_register,0)))))))","v":""},null,null,null,null,null,null,""]
[null,null,null,null,null,{"$f":"IF(E427=\"\",\"\",IF(E427>0,IF(MID(D427,8,3)=\"-101\",\"GPF Loan\",IF(MID(D427,8,4)=\"-105\",\"SI Loan\",(INDEX(New_Object_Head_1718,MATCH('Bill Register 20-21'!E427,Object_Code_bill_register,0)))))))","v":""},null,null,null,null,null,null,""]
[null,null,null,null,null,{"$f":"IF(E428=\"\",\"\",IF(E428>0,IF(MID(D428,8,3)=\"-101\",\"GPF Loan\",IF(MID(D428,8,4)=\"-105\",\"SI Loan\",(INDEX(New_Object_Head_1718,MATCH('Bill Register 20-21'!E428,Object_Code_bill_register,0)))))))","v":""},null,null,null,null,null,null,""]
[null,null,null,null,null,{"$f":"IF(E429=\"\",\"\",IF(E429>0,IF(MID(D429,8,3)=\"-101\",\"GPF Loan\",IF(MID(D429,8,4)=\"-105\",\"SI Loan\",(INDEX(New_Object_Head_1718,MATCH('Bill Register 20-21'!E429,Object_Code_bill_register,0)))))))","v":""},null,null,null,null,null,null,""]
[null,null,null,null,null,{"$f":"IF(E430=\"\",\"\",IF(E430>0,IF(MID(D430,8,3)=\"-101\",\"GPF Loan\",IF(MID(D430,8,4)=\"-105\",\"SI Loan\",(INDEX(New_Object_Head_1718,MATCH('Bill Register 20-21'!E430,Object_Code_bill_register,0)))))))","v":""},null,null,null,null,null,null,""]
[null,null,null,null,null,{"$f":"IF(E431=\"\",\"\",IF(E431>0,IF(MID(D431,8,3)=\"-101\",\"GPF Loan\",IF(MID(D431,8,4)=\"-105\",\"SI Loan\",(INDEX(New_Object_Head_1718,MATCH('Bill Register 20-21'!E431,Object_Code_bill_register,0)))))))","v":""},null,null,null,null,null,null,""]
[null,null,null,null,null,{"$f":"IF(E432=\"\",\"\",IF(E432>0,IF(MID(D432,8,3)=\"-101\",\"GPF Loan\",IF(MID(D432,8,4)=\"-105\",\"SI Loan\",(INDEX(New_Object_Head_1718,MATCH('Bill Register 20-21'!E432,Object_Code_bill_register,0)))))))","v":""},null,null,null,null,null,null,""]
[null,null,null,null,null,{"$f":"IF(E433=\"\",\"\",IF(E433>0,IF(MID(D433,8,3)=\"-101\",\"GPF Loan\",IF(MID(D433,8,4)=\"-105\",\"SI Loan\",(INDEX(New_Object_Head_1718,MATCH('Bill Register 20-21'!E433,Object_Code_bill_register,0)))))))","v":""},null,null,null,null,null,null,""]
[null,null,null,null,null,{"$f":"IF(E434=\"\",\"\",IF(E434>0,IF(MID(D434,8,3)=\"-101\",\"GPF Loan\",IF(MID(D434,8,4)=\"-105\",\"SI Loan\",(INDEX(New_Object_Head_1718,MATCH('Bill Register 20-21'!E434,Object_Code_bill_register,0)))))))","v":""},null,null,null,null,null,null,""]
[null,null,null,null,null,{"$f":"IF(E435=\"\",\"\",IF(E435>0,IF(MID(D435,8,3)=\"-101\",\"GPF Loan\",IF(MID(D435,8,4)=\"-105\",\"SI Loan\",(INDEX(New_Object_Head_1718,MATCH('Bill Register 20-21'!E435,Object_Code_bill_register,0)))))))","v":""},null,null,null,null,null,null,""]
[null,null,null,null,null,{"$f":"IF(E436=\"\",\"\",IF(E436>0,IF(MID(D436,8,3)=\"-101\",\"GPF Loan\",IF(MID(D436,8,4)=\"-105\",\"SI Loan\",(INDEX(New_Object_Head_1718,MATCH('Bill Register 20-21'!E436,Object_Code_bill_register,0)))))))","v":""},null,null,null,null,null,null,""]
[null,null,null,null,null,{"$f":"IF(E437=\"\",\"\",IF(E437>0,IF(MID(D437,8,3)=\"-101\",\"GPF Loan\",IF(MID(D437,8,4)=\"-105\",\"SI Loan\",(INDEX(New_Object_Head_1718,MATCH('Bill Register 20-21'!E437,Object_Code_bill_register,0)))))))","v":""},null,null,null,null,null,null,""]
[null,null,null,null,null,{"$f":"IF(E438=\"\",\"\",IF(E438>0,IF(MID(D438,8,3)=\"-101\",\"GPF Loan\",IF(MID(D438,8,4)=\"-105\",\"SI Loan\",(INDEX(New_Object_Head_1718,MATCH('Bill Register 20-21'!E438,Object_Code_bill_register,0)))))))","v":""},null,null,null,null,null,null,""]
[null,null,null,null,null,{"$f":"IF(E439=\"\",\"\",IF(E439>0,IF(MID(D439,8,3)=\"-101\",\"GPF Loan\",IF(MID(D439,8,4)=\"-105\",\"SI Loan\",(INDEX(New_Object_Head_1718,MATCH('Bill Register 20-21'!E439,Object_Code_bill_register,0)))))))","v":""},null,null,null,null,null,null,""]
[null,null,null,null,null,{"$f":"IF(E440=\"\",\"\",IF(E440>0,IF(MID(D440,8,3)=\"-101\",\"GPF Loan\",IF(MID(D440,8,4)=\"-105\",\"SI Loan\",(INDEX(New_Object_Head_1718,MATCH('Bill Register 20-21'!E440,Object_Code_bill_register,0)))))))","v":""},null,null,null,null,null,null,""]
[null,null,null,null,null,{"$f":"IF(E441=\"\",\"\",IF(E441>0,IF(MID(D441,8,3)=\"-101\",\"GPF Loan\",IF(MID(D441,8,4)=\"-105\",\"SI Loan\",(INDEX(New_Object_Head_1718,MATCH('Bill Register 20-21'!E441,Object_Code_bill_register,0)))))))","v":""},null,null,null,null,null,null,""]
[null,null,null,null,null,{"$f":"IF(E442=\"\",\"\",IF(E442>0,IF(MID(D442,8,3)=\"-101\",\"GPF Loan\",IF(MID(D442,8,4)=\"-105\",\"SI Loan\",(INDEX(New_Object_Head_1718,MATCH('Bill Register 20-21'!E442,Object_Code_bill_register,0)))))))","v":""},null,null,null,null,null,null,""]
[null,null,null,null,null,{"$f":"IF(E443=\"\",\"\",IF(E443>0,IF(MID(D443,8,3)=\"-101\",\"GPF Loan\",IF(MID(D443,8,4)=\"-105\",\"SI Loan\",(INDEX(New_Object_Head_1718,MATCH('Bill Register 20-21'!E443,Object_Code_bill_register,0)))))))","v":""},null,null,null,null,null,null,""]
[null,null,null,null,null,{"$f":"IF(E444=\"\",\"\",IF(E444>0,IF(MID(D444,8,3)=\"-101\",\"GPF Loan\",IF(MID(D444,8,4)=\"-105\",\"SI Loan\",(INDEX(New_Object_Head_1718,MATCH('Bill Register 20-21'!E444,Object_Code_bill_register,0)))))))","v":""},null,null,null,null,null,null,""]
[null,null,null,null,null,{"$f":"IF(E445=\"\",\"\",IF(E445>0,IF(MID(D445,8,3)=\"-101\",\"GPF Loan\",IF(MID(D445,8,4)=\"-105\",\"SI Loan\",(INDEX(New_Object_Head_1718,MATCH('Bill Register 20-21'!E445,Object_Code_bill_register,0)))))))","v":""},null,null,null,null,null,null,""]
[null,null,null,null,null,{"$f":"IF(E446=\"\",\"\",IF(E446>0,IF(MID(D446,8,3)=\"-101\",\"GPF Loan\",IF(MID(D446,8,4)=\"-105\",\"SI Loan\",(INDEX(New_Object_Head_1718,MATCH('Bill Register 20-21'!E446,Object_Code_bill_register,0)))))))","v":""},null,null,null,null,null,null,""]
[null,null,null,null,null,{"$f":"IF(E447=\"\",\"\",IF(E447>0,IF(MID(D447,8,3)=\"-101\",\"GPF Loan\",IF(MID(D447,8,4)=\"-105\",\"SI Loan\",(INDEX(New_Object_Head_1718,MATCH('Bill Register 20-21'!E447,Object_Code_bill_register,0)))))))","v":""},null,null,null,null,null,null,""]
[null,null,null,null,null,{"$f":"IF(E448=\"\",\"\",IF(E448>0,IF(MID(D448,8,3)=\"-101\",\"GPF Loan\",IF(MID(D448,8,4)=\"-105\",\"SI Loan\",(INDEX(New_Object_Head_1718,MATCH('Bill Register 20-21'!E448,Object_Code_bill_register,0)))))))","v":""},null,null,null,null,null,null,""]
[null,null,null,null,null,{"$f":"IF(E449=\"\",\"\",IF(E449>0,IF(MID(D449,8,3)=\"-101\",\"GPF Loan\",IF(MID(D449,8,4)=\"-105\",\"SI Loan\",(INDEX(New_Object_Head_1718,MATCH('Bill Register 20-21'!E449,Object_Code_bill_register,0)))))))","v":""},null,null,null,null,null,null,""]
[null,null,null,null,null,{"$f":"IF(E450=\"\",\"\",IF(E450>0,IF(MID(D450,8,3)=\"-101\",\"GPF Loan\",IF(MID(D450,8,4)=\"-105\",\"SI Loan\",(INDEX(New_Object_Head_1718,MATCH('Bill Register 20-21'!E450,Object_Code_bill_register,0)))))))","v":""},null,null,null,null,null,null,""]
[null,null,null,null,null,{"$f":"IF(E451=\"\",\"\",IF(E451>0,IF(MID(D451,8,3)=\"-101\",\"GPF Loan\",IF(MID(D451,8,4)=\"-105\",\"SI Loan\",(INDEX(New_Object_Head_1718,MATCH('Bill Register 20-21'!E451,Object_Code_bill_register,0)))))))","v":""},null,null,null,null,null,null,""]
[null,null,null,null,null,{"$f":"IF(E452=\"\",\"\",IF(E452>0,IF(MID(D452,8,3)=\"-101\",\"GPF Loan\",IF(MID(D452,8,4)=\"-105\",\"SI Loan\",(INDEX(New_Object_Head_1718,MATCH('Bill Register 20-21'!E452,Object_Code_bill_register,0)))))))","v":""},null,null,null,null,null,null,{"$f":"IF(L452=\"\",\"\",EOMONTH(L452,0))","v":""}]
[null,null,null,null,null,{"$f":"IF(E453=\"\",\"\",IF(E453>0,IF(MID(D453,8,3)=\"-101\",\"GPF Loan\",IF(MID(D453,8,4)=\"-105\",\"SI Loan\",(INDEX(New_Object_Head_1718,MATCH('Bill Register 20-21'!E453,Object_Code_bill_register,0)))))))","v":""},null,null,null,null,null,null,""]
[null,null,null,null,null,{"$f":"IF(E454=\"\",\"\",IF(E454>0,IF(MID(D454,8,3)=\"-101\",\"GPF Loan\",IF(MID(D454,8,4)=\"-105\",\"SI Loan\",(INDEX(New_Object_Head_1718,MATCH('Bill Register 20-21'!E454,Object_Code_bill_register,0)))))))","v":""},null,null,null,null,null,null,""]
[null,null,null,null,null,{"$f":"IF(E455=\"\",\"\",IF(E455>0,IF(MID(D455,8,3)=\"-101\",\"GPF Loan\",IF(MID(D455,8,4)=\"-105\",\"SI Loan\",(INDEX(New_Object_Head_1718,MATCH('Bill Register 20-21'!E455,Object_Code_bill_register,0)))))))","v":""},null,null,null,null,null,null,""]
[null,null,null,null,null,{"$f":"IF(E456=\"\",\"\",IF(E456>0,IF(MID(D456,8,3)=\"-101\",\"GPF Loan\",IF(MID(D456,8,4)=\"-105\",\"SI Loan\",(INDEX(New_Object_Head_1718,MATCH('Bill Register 20-21'!E456,Object_Code_bill_register,0)))))))","v":""},null,null,null,null,null,null,""]
[null,null,null,null,null,{"$f":"IF(E457=\"\",\"\",IF(E457>0,IF(MID(D457,8,3)=\"-101\",\"GPF Loan\",IF(MID(D457,8,4)=\"-105\",\"SI Loan\",(INDEX(New_Object_Head_1718,MATCH('Bill Register 20-21'!E457,Object_Code_bill_register,0)))))))","v":""},null,null,null,null,null,null,""]
[null,null,null,null,null,{"$f":"IF(E458=\"\",\"\",IF(E458>0,IF(MID(D458,8,3)=\"-101\",\"GPF Loan\",IF(MID(D458,8,4)=\"-105\",\"SI Loan\",(INDEX(New_Object_Head_1718,MATCH('Bill Register 20-21'!E458,Object_Code_bill_register,0)))))))","v":""},null,null,null,null,null,null,""]
[null,null,null,null,null,{"$f":"IF(E459=\"\",\"\",IF(E459>0,IF(MID(D459,8,3)=\"-101\",\"GPF Loan\",IF(MID(D459,8,4)=\"-105\",\"SI Loan\",(INDEX(New_Object_Head_1718,MATCH('Bill Register 20-21'!E459,Object_Code_bill_register,0)))))))","v":""},null,null,null,null,null,null,""]
[null,null,null,null,null,{"$f":"IF(E460=\"\",\"\",IF(E460>0,IF(MID(D460,8,3)=\"-101\",\"GPF Loan\",IF(MID(D460,8,4)=\"-105\",\"SI Loan\",(INDEX(New_Object_Head_1718,MATCH('Bill Register 20-21'!E460,Object_Code_bill_register,0)))))))","v":""},null,null,null,null,null,null,""]
[null,null,null,null,null,{"$f":"IF(E461=\"\",\"\",IF(E461>0,IF(MID(D461,8,3)=\"-101\",\"GPF Loan\",IF(MID(D461,8,4)=\"-105\",\"SI Loan\",(INDEX(New_Object_Head_1718,MATCH('Bill Register 20-21'!E461,Object_Code_bill_register,0)))))))","v":""},null,null,null,null,null,null,""]
[null,null,null,null,null,{"$f":"IF(E462=\"\",\"\",IF(E462>0,IF(MID(D462,8,3)=\"-101\",\"GPF Loan\",IF(MID(D462,8,4)=\"-105\",\"SI Loan\",(INDEX(New_Object_Head_1718,MATCH('Bill Register 20-21'!E462,Object_Code_bill_register,0)))))))","v":""},null,null,null,null,null,null,""]
[null,null,null,null,null,{"$f":"IF(E463=\"\",\"\",IF(E463>0,IF(MID(D463,8,3)=\"-101\",\"GPF Loan\",IF(MID(D463,8,4)=\"-105\",\"SI Loan\",(INDEX(New_Object_Head_1718,MATCH('Bill Register 20-21'!E463,Object_Code_bill_register,0)))))))","v":""},null,null,null,null,null,null,""]
[null,null,null,null,null,{"$f":"IF(E464=\"\",\"\",IF(E464>0,IF(MID(D464,8,3)=\"-101\",\"GPF Loan\",IF(MID(D464,8,4)=\"-105\",\"SI Loan\",(INDEX(New_Object_Head_1718,MATCH('Bill Register 20-21'!E464,Object_Code_bill_register,0)))))))","v":""},null,null,null,null,null,null,""]
[null,null,null,null,null,{"$f":"IF(E465=\"\",\"\",IF(E465>0,IF(MID(D465,8,3)=\"-101\",\"GPF Loan\",IF(MID(D465,8,4)=\"-105\",\"SI Loan\",(INDEX(New_Object_Head_1718,MATCH('Bill Register 20-21'!E465,Object_Code_bill_register,0)))))))","v":""},null,null,null,null,null,null,""]
[null,null,null,null,null,{"$f":"IF(E466=\"\",\"\",IF(E466>0,IF(MID(D466,8,3)=\"-101\",\"GPF Loan\",IF(MID(D466,8,4)=\"-105\",\"SI Loan\",(INDEX(New_Object_Head_1718,MATCH('Bill Register 20-21'!E466,Object_Code_bill_register,0)))))))","v":""},null,null,null,null,null,null,""]
[null,null,null,null,null,{"$f":"IF(E467=\"\",\"\",IF(E467>0,IF(MID(D467,8,3)=\"-101\",\"GPF Loan\",IF(MID(D467,8,4)=\"-105\",\"SI Loan\",(INDEX(New_Object_Head_1718,MATCH('Bill Register 20-21'!E467,Object_Code_bill_register,0)))))))","v":""},null,null,null,null,null,null,""]
[null,null,null,null,null,{"$f":"IF(E468=\"\",\"\",IF(E468>0,IF(MID(D468,8,3)=\"-101\",\"GPF Loan\",IF(MID(D468,8,4)=\"-105\",\"SI Loan\",(INDEX(New_Object_Head_1718,MATCH('Bill Register 20-21'!E468,Object_Code_bill_register,0)))))))","v":""},null,null,null,null,null,null,""]
[null,null,null,null,null,{"$f":"IF(E469=\"\",\"\",IF(E469>0,IF(MID(D469,8,3)=\"-101\",\"GPF Loan\",IF(MID(D469,8,4)=\"-105\",\"SI Loan\",(INDEX(New_Object_Head_1718,MATCH('Bill Register 20-21'!E469,Object_Code_bill_register,0)))))))","v":""},null,null,null,null,null,null,""]
[null,null,null,null,null,{"$f":"IF(E470=\"\",\"\",IF(E470>0,IF(MID(D470,8,3)=\"-101\",\"GPF Loan\",IF(MID(D470,8,4)=\"-105\",\"SI Loan\",(INDEX(New_Object_Head_1718,MATCH('Bill Register 20-21'!E470,Object_Code_bill_register,0)))))))","v":""},null,null,null,null,null,null,""]
[null,null,null,null,null,{"$f":"IF(E471=\"\",\"\",IF(E471>0,IF(MID(D471,8,3)=\"-101\",\"GPF Loan\",IF(MID(D471,8,4)=\"-105\",\"SI Loan\",(INDEX(New_Object_Head_1718,MATCH('Bill Register 20-21'!E471,Object_Code_bill_register,0)))))))","v":""},null,null,null,null,null,null,""]
[null,null,null,null,null,{"$f":"IF(E472=\"\",\"\",IF(E472>0,IF(MID(D472,8,3)=\"-101\",\"GPF Loan\",IF(MID(D472,8,4)=\"-105\",\"SI Loan\",(INDEX(New_Object_Head_1718,MATCH('Bill Register 20-21'!E472,Object_Code_bill_register,0)))))))","v":""},null,null,null,null,null,null,""]
[null,null,null,null,null,{"$f":"IF(E473=\"\",\"\",IF(E473>0,IF(MID(D473,8,3)=\"-101\",\"GPF Loan\",IF(MID(D473,8,4)=\"-105\",\"SI Loan\",(INDEX(New_Object_Head_1718,MATCH('Bill Register 20-21'!E473,Object_Code_bill_register,0)))))))","v":""},null,null,null,null,null,null,""]
[null,null,null,null,null,{"$f":"IF(E474=\"\",\"\",IF(E474>0,IF(MID(D474,8,3)=\"-101\",\"GPF Loan\",IF(MID(D474,8,4)=\"-105\",\"SI Loan\",(INDEX(New_Object_Head_1718,MATCH('Bill Register 20-21'!E474,Object_Code_bill_register,0)))))))","v":""},null,null,null,null,null,null,""]
[null,null,null,null,null,{"$f":"IF(E475=\"\",\"\",IF(E475>0,IF(MID(D475,8,3)=\"-101\",\"GPF Loan\",IF(MID(D475,8,4)=\"-105\",\"SI Loan\",(INDEX(New_Object_Head_1718,MATCH('Bill Register 20-21'!E475,Object_Code_bill_register,0)))))))","v":""},null,null,null,null,null,null,""]
[null,null,null,null,null,{"$f":"IF(E476=\"\",\"\",IF(E476>0,IF(MID(D476,8,3)=\"-101\",\"GPF Loan\",IF(MID(D476,8,4)=\"-105\",\"SI Loan\",(INDEX(New_Object_Head_1718,MATCH('Bill Register 20-21'!E476,Object_Code_bill_register,0)))))))","v":""},null,null,null,null,null,null,""]
[null,null,null,null,null,{"$f":"IF(E477=\"\",\"\",IF(E477>0,IF(MID(D477,8,3)=\"-101\",\"GPF Loan\",IF(MID(D477,8,4)=\"-105\",\"SI Loan\",(INDEX(New_Object_Head_1718,MATCH('Bill Register 20-21'!E477,Object_Code_bill_register,0)))))))","v":""},null,null,null,null,null,null,""]
[null,null,null,null,null,{"$f":"IF(E478=\"\",\"\",IF(E478>0,IF(MID(D478,8,3)=\"-101\",\"GPF Loan\",IF(MID(D478,8,4)=\"-105\",\"SI Loan\",(INDEX(New_Object_Head_1718,MATCH('Bill Register 20-21'!E478,Object_Code_bill_register,0)))))))","v":""},null,null,null,null,null,null,""]
[null,null,null,null,null,{"$f":"IF(E479=\"\",\"\",IF(E479>0,IF(MID(D479,8,3)=\"-101\",\"GPF Loan\",IF(MID(D479,8,4)=\"-105\",\"SI Loan\",(INDEX(New_Object_Head_1718,MATCH('Bill Register 20-21'!E479,Object_Code_bill_register,0)))))))","v":""},null,null,null,null,null,null,""]
[null,null,null,null,null,{"$f":"IF(E480=\"\",\"\",IF(E480>0,IF(MID(D480,8,3)=\"-101\",\"GPF Loan\",IF(MID(D480,8,4)=\"-105\",\"SI Loan\",(INDEX(New_Object_Head_1718,MATCH('Bill Register 20-21'!E480,Object_Code_bill_register,0)))))))","v":""},null,null,null,null,null,null,""]
[null,null,null,null,null,{"$f":"IF(E481=\"\",\"\",IF(E481>0,IF(MID(D481,8,3)=\"-101\",\"GPF Loan\",IF(MID(D481,8,4)=\"-105\",\"SI Loan\",(INDEX(New_Object_Head_1718,MATCH('Bill Register 20-21'!E481,Object_Code_bill_register,0)))))))","v":""},null,null,null,null,null,null,""]
[null,null,null,null,null,{"$f":"IF(E482=\"\",\"\",IF(E482>0,IF(MID(D482,8,3)=\"-101\",\"GPF Loan\",IF(MID(D482,8,4)=\"-105\",\"SI Loan\",(INDEX(New_Object_Head_1718,MATCH('Bill Register 20-21'!E482,Object_Code_bill_register,0)))))))","v":""},null,null,null,null,null,null,""]
[null,null,null,null,null,{"$f":"IF(E483=\"\",\"\",IF(E483>0,IF(MID(D483,8,3)=\"-101\",\"GPF Loan\",IF(MID(D483,8,4)=\"-105\",\"SI Loan\",(INDEX(New_Object_Head_1718,MATCH('Bill Register 20-21'!E483,Object_Code_bill_register,0)))))))","v":""},null,null,null,null,null,null,""]
[null,null,null,null,null,{"$f":"IF(E484=\"\",\"\",IF(E484>0,IF(MID(D484,8,3)=\"-101\",\"GPF Loan\",IF(MID(D484,8,4)=\"-105\",\"SI Loan\",(INDEX(New_Object_Head_1718,MATCH('Bill Register 20-21'!E484,Object_Code_bill_register,0)))))))","v":""},null,null,null,null,null,null,""]
[null,null,null,null,null,{"$f":"IF(E485=\"\",\"\",IF(E485>0,IF(MID(D485,8,3)=\"-101\",\"GPF Loan\",IF(MID(D485,8,4)=\"-105\",\"SI Loan\",(INDEX(New_Object_Head_1718,MATCH('Bill Register 20-21'!E485,Object_Code_bill_register,0)))))))","v":""},null,null,null,null,null,null,""]
[null,null,null,null,null,{"$f":"IF(E486=\"\",\"\",IF(E486>0,IF(MID(D486,8,3)=\"-101\",\"GPF Loan\",IF(MID(D486,8,4)=\"-105\",\"SI Loan\",(INDEX(New_Object_Head_1718,MATCH('Bill Register 20-21'!E486,Object_Code_bill_register,0)))))))","v":""},null,null,null,null,null,null,""]
[null,null,null,null,null,{"$f":"IF(E487=\"\",\"\",IF(E487>0,IF(MID(D487,8,3)=\"-101\",\"GPF Loan\",IF(MID(D487,8,4)=\"-105\",\"SI Loan\",(INDEX(New_Object_Head_1718,MATCH('Bill Register 20-21'!E487,Object_Code_bill_register,0)))))))","v":""},null,null,null,null,null,null,""]
[null,null,null,null,null,{"$f":"IF(E488=\"\",\"\",IF(E488>0,IF(MID(D488,8,3)=\"-101\",\"GPF Loan\",IF(MID(D488,8,4)=\"-105\",\"SI Loan\",(INDEX(New_Object_Head_1718,MATCH('Bill Register 20-21'!E488,Object_Code_bill_register,0)))))))","v":""},null,null,null,null,null,null,""]
[null,null,null,null,null,{"$f":"IF(E489=\"\",\"\",IF(E489>0,IF(MID(D489,8,3)=\"-101\",\"GPF Loan\",IF(MID(D489,8,4)=\"-105\",\"SI Loan\",(INDEX(New_Object_Head_1718,MATCH('Bill Register 20-21'!E489,Object_Code_bill_register,0)))))))","v":""},null,null,null,null,null,null,""]
[null,null,null,null,null,{"$f":"IF(E490=\"\",\"\",IF(E490>0,IF(MID(D490,8,3)=\"-101\",\"GPF Loan\",IF(MID(D490,8,4)=\"-105\",\"SI Loan\",(INDEX(New_Object_Head_1718,MATCH('Bill Register 20-21'!E490,Object_Code_bill_register,0)))))))","v":""},null,null,null,null,null,null,""]
[null,null,null,null,null,{"$f":"IF(E491=\"\",\"\",IF(E491>0,IF(MID(D491,8,3)=\"-101\",\"GPF Loan\",IF(MID(D491,8,4)=\"-105\",\"SI Loan\",(INDEX(New_Object_Head_1718,MATCH('Bill Register 20-21'!E491,Object_Code_bill_register,0)))))))","v":""},null,null,null,null,null,null,""]
[null,null,null,null,null,{"$f":"IF(E492=\"\",\"\",IF(E492>0,IF(MID(D492,8,3)=\"-101\",\"GPF Loan\",IF(MID(D492,8,4)=\"-105\",\"SI Loan\",(INDEX(New_Object_Head_1718,MATCH('Bill Register 20-21'!E492,Object_Code_bill_register,0)))))))","v":""},null,null,null,null,null,null,""]
[null,null,null,null,null,{"$f":"IF(E493=\"\",\"\",IF(E493>0,IF(MID(D493,8,3)=\"-101\",\"GPF Loan\",IF(MID(D493,8,4)=\"-105\",\"SI Loan\",(INDEX(New_Object_Head_1718,MATCH('Bill Register 20-21'!E493,Object_Code_bill_register,0)))))))","v":""},null,null,null,null,null,null,""]
[null,null,null,null,null,{"$f":"IF(E494=\"\",\"\",IF(E494>0,IF(MID(D494,8,3)=\"-101\",\"GPF Loan\",IF(MID(D494,8,4)=\"-105\",\"SI Loan\",(INDEX(New_Object_Head_1718,MATCH('Bill Register 20-21'!E494,Object_Code_bill_register,0)))))))","v":""},null,null,null,null,null,null,""]
[null,null,null,null,null,{"$f":"IF(E495=\"\",\"\",IF(E495>0,IF(MID(D495,8,3)=\"-101\",\"GPF Loan\",IF(MID(D495,8,4)=\"-105\",\"SI Loan\",(INDEX(New_Object_Head_1718,MATCH('Bill Register 20-21'!E495,Object_Code_bill_register,0)))))))","v":""},null,null,null,null,null,null,""]
[null,null,null,null,null,{"$f":"IF(E496=\"\",\"\",IF(E496>0,IF(MID(D496,8,3)=\"-101\",\"GPF Loan\",IF(MID(D496,8,4)=\"-105\",\"SI Loan\",(INDEX(New_Object_Head_1718,MATCH('Bill Register 20-21'!E496,Object_Code_bill_register,0)))))))","v":""},null,null,null,null,null,null,""]
[null,null,null,null,null,{"$f":"IF(E497=\"\",\"\",IF(E497>0,IF(MID(D497,8,3)=\"-101\",\"GPF Loan\",IF(MID(D497,8,4)=\"-105\",\"SI Loan\",(INDEX(New_Object_Head_1718,MATCH('Bill Register 20-21'!E497,Object_Code_bill_register,0)))))))","v":""},null,null,null,null,null,null,""]
[null,null,null,null,null,{"$f":"IF(E498=\"\",\"\",IF(E498>0,IF(MID(D498,8,3)=\"-101\",\"GPF Loan\",IF(MID(D498,8,4)=\"-105\",\"SI Loan\",(INDEX(New_Object_Head_1718,MATCH('Bill Register 20-21'!E498,Object_Code_bill_register,0)))))))","v":""},null,null,null,null,null,null,""]
[null,null,null,null,null,{"$f":"IF(E499=\"\",\"\",IF(E499>0,IF(MID(D499,8,3)=\"-101\",\"GPF Loan\",IF(MID(D499,8,4)=\"-105\",\"SI Loan\",(INDEX(New_Object_Head_1718,MATCH('Bill Register 20-21'!E499,Object_Code_bill_register,0)))))))","v":""},null,null,null,null,null,null,""]
[null,null,null,null,null,{"$f":"IF(E500=\"\",\"\",IF(E500>0,IF(MID(D500,8,3)=\"-101\",\"GPF Loan\",IF(MID(D500,8,4)=\"-105\",\"SI Loan\",(INDEX(New_Object_Head_1718,MATCH('Bill Register 20-21'!E500,Object_Code_bill_register,0)))))))","v":""},null,null,null,null,null,null,""]
[null,null,null,null,null,{"$f":"IF(E501=\"\",\"\",IF(E501>0,IF(MID(D501,8,3)=\"-101\",\"GPF Loan\",IF(MID(D501,8,4)=\"-105\",\"SI Loan\",(INDEX(New_Object_Head_1718,MATCH('Bill Register 20-21'!E501,Object_Code_bill_register,0)))))))","v":""},null,null,null,null,null,null,""]
[null,null,null,null,null,{"$f":"IF(E502=\"\",\"\",IF(E502>0,IF(MID(D502,8,3)=\"-101\",\"GPF Loan\",IF(MID(D502,8,4)=\"-105\",\"SI Loan\",(INDEX(New_Object_Head_1718,MATCH('Bill Register 20-21'!E502,Object_Code_bill_register,0)))))))","v":""},null,null,null,null,null,null,""]
[null,null,null,null,null,{"$f":"IF(E503=\"\",\"\",IF(E503>0,IF(MID(D503,8,3)=\"-101\",\"GPF Loan\",IF(MID(D503,8,4)=\"-105\",\"SI Loan\",(INDEX(New_Object_Head_1718,MATCH('Bill Register 20-21'!E503,Object_Code_bill_register,0)))))))","v":""},null,null,null,null,null,null,""]
[null,null,null,null,null,{"$f":"IF(E504=\"\",\"\",IF(E504>0,IF(MID(D504,8,3)=\"-101\",\"GPF Loan\",IF(MID(D504,8,4)=\"-105\",\"SI Loan\",(INDEX(New_Object_Head_1718,MATCH('Bill Register 20-21'!E504,Object_Code_bill_register,0)))))))","v":""},null,null,null,null,null,null,""]
[null,null,null,null,null,{"$f":"IF(E505=\"\",\"\",IF(E505>0,IF(MID(D505,8,3)=\"-101\",\"GPF Loan\",IF(MID(D505,8,4)=\"-105\",\"SI Loan\",(INDEX(New_Object_Head_1718,MATCH('Bill Register 20-21'!E505,Object_Code_bill_register,0)))))))","v":""},null,null,null,null,null,null,""]
[null,null,null,null,null,{"$f":"IF(E506=\"\",\"\",IF(E506>0,IF(MID(D506,8,3)=\"-101\",\"GPF Loan\",IF(MID(D506,8,4)=\"-105\",\"SI Loan\",(INDEX(New_Object_Head_1718,MATCH('Bill Register 20-21'!E506,Object_Code_bill_register,0)))))))","v":""},null,null,null,null,null,null,""]
[null,null,null,null,null,{"$f":"IF(E507=\"\",\"\",IF(E507>0,IF(MID(D507,8,3)=\"-101\",\"GPF Loan\",IF(MID(D507,8,4)=\"-105\",\"SI Loan\",(INDEX(New_Object_Head_1718,MATCH('Bill Register 20-21'!E507,Object_Code_bill_register,0)))))))","v":""},null,null,null,null,null,null,""]
[null,null,null,null,null,{"$f":"IF(E508=\"\",\"\",IF(E508>0,IF(MID(D508,8,3)=\"-101\",\"GPF Loan\",IF(MID(D508,8,4)=\"-105\",\"SI Loan\",(INDEX(New_Object_Head_1718,MATCH('Bill Register 20-21'!E508,Object_Code_bill_register,0)))))))","v":""},null,null,null,null,null,null,""]
[null,null,null,null,null,{"$f":"IF(E509=\"\",\"\",IF(E509>0,IF(MID(D509,8,3)=\"-101\",\"GPF Loan\",IF(MID(D509,8,4)=\"-105\",\"SI Loan\",(INDEX(New_Object_Head_1718,MATCH('Bill Register 20-21'!E509,Object_Code_bill_register,0)))))))","v":""},null,null,null,null,null,null,""]
[null,null,null,null,null,{"$f":"IF(E510=\"\",\"\",IF(E510>0,IF(MID(D510,8,3)=\"-101\",\"GPF Loan\",IF(MID(D510,8,4)=\"-105\",\"SI Loan\",(INDEX(New_Object_Head_1718,MATCH('Bill Register 20-21'!E510,Object_Code_bill_register,0)))))))","v":""},null,null,null,null,null,null,""]
[null,null,null,null,null,{"$f":"IF(E511=\"\",\"\",IF(E511>0,IF(MID(D511,8,3)=\"-101\",\"GPF Loan\",IF(MID(D511,8,4)=\"-105\",\"SI Loan\",(INDEX(New_Object_Head_1718,MATCH('Bill Register 20-21'!E511,Object_Code_bill_register,0)))))))","v":""},null,null,null,null,null,null,""]
[null,null,null,null,null,{"$f":"IF(E512=\"\",\"\",IF(E512>0,IF(MID(D512,8,3)=\"-101\",\"GPF Loan\",IF(MID(D512,8,4)=\"-105\",\"SI Loan\",(INDEX(New_Object_Head_1718,MATCH('Bill Register 20-21'!E512,Object_Code_bill_register,0)))))))","v":""},null,null,null,null,null,null,""]
[null,null,null,null,null,{"$f":"IF(E513=\"\",\"\",IF(E513>0,IF(MID(D513,8,3)=\"-101\",\"GPF Loan\",IF(MID(D513,8,4)=\"-105\",\"SI Loan\",(INDEX(New_Object_Head_1718,MATCH('Bill Register 20-21'!E513,Object_Code_bill_register,0)))))))","v":""},null,null,null,null,null,null,""]
[null,null,null,null,null,{"$f":"IF(E514=\"\",\"\",IF(E514>0,IF(MID(D514,8,3)=\"-101\",\"GPF Loan\",IF(MID(D514,8,4)=\"-105\",\"SI Loan\",(INDEX(New_Object_Head_1718,MATCH('Bill Register 20-21'!E514,Object_Code_bill_register,0)))))))","v":""},null,null,null,null,null,null,""]
[null,null,null,null,null,{"$f":"IF(E515=\"\",\"\",IF(E515>0,IF(MID(D515,8,3)=\"-101\",\"GPF Loan\",IF(MID(D515,8,4)=\"-105\",\"SI Loan\",(INDEX(New_Object_Head_1718,MATCH('Bill Register 20-21'!E515,Object_Code_bill_register,0)))))))","v":""},null,null,null,null,null,null,""]
[null,null,null,null,null,{"$f":"IF(E516=\"\",\"\",IF(E516>0,IF(MID(D516,8,3)=\"-101\",\"GPF Loan\",IF(MID(D516,8,4)=\"-105\",\"SI Loan\",(INDEX(New_Object_Head_1718,MATCH('Bill Register 20-21'!E516,Object_Code_bill_register,0)))))))","v":""},null,null,null,null,null,null,{"$f":"IF(L516=\"\",\"\",EOMONTH(L516,0))","v":""}]
[null,null,null,null,null,{"$f":"IF(E517=\"\",\"\",IF(E517>0,IF(MID(D517,8,3)=\"-101\",\"GPF Loan\",IF(MID(D517,8,4)=\"-105\",\"SI Loan\",(INDEX(New_Object_Head_1718,MATCH('Bill Register 20-21'!E517,Object_Code_bill_register,0)))))))","v":""},null,null,null,null,null,null,""]
[null,null,null,null,null,{"$f":"IF(E518=\"\",\"\",IF(E518>0,IF(MID(D518,8,3)=\"-101\",\"GPF Loan\",IF(MID(D518,8,4)=\"-105\",\"SI Loan\",(INDEX(New_Object_Head_1718,MATCH('Bill Register 20-21'!E518,Object_Code_bill_register,0)))))))","v":""},null,null,null,null,null,null,""]
[null,null,null,null,null,{"$f":"IF(E519=\"\",\"\",IF(E519>0,IF(MID(D519,8,3)=\"-101\",\"GPF Loan\",IF(MID(D519,8,4)=\"-105\",\"SI Loan\",(INDEX(New_Object_Head_1718,MATCH('Bill Register 20-21'!E519,Object_Code_bill_register,0)))))))","v":""},null,null,null,null,null,null,""]
[null,null,null,null,null,{"$f":"IF(E520=\"\",\"\",IF(E520>0,IF(MID(D520,8,3)=\"-101\",\"GPF Loan\",IF(MID(D520,8,4)=\"-105\",\"SI Loan\",(INDEX(New_Object_Head_1718,MATCH('Bill Register 20-21'!E520,Object_Code_bill_register,0)))))))","v":""},null,null,null,null,null,null,""]
[null,null,null,null,null,{"$f":"IF(E521=\"\",\"\",IF(E521>0,IF(MID(D521,8,3)=\"-101\",\"GPF Loan\",IF(MID(D521,8,4)=\"-105\",\"SI Loan\",(INDEX(New_Object_Head_1718,MATCH('Bill Register 20-21'!E521,Object_Code_bill_register,0)))))))","v":""},null,null,null,null,null,null,""]
[null,null,null,null,null,{"$f":"IF(E522=\"\",\"\",IF(E522>0,IF(MID(D522,8,3)=\"-101\",\"GPF Loan\",IF(MID(D522,8,4)=\"-105\",\"SI Loan\",(INDEX(New_Object_Head_1718,MATCH('Bill Register 20-21'!E522,Object_Code_bill_register,0)))))))","v":""},null,null,null,null,null,null,""]
[null,null,null,null,null,{"$f":"IF(E523=\"\",\"\",IF(E523>0,IF(MID(D523,8,3)=\"-101\",\"GPF Loan\",IF(MID(D523,8,4)=\"-105\",\"SI Loan\",(INDEX(New_Object_Head_1718,MATCH('Bill Register 20-21'!E523,Object_Code_bill_register,0)))))))","v":""},null,null,null,null,null,null,""]
[null,null,null,null,null,{"$f":"IF(E524=\"\",\"\",IF(E524>0,IF(MID(D524,8,3)=\"-101\",\"GPF Loan\",IF(MID(D524,8,4)=\"-105\",\"SI Loan\",(INDEX(New_Object_Head_1718,MATCH('Bill Register 20-21'!E524,Object_Code_bill_register,0)))))))","v":""},null,null,null,null,null,null,""]
[null,null,null,null,null,{"$f":"IF(E525=\"\",\"\",IF(E525>0,IF(MID(D525,8,3)=\"-101\",\"GPF Loan\",IF(MID(D525,8,4)=\"-105\",\"SI Loan\",(INDEX(New_Object_Head_1718,MATCH('Bill Register 20-21'!E525,Object_Code_bill_register,0)))))))","v":""},null,null,null,null,null,null,""]
[null,null,null,null,null,{"$f":"IF(E526=\"\",\"\",IF(E526>0,IF(MID(D526,8,3)=\"-101\",\"GPF Loan\",IF(MID(D526,8,4)=\"-105\",\"SI Loan\",(INDEX(New_Object_Head_1718,MATCH('Bill Register 20-21'!E526,Object_Code_bill_register,0)))))))","v":""},null,null,null,null,null,null,""]
[null,null,null,null,null,{"$f":"IF(E527=\"\",\"\",IF(E527>0,IF(MID(D527,8,3)=\"-101\",\"GPF Loan\",IF(MID(D527,8,4)=\"-105\",\"SI Loan\",(INDEX(New_Object_Head_1718,MATCH('Bill Register 20-21'!E527,Object_Code_bill_register,0)))))))","v":""},null,null,null,null,null,null,""]
[null,null,null,null,null,{"$f":"IF(E528=\"\",\"\",IF(E528>0,IF(MID(D528,8,3)=\"-101\",\"GPF Loan\",IF(MID(D528,8,4)=\"-105\",\"SI Loan\",(INDEX(New_Object_Head_1718,MATCH('Bill Register 20-21'!E528,Object_Code_bill_register,0)))))))","v":""},null,null,null,null,null,null,""]
[null,null,null,null,null,{"$f":"IF(E529=\"\",\"\",IF(E529>0,IF(MID(D529,8,3)=\"-101\",\"GPF Loan\",IF(MID(D529,8,4)=\"-105\",\"SI Loan\",(INDEX(New_Object_Head_1718,MATCH('Bill Register 20-21'!E529,Object_Code_bill_register,0)))))))","v":""},null,null,null,null,null,null,""]
[null,null,null,null,null,{"$f":"IF(E530=\"\",\"\",IF(E530>0,IF(MID(D530,8,3)=\"-101\",\"GPF Loan\",IF(MID(D530,8,4)=\"-105\",\"SI Loan\",(INDEX(New_Object_Head_1718,MATCH('Bill Register 20-21'!E530,Object_Code_bill_register,0)))))))","v":""},null,null,null,null,null,null,""]
[null,null,null,null,null,{"$f":"IF(E531=\"\",\"\",IF(E531>0,IF(MID(D531,8,3)=\"-101\",\"GPF Loan\",IF(MID(D531,8,4)=\"-105\",\"SI Loan\",(INDEX(New_Object_Head_1718,MATCH('Bill Register 20-21'!E531,Object_Code_bill_register,0)))))))","v":""},null,null,null,null,null,null,""]
[null,null,null,null,null,{"$f":"IF(E532=\"\",\"\",IF(E532>0,IF(MID(D532,8,3)=\"-101\",\"GPF Loan\",IF(MID(D532,8,4)=\"-105\",\"SI Loan\",(INDEX(New_Object_Head_1718,MATCH('Bill Register 20-21'!E532,Object_Code_bill_register,0)))))))","v":""},null,null,null,null,null,null,""]
[null,null,null,null,null,{"$f":"IF(E533=\"\",\"\",IF(E533>0,IF(MID(D533,8,3)=\"-101\",\"GPF Loan\",IF(MID(D533,8,4)=\"-105\",\"SI Loan\",(INDEX(New_Object_Head_1718,MATCH('Bill Register 20-21'!E533,Object_Code_bill_register,0)))))))","v":""},null,null,null,null,null,null,""]
[null,null,null,null,null,{"$f":"IF(E534=\"\",\"\",IF(E534>0,IF(MID(D534,8,3)=\"-101\",\"GPF Loan\",IF(MID(D534,8,4)=\"-105\",\"SI Loan\",(INDEX(New_Object_Head_1718,MATCH('Bill Register 20-21'!E534,Object_Code_bill_register,0)))))))","v":""},null,null,null,null,null,null,""]
[null,null,null,null,null,{"$f":"IF(E535=\"\",\"\",IF(E535>0,IF(MID(D535,8,3)=\"-101\",\"GPF Loan\",IF(MID(D535,8,4)=\"-105\",\"SI Loan\",(INDEX(New_Object_Head_1718,MATCH('Bill Register 20-21'!E535,Object_Code_bill_register,0)))))))","v":""},null,null,null,null,null,null,""]
[null,null,null,null,null,{"$f":"IF(E536=\"\",\"\",IF(E536>0,IF(MID(D536,8,3)=\"-101\",\"GPF Loan\",IF(MID(D536,8,4)=\"-105\",\"SI Loan\",(INDEX(New_Object_Head_1718,MATCH('Bill Register 20-21'!E536,Object_Code_bill_register,0)))))))","v":""},null,null,null,null,null,null,""]
[null,null,null,null,null,{"$f":"IF(E537=\"\",\"\",IF(E537>0,IF(MID(D537,8,3)=\"-101\",\"GPF Loan\",IF(MID(D537,8,4)=\"-105\",\"SI Loan\",(INDEX(New_Object_Head_1718,MATCH('Bill Register 20-21'!E537,Object_Code_bill_register,0)))))))","v":""},null,null,null,null,null,null,""]
[null,null,null,null,null,{"$f":"IF(E538=\"\",\"\",IF(E538>0,IF(MID(D538,8,3)=\"-101\",\"GPF Loan\",IF(MID(D538,8,4)=\"-105\",\"SI Loan\",(INDEX(New_Object_Head_1718,MATCH('Bill Register 20-21'!E538,Object_Code_bill_register,0)))))))","v":""},null,null,null,null,null,null,""]
[null,null,null,null,null,{"$f":"IF(E539=\"\",\"\",IF(E539>0,IF(MID(D539,8,3)=\"-101\",\"GPF Loan\",IF(MID(D539,8,4)=\"-105\",\"SI Loan\",(INDEX(New_Object_Head_1718,MATCH('Bill Register 20-21'!E539,Object_Code_bill_register,0)))))))","v":""},null,null,null,null,null,null,""]
[null,null,null,null,null,{"$f":"IF(E540=\"\",\"\",IF(E540>0,IF(MID(D540,8,3)=\"-101\",\"GPF Loan\",IF(MID(D540,8,4)=\"-105\",\"SI Loan\",(INDEX(New_Object_Head_1718,MATCH('Bill Register 20-21'!E540,Object_Code_bill_register,0)))))))","v":""},null,null,null,null,null,null,""]
[null,null,null,null,null,{"$f":"IF(E541=\"\",\"\",IF(E541>0,IF(MID(D541,8,3)=\"-101\",\"GPF Loan\",IF(MID(D541,8,4)=\"-105\",\"SI Loan\",(INDEX(New_Object_Head_1718,MATCH('Bill Register 20-21'!E541,Object_Code_bill_register,0)))))))","v":""},null,null,null,null,null,null,""]
[null,null,null,null,null,{"$f":"IF(E542=\"\",\"\",IF(E542>0,IF(MID(D542,8,3)=\"-101\",\"GPF Loan\",IF(MID(D542,8,4)=\"-105\",\"SI Loan\",(INDEX(New_Object_Head_1718,MATCH('Bill Register 20-21'!E542,Object_Code_bill_register,0)))))))","v":""},null,null,null,null,null,null,""]
[null,null,null,null,null,{"$f":"IF(E543=\"\",\"\",IF(E543>0,IF(MID(D543,8,3)=\"-101\",\"GPF Loan\",IF(MID(D543,8,4)=\"-105\",\"SI Loan\",(INDEX(New_Object_Head_1718,MATCH('Bill Register 20-21'!E543,Object_Code_bill_register,0)))))))","v":""},null,null,null,null,null,null,""]
[null,null,null,null,null,{"$f":"IF(E544=\"\",\"\",IF(E544>0,IF(MID(D544,8,3)=\"-101\",\"GPF Loan\",IF(MID(D544,8,4)=\"-105\",\"SI Loan\",(INDEX(New_Object_Head_1718,MATCH('Bill Register 20-21'!E544,Object_Code_bill_register,0)))))))","v":""},null,null,null,null,null,null,""]
[null,null,null,null,null,{"$f":"IF(E545=\"\",\"\",IF(E545>0,IF(MID(D545,8,3)=\"-101\",\"GPF Loan\",IF(MID(D545,8,4)=\"-105\",\"SI Loan\",(INDEX(New_Object_Head_1718,MATCH('Bill Register 20-21'!E545,Object_Code_bill_register,0)))))))","v":""},null,null,null,null,null,null,""]
[null,null,null,null,null,{"$f":"IF(E546=\"\",\"\",IF(E546>0,IF(MID(D546,8,3)=\"-101\",\"GPF Loan\",IF(MID(D546,8,4)=\"-105\",\"SI Loan\",(INDEX(New_Object_Head_1718,MATCH('Bill Register 20-21'!E546,Object_Code_bill_register,0)))))))","v":""},null,null,null,null,null,null,""]
[null,null,null,null,null,{"$f":"IF(E547=\"\",\"\",IF(E547>0,IF(MID(D547,8,3)=\"-101\",\"GPF Loan\",IF(MID(D547,8,4)=\"-105\",\"SI Loan\",(INDEX(New_Object_Head_1718,MATCH('Bill Register 20-21'!E547,Object_Code_bill_register,0)))))))","v":""},null,null,null,null,null,null,""]
[null,null,null,null,null,{"$f":"IF(E548=\"\",\"\",IF(E548>0,IF(MID(D548,8,3)=\"-101\",\"GPF Loan\",IF(MID(D548,8,4)=\"-105\",\"SI Loan\",(INDEX(New_Object_Head_1718,MATCH('Bill Register 20-21'!E548,Object_Code_bill_register,0)))))))","v":""},null,null,null,null,null,null,""]
[null,null,null,null,null,{"$f":"IF(E549=\"\",\"\",IF(E549>0,IF(MID(D549,8,3)=\"-101\",\"GPF Loan\",IF(MID(D549,8,4)=\"-105\",\"SI Loan\",(INDEX(New_Object_Head_1718,MATCH('Bill Register 20-21'!E549,Object_Code_bill_register,0)))))))","v":""},null,null,null,null,null,null,""]
[null,null,null,null,null,{"$f":"IF(E550=\"\",\"\",IF(E550>0,IF(MID(D550,8,3)=\"-101\",\"GPF Loan\",IF(MID(D550,8,4)=\"-105\",\"SI Loan\",(INDEX(New_Object_Head_1718,MATCH('Bill Register 20-21'!E550,Object_Code_bill_register,0)))))))","v":""},null,null,null,null,null,null,""]
[null,null,null,null,null,{"$f":"IF(E551=\"\",\"\",IF(E551>0,IF(MID(D551,8,3)=\"-101\",\"GPF Loan\",IF(MID(D551,8,4)=\"-105\",\"SI Loan\",(INDEX(New_Object_Head_1718,MATCH('Bill Register 20-21'!E551,Object_Code_bill_register,0)))))))","v":""},null,null,null,null,null,null,""]
[null,null,null,null,null,{"$f":"IF(E552=\"\",\"\",IF(E552>0,IF(MID(D552,8,3)=\"-101\",\"GPF Loan\",IF(MID(D552,8,4)=\"-105\",\"SI Loan\",(INDEX(New_Object_Head_1718,MATCH('Bill Register 20-21'!E552,Object_Code_bill_register,0)))))))","v":""},null,null,null,null,null,null,""]
[null,null,null,null,null,{"$f":"IF(E553=\"\",\"\",IF(E553>0,IF(MID(D553,8,3)=\"-101\",\"GPF Loan\",IF(MID(D553,8,4)=\"-105\",\"SI Loan\",(INDEX(New_Object_Head_1718,MATCH('Bill Register 20-21'!E553,Object_Code_bill_register,0)))))))","v":""},null,null,null,null,null,null,""]
[null,null,null,null,null,{"$f":"IF(E554=\"\",\"\",IF(E554>0,IF(MID(D554,8,3)=\"-101\",\"GPF Loan\",IF(MID(D554,8,4)=\"-105\",\"SI Loan\",(INDEX(New_Object_Head_1718,MATCH('Bill Register 20-21'!E554,Object_Code_bill_register,0)))))))","v":""},null,null,null,null,null,null,""]
[null,null,null,null,null,{"$f":"IF(E555=\"\",\"\",IF(E555>0,IF(MID(D555,8,3)=\"-101\",\"GPF Loan\",IF(MID(D555,8,4)=\"-105\",\"SI Loan\",(INDEX(New_Object_Head_1718,MATCH('Bill Register 20-21'!E555,Object_Code_bill_register,0)))))))","v":""},null,null,null,null,null,null,""]
[null,null,null,null,null,{"$f":"IF(E556=\"\",\"\",IF(E556>0,IF(MID(D556,8,3)=\"-101\",\"GPF Loan\",IF(MID(D556,8,4)=\"-105\",\"SI Loan\",(INDEX(New_Object_Head_1718,MATCH('Bill Register 20-21'!E556,Object_Code_bill_register,0)))))))","v":""},null,null,null,null,null,null,""]
[null,null,null,null,null,{"$f":"IF(E557=\"\",\"\",IF(E557>0,IF(MID(D557,8,3)=\"-101\",\"GPF Loan\",IF(MID(D557,8,4)=\"-105\",\"SI Loan\",(INDEX(New_Object_Head_1718,MATCH('Bill Register 20-21'!E557,Object_Code_bill_register,0)))))))","v":""},null,null,null,null,null,null,""]
[null,null,null,null,null,{"$f":"IF(E558=\"\",\"\",IF(E558>0,IF(MID(D558,8,3)=\"-101\",\"GPF Loan\",IF(MID(D558,8,4)=\"-105\",\"SI Loan\",(INDEX(New_Object_Head_1718,MATCH('Bill Register 20-21'!E558,Object_Code_bill_register,0)))))))","v":""},null,null,null,null,null,null,""]
[null,null,null,null,null,{"$f":"IF(E559=\"\",\"\",IF(E559>0,IF(MID(D559,8,3)=\"-101\",\"GPF Loan\",IF(MID(D559,8,4)=\"-105\",\"SI Loan\",(INDEX(New_Object_Head_1718,MATCH('Bill Register 20-21'!E559,Object_Code_bill_register,0)))))))","v":""},null,null,null,null,null,null,""]
[null,null,null,null,null,{"$f":"IF(E560=\"\",\"\",IF(E560>0,IF(MID(D560,8,3)=\"-101\",\"GPF Loan\",IF(MID(D560,8,4)=\"-105\",\"SI Loan\",(INDEX(New_Object_Head_1718,MATCH('Bill Register 20-21'!E560,Object_Code_bill_register,0)))))))","v":""},null,null,null,null,null,null,""]
[null,null,null,null,null,{"$f":"IF(E561=\"\",\"\",IF(E561>0,IF(MID(D561,8,3)=\"-101\",\"GPF Loan\",IF(MID(D561,8,4)=\"-105\",\"SI Loan\",(INDEX(New_Object_Head_1718,MATCH('Bill Register 20-21'!E561,Object_Code_bill_register,0)))))))","v":""},null,null,null,null,null,null,""]
[null,null,null,null,null,{"$f":"IF(E562=\"\",\"\",IF(E562>0,IF(MID(D562,8,3)=\"-101\",\"GPF Loan\",IF(MID(D562,8,4)=\"-105\",\"SI Loan\",(INDEX(New_Object_Head_1718,MATCH('Bill Register 20-21'!E562,Object_Code_bill_register,0)))))))","v":""},null,null,null,null,null,null,""]
[null,null,null,null,null,{"$f":"IF(E563=\"\",\"\",IF(E563>0,IF(MID(D563,8,3)=\"-101\",\"GPF Loan\",IF(MID(D563,8,4)=\"-105\",\"SI Loan\",(INDEX(New_Object_Head_1718,MATCH('Bill Register 20-21'!E563,Object_Code_bill_register,0)))))))","v":""},null,null,null,null,null,null,""]
[null,null,null,null,null,{"$f":"IF(E564=\"\",\"\",IF(E564>0,IF(MID(D564,8,3)=\"-101\",\"GPF Loan\",IF(MID(D564,8,4)=\"-105\",\"SI Loan\",(INDEX(New_Object_Head_1718,MATCH('Bill Register 20-21'!E564,Object_Code_bill_register,0)))))))","v":""},null,null,null,null,null,null,""]
[null,null,null,null,null,{"$f":"IF(E565=\"\",\"\",IF(E565>0,IF(MID(D565,8,3)=\"-101\",\"GPF Loan\",IF(MID(D565,8,4)=\"-105\",\"SI Loan\",(INDEX(New_Object_Head_1718,MATCH('Bill Register 20-21'!E565,Object_Code_bill_register,0)))))))","v":""},null,null,null,null,null,null,""]
[null,null,null,null,null,{"$f":"IF(E566=\"\",\"\",IF(E566>0,IF(MID(D566,8,3)=\"-101\",\"GPF Loan\",IF(MID(D566,8,4)=\"-105\",\"SI Loan\",(INDEX(New_Object_Head_1718,MATCH('Bill Register 20-21'!E566,Object_Code_bill_register,0)))))))","v":""},null,null,null,null,null,null,""]
[null,null,null,null,null,{"$f":"IF(E567=\"\",\"\",IF(E567>0,IF(MID(D567,8,3)=\"-101\",\"GPF Loan\",IF(MID(D567,8,4)=\"-105\",\"SI Loan\",(INDEX(New_Object_Head_1718,MATCH('Bill Register 20-21'!E567,Object_Code_bill_register,0)))))))","v":""},null,null,null,null,null,null,""]
[null,null,null,null,null,{"$f":"IF(E568=\"\",\"\",IF(E568>0,IF(MID(D568,8,3)=\"-101\",\"GPF Loan\",IF(MID(D568,8,4)=\"-105\",\"SI Loan\",(INDEX(New_Object_Head_1718,MATCH('Bill Register 20-21'!E568,Object_Code_bill_register,0)))))))","v":""},null,null,null,null,null,null,""]
[null,null,null,null,null,{"$f":"IF(E569=\"\",\"\",IF(E569>0,IF(MID(D569,8,3)=\"-101\",\"GPF Loan\",IF(MID(D569,8,4)=\"-105\",\"SI Loan\",(INDEX(New_Object_Head_1718,MATCH('Bill Register 20-21'!E569,Object_Code_bill_register,0)))))))","v":""},null,null,null,null,null,null,""]
[null,null,null,null,null,{"$f":"IF(E570=\"\",\"\",IF(E570>0,IF(MID(D570,8,3)=\"-101\",\"GPF Loan\",IF(MID(D570,8,4)=\"-105\",\"SI Loan\",(INDEX(New_Object_Head_1718,MATCH('Bill Register 20-21'!E570,Object_Code_bill_register,0)))))))","v":""},null,null,null,null,null,null,""]
[null,null,null,null,null,{"$f":"IF(E571=\"\",\"\",IF(E571>0,IF(MID(D571,8,3)=\"-101\",\"GPF Loan\",IF(MID(D571,8,4)=\"-105\",\"SI Loan\",(INDEX(New_Object_Head_1718,MATCH('Bill Register 20-21'!E571,Object_Code_bill_register,0)))))))","v":""},null,null,null,null,null,null,""]
[null,null,null,null,null,{"$f":"IF(E572=\"\",\"\",IF(E572>0,IF(MID(D572,8,3)=\"-101\",\"GPF Loan\",IF(MID(D572,8,4)=\"-105\",\"SI Loan\",(INDEX(New_Object_Head_1718,MATCH('Bill Register 20-21'!E572,Object_Code_bill_register,0)))))))","v":""},null,null,null,null,null,null,""]
[null,null,null,null,null,{"$f":"IF(E573=\"\",\"\",IF(E573>0,IF(MID(D573,8,3)=\"-101\",\"GPF Loan\",IF(MID(D573,8,4)=\"-105\",\"SI Loan\",(INDEX(New_Object_Head_1718,MATCH('Bill Register 20-21'!E573,Object_Code_bill_register,0)))))))","v":""},null,null,null,null,null,null,""]
[null,null,null,null,null,{"$f":"IF(E574=\"\",\"\",IF(E574>0,IF(MID(D574,8,3)=\"-101\",\"GPF Loan\",IF(MID(D574,8,4)=\"-105\",\"SI Loan\",(INDEX(New_Object_Head_1718,MATCH('Bill Register 20-21'!E574,Object_Code_bill_register,0)))))))","v":""},null,null,null,null,null,null,""]
[null,null,null,null,null,{"$f":"IF(E575=\"\",\"\",IF(E575>0,IF(MID(D575,8,3)=\"-101\",\"GPF Loan\",IF(MID(D575,8,4)=\"-105\",\"SI Loan\",(INDEX(New_Object_Head_1718,MATCH('Bill Register 20-21'!E575,Object_Code_bill_register,0)))))))","v":""},null,null,null,null,null,null,""]
[null,null,null,null,null,{"$f":"IF(E576=\"\",\"\",IF(E576>0,IF(MID(D576,8,3)=\"-101\",\"GPF Loan\",IF(MID(D576,8,4)=\"-105\",\"SI Loan\",(INDEX(New_Object_Head_1718,MATCH('Bill Register 20-21'!E576,Object_Code_bill_register,0)))))))","v":""},null,null,null,null,null,null,""]
[null,null,null,null,null,{"$f":"IF(E577=\"\",\"\",IF(E577>0,IF(MID(D577,8,3)=\"-101\",\"GPF Loan\",IF(MID(D577,8,4)=\"-105\",\"SI Loan\",(INDEX(New_Object_Head_1718,MATCH('Bill Register 20-21'!E577,Object_Code_bill_register,0)))))))","v":""},null,null,null,null,null,null,""]
[null,null,null,null,null,{"$f":"IF(E578=\"\",\"\",IF(E578>0,IF(MID(D578,8,3)=\"-101\",\"GPF Loan\",IF(MID(D578,8,4)=\"-105\",\"SI Loan\",(INDEX(New_Object_Head_1718,MATCH('Bill Register 20-21'!E578,Object_Code_bill_register,0)))))))","v":""},null,null,null,null,null,null,""]
[null,null,null,null,null,{"$f":"IF(E579=\"\",\"\",IF(E579>0,IF(MID(D579,8,3)=\"-101\",\"GPF Loan\",IF(MID(D579,8,4)=\"-105\",\"SI Loan\",(INDEX(New_Object_Head_1718,MATCH('Bill Register 20-21'!E579,Object_Code_bill_register,0)))))))","v":""},null,null,null,null,null,null,""]
[null,null,null,null,null,{"$f":"IF(E580=\"\",\"\",IF(E580>0,IF(MID(D580,8,3)=\"-101\",\"GPF Loan\",IF(MID(D580,8,4)=\"-105\",\"SI Loan\",(INDEX(New_Object_Head_1718,MATCH('Bill Register 20-21'!E580,Object_Code_bill_register,0)))))))","v":""},null,null,null,null,null,null,{"$f":"IF(L580=\"\",\"\",EOMONTH(L580,0))","v":""}]
[null,null,null,null,null,{"$f":"IF(E581=\"\",\"\",IF(E581>0,IF(MID(D581,8,3)=\"-101\",\"GPF Loan\",IF(MID(D581,8,4)=\"-105\",\"SI Loan\",(INDEX(New_Object_Head_1718,MATCH('Bill Register 20-21'!E581,Object_Code_bill_register,0)))))))","v":""},null,null,null,null,null,null,""]
[null,null,null,null,null,{"$f":"IF(E582=\"\",\"\",IF(E582>0,IF(MID(D582,8,3)=\"-101\",\"GPF Loan\",IF(MID(D582,8,4)=\"-105\",\"SI Loan\",(INDEX(New_Object_Head_1718,MATCH('Bill Register 20-21'!E582,Object_Code_bill_register,0)))))))","v":""},null,null,null,null,null,null,""]
[null,null,null,null,null,{"$f":"IF(E583=\"\",\"\",IF(E583>0,IF(MID(D583,8,3)=\"-101\",\"GPF Loan\",IF(MID(D583,8,4)=\"-105\",\"SI Loan\",(INDEX(New_Object_Head_1718,MATCH('Bill Register 20-21'!E583,Object_Code_bill_register,0)))))))","v":""},null,null,null,null,null,null,""]
[null,null,null,null,null,{"$f":"IF(E584=\"\",\"\",IF(E584>0,IF(MID(D584,8,3)=\"-101\",\"GPF Loan\",IF(MID(D584,8,4)=\"-105\",\"SI Loan\",(INDEX(New_Object_Head_1718,MATCH('Bill Register 20-21'!E584,Object_Code_bill_register,0)))))))","v":""},null,null,null,null,null,null,""]
[null,null,null,null,null,{"$f":"IF(E585=\"\",\"\",IF(E585>0,IF(MID(D585,8,3)=\"-101\",\"GPF Loan\",IF(MID(D585,8,4)=\"-105\",\"SI Loan\",(INDEX(New_Object_Head_1718,MATCH('Bill Register 20-21'!E585,Object_Code_bill_register,0)))))))","v":""},null,null,null,null,null,null,""]
[null,null,null,null,null,{"$f":"IF(E586=\"\",\"\",IF(E586>0,IF(MID(D586,8,3)=\"-101\",\"GPF Loan\",IF(MID(D586,8,4)=\"-105\",\"SI Loan\",(INDEX(New_Object_Head_1718,MATCH('Bill Register 20-21'!E586,Object_Code_bill_register,0)))))))","v":""},null,null,null,null,null,null,""]
[null,null,null,null,null,{"$f":"IF(E587=\"\",\"\",IF(E587>0,IF(MID(D587,8,3)=\"-101\",\"GPF Loan\",IF(MID(D587,8,4)=\"-105\",\"SI Loan\",(INDEX(New_Object_Head_1718,MATCH('Bill Register 20-21'!E587,Object_Code_bill_register,0)))))))","v":""},null,null,null,null,null,null,""]
[null,null,null,null,null,{"$f":"IF(E588=\"\",\"\",IF(E588>0,IF(MID(D588,8,3)=\"-101\",\"GPF Loan\",IF(MID(D588,8,4)=\"-105\",\"SI Loan\",(INDEX(New_Object_Head_1718,MATCH('Bill Register 20-21'!E588,Object_Code_bill_register,0)))))))","v":""},null,null,null,null,null,null,""]
[null,null,null,null,null,{"$f":"IF(E589=\"\",\"\",IF(E589>0,IF(MID(D589,8,3)=\"-101\",\"GPF Loan\",IF(MID(D589,8,4)=\"-105\",\"SI Loan\",(INDEX(New_Object_Head_1718,MATCH('Bill Register 20-21'!E589,Object_Code_bill_register,0)))))))","v":""},null,null,null,null,null,null,""]
[null,null,null,null,null,{"$f":"IF(E590=\"\",\"\",IF(E590>0,IF(MID(D590,8,3)=\"-101\",\"GPF Loan\",IF(MID(D590,8,4)=\"-105\",\"SI Loan\",(INDEX(New_Object_Head_1718,MATCH('Bill Register 20-21'!E590,Object_Code_bill_register,0)))))))","v":""},null,null,null,null,null,null,""]
[null,null,null,null,null,{"$f":"IF(E591=\"\",\"\",IF(E591>0,IF(MID(D591,8,3)=\"-101\",\"GPF Loan\",IF(MID(D591,8,4)=\"-105\",\"SI Loan\",(INDEX(New_Object_Head_1718,MATCH('Bill Register 20-21'!E591,Object_Code_bill_register,0)))))))","v":""},null,null,null,null,null,null,""]
[null,null,null,null,null,{"$f":"IF(E592=\"\",\"\",IF(E592>0,IF(MID(D592,8,3)=\"-101\",\"GPF Loan\",IF(MID(D592,8,4)=\"-105\",\"SI Loan\",(INDEX(New_Object_Head_1718,MATCH('Bill Register 20-21'!E592,Object_Code_bill_register,0)))))))","v":""},null,null,null,null,null,null,""]
[null,null,null,null,null,{"$f":"IF(E593=\"\",\"\",IF(E593>0,IF(MID(D593,8,3)=\"-101\",\"GPF Loan\",IF(MID(D593,8,4)=\"-105\",\"SI Loan\",(INDEX(New_Object_Head_1718,MATCH('Bill Register 20-21'!E593,Object_Code_bill_register,0)))))))","v":""},null,null,null,null,null,null,""]
[null,null,null,null,null,{"$f":"IF(E594=\"\",\"\",IF(E594>0,IF(MID(D594,8,3)=\"-101\",\"GPF Loan\",IF(MID(D594,8,4)=\"-105\",\"SI Loan\",(INDEX(New_Object_Head_1718,MATCH('Bill Register 20-21'!E594,Object_Code_bill_register,0)))))))","v":""},null,null,null,null,null,null,""]
[null,null,null,null,null,{"$f":"IF(E595=\"\",\"\",IF(E595>0,IF(MID(D595,8,3)=\"-101\",\"GPF Loan\",IF(MID(D595,8,4)=\"-105\",\"SI Loan\",(INDEX(New_Object_Head_1718,MATCH('Bill Register 20-21'!E595,Object_Code_bill_register,0)))))))","v":""},null,null,null,null,null,null,""]
[null,null,null,null,null,{"$f":"IF(E596=\"\",\"\",IF(E596>0,IF(MID(D596,8,3)=\"-101\",\"GPF Loan\",IF(MID(D596,8,4)=\"-105\",\"SI Loan\",(INDEX(New_Object_Head_1718,MATCH('Bill Register 20-21'!E596,Object_Code_bill_register,0)))))))","v":""},null,null,null,null,null,null,""]
[null,null,null,null,null,{"$f":"IF(E597=\"\",\"\",IF(E597>0,IF(MID(D597,8,3)=\"-101\",\"GPF Loan\",IF(MID(D597,8,4)=\"-105\",\"SI Loan\",(INDEX(New_Object_Head_1718,MATCH('Bill Register 20-21'!E597,Object_Code_bill_register,0)))))))","v":""},null,null,null,null,null,null,""]
[null,null,null,null,null,{"$f":"IF(E598=\"\",\"\",IF(E598>0,IF(MID(D598,8,3)=\"-101\",\"GPF Loan\",IF(MID(D598,8,4)=\"-105\",\"SI Loan\",(INDEX(New_Object_Head_1718,MATCH('Bill Register 20-21'!E598,Object_Code_bill_register,0)))))))","v":""},null,null,null,null,null,null,""]
[null,null,null,null,null,{"$f":"IF(E599=\"\",\"\",IF(E599>0,IF(MID(D599,8,3)=\"-101\",\"GPF Loan\",IF(MID(D599,8,4)=\"-105\",\"SI Loan\",(INDEX(New_Object_Head_1718,MATCH('Bill Register 20-21'!E599,Object_Code_bill_register,0)))))))","v":""},null,null,null,null,null,null,""]
[null,null,null,null,null,{"$f":"IF(E600=\"\",\"\",IF(E600>0,IF(MID(D600,8,3)=\"-101\",\"GPF Loan\",IF(MID(D600,8,4)=\"-105\",\"SI Loan\",(INDEX(New_Object_Head_1718,MATCH('Bill Register 20-21'!E600,Object_Code_bill_register,0)))))))","v":""},null,null,null,null,null,null,""]
[null,null,null,null,null,{"$f":"IF(E601=\"\",\"\",IF(E601>0,IF(MID(D601,8,3)=\"-101\",\"GPF Loan\",IF(MID(D601,8,4)=\"-105\",\"SI Loan\",(INDEX(New_Object_Head_1718,MATCH('Bill Register 20-21'!E601,Object_Code_bill_register,0)))))))","v":""},null,null,null,null,null,null,""]
[null,null,null,null,null,{"$f":"IF(E602=\"\",\"\",IF(E602>0,IF(MID(D602,8,3)=\"-101\",\"GPF Loan\",IF(MID(D602,8,4)=\"-105\",\"SI Loan\",(INDEX(New_Object_Head_1718,MATCH('Bill Register 20-21'!E602,Object_Code_bill_register,0)))))))","v":""},null,null,null,null,null,null,""]
[null,null,null,null,null,{"$f":"IF(E603=\"\",\"\",IF(E603>0,IF(MID(D603,8,3)=\"-101\",\"GPF Loan\",IF(MID(D603,8,4)=\"-105\",\"SI Loan\",(INDEX(New_Object_Head_1718,MATCH('Bill Register 20-21'!E603,Object_Code_bill_register,0)))))))","v":""},null,null,null,null,null,null,""]
[null,null,null,null,null,{"$f":"IF(E604=\"\",\"\",IF(E604>0,IF(MID(D604,8,3)=\"-101\",\"GPF Loan\",IF(MID(D604,8,4)=\"-105\",\"SI Loan\",(INDEX(New_Object_Head_1718,MATCH('Bill Register 20-21'!E604,Object_Code_bill_register,0)))))))","v":""},null,null,null,null,null,null,""]
[null,null,null,null,null,{"$f":"IF(E605=\"\",\"\",IF(E605>0,IF(MID(D605,8,3)=\"-101\",\"GPF Loan\",IF(MID(D605,8,4)=\"-105\",\"SI Loan\",(INDEX(New_Object_Head_1718,MATCH('Bill Register 20-21'!E605,Object_Code_bill_register,0)))))))","v":""},null,null,null,null,null,null,""]
[null,null,null,null,null,{"$f":"IF(E606=\"\",\"\",IF(E606>0,IF(MID(D606,8,3)=\"-101\",\"GPF Loan\",IF(MID(D606,8,4)=\"-105\",\"SI Loan\",(INDEX(New_Object_Head_1718,MATCH('Bill Register 20-21'!E606,Object_Code_bill_register,0)))))))","v":""},null,null,null,null,null,null,""]
[null,null,null,null,null,{"$f":"IF(E607=\"\",\"\",IF(E607>0,IF(MID(D607,8,3)=\"-101\",\"GPF Loan\",IF(MID(D607,8,4)=\"-105\",\"SI Loan\",(INDEX(New_Object_Head_1718,MATCH('Bill Register 20-21'!E607,Object_Code_bill_register,0)))))))","v":""},null,null,null,null,null,null,""]
[null,null,null,null,null,{"$f":"IF(E608=\"\",\"\",IF(E608>0,IF(MID(D608,8,3)=\"-101\",\"GPF Loan\",IF(MID(D608,8,4)=\"-105\",\"SI Loan\",(INDEX(New_Object_Head_1718,MATCH('Bill Register 20-21'!E608,Object_Code_bill_register,0)))))))","v":""},null,null,null,null,null,null,""]
[null,null,null,null,null,{"$f":"IF(E609=\"\",\"\",IF(E609>0,IF(MID(D609,8,3)=\"-101\",\"GPF Loan\",IF(MID(D609,8,4)=\"-105\",\"SI Loan\",(INDEX(New_Object_Head_1718,MATCH('Bill Register 20-21'!E609,Object_Code_bill_register,0)))))))","v":""},null,null,null,null,null,null,""]
[null,null,null,null,null,{"$f":"IF(E610=\"\",\"\",IF(E610>0,IF(MID(D610,8,3)=\"-101\",\"GPF Loan\",IF(MID(D610,8,4)=\"-105\",\"SI Loan\",(INDEX(New_Object_Head_1718,MATCH('Bill Register 20-21'!E610,Object_Code_bill_register,0)))))))","v":""},null,null,null,null,null,null,""]
[null,null,null,null,null,{"$f":"IF(E611=\"\",\"\",IF(E611>0,IF(MID(D611,8,3)=\"-101\",\"GPF Loan\",IF(MID(D611,8,4)=\"-105\",\"SI Loan\",(INDEX(New_Object_Head_1718,MATCH('Bill Register 20-21'!E611,Object_Code_bill_register,0)))))))","v":""},null,null,null,null,null,null,""]
[null,null,null,null,null,{"$f":"IF(E612=\"\",\"\",IF(E612>0,IF(MID(D612,8,3)=\"-101\",\"GPF Loan\",IF(MID(D612,8,4)=\"-105\",\"SI Loan\",(INDEX(New_Object_Head_1718,MATCH('Bill Register 20-21'!E612,Object_Code_bill_register,0)))))))","v":""},null,null,null,null,null,null,""]
[null,null,null,null,null,{"$f":"IF(E613=\"\",\"\",IF(E613>0,IF(MID(D613,8,3)=\"-101\",\"GPF Loan\",IF(MID(D613,8,4)=\"-105\",\"SI Loan\",(INDEX(New_Object_Head_1718,MATCH('Bill Register 20-21'!E613,Object_Code_bill_register,0)))))))","v":""},null,null,null,null,null,null,""]
[null,null,null,null,null,{"$f":"IF(E614=\"\",\"\",IF(E614>0,IF(MID(D614,8,3)=\"-101\",\"GPF Loan\",IF(MID(D614,8,4)=\"-105\",\"SI Loan\",(INDEX(New_Object_Head_1718,MATCH('Bill Register 20-21'!E614,Object_Code_bill_register,0)))))))","v":""},null,null,null,null,null,null,""]
[null,null,null,null,null,{"$f":"IF(E615=\"\",\"\",IF(E615>0,IF(MID(D615,8,3)=\"-101\",\"GPF Loan\",IF(MID(D615,8,4)=\"-105\",\"SI Loan\",(INDEX(New_Object_Head_1718,MATCH('Bill Register 20-21'!E615,Object_Code_bill_register,0)))))))","v":""},null,null,null,null,null,null,""]
[null,null,null,null,null,{"$f":"IF(E616=\"\",\"\",IF(E616>0,IF(MID(D616,8,3)=\"-101\",\"GPF Loan\",IF(MID(D616,8,4)=\"-105\",\"SI Loan\",(INDEX(New_Object_Head_1718,MATCH('Bill Register 20-21'!E616,Object_Code_bill_register,0)))))))","v":""},null,null,null,null,null,null,""]
[null,null,null,null,null,{"$f":"IF(E617=\"\",\"\",IF(E617>0,IF(MID(D617,8,3)=\"-101\",\"GPF Loan\",IF(MID(D617,8,4)=\"-105\",\"SI Loan\",(INDEX(New_Object_Head_1718,MATCH('Bill Register 20-21'!E617,Object_Code_bill_register,0)))))))","v":""},null,null,null,null,null,null,""]
[null,null,null,null,null,{"$f":"IF(E618=\"\",\"\",IF(E618>0,IF(MID(D618,8,3)=\"-101\",\"GPF Loan\",IF(MID(D618,8,4)=\"-105\",\"SI Loan\",(INDEX(New_Object_Head_1718,MATCH('Bill Register 20-21'!E618,Object_Code_bill_register,0)))))))","v":""},null,null,null,null,null,null,""]
[null,null,null,null,null,{"$f":"IF(E619=\"\",\"\",IF(E619>0,IF(MID(D619,8,3)=\"-101\",\"GPF Loan\",IF(MID(D619,8,4)=\"-105\",\"SI Loan\",(INDEX(New_Object_Head_1718,MATCH('Bill Register 20-21'!E619,Object_Code_bill_register,0)))))))","v":""},null,null,null,null,null,null,""]
[null,null,null,null,null,{"$f":"IF(E620=\"\",\"\",IF(E620>0,IF(MID(D620,8,3)=\"-101\",\"GPF Loan\",IF(MID(D620,8,4)=\"-105\",\"SI Loan\",(INDEX(New_Object_Head_1718,MATCH('Bill Register 20-21'!E620,Object_Code_bill_register,0)))))))","v":""},null,null,null,null,null,null,""]
[null,null,null,null,null,{"$f":"IF(E621=\"\",\"\",IF(E621>0,IF(MID(D621,8,3)=\"-101\",\"GPF Loan\",IF(MID(D621,8,4)=\"-105\",\"SI Loan\",(INDEX(New_Object_Head_1718,MATCH('Bill Register 20-21'!E621,Object_Code_bill_register,0)))))))","v":""},null,null,null,null,null,null,""]
[null,null,null,null,null,{"$f":"IF(E622=\"\",\"\",IF(E622>0,IF(MID(D622,8,3)=\"-101\",\"GPF Loan\",IF(MID(D622,8,4)=\"-105\",\"SI Loan\",(INDEX(New_Object_Head_1718,MATCH('Bill Register 20-21'!E622,Object_Code_bill_register,0)))))))","v":""},null,null,null,null,null,null,""]
[null,null,null,null,null,{"$f":"IF(E623=\"\",\"\",IF(E623>0,IF(MID(D623,8,3)=\"-101\",\"GPF Loan\",IF(MID(D623,8,4)=\"-105\",\"SI Loan\",(INDEX(New_Object_Head_1718,MATCH('Bill Register 20-21'!E623,Object_Code_bill_register,0)))))))","v":""},null,null,null,null,null,null,""]
[null,null,null,null,null,{"$f":"IF(E624=\"\",\"\",IF(E624>0,IF(MID(D624,8,3)=\"-101\",\"GPF Loan\",IF(MID(D624,8,4)=\"-105\",\"SI Loan\",(INDEX(New_Object_Head_1718,MATCH('Bill Register 20-21'!E624,Object_Code_bill_register,0)))))))","v":""},null,null,null,null,null,null,""]
[null,null,null,null,null,{"$f":"IF(E625=\"\",\"\",IF(E625>0,IF(MID(D625,8,3)=\"-101\",\"GPF Loan\",IF(MID(D625,8,4)=\"-105\",\"SI Loan\",(INDEX(New_Object_Head_1718,MATCH('Bill Register 20-21'!E625,Object_Code_bill_register,0)))))))","v":""},null,null,null,null,null,null,""]
[null,null,null,null,null,{"$f":"IF(E626=\"\",\"\",IF(E626>0,IF(MID(D626,8,3)=\"-101\",\"GPF Loan\",IF(MID(D626,8,4)=\"-105\",\"SI Loan\",(INDEX(New_Object_Head_1718,MATCH('Bill Register 20-21'!E626,Object_Code_bill_register,0)))))))","v":""},null,null,null,null,null,null,""]
[null,null,null,null,null,{"$f":"IF(E627=\"\",\"\",IF(E627>0,IF(MID(D627,8,3)=\"-101\",\"GPF Loan\",IF(MID(D627,8,4)=\"-105\",\"SI Loan\",(INDEX(New_Object_Head_1718,MATCH('Bill Register 20-21'!E627,Object_Code_bill_register,0)))))))","v":""},null,null,null,null,null,null,""]
[null,null,null,null,null,{"$f":"IF(E628=\"\",\"\",IF(E628>0,IF(MID(D628,8,3)=\"-101\",\"GPF Loan\",IF(MID(D628,8,4)=\"-105\",\"SI Loan\",(INDEX(New_Object_Head_1718,MATCH('Bill Register 20-21'!E628,Object_Code_bill_register,0)))))))","v":""},null,null,null,null,null,null,""]
[null,null,null,null,null,{"$f":"IF(E629=\"\",\"\",IF(E629>0,IF(MID(D629,8,3)=\"-101\",\"GPF Loan\",IF(MID(D629,8,4)=\"-105\",\"SI Loan\",(INDEX(New_Object_Head_1718,MATCH('Bill Register 20-21'!E629,Object_Code_bill_register,0)))))))","v":""},null,null,null,null,null,null,""]
[null,null,null,null,null,{"$f":"IF(E630=\"\",\"\",IF(E630>0,IF(MID(D630,8,3)=\"-101\",\"GPF Loan\",IF(MID(D630,8,4)=\"-105\",\"SI Loan\",(INDEX(New_Object_Head_1718,MATCH('Bill Register 20-21'!E630,Object_Code_bill_register,0)))))))","v":""},null,null,null,null,null,null,""]
[null,null,null,null,null,{"$f":"IF(E631=\"\",\"\",IF(E631>0,IF(MID(D631,8,3)=\"-101\",\"GPF Loan\",IF(MID(D631,8,4)=\"-105\",\"SI Loan\",(INDEX(New_Object_Head_1718,MATCH('Bill Register 20-21'!E631,Object_Code_bill_register,0)))))))","v":""},null,null,null,null,null,null,""]
[null,null,null,null,null,{"$f":"IF(E632=\"\",\"\",IF(E632>0,IF(MID(D632,8,3)=\"-101\",\"GPF Loan\",IF(MID(D632,8,4)=\"-105\",\"SI Loan\",(INDEX(New_Object_Head_1718,MATCH('Bill Register 20-21'!E632,Object_Code_bill_register,0)))))))","v":""},null,null,null,null,null,null,""]
[null,null,null,null,null,{"$f":"IF(E633=\"\",\"\",IF(E633>0,IF(MID(D633,8,3)=\"-101\",\"GPF Loan\",IF(MID(D633,8,4)=\"-105\",\"SI Loan\",(INDEX(New_Object_Head_1718,MATCH('Bill Register 20-21'!E633,Object_Code_bill_register,0)))))))","v":""},null,null,null,null,null,null,""]
[null,null,null,null,null,{"$f":"IF(E634=\"\",\"\",IF(E634>0,IF(MID(D634,8,3)=\"-101\",\"GPF Loan\",IF(MID(D634,8,4)=\"-105\",\"SI Loan\",(INDEX(New_Object_Head_1718,MATCH('Bill Register 20-21'!E634,Object_Code_bill_register,0)))))))","v":""},null,null,null,null,null,null,""]
[null,null,null,null,null,{"$f":"IF(E635=\"\",\"\",IF(E635>0,IF(MID(D635,8,3)=\"-101\",\"GPF Loan\",IF(MID(D635,8,4)=\"-105\",\"SI Loan\",(INDEX(New_Object_Head_1718,MATCH('Bill Register 20-21'!E635,Object_Code_bill_register,0)))))))","v":""},null,null,null,null,null,null,""]
[null,null,null,null,null,{"$f":"IF(E636=\"\",\"\",IF(E636>0,IF(MID(D636,8,3)=\"-101\",\"GPF Loan\",IF(MID(D636,8,4)=\"-105\",\"SI Loan\",(INDEX(New_Object_Head_1718,MATCH('Bill Register 20-21'!E636,Object_Code_bill_register,0)))))))","v":""},null,null,null,null,null,null,""]
[null,null,null,null,null,{"$f":"IF(E637=\"\",\"\",IF(E637>0,IF(MID(D637,8,3)=\"-101\",\"GPF Loan\",IF(MID(D637,8,4)=\"-105\",\"SI Loan\",(INDEX(New_Object_Head_1718,MATCH('Bill Register 20-21'!E637,Object_Code_bill_register,0)))))))","v":""},null,null,null,null,null,null,""]
[null,null,null,null,null,{"$f":"IF(E638=\"\",\"\",IF(E638>0,IF(MID(D638,8,3)=\"-101\",\"GPF Loan\",IF(MID(D638,8,4)=\"-105\",\"SI Loan\",(INDEX(New_Object_Head_1718,MATCH('Bill Register 20-21'!E638,Object_Code_bill_register,0)))))))","v":""},null,null,null,null,null,null,""]
[null,null,null,null,null,{"$f":"IF(E639=\"\",\"\",IF(E639>0,IF(MID(D639,8,3)=\"-101\",\"GPF Loan\",IF(MID(D639,8,4)=\"-105\",\"SI Loan\",(INDEX(New_Object_Head_1718,MATCH('Bill Register 20-21'!E639,Object_Code_bill_register,0)))))))","v":""},null,null,null,null,null,null,""]
[null,null,null,null,null,{"$f":"IF(E640=\"\",\"\",IF(E640>0,IF(MID(D640,8,3)=\"-101\",\"GPF Loan\",IF(MID(D640,8,4)=\"-105\",\"SI Loan\",(INDEX(New_Object_Head_1718,MATCH('Bill Register 20-21'!E640,Object_Code_bill_register,0)))))))","v":""},null,null,null,null,null,null,""]
[null,null,null,null,null,{"$f":"IF(E641=\"\",\"\",IF(E641>0,IF(MID(D641,8,3)=\"-101\",\"GPF Loan\",IF(MID(D641,8,4)=\"-105\",\"SI Loan\",(INDEX(New_Object_Head_1718,MATCH('Bill Register 20-21'!E641,Object_Code_bill_register,0)))))))","v":""},null,null,null,null,null,null,""]
[null,null,null,null,null,{"$f":"IF(E642=\"\",\"\",IF(E642>0,IF(MID(D642,8,3)=\"-101\",\"GPF Loan\",IF(MID(D642,8,4)=\"-105\",\"SI Loan\",(INDEX(New_Object_Head_1718,MATCH('Bill Register 20-21'!E642,Object_Code_bill_register,0)))))))","v":""},null,null,null,null,null,null,""]
[null,null,null,null,null,{"$f":"IF(E643=\"\",\"\",IF(E643>0,IF(MID(D643,8,3)=\"-101\",\"GPF Loan\",IF(MID(D643,8,4)=\"-105\",\"SI Loan\",(INDEX(New_Object_Head_1718,MATCH('Bill Register 20-21'!E643,Object_Code_bill_register,0)))))))","v":""},null,null,null,null,null,null,""]
[null,null,null,null,null,{"$f":"IF(E644=\"\",\"\",IF(E644>0,IF(MID(D644,8,3)=\"-101\",\"GPF Loan\",IF(MID(D644,8,4)=\"-105\",\"SI Loan\",(INDEX(New_Object_Head_1718,MATCH('Bill Register 20-21'!E644,Object_Code_bill_register,0)))))))","v":""},null,null,null,null,null,null,{"$f":"IF(L644=\"\",\"\",EOMONTH(L644,0))","v":""}]
[null,null,null,null,null,{"$f":"IF(E645=\"\",\"\",IF(E645>0,IF(MID(D645,8,3)=\"-101\",\"GPF Loan\",IF(MID(D645,8,4)=\"-105\",\"SI Loan\",(INDEX(New_Object_Head_1718,MATCH('Bill Register 20-21'!E645,Object_Code_bill_register,0)))))))","v":""},null,null,null,null,null,null,""]
[null,null,null,null,null,{"$f":"IF(E646=\"\",\"\",IF(E646>0,IF(MID(D646,8,3)=\"-101\",\"GPF Loan\",IF(MID(D646,8,4)=\"-105\",\"SI Loan\",(INDEX(New_Object_Head_1718,MATCH('Bill Register 20-21'!E646,Object_Code_bill_register,0)))))))","v":""},null,null,null,null,null,null,""]
[null,null,null,null,null,{"$f":"IF(E647=\"\",\"\",IF(E647>0,IF(MID(D647,8,3)=\"-101\",\"GPF Loan\",IF(MID(D647,8,4)=\"-105\",\"SI Loan\",(INDEX(New_Object_Head_1718,MATCH('Bill Register 20-21'!E647,Object_Code_bill_register,0)))))))","v":""},null,null,null,null,null,null,""]
[null,null,null,null,null,{"$f":"IF(E648=\"\",\"\",IF(E648>0,IF(MID(D648,8,3)=\"-101\",\"GPF Loan\",IF(MID(D648,8,4)=\"-105\",\"SI Loan\",(INDEX(New_Object_Head_1718,MATCH('Bill Register 20-21'!E648,Object_Code_bill_register,0)))))))","v":""},null,null,null,null,null,null,""]
[null,null,null,null,null,{"$f":"IF(E649=\"\",\"\",IF(E649>0,IF(MID(D649,8,3)=\"-101\",\"GPF Loan\",IF(MID(D649,8,4)=\"-105\",\"SI Loan\",(INDEX(New_Object_Head_1718,MATCH('Bill Register 20-21'!E649,Object_Code_bill_register,0)))))))","v":""},null,null,null,null,null,null,""]
[null,null,null,null,null,{"$f":"IF(E650=\"\",\"\",IF(E650>0,IF(MID(D650,8,3)=\"-101\",\"GPF Loan\",IF(MID(D650,8,4)=\"-105\",\"SI Loan\",(INDEX(New_Object_Head_1718,MATCH('Bill Register 20-21'!E650,Object_Code_bill_register,0)))))))","v":""},null,null,null,null,null,null,""]
[null,null,null,null,null,{"$f":"IF(E651=\"\",\"\",IF(E651>0,IF(MID(D651,8,3)=\"-101\",\"GPF Loan\",IF(MID(D651,8,4)=\"-105\",\"SI Loan\",(INDEX(New_Object_Head_1718,MATCH('Bill Register 20-21'!E651,Object_Code_bill_register,0)))))))","v":""},null,null,null,null,null,null,""]
[null,null,null,null,null,{"$f":"IF(E652=\"\",\"\",IF(E652>0,IF(MID(D652,8,3)=\"-101\",\"GPF Loan\",IF(MID(D652,8,4)=\"-105\",\"SI Loan\",(INDEX(New_Object_Head_1718,MATCH('Bill Register 20-21'!E652,Object_Code_bill_register,0)))))))","v":""},null,null,null,null,null,null,""]
[null,null,null,null,null,{"$f":"IF(E653=\"\",\"\",IF(E653>0,IF(MID(D653,8,3)=\"-101\",\"GPF Loan\",IF(MID(D653,8,4)=\"-105\",\"SI Loan\",(INDEX(New_Object_Head_1718,MATCH('Bill Register 20-21'!E653,Object_Code_bill_register,0)))))))","v":""},null,null,null,null,null,null,""]
[null,null,null,null,null,{"$f":"IF(E654=\"\",\"\",IF(E654>0,IF(MID(D654,8,3)=\"-101\",\"GPF Loan\",IF(MID(D654,8,4)=\"-105\",\"SI Loan\",(INDEX(New_Object_Head_1718,MATCH('Bill Register 20-21'!E654,Object_Code_bill_register,0)))))))","v":""},null,null,null,null,null,null,""]
[null,null,null,null,null,{"$f":"IF(E655=\"\",\"\",IF(E655>0,IF(MID(D655,8,3)=\"-101\",\"GPF Loan\",IF(MID(D655,8,4)=\"-105\",\"SI Loan\",(INDEX(New_Object_Head_1718,MATCH('Bill Register 20-21'!E655,Object_Code_bill_register,0)))))))","v":""},null,null,null,null,null,null,""]
[null,null,null,null,null,{"$f":"IF(E656=\"\",\"\",IF(E656>0,IF(MID(D656,8,3)=\"-101\",\"GPF Loan\",IF(MID(D656,8,4)=\"-105\",\"SI Loan\",(INDEX(New_Object_Head_1718,MATCH('Bill Register 20-21'!E656,Object_Code_bill_register,0)))))))","v":""},null,null,null,null,null,null,""]
[null,null,null,null,null,{"$f":"IF(E657=\"\",\"\",IF(E657>0,IF(MID(D657,8,3)=\"-101\",\"GPF Loan\",IF(MID(D657,8,4)=\"-105\",\"SI Loan\",(INDEX(New_Object_Head_1718,MATCH('Bill Register 20-21'!E657,Object_Code_bill_register,0)))))))","v":""},null,null,null,null,null,null,""]
[null,null,null,null,null,{"$f":"IF(E658=\"\",\"\",IF(E658>0,IF(MID(D658,8,3)=\"-101\",\"GPF Loan\",IF(MID(D658,8,4)=\"-105\",\"SI Loan\",(INDEX(New_Object_Head_1718,MATCH('Bill Register 20-21'!E658,Object_Code_bill_register,0)))))))","v":""},null,null,null,null,null,null,""]
[null,null,null,null,null,{"$f":"IF(E659=\"\",\"\",IF(E659>0,IF(MID(D659,8,3)=\"-101\",\"GPF Loan\",IF(MID(D659,8,4)=\"-105\",\"SI Loan\",(INDEX(New_Object_Head_1718,MATCH('Bill Register 20-21'!E659,Object_Code_bill_register,0)))))))","v":""},null,null,null,null,null,null,""]
[null,null,null,null,null,{"$f":"IF(E660=\"\",\"\",IF(E660>0,IF(MID(D660,8,3)=\"-101\",\"GPF Loan\",IF(MID(D660,8,4)=\"-105\",\"SI Loan\",(INDEX(New_Object_Head_1718,MATCH('Bill Register 20-21'!E660,Object_Code_bill_register,0)))))))","v":""},null,null,null,null,null,null,""]
[null,null,null,null,null,{"$f":"IF(E661=\"\",\"\",IF(E661>0,IF(MID(D661,8,3)=\"-101\",\"GPF Loan\",IF(MID(D661,8,4)=\"-105\",\"SI Loan\",(INDEX(New_Object_Head_1718,MATCH('Bill Register 20-21'!E661,Object_Code_bill_register,0)))))))","v":""},null,null,null,null,null,null,""]
[null,null,null,null,null,{"$f":"IF(E662=\"\",\"\",IF(E662>0,IF(MID(D662,8,3)=\"-101\",\"GPF Loan\",IF(MID(D662,8,4)=\"-105\",\"SI Loan\",(INDEX(New_Object_Head_1718,MATCH('Bill Register 20-21'!E662,Object_Code_bill_register,0)))))))","v":""},null,null,null,null,null,null,""]
[null,null,null,null,null,{"$f":"IF(E663=\"\",\"\",IF(E663>0,IF(MID(D663,8,3)=\"-101\",\"GPF Loan\",IF(MID(D663,8,4)=\"-105\",\"SI Loan\",(INDEX(New_Object_Head_1718,MATCH('Bill Register 20-21'!E663,Object_Code_bill_register,0)))))))","v":""},null,null,null,null,null,null,""]
[null,null,null,null,null,{"$f":"IF(E664=\"\",\"\",IF(E664>0,IF(MID(D664,8,3)=\"-101\",\"GPF Loan\",IF(MID(D664,8,4)=\"-105\",\"SI Loan\",(INDEX(New_Object_Head_1718,MATCH('Bill Register 20-21'!E664,Object_Code_bill_register,0)))))))","v":""},null,null,null,null,null,null,""]
[null,null,null,null,null,{"$f":"IF(E665=\"\",\"\",IF(E665>0,IF(MID(D665,8,3)=\"-101\",\"GPF Loan\",IF(MID(D665,8,4)=\"-105\",\"SI Loan\",(INDEX(New_Object_Head_1718,MATCH('Bill Register 20-21'!E665,Object_Code_bill_register,0)))))))","v":""},null,null,null,null,null,null,""]
[null,null,null,null,null,{"$f":"IF(E666=\"\",\"\",IF(E666>0,IF(MID(D666,8,3)=\"-101\",\"GPF Loan\",IF(MID(D666,8,4)=\"-105\",\"SI Loan\",(INDEX(New_Object_Head_1718,MATCH('Bill Register 20-21'!E666,Object_Code_bill_register,0)))))))","v":""},null,null,null,null,null,null,""]
[null,null,null,null,null,{"$f":"IF(E667=\"\",\"\",IF(E667>0,IF(MID(D667,8,3)=\"-101\",\"GPF Loan\",IF(MID(D667,8,4)=\"-105\",\"SI Loan\",(INDEX(New_Object_Head_1718,MATCH('Bill Register 20-21'!E667,Object_Code_bill_register,0)))))))","v":""},null,null,null,null,null,null,""]
[null,null,null,null,null,{"$f":"IF(E668=\"\",\"\",IF(E668>0,IF(MID(D668,8,3)=\"-101\",\"GPF Loan\",IF(MID(D668,8,4)=\"-105\",\"SI Loan\",(INDEX(New_Object_Head_1718,MATCH('Bill Register 20-21'!E668,Object_Code_bill_register,0)))))))","v":""},null,null,null,null,null,null,""]
[null,null,null,null,null,{"$f":"IF(E669=\"\",\"\",IF(E669>0,IF(MID(D669,8,3)=\"-101\",\"GPF Loan\",IF(MID(D669,8,4)=\"-105\",\"SI Loan\",(INDEX(New_Object_Head_1718,MATCH('Bill Register 20-21'!E669,Object_Code_bill_register,0)))))))","v":""},null,null,null,null,null,null,""]
[null,null,null,null,null,{"$f":"IF(E670=\"\",\"\",IF(E670>0,IF(MID(D670,8,3)=\"-101\",\"GPF Loan\",IF(MID(D670,8,4)=\"-105\",\"SI Loan\",(INDEX(New_Object_Head_1718,MATCH('Bill Register 20-21'!E670,Object_Code_bill_register,0)))))))","v":""},null,null,null,null,null,null,""]
[null,null,null,null,null,{"$f":"IF(E671=\"\",\"\",IF(E671>0,IF(MID(D671,8,3)=\"-101\",\"GPF Loan\",IF(MID(D671,8,4)=\"-105\",\"SI Loan\",(INDEX(New_Object_Head_1718,MATCH('Bill Register 20-21'!E671,Object_Code_bill_register,0)))))))","v":""},null,null,null,null,null,null,""]
[null,null,null,null,null,{"$f":"IF(E672=\"\",\"\",IF(E672>0,IF(MID(D672,8,3)=\"-101\",\"GPF Loan\",IF(MID(D672,8,4)=\"-105\",\"SI Loan\",(INDEX(New_Object_Head_1718,MATCH('Bill Register 20-21'!E672,Object_Code_bill_register,0)))))))","v":""},null,null,null,null,null,null,""]
[null,null,null,null,null,{"$f":"IF(E673=\"\",\"\",IF(E673>0,IF(MID(D673,8,3)=\"-101\",\"GPF Loan\",IF(MID(D673,8,4)=\"-105\",\"SI Loan\",(INDEX(New_Object_Head_1718,MATCH('Bill Register 20-21'!E673,Object_Code_bill_register,0)))))))","v":""},null,null,null,null,null,null,""]
[null,null,null,null,null,{"$f":"IF(E674=\"\",\"\",IF(E674>0,IF(MID(D674,8,3)=\"-101\",\"GPF Loan\",IF(MID(D674,8,4)=\"-105\",\"SI Loan\",(INDEX(New_Object_Head_1718,MATCH('Bill Register 20-21'!E674,Object_Code_bill_register,0)))))))","v":""},null,null,null,null,null,null,""]
[null,null,null,null,null,{"$f":"IF(E675=\"\",\"\",IF(E675>0,IF(MID(D675,8,3)=\"-101\",\"GPF Loan\",IF(MID(D675,8,4)=\"-105\",\"SI Loan\",(INDEX(New_Object_Head_1718,MATCH('Bill Register 20-21'!E675,Object_Code_bill_register,0)))))))","v":""},null,null,null,null,null,null,""]
[null,null,null,null,null,{"$f":"IF(E676=\"\",\"\",IF(E676>0,IF(MID(D676,8,3)=\"-101\",\"GPF Loan\",IF(MID(D676,8,4)=\"-105\",\"SI Loan\",(INDEX(New_Object_Head_1718,MATCH('Bill Register 20-21'!E676,Object_Code_bill_register,0)))))))","v":""},null,null,null,null,null,null,""]
[null,null,null,null,null,{"$f":"IF(E677=\"\",\"\",IF(E677>0,IF(MID(D677,8,3)=\"-101\",\"GPF Loan\",IF(MID(D677,8,4)=\"-105\",\"SI Loan\",(INDEX(New_Object_Head_1718,MATCH('Bill Register 20-21'!E677,Object_Code_bill_register,0)))))))","v":""},null,null,null,null,null,null,""]
[null,null,null,null,null,{"$f":"IF(E678=\"\",\"\",IF(E678>0,IF(MID(D678,8,3)=\"-101\",\"GPF Loan\",IF(MID(D678,8,4)=\"-105\",\"SI Loan\",(INDEX(New_Object_Head_1718,MATCH('Bill Register 20-21'!E678,Object_Code_bill_register,0)))))))","v":""},null,null,null,null,null,null,""]
[null,null,null,null,null,{"$f":"IF(E679=\"\",\"\",IF(E679>0,IF(MID(D679,8,3)=\"-101\",\"GPF Loan\",IF(MID(D679,8,4)=\"-105\",\"SI Loan\",(INDEX(New_Object_Head_1718,MATCH('Bill Register 20-21'!E679,Object_Code_bill_register,0)))))))","v":""},null,null,null,null,null,null,""]
[null,null,null,null,null,{"$f":"IF(E680=\"\",\"\",IF(E680>0,IF(MID(D680,8,3)=\"-101\",\"GPF Loan\",IF(MID(D680,8,4)=\"-105\",\"SI Loan\",(INDEX(New_Object_Head_1718,MATCH('Bill Register 20-21'!E680,Object_Code_bill_register,0)))))))","v":""},null,null,null,null,null,null,""]
[null,null,null,null,null,{"$f":"IF(E681=\"\",\"\",IF(E681>0,IF(MID(D681,8,3)=\"-101\",\"GPF Loan\",IF(MID(D681,8,4)=\"-105\",\"SI Loan\",(INDEX(New_Object_Head_1718,MATCH('Bill Register 20-21'!E681,Object_Code_bill_register,0)))))))","v":""},null,null,null,null,null,null,""]
[null,null,null,null,null,{"$f":"IF(E682=\"\",\"\",IF(E682>0,IF(MID(D682,8,3)=\"-101\",\"GPF Loan\",IF(MID(D682,8,4)=\"-105\",\"SI Loan\",(INDEX(New_Object_Head_1718,MATCH('Bill Register 20-21'!E682,Object_Code_bill_register,0)))))))","v":""},null,null,null,null,null,null,""]
[null,null,null,null,null,{"$f":"IF(E683=\"\",\"\",IF(E683>0,IF(MID(D683,8,3)=\"-101\",\"GPF Loan\",IF(MID(D683,8,4)=\"-105\",\"SI Loan\",(INDEX(New_Object_Head_1718,MATCH('Bill Register 20-21'!E683,Object_Code_bill_register,0)))))))","v":""},null,null,null,null,null,null,""]
[null,null,null,null,null,{"$f":"IF(E684=\"\",\"\",IF(E684>0,IF(MID(D684,8,3)=\"-101\",\"GPF Loan\",IF(MID(D684,8,4)=\"-105\",\"SI Loan\",(INDEX(New_Object_Head_1718,MATCH('Bill Register 20-21'!E684,Object_Code_bill_register,0)))))))","v":""},null,null,null,null,null,null,""]
[null,null,null,null,null,{"$f":"IF(E685=\"\",\"\",IF(E685>0,IF(MID(D685,8,3)=\"-101\",\"GPF Loan\",IF(MID(D685,8,4)=\"-105\",\"SI Loan\",(INDEX(New_Object_Head_1718,MATCH('Bill Register 20-21'!E685,Object_Code_bill_register,0)))))))","v":""},null,null,null,null,null,null,""]
[null,null,null,null,null,{"$f":"IF(E686=\"\",\"\",IF(E686>0,IF(MID(D686,8,3)=\"-101\",\"GPF Loan\",IF(MID(D686,8,4)=\"-105\",\"SI Loan\",(INDEX(New_Object_Head_1718,MATCH('Bill Register 20-21'!E686,Object_Code_bill_register,0)))))))","v":""},null,null,null,null,null,null,""]
[null,null,null,null,null,{"$f":"IF(E687=\"\",\"\",IF(E687>0,IF(MID(D687,8,3)=\"-101\",\"GPF Loan\",IF(MID(D687,8,4)=\"-105\",\"SI Loan\",(INDEX(New_Object_Head_1718,MATCH('Bill Register 20-21'!E687,Object_Code_bill_register,0)))))))","v":""},null,null,null,null,null,null,""]
[null,null,null,null,null,{"$f":"IF(E688=\"\",\"\",IF(E688>0,IF(MID(D688,8,3)=\"-101\",\"GPF Loan\",IF(MID(D688,8,4)=\"-105\",\"SI Loan\",(INDEX(New_Object_Head_1718,MATCH('Bill Register 20-21'!E688,Object_Code_bill_register,0)))))))","v":""},null,null,null,null,null,null,""]
[null,null,null,null,null,{"$f":"IF(E689=\"\",\"\",IF(E689>0,IF(MID(D689,8,3)=\"-101\",\"GPF Loan\",IF(MID(D689,8,4)=\"-105\",\"SI Loan\",(INDEX(New_Object_Head_1718,MATCH('Bill Register 20-21'!E689,Object_Code_bill_register,0)))))))","v":""},null,null,null,null,null,null,""]
[null,null,null,null,null,{"$f":"IF(E690=\"\",\"\",IF(E690>0,IF(MID(D690,8,3)=\"-101\",\"GPF Loan\",IF(MID(D690,8,4)=\"-105\",\"SI Loan\",(INDEX(New_Object_Head_1718,MATCH('Bill Register 20-21'!E690,Object_Code_bill_register,0)))))))","v":""},null,null,null,null,null,null,""]
[null,null,null,null,null,{"$f":"IF(E691=\"\",\"\",IF(E691>0,IF(MID(D691,8,3)=\"-101\",\"GPF Loan\",IF(MID(D691,8,4)=\"-105\",\"SI Loan\",(INDEX(New_Object_Head_1718,MATCH('Bill Register 20-21'!E691,Object_Code_bill_register,0)))))))","v":""},null,null,null,null,null,null,""]
[null,null,null,null,null,{"$f":"IF(E692=\"\",\"\",IF(E692>0,IF(MID(D692,8,3)=\"-101\",\"GPF Loan\",IF(MID(D692,8,4)=\"-105\",\"SI Loan\",(INDEX(New_Object_Head_1718,MATCH('Bill Register 20-21'!E692,Object_Code_bill_register,0)))))))","v":""},null,null,null,null,null,null,""]
[null,null,null,null,null,{"$f":"IF(E693=\"\",\"\",IF(E693>0,IF(MID(D693,8,3)=\"-101\",\"GPF Loan\",IF(MID(D693,8,4)=\"-105\",\"SI Loan\",(INDEX(New_Object_Head_1718,MATCH('Bill Register 20-21'!E693,Object_Code_bill_register,0)))))))","v":""},null,null,null,null,null,null,""]
[null,null,null,null,null,{"$f":"IF(E694=\"\",\"\",IF(E694>0,IF(MID(D694,8,3)=\"-101\",\"GPF Loan\",IF(MID(D694,8,4)=\"-105\",\"SI Loan\",(INDEX(New_Object_Head_1718,MATCH('Bill Register 20-21'!E694,Object_Code_bill_register,0)))))))","v":""},null,null,null,null,null,null,""]
[null,null,null,null,null,{"$f":"IF(E695=\"\",\"\",IF(E695>0,IF(MID(D695,8,3)=\"-101\",\"GPF Loan\",IF(MID(D695,8,4)=\"-105\",\"SI Loan\",(INDEX(New_Object_Head_1718,MATCH('Bill Register 20-21'!E695,Object_Code_bill_register,0)))))))","v":""},null,null,null,null,null,null,""]
[null,null,null,null,null,{"$f":"IF(E696=\"\",\"\",IF(E696>0,IF(MID(D696,8,3)=\"-101\",\"GPF Loan\",IF(MID(D696,8,4)=\"-105\",\"SI Loan\",(INDEX(New_Object_Head_1718,MATCH('Bill Register 20-21'!E696,Object_Code_bill_register,0)))))))","v":""},null,null,null,null,null,null,""]
[null,null,null,null,null,{"$f":"IF(E697=\"\",\"\",IF(E697>0,IF(MID(D697,8,3)=\"-101\",\"GPF Loan\",IF(MID(D697,8,4)=\"-105\",\"SI Loan\",(INDEX(New_Object_Head_1718,MATCH('Bill Register 20-21'!E697,Object_Code_bill_register,0)))))))","v":""},null,null,null,null,null,null,""]
[null,null,null,null,null,{"$f":"IF(E698=\"\",\"\",IF(E698>0,IF(MID(D698,8,3)=\"-101\",\"GPF Loan\",IF(MID(D698,8,4)=\"-105\",\"SI Loan\",(INDEX(New_Object_Head_1718,MATCH('Bill Register 20-21'!E698,Object_Code_bill_register,0)))))))","v":""},null,null,null,null,null,null,""]
[null,null,null,null,null,{"$f":"IF(E699=\"\",\"\",IF(E699>0,IF(MID(D699,8,3)=\"-101\",\"GPF Loan\",IF(MID(D699,8,4)=\"-105\",\"SI Loan\",(INDEX(New_Object_Head_1718,MATCH('Bill Register 20-21'!E699,Object_Code_bill_register,0)))))))","v":""},null,null,null,null,null,null,""]
[null,null,null,null,null,{"$f":"IF(E700=\"\",\"\",IF(E700>0,IF(MID(D700,8,3)=\"-101\",\"GPF Loan\",IF(MID(D700,8,4)=\"-105\",\"SI Loan\",(INDEX(New_Object_Head_1718,MATCH('Bill Register 20-21'!E700,Object_Code_bill_register,0)))))))","v":""},null,null,null,null,null,null,""]
[null,null,null,null,null,{"$f":"IF(E701=\"\",\"\",IF(E701>0,IF(MID(D701,8,3)=\"-101\",\"GPF Loan\",IF(MID(D701,8,4)=\"-105\",\"SI Loan\",(INDEX(New_Object_Head_1718,MATCH('Bill Register 20-21'!E701,Object_Code_bill_register,0)))))))","v":""},null,null,null,null,null,null,""]
[null,null,null,null,null,{"$f":"IF(E702=\"\",\"\",IF(E702>0,IF(MID(D702,8,3)=\"-101\",\"GPF Loan\",IF(MID(D702,8,4)=\"-105\",\"SI Loan\",(INDEX(New_Object_Head_1718,MATCH('Bill Register 20-21'!E702,Object_Code_bill_register,0)))))))","v":""},null,null,null,null,null,null,""]
[null,null,null,null,null,{"$f":"IF(E703=\"\",\"\",IF(E703>0,IF(MID(D703,8,3)=\"-101\",\"GPF Loan\",IF(MID(D703,8,4)=\"-105\",\"SI Loan\",(INDEX(New_Object_Head_1718,MATCH('Bill Register 20-21'!E703,Object_Code_bill_register,0)))))))","v":""},null,null,null,null,null,null,""]
[null,null,null,null,null,{"$f":"IF(E704=\"\",\"\",IF(E704>0,IF(MID(D704,8,3)=\"-101\",\"GPF Loan\",IF(MID(D704,8,4)=\"-105\",\"SI Loan\",(INDEX(New_Object_Head_1718,MATCH('Bill Register 20-21'!E704,Object_Code_bill_register,0)))))))","v":""},null,null,null,null,null,null,""]
[null,null,null,null,null,{"$f":"IF(E705=\"\",\"\",IF(E705>0,IF(MID(D705,8,3)=\"-101\",\"GPF Loan\",IF(MID(D705,8,4)=\"-105\",\"SI Loan\",(INDEX(New_Object_Head_1718,MATCH('Bill Register 20-21'!E705,Object_Code_bill_register,0)))))))","v":""},null,null,null,null,null,null,""]
[null,null,null,null,null,{"$f":"IF(E706=\"\",\"\",IF(E706>0,IF(MID(D706,8,3)=\"-101\",\"GPF Loan\",IF(MID(D706,8,4)=\"-105\",\"SI Loan\",(INDEX(New_Object_Head_1718,MATCH('Bill Register 20-21'!E706,Object_Code_bill_register,0)))))))","v":""},null,null,null,null,null,null,""]
[null,null,null,null,null,{"$f":"IF(E707=\"\",\"\",IF(E707>0,IF(MID(D707,8,3)=\"-101\",\"GPF Loan\",IF(MID(D707,8,4)=\"-105\",\"SI Loan\",(INDEX(New_Object_Head_1718,MATCH('Bill Register 20-21'!E707,Object_Code_bill_register,0)))))))","v":""},null,null,null,null,null,null,""]
[null,null,null,null,null,{"$f":"IF(E708=\"\",\"\",IF(E708>0,IF(MID(D708,8,3)=\"-101\",\"GPF Loan\",IF(MID(D708,8,4)=\"-105\",\"SI Loan\",(INDEX(New_Object_Head_1718,MATCH('Bill Register 20-21'!E708,Object_Code_bill_register,0)))))))","v":""},null,null,null,null,null,null,{"$f":"IF(L708=\"\",\"\",EOMONTH(L708,0))","v":""}]
[null,null,null,null,null,{"$f":"IF(E709=\"\",\"\",IF(E709>0,IF(MID(D709,8,3)=\"-101\",\"GPF Loan\",IF(MID(D709,8,4)=\"-105\",\"SI Loan\",(INDEX(New_Object_Head_1718,MATCH('Bill Register 20-21'!E709,Object_Code_bill_register,0)))))))","v":""},null,null,null,null,null,null,""]
[null,null,null,null,null,{"$f":"IF(E710=\"\",\"\",IF(E710>0,IF(MID(D710,8,3)=\"-101\",\"GPF Loan\",IF(MID(D710,8,4)=\"-105\",\"SI Loan\",(INDEX(New_Object_Head_1718,MATCH('Bill Register 20-21'!E710,Object_Code_bill_register,0)))))))","v":""},null,null,null,null,null,null,""]
[null,null,null,null,null,{"$f":"IF(E711=\"\",\"\",IF(E711>0,IF(MID(D711,8,3)=\"-101\",\"GPF Loan\",IF(MID(D711,8,4)=\"-105\",\"SI Loan\",(INDEX(New_Object_Head_1718,MATCH('Bill Register 20-21'!E711,Object_Code_bill_register,0)))))))","v":""},null,null,null,null,null,null,""]
[null,null,null,null,null,{"$f":"IF(E712=\"\",\"\",IF(E712>0,IF(MID(D712,8,3)=\"-101\",\"GPF Loan\",IF(MID(D712,8,4)=\"-105\",\"SI Loan\",(INDEX(New_Object_Head_1718,MATCH('Bill Register 20-21'!E712,Object_Code_bill_register,0)))))))","v":""},null,null,null,null,null,null,""]
[null,null,null,null,null,{"$f":"IF(E713=\"\",\"\",IF(E713>0,IF(MID(D713,8,3)=\"-101\",\"GPF Loan\",IF(MID(D713,8,4)=\"-105\",\"SI Loan\",(INDEX(New_Object_Head_1718,MATCH('Bill Register 20-21'!E713,Object_Code_bill_register,0)))))))","v":""},null,null,null,null,null,null,""]
[null,null,null,null,null,{"$f":"IF(E714=\"\",\"\",IF(E714>0,IF(MID(D714,8,3)=\"-101\",\"GPF Loan\",IF(MID(D714,8,4)=\"-105\",\"SI Loan\",(INDEX(New_Object_Head_1718,MATCH('Bill Register 20-21'!E714,Object_Code_bill_register,0)))))))","v":""},null,null,null,null,null,null,""]
[null,null,null,null,null,{"$f":"IF(E715=\"\",\"\",IF(E715>0,IF(MID(D715,8,3)=\"-101\",\"GPF Loan\",IF(MID(D715,8,4)=\"-105\",\"SI Loan\",(INDEX(New_Object_Head_1718,MATCH('Bill Register 20-21'!E715,Object_Code_bill_register,0)))))))","v":""},null,null,null,null,null,null,""]
[null,null,null,null,null,{"$f":"IF(E716=\"\",\"\",IF(E716>0,IF(MID(D716,8,3)=\"-101\",\"GPF Loan\",IF(MID(D716,8,4)=\"-105\",\"SI Loan\",(INDEX(New_Object_Head_1718,MATCH('Bill Register 20-21'!E716,Object_Code_bill_register,0)))))))","v":""},null,null,null,null,null,null,""]
[null,null,null,null,null,{"$f":"IF(E717=\"\",\"\",IF(E717>0,IF(MID(D717,8,3)=\"-101\",\"GPF Loan\",IF(MID(D717,8,4)=\"-105\",\"SI Loan\",(INDEX(New_Object_Head_1718,MATCH('Bill Register 20-21'!E717,Object_Code_bill_register,0)))))))","v":""},null,null,null,null,null,null,""]
[null,null,null,null,null,{"$f":"IF(E718=\"\",\"\",IF(E718>0,IF(MID(D718,8,3)=\"-101\",\"GPF Loan\",IF(MID(D718,8,4)=\"-105\",\"SI Loan\",(INDEX(New_Object_Head_1718,MATCH('Bill Register 20-21'!E718,Object_Code_bill_register,0)))))))","v":""},null,null,null,null,null,null,""]
[null,null,null,null,null,{"$f":"IF(E719=\"\",\"\",IF(E719>0,IF(MID(D719,8,3)=\"-101\",\"GPF Loan\",IF(MID(D719,8,4)=\"-105\",\"SI Loan\",(INDEX(New_Object_Head_1718,MATCH('Bill Register 20-21'!E719,Object_Code_bill_register,0)))))))","v":""},null,null,null,null,null,null,""]
[null,null,null,null,null,{"$f":"IF(E720=\"\",\"\",IF(E720>0,IF(MID(D720,8,3)=\"-101\",\"GPF Loan\",IF(MID(D720,8,4)=\"-105\",\"SI Loan\",(INDEX(New_Object_Head_1718,MATCH('Bill Register 20-21'!E720,Object_Code_bill_register,0)))))))","v":""},null,null,null,null,null,null,""]
[null,null,null,null,null,{"$f":"IF(E721=\"\",\"\",IF(E721>0,IF(MID(D721,8,3)=\"-101\",\"GPF Loan\",IF(MID(D721,8,4)=\"-105\",\"SI Loan\",(INDEX(New_Object_Head_1718,MATCH('Bill Register 20-21'!E721,Object_Code_bill_register,0)))))))","v":""},null,null,null,null,null,null,""]
[null,null,null,null,null,{"$f":"IF(E722=\"\",\"\",IF(E722>0,IF(MID(D722,8,3)=\"-101\",\"GPF Loan\",IF(MID(D722,8,4)=\"-105\",\"SI Loan\",(INDEX(New_Object_Head_1718,MATCH('Bill Register 20-21'!E722,Object_Code_bill_register,0)))))))","v":""},null,null,null,null,null,null,""]
[null,null,null,null,null,{"$f":"IF(E723=\"\",\"\",IF(E723>0,IF(MID(D723,8,3)=\"-101\",\"GPF Loan\",IF(MID(D723,8,4)=\"-105\",\"SI Loan\",(INDEX(New_Object_Head_1718,MATCH('Bill Register 20-21'!E723,Object_Code_bill_register,0)))))))","v":""},null,null,null,null,null,null,""]
[null,null,null,null,null,{"$f":"IF(E724=\"\",\"\",IF(E724>0,IF(MID(D724,8,3)=\"-101\",\"GPF Loan\",IF(MID(D724,8,4)=\"-105\",\"SI Loan\",(INDEX(New_Object_Head_1718,MATCH('Bill Register 20-21'!E724,Object_Code_bill_register,0)))))))","v":""},null,null,null,null,null,null,""]
[null,null,null,null,null,{"$f":"IF(E725=\"\",\"\",IF(E725>0,IF(MID(D725,8,3)=\"-101\",\"GPF Loan\",IF(MID(D725,8,4)=\"-105\",\"SI Loan\",(INDEX(New_Object_Head_1718,MATCH('Bill Register 20-21'!E725,Object_Code_bill_register,0)))))))","v":""},null,null,null,null,null,null,""]
[null,null,null,null,null,{"$f":"IF(E726=\"\",\"\",IF(E726>0,IF(MID(D726,8,3)=\"-101\",\"GPF Loan\",IF(MID(D726,8,4)=\"-105\",\"SI Loan\",(INDEX(New_Object_Head_1718,MATCH('Bill Register 20-21'!E726,Object_Code_bill_register,0)))))))","v":""},null,null,null,null,null,null,""]
[null,null,null,null,null,{"$f":"IF(E727=\"\",\"\",IF(E727>0,IF(MID(D727,8,3)=\"-101\",\"GPF Loan\",IF(MID(D727,8,4)=\"-105\",\"SI Loan\",(INDEX(New_Object_Head_1718,MATCH('Bill Register 20-21'!E727,Object_Code_bill_register,0)))))))","v":""},null,null,null,null,null,null,""]
[null,null,null,null,null,{"$f":"IF(E728=\"\",\"\",IF(E728>0,IF(MID(D728,8,3)=\"-101\",\"GPF Loan\",IF(MID(D728,8,4)=\"-105\",\"SI Loan\",(INDEX(New_Object_Head_1718,MATCH('Bill Register 20-21'!E728,Object_Code_bill_register,0)))))))","v":""},null,null,null,null,null,null,""]
[null,null,null,null,null,{"$f":"IF(E729=\"\",\"\",IF(E729>0,IF(MID(D729,8,3)=\"-101\",\"GPF Loan\",IF(MID(D729,8,4)=\"-105\",\"SI Loan\",(INDEX(New_Object_Head_1718,MATCH('Bill Register 20-21'!E729,Object_Code_bill_register,0)))))))","v":""},null,null,null,null,null,null,""]
[null,null,null,null,null,{"$f":"IF(E730=\"\",\"\",IF(E730>0,IF(MID(D730,8,3)=\"-101\",\"GPF Loan\",IF(MID(D730,8,4)=\"-105\",\"SI Loan\",(INDEX(New_Object_Head_1718,MATCH('Bill Register 20-21'!E730,Object_Code_bill_register,0)))))))","v":""},null,null,null,null,null,null,""]
[null,null,null,null,null,{"$f":"IF(E731=\"\",\"\",IF(E731>0,IF(MID(D731,8,3)=\"-101\",\"GPF Loan\",IF(MID(D731,8,4)=\"-105\",\"SI Loan\",(INDEX(New_Object_Head_1718,MATCH('Bill Register 20-21'!E731,Object_Code_bill_register,0)))))))","v":""},null,null,null,null,null,null,""]
[null,null,null,null,null,{"$f":"IF(E732=\"\",\"\",IF(E732>0,IF(MID(D732,8,3)=\"-101\",\"GPF Loan\",IF(MID(D732,8,4)=\"-105\",\"SI Loan\",(INDEX(New_Object_Head_1718,MATCH('Bill Register 20-21'!E732,Object_Code_bill_register,0)))))))","v":""},null,null,null,null,null,null,""]
[null,null,null,null,null,{"$f":"IF(E733=\"\",\"\",IF(E733>0,IF(MID(D733,8,3)=\"-101\",\"GPF Loan\",IF(MID(D733,8,4)=\"-105\",\"SI Loan\",(INDEX(New_Object_Head_1718,MATCH('Bill Register 20-21'!E733,Object_Code_bill_register,0)))))))","v":""},null,null,null,null,null,null,""]
[null,null,null,null,null,{"$f":"IF(E734=\"\",\"\",IF(E734>0,IF(MID(D734,8,3)=\"-101\",\"GPF Loan\",IF(MID(D734,8,4)=\"-105\",\"SI Loan\",(INDEX(New_Object_Head_1718,MATCH('Bill Register 20-21'!E734,Object_Code_bill_register,0)))))))","v":""},null,null,null,null,null,null,""]
[null,null,null,null,null,{"$f":"IF(E735=\"\",\"\",IF(E735>0,IF(MID(D735,8,3)=\"-101\",\"GPF Loan\",IF(MID(D735,8,4)=\"-105\",\"SI Loan\",(INDEX(New_Object_Head_1718,MATCH('Bill Register 20-21'!E735,Object_Code_bill_register,0)))))))","v":""},null,null,null,null,null,null,""]
[null,null,null,null,null,{"$f":"IF(E736=\"\",\"\",IF(E736>0,IF(MID(D736,8,3)=\"-101\",\"GPF Loan\",IF(MID(D736,8,4)=\"-105\",\"SI Loan\",(INDEX(New_Object_Head_1718,MATCH('Bill Register 20-21'!E736,Object_Code_bill_register,0)))))))","v":""},null,null,null,null,null,null,""]
[null,null,null,null,null,{"$f":"IF(E737=\"\",\"\",IF(E737>0,IF(MID(D737,8,3)=\"-101\",\"GPF Loan\",IF(MID(D737,8,4)=\"-105\",\"SI Loan\",(INDEX(New_Object_Head_1718,MATCH('Bill Register 20-21'!E737,Object_Code_bill_register,0)))))))","v":""},null,null,null,null,null,null,""]
[null,null,null,null,null,{"$f":"IF(E738=\"\",\"\",IF(E738>0,IF(MID(D738,8,3)=\"-101\",\"GPF Loan\",IF(MID(D738,8,4)=\"-105\",\"SI Loan\",(INDEX(New_Object_Head_1718,MATCH('Bill Register 20-21'!E738,Object_Code_bill_register,0)))))))","v":""},null,null,null,null,null,null,""]
[null,null,null,null,null,{"$f":"IF(E739=\"\",\"\",IF(E739>0,IF(MID(D739,8,3)=\"-101\",\"GPF Loan\",IF(MID(D739,8,4)=\"-105\",\"SI Loan\",(INDEX(New_Object_Head_1718,MATCH('Bill Register 20-21'!E739,Object_Code_bill_register,0)))))))","v":""},null,null,null,null,null,null,""]
[null,null,null,null,null,{"$f":"IF(E740=\"\",\"\",IF(E740>0,IF(MID(D740,8,3)=\"-101\",\"GPF Loan\",IF(MID(D740,8,4)=\"-105\",\"SI Loan\",(INDEX(New_Object_Head_1718,MATCH('Bill Register 20-21'!E740,Object_Code_bill_register,0)))))))","v":""},null,null,null,null,null,null,""]
[null,null,null,null,null,{"$f":"IF(E741=\"\",\"\",IF(E741>0,IF(MID(D741,8,3)=\"-101\",\"GPF Loan\",IF(MID(D741,8,4)=\"-105\",\"SI Loan\",(INDEX(New_Object_Head_1718,MATCH('Bill Register 20-21'!E741,Object_Code_bill_register,0)))))))","v":""},null,null,null,null,null,null,""]
[null,null,null,null,null,{"$f":"IF(E742=\"\",\"\",IF(E742>0,IF(MID(D742,8,3)=\"-101\",\"GPF Loan\",IF(MID(D742,8,4)=\"-105\",\"SI Loan\",(INDEX(New_Object_Head_1718,MATCH('Bill Register 20-21'!E742,Object_Code_bill_register,0)))))))","v":""},null,null,null,null,null,null,""]
[null,null,null,null,null,{"$f":"IF(E743=\"\",\"\",IF(E743>0,IF(MID(D743,8,3)=\"-101\",\"GPF Loan\",IF(MID(D743,8,4)=\"-105\",\"SI Loan\",(INDEX(New_Object_Head_1718,MATCH('Bill Register 20-21'!E743,Object_Code_bill_register,0)))))))","v":""},null,null,null,null,null,null,""]
[null,null,null,null,null,{"$f":"IF(E744=\"\",\"\",IF(E744>0,IF(MID(D744,8,3)=\"-101\",\"GPF Loan\",IF(MID(D744,8,4)=\"-105\",\"SI Loan\",(INDEX(New_Object_Head_1718,MATCH('Bill Register 20-21'!E744,Object_Code_bill_register,0)))))))","v":""},null,null,null,null,null,null,""]
[null,null,null,null,null,{"$f":"IF(E745=\"\",\"\",IF(E745>0,IF(MID(D745,8,3)=\"-101\",\"GPF Loan\",IF(MID(D745,8,4)=\"-105\",\"SI Loan\",(INDEX(New_Object_Head_1718,MATCH('Bill Register 20-21'!E745,Object_Code_bill_register,0)))))))","v":""},null,null,null,null,null,null,""]
[null,null,null,null,null,{"$f":"IF(E746=\"\",\"\",IF(E746>0,IF(MID(D746,8,3)=\"-101\",\"GPF Loan\",IF(MID(D746,8,4)=\"-105\",\"SI Loan\",(INDEX(New_Object_Head_1718,MATCH('Bill Register 20-21'!E746,Object_Code_bill_register,0)))))))","v":""},null,null,null,null,null,null,""]
[null,null,null,null,null,{"$f":"IF(E747=\"\",\"\",IF(E747>0,IF(MID(D747,8,3)=\"-101\",\"GPF Loan\",IF(MID(D747,8,4)=\"-105\",\"SI Loan\",(INDEX(New_Object_Head_1718,MATCH('Bill Register 20-21'!E747,Object_Code_bill_register,0)))))))","v":""},null,null,null,null,null,null,""]
[null,null,null,null,null,{"$f":"IF(E748=\"\",\"\",IF(E748>0,IF(MID(D748,8,3)=\"-101\",\"GPF Loan\",IF(MID(D748,8,4)=\"-105\",\"SI Loan\",(INDEX(New_Object_Head_1718,MATCH('Bill Register 20-21'!E748,Object_Code_bill_register,0)))))))","v":""},null,null,null,null,null,null,""]
[null,null,null,null,null,{"$f":"IF(E749=\"\",\"\",IF(E749>0,IF(MID(D749,8,3)=\"-101\",\"GPF Loan\",IF(MID(D749,8,4)=\"-105\",\"SI Loan\",(INDEX(New_Object_Head_1718,MATCH('Bill Register 20-21'!E749,Object_Code_bill_register,0)))))))","v":""},null,null,null,null,null,null,""]
[null,null,null,null,null,{"$f":"IF(E750=\"\",\"\",IF(E750>0,IF(MID(D750,8,3)=\"-101\",\"GPF Loan\",IF(MID(D750,8,4)=\"-105\",\"SI Loan\",(INDEX(New_Object_Head_1718,MATCH('Bill Register 20-21'!E750,Object_Code_bill_register,0)))))))","v":""},null,null,null,null,null,null,""]
[null,null,null,null,null,{"$f":"IF(E751=\"\",\"\",IF(E751>0,IF(MID(D751,8,3)=\"-101\",\"GPF Loan\",IF(MID(D751,8,4)=\"-105\",\"SI Loan\",(INDEX(New_Object_Head_1718,MATCH('Bill Register 20-21'!E751,Object_Code_bill_register,0)))))))","v":""},null,null,null,null,null,null,""]
[null,null,null,null,null,{"$f":"IF(E752=\"\",\"\",IF(E752>0,IF(MID(D752,8,3)=\"-101\",\"GPF Loan\",IF(MID(D752,8,4)=\"-105\",\"SI Loan\",(INDEX(New_Object_Head_1718,MATCH('Bill Register 20-21'!E752,Object_Code_bill_register,0)))))))","v":""},null,null,null,null,null,null,""]
[null,null,null,null,null,{"$f":"IF(E753=\"\",\"\",IF(E753>0,IF(MID(D753,8,3)=\"-101\",\"GPF Loan\",IF(MID(D753,8,4)=\"-105\",\"SI Loan\",(INDEX(New_Object_Head_1718,MATCH('Bill Register 20-21'!E753,Object_Code_bill_register,0)))))))","v":""},null,null,null,null,null,null,""]
[null,null,null,null,null,{"$f":"IF(E754=\"\",\"\",IF(E754>0,IF(MID(D754,8,3)=\"-101\",\"GPF Loan\",IF(MID(D754,8,4)=\"-105\",\"SI Loan\",(INDEX(New_Object_Head_1718,MATCH('Bill Register 20-21'!E754,Object_Code_bill_register,0)))))))","v":""},null,null,null,null,null,null,""]
[null,null,null,null,null,{"$f":"IF(E755=\"\",\"\",IF(E755>0,IF(MID(D755,8,3)=\"-101\",\"GPF Loan\",IF(MID(D755,8,4)=\"-105\",\"SI Loan\",(INDEX(New_Object_Head_1718,MATCH('Bill Register 20-21'!E755,Object_Code_bill_register,0)))))))","v":""},null,null,null,null,null,null,""]
[null,null,null,null,null,{"$f":"IF(E756=\"\",\"\",IF(E756>0,IF(MID(D756,8,3)=\"-101\",\"GPF Loan\",IF(MID(D756,8,4)=\"-105\",\"SI Loan\",(INDEX(New_Object_Head_1718,MATCH('Bill Register 20-21'!E756,Object_Code_bill_register,0)))))))","v":""},null,null,null,null,null,null,""]
[null,null,null,null,null,{"$f":"IF(E757=\"\",\"\",IF(E757>0,IF(MID(D757,8,3)=\"-101\",\"GPF Loan\",IF(MID(D757,8,4)=\"-105\",\"SI Loan\",(INDEX(New_Object_Head_1718,MATCH('Bill Register 20-21'!E757,Object_Code_bill_register,0)))))))","v":""},null,null,null,null,null,null,""]
[null,null,null,null,null,{"$f":"IF(E758=\"\",\"\",IF(E758>0,IF(MID(D758,8,3)=\"-101\",\"GPF Loan\",IF(MID(D758,8,4)=\"-105\",\"SI Loan\",(INDEX(New_Object_Head_1718,MATCH('Bill Register 20-21'!E758,Object_Code_bill_register,0)))))))","v":""},null,null,null,null,null,null,""]
[null,null,null,null,null,{"$f":"IF(E759=\"\",\"\",IF(E759>0,IF(MID(D759,8,3)=\"-101\",\"GPF Loan\",IF(MID(D759,8,4)=\"-105\",\"SI Loan\",(INDEX(New_Object_Head_1718,MATCH('Bill Register 20-21'!E759,Object_Code_bill_register,0)))))))","v":""},null,null,null,null,null,null,""]
[null,null,null,null,null,{"$f":"IF(E760=\"\",\"\",IF(E760>0,IF(MID(D760,8,3)=\"-101\",\"GPF Loan\",IF(MID(D760,8,4)=\"-105\",\"SI Loan\",(INDEX(New_Object_Head_1718,MATCH('Bill Register 20-21'!E760,Object_Code_bill_register,0)))))))","v":""},null,null,null,null,null,null,""]
[null,null,null,null,null,{"$f":"IF(E761=\"\",\"\",IF(E761>0,IF(MID(D761,8,3)=\"-101\",\"GPF Loan\",IF(MID(D761,8,4)=\"-105\",\"SI Loan\",(INDEX(New_Object_Head_1718,MATCH('Bill Register 20-21'!E761,Object_Code_bill_register,0)))))))","v":""},null,null,null,null,null,null,""]
[null,null,null,null,null,{"$f":"IF(E762=\"\",\"\",IF(E762>0,IF(MID(D762,8,3)=\"-101\",\"GPF Loan\",IF(MID(D762,8,4)=\"-105\",\"SI Loan\",(INDEX(New_Object_Head_1718,MATCH('Bill Register 20-21'!E762,Object_Code_bill_register,0)))))))","v":""},null,null,null,null,null,null,""]
[null,null,null,null,null,{"$f":"IF(E763=\"\",\"\",IF(E763>0,IF(MID(D763,8,3)=\"-101\",\"GPF Loan\",IF(MID(D763,8,4)=\"-105\",\"SI Loan\",(INDEX(New_Object_Head_1718,MATCH('Bill Register 20-21'!E763,Object_Code_bill_register,0)))))))","v":""},null,null,null,null,null,null,""]
[null,null,null,null,null,{"$f":"IF(E764=\"\",\"\",IF(E764>0,IF(MID(D764,8,3)=\"-101\",\"GPF Loan\",IF(MID(D764,8,4)=\"-105\",\"SI Loan\",(INDEX(New_Object_Head_1718,MATCH('Bill Register 20-21'!E764,Object_Code_bill_register,0)))))))","v":""},null,null,null,null,null,null,""]
[null,null,null,null,null,{"$f":"IF(E765=\"\",\"\",IF(E765>0,IF(MID(D765,8,3)=\"-101\",\"GPF Loan\",IF(MID(D765,8,4)=\"-105\",\"SI Loan\",(INDEX(New_Object_Head_1718,MATCH('Bill Register 20-21'!E765,Object_Code_bill_register,0)))))))","v":""},null,null,null,null,null,null,""]
[null,null,null,null,null,{"$f":"IF(E766=\"\",\"\",IF(E766>0,IF(MID(D766,8,3)=\"-101\",\"GPF Loan\",IF(MID(D766,8,4)=\"-105\",\"SI Loan\",(INDEX(New_Object_Head_1718,MATCH('Bill Register 20-21'!E766,Object_Code_bill_register,0)))))))","v":""},null,null,null,null,null,null,""]
[null,null,null,null,null,{"$f":"IF(E767=\"\",\"\",IF(E767>0,IF(MID(D767,8,3)=\"-101\",\"GPF Loan\",IF(MID(D767,8,4)=\"-105\",\"SI Loan\",(INDEX(New_Object_Head_1718,MATCH('Bill Register 20-21'!E767,Object_Code_bill_register,0)))))))","v":""},null,null,null,null,null,null,""]
[null,null,null,null,null,{"$f":"IF(E768=\"\",\"\",IF(E768>0,IF(MID(D768,8,3)=\"-101\",\"GPF Loan\",IF(MID(D768,8,4)=\"-105\",\"SI Loan\",(INDEX(New_Object_Head_1718,MATCH('Bill Register 20-21'!E768,Object_Code_bill_register,0)))))))","v":""},null,null,null,null,null,null,""]
[null,null,null,null,null,{"$f":"IF(E769=\"\",\"\",IF(E769>0,IF(MID(D769,8,3)=\"-101\",\"GPF Loan\",IF(MID(D769,8,4)=\"-105\",\"SI Loan\",(INDEX(New_Object_Head_1718,MATCH('Bill Register 20-21'!E769,Object_Code_bill_register,0)))))))","v":""},null,null,null,null,null,null,""]
[null,null,null,null,null,{"$f":"IF(E770=\"\",\"\",IF(E770>0,IF(MID(D770,8,3)=\"-101\",\"GPF Loan\",IF(MID(D770,8,4)=\"-105\",\"SI Loan\",(INDEX(New_Object_Head_1718,MATCH('Bill Register 20-21'!E770,Object_Code_bill_register,0)))))))","v":""},null,null,null,null,null,null,""]
[null,null,null,null,null,{"$f":"IF(E771=\"\",\"\",IF(E771>0,IF(MID(D771,8,3)=\"-101\",\"GPF Loan\",IF(MID(D771,8,4)=\"-105\",\"SI Loan\",(INDEX(New_Object_Head_1718,MATCH('Bill Register 20-21'!E771,Object_Code_bill_register,0)))))))","v":""},null,null,null,null,null,null,""]
[null,null,null,null,null,{"$f":"IF(E772=\"\",\"\",IF(E772>0,IF(MID(D772,8,3)=\"-101\",\"GPF Loan\",IF(MID(D772,8,4)=\"-105\",\"SI Loan\",(INDEX(New_Object_Head_1718,MATCH('Bill Register 20-21'!E772,Object_Code_bill_register,0)))))))","v":""},null,null,null,null,null,null,{"$f":"IF(L772=\"\",\"\",EOMONTH(L772,0))","v":""}]
[null,null,null,null,null,{"$f":"IF(E773=\"\",\"\",IF(E773>0,IF(MID(D773,8,3)=\"-101\",\"GPF Loan\",IF(MID(D773,8,4)=\"-105\",\"SI Loan\",(INDEX(New_Object_Head_1718,MATCH('Bill Register 20-21'!E773,Object_Code_bill_register,0)))))))","v":""},null,null,null,null,null,null,""]
[null,null,null,null,null,{"$f":"IF(E774=\"\",\"\",IF(E774>0,IF(MID(D774,8,3)=\"-101\",\"GPF Loan\",IF(MID(D774,8,4)=\"-105\",\"SI Loan\",(INDEX(New_Object_Head_1718,MATCH('Bill Register 20-21'!E774,Object_Code_bill_register,0)))))))","v":""},null,null,null,null,null,null,""]
[null,null,null,null,null,{"$f":"IF(E775=\"\",\"\",IF(E775>0,IF(MID(D775,8,3)=\"-101\",\"GPF Loan\",IF(MID(D775,8,4)=\"-105\",\"SI Loan\",(INDEX(New_Object_Head_1718,MATCH('Bill Register 20-21'!E775,Object_Code_bill_register,0)))))))","v":""},null,null,null,null,null,null,""]
[null,null,null,null,null,{"$f":"IF(E776=\"\",\"\",IF(E776>0,IF(MID(D776,8,3)=\"-101\",\"GPF Loan\",IF(MID(D776,8,4)=\"-105\",\"SI Loan\",(INDEX(New_Object_Head_1718,MATCH('Bill Register 20-21'!E776,Object_Code_bill_register,0)))))))","v":""},null,null,null,null,null,null,""]
[null,null,null,null,null,{"$f":"IF(E777=\"\",\"\",IF(E777>0,IF(MID(D777,8,3)=\"-101\",\"GPF Loan\",IF(MID(D777,8,4)=\"-105\",\"SI Loan\",(INDEX(New_Object_Head_1718,MATCH('Bill Register 20-21'!E777,Object_Code_bill_register,0)))))))","v":""},null,null,null,null,null,null,""]
[null,null,null,null,null,{"$f":"IF(E778=\"\",\"\",IF(E778>0,IF(MID(D778,8,3)=\"-101\",\"GPF Loan\",IF(MID(D778,8,4)=\"-105\",\"SI Loan\",(INDEX(New_Object_Head_1718,MATCH('Bill Register 20-21'!E778,Object_Code_bill_register,0)))))))","v":""},null,null,null,null,null,null,""]
[null,null,null,null,null,{"$f":"IF(E779=\"\",\"\",IF(E779>0,IF(MID(D779,8,3)=\"-101\",\"GPF Loan\",IF(MID(D779,8,4)=\"-105\",\"SI Loan\",(INDEX(New_Object_Head_1718,MATCH('Bill Register 20-21'!E779,Object_Code_bill_register,0)))))))","v":""},null,null,null,null,null,null,""]
[null,null,null,null,null,{"$f":"IF(E780=\"\",\"\",IF(E780>0,IF(MID(D780,8,3)=\"-101\",\"GPF Loan\",IF(MID(D780,8,4)=\"-105\",\"SI Loan\",(INDEX(New_Object_Head_1718,MATCH('Bill Register 20-21'!E780,Object_Code_bill_register,0)))))))","v":""},null,null,null,null,null,null,""]
[null,null,null,null,null,{"$f":"IF(E781=\"\",\"\",IF(E781>0,IF(MID(D781,8,3)=\"-101\",\"GPF Loan\",IF(MID(D781,8,4)=\"-105\",\"SI Loan\",(INDEX(New_Object_Head_1718,MATCH('Bill Register 20-21'!E781,Object_Code_bill_register,0)))))))","v":""},null,null,null,null,null,null,""]
[null,null,null,null,null,{"$f":"IF(E782=\"\",\"\",IF(E782>0,IF(MID(D782,8,3)=\"-101\",\"GPF Loan\",IF(MID(D782,8,4)=\"-105\",\"SI Loan\",(INDEX(New_Object_Head_1718,MATCH('Bill Register 20-21'!E782,Object_Code_bill_register,0)))))))","v":""},null,null,null,null,null,null,""]
[null,null,null,null,null,{"$f":"IF(E783=\"\",\"\",IF(E783>0,IF(MID(D783,8,3)=\"-101\",\"GPF Loan\",IF(MID(D783,8,4)=\"-105\",\"SI Loan\",(INDEX(New_Object_Head_1718,MATCH('Bill Register 20-21'!E783,Object_Code_bill_register,0)))))))","v":""},null,null,null,null,null,null,""]
[null,null,null,null,null,{"$f":"IF(E784=\"\",\"\",IF(E784>0,IF(MID(D784,8,3)=\"-101\",\"GPF Loan\",IF(MID(D784,8,4)=\"-105\",\"SI Loan\",(INDEX(New_Object_Head_1718,MATCH('Bill Register 20-21'!E784,Object_Code_bill_register,0)))))))","v":""},null,null,null,null,null,null,""]
[null,null,null,null,null,{"$f":"IF(E785=\"\",\"\",IF(E785>0,IF(MID(D785,8,3)=\"-101\",\"GPF Loan\",IF(MID(D785,8,4)=\"-105\",\"SI Loan\",(INDEX(New_Object_Head_1718,MATCH('Bill Register 20-21'!E785,Object_Code_bill_register,0)))))))","v":""},null,null,null,null,null,null,""]
[null,null,null,null,null,{"$f":"IF(E786=\"\",\"\",IF(E786>0,IF(MID(D786,8,3)=\"-101\",\"GPF Loan\",IF(MID(D786,8,4)=\"-105\",\"SI Loan\",(INDEX(New_Object_Head_1718,MATCH('Bill Register 20-21'!E786,Object_Code_bill_register,0)))))))","v":""},null,null,null,null,null,null,""]
[null,null,null,null,null,{"$f":"IF(E787=\"\",\"\",IF(E787>0,IF(MID(D787,8,3)=\"-101\",\"GPF Loan\",IF(MID(D787,8,4)=\"-105\",\"SI Loan\",(INDEX(New_Object_Head_1718,MATCH('Bill Register 20-21'!E787,Object_Code_bill_register,0)))))))","v":""},null,null,null,null,null,null,""]
[null,null,null,null,null,{"$f":"IF(E788=\"\",\"\",IF(E788>0,IF(MID(D788,8,3)=\"-101\",\"GPF Loan\",IF(MID(D788,8,4)=\"-105\",\"SI Loan\",(INDEX(New_Object_Head_1718,MATCH('Bill Register 20-21'!E788,Object_Code_bill_register,0)))))))","v":""},null,null,null,null,null,null,""]
[null,null,null,null,null,{"$f":"IF(E789=\"\",\"\",IF(E789>0,IF(MID(D789,8,3)=\"-101\",\"GPF Loan\",IF(MID(D789,8,4)=\"-105\",\"SI Loan\",(INDEX(New_Object_Head_1718,MATCH('Bill Register 20-21'!E789,Object_Code_bill_register,0)))))))","v":""},null,null,null,null,null,null,""]
[null,null,null,null,null,{"$f":"IF(E790=\"\",\"\",IF(E790>0,IF(MID(D790,8,3)=\"-101\",\"GPF Loan\",IF(MID(D790,8,4)=\"-105\",\"SI Loan\",(INDEX(New_Object_Head_1718,MATCH('Bill Register 20-21'!E790,Object_Code_bill_register,0)))))))","v":""},null,null,null,null,null,null,""]
[null,null,null,null,null,{"$f":"IF(E791=\"\",\"\",IF(E791>0,IF(MID(D791,8,3)=\"-101\",\"GPF Loan\",IF(MID(D791,8,4)=\"-105\",\"SI Loan\",(INDEX(New_Object_Head_1718,MATCH('Bill Register 20-21'!E791,Object_Code_bill_register,0)))))))","v":""},null,null,null,null,null,null,""]
[null,null,null,null,null,{"$f":"IF(E792=\"\",\"\",IF(E792>0,IF(MID(D792,8,3)=\"-101\",\"GPF Loan\",IF(MID(D792,8,4)=\"-105\",\"SI Loan\",(INDEX(New_Object_Head_1718,MATCH('Bill Register 20-21'!E792,Object_Code_bill_register,0)))))))","v":""},null,null,null,null,null,null,""]
[null,null,null,null,null,{"$f":"IF(E793=\"\",\"\",IF(E793>0,IF(MID(D793,8,3)=\"-101\",\"GPF Loan\",IF(MID(D793,8,4)=\"-105\",\"SI Loan\",(INDEX(New_Object_Head_1718,MATCH('Bill Register 20-21'!E793,Object_Code_bill_register,0)))))))","v":""},null,null,null,null,null,null,""]
[null,null,null,null,null,{"$f":"IF(E794=\"\",\"\",IF(E794>0,IF(MID(D794,8,3)=\"-101\",\"GPF Loan\",IF(MID(D794,8,4)=\"-105\",\"SI Loan\",(INDEX(New_Object_Head_1718,MATCH('Bill Register 20-21'!E794,Object_Code_bill_register,0)))))))","v":""},null,null,null,null,null,null,""]
[null,null,null,null,null,{"$f":"IF(E795=\"\",\"\",IF(E795>0,IF(MID(D795,8,3)=\"-101\",\"GPF Loan\",IF(MID(D795,8,4)=\"-105\",\"SI Loan\",(INDEX(New_Object_Head_1718,MATCH('Bill Register 20-21'!E795,Object_Code_bill_register,0)))))))","v":""},null,null,null,null,null,null,""]
[null,null,null,null,null,{"$f":"IF(E796=\"\",\"\",IF(E796>0,IF(MID(D796,8,3)=\"-101\",\"GPF Loan\",IF(MID(D796,8,4)=\"-105\",\"SI Loan\",(INDEX(New_Object_Head_1718,MATCH('Bill Register 20-21'!E796,Object_Code_bill_register,0)))))))","v":""},null,null,null,null,null,null,""]
[null,null,null,null,null,{"$f":"IF(E797=\"\",\"\",IF(E797>0,IF(MID(D797,8,3)=\"-101\",\"GPF Loan\",IF(MID(D797,8,4)=\"-105\",\"SI Loan\",(INDEX(New_Object_Head_1718,MATCH('Bill Register 20-21'!E797,Object_Code_bill_register,0)))))))","v":""},null,null,null,null,null,null,""]
[null,null,null,null,null,{"$f":"IF(E798=\"\",\"\",IF(E798>0,IF(MID(D798,8,3)=\"-101\",\"GPF Loan\",IF(MID(D798,8,4)=\"-105\",\"SI Loan\",(INDEX(New_Object_Head_1718,MATCH('Bill Register 20-21'!E798,Object_Code_bill_register,0)))))))","v":""},null,null,null,null,null,null,""]
[null,null,null,null,null,{"$f":"IF(E799=\"\",\"\",IF(E799>0,IF(MID(D799,8,3)=\"-101\",\"GPF Loan\",IF(MID(D799,8,4)=\"-105\",\"SI Loan\",(INDEX(New_Object_Head_1718,MATCH('Bill Register 20-21'!E799,Object_Code_bill_register,0)))))))","v":""},null,null,null,null,null,null,""]
[null,null,null,null,null,{"$f":"IF(E800=\"\",\"\",IF(E800>0,IF(MID(D800,8,3)=\"-101\",\"GPF Loan\",IF(MID(D800,8,4)=\"-105\",\"SI Loan\",(INDEX(New_Object_Head_1718,MATCH('Bill Register 20-21'!E800,Object_Code_bill_register,0)))))))","v":""},null,null,null,null,null,null,""]
[null,null,null,null,null,{"$f":"IF(E801=\"\",\"\",IF(E801>0,IF(MID(D801,8,3)=\"-101\",\"GPF Loan\",IF(MID(D801,8,4)=\"-105\",\"SI Loan\",(INDEX(New_Object_Head_1718,MATCH('Bill Register 20-21'!E801,Object_Code_bill_register,0)))))))","v":""},null,null,null,null,null,null,""]
[null,null,null,null,null,{"$f":"IF(E802=\"\",\"\",IF(E802>0,IF(MID(D802,8,3)=\"-101\",\"GPF Loan\",IF(MID(D802,8,4)=\"-105\",\"SI Loan\",(INDEX(New_Object_Head_1718,MATCH('Bill Register 20-21'!E802,Object_Code_bill_register,0)))))))","v":""},null,null,null,null,null,null,""]
[null,null,null,null,null,{"$f":"IF(E803=\"\",\"\",IF(E803>0,IF(MID(D803,8,3)=\"-101\",\"GPF Loan\",IF(MID(D803,8,4)=\"-105\",\"SI Loan\",(INDEX(New_Object_Head_1718,MATCH('Bill Register 20-21'!E803,Object_Code_bill_register,0)))))))","v":""},null,null,null,null,null,null,""]
[null,null,null,null,null,{"$f":"IF(E804=\"\",\"\",IF(E804>0,IF(MID(D804,8,3)=\"-101\",\"GPF Loan\",IF(MID(D804,8,4)=\"-105\",\"SI Loan\",(INDEX(New_Object_Head_1718,MATCH('Bill Register 20-21'!E804,Object_Code_bill_register,0)))))))","v":""},null,null,null,null,null,null,""]
[null,null,null,null,null,{"$f":"IF(E805=\"\",\"\",IF(E805>0,IF(MID(D805,8,3)=\"-101\",\"GPF Loan\",IF(MID(D805,8,4)=\"-105\",\"SI Loan\",(INDEX(New_Object_Head_1718,MATCH('Bill Register 20-21'!E805,Object_Code_bill_register,0)))))))","v":""},null,null,null,null,null,null,""]
[null,null,null,null,null,{"$f":"IF(E806=\"\",\"\",IF(E806>0,IF(MID(D806,8,3)=\"-101\",\"GPF Loan\",IF(MID(D806,8,4)=\"-105\",\"SI Loan\",(INDEX(New_Object_Head_1718,MATCH('Bill Register 20-21'!E806,Object_Code_bill_register,0)))))))","v":""},null,null,null,null,null,null,""]
[null,null,null,null,null,{"$f":"IF(E807=\"\",\"\",IF(E807>0,IF(MID(D807,8,3)=\"-101\",\"GPF Loan\",IF(MID(D807,8,4)=\"-105\",\"SI Loan\",(INDEX(New_Object_Head_1718,MATCH('Bill Register 20-21'!E807,Object_Code_bill_register,0)))))))","v":""},null,null,null,null,null,null,""]
[null,null,null,null,null,{"$f":"IF(E808=\"\",\"\",IF(E808>0,IF(MID(D808,8,3)=\"-101\",\"GPF Loan\",IF(MID(D808,8,4)=\"-105\",\"SI Loan\",(INDEX(New_Object_Head_1718,MATCH('Bill Register 20-21'!E808,Object_Code_bill_register,0)))))))","v":""},null,null,null,null,null,null,""]
[null,null,null,null,null,{"$f":"IF(E809=\"\",\"\",IF(E809>0,IF(MID(D809,8,3)=\"-101\",\"GPF Loan\",IF(MID(D809,8,4)=\"-105\",\"SI Loan\",(INDEX(New_Object_Head_1718,MATCH('Bill Register 20-21'!E809,Object_Code_bill_register,0)))))))","v":""},null,null,null,null,null,null,""]
[null,null,null,null,null,{"$f":"IF(E810=\"\",\"\",IF(E810>0,IF(MID(D810,8,3)=\"-101\",\"GPF Loan\",IF(MID(D810,8,4)=\"-105\",\"SI Loan\",(INDEX(New_Object_Head_1718,MATCH('Bill Register 20-21'!E810,Object_Code_bill_register,0)))))))","v":""},null,null,null,null,null,null,""]
[null,null,null,null,null,{"$f":"IF(E811=\"\",\"\",IF(E811>0,IF(MID(D811,8,3)=\"-101\",\"GPF Loan\",IF(MID(D811,8,4)=\"-105\",\"SI Loan\",(INDEX(New_Object_Head_1718,MATCH('Bill Register 20-21'!E811,Object_Code_bill_register,0)))))))","v":""},null,null,null,null,null,null,""]
[null,null,null,null,null,{"$f":"IF(E812=\"\",\"\",IF(E812>0,IF(MID(D812,8,3)=\"-101\",\"GPF Loan\",IF(MID(D812,8,4)=\"-105\",\"SI Loan\",(INDEX(New_Object_Head_1718,MATCH('Bill Register 20-21'!E812,Object_Code_bill_register,0)))))))","v":""},null,null,null,null,null,null,""]
[null,null,null,null,null,{"$f":"IF(E813=\"\",\"\",IF(E813>0,IF(MID(D813,8,3)=\"-101\",\"GPF Loan\",IF(MID(D813,8,4)=\"-105\",\"SI Loan\",(INDEX(New_Object_Head_1718,MATCH('Bill Register 20-21'!E813,Object_Code_bill_register,0)))))))","v":""},null,null,null,null,null,null,""]
[null,null,null,null,null,{"$f":"IF(E814=\"\",\"\",IF(E814>0,IF(MID(D814,8,3)=\"-101\",\"GPF Loan\",IF(MID(D814,8,4)=\"-105\",\"SI Loan\",(INDEX(New_Object_Head_1718,MATCH('Bill Register 20-21'!E814,Object_Code_bill_register,0)))))))","v":""},null,null,null,null,null,null,""]
[null,null,null,null,null,{"$f":"IF(E815=\"\",\"\",IF(E815>0,IF(MID(D815,8,3)=\"-101\",\"GPF Loan\",IF(MID(D815,8,4)=\"-105\",\"SI Loan\",(INDEX(New_Object_Head_1718,MATCH('Bill Register 20-21'!E815,Object_Code_bill_register,0)))))))","v":""},null,null,null,null,null,null,""]
[null,null,null,null,null,{"$f":"IF(E816=\"\",\"\",IF(E816>0,IF(MID(D816,8,3)=\"-101\",\"GPF Loan\",IF(MID(D816,8,4)=\"-105\",\"SI Loan\",(INDEX(New_Object_Head_1718,MATCH('Bill Register 20-21'!E816,Object_Code_bill_register,0)))))))","v":""},null,null,null,null,null,null,""]
[null,null,null,null,null,{"$f":"IF(E817=\"\",\"\",IF(E817>0,IF(MID(D817,8,3)=\"-101\",\"GPF Loan\",IF(MID(D817,8,4)=\"-105\",\"SI Loan\",(INDEX(New_Object_Head_1718,MATCH('Bill Register 20-21'!E817,Object_Code_bill_register,0)))))))","v":""},null,null,null,null,null,null,""]
[null,null,null,null,null,{"$f":"IF(E818=\"\",\"\",IF(E818>0,IF(MID(D818,8,3)=\"-101\",\"GPF Loan\",IF(MID(D818,8,4)=\"-105\",\"SI Loan\",(INDEX(New_Object_Head_1718,MATCH('Bill Register 20-21'!E818,Object_Code_bill_register,0)))))))","v":""},null,null,null,null,null,null,""]
[null,null,null,null,null,{"$f":"IF(E819=\"\",\"\",IF(E819>0,IF(MID(D819,8,3)=\"-101\",\"GPF Loan\",IF(MID(D819,8,4)=\"-105\",\"SI Loan\",(INDEX(New_Object_Head_1718,MATCH('Bill Register 20-21'!E819,Object_Code_bill_register,0)))))))","v":""},null,null,null,null,null,null,""]
[null,null,null,null,null,{"$f":"IF(E820=\"\",\"\",IF(E820>0,IF(MID(D820,8,3)=\"-101\",\"GPF Loan\",IF(MID(D820,8,4)=\"-105\",\"SI Loan\",(INDEX(New_Object_Head_1718,MATCH('Bill Register 20-21'!E820,Object_Code_bill_register,0)))))))","v":""},null,null,null,null,null,null,""]
[null,null,null,null,null,{"$f":"IF(E821=\"\",\"\",IF(E821>0,IF(MID(D821,8,3)=\"-101\",\"GPF Loan\",IF(MID(D821,8,4)=\"-105\",\"SI Loan\",(INDEX(New_Object_Head_1718,MATCH('Bill Register 20-21'!E821,Object_Code_bill_register,0)))))))","v":""},null,null,null,null,null,null,""]
[null,null,null,null,null,{"$f":"IF(E822=\"\",\"\",IF(E822>0,IF(MID(D822,8,3)=\"-101\",\"GPF Loan\",IF(MID(D822,8,4)=\"-105\",\"SI Loan\",(INDEX(New_Object_Head_1718,MATCH('Bill Register 20-21'!E822,Object_Code_bill_register,0)))))))","v":""},null,null,null,null,null,null,""]
[null,null,null,null,null,{"$f":"IF(E823=\"\",\"\",IF(E823>0,IF(MID(D823,8,3)=\"-101\",\"GPF Loan\",IF(MID(D823,8,4)=\"-105\",\"SI Loan\",(INDEX(New_Object_Head_1718,MATCH('Bill Register 20-21'!E823,Object_Code_bill_register,0)))))))","v":""},null,null,null,null,null,null,""]
[null,null,null,null,null,{"$f":"IF(E824=\"\",\"\",IF(E824>0,IF(MID(D824,8,3)=\"-101\",\"GPF Loan\",IF(MID(D824,8,4)=\"-105\",\"SI Loan\",(INDEX(New_Object_Head_1718,MATCH('Bill Register 20-21'!E824,Object_Code_bill_register,0)))))))","v":""},null,null,null,null,null,null,""]
[null,null,null,null,null,{"$f":"IF(E825=\"\",\"\",IF(E825>0,IF(MID(D825,8,3)=\"-101\",\"GPF Loan\",IF(MID(D825,8,4)=\"-105\",\"SI Loan\",(INDEX(New_Object_Head_1718,MATCH('Bill Register 20-21'!E825,Object_Code_bill_register,0)))))))","v":""},null,null,null,null,null,null,""]
[null,null,null,null,null,{"$f":"IF(E826=\"\",\"\",IF(E826>0,IF(MID(D826,8,3)=\"-101\",\"GPF Loan\",IF(MID(D826,8,4)=\"-105\",\"SI Loan\",(INDEX(New_Object_Head_1718,MATCH('Bill Register 20-21'!E826,Object_Code_bill_register,0)))))))","v":""},null,null,null,null,null,null,""]
[null,null,null,null,null,{"$f":"IF(E827=\"\",\"\",IF(E827>0,IF(MID(D827,8,3)=\"-101\",\"GPF Loan\",IF(MID(D827,8,4)=\"-105\",\"SI Loan\",(INDEX(New_Object_Head_1718,MATCH('Bill Register 20-21'!E827,Object_Code_bill_register,0)))))))","v":""},null,null,null,null,null,null,""]
[null,null,null,null,null,{"$f":"IF(E828=\"\",\"\",IF(E828>0,IF(MID(D828,8,3)=\"-101\",\"GPF Loan\",IF(MID(D828,8,4)=\"-105\",\"SI Loan\",(INDEX(New_Object_Head_1718,MATCH('Bill Register 20-21'!E828,Object_Code_bill_register,0)))))))","v":""},null,null,null,null,null,null,""]
[null,null,null,null,null,{"$f":"IF(E829=\"\",\"\",IF(E829>0,IF(MID(D829,8,3)=\"-101\",\"GPF Loan\",IF(MID(D829,8,4)=\"-105\",\"SI Loan\",(INDEX(New_Object_Head_1718,MATCH('Bill Register 20-21'!E829,Object_Code_bill_register,0)))))))","v":""},null,null,null,null,null,null,""]
[null,null,null,null,null,{"$f":"IF(E830=\"\",\"\",IF(E830>0,IF(MID(D830,8,3)=\"-101\",\"GPF Loan\",IF(MID(D830,8,4)=\"-105\",\"SI Loan\",(INDEX(New_Object_Head_1718,MATCH('Bill Register 20-21'!E830,Object_Code_bill_register,0)))))))","v":""},null,null,null,null,null,null,""]
[null,null,null,null,null,{"$f":"IF(E831=\"\",\"\",IF(E831>0,IF(MID(D831,8,3)=\"-101\",\"GPF Loan\",IF(MID(D831,8,4)=\"-105\",\"SI Loan\",(INDEX(New_Object_Head_1718,MATCH('Bill Register 20-21'!E831,Object_Code_bill_register,0)))))))","v":""},null,null,null,null,null,null,""]
[null,null,null,null,null,{"$f":"IF(E832=\"\",\"\",IF(E832>0,IF(MID(D832,8,3)=\"-101\",\"GPF Loan\",IF(MID(D832,8,4)=\"-105\",\"SI Loan\",(INDEX(New_Object_Head_1718,MATCH('Bill Register 20-21'!E832,Object_Code_bill_register,0)))))))","v":""},null,null,null,null,null,null,""]
[null,null,null,null,null,{"$f":"IF(E833=\"\",\"\",IF(E833>0,IF(MID(D833,8,3)=\"-101\",\"GPF Loan\",IF(MID(D833,8,4)=\"-105\",\"SI Loan\",(INDEX(New_Object_Head_1718,MATCH('Bill Register 20-21'!E833,Object_Code_bill_register,0)))))))","v":""},null,null,null,null,null,null,""]
[null,null,null,null,null,{"$f":"IF(E834=\"\",\"\",IF(E834>0,IF(MID(D834,8,3)=\"-101\",\"GPF Loan\",IF(MID(D834,8,4)=\"-105\",\"SI Loan\",(INDEX(New_Object_Head_1718,MATCH('Bill Register 20-21'!E834,Object_Code_bill_register,0)))))))","v":""},null,null,null,null,null,null,""]
[null,null,null,null,null,{"$f":"IF(E835=\"\",\"\",IF(E835>0,IF(MID(D835,8,3)=\"-101\",\"GPF Loan\",IF(MID(D835,8,4)=\"-105\",\"SI Loan\",(INDEX(New_Object_Head_1718,MATCH('Bill Register 20-21'!E835,Object_Code_bill_register,0)))))))","v":""},null,null,null,null,null,null,""]
[null,null,null,null,null,{"$f":"IF(E836=\"\",\"\",IF(E836>0,IF(MID(D836,8,3)=\"-101\",\"GPF Loan\",IF(MID(D836,8,4)=\"-105\",\"SI Loan\",(INDEX(New_Object_Head_1718,MATCH('Bill Register 20-21'!E836,Object_Code_bill_register,0)))))))","v":""},null,null,null,null,null,null,{"$f":"IF(L836=\"\",\"\",EOMONTH(L836,0))","v":""}]
[null,null,null,null,null,{"$f":"IF(E837=\"\",\"\",IF(E837>0,IF(MID(D837,8,3)=\"-101\",\"GPF Loan\",IF(MID(D837,8,4)=\"-105\",\"SI Loan\",(INDEX(New_Object_Head_1718,MATCH('Bill Register 20-21'!E837,Object_Code_bill_register,0)))))))","v":""},null,null,null,null,null,null,""]
[null,null,null,null,null,{"$f":"IF(E838=\"\",\"\",IF(E838>0,IF(MID(D838,8,3)=\"-101\",\"GPF Loan\",IF(MID(D838,8,4)=\"-105\",\"SI Loan\",(INDEX(New_Object_Head_1718,MATCH('Bill Register 20-21'!E838,Object_Code_bill_register,0)))))))","v":""},null,null,null,null,null,null,""]
[null,null,null,null,null,{"$f":"IF(E839=\"\",\"\",IF(E839>0,IF(MID(D839,8,3)=\"-101\",\"GPF Loan\",IF(MID(D839,8,4)=\"-105\",\"SI Loan\",(INDEX(New_Object_Head_1718,MATCH('Bill Register 20-21'!E839,Object_Code_bill_register,0)))))))","v":""},null,null,null,null,null,null,""]
[null,null,null,null,null,{"$f":"IF(E840=\"\",\"\",IF(E840>0,IF(MID(D840,8,3)=\"-101\",\"GPF Loan\",IF(MID(D840,8,4)=\"-105\",\"SI Loan\",(INDEX(New_Object_Head_1718,MATCH('Bill Register 20-21'!E840,Object_Code_bill_register,0)))))))","v":""},null,null,null,null,null,null,""]
[null,null,null,null,null,{"$f":"IF(E841=\"\",\"\",IF(E841>0,IF(MID(D841,8,3)=\"-101\",\"GPF Loan\",IF(MID(D841,8,4)=\"-105\",\"SI Loan\",(INDEX(New_Object_Head_1718,MATCH('Bill Register 20-21'!E841,Object_Code_bill_register,0)))))))","v":""},null,null,null,null,null,null,""]
[null,null,null,null,null,{"$f":"IF(E842=\"\",\"\",IF(E842>0,IF(MID(D842,8,3)=\"-101\",\"GPF Loan\",IF(MID(D842,8,4)=\"-105\",\"SI Loan\",(INDEX(New_Object_Head_1718,MATCH('Bill Register 20-21'!E842,Object_Code_bill_register,0)))))))","v":""},null,null,null,null,null,null,""]
[null,null,null,null,null,{"$f":"IF(E843=\"\",\"\",IF(E843>0,IF(MID(D843,8,3)=\"-101\",\"GPF Loan\",IF(MID(D843,8,4)=\"-105\",\"SI Loan\",(INDEX(New_Object_Head_1718,MATCH('Bill Register 20-21'!E843,Object_Code_bill_register,0)))))))","v":""},null,null,null,null,null,null,""]
[null,null,null,null,null,{"$f":"IF(E844=\"\",\"\",IF(E844>0,IF(MID(D844,8,3)=\"-101\",\"GPF Loan\",IF(MID(D844,8,4)=\"-105\",\"SI Loan\",(INDEX(New_Object_Head_1718,MATCH('Bill Register 20-21'!E844,Object_Code_bill_register,0)))))))","v":""},null,null,null,null,null,null,""]
[null,null,null,null,null,{"$f":"IF(E845=\"\",\"\",IF(E845>0,IF(MID(D845,8,3)=\"-101\",\"GPF Loan\",IF(MID(D845,8,4)=\"-105\",\"SI Loan\",(INDEX(New_Object_Head_1718,MATCH('Bill Register 20-21'!E845,Object_Code_bill_register,0)))))))","v":""},null,null,null,null,null,null,""]
[null,null,null,null,null,{"$f":"IF(E846=\"\",\"\",IF(E846>0,IF(MID(D846,8,3)=\"-101\",\"GPF Loan\",IF(MID(D846,8,4)=\"-105\",\"SI Loan\",(INDEX(New_Object_Head_1718,MATCH('Bill Register 20-21'!E846,Object_Code_bill_register,0)))))))","v":""},null,null,null,null,null,null,""]
[null,null,null,null,null,{"$f":"IF(E847=\"\",\"\",IF(E847>0,IF(MID(D847,8,3)=\"-101\",\"GPF Loan\",IF(MID(D847,8,4)=\"-105\",\"SI Loan\",(INDEX(New_Object_Head_1718,MATCH('Bill Register 20-21'!E847,Object_Code_bill_register,0)))))))","v":""},null,null,null,null,null,null,""]
[null,null,null,null,null,{"$f":"IF(E848=\"\",\"\",IF(E848>0,IF(MID(D848,8,3)=\"-101\",\"GPF Loan\",IF(MID(D848,8,4)=\"-105\",\"SI Loan\",(INDEX(New_Object_Head_1718,MATCH('Bill Register 20-21'!E848,Object_Code_bill_register,0)))))))","v":""},null,null,null,null,null,null,""]
[null,null,null,null,null,{"$f":"IF(E849=\"\",\"\",IF(E849>0,IF(MID(D849,8,3)=\"-101\",\"GPF Loan\",IF(MID(D849,8,4)=\"-105\",\"SI Loan\",(INDEX(New_Object_Head_1718,MATCH('Bill Register 20-21'!E849,Object_Code_bill_register,0)))))))","v":""},null,null,null,null,null,null,""]
[null,null,null,null,null,{"$f":"IF(E850=\"\",\"\",IF(E850>0,IF(MID(D850,8,3)=\"-101\",\"GPF Loan\",IF(MID(D850,8,4)=\"-105\",\"SI Loan\",(INDEX(New_Object_Head_1718,MATCH('Bill Register 20-21'!E850,Object_Code_bill_register,0)))))))","v":""},null,null,null,null,null,null,""]
[null,null,null,null,null,{"$f":"IF(E851=\"\",\"\",IF(E851>0,IF(MID(D851,8,3)=\"-101\",\"GPF Loan\",IF(MID(D851,8,4)=\"-105\",\"SI Loan\",(INDEX(New_Object_Head_1718,MATCH('Bill Register 20-21'!E851,Object_Code_bill_register,0)))))))","v":""},null,null,null,null,null,null,""]
[null,null,null,null,null,{"$f":"IF(E852=\"\",\"\",IF(E852>0,IF(MID(D852,8,3)=\"-101\",\"GPF Loan\",IF(MID(D852,8,4)=\"-105\",\"SI Loan\",(INDEX(New_Object_Head_1718,MATCH('Bill Register 20-21'!E852,Object_Code_bill_register,0)))))))","v":""},null,null,null,null,null,null,""]
[null,null,null,null,null,{"$f":"IF(E853=\"\",\"\",IF(E853>0,IF(MID(D853,8,3)=\"-101\",\"GPF Loan\",IF(MID(D853,8,4)=\"-105\",\"SI Loan\",(INDEX(New_Object_Head_1718,MATCH('Bill Register 20-21'!E853,Object_Code_bill_register,0)))))))","v":""},null,null,null,null,null,null,""]
[null,null,null,null,null,{"$f":"IF(E854=\"\",\"\",IF(E854>0,IF(MID(D854,8,3)=\"-101\",\"GPF Loan\",IF(MID(D854,8,4)=\"-105\",\"SI Loan\",(INDEX(New_Object_Head_1718,MATCH('Bill Register 20-21'!E854,Object_Code_bill_register,0)))))))","v":""},null,null,null,null,null,null,""]
[null,null,null,null,null,{"$f":"IF(E855=\"\",\"\",IF(E855>0,IF(MID(D855,8,3)=\"-101\",\"GPF Loan\",IF(MID(D855,8,4)=\"-105\",\"SI Loan\",(INDEX(New_Object_Head_1718,MATCH('Bill Register 20-21'!E855,Object_Code_bill_register,0)))))))","v":""},null,null,null,null,null,null,""]
[null,null,null,null,null,{"$f":"IF(E856=\"\",\"\",IF(E856>0,IF(MID(D856,8,3)=\"-101\",\"GPF Loan\",IF(MID(D856,8,4)=\"-105\",\"SI Loan\",(INDEX(New_Object_Head_1718,MATCH('Bill Register 20-21'!E856,Object_Code_bill_register,0)))))))","v":""},null,null,null,null,null,null,""]
[null,null,null,null,null,{"$f":"IF(E857=\"\",\"\",IF(E857>0,IF(MID(D857,8,3)=\"-101\",\"GPF Loan\",IF(MID(D857,8,4)=\"-105\",\"SI Loan\",(INDEX(New_Object_Head_1718,MATCH('Bill Register 20-21'!E857,Object_Code_bill_register,0)))))))","v":""},null,null,null,null,null,null,""]
[null,null,null,null,null,{"$f":"IF(E858=\"\",\"\",IF(E858>0,IF(MID(D858,8,3)=\"-101\",\"GPF Loan\",IF(MID(D858,8,4)=\"-105\",\"SI Loan\",(INDEX(New_Object_Head_1718,MATCH('Bill Register 20-21'!E858,Object_Code_bill_register,0)))))))","v":""},null,null,null,null,null,null,""]
[null,null,null,null,null,{"$f":"IF(E859=\"\",\"\",IF(E859>0,IF(MID(D859,8,3)=\"-101\",\"GPF Loan\",IF(MID(D859,8,4)=\"-105\",\"SI Loan\",(INDEX(New_Object_Head_1718,MATCH('Bill Register 20-21'!E859,Object_Code_bill_register,0)))))))","v":""},null,null,null,null,null,null,""]
[null,null,null,null,null,{"$f":"IF(E860=\"\",\"\",IF(E860>0,IF(MID(D860,8,3)=\"-101\",\"GPF Loan\",IF(MID(D860,8,4)=\"-105\",\"SI Loan\",(INDEX(New_Object_Head_1718,MATCH('Bill Register 20-21'!E860,Object_Code_bill_register,0)))))))","v":""},null,null,null,null,null,null,""]
[null,null,null,null,null,{"$f":"IF(E861=\"\",\"\",IF(E861>0,IF(MID(D861,8,3)=\"-101\",\"GPF Loan\",IF(MID(D861,8,4)=\"-105\",\"SI Loan\",(INDEX(New_Object_Head_1718,MATCH('Bill Register 20-21'!E861,Object_Code_bill_register,0)))))))","v":""},null,null,null,null,null,null,""]
[null,null,null,null,null,{"$f":"IF(E862=\"\",\"\",IF(E862>0,IF(MID(D862,8,3)=\"-101\",\"GPF Loan\",IF(MID(D862,8,4)=\"-105\",\"SI Loan\",(INDEX(New_Object_Head_1718,MATCH('Bill Register 20-21'!E862,Object_Code_bill_register,0)))))))","v":""},null,null,null,null,null,null,""]
[null,null,null,null,null,{"$f":"IF(E863=\"\",\"\",IF(E863>0,IF(MID(D863,8,3)=\"-101\",\"GPF Loan\",IF(MID(D863,8,4)=\"-105\",\"SI Loan\",(INDEX(New_Object_Head_1718,MATCH('Bill Register 20-21'!E863,Object_Code_bill_register,0)))))))","v":""},null,null,null,null,null,null,""]
[null,null,null,null,null,{"$f":"IF(E864=\"\",\"\",IF(E864>0,IF(MID(D864,8,3)=\"-101\",\"GPF Loan\",IF(MID(D864,8,4)=\"-105\",\"SI Loan\",(INDEX(New_Object_Head_1718,MATCH('Bill Register 20-21'!E864,Object_Code_bill_register,0)))))))","v":""},null,null,null,null,null,null,""]
[null,null,null,null,null,{"$f":"IF(E865=\"\",\"\",IF(E865>0,IF(MID(D865,8,3)=\"-101\",\"GPF Loan\",IF(MID(D865,8,4)=\"-105\",\"SI Loan\",(INDEX(New_Object_Head_1718,MATCH('Bill Register 20-21'!E865,Object_Code_bill_register,0)))))))","v":""},null,null,null,null,null,null,""]
[null,null,null,null,null,{"$f":"IF(E866=\"\",\"\",IF(E866>0,IF(MID(D866,8,3)=\"-101\",\"GPF Loan\",IF(MID(D866,8,4)=\"-105\",\"SI Loan\",(INDEX(New_Object_Head_1718,MATCH('Bill Register 20-21'!E866,Object_Code_bill_register,0)))))))","v":""},null,null,null,null,null,null,""]
[null,null,null,null,null,{"$f":"IF(E867=\"\",\"\",IF(E867>0,IF(MID(D867,8,3)=\"-101\",\"GPF Loan\",IF(MID(D867,8,4)=\"-105\",\"SI Loan\",(INDEX(New_Object_Head_1718,MATCH('Bill Register 20-21'!E867,Object_Code_bill_register,0)))))))","v":""},null,null,null,null,null,null,""]
[null,null,null,null,null,{"$f":"IF(E868=\"\",\"\",IF(E868>0,IF(MID(D868,8,3)=\"-101\",\"GPF Loan\",IF(MID(D868,8,4)=\"-105\",\"SI Loan\",(INDEX(New_Object_Head_1718,MATCH('Bill Register 20-21'!E868,Object_Code_bill_register,0)))))))","v":""},null,null,null,null,null,null,""]
[null,null,null,null,null,{"$f":"IF(E869=\"\",\"\",IF(E869>0,IF(MID(D869,8,3)=\"-101\",\"GPF Loan\",IF(MID(D869,8,4)=\"-105\",\"SI Loan\",(INDEX(New_Object_Head_1718,MATCH('Bill Register 20-21'!E869,Object_Code_bill_register,0)))))))","v":""},null,null,null,null,null,null,""]
[null,null,null,null,null,{"$f":"IF(E870=\"\",\"\",IF(E870>0,IF(MID(D870,8,3)=\"-101\",\"GPF Loan\",IF(MID(D870,8,4)=\"-105\",\"SI Loan\",(INDEX(New_Object_Head_1718,MATCH('Bill Register 20-21'!E870,Object_Code_bill_register,0)))))))","v":""},null,null,null,null,null,null,""]
[null,null,null,null,null,{"$f":"IF(E871=\"\",\"\",IF(E871>0,IF(MID(D871,8,3)=\"-101\",\"GPF Loan\",IF(MID(D871,8,4)=\"-105\",\"SI Loan\",(INDEX(New_Object_Head_1718,MATCH('Bill Register 20-21'!E871,Object_Code_bill_register,0)))))))","v":""},null,null,null,null,null,null,""]
[null,null,null,null,null,{"$f":"IF(E872=\"\",\"\",IF(E872>0,IF(MID(D872,8,3)=\"-101\",\"GPF Loan\",IF(MID(D872,8,4)=\"-105\",\"SI Loan\",(INDEX(New_Object_Head_1718,MATCH('Bill Register 20-21'!E872,Object_Code_bill_register,0)))))))","v":""},null,null,null,null,null,null,""]
[null,null,null,null,null,{"$f":"IF(E873=\"\",\"\",IF(E873>0,IF(MID(D873,8,3)=\"-101\",\"GPF Loan\",IF(MID(D873,8,4)=\"-105\",\"SI Loan\",(INDEX(New_Object_Head_1718,MATCH('Bill Register 20-21'!E873,Object_Code_bill_register,0)))))))","v":""},null,null,null,null,null,null,""]
[null,null,null,null,null,{"$f":"IF(E874=\"\",\"\",IF(E874>0,IF(MID(D874,8,3)=\"-101\",\"GPF Loan\",IF(MID(D874,8,4)=\"-105\",\"SI Loan\",(INDEX(New_Object_Head_1718,MATCH('Bill Register 20-21'!E874,Object_Code_bill_register,0)))))))","v":""},null,null,null,null,null,null,""]
[null,null,null,null,null,{"$f":"IF(E875=\"\",\"\",IF(E875>0,IF(MID(D875,8,3)=\"-101\",\"GPF Loan\",IF(MID(D875,8,4)=\"-105\",\"SI Loan\",(INDEX(New_Object_Head_1718,MATCH('Bill Register 20-21'!E875,Object_Code_bill_register,0)))))))","v":""},null,null,null,null,null,null,""]
[null,null,null,null,null,{"$f":"IF(E876=\"\",\"\",IF(E876>0,IF(MID(D876,8,3)=\"-101\",\"GPF Loan\",IF(MID(D876,8,4)=\"-105\",\"SI Loan\",(INDEX(New_Object_Head_1718,MATCH('Bill Register 20-21'!E876,Object_Code_bill_register,0)))))))","v":""},null,null,null,null,null,null,""]
[null,null,null,null,null,{"$f":"IF(E877=\"\",\"\",IF(E877>0,IF(MID(D877,8,3)=\"-101\",\"GPF Loan\",IF(MID(D877,8,4)=\"-105\",\"SI Loan\",(INDEX(New_Object_Head_1718,MATCH('Bill Register 20-21'!E877,Object_Code_bill_register,0)))))))","v":""},null,null,null,null,null,null,""]
[null,null,null,null,null,{"$f":"IF(E878=\"\",\"\",IF(E878>0,IF(MID(D878,8,3)=\"-101\",\"GPF Loan\",IF(MID(D878,8,4)=\"-105\",\"SI Loan\",(INDEX(New_Object_Head_1718,MATCH('Bill Register 20-21'!E878,Object_Code_bill_register,0)))))))","v":""},null,null,null,null,null,null,""]
[null,null,null,null,null,{"$f":"IF(E879=\"\",\"\",IF(E879>0,IF(MID(D879,8,3)=\"-101\",\"GPF Loan\",IF(MID(D879,8,4)=\"-105\",\"SI Loan\",(INDEX(New_Object_Head_1718,MATCH('Bill Register 20-21'!E879,Object_Code_bill_register,0)))))))","v":""},null,null,null,null,null,null,""]
[null,null,null,null,null,{"$f":"IF(E880=\"\",\"\",IF(E880>0,IF(MID(D880,8,3)=\"-101\",\"GPF Loan\",IF(MID(D880,8,4)=\"-105\",\"SI Loan\",(INDEX(New_Object_Head_1718,MATCH('Bill Register 20-21'!E880,Object_Code_bill_register,0)))))))","v":""},null,null,null,null,null,null,""]
[null,null,null,null,null,{"$f":"IF(E881=\"\",\"\",IF(E881>0,IF(MID(D881,8,3)=\"-101\",\"GPF Loan\",IF(MID(D881,8,4)=\"-105\",\"SI Loan\",(INDEX(New_Object_Head_1718,MATCH('Bill Register 20-21'!E881,Object_Code_bill_register,0)))))))","v":""},null,null,null,null,null,null,""]
[null,null,null,null,null,{"$f":"IF(E882=\"\",\"\",IF(E882>0,IF(MID(D882,8,3)=\"-101\",\"GPF Loan\",IF(MID(D882,8,4)=\"-105\",\"SI Loan\",(INDEX(New_Object_Head_1718,MATCH('Bill Register 20-21'!E882,Object_Code_bill_register,0)))))))","v":""},null,null,null,null,null,null,""]
[null,null,null,null,null,{"$f":"IF(E883=\"\",\"\",IF(E883>0,IF(MID(D883,8,3)=\"-101\",\"GPF Loan\",IF(MID(D883,8,4)=\"-105\",\"SI Loan\",(INDEX(New_Object_Head_1718,MATCH('Bill Register 20-21'!E883,Object_Code_bill_register,0)))))))","v":""},null,null,null,null,null,null,""]
[null,null,null,null,null,{"$f":"IF(E884=\"\",\"\",IF(E884>0,IF(MID(D884,8,3)=\"-101\",\"GPF Loan\",IF(MID(D884,8,4)=\"-105\",\"SI Loan\",(INDEX(New_Object_Head_1718,MATCH('Bill Register 20-21'!E884,Object_Code_bill_register,0)))))))","v":""},null,null,null,null,null,null,""]
[null,null,null,null,null,{"$f":"IF(E885=\"\",\"\",IF(E885>0,IF(MID(D885,8,3)=\"-101\",\"GPF Loan\",IF(MID(D885,8,4)=\"-105\",\"SI Loan\",(INDEX(New_Object_Head_1718,MATCH('Bill Register 20-21'!E885,Object_Code_bill_register,0)))))))","v":""},null,null,null,null,null,null,""]
[null,null,null,null,null,{"$f":"IF(E886=\"\",\"\",IF(E886>0,IF(MID(D886,8,3)=\"-101\",\"GPF Loan\",IF(MID(D886,8,4)=\"-105\",\"SI Loan\",(INDEX(New_Object_Head_1718,MATCH('Bill Register 20-21'!E886,Object_Code_bill_register,0)))))))","v":""},null,null,null,null,null,null,""]
[null,null,null,null,null,{"$f":"IF(E887=\"\",\"\",IF(E887>0,IF(MID(D887,8,3)=\"-101\",\"GPF Loan\",IF(MID(D887,8,4)=\"-105\",\"SI Loan\",(INDEX(New_Object_Head_1718,MATCH('Bill Register 20-21'!E887,Object_Code_bill_register,0)))))))","v":""},null,null,null,null,null,null,""]
[null,null,null,null,null,{"$f":"IF(E888=\"\",\"\",IF(E888>0,IF(MID(D888,8,3)=\"-101\",\"GPF Loan\",IF(MID(D888,8,4)=\"-105\",\"SI Loan\",(INDEX(New_Object_Head_1718,MATCH('Bill Register 20-21'!E888,Object_Code_bill_register,0)))))))","v":""},null,null,null,null,null,null,""]
[null,null,null,null,null,{"$f":"IF(E889=\"\",\"\",IF(E889>0,IF(MID(D889,8,3)=\"-101\",\"GPF Loan\",IF(MID(D889,8,4)=\"-105\",\"SI Loan\",(INDEX(New_Object_Head_1718,MATCH('Bill Register 20-21'!E889,Object_Code_bill_register,0)))))))","v":""},null,null,null,null,null,null,""]
[null,null,null,null,null,{"$f":"IF(E890=\"\",\"\",IF(E890>0,IF(MID(D890,8,3)=\"-101\",\"GPF Loan\",IF(MID(D890,8,4)=\"-105\",\"SI Loan\",(INDEX(New_Object_Head_1718,MATCH('Bill Register 20-21'!E890,Object_Code_bill_register,0)))))))","v":""},null,null,null,null,null,null,""]
[null,null,null,null,null,{"$f":"IF(E891=\"\",\"\",IF(E891>0,IF(MID(D891,8,3)=\"-101\",\"GPF Loan\",IF(MID(D891,8,4)=\"-105\",\"SI Loan\",(INDEX(New_Object_Head_1718,MATCH('Bill Register 20-21'!E891,Object_Code_bill_register,0)))))))","v":""},null,null,null,null,null,null,""]
[null,null,null,null,null,{"$f":"IF(E892=\"\",\"\",IF(E892>0,IF(MID(D892,8,3)=\"-101\",\"GPF Loan\",IF(MID(D892,8,4)=\"-105\",\"SI Loan\",(INDEX(New_Object_Head_1718,MATCH('Bill Register 20-21'!E892,Object_Code_bill_register,0)))))))","v":""},null,null,null,null,null,null,""]
[null,null,null,null,null,{"$f":"IF(E893=\"\",\"\",IF(E893>0,IF(MID(D893,8,3)=\"-101\",\"GPF Loan\",IF(MID(D893,8,4)=\"-105\",\"SI Loan\",(INDEX(New_Object_Head_1718,MATCH('Bill Register 20-21'!E893,Object_Code_bill_register,0)))))))","v":""},null,null,null,null,null,null,""]
[null,null,null,null,null,{"$f":"IF(E894=\"\",\"\",IF(E894>0,IF(MID(D894,8,3)=\"-101\",\"GPF Loan\",IF(MID(D894,8,4)=\"-105\",\"SI Loan\",(INDEX(New_Object_Head_1718,MATCH('Bill Register 20-21'!E894,Object_Code_bill_register,0)))))))","v":""},null,null,null,null,null,null,""]
[null,null,null,null,null,{"$f":"IF(E895=\"\",\"\",IF(E895>0,IF(MID(D895,8,3)=\"-101\",\"GPF Loan\",IF(MID(D895,8,4)=\"-105\",\"SI Loan\",(INDEX(New_Object_Head_1718,MATCH('Bill Register 20-21'!E895,Object_Code_bill_register,0)))))))","v":""},null,null,null,null,null,null,""]
[null,null,null,null,null,{"$f":"IF(E896=\"\",\"\",IF(E896>0,IF(MID(D896,8,3)=\"-101\",\"GPF Loan\",IF(MID(D896,8,4)=\"-105\",\"SI Loan\",(INDEX(New_Object_Head_1718,MATCH('Bill Register 20-21'!E896,Object_Code_bill_register,0)))))))","v":""},null,null,null,null,null,null,""]
[null,null,null,null,null,{"$f":"IF(E897=\"\",\"\",IF(E897>0,IF(MID(D897,8,3)=\"-101\",\"GPF Loan\",IF(MID(D897,8,4)=\"-105\",\"SI Loan\",(INDEX(New_Object_Head_1718,MATCH('Bill Register 20-21'!E897,Object_Code_bill_register,0)))))))","v":""},null,null,null,null,null,null,""]
[null,null,null,null,null,{"$f":"IF(E898=\"\",\"\",IF(E898>0,IF(MID(D898,8,3)=\"-101\",\"GPF Loan\",IF(MID(D898,8,4)=\"-105\",\"SI Loan\",(INDEX(New_Object_Head_1718,MATCH('Bill Register 20-21'!E898,Object_Code_bill_register,0)))))))","v":""},null,null,null,null,null,null,""]
[null,null,null,null,null,{"$f":"IF(E899=\"\",\"\",IF(E899>0,IF(MID(D899,8,3)=\"-101\",\"GPF Loan\",IF(MID(D899,8,4)=\"-105\",\"SI Loan\",(INDEX(New_Object_Head_1718,MATCH('Bill Register 20-21'!E899,Object_Code_bill_register,0)))))))","v":""},null,null,null,null,null,null,""]
[null,null,null,null,null,{"$f":"IF(E900=\"\",\"\",IF(E900>0,IF(MID(D900,8,3)=\"-101\",\"GPF Loan\",IF(MID(D900,8,4)=\"-105\",\"SI Loan\",(INDEX(New_Object_Head_1718,MATCH('Bill Register 20-21'!E900,Object_Code_bill_register,0)))))))","v":""},null,null,null,null,null,null,{"$f":"IF(L900=\"\",\"\",EOMONTH(L900,0))","v":""}]
[null,null,null,null,null,{"$f":"IF(E901=\"\",\"\",IF(E901>0,IF(MID(D901,8,3)=\"-101\",\"GPF Loan\",IF(MID(D901,8,4)=\"-105\",\"SI Loan\",(INDEX(New_Object_Head_1718,MATCH('Bill Register 20-21'!E901,Object_Code_bill_register,0)))))))","v":""},null,null,null,null,null,null,""]
[null,null,null,null,null,{"$f":"IF(E902=\"\",\"\",IF(E902>0,IF(MID(D902,8,3)=\"-101\",\"GPF Loan\",IF(MID(D902,8,4)=\"-105\",\"SI Loan\",(INDEX(New_Object_Head_1718,MATCH('Bill Register 20-21'!E902,Object_Code_bill_register,0)))))))","v":""},null,null,null,null,null,null,""]
[null,null,null,null,null,{"$f":"IF(E903=\"\",\"\",IF(E903>0,IF(MID(D903,8,3)=\"-101\",\"GPF Loan\",IF(MID(D903,8,4)=\"-105\",\"SI Loan\",(INDEX(New_Object_Head_1718,MATCH('Bill Register 20-21'!E903,Object_Code_bill_register,0)))))))","v":""},null,null,null,null,null,null,""]
[null,null,null,null,null,{"$f":"IF(E904=\"\",\"\",IF(E904>0,IF(MID(D904,8,3)=\"-101\",\"GPF Loan\",IF(MID(D904,8,4)=\"-105\",\"SI Loan\",(INDEX(New_Object_Head_1718,MATCH('Bill Register 20-21'!E904,Object_Code_bill_register,0)))))))","v":""},null,null,null,null,null,null,""]
[null,null,null,null,null,{"$f":"IF(E905=\"\",\"\",IF(E905>0,IF(MID(D905,8,3)=\"-101\",\"GPF Loan\",IF(MID(D905,8,4)=\"-105\",\"SI Loan\",(INDEX(New_Object_Head_1718,MATCH('Bill Register 20-21'!E905,Object_Code_bill_register,0)))))))","v":""},null,null,null,null,null,null,""]
[null,null,null,null,null,{"$f":"IF(E906=\"\",\"\",IF(E906>0,IF(MID(D906,8,3)=\"-101\",\"GPF Loan\",IF(MID(D906,8,4)=\"-105\",\"SI Loan\",(INDEX(New_Object_Head_1718,MATCH('Bill Register 20-21'!E906,Object_Code_bill_register,0)))))))","v":""},null,null,null,null,null,null,""]
[null,null,null,null,null,{"$f":"IF(E907=\"\",\"\",IF(E907>0,IF(MID(D907,8,3)=\"-101\",\"GPF Loan\",IF(MID(D907,8,4)=\"-105\",\"SI Loan\",(INDEX(New_Object_Head_1718,MATCH('Bill Register 20-21'!E907,Object_Code_bill_register,0)))))))","v":""},null,null,null,null,null,null,""]
[null,null,null,null,null,{"$f":"IF(E908=\"\",\"\",IF(E908>0,IF(MID(D908,8,3)=\"-101\",\"GPF Loan\",IF(MID(D908,8,4)=\"-105\",\"SI Loan\",(INDEX(New_Object_Head_1718,MATCH('Bill Register 20-21'!E908,Object_Code_bill_register,0)))))))","v":""},null,null,null,null,null,null,""]
[null,null,null,null,null,{"$f":"IF(E909=\"\",\"\",IF(E909>0,IF(MID(D909,8,3)=\"-101\",\"GPF Loan\",IF(MID(D909,8,4)=\"-105\",\"SI Loan\",(INDEX(New_Object_Head_1718,MATCH('Bill Register 20-21'!E909,Object_Code_bill_register,0)))))))","v":""},null,null,null,null,null,null,""]
[null,null,null,null,null,{"$f":"IF(E910=\"\",\"\",IF(E910>0,IF(MID(D910,8,3)=\"-101\",\"GPF Loan\",IF(MID(D910,8,4)=\"-105\",\"SI Loan\",(INDEX(New_Object_Head_1718,MATCH('Bill Register 20-21'!E910,Object_Code_bill_register,0)))))))","v":""},null,null,null,null,null,null,""]
[null,null,null,null,null,{"$f":"IF(E911=\"\",\"\",IF(E911>0,IF(MID(D911,8,3)=\"-101\",\"GPF Loan\",IF(MID(D911,8,4)=\"-105\",\"SI Loan\",(INDEX(New_Object_Head_1718,MATCH('Bill Register 20-21'!E911,Object_Code_bill_register,0)))))))","v":""},null,null,null,null,null,null,""]
[null,null,null,null,null,{"$f":"IF(E912=\"\",\"\",IF(E912>0,IF(MID(D912,8,3)=\"-101\",\"GPF Loan\",IF(MID(D912,8,4)=\"-105\",\"SI Loan\",(INDEX(New_Object_Head_1718,MATCH('Bill Register 20-21'!E912,Object_Code_bill_register,0)))))))","v":""},null,null,null,null,null,null,""]
[null,null,null,null,null,{"$f":"IF(E913=\"\",\"\",IF(E913>0,IF(MID(D913,8,3)=\"-101\",\"GPF Loan\",IF(MID(D913,8,4)=\"-105\",\"SI Loan\",(INDEX(New_Object_Head_1718,MATCH('Bill Register 20-21'!E913,Object_Code_bill_register,0)))))))","v":""},null,null,null,null,null,null,""]
[null,null,null,null,null,{"$f":"IF(E914=\"\",\"\",IF(E914>0,IF(MID(D914,8,3)=\"-101\",\"GPF Loan\",IF(MID(D914,8,4)=\"-105\",\"SI Loan\",(INDEX(New_Object_Head_1718,MATCH('Bill Register 20-21'!E914,Object_Code_bill_register,0)))))))","v":""},null,null,null,null,null,null,""]
[null,null,null,null,null,{"$f":"IF(E915=\"\",\"\",IF(E915>0,IF(MID(D915,8,3)=\"-101\",\"GPF Loan\",IF(MID(D915,8,4)=\"-105\",\"SI Loan\",(INDEX(New_Object_Head_1718,MATCH('Bill Register 20-21'!E915,Object_Code_bill_register,0)))))))","v":""},null,null,null,null,null,null,""]
[null,null,null,null,null,{"$f":"IF(E916=\"\",\"\",IF(E916>0,IF(MID(D916,8,3)=\"-101\",\"GPF Loan\",IF(MID(D916,8,4)=\"-105\",\"SI Loan\",(INDEX(New_Object_Head_1718,MATCH('Bill Register 20-21'!E916,Object_Code_bill_register,0)))))))","v":""},null,null,null,null,null,null,""]
[null,null,null,null,null,{"$f":"IF(E917=\"\",\"\",IF(E917>0,IF(MID(D917,8,3)=\"-101\",\"GPF Loan\",IF(MID(D917,8,4)=\"-105\",\"SI Loan\",(INDEX(New_Object_Head_1718,MATCH('Bill Register 20-21'!E917,Object_Code_bill_register,0)))))))","v":""},null,null,null,null,null,null,""]
[null,null,null,null,null,{"$f":"IF(E918=\"\",\"\",IF(E918>0,IF(MID(D918,8,3)=\"-101\",\"GPF Loan\",IF(MID(D918,8,4)=\"-105\",\"SI Loan\",(INDEX(New_Object_Head_1718,MATCH('Bill Register 20-21'!E918,Object_Code_bill_register,0)))))))","v":""},null,null,null,null,null,null,""]
[null,null,null,null,null,{"$f":"IF(E919=\"\",\"\",IF(E919>0,IF(MID(D919,8,3)=\"-101\",\"GPF Loan\",IF(MID(D919,8,4)=\"-105\",\"SI Loan\",(INDEX(New_Object_Head_1718,MATCH('Bill Register 20-21'!E919,Object_Code_bill_register,0)))))))","v":""},null,null,null,null,null,null,""]
[null,null,null,null,null,{"$f":"IF(E920=\"\",\"\",IF(E920>0,IF(MID(D920,8,3)=\"-101\",\"GPF Loan\",IF(MID(D920,8,4)=\"-105\",\"SI Loan\",(INDEX(New_Object_Head_1718,MATCH('Bill Register 20-21'!E920,Object_Code_bill_register,0)))))))","v":""},null,null,null,null,null,null,""]
[null,null,null,null,null,{"$f":"IF(E921=\"\",\"\",IF(E921>0,IF(MID(D921,8,3)=\"-101\",\"GPF Loan\",IF(MID(D921,8,4)=\"-105\",\"SI Loan\",(INDEX(New_Object_Head_1718,MATCH('Bill Register 20-21'!E921,Object_Code_bill_register,0)))))))","v":""},null,null,null,null,null,null,""]
[null,null,null,null,null,{"$f":"IF(E922=\"\",\"\",IF(E922>0,IF(MID(D922,8,3)=\"-101\",\"GPF Loan\",IF(MID(D922,8,4)=\"-105\",\"SI Loan\",(INDEX(New_Object_Head_1718,MATCH('Bill Register 20-21'!E922,Object_Code_bill_register,0)))))))","v":""},null,null,null,null,null,null,""]
[null,null,null,null,null,{"$f":"IF(E923=\"\",\"\",IF(E923>0,IF(MID(D923,8,3)=\"-101\",\"GPF Loan\",IF(MID(D923,8,4)=\"-105\",\"SI Loan\",(INDEX(New_Object_Head_1718,MATCH('Bill Register 20-21'!E923,Object_Code_bill_register,0)))))))","v":""},null,null,null,null,null,null,""]
[null,null,null,null,null,{"$f":"IF(E924=\"\",\"\",IF(E924>0,IF(MID(D924,8,3)=\"-101\",\"GPF Loan\",IF(MID(D924,8,4)=\"-105\",\"SI Loan\",(INDEX(New_Object_Head_1718,MATCH('Bill Register 20-21'!E924,Object_Code_bill_register,0)))))))","v":""},null,null,null,null,null,null,""]
[null,null,null,null,null,{"$f":"IF(E925=\"\",\"\",IF(E925>0,IF(MID(D925,8,3)=\"-101\",\"GPF Loan\",IF(MID(D925,8,4)=\"-105\",\"SI Loan\",(INDEX(New_Object_Head_1718,MATCH('Bill Register 20-21'!E925,Object_Code_bill_register,0)))))))","v":""},null,null,null,null,null,null,""]
[null,null,null,null,null,{"$f":"IF(E926=\"\",\"\",IF(E926>0,IF(MID(D926,8,3)=\"-101\",\"GPF Loan\",IF(MID(D926,8,4)=\"-105\",\"SI Loan\",(INDEX(New_Object_Head_1718,MATCH('Bill Register 20-21'!E926,Object_Code_bill_register,0)))))))","v":""},null,null,null,null,null,null,""]
[null,null,null,null,null,{"$f":"IF(E927=\"\",\"\",IF(E927>0,IF(MID(D927,8,3)=\"-101\",\"GPF Loan\",IF(MID(D927,8,4)=\"-105\",\"SI Loan\",(INDEX(New_Object_Head_1718,MATCH('Bill Register 20-21'!E927,Object_Code_bill_register,0)))))))","v":""},null,null,null,null,null,null,""]
[null,null,null,null,null,{"$f":"IF(E928=\"\",\"\",IF(E928>0,IF(MID(D928,8,3)=\"-101\",\"GPF Loan\",IF(MID(D928,8,4)=\"-105\",\"SI Loan\",(INDEX(New_Object_Head_1718,MATCH('Bill Register 20-21'!E928,Object_Code_bill_register,0)))))))","v":""},null,null,null,null,null,null,""]
[null,null,null,null,null,{"$f":"IF(E929=\"\",\"\",IF(E929>0,IF(MID(D929,8,3)=\"-101\",\"GPF Loan\",IF(MID(D929,8,4)=\"-105\",\"SI Loan\",(INDEX(New_Object_Head_1718,MATCH('Bill Register 20-21'!E929,Object_Code_bill_register,0)))))))","v":""},null,null,null,null,null,null,""]
[null,null,null,null,null,{"$f":"IF(E930=\"\",\"\",IF(E930>0,IF(MID(D930,8,3)=\"-101\",\"GPF Loan\",IF(MID(D930,8,4)=\"-105\",\"SI Loan\",(INDEX(New_Object_Head_1718,MATCH('Bill Register 20-21'!E930,Object_Code_bill_register,0)))))))","v":""},null,null,null,null,null,null,""]
[null,null,null,null,null,{"$f":"IF(E931=\"\",\"\",IF(E931>0,IF(MID(D931,8,3)=\"-101\",\"GPF Loan\",IF(MID(D931,8,4)=\"-105\",\"SI Loan\",(INDEX(New_Object_Head_1718,MATCH('Bill Register 20-21'!E931,Object_Code_bill_register,0)))))))","v":""},null,null,null,null,null,null,""]
[null,null,null,null,null,{"$f":"IF(E932=\"\",\"\",IF(E932>0,IF(MID(D932,8,3)=\"-101\",\"GPF Loan\",IF(MID(D932,8,4)=\"-105\",\"SI Loan\",(INDEX(New_Object_Head_1718,MATCH('Bill Register 20-21'!E932,Object_Code_bill_register,0)))))))","v":""},null,null,null,null,null,null,""]
[null,null,null,null,null,{"$f":"IF(E933=\"\",\"\",IF(E933>0,IF(MID(D933,8,3)=\"-101\",\"GPF Loan\",IF(MID(D933,8,4)=\"-105\",\"SI Loan\",(INDEX(New_Object_Head_1718,MATCH('Bill Register 20-21'!E933,Object_Code_bill_register,0)))))))","v":""},null,null,null,null,null,null,""]
[null,null,null,null,null,{"$f":"IF(E934=\"\",\"\",IF(E934>0,IF(MID(D934,8,3)=\"-101\",\"GPF Loan\",IF(MID(D934,8,4)=\"-105\",\"SI Loan\",(INDEX(New_Object_Head_1718,MATCH('Bill Register 20-21'!E934,Object_Code_bill_register,0)))))))","v":""},null,null,null,null,null,null,""]
[null,null,null,null,null,{"$f":"IF(E935=\"\",\"\",IF(E935>0,IF(MID(D935,8,3)=\"-101\",\"GPF Loan\",IF(MID(D935,8,4)=\"-105\",\"SI Loan\",(INDEX(New_Object_Head_1718,MATCH('Bill Register 20-21'!E935,Object_Code_bill_register,0)))))))","v":""},null,null,null,null,null,null,""]
[null,null,null,null,null,{"$f":"IF(E936=\"\",\"\",IF(E936>0,IF(MID(D936,8,3)=\"-101\",\"GPF Loan\",IF(MID(D936,8,4)=\"-105\",\"SI Loan\",(INDEX(New_Object_Head_1718,MATCH('Bill Register 20-21'!E936,Object_Code_bill_register,0)))))))","v":""},null,null,null,null,null,null,""]
[null,null,null,null,null,{"$f":"IF(E937=\"\",\"\",IF(E937>0,IF(MID(D937,8,3)=\"-101\",\"GPF Loan\",IF(MID(D937,8,4)=\"-105\",\"SI Loan\",(INDEX(New_Object_Head_1718,MATCH('Bill Register 20-21'!E937,Object_Code_bill_register,0)))))))","v":""},null,null,null,null,null,null,""]
[null,null,null,null,null,{"$f":"IF(E938=\"\",\"\",IF(E938>0,IF(MID(D938,8,3)=\"-101\",\"GPF Loan\",IF(MID(D938,8,4)=\"-105\",\"SI Loan\",(INDEX(New_Object_Head_1718,MATCH('Bill Register 20-21'!E938,Object_Code_bill_register,0)))))))","v":""},null,null,null,null,null,null,""]
[null,null,null,null,null,{"$f":"IF(E939=\"\",\"\",IF(E939>0,IF(MID(D939,8,3)=\"-101\",\"GPF Loan\",IF(MID(D939,8,4)=\"-105\",\"SI Loan\",(INDEX(New_Object_Head_1718,MATCH('Bill Register 20-21'!E939,Object_Code_bill_register,0)))))))","v":""},null,null,null,null,null,null,""]
[null,null,null,null,null,{"$f":"IF(E940=\"\",\"\",IF(E940>0,IF(MID(D940,8,3)=\"-101\",\"GPF Loan\",IF(MID(D940,8,4)=\"-105\",\"SI Loan\",(INDEX(New_Object_Head_1718,MATCH('Bill Register 20-21'!E940,Object_Code_bill_register,0)))))))","v":""},null,null,null,null,null,null,""]
[null,null,null,null,null,{"$f":"IF(E941=\"\",\"\",IF(E941>0,IF(MID(D941,8,3)=\"-101\",\"GPF Loan\",IF(MID(D941,8,4)=\"-105\",\"SI Loan\",(INDEX(New_Object_Head_1718,MATCH('Bill Register 20-21'!E941,Object_Code_bill_register,0)))))))","v":""},null,null,null,null,null,null,""]
[null,null,null,null,null,{"$f":"IF(E942=\"\",\"\",IF(E942>0,IF(MID(D942,8,3)=\"-101\",\"GPF Loan\",IF(MID(D942,8,4)=\"-105\",\"SI Loan\",(INDEX(New_Object_Head_1718,MATCH('Bill Register 20-21'!E942,Object_Code_bill_register,0)))))))","v":""},null,null,null,null,null,null,""]
[null,null,null,null,null,{"$f":"IF(E943=\"\",\"\",IF(E943>0,IF(MID(D943,8,3)=\"-101\",\"GPF Loan\",IF(MID(D943,8,4)=\"-105\",\"SI Loan\",(INDEX(New_Object_Head_1718,MATCH('Bill Register 20-21'!E943,Object_Code_bill_register,0)))))))","v":""},null,null,null,null,null,null,""]
[null,null,null,null,null,{"$f":"IF(E944=\"\",\"\",IF(E944>0,IF(MID(D944,8,3)=\"-101\",\"GPF Loan\",IF(MID(D944,8,4)=\"-105\",\"SI Loan\",(INDEX(New_Object_Head_1718,MATCH('Bill Register 20-21'!E944,Object_Code_bill_register,0)))))))","v":""},null,null,null,null,null,null,""]
[null,null,null,null,null,{"$f":"IF(E945=\"\",\"\",IF(E945>0,IF(MID(D945,8,3)=\"-101\",\"GPF Loan\",IF(MID(D945,8,4)=\"-105\",\"SI Loan\",(INDEX(New_Object_Head_1718,MATCH('Bill Register 20-21'!E945,Object_Code_bill_register,0)))))))","v":""},null,null,null,null,null,null,""]
[null,null,null,null,null,{"$f":"IF(E946=\"\",\"\",IF(E946>0,IF(MID(D946,8,3)=\"-101\",\"GPF Loan\",IF(MID(D946,8,4)=\"-105\",\"SI Loan\",(INDEX(New_Object_Head_1718,MATCH('Bill Register 20-21'!E946,Object_Code_bill_register,0)))))))","v":""},null,null,null,null,null,null,""]
[null,null,null,null,null,{"$f":"IF(E947=\"\",\"\",IF(E947>0,IF(MID(D947,8,3)=\"-101\",\"GPF Loan\",IF(MID(D947,8,4)=\"-105\",\"SI Loan\",(INDEX(New_Object_Head_1718,MATCH('Bill Register 20-21'!E947,Object_Code_bill_register,0)))))))","v":""},null,null,null,null,null,null,""]
[null,null,null,null,null,{"$f":"IF(E948=\"\",\"\",IF(E948>0,IF(MID(D948,8,3)=\"-101\",\"GPF Loan\",IF(MID(D948,8,4)=\"-105\",\"SI Loan\",(INDEX(New_Object_Head_1718,MATCH('Bill Register 20-21'!E948,Object_Code_bill_register,0)))))))","v":""},null,null,null,null,null,null,""]
[null,null,null,null,null,{"$f":"IF(E949=\"\",\"\",IF(E949>0,IF(MID(D949,8,3)=\"-101\",\"GPF Loan\",IF(MID(D949,8,4)=\"-105\",\"SI Loan\",(INDEX(New_Object_Head_1718,MATCH('Bill Register 20-21'!E949,Object_Code_bill_register,0)))))))","v":""},null,null,null,null,null,null,""]
[null,null,null,null,null,{"$f":"IF(E950=\"\",\"\",IF(E950>0,IF(MID(D950,8,3)=\"-101\",\"GPF Loan\",IF(MID(D950,8,4)=\"-105\",\"SI Loan\",(INDEX(New_Object_Head_1718,MATCH('Bill Register 20-21'!E950,Object_Code_bill_register,0)))))))","v":""},null,null,null,null,null,null,""]
[null,null,null,null,null,{"$f":"IF(E951=\"\",\"\",IF(E951>0,IF(MID(D951,8,3)=\"-101\",\"GPF Loan\",IF(MID(D951,8,4)=\"-105\",\"SI Loan\",(INDEX(New_Object_Head_1718,MATCH('Bill Register 20-21'!E951,Object_Code_bill_register,0)))))))","v":""},null,null,null,null,null,null,""]
[null,null,null,null,null,{"$f":"IF(E952=\"\",\"\",IF(E952>0,IF(MID(D952,8,3)=\"-101\",\"GPF Loan\",IF(MID(D952,8,4)=\"-105\",\"SI Loan\",(INDEX(New_Object_Head_1718,MATCH('Bill Register 20-21'!E952,Object_Code_bill_register,0)))))))","v":""},null,null,null,null,null,null,""]
[null,null,null,null,null,{"$f":"IF(E953=\"\",\"\",IF(E953>0,IF(MID(D953,8,3)=\"-101\",\"GPF Loan\",IF(MID(D953,8,4)=\"-105\",\"SI Loan\",(INDEX(New_Object_Head_1718,MATCH('Bill Register 20-21'!E953,Object_Code_bill_register,0)))))))","v":""},null,null,null,null,null,null,""]
[null,null,null,null,null,{"$f":"IF(E954=\"\",\"\",IF(E954>0,IF(MID(D954,8,3)=\"-101\",\"GPF Loan\",IF(MID(D954,8,4)=\"-105\",\"SI Loan\",(INDEX(New_Object_Head_1718,MATCH('Bill Register 20-21'!E954,Object_Code_bill_register,0)))))))","v":""},null,null,null,null,null,null,""]
[null,null,null,null,null,{"$f":"IF(E955=\"\",\"\",IF(E955>0,IF(MID(D955,8,3)=\"-101\",\"GPF Loan\",IF(MID(D955,8,4)=\"-105\",\"SI Loan\",(INDEX(New_Object_Head_1718,MATCH('Bill Register 20-21'!E955,Object_Code_bill_register,0)))))))","v":""},null,null,null,null,null,null,""]
[null,null,null,null,null,{"$f":"IF(E956=\"\",\"\",IF(E956>0,IF(MID(D956,8,3)=\"-101\",\"GPF Loan\",IF(MID(D956,8,4)=\"-105\",\"SI Loan\",(INDEX(New_Object_Head_1718,MATCH('Bill Register 20-21'!E956,Object_Code_bill_register,0)))))))","v":""},null,null,null,null,null,null,""]
[null,null,null,null,null,{"$f":"IF(E957=\"\",\"\",IF(E957>0,IF(MID(D957,8,3)=\"-101\",\"GPF Loan\",IF(MID(D957,8,4)=\"-105\",\"SI Loan\",(INDEX(New_Object_Head_1718,MATCH('Bill Register 20-21'!E957,Object_Code_bill_register,0)))))))","v":""},null,null,null,null,null,null,""]
[null,null,null,null,null,{"$f":"IF(E958=\"\",\"\",IF(E958>0,IF(MID(D958,8,3)=\"-101\",\"GPF Loan\",IF(MID(D958,8,4)=\"-105\",\"SI Loan\",(INDEX(New_Object_Head_1718,MATCH('Bill Register 20-21'!E958,Object_Code_bill_register,0)))))))","v":""},null,null,null,null,null,null,""]
[null,null,null,null,null,{"$f":"IF(E959=\"\",\"\",IF(E959>0,IF(MID(D959,8,3)=\"-101\",\"GPF Loan\",IF(MID(D959,8,4)=\"-105\",\"SI Loan\",(INDEX(New_Object_Head_1718,MATCH('Bill Register 20-21'!E959,Object_Code_bill_register,0)))))))","v":""},null,null,null,null,null,null,""]
[null,null,null,null,null,{"$f":"IF(E960=\"\",\"\",IF(E960>0,IF(MID(D960,8,3)=\"-101\",\"GPF Loan\",IF(MID(D960,8,4)=\"-105\",\"SI Loan\",(INDEX(New_Object_Head_1718,MATCH('Bill Register 20-21'!E960,Object_Code_bill_register,0)))))))","v":""},null,null,null,null,null,null,""]
[null,null,null,null,null,{"$f":"IF(E961=\"\",\"\",IF(E961>0,IF(MID(D961,8,3)=\"-101\",\"GPF Loan\",IF(MID(D961,8,4)=\"-105\",\"SI Loan\",(INDEX(New_Object_Head_1718,MATCH('Bill Register 20-21'!E961,Object_Code_bill_register,0)))))))","v":""},null,null,null,null,null,null,""]
[null,null,null,null,null,{"$f":"IF(E962=\"\",\"\",IF(E962>0,IF(MID(D962,8,3)=\"-101\",\"GPF Loan\",IF(MID(D962,8,4)=\"-105\",\"SI Loan\",(INDEX(New_Object_Head_1718,MATCH('Bill Register 20-21'!E962,Object_Code_bill_register,0)))))))","v":""},null,null,null,null,null,null,""]
[null,null,null,null,null,{"$f":"IF(E963=\"\",\"\",IF(E963>0,IF(MID(D963,8,3)=\"-101\",\"GPF Loan\",IF(MID(D963,8,4)=\"-105\",\"SI Loan\",(INDEX(New_Object_Head_1718,MATCH('Bill Register 20-21'!E963,Object_Code_bill_register,0)))))))","v":""},null,null,null,null,null,null,""]
[null,null,null,null,null,{"$f":"IF(E964=\"\",\"\",IF(E964>0,IF(MID(D964,8,3)=\"-101\",\"GPF Loan\",IF(MID(D964,8,4)=\"-105\",\"SI Loan\",(INDEX(New_Object_Head_1718,MATCH('Bill Register 20-21'!E964,Object_Code_bill_register,0)))))))","v":""},null,null,null,null,null,null,{"$f":"IF(L964=\"\",\"\",EOMONTH(L964,0))","v":""}]
[null,null,null,null,null,{"$f":"IF(E965=\"\",\"\",IF(E965>0,IF(MID(D965,8,3)=\"-101\",\"GPF Loan\",IF(MID(D965,8,4)=\"-105\",\"SI Loan\",(INDEX(New_Object_Head_1718,MATCH('Bill Register 20-21'!E965,Object_Code_bill_register,0)))))))","v":""},null,null,null,null,null,null,""]
[null,null,null,null,null,{"$f":"IF(E966=\"\",\"\",IF(E966>0,IF(MID(D966,8,3)=\"-101\",\"GPF Loan\",IF(MID(D966,8,4)=\"-105\",\"SI Loan\",(INDEX(New_Object_Head_1718,MATCH('Bill Register 20-21'!E966,Object_Code_bill_register,0)))))))","v":""},null,null,null,null,null,null,""]
[null,null,null,null,null,{"$f":"IF(E967=\"\",\"\",IF(E967>0,IF(MID(D967,8,3)=\"-101\",\"GPF Loan\",IF(MID(D967,8,4)=\"-105\",\"SI Loan\",(INDEX(New_Object_Head_1718,MATCH('Bill Register 20-21'!E967,Object_Code_bill_register,0)))))))","v":""},null,null,null,null,null,null,""]
[null,null,null,null,null,{"$f":"IF(E968=\"\",\"\",IF(E968>0,IF(MID(D968,8,3)=\"-101\",\"GPF Loan\",IF(MID(D968,8,4)=\"-105\",\"SI Loan\",(INDEX(New_Object_Head_1718,MATCH('Bill Register 20-21'!E968,Object_Code_bill_register,0)))))))","v":""},null,null,null,null,null,null,""]
[null,null,null,null,null,{"$f":"IF(E969=\"\",\"\",IF(E969>0,IF(MID(D969,8,3)=\"-101\",\"GPF Loan\",IF(MID(D969,8,4)=\"-105\",\"SI Loan\",(INDEX(New_Object_Head_1718,MATCH('Bill Register 20-21'!E969,Object_Code_bill_register,0)))))))","v":""},null,null,null,null,null,null,""]
[null,null,null,null,null,{"$f":"IF(E970=\"\",\"\",IF(E970>0,IF(MID(D970,8,3)=\"-101\",\"GPF Loan\",IF(MID(D970,8,4)=\"-105\",\"SI Loan\",(INDEX(New_Object_Head_1718,MATCH('Bill Register 20-21'!E970,Object_Code_bill_register,0)))))))","v":""},null,null,null,null,null,null,""]
[null,null,null,null,null,{"$f":"IF(E971=\"\",\"\",IF(E971>0,IF(MID(D971,8,3)=\"-101\",\"GPF Loan\",IF(MID(D971,8,4)=\"-105\",\"SI Loan\",(INDEX(New_Object_Head_1718,MATCH('Bill Register 20-21'!E971,Object_Code_bill_register,0)))))))","v":""},null,null,null,null,null,null,""]
[null,null,null,null,null,{"$f":"IF(E972=\"\",\"\",IF(E972>0,IF(MID(D972,8,3)=\"-101\",\"GPF Loan\",IF(MID(D972,8,4)=\"-105\",\"SI Loan\",(INDEX(New_Object_Head_1718,MATCH('Bill Register 20-21'!E972,Object_Code_bill_register,0)))))))","v":""},null,null,null,null,null,null,""]
[null,null,null,null,null,{"$f":"IF(E973=\"\",\"\",IF(E973>0,IF(MID(D973,8,3)=\"-101\",\"GPF Loan\",IF(MID(D973,8,4)=\"-105\",\"SI Loan\",(INDEX(New_Object_Head_1718,MATCH('Bill Register 20-21'!E973,Object_Code_bill_register,0)))))))","v":""},null,null,null,null,null,null,""]
[null,null,null,null,null,{"$f":"IF(E974=\"\",\"\",IF(E974>0,IF(MID(D974,8,3)=\"-101\",\"GPF Loan\",IF(MID(D974,8,4)=\"-105\",\"SI Loan\",(INDEX(New_Object_Head_1718,MATCH('Bill Register 20-21'!E974,Object_Code_bill_register,0)))))))","v":""},null,null,null,null,null,null,""]
[null,null,null,null,null,{"$f":"IF(E975=\"\",\"\",IF(E975>0,IF(MID(D975,8,3)=\"-101\",\"GPF Loan\",IF(MID(D975,8,4)=\"-105\",\"SI Loan\",(INDEX(New_Object_Head_1718,MATCH('Bill Register 20-21'!E975,Object_Code_bill_register,0)))))))","v":""},null,null,null,null,null,null,""]
[null,null,null,null,null,{"$f":"IF(E976=\"\",\"\",IF(E976>0,IF(MID(D976,8,3)=\"-101\",\"GPF Loan\",IF(MID(D976,8,4)=\"-105\",\"SI Loan\",(INDEX(New_Object_Head_1718,MATCH('Bill Register 20-21'!E976,Object_Code_bill_register,0)))))))","v":""},null,null,null,null,null,null,""]
[null,null,null,null,null,{"$f":"IF(E977=\"\",\"\",IF(E977>0,IF(MID(D977,8,3)=\"-101\",\"GPF Loan\",IF(MID(D977,8,4)=\"-105\",\"SI Loan\",(INDEX(New_Object_Head_1718,MATCH('Bill Register 20-21'!E977,Object_Code_bill_register,0)))))))","v":""},null,null,null,null,null,null,""]
[null,null,null,null,null,{"$f":"IF(E978=\"\",\"\",IF(E978>0,IF(MID(D978,8,3)=\"-101\",\"GPF Loan\",IF(MID(D978,8,4)=\"-105\",\"SI Loan\",(INDEX(New_Object_Head_1718,MATCH('Bill Register 20-21'!E978,Object_Code_bill_register,0)))))))","v":""},null,null,null,null,null,null,""]
[null,null,null,null,null,{"$f":"IF(E979=\"\",\"\",IF(E979>0,IF(MID(D979,8,3)=\"-101\",\"GPF Loan\",IF(MID(D979,8,4)=\"-105\",\"SI Loan\",(INDEX(New_Object_Head_1718,MATCH('Bill Register 20-21'!E979,Object_Code_bill_register,0)))))))","v":""},null,null,null,null,null,null,""]
[null,null,null,null,null,{"$f":"IF(E980=\"\",\"\",IF(E980>0,IF(MID(D980,8,3)=\"-101\",\"GPF Loan\",IF(MID(D980,8,4)=\"-105\",\"SI Loan\",(INDEX(New_Object_Head_1718,MATCH('Bill Register 20-21'!E980,Object_Code_bill_register,0)))))))","v":""},null,null,null,null,null,null,""]
[null,null,null,null,null,{"$f":"IF(E981=\"\",\"\",IF(E981>0,IF(MID(D981,8,3)=\"-101\",\"GPF Loan\",IF(MID(D981,8,4)=\"-105\",\"SI Loan\",(INDEX(New_Object_Head_1718,MATCH('Bill Register 20-21'!E981,Object_Code_bill_register,0)))))))","v":""},null,null,null,null,null,null,""]
[null,null,null,null,null,{"$f":"IF(E982=\"\",\"\",IF(E982>0,IF(MID(D982,8,3)=\"-101\",\"GPF Loan\",IF(MID(D982,8,4)=\"-105\",\"SI Loan\",(INDEX(New_Object_Head_1718,MATCH('Bill Register 20-21'!E982,Object_Code_bill_register,0)))))))","v":""},null,null,null,null,null,null,""]
[null,null,null,null,null,{"$f":"IF(E983=\"\",\"\",IF(E983>0,IF(MID(D983,8,3)=\"-101\",\"GPF Loan\",IF(MID(D983,8,4)=\"-105\",\"SI Loan\",(INDEX(New_Object_Head_1718,MATCH('Bill Register 20-21'!E983,Object_Code_bill_register,0)))))))","v":""},null,null,null,null,null,null,""]
[null,null,null,null,null,{"$f":"IF(E984=\"\",\"\",IF(E984>0,IF(MID(D984,8,3)=\"-101\",\"GPF Loan\",IF(MID(D984,8,4)=\"-105\",\"SI Loan\",(INDEX(New_Object_Head_1718,MATCH('Bill Register 20-21'!E984,Object_Code_bill_register,0)))))))","v":""},null,null,null,null,null,null,""]
[null,null,null,null,null,{"$f":"IF(E985=\"\",\"\",IF(E985>0,IF(MID(D985,8,3)=\"-101\",\"GPF Loan\",IF(MID(D985,8,4)=\"-105\",\"SI Loan\",(INDEX(New_Object_Head_1718,MATCH('Bill Register 20-21'!E985,Object_Code_bill_register,0)))))))","v":""},null,null,null,null,null,null,""]
[null,null,null,null,null,{"$f":"IF(E986=\"\",\"\",IF(E986>0,IF(MID(D986,8,3)=\"-101\",\"GPF Loan\",IF(MID(D986,8,4)=\"-105\",\"SI Loan\",(INDEX(New_Object_Head_1718,MATCH('Bill Register 20-21'!E986,Object_Code_bill_register,0)))))))","v":""},null,null,null,null,null,null,""]
[null,null,null,null,null,{"$f":"IF(E987=\"\",\"\",IF(E987>0,IF(MID(D987,8,3)=\"-101\",\"GPF Loan\",IF(MID(D987,8,4)=\"-105\",\"SI Loan\",(INDEX(New_Object_Head_1718,MATCH('Bill Register 20-21'!E987,Object_Code_bill_register,0)))))))","v":""},null,null,null,null,null,null,""]
[null,null,null,null,null,{"$f":"IF(E988=\"\",\"\",IF(E988>0,IF(MID(D988,8,3)=\"-101\",\"GPF Loan\",IF(MID(D988,8,4)=\"-105\",\"SI Loan\",(INDEX(New_Object_Head_1718,MATCH('Bill Register 20-21'!E988,Object_Code_bill_register,0)))))))","v":""},null,null,null,null,null,null,""]
[null,null,null,null,null,{"$f":"IF(E989=\"\",\"\",IF(E989>0,IF(MID(D989,8,3)=\"-101\",\"GPF Loan\",IF(MID(D989,8,4)=\"-105\",\"SI Loan\",(INDEX(New_Object_Head_1718,MATCH('Bill Register 20-21'!E989,Object_Code_bill_register,0)))))))","v":""},null,null,null,null,null,null,""]
[null,null,null,null,null,{"$f":"IF(E990=\"\",\"\",IF(E990>0,IF(MID(D990,8,3)=\"-101\",\"GPF Loan\",IF(MID(D990,8,4)=\"-105\",\"SI Loan\",(INDEX(New_Object_Head_1718,MATCH('Bill Register 20-21'!E990,Object_Code_bill_register,0)))))))","v":""},null,null,null,null,null,null,""]
[null,null,null,null,null,{"$f":"IF(E991=\"\",\"\",IF(E991>0,IF(MID(D991,8,3)=\"-101\",\"GPF Loan\",IF(MID(D991,8,4)=\"-105\",\"SI Loan\",(INDEX(New_Object_Head_1718,MATCH('Bill Register 20-21'!E991,Object_Code_bill_register,0)))))))","v":""},null,null,null,null,null,null,""]
[null,null,null,null,null,{"$f":"IF(E992=\"\",\"\",IF(E992>0,IF(MID(D992,8,3)=\"-101\",\"GPF Loan\",IF(MID(D992,8,4)=\"-105\",\"SI Loan\",(INDEX(New_Object_Head_1718,MATCH('Bill Register 20-21'!E992,Object_Code_bill_register,0)))))))","v":""},null,null,null,null,null,null,""]
[null,null,null,null,null,{"$f":"IF(E993=\"\",\"\",IF(E993>0,IF(MID(D993,8,3)=\"-101\",\"GPF Loan\",IF(MID(D993,8,4)=\"-105\",\"SI Loan\",(INDEX(New_Object_Head_1718,MATCH('Bill Register 20-21'!E993,Object_Code_bill_register,0)))))))","v":""},null,null,null,null,null,null,""]
[null,null,null,null,null,{"$f":"IF(E994=\"\",\"\",IF(E994>0,IF(MID(D994,8,3)=\"-101\",\"GPF Loan\",IF(MID(D994,8,4)=\"-105\",\"SI Loan\",(INDEX(New_Object_Head_1718,MATCH('Bill Register 20-21'!E994,Object_Code_bill_register,0)))))))","v":""},null,null,null,null,null,null,""]
[null,null,null,null,null,{"$f":"IF(E995=\"\",\"\",IF(E995>0,IF(MID(D995,8,3)=\"-101\",\"GPF Loan\",IF(MID(D995,8,4)=\"-105\",\"SI Loan\",(INDEX(New_Object_Head_1718,MATCH('Bill Register 20-21'!E995,Object_Code_bill_register,0)))))))","v":""},null,null,null,null,null,null,""]
[null,null,null,null,null,{"$f":"IF(E996=\"\",\"\",IF(E996>0,IF(MID(D996,8,3)=\"-101\",\"GPF Loan\",IF(MID(D996,8,4)=\"-105\",\"SI Loan\",(INDEX(New_Object_Head_1718,MATCH('Bill Register 20-21'!E996,Object_Code_bill_register,0)))))))","v":""},null,null,null,null,null,null,""]
[null,null,null,null,null,{"$f":"IF(E997=\"\",\"\",IF(E997>0,IF(MID(D997,8,3)=\"-101\",\"GPF Loan\",IF(MID(D997,8,4)=\"-105\",\"SI Loan\",(INDEX(New_Object_Head_1718,MATCH('Bill Register 20-21'!E997,Object_Code_bill_register,0)))))))","v":""},null,null,null,null,null,null,""]
[null,null,null,null,null,{"$f":"IF(E998=\"\",\"\",IF(E998>0,IF(MID(D998,8,3)=\"-101\",\"GPF Loan\",IF(MID(D998,8,4)=\"-105\",\"SI Loan\",(INDEX(New_Object_Head_1718,MATCH('Bill Register 20-21'!E998,Object_Code_bill_register,0)))))))","v":""},null,null,null,null,null,null,""]
[null,null,null,null,null,{"$f":"IF(E999=\"\",\"\",IF(E999>0,IF(MID(D999,8,3)=\"-101\",\"GPF Loan\",IF(MID(D999,8,4)=\"-105\",\"SI Loan\",(INDEX(New_Object_Head_1718,MATCH('Bill Register 20-21'!E999,Object_Code_bill_register,0)))))))","v":""},null,null,null,null,null,null,""]
[null,null,null,null,null,{"$f":"IF(E1000=\"\",\"\",IF(E1000>0,IF(MID(D1000,8,3)=\"-101\",\"GPF Loan\",IF(MID(D1000,8,4)=\"-105\",\"SI Loan\",(INDEX(New_Object_Head_1718,MATCH('Bill Register 20-21'!E1000,Object_Code_bill_register,0)))))))","v":""},null,null,null,null,null,null,""]
[null,null,null,null,null,{"$f":"IF(E1001=\"\",\"\",IF(E1001>0,IF(MID(D1001,8,3)=\"-101\",\"GPF Loan\",IF(MID(D1001,8,4)=\"-105\",\"SI Loan\",(INDEX(New_Object_Head_1718,MATCH('Bill Register 20-21'!E1001,Object_Code_bill_register,0)))))))","v":""},null,null,null,null,null,null,""]
[null,null,null,null,null,{"$f":"IF(E1002=\"\",\"\",IF(E1002>0,IF(MID(D1002,8,3)=\"-101\",\"GPF Loan\",IF(MID(D1002,8,4)=\"-105\",\"SI Loan\",(INDEX(New_Object_Head_1718,MATCH('Bill Register 20-21'!E1002,Object_Code_bill_register,0)))))))","v":""},null,null,null,null,null,null,""]
[null,null,null,null,null,{"$f":"IF(E1003=\"\",\"\",IF(E1003>0,IF(MID(D1003,8,3)=\"-101\",\"GPF Loan\",IF(MID(D1003,8,4)=\"-105\",\"SI Loan\",(INDEX(New_Object_Head_1718,MATCH('Bill Register 20-21'!E1003,Object_Code_bill_register,0)))))))","v":""},null,null,null,null,null,null,""]
[null,null,null,null,null,{"$f":"IF(E1004=\"\",\"\",IF(E1004>0,IF(MID(D1004,8,3)=\"-101\",\"GPF Loan\",IF(MID(D1004,8,4)=\"-105\",\"SI Loan\",(INDEX(New_Object_Head_1718,MATCH('Bill Register 20-21'!E1004,Object_Code_bill_register,0)))))))","v":""},null,null,null,null,null,null,""]
[null,null,null,null,null,{"$f":"IF(E1005=\"\",\"\",IF(E1005>0,IF(MID(D1005,8,3)=\"-101\",\"GPF Loan\",IF(MID(D1005,8,4)=\"-105\",\"SI Loan\",(INDEX(New_Object_Head_1718,MATCH('Bill Register 20-21'!E1005,Object_Code_bill_register,0)))))))","v":""},null,null,null,null,null,null,""]
[null,null,null,null,null,{"$f":"IF(E1006=\"\",\"\",IF(E1006>0,IF(MID(D1006,8,3)=\"-101\",\"GPF Loan\",IF(MID(D1006,8,4)=\"-105\",\"SI Loan\",(INDEX(New_Object_Head_1718,MATCH('Bill Register 20-21'!E1006,Object_Code_bill_register,0)))))))","v":""},null,null,null,null,null,null,""]
[null,null,null,null,null,{"$f":"IF(E1007=\"\",\"\",IF(E1007>0,IF(MID(D1007,8,3)=\"-101\",\"GPF Loan\",IF(MID(D1007,8,4)=\"-105\",\"SI Loan\",(INDEX(New_Object_Head_1718,MATCH('Bill Register 20-21'!E1007,Object_Code_bill_register,0)))))))","v":""},null,null,null,null,null,null,""]
[null,null,null,null,null,{"$f":"IF(E1008=\"\",\"\",IF(E1008>0,IF(MID(D1008,8,3)=\"-101\",\"GPF Loan\",IF(MID(D1008,8,4)=\"-105\",\"SI Loan\",(INDEX(New_Object_Head_1718,MATCH('Bill Register 20-21'!E1008,Object_Code_bill_register,0)))))))","v":""},null,null,null,null,null,null,""]
[null,null,null,null,null,{"$f":"IF(E1009=\"\",\"\",IF(E1009>0,IF(MID(D1009,8,3)=\"-101\",\"GPF Loan\",IF(MID(D1009,8,4)=\"-105\",\"SI Loan\",(INDEX(New_Object_Head_1718,MATCH('Bill Register 20-21'!E1009,Object_Code_bill_register,0)))))))","v":""},null,null,null,null,null,null,""]
[null,null,null,null,null,{"$f":"IF(E1010=\"\",\"\",IF(E1010>0,IF(MID(D1010,8,3)=\"-101\",\"GPF Loan\",IF(MID(D1010,8,4)=\"-105\",\"SI Loan\",(INDEX(New_Object_Head_1718,MATCH('Bill Register 20-21'!E1010,Object_Code_bill_register,0)))))))","v":""},null,null,null,null,null,null,""]
[null,null,null,null,null,{"$f":"IF(E1011=\"\",\"\",IF(E1011>0,IF(MID(D1011,8,3)=\"-101\",\"GPF Loan\",IF(MID(D1011,8,4)=\"-105\",\"SI Loan\",(INDEX(New_Object_Head_1718,MATCH('Bill Register 20-21'!E1011,Object_Code_bill_register,0)))))))","v":""},null,null,null,null,null,null,""]
[null,null,null,null,null,{"$f":"IF(E1012=\"\",\"\",IF(E1012>0,IF(MID(D1012,8,3)=\"-101\",\"GPF Loan\",IF(MID(D1012,8,4)=\"-105\",\"SI Loan\",(INDEX(New_Object_Head_1718,MATCH('Bill Register 20-21'!E1012,Object_Code_bill_register,0)))))))","v":""},null,null,null,null,null,null,""]
[null,null,null,null,null,{"$f":"IF(E1013=\"\",\"\",IF(E1013>0,IF(MID(D1013,8,3)=\"-101\",\"GPF Loan\",IF(MID(D1013,8,4)=\"-105\",\"SI Loan\",(INDEX(New_Object_Head_1718,MATCH('Bill Register 20-21'!E1013,Object_Code_bill_register,0)))))))","v":""},null,null,null,null,null,null,""]
[null,null,null,null,null,{"$f":"IF(E1014=\"\",\"\",IF(E1014>0,IF(MID(D1014,8,3)=\"-101\",\"GPF Loan\",IF(MID(D1014,8,4)=\"-105\",\"SI Loan\",(INDEX(New_Object_Head_1718,MATCH('Bill Register 20-21'!E1014,Object_Code_bill_register,0)))))))","v":""},null,null,null,null,null,null,""]
[null,null,null,null,null,{"$f":"IF(E1015=\"\",\"\",IF(E1015>0,IF(MID(D1015,8,3)=\"-101\",\"GPF Loan\",IF(MID(D1015,8,4)=\"-105\",\"SI Loan\",(INDEX(New_Object_Head_1718,MATCH('Bill Register 20-21'!E1015,Object_Code_bill_register,0)))))))","v":""},null,null,null,null,null,null,""]
[null,null,null,null,null,{"$f":"IF(E1016=\"\",\"\",IF(E1016>0,IF(MID(D1016,8,3)=\"-101\",\"GPF Loan\",IF(MID(D1016,8,4)=\"-105\",\"SI Loan\",(INDEX(New_Object_Head_1718,MATCH('Bill Register 20-21'!E1016,Object_Code_bill_register,0)))))))","v":""},null,null,null,null,null,null,""]
[null,null,null,null,null,{"$f":"IF(E1017=\"\",\"\",IF(E1017>0,IF(MID(D1017,8,3)=\"-101\",\"GPF Loan\",IF(MID(D1017,8,4)=\"-105\",\"SI Loan\",(INDEX(New_Object_Head_1718,MATCH('Bill Register 20-21'!E1017,Object_Code_bill_register,0)))))))","v":""},null,null,null,null,null,null,""]
[null,null,null,null,null,{"$f":"IF(E1018=\"\",\"\",IF(E1018>0,IF(MID(D1018,8,3)=\"-101\",\"GPF Loan\",IF(MID(D1018,8,4)=\"-105\",\"SI Loan\",(INDEX(New_Object_Head_1718,MATCH('Bill Register 20-21'!E1018,Object_Code_bill_register,0)))))))","v":""},null,null,null,null,null,null,""]
[null,null,null,null,null,{"$f":"IF(E1019=\"\",\"\",IF(E1019>0,IF(MID(D1019,8,3)=\"-101\",\"GPF Loan\",IF(MID(D1019,8,4)=\"-105\",\"SI Loan\",(INDEX(New_Object_Head_1718,MATCH('Bill Register 20-21'!E1019,Object_Code_bill_register,0)))))))","v":""},null,null,null,null,null,null,""]
[null,null,null,null,null,{"$f":"IF(E1020=\"\",\"\",IF(E1020>0,IF(MID(D1020,8,3)=\"-101\",\"GPF Loan\",IF(MID(D1020,8,4)=\"-105\",\"SI Loan\",(INDEX(New_Object_Head_1718,MATCH('Bill Register 20-21'!E1020,Object_Code_bill_register,0)))))))","v":""},null,null,null,null,null,null,""]
[null,null,null,null,null,{"$f":"IF(E1021=\"\",\"\",IF(E1021>0,IF(MID(D1021,8,3)=\"-101\",\"GPF Loan\",IF(MID(D1021,8,4)=\"-105\",\"SI Loan\",(INDEX(New_Object_Head_1718,MATCH('Bill Register 20-21'!E1021,Object_Code_bill_register,0)))))))","v":""},null,null,null,null,null,null,""]
[null,null,null,null,null,{"$f":"IF(E1022=\"\",\"\",IF(E1022>0,IF(MID(D1022,8,3)=\"-101\",\"GPF Loan\",IF(MID(D1022,8,4)=\"-105\",\"SI Loan\",(INDEX(New_Object_Head_1718,MATCH('Bill Register 20-21'!E1022,Object_Code_bill_register,0)))))))","v":""},null,null,null,null,null,null,""]
[null,null,null,null,null,{"$f":"IF(E1023=\"\",\"\",IF(E1023>0,IF(MID(D1023,8,3)=\"-101\",\"GPF Loan\",IF(MID(D1023,8,4)=\"-105\",\"SI Loan\",(INDEX(New_Object_Head_1718,MATCH('Bill Register 20-21'!E1023,Object_Code_bill_register,0)))))))","v":""},null,null,null,null,null,null,""]
[null,null,null,null,null,{"$f":"IF(E1024=\"\",\"\",IF(E1024>0,IF(MID(D1024,8,3)=\"-101\",\"GPF Loan\",IF(MID(D1024,8,4)=\"-105\",\"SI Loan\",(INDEX(New_Object_Head_1718,MATCH('Bill Register 20-21'!E1024,Object_Code_bill_register,0)))))))","v":""},null,null,null,null,null,null,""]
[null,null,null,null,null,{"$f":"IF(E1025=\"\",\"\",IF(E1025>0,IF(MID(D1025,8,3)=\"-101\",\"GPF Loan\",IF(MID(D1025,8,4)=\"-105\",\"SI Loan\",(INDEX(New_Object_Head_1718,MATCH('Bill Register 20-21'!E1025,Object_Code_bill_register,0)))))))","v":""},null,null,null,null,null,null,""]
[null,null,null,null,null,{"$f":"IF(E1026=\"\",\"\",IF(E1026>0,IF(MID(D1026,8,3)=\"-101\",\"GPF Loan\",IF(MID(D1026,8,4)=\"-105\",\"SI Loan\",(INDEX(New_Object_Head_1718,MATCH('Bill Register 20-21'!E1026,Object_Code_bill_register,0)))))))","v":""},null,null,null,null,null,null,""]
[null,null,null,null,null,{"$f":"IF(E1027=\"\",\"\",IF(E1027>0,IF(MID(D1027,8,3)=\"-101\",\"GPF Loan\",IF(MID(D1027,8,4)=\"-105\",\"SI Loan\",(INDEX(New_Object_Head_1718,MATCH('Bill Register 20-21'!E1027,Object_Code_bill_register,0)))))))","v":""},null,null,null,null,null,null,""]
[null,null,null,null,null,{"$f":"IF(E1028=\"\",\"\",IF(E1028>0,IF(MID(D1028,8,3)=\"-101\",\"GPF Loan\",IF(MID(D1028,8,4)=\"-105\",\"SI Loan\",(INDEX(New_Object_Head_1718,MATCH('Bill Register 20-21'!E1028,Object_Code_bill_register,0)))))))","v":""},null,null,null,null,null,null,{"$f":"IF(L1028=\"\",\"\",EOMONTH(L1028,0))","v":""}]
[null,null,null,null,null,{"$f":"IF(E1029=\"\",\"\",IF(E1029>0,IF(MID(D1029,8,3)=\"-101\",\"GPF Loan\",IF(MID(D1029,8,4)=\"-105\",\"SI Loan\",(INDEX(New_Object_Head_1718,MATCH('Bill Register 20-21'!E1029,Object_Code_bill_register,0)))))))","v":""},null,null,null,null,null,null,""]
[null,null,null,null,null,{"$f":"IF(E1030=\"\",\"\",IF(E1030>0,IF(MID(D1030,8,3)=\"-101\",\"GPF Loan\",IF(MID(D1030,8,4)=\"-105\",\"SI Loan\",(INDEX(New_Object_Head_1718,MATCH('Bill Register 20-21'!E1030,Object_Code_bill_register,0)))))))","v":""},null,null,null,null,null,null,""]
[null,null,null,null,null,{"$f":"IF(E1031=\"\",\"\",IF(E1031>0,IF(MID(D1031,8,3)=\"-101\",\"GPF Loan\",IF(MID(D1031,8,4)=\"-105\",\"SI Loan\",(INDEX(New_Object_Head_1718,MATCH('Bill Register 20-21'!E1031,Object_Code_bill_register,0)))))))","v":""},null,null,null,null,null,null,""]
[null,null,null,null,null,{"$f":"IF(E1032=\"\",\"\",IF(E1032>0,IF(MID(D1032,8,3)=\"-101\",\"GPF Loan\",IF(MID(D1032,8,4)=\"-105\",\"SI Loan\",(INDEX(New_Object_Head_1718,MATCH('Bill Register 20-21'!E1032,Object_Code_bill_register,0)))))))","v":""},null,null,null,null,null,null,""]
[null,null,null,null,null,{"$f":"IF(E1033=\"\",\"\",IF(E1033>0,IF(MID(D1033,8,3)=\"-101\",\"GPF Loan\",IF(MID(D1033,8,4)=\"-105\",\"SI Loan\",(INDEX(New_Object_Head_1718,MATCH('Bill Register 20-21'!E1033,Object_Code_bill_register,0)))))))","v":""},null,null,null,null,null,null,""]
[null,null,null,null,null,{"$f":"IF(E1034=\"\",\"\",IF(E1034>0,IF(MID(D1034,8,3)=\"-101\",\"GPF Loan\",IF(MID(D1034,8,4)=\"-105\",\"SI Loan\",(INDEX(New_Object_Head_1718,MATCH('Bill Register 20-21'!E1034,Object_Code_bill_register,0)))))))","v":""},null,null,null,null,null,null,""]
[null,null,null,null,null,{"$f":"IF(E1035=\"\",\"\",IF(E1035>0,IF(MID(D1035,8,3)=\"-101\",\"GPF Loan\",IF(MID(D1035,8,4)=\"-105\",\"SI Loan\",(INDEX(New_Object_Head_1718,MATCH('Bill Register 20-21'!E1035,Object_Code_bill_register,0)))))))","v":""},null,null,null,null,null,null,""]
[null,null,null,null,null,{"$f":"IF(E1036=\"\",\"\",IF(E1036>0,IF(MID(D1036,8,3)=\"-101\",\"GPF Loan\",IF(MID(D1036,8,4)=\"-105\",\"SI Loan\",(INDEX(New_Object_Head_1718,MATCH('Bill Register 20-21'!E1036,Object_Code_bill_register,0)))))))","v":""},null,null,null,null,null,null,""]
[null,null,null,null,null,{"$f":"IF(E1037=\"\",\"\",IF(E1037>0,IF(MID(D1037,8,3)=\"-101\",\"GPF Loan\",IF(MID(D1037,8,4)=\"-105\",\"SI Loan\",(INDEX(New_Object_Head_1718,MATCH('Bill Register 20-21'!E1037,Object_Code_bill_register,0)))))))","v":""},null,null,null,null,null,null,""]
[null,null,null,null,null,{"$f":"IF(E1038=\"\",\"\",IF(E1038>0,IF(MID(D1038,8,3)=\"-101\",\"GPF Loan\",IF(MID(D1038,8,4)=\"-105\",\"SI Loan\",(INDEX(New_Object_Head_1718,MATCH('Bill Register 20-21'!E1038,Object_Code_bill_register,0)))))))","v":""},null,null,null,null,null,null,""]
[null,null,null,null,null,{"$f":"IF(E1039=\"\",\"\",IF(E1039>0,IF(MID(D1039,8,3)=\"-101\",\"GPF Loan\",IF(MID(D1039,8,4)=\"-105\",\"SI Loan\",(INDEX(New_Object_Head_1718,MATCH('Bill Register 20-21'!E1039,Object_Code_bill_register,0)))))))","v":""},null,null,null,null,null,null,""]
[null,null,null,null,null,{"$f":"IF(E1040=\"\",\"\",IF(E1040>0,IF(MID(D1040,8,3)=\"-101\",\"GPF Loan\",IF(MID(D1040,8,4)=\"-105\",\"SI Loan\",(INDEX(New_Object_Head_1718,MATCH('Bill Register 20-21'!E1040,Object_Code_bill_register,0)))))))","v":""},null,null,null,null,null,null,""]
[null,null,null,null,null,{"$f":"IF(E1041=\"\",\"\",IF(E1041>0,IF(MID(D1041,8,3)=\"-101\",\"GPF Loan\",IF(MID(D1041,8,4)=\"-105\",\"SI Loan\",(INDEX(New_Object_Head_1718,MATCH('Bill Register 20-21'!E1041,Object_Code_bill_register,0)))))))","v":""},null,null,null,null,null,null,""]
[null,null,null,null,null,{"$f":"IF(E1042=\"\",\"\",IF(E1042>0,IF(MID(D1042,8,3)=\"-101\",\"GPF Loan\",IF(MID(D1042,8,4)=\"-105\",\"SI Loan\",(INDEX(New_Object_Head_1718,MATCH('Bill Register 20-21'!E1042,Object_Code_bill_register,0)))))))","v":""},null,null,null,null,null,null,""]
[null,null,null,null,null,{"$f":"IF(E1043=\"\",\"\",IF(E1043>0,IF(MID(D1043,8,3)=\"-101\",\"GPF Loan\",IF(MID(D1043,8,4)=\"-105\",\"SI Loan\",(INDEX(New_Object_Head_1718,MATCH('Bill Register 20-21'!E1043,Object_Code_bill_register,0)))))))","v":""},null,null,null,null,null,null,""]
[null,null,null,null,null,{"$f":"IF(E1044=\"\",\"\",IF(E1044>0,IF(MID(D1044,8,3)=\"-101\",\"GPF Loan\",IF(MID(D1044,8,4)=\"-105\",\"SI Loan\",(INDEX(New_Object_Head_1718,MATCH('Bill Register 20-21'!E1044,Object_Code_bill_register,0)))))))","v":""},null,null,null,null,null,null,""]
[null,null,null,null,null,{"$f":"IF(E1045=\"\",\"\",IF(E1045>0,IF(MID(D1045,8,3)=\"-101\",\"GPF Loan\",IF(MID(D1045,8,4)=\"-105\",\"SI Loan\",(INDEX(New_Object_Head_1718,MATCH('Bill Register 20-21'!E1045,Object_Code_bill_register,0)))))))","v":""},null,null,null,null,null,null,""]
[null,null,null,null,null,{"$f":"IF(E1046=\"\",\"\",IF(E1046>0,IF(MID(D1046,8,3)=\"-101\",\"GPF Loan\",IF(MID(D1046,8,4)=\"-105\",\"SI Loan\",(INDEX(New_Object_Head_1718,MATCH('Bill Register 20-21'!E1046,Object_Code_bill_register,0)))))))","v":""},null,null,null,null,null,null,""]
[null,null,null,null,null,{"$f":"IF(E1047=\"\",\"\",IF(E1047>0,IF(MID(D1047,8,3)=\"-101\",\"GPF Loan\",IF(MID(D1047,8,4)=\"-105\",\"SI Loan\",(INDEX(New_Object_Head_1718,MATCH('Bill Register 20-21'!E1047,Object_Code_bill_register,0)))))))","v":""},null,null,null,null,null,null,""]
[null,null,null,null,null,{"$f":"IF(E1048=\"\",\"\",IF(E1048>0,IF(MID(D1048,8,3)=\"-101\",\"GPF Loan\",IF(MID(D1048,8,4)=\"-105\",\"SI Loan\",(INDEX(New_Object_Head_1718,MATCH('Bill Register 20-21'!E1048,Object_Code_bill_register,0)))))))","v":""},null,null,null,null,null,null,""]
[null,null,null,null,null,{"$f":"IF(E1049=\"\",\"\",IF(E1049>0,IF(MID(D1049,8,3)=\"-101\",\"GPF Loan\",IF(MID(D1049,8,4)=\"-105\",\"SI Loan\",(INDEX(New_Object_Head_1718,MATCH('Bill Register 20-21'!E1049,Object_Code_bill_register,0)))))))","v":""},null,null,null,null,null,null,""]
[null,null,null,null,null,{"$f":"IF(E1050=\"\",\"\",IF(E1050>0,IF(MID(D1050,8,3)=\"-101\",\"GPF Loan\",IF(MID(D1050,8,4)=\"-105\",\"SI Loan\",(INDEX(New_Object_Head_1718,MATCH('Bill Register 20-21'!E1050,Object_Code_bill_register,0)))))))","v":""},null,null,null,null,null,null,""]
[null,null,null,null,null,{"$f":"IF(E1051=\"\",\"\",IF(E1051>0,IF(MID(D1051,8,3)=\"-101\",\"GPF Loan\",IF(MID(D1051,8,4)=\"-105\",\"SI Loan\",(INDEX(New_Object_Head_1718,MATCH('Bill Register 20-21'!E1051,Object_Code_bill_register,0)))))))","v":""},null,null,null,null,null,null,""]
[null,null,null,null,null,{"$f":"IF(E1052=\"\",\"\",IF(E1052>0,IF(MID(D1052,8,3)=\"-101\",\"GPF Loan\",IF(MID(D1052,8,4)=\"-105\",\"SI Loan\",(INDEX(New_Object_Head_1718,MATCH('Bill Register 20-21'!E1052,Object_Code_bill_register,0)))))))","v":""},null,null,null,null,null,null,""]
[null,null,null,null,null,{"$f":"IF(E1053=\"\",\"\",IF(E1053>0,IF(MID(D1053,8,3)=\"-101\",\"GPF Loan\",IF(MID(D1053,8,4)=\"-105\",\"SI Loan\",(INDEX(New_Object_Head_1718,MATCH('Bill Register 20-21'!E1053,Object_Code_bill_register,0)))))))","v":""},null,null,null,null,null,null,""]
[null,null,null,null,null,{"$f":"IF(E1054=\"\",\"\",IF(E1054>0,IF(MID(D1054,8,3)=\"-101\",\"GPF Loan\",IF(MID(D1054,8,4)=\"-105\",\"SI Loan\",(INDEX(New_Object_Head_1718,MATCH('Bill Register 20-21'!E1054,Object_Code_bill_register,0)))))))","v":""},null,null,null,null,null,null,""]
[null,null,null,null,null,{"$f":"IF(E1055=\"\",\"\",IF(E1055>0,IF(MID(D1055,8,3)=\"-101\",\"GPF Loan\",IF(MID(D1055,8,4)=\"-105\",\"SI Loan\",(INDEX(New_Object_Head_1718,MATCH('Bill Register 20-21'!E1055,Object_Code_bill_register,0)))))))","v":""},null,null,null,null,null,null,""]
[null,null,null,null,null,{"$f":"IF(E1056=\"\",\"\",IF(E1056>0,IF(MID(D1056,8,3)=\"-101\",\"GPF Loan\",IF(MID(D1056,8,4)=\"-105\",\"SI Loan\",(INDEX(New_Object_Head_1718,MATCH('Bill Register 20-21'!E1056,Object_Code_bill_register,0)))))))","v":""},null,null,null,null,null,null,""]
[null,null,null,null,null,{"$f":"IF(E1057=\"\",\"\",IF(E1057>0,IF(MID(D1057,8,3)=\"-101\",\"GPF Loan\",IF(MID(D1057,8,4)=\"-105\",\"SI Loan\",(INDEX(New_Object_Head_1718,MATCH('Bill Register 20-21'!E1057,Object_Code_bill_register,0)))))))","v":""},null,null,null,null,null,null,""]
[null,null,null,null,null,{"$f":"IF(E1058=\"\",\"\",IF(E1058>0,IF(MID(D1058,8,3)=\"-101\",\"GPF Loan\",IF(MID(D1058,8,4)=\"-105\",\"SI Loan\",(INDEX(New_Object_Head_1718,MATCH('Bill Register 20-21'!E1058,Object_Code_bill_register,0)))))))","v":""},null,null,null,null,null,null,""]
[null,null,null,null,null,{"$f":"IF(E1059=\"\",\"\",IF(E1059>0,IF(MID(D1059,8,3)=\"-101\",\"GPF Loan\",IF(MID(D1059,8,4)=\"-105\",\"SI Loan\",(INDEX(New_Object_Head_1718,MATCH('Bill Register 20-21'!E1059,Object_Code_bill_register,0)))))))","v":""},null,null,null,null,null,null,""]
[null,null,null,null,null,{"$f":"IF(E1060=\"\",\"\",IF(E1060>0,IF(MID(D1060,8,3)=\"-101\",\"GPF Loan\",IF(MID(D1060,8,4)=\"-105\",\"SI Loan\",(INDEX(New_Object_Head_1718,MATCH('Bill Register 20-21'!E1060,Object_Code_bill_register,0)))))))","v":""},null,null,null,null,null,null,""]
[null,null,null,null,null,{"$f":"IF(E1061=\"\",\"\",IF(E1061>0,IF(MID(D1061,8,3)=\"-101\",\"GPF Loan\",IF(MID(D1061,8,4)=\"-105\",\"SI Loan\",(INDEX(New_Object_Head_1718,MATCH('Bill Register 20-21'!E1061,Object_Code_bill_register,0)))))))","v":""},null,null,null,null,null,null,""]
[null,null,null,null,null,{"$f":"IF(E1062=\"\",\"\",IF(E1062>0,IF(MID(D1062,8,3)=\"-101\",\"GPF Loan\",IF(MID(D1062,8,4)=\"-105\",\"SI Loan\",(INDEX(New_Object_Head_1718,MATCH('Bill Register 20-21'!E1062,Object_Code_bill_register,0)))))))","v":""},null,null,null,null,null,null,""]
[null,null,null,null,null,{"$f":"IF(E1063=\"\",\"\",IF(E1063>0,IF(MID(D1063,8,3)=\"-101\",\"GPF Loan\",IF(MID(D1063,8,4)=\"-105\",\"SI Loan\",(INDEX(New_Object_Head_1718,MATCH('Bill Register 20-21'!E1063,Object_Code_bill_register,0)))))))","v":""},null,null,null,null,null,null,""]
[null,null,null,null,null,{"$f":"IF(E1064=\"\",\"\",IF(E1064>0,IF(MID(D1064,8,3)=\"-101\",\"GPF Loan\",IF(MID(D1064,8,4)=\"-105\",\"SI Loan\",(INDEX(New_Object_Head_1718,MATCH('Bill Register 20-21'!E1064,Object_Code_bill_register,0)))))))","v":""},null,null,null,null,null,null,""]
[null,null,null,null,null,{"$f":"IF(E1065=\"\",\"\",IF(E1065>0,IF(MID(D1065,8,3)=\"-101\",\"GPF Loan\",IF(MID(D1065,8,4)=\"-105\",\"SI Loan\",(INDEX(New_Object_Head_1718,MATCH('Bill Register 20-21'!E1065,Object_Code_bill_register,0)))))))","v":""},null,null,null,null,null,null,""]
[null,null,null,null,null,{"$f":"IF(E1066=\"\",\"\",IF(E1066>0,IF(MID(D1066,8,3)=\"-101\",\"GPF Loan\",IF(MID(D1066,8,4)=\"-105\",\"SI Loan\",(INDEX(New_Object_Head_1718,MATCH('Bill Register 20-21'!E1066,Object_Code_bill_register,0)))))))","v":""},null,null,null,null,null,null,""]
[null,null,null,null,null,{"$f":"IF(E1067=\"\",\"\",IF(E1067>0,IF(MID(D1067,8,3)=\"-101\",\"GPF Loan\",IF(MID(D1067,8,4)=\"-105\",\"SI Loan\",(INDEX(New_Object_Head_1718,MATCH('Bill Register 20-21'!E1067,Object_Code_bill_register,0)))))))","v":""},null,null,null,null,null,null,""]
[null,null,null,null,null,{"$f":"IF(E1068=\"\",\"\",IF(E1068>0,IF(MID(D1068,8,3)=\"-101\",\"GPF Loan\",IF(MID(D1068,8,4)=\"-105\",\"SI Loan\",(INDEX(New_Object_Head_1718,MATCH('Bill Register 20-21'!E1068,Object_Code_bill_register,0)))))))","v":""},null,null,null,null,null,null,""]
[null,null,null,null,null,{"$f":"IF(E1069=\"\",\"\",IF(E1069>0,IF(MID(D1069,8,3)=\"-101\",\"GPF Loan\",IF(MID(D1069,8,4)=\"-105\",\"SI Loan\",(INDEX(New_Object_Head_1718,MATCH('Bill Register 20-21'!E1069,Object_Code_bill_register,0)))))))","v":""},null,null,null,null,null,null,""]
[null,null,null,null,null,{"$f":"IF(E1070=\"\",\"\",IF(E1070>0,IF(MID(D1070,8,3)=\"-101\",\"GPF Loan\",IF(MID(D1070,8,4)=\"-105\",\"SI Loan\",(INDEX(New_Object_Head_1718,MATCH('Bill Register 20-21'!E1070,Object_Code_bill_register,0)))))))","v":""},null,null,null,null,null,null,""]
[null,null,null,null,null,{"$f":"IF(E1071=\"\",\"\",IF(E1071>0,IF(MID(D1071,8,3)=\"-101\",\"GPF Loan\",IF(MID(D1071,8,4)=\"-105\",\"SI Loan\",(INDEX(New_Object_Head_1718,MATCH('Bill Register 20-21'!E1071,Object_Code_bill_register,0)))))))","v":""},null,null,null,null,null,null,""]
[null,null,null,null,null,{"$f":"IF(E1072=\"\",\"\",IF(E1072>0,IF(MID(D1072,8,3)=\"-101\",\"GPF Loan\",IF(MID(D1072,8,4)=\"-105\",\"SI Loan\",(INDEX(New_Object_Head_1718,MATCH('Bill Register 20-21'!E1072,Object_Code_bill_register,0)))))))","v":""},null,null,null,null,null,null,""]
[null,null,null,null,null,{"$f":"IF(E1073=\"\",\"\",IF(E1073>0,IF(MID(D1073,8,3)=\"-101\",\"GPF Loan\",IF(MID(D1073,8,4)=\"-105\",\"SI Loan\",(INDEX(New_Object_Head_1718,MATCH('Bill Register 20-21'!E1073,Object_Code_bill_register,0)))))))","v":""},null,null,null,null,null,null,""]
[null,null,null,null,null,{"$f":"IF(E1074=\"\",\"\",IF(E1074>0,IF(MID(D1074,8,3)=\"-101\",\"GPF Loan\",IF(MID(D1074,8,4)=\"-105\",\"SI Loan\",(INDEX(New_Object_Head_1718,MATCH('Bill Register 20-21'!E1074,Object_Code_bill_register,0)))))))","v":""},null,null,null,null,null,null,""]
[null,null,null,null,null,{"$f":"IF(E1075=\"\",\"\",IF(E1075>0,IF(MID(D1075,8,3)=\"-101\",\"GPF Loan\",IF(MID(D1075,8,4)=\"-105\",\"SI Loan\",(INDEX(New_Object_Head_1718,MATCH('Bill Register 20-21'!E1075,Object_Code_bill_register,0)))))))","v":""},null,null,null,null,null,null,""]
[null,null,null,null,null,{"$f":"IF(E1076=\"\",\"\",IF(E1076>0,IF(MID(D1076,8,3)=\"-101\",\"GPF Loan\",IF(MID(D1076,8,4)=\"-105\",\"SI Loan\",(INDEX(New_Object_Head_1718,MATCH('Bill Register 20-21'!E1076,Object_Code_bill_register,0)))))))","v":""},null,null,null,null,null,null,""]
[null,null,null,null,null,{"$f":"IF(E1077=\"\",\"\",IF(E1077>0,IF(MID(D1077,8,3)=\"-101\",\"GPF Loan\",IF(MID(D1077,8,4)=\"-105\",\"SI Loan\",(INDEX(New_Object_Head_1718,MATCH('Bill Register 20-21'!E1077,Object_Code_bill_register,0)))))))","v":""},null,null,null,null,null,null,""]
[null,null,null,null,null,{"$f":"IF(E1078=\"\",\"\",IF(E1078>0,IF(MID(D1078,8,3)=\"-101\",\"GPF Loan\",IF(MID(D1078,8,4)=\"-105\",\"SI Loan\",(INDEX(New_Object_Head_1718,MATCH('Bill Register 20-21'!E1078,Object_Code_bill_register,0)))))))","v":""},null,null,null,null,null,null,""]
[null,null,null,null,null,{"$f":"IF(E1079=\"\",\"\",IF(E1079>0,IF(MID(D1079,8,3)=\"-101\",\"GPF Loan\",IF(MID(D1079,8,4)=\"-105\",\"SI Loan\",(INDEX(New_Object_Head_1718,MATCH('Bill Register 20-21'!E1079,Object_Code_bill_register,0)))))))","v":""},null,null,null,null,null,null,""]
[null,null,null,null,null,{"$f":"IF(E1080=\"\",\"\",IF(E1080>0,IF(MID(D1080,8,3)=\"-101\",\"GPF Loan\",IF(MID(D1080,8,4)=\"-105\",\"SI Loan\",(INDEX(New_Object_Head_1718,MATCH('Bill Register 20-21'!E1080,Object_Code_bill_register,0)))))))","v":""},null,null,null,null,null,null,""]
[null,null,null,null,null,{"$f":"IF(E1081=\"\",\"\",IF(E1081>0,IF(MID(D1081,8,3)=\"-101\",\"GPF Loan\",IF(MID(D1081,8,4)=\"-105\",\"SI Loan\",(INDEX(New_Object_Head_1718,MATCH('Bill Register 20-21'!E1081,Object_Code_bill_register,0)))))))","v":""},null,null,null,null,null,null,""]
[null,null,null,null,null,{"$f":"IF(E1082=\"\",\"\",IF(E1082>0,IF(MID(D1082,8,3)=\"-101\",\"GPF Loan\",IF(MID(D1082,8,4)=\"-105\",\"SI Loan\",(INDEX(New_Object_Head_1718,MATCH('Bill Register 20-21'!E1082,Object_Code_bill_register,0)))))))","v":""},null,null,null,null,null,null,""]
[null,null,null,null,null,{"$f":"IF(E1083=\"\",\"\",IF(E1083>0,IF(MID(D1083,8,3)=\"-101\",\"GPF Loan\",IF(MID(D1083,8,4)=\"-105\",\"SI Loan\",(INDEX(New_Object_Head_1718,MATCH('Bill Register 20-21'!E1083,Object_Code_bill_register,0)))))))","v":""},null,null,null,null,null,null,""]
[null,null,null,null,null,{"$f":"IF(E1084=\"\",\"\",IF(E1084>0,IF(MID(D1084,8,3)=\"-101\",\"GPF Loan\",IF(MID(D1084,8,4)=\"-105\",\"SI Loan\",(INDEX(New_Object_Head_1718,MATCH('Bill Register 20-21'!E1084,Object_Code_bill_register,0)))))))","v":""},null,null,null,null,null,null,""]
[null,null,null,null,null,{"$f":"IF(E1085=\"\",\"\",IF(E1085>0,IF(MID(D1085,8,3)=\"-101\",\"GPF Loan\",IF(MID(D1085,8,4)=\"-105\",\"SI Loan\",(INDEX(New_Object_Head_1718,MATCH('Bill Register 20-21'!E1085,Object_Code_bill_register,0)))))))","v":""},null,null,null,null,null,null,""]
[null,null,null,null,null,{"$f":"IF(E1086=\"\",\"\",IF(E1086>0,IF(MID(D1086,8,3)=\"-101\",\"GPF Loan\",IF(MID(D1086,8,4)=\"-105\",\"SI Loan\",(INDEX(New_Object_Head_1718,MATCH('Bill Register 20-21'!E1086,Object_Code_bill_register,0)))))))","v":""},null,null,null,null,null,null,""]
[null,null,null,null,null,{"$f":"IF(E1087=\"\",\"\",IF(E1087>0,IF(MID(D1087,8,3)=\"-101\",\"GPF Loan\",IF(MID(D1087,8,4)=\"-105\",\"SI Loan\",(INDEX(New_Object_Head_1718,MATCH('Bill Register 20-21'!E1087,Object_Code_bill_register,0)))))))","v":""},null,null,null,null,null,null,""]
[null,null,null,null,null,{"$f":"IF(E1088=\"\",\"\",IF(E1088>0,IF(MID(D1088,8,3)=\"-101\",\"GPF Loan\",IF(MID(D1088,8,4)=\"-105\",\"SI Loan\",(INDEX(New_Object_Head_1718,MATCH('Bill Register 20-21'!E1088,Object_Code_bill_register,0)))))))","v":""},null,null,null,null,null,null,""]
[null,null,null,null,null,{"$f":"IF(E1089=\"\",\"\",IF(E1089>0,IF(MID(D1089,8,3)=\"-101\",\"GPF Loan\",IF(MID(D1089,8,4)=\"-105\",\"SI Loan\",(INDEX(New_Object_Head_1718,MATCH('Bill Register 20-21'!E1089,Object_Code_bill_register,0)))))))","v":""},null,null,null,null,null,null,""]
[null,null,null,null,null,{"$f":"IF(E1090=\"\",\"\",IF(E1090>0,IF(MID(D1090,8,3)=\"-101\",\"GPF Loan\",IF(MID(D1090,8,4)=\"-105\",\"SI Loan\",(INDEX(New_Object_Head_1718,MATCH('Bill Register 20-21'!E1090,Object_Code_bill_register,0)))))))","v":""},null,null,null,null,null,null,""]
[null,null,null,null,null,{"$f":"IF(E1091=\"\",\"\",IF(E1091>0,IF(MID(D1091,8,3)=\"-101\",\"GPF Loan\",IF(MID(D1091,8,4)=\"-105\",\"SI Loan\",(INDEX(New_Object_Head_1718,MATCH('Bill Register 20-21'!E1091,Object_Code_bill_register,0)))))))","v":""},null,null,null,null,null,null,""]
[null,null,null,null,null,{"$f":"IF(E1092=\"\",\"\",IF(E1092>0,IF(MID(D1092,8,3)=\"-101\",\"GPF Loan\",IF(MID(D1092,8,4)=\"-105\",\"SI Loan\",(INDEX(New_Object_Head_1718,MATCH('Bill Register 20-21'!E1092,Object_Code_bill_register,0)))))))","v":""},null,null,null,null,null,null,{"$f":"IF(L1092=\"\",\"\",EOMONTH(L1092,0))","v":""}]
[null,null,null,null,null,{"$f":"IF(E1093=\"\",\"\",IF(E1093>0,IF(MID(D1093,8,3)=\"-101\",\"GPF Loan\",IF(MID(D1093,8,4)=\"-105\",\"SI Loan\",(INDEX(New_Object_Head_1718,MATCH('Bill Register 20-21'!E1093,Object_Code_bill_register,0)))))))","v":""},null,null,null,null,null,null,""]
[null,null,null,null,null,{"$f":"IF(E1094=\"\",\"\",IF(E1094>0,IF(MID(D1094,8,3)=\"-101\",\"GPF Loan\",IF(MID(D1094,8,4)=\"-105\",\"SI Loan\",(INDEX(New_Object_Head_1718,MATCH('Bill Register 20-21'!E1094,Object_Code_bill_register,0)))))))","v":""},null,null,null,null,null,null,""]
[null,null,null,null,null,{"$f":"IF(E1095=\"\",\"\",IF(E1095>0,IF(MID(D1095,8,3)=\"-101\",\"GPF Loan\",IF(MID(D1095,8,4)=\"-105\",\"SI Loan\",(INDEX(New_Object_Head_1718,MATCH('Bill Register 20-21'!E1095,Object_Code_bill_register,0)))))))","v":""},null,null,null,null,null,null,""]
[null,null,null,null,null,{"$f":"IF(E1096=\"\",\"\",IF(E1096>0,IF(MID(D1096,8,3)=\"-101\",\"GPF Loan\",IF(MID(D1096,8,4)=\"-105\",\"SI Loan\",(INDEX(New_Object_Head_1718,MATCH('Bill Register 20-21'!E1096,Object_Code_bill_register,0)))))))","v":""},null,null,null,null,null,null,""]
[null,null,null,null,null,{"$f":"IF(E1097=\"\",\"\",IF(E1097>0,IF(MID(D1097,8,3)=\"-101\",\"GPF Loan\",IF(MID(D1097,8,4)=\"-105\",\"SI Loan\",(INDEX(New_Object_Head_1718,MATCH('Bill Register 20-21'!E1097,Object_Code_bill_register,0)))))))","v":""},null,null,null,null,null,null,""]
[null,null,null,null,null,{"$f":"IF(E1098=\"\",\"\",IF(E1098>0,IF(MID(D1098,8,3)=\"-101\",\"GPF Loan\",IF(MID(D1098,8,4)=\"-105\",\"SI Loan\",(INDEX(New_Object_Head_1718,MATCH('Bill Register 20-21'!E1098,Object_Code_bill_register,0)))))))","v":""},null,null,null,null,null,null,""]
[null,null,null,null,null,{"$f":"IF(E1099=\"\",\"\",IF(E1099>0,IF(MID(D1099,8,3)=\"-101\",\"GPF Loan\",IF(MID(D1099,8,4)=\"-105\",\"SI Loan\",(INDEX(New_Object_Head_1718,MATCH('Bill Register 20-21'!E1099,Object_Code_bill_register,0)))))))","v":""},null,null,null,null,null,null,""]
[null,null,null,null,null,{"$f":"IF(E1100=\"\",\"\",IF(E1100>0,IF(MID(D1100,8,3)=\"-101\",\"GPF Loan\",IF(MID(D1100,8,4)=\"-105\",\"SI Loan\",(INDEX(New_Object_Head_1718,MATCH('Bill Register 20-21'!E1100,Object_Code_bill_register,0)))))))","v":""},null,null,null,null,null,null,""]
[null,null,null,null,null,{"$f":"IF(E1101=\"\",\"\",IF(E1101>0,IF(MID(D1101,8,3)=\"-101\",\"GPF Loan\",IF(MID(D1101,8,4)=\"-105\",\"SI Loan\",(INDEX(New_Object_Head_1718,MATCH('Bill Register 20-21'!E1101,Object_Code_bill_register,0)))))))","v":""},null,null,null,null,null,null,""]
[null,null,null,null,null,{"$f":"IF(E1102=\"\",\"\",IF(E1102>0,IF(MID(D1102,8,3)=\"-101\",\"GPF Loan\",IF(MID(D1102,8,4)=\"-105\",\"SI Loan\",(INDEX(New_Object_Head_1718,MATCH('Bill Register 20-21'!E1102,Object_Code_bill_register,0)))))))","v":""},null,null,null,null,null,null,""]
[null,null,null,null,null,{"$f":"IF(E1103=\"\",\"\",IF(E1103>0,IF(MID(D1103,8,3)=\"-101\",\"GPF Loan\",IF(MID(D1103,8,4)=\"-105\",\"SI Loan\",(INDEX(New_Object_Head_1718,MATCH('Bill Register 20-21'!E1103,Object_Code_bill_register,0)))))))","v":""},null,null,null,null,null,null,""]
[null,null,null,null,null,{"$f":"IF(E1104=\"\",\"\",IF(E1104>0,IF(MID(D1104,8,3)=\"-101\",\"GPF Loan\",IF(MID(D1104,8,4)=\"-105\",\"SI Loan\",(INDEX(New_Object_Head_1718,MATCH('Bill Register 20-21'!E1104,Object_Code_bill_register,0)))))))","v":""},null,null,null,null,null,null,""]
[null,null,null,null,null,{"$f":"IF(E1105=\"\",\"\",IF(E1105>0,IF(MID(D1105,8,3)=\"-101\",\"GPF Loan\",IF(MID(D1105,8,4)=\"-105\",\"SI Loan\",(INDEX(New_Object_Head_1718,MATCH('Bill Register 20-21'!E1105,Object_Code_bill_register,0)))))))","v":""},null,null,null,null,null,null,""]
[null,null,null,null,null,{"$f":"IF(E1106=\"\",\"\",IF(E1106>0,IF(MID(D1106,8,3)=\"-101\",\"GPF Loan\",IF(MID(D1106,8,4)=\"-105\",\"SI Loan\",(INDEX(New_Object_Head_1718,MATCH('Bill Register 20-21'!E1106,Object_Code_bill_register,0)))))))","v":""},null,null,null,null,null,null,""]
[null,null,null,null,null,{"$f":"IF(E1107=\"\",\"\",IF(E1107>0,IF(MID(D1107,8,3)=\"-101\",\"GPF Loan\",IF(MID(D1107,8,4)=\"-105\",\"SI Loan\",(INDEX(New_Object_Head_1718,MATCH('Bill Register 20-21'!E1107,Object_Code_bill_register,0)))))))","v":""},null,null,null,null,null,null,""]
[null,null,null,null,null,{"$f":"IF(E1108=\"\",\"\",IF(E1108>0,IF(MID(D1108,8,3)=\"-101\",\"GPF Loan\",IF(MID(D1108,8,4)=\"-105\",\"SI Loan\",(INDEX(New_Object_Head_1718,MATCH('Bill Register 20-21'!E1108,Object_Code_bill_register,0)))))))","v":""},null,null,null,null,null,null,""]
[null,null,null,null,null,{"$f":"IF(E1109=\"\",\"\",IF(E1109>0,IF(MID(D1109,8,3)=\"-101\",\"GPF Loan\",IF(MID(D1109,8,4)=\"-105\",\"SI Loan\",(INDEX(New_Object_Head_1718,MATCH('Bill Register 20-21'!E1109,Object_Code_bill_register,0)))))))","v":""},null,null,null,null,null,null,""]
[null,null,null,null,null,{"$f":"IF(E1110=\"\",\"\",IF(E1110>0,IF(MID(D1110,8,3)=\"-101\",\"GPF Loan\",IF(MID(D1110,8,4)=\"-105\",\"SI Loan\",(INDEX(New_Object_Head_1718,MATCH('Bill Register 20-21'!E1110,Object_Code_bill_register,0)))))))","v":""},null,null,null,null,null,null,""]
[null,null,null,null,null,{"$f":"IF(E1111=\"\",\"\",IF(E1111>0,IF(MID(D1111,8,3)=\"-101\",\"GPF Loan\",IF(MID(D1111,8,4)=\"-105\",\"SI Loan\",(INDEX(New_Object_Head_1718,MATCH('Bill Register 20-21'!E1111,Object_Code_bill_register,0)))))))","v":""},null,null,null,null,null,null,""]
[null,null,null,null,null,{"$f":"IF(E1112=\"\",\"\",IF(E1112>0,IF(MID(D1112,8,3)=\"-101\",\"GPF Loan\",IF(MID(D1112,8,4)=\"-105\",\"SI Loan\",(INDEX(New_Object_Head_1718,MATCH('Bill Register 20-21'!E1112,Object_Code_bill_register,0)))))))","v":""},null,null,null,null,null,null,""]
[null,null,null,null,null,{"$f":"IF(E1113=\"\",\"\",IF(E1113>0,IF(MID(D1113,8,3)=\"-101\",\"GPF Loan\",IF(MID(D1113,8,4)=\"-105\",\"SI Loan\",(INDEX(New_Object_Head_1718,MATCH('Bill Register 20-21'!E1113,Object_Code_bill_register,0)))))))","v":""},null,null,null,null,null,null,""]
[null,null,null,null,null,{"$f":"IF(E1114=\"\",\"\",IF(E1114>0,IF(MID(D1114,8,3)=\"-101\",\"GPF Loan\",IF(MID(D1114,8,4)=\"-105\",\"SI Loan\",(INDEX(New_Object_Head_1718,MATCH('Bill Register 20-21'!E1114,Object_Code_bill_register,0)))))))","v":""},null,null,null,null,null,null,""]
[null,null,null,null,null,{"$f":"IF(E1115=\"\",\"\",IF(E1115>0,IF(MID(D1115,8,3)=\"-101\",\"GPF Loan\",IF(MID(D1115,8,4)=\"-105\",\"SI Loan\",(INDEX(New_Object_Head_1718,MATCH('Bill Register 20-21'!E1115,Object_Code_bill_register,0)))))))","v":""},null,null,null,null,null,null,""]
[null,null,null,null,null,{"$f":"IF(E1116=\"\",\"\",IF(E1116>0,IF(MID(D1116,8,3)=\"-101\",\"GPF Loan\",IF(MID(D1116,8,4)=\"-105\",\"SI Loan\",(INDEX(New_Object_Head_1718,MATCH('Bill Register 20-21'!E1116,Object_Code_bill_register,0)))))))","v":""},null,null,null,null,null,null,""]
[null,null,null,null,null,{"$f":"IF(E1117=\"\",\"\",IF(E1117>0,IF(MID(D1117,8,3)=\"-101\",\"GPF Loan\",IF(MID(D1117,8,4)=\"-105\",\"SI Loan\",(INDEX(New_Object_Head_1718,MATCH('Bill Register 20-21'!E1117,Object_Code_bill_register,0)))))))","v":""},null,null,null,null,null,null,""]
[null,null,null,null,null,{"$f":"IF(E1118=\"\",\"\",IF(E1118>0,IF(MID(D1118,8,3)=\"-101\",\"GPF Loan\",IF(MID(D1118,8,4)=\"-105\",\"SI Loan\",(INDEX(New_Object_Head_1718,MATCH('Bill Register 20-21'!E1118,Object_Code_bill_register,0)))))))","v":""},null,null,null,null,null,null,""]
[null,null,null,null,null,{"$f":"IF(E1119=\"\",\"\",IF(E1119>0,IF(MID(D1119,8,3)=\"-101\",\"GPF Loan\",IF(MID(D1119,8,4)=\"-105\",\"SI Loan\",(INDEX(New_Object_Head_1718,MATCH('Bill Register 20-21'!E1119,Object_Code_bill_register,0)))))))","v":""},null,null,null,null,null,null,""]
["end_line","end_line","end_line","end_line","end_line","end_line","end_line","end_line","end_line","end_line","end_line","end_line","end_line"]

{"sheet":"FINAL DATA","index":8,"n_rows":4917,"n_cols":12,"rows_kept":4917,"cut":false,"hidden":true,"merged":[]}
["Fin. Year","Voucher Period","Bill No","Bill Date","Vouh. No","Voucher Date","BudgetHead  ","Object Head Code","Object Head Name","Cash Amount","Gross Amount","Home-Back"]
[]
[]
[]
[]
[]
[]
[]
[]
[]
[]
[]
[]
[]
[]
[]
[]
[]
[]
[]
[]
[]
[]
[]
[]
[]
[]
[]
[]
[]
[]
[]
[]
[]
[]
[]
[]
[]
[]
[]
[]
[]
[]
[]
[]
[]
[]
[]
[]
[]
[]
[]
[]
[]
[]
[]
[]
[]
[]
[]
[]
[]
[]
[]
[]
[]
[]
[]
[]
[]
[]
[]
[]
[]
[]
[]
[]
[]
[]
[]
[]
[]
[]
[]
[]
[]
[]
[]
[]
[]
[]
[]
[]
[]
[]
[]
[]
[]
[]
[]
[]
[]
[]
[]
[]
[]
[]
[]
[]
[]
[]
[]
[]
[]
[]
[]
[]
[]
[]
[]
[]
[]
[]
[]
[]
[]
[]
[]
[]
[]
[]
[]
[]
[]
[]
[]
[]
[]
[]
[]
[]
[]
[]
[]
[]
[]
[]
[]
[]
[]
[]
[]
[]
[]
[]
[]
[]
[]
[]
[]
[]
[]
[]
[]
[]
[]
[]
[]
[]
[]
[]
[]
[]
[]
[]
[]
[]
[]
[]
[]
[]
[]
[]
[]
[]
[]
[]
[]
[]
[]
[]
[]
[]
[]
[]
[]
[]
[]
[]
[]
[]
[]
[]
[]
[]
[]
[]
[]
[]
[]
[]
[]
[]
[]
[]
[]
[]
[]
[]
[]
[]
[]
[]
[]
[]
[]
[]
[]
[]
[]
[]
[]
[]
[]
[]
[]
[]
[]
[]
[]
[]
[]
[]
[]
[]
[]
[]
[]
[]
[]
[]
[]
[]
[]
[]
[]
[]
[]
[]
[]
[]
[]
[]
[]
[]
[]
[]
[]
[]
[]
[]
[]
[]
[]
[]
[]
[]
[]
[]
[]
[]
[]
[]
[]
[]
[]
[]
[]
[]
[]
[]
[]
[]
[]
[]
[]
[]
[]
[]
[]
[]
[]
[]
[]
[]
[]
[]
[]
[]
[]
[]
[]
[]
[]
[]
[]
[]
[]
[]
[]
[]
[]
[]
[]
[]
[]
[]
[]
[]
[]
[]
[]
[]
[]
[]
[]
[]
[]
[]
[]
[]
[]
[]
[]
[]
[]
[]
[]
[]
[]
[]
[]
[]
[]
[]
[]
[]
[]
[]
[]
[]
[]
[]
[]
[]
[]
[]
[]
[]
[]
[]
[]
[]
[]
[]
[]
[]
[]
[]
[]
[]
[]
[]
[]
[]
[]
[]
[]
[]
[]
[]
[]
[]
[]
[]
[]
[]
[]
[]
[]
[]
[]
[]
[]
[]
[]
[]
[]
[]
[]
[]
[]
[]
[]
[]
[]
[]
[]
[]
[]
[]
[]
[]
[]
[]
[]
[]
[]
[]
[]
[]
[]
[]
[]
[]
[]
[]
[]
[]
[]
[]
[]
[]
[]
[]
[]
[]
[]
[]
[]
[]
[]
[]
[]
[]
[]
[]
[]
[]
[]
[]
[]
[]
[]
[]
[]
[]
[]
[]
[]
[]
[]
[]
[]
[]
[]
[]
[]
[]
[]
[]
[]
[]
[]
[]
[]
[]
[]
[]
[]
[]
[]
[]
[]
[]
[]
[]
[]
[]
[]
[]
[]
[]
[]
[]
[]
[]
[]
[]
[]
[]
[]
[]
[]
[]
[]
[]
[]
[]
[]
[]
[]
[]
[]
[]
[]
[]
[]
[]
[]
[]
[]
[]
[]
[]
[]
[]
[]
[]
[]
[]
[]
[]
[]
[]
[]
[]
[]
[]
[]
[]
[]
[]
[]
[]
[]
[]
[]
[]
[]
[]
[]
[]
[]
[]
[]
[]
[]
[]
[]
[]
[]
[]
[]
[]
[]
[]
[]
[]
[]
[]
[]
[]
[]
[]
[]
[]
[]
[]
[]
[]
[]
[]
[]
[]
[]
[]
[]
[]
[]
[]
[]
[]
[]
[]
[]
[]
[]
[]
[]
[]
[]
[]
[]
[]
[]
[]
[]
[]
[]
[]
[]
[]
[]
[]
[]
[]
[]
[]
[]
[]
[]
[]
[]
[]
[]
[]
[]
[]
[]
[]
[]
[]
[]
[]
[]
[]
[]
[]
[]
[]
[]
[]
[]
[]
[]
[]
[]
[]
[]
[]
[]
[]
[]
[]
[]
[]
[]
[]
[]
[]
[]
[]
[]
[]
[]
[]
[]
[]
[]
[]
[]
[]
[]
[]
[]
[]
[]
[]
[]
[]
[]
[]
[]
[]
[]
[]
[]
[]
[]
[]
[]
[]
[]
[]
[]
[]
[]
[]
[]
[]
[]
[]
[]
[]
[]
[]
[]
[]
[]
[]
[]
[]
[]
[]
[]
[]
[]
[]
[]
[]
[]
[]
[]
[]
[]
[]
[]
[]
[]
[]
[]
[]
[]
[]
[]
[]
[]
[]
[]
[]
[]
[]
[]
[]
[]
[]
[]
[]
[]
[]
[]
[]
[]
[]
[]
[]
[]
[]
[]
[]
[]
[]
[]
[]
[]
[]
[]
[]
[]
[]
[]
[]
[]
[]
[]
[]
[]
[]
[]
[]
[]
[]
[]
[]
[]
[]
[]
[]
[]
[]
[]
[]
[]
[]
[]
[]
[]
[]
[]
[]
[]
[]
[]
[]
[]
[]
[]
[]
[]
[]
[]
[]
[]
[]
[]
[]
[]
[]
[]
[]
[]
[]
[]
[]
[]
[]
[]
[]
[]
[]
[]
[]
[]
[]
[]
[]
[]
[]
[]
[]
[]
[]
[]
[]
[]
[]
[]
[]
[]
[]
[]
[]
[]
[]
[]
[]
[]
[]
[]
[]
[]
[]
[]
[]
[]
[]
[]
[]
[]
[]
[]
[]
[]
[]
[]
[]
[]
[]
[]
[]
[]
[]
[]
[]
[]
[]
[]
[]
[]
[]
[]
[]
[]
[]
[]
[]
[]
[]
[]
[]
[]
[]
[]
[]
[]
[]
[]
[]
[]
[]
[]
[]
[]
[]
[]
[]
[]
[]
[]
[]
[]
[]
[]
[]
[]
[]
[]
[]
[]
[]
[]
[]
[]
[]
[]
[]
[]
[]
[]
[]
[]
[]
[]
[]
[]
[]
[]
[]
[]
[]
[]
[]
[]
[]
[]
[]
[]
[]
[]
[]
[]
[]
[]
[]
[]
[]
[]
[]
[]
[]
[]
[]
[]
[]
[]
[]
[]
[]
[]
[]
[]
[]
[]
[]
[]
[]
[]
[]
[]
[]
[]
[]
[]
[]
[]
[]
[]
[]
[]
[]
[]
[]
[]
[]
[]
[]
[]
[]
[]
[]
[]
[]
[]
[]
[]
[]
[]
[]
[]
[]
[]
[]
[]
[]
[]
[]
[]
[]
[]
[]
[]
[]
[]
[]
[]
[]
[]
[]
[]
[]
[]
[]
[]
[]
[]
[]
[]
[]
[]
[]
[]
[]
[]
[]
[]
[]
[]
[]
[]
[]
[]
[]
[]
[]
[]
[]
[]
[]
[]
[]
[]
[]
[]
[]
[]
[]
[]
[]
[]
[]
[]
[]
[]
[]
[]
[]
[]
[]
[]
[]
[]
[]
[]
[]
[]
[]
[]
[]
[]
[]
[]
[]
[]
[]
[]
[]
[]
[]
[]
[]
[]
[]
[]
[]
[]
[]
[]
[]
[]
[]
[]
[]
[]
[]
[]
[]
[]
[]
[]
[]
[]
[]
[]
[]
[]
[]
[]
[]
[]
[]
[]
[]
[]
[]
[]
[]
[]
[]
[]
[]
[]
[]
[]
[]
[]
[]
[]
[]
[]
[]
[]
[]
[]
[]
[]
[]
[]
[]
[]
[]
[]
[]
[]
[]
[]
[]
[]
[]
[]
[]
[]
[]
[]
[]
[]
[]
[]
[]
[]
[]
[]
[]
[]
[]
[]
[]
[]
[]
[]
[]
[]
[]
[]
[]
[]
[]
[]
[]
[]
[]
[]
[]
[]
[]
[]
[]
[]
[]
[]
[]
[]
[]
[]
[]
[]
[]
[]
[]
[]
[]
[]
[]
[]
[]
[]
[]
[]
[]
[]
[]
[]
[]
[]
[]
[]
[]
[]
[]
[]
[]
[]
[]
[]
[]
[]
[]
[]
[]
[]
[]
[]
[]
[]
[]
[]
[]
[]
[]
[]
[]
[]
[]
[]
[]
[]
[]
[]
[]
[]
[]
[]
[]
[]
[]
[]
[]
[]
[]
[]
[]
[]
[]
[]
[]
[]
[]
[]
[]
[]
[]
[]
[]
[]
[]
[]
[]
[]
[]
[]
[]
[]
[]
[]
[]
[]
[]
[]
[]
[]
[]
[]
[]
[]
[]
[]
[]
[]
[]
[]
[]
[]
[]
[]
[]
[]
[]
[]
[]
[]
[]
[]
[]
[]
[]
[]
[]
[]
[]
[]
[]
[]
[]
[]
[]
[]
[]
[]
[]
[]
[]
[]
[]
[]
[]
[]
[]
[]
[]
[]
[]
[]
[]
[]
[]
[]
[]
[]
[]
[]
[]
[]
[]
[]
[]
[]
[]
[]
[]
[]
[]
[]
[]
[]
[]
[]
[]
[]
[]
[]
[]
[]
[]
[]
[]
[]
[]
[]
[]
[]
[]
[]
[]
[]
[]
[]
[]
[]
[]
[]
[]
[]
[]
[]
[]
[]
[]
[]
[]
[]
[]
[]
[]
[]
[]
[]
[]
[]
[]
[]
[]
[]
[]
[]
[]
[]
[]
[]
[]
[]
[]
[]
[]
[]
[]
[]
[]
[]
[]
[]
[]
[]
[]
[]
[]
[]
[]
[]
[]
[]
[]
[]
[]
[]
[]
[]
[]
[]
[]
[]
[]
[]
[]
[]
[]
[]
[]
[]
[]
[]
[]
[]
[]
[]
[]
[]
[]
[]
[]
[]
[]
[]
[]
[]
[]
[]
[]
[]
[]
[]
[]
[]
[]
[]
[]
[]
[]
[]
[]
[]
[]
[]
[]
[]
[]
[]
[]
[]
[]
[]
[]
[]
[]
[]
[]
[]
[]
[]
[]
[]
[]
[]
[]
[]
[]
[]
[]
[]
[]
[]
[]
[]
[]
[]
[]
[]
[]
[]
[]
[]
[]
[]
[]
[]
[]
[]
[]
[]
[]
[]
[]
[]
[]
[]
[]
[]
[]
[]
[]
[]
[]
[]
[]
[]
[]
[]
[]
[]
[]
[]
[]
[]
[]
[]
[]
[]
[]
[]
[]
[]
[]
[]
[]
[]
[]
[]
[]
[]
[]
[]
[]
[]
[]
[]
[]
[]
[]
[]
[]
[]
[]
[]
[]
[]
[]
[]
[]
[]
[]
[]
[]
[]
[]
[]
[]
[]
[]
[]
[]
[]
[]
[]
[]
[]
[]
[]
[]
[]
[]
[]
[]
[]
[]
[]
[]
[]
[]
[]
[]
[]
[]
[]
[]
[]
[]
[]
[]
[]
[]
[]
[]
[]
[]
[]
[]
[]
[]
[]
[]
[]
[]
[]
[]
[]
[]
[]
[]
[]
[]
[]
[]
[]
[]
[]
[]
[]
[]
[]
[]
[]
[]
[]
[]
[]
[]
[]
[]
[]
[]
[]
[]
[]
[]
[]
[]
[]
[]
[]
[]
[]
[]
[]
[]
[]
[]
[]
[]
[]
[]
[]
[]
[]
[]
[]
[]
[]
[]
[]
[]
[]
[]
[]
[]
[]
[]
[]
[]
[]
[]
[]
[]
[]
[]
[]
[]
[]
[]
[]
[]
[]
[]
[]
[]
[]
[]
[]
[]
[]
[]
[]
[]
[]
[]
[]
[]
[]
[]
[]
[]
[]
[]
[]
[]
[]
[]
[]
[]
[]
[]
[]
[]
[]
[]
[]
[]
[]
[]
[]
[]
[]
[]
[]
[]
[]
[]
[]
[]
[]
[]
[]
[]
[]
[]
[]
[]
[]
[]
[]
[]
[]
[]
[]
[]
[]
[]
[]
[]
[]
[]
[]
[]
[]
[]
[]
[]
[]
[]
[]
[]
[]
[]
[]
[]
[]
[]
[]
[]
[]
[]
[]
[]
[]
[]
[]
[]
[]
[]
[]
[]
[]
[]
[]
[]
[]
[]
[]
[]
[]
[]
[]
[]
[]
[]
[]
[]
[]
[]
[]
[]
[]
[]
[]
[]
[]
[]
[]
[]
[]
[]
[]
[]
[]
[]
[]
[]
[]
[]
[]
[]
[]
[]
[]
[]
[]
[]
[]
[]
[]
[]
[]
[]
[]
[]
[]
[]
[]
[]
[]
[]
[]
[]
[]
[]
[]
[]
[]
[]
[]
[]
[]
[]
[]
[]
[]
[]
[]
[]
[]
[]
[]
[]
[]
[]
[]
[]
[]
[]
[]
[]
[]
[]
[]
[]
[]
[]
[]
[]
[]
[]
[]
[]
[]
[]
[]
[]
[]
[]
[]
[]
[]
[]
[]
[]
[]
[]
[]
[]
[]
[]
[]
[]
[]
[]
[]
[]
[]
[]
[]
[]
[]
[]
[]
[]
[]
[]
[]
[]
[]
[]
[]
[]
[]
[]
[]
[]
[]
[]
[]
[]
[]
[]
[]
[]
[]
[]
[]
[]
[]
[]
[]
[]
[]
[]
[]
[]
[]
[]
[]
[]
[]
[]
[]
[]
[]
[]
[]
[]
[]
[]
[]
[]
[]
[]
[]
[]
[]
[]
[]
[]
[]
[]
[]
[]
[]
[]
[]
[]
[]
[]
[]
[]
[]
[]
[]
[]
[]
[]
[]
[]
[]
[]
[]
[]
[]
[]
[]
[]
[]
[]
[]
[]
[]
[]
[]
[]
[]
[]
[]
[]
[]
[]
[]
[]
[]
[]
[]
[]
[]
[]
[]
[]
[]
[]
[]
[]
[]
[]
[]
[]
[]
[]
[]
[]
[]
[]
[]
[]
[]
[]
[]
[]
[]
[]
[]
[]
[]
[]
[]
[]
[]
[]
[]
[]
[]
[]
[]
[]
[]
[]
[]
[]
[]
[]
[]
[]
[]
[]
[]
[]
[]
[]
[]
[]
[]
[]
[]
[]
[]
[]
[]
[]
[]
[]
[]
[]
[]
[]
[]
[]
[]
[]
[]
[]
[]
[]
[]
[]
[]
[]
[]
[]
[]
[]
[]
[]
[]
[]
[]
[]
[]
[]
[]
[]
[]
[]
[]
[]
[]
[]
[]
[]
[]
[]
[]
[]
[]
[]
[]
[]
[]
[]
[]
[]
[]
[]
[]
[]
[]
[]
[]
[]
[]
[]
[]
[]
[]
[]
[]
[]
[]
[]
[]
[]
[]
[]
[]
[]
[]
[]
[]
[]
[]
[]
[]
[]
[]
[]
[]
[]
[]
[]
[]
[]
[]
[]
[]
[]
[]
[]
[]
[]
[]
[]
[]
[]
[]
[]
[]
[]
[]
[]
[]
[]
[]
[]
[]
[]
[]
[]
[]
[]
[]
[]
[]
[]
[]
[]
[]
[]
[]
[]
[]
[]
[]
[]
[]
[]
[]
[]
[]
[]
[]
[]
[]
[]
[]
[]
[]
[]
[]
[]
[]
[]
[]
[]
[]
[]
[]
[]
[]
[]
[]
[]
[]
[]
[]
[]
[]
[]
[]
[]
[]
[]
[]
[]
[]
[]
[]
[]
[]
[]
[]
[]
[]
[]
[]
[]
[]
[]
[]
[]
[]
[]
[]
[]
[]
[]
[]
[]
[]
[]
[]
[]
[]
[]
[]
[]
[]
[]
[]
[]
[]
[]
[]
[]
[]
[]
[]
[]
[]
[]
[]
[]
[]
[]
[]
[]
[]
[]
[]
[]
[]
[]
[]
[]
[]
[]
[]
[]
[]
[]
[]
[]
[]
[]
[]
[]
[]
[]
[]
[]
[]
[]
[]
[]
[]
[]
[]
[]
[]
[]
[]
[]
[]
[]
[]
[]
[]
[]
[]
[]
[]
[]
[]
[]
[]
[]
[]
[]
[]
[]
[]
[]
[]
[]
[]
[]
[]
[]
[]
[]
[]
[]
[]
[]
[]
[]
[]
[]
[]
[]
[]
[]
[]
[]
[]
[]
[]
[]
[]
[]
[]
[]
[]
[]
[]
[]
[]
[]
[]
[]
[]
[]
[]
[]
[]
[]
[]
[]
[]
[]
[]
[]
[]
[]
[]
[]
[]
[]
[]
[]
[]
[]
[]
[]
[]
[]
[]
[]
[]
[]
[]
[]
[]
[]
[]
[]
[]
[]
[]
[]
[]
[]
[]
[]
[]
[]
[]
[]
[]
[]
[]
[]
[]
[]
[]
[]
[]
[]
[]
[]
[]
[]
[]
[]
[]
[]
[]
[]
[]
[]
[]
[]
[]
[]
[]
[]
[]
[]
[]
[]
[]
[]
[]
[]
[]
[]
[]
[]
[]
[]
[]
[]
[]
[]
[]
[]
[]
[]
[]
[]
[]
[]
[]
[]
[]
[]
[]
[]
[]
[]
[]
[]
[]
[]
[]
[]
[]
[]
[]
[]
[]
[]
[]
[]
[]
[]
[]
[]
[]
[]
[]
[]
[]
[]
[]
[]
[]
[]
[]
[]
[]
[]
[]
[]
[]
[]
[]
[]
[]
[]
[]
[]
[]
[]
[]
[]
[]
[]
[]
[]
[]
[]
[]
[]
[]
[]
[]
[]
[]
[]
[]
[]
[]
[]
[]
[]
[]
[]
[]
[]
[]
[]
[]
[]
[]
[]
[]
[]
[]
[]
[]
[]
[]
[]
[]
[]
[]
[]
[]
[]
[]
[]
[]
[]
[]
[]
[]
[]
[]
[]
[]
[]
[]
[]
[]
[]
[]
[]
[]
[]
[]
[]
[]
[]
[]
[]
[]
[]
[]
[]
[]
[]
[]
[]
[]
[]
[]
[]
[]
[]
[]
[]
[]
[]
[]
[]
[]
[]
[]
[]
[]
[]
[]
[]
[]
[]
[]
[]
[]
[]
[]
[]
[]
[]
[]
[]
[]
[]
[]
[]
[]
[]
[]
[]
[]
[]
[]
[]
[]
[]
[]
[]
[]
[]
[]
[]
[]
[]
[]
[]
[]
[]
[]
[]
[]
[]
[]
[]
[]
[]
[]
[]
[]
[]
[]
[]
[]
[]
[]
[]
[]
[]
[]
[]
[]
[]
[]
[]
[]
[]
[]
[]
[]
[]
[]
[]
[]
[]
[]
[]
[]
[]
[]
[]
[]
[]
[]
[]
[]
[]
[]
[]
[]
[]
[]
[]
[]
[]
[]
[]
[]
[]
[]
[]
[]
[]
[]
[]
[]
[]
[]
[]
[]
[]
[]
[]
[]
[]
[]
[]
[]
[]
[]
[]
[]
[]
[]
[]
[]
[]
[]
[]
[]
[]
[]
[]
[]
[]
[]
[]
[]
[]
[]
[]
[]
[]
[]
[]
[]
[]
[]
[]
[]
[]
[]
[]
[]
[]
[]
[]
[]
[]
[]
[]
[]
[]
[]
[]
[]
[]
[]
[]
[]
[]
[]
[]
[]
[]
[]
[]
[]
[]
[]
[]
[]
[]
[]
[]
[]
[]
[]
[]
[]
[]
[]
[]
[]
[]
[]
[]
[]
[]
[]
[]
[]
[]
[]
[]
[]
[]
[]
[]
[]
[]
[]
[]
[]
[]
[]
[]
[]
[]
[]
[]
[]
[]
[]
[]
[]
[]
[]
[]
[]
[]
[]
[]
[]
[]
[]
[]
[]
[]
[]
[]
[]
[]
[]
[]
[]
[]
[]
[]
[]
[]
[]
[]
[]
[]
[]
[]
[]
[]
[]
[]
[]
[]
[]
[]
[]
[]
[]
[]
[]
[]
[]
[]
[]
[]
[]
[]
[]
[]
[]
[]
[]
[]
[]
[]
[]
[]
[]
[]
[]
[]
[]
[]
[]
[]
[]
[]
[]
[]
[]
[]
[]
[]
[]
[]
[]
[]
[]
[]
[]
[]
[]
[]
[]
[]
[]
[]
[]
[]
[]
[]
[]
[]
[]
[]
[]
[]
[]
[]
[]
[]
[]
[]
[]
[]
[]
[]
[]
[]
[]
[]
[]
[]
[]
[]
[]
[]
[]
[]
[]
[]
[]
[]
[]
[]
[]
[]
[]
[]
[]
[]
[]
[]
[]
[]
[]
[]
[]
[]
[]
[]
[]
[]
[]
[]
[]
[]
[]
[]
[]
[]
[]
[]
[]
[]
[]
[]
[]
[]
[]
[]
[]
[]
[]
[]
[]
[]
[]
[]
[]
[]
[]
[]
[]
[]
[]
[]
[]
[]
[]
[]
[]
[]
[]
[]
[]
[]
[]
[]
[]
[]
[]
[]
[]
[]
[]
[]
[]
[]
[]
[]
[]
[]
[]
[]
[]
[]
[]
[]
[]
[]
[]
[]
[]
[]
[]
[]
[]
[]
[]
[]
[]
[]
[]
[]
[]
[]
[]
[]
[]
[]
[]
[]
[]
[]
[]
[]
[]
[]
[]
[]
[]
[]
[]
[]
[]
[]
[]
[]
[]
[]
[]
[]
[]
[]
[]
[]
[]
[]
[]
[]
[]
[]
[]
[]
[]
[]
[]
[]
[]
[]
[]
[]
[]
[]
[]
[]
[]
[]
[]
[]
[]
[]
[]
[]
[]
[]
[]
[]
[]
[]
[]
[]
[]
[]
[]
[]
[]
[]
[]
[]
[]
[]
[]
[]
[]
[]
[]
[]
[]
[]
[]
[]
[]
[]
[]
[]
[]
[]
[]
[]
[]
[]
[]
[]
[]
[]
[]
[]
[]
[]
[]
[]
[]
[]
[]
[]
[]
[]
[]
[]
[]
[]
[]
[]
[]
[]
[]
[]
[]
[]
[]
[]
[]
[]
[]
[]
[]
[]
[]
[]
[]
[]
[]
[]
[]
[]
[]
[]
[]
[]
[]
[]
[]
[]
[]
[]
[]
[]
[]
[]
[]
[]
[]
[]
[]
[]
[]
[]
[]
[]
[]
[]
[]
[]
[]
[]
[]
[]
[]
[]
[]
[]
[]
[]
[]
[]
[]
[]
[]
[]
[]
[]
[]
[]
[]
[]
[]
[]
[]
[]
[]
[]
[]
[]
[]
[]
[]
[]
[]
[]
[]
[]
[]
[]
[]
[]
[]
[]
[]
[]
[]
[]
[]
[]
[]
[]
[]
[]
[]
[]
[]
[]
[]
[]
[]
[]
[]
[]
[]
[]
[]
[]
[]
[]
[]
[]
[]
[]
[]
[]
[]
[]
[]
[]
[]
[]
[]
[]
[]
[]
[]
[]
[]
[]
[]
[]
[]
[]
[]
[]
[]
[]
[]
[]
[]
[]
[]
[]
[]
[]
[]
[]
[]
[]
[]
[]
[]
[]
[]
[]
[]
[]
[]
[]
[]
[]
[]
[]
[]
[]
[]
[]
[]
[]
[]
[]
[]
[]
[]
[]
[]
[]
[]
[]
[]
[]
[]
[]
[]
[]
[]
[]
[]
[]
[]
[]
[]
[]
[]
[]
[]
[]
[]
[]
[]
[]
[]
[]
[]
[]
[]
[]
[]
[]
[]
[]
[]
[]
[]
[]
[]
[]
[]
[]
[]
[]
[]
[]
[]
[]
[]
[]
[]
[]
[]
[]
[]
[]
[]
[]
[]
[]
[]
[]
[]
[]
[]
[]
[]
[]
[]
[]
[]
[]
[]
[]
[]
[]
[]
[]
[]
[]
[]
[]
[]
[]
[]
[]
[]
[]
[]
[]
[]
[]
[]
[]
[]
[]
[]
[]
[]
[]
[]
[]
[]
[]
[]
[]
[]
[]
[]
[]
[]
[]
[]
[]
[]
[]
[]
[]
[]
[]
[]
[]
[]
[]
[]
[]
[]
[]
[]
[]
[]
[]
[]
[]
[]
[]
[]
[]
[]
[]
[]
[]
[]
[]
[]
[]
[]
[]
[]
[]
[]
[]
[]
[]
[]
[]
[]
[]
[]
[]
[]
[]
[]
[]
[]
[]
[]
[]
[]
[]
[]
[]
[]
[]
[]
[]
[]
[]
[]
[]
[]
[]
[]
[]
[]
[]
[]
[]
[]
[]
[]
[]
[]
[]
[]
[]
[]
[]
[]
[]
[]
[]
[]
[]
[]
[]
[]
[]
[]
[]
[]
[]
[]
[]
[]
[]
[]
[]
[]
[]
[]
[]
[]
[]
[]
[]
[]
[]
[]
[]
[]
[]
[]
[]
[]
[]
[]
[]
[]
[]
[]
[]
[]
[]
[]
[]
[]
[]
[]
[]
[]
[]
[]
[]
[]
[]
[]
[]
[]
[]
[]
[]
[]
[]
[]
[]
[]
[]
[]
[]
[]
[]
[]
[]
[]
[]
[]
[]
[]
[]
[]
[]
[]
[]
[]
[]
[]
[]
[]
[]
[]
[]
[]
[]
[]
[]
[]
[]
[]
[]
[]
[]
[]
[]
[]
[]
[]
[]
[]
[]
[]
[]
[]
[]
[]
[]
[]
[]
[]
[]
[]
[]
[]
[]
[]
[]
[]
[]
[]
[]
[]
[]
[]
[]
[]
[]
[]
[]
[]
[]
[]
[]
[]
[]
[]
[]
[]
[]
[]
[]
[]
[]
[]
[]
[]
[]
[]
[]
[]
[]
[]
[]
[]
[]
[]
[]
[]
[]
[]
[]
[]
[]
[]
[]
[]
[]
[]
[]
[]
[]
[]
[]
[]
[]
[]
[]
[]
[]
[]
[]
[]
[]
[]
[]
[]
[]
[]
[]
[]
[]
[]
[]
[]
[]
[]
[]
[]
[]
[]
[]
[]
[]
[]
[]
[]
[]
[]
[]
[]
[]
[]
[]
[]
[]
[]
[]
[]
[]
[]
[]
[]
[]
[]
[]
[]
[]
[]
[]
[]
[]
[]
[]
[]
[]
[]
[]
[]
[]
[]
[]
[]
[]
[]
[]
[]
[]
[]
[]
[]
[]
[]
[]
[]
[]
[]
[]
[]
[]
[]
[]
[]
[]
[]
[]
[]
[]
[]
[]
[]
[]
[]
[]
[]
[]
[]
[]
[]
[]
[]
[]
[]
[]
[]
[]
[]
[]
[]
[]
[]
[]
[]
[]
[]
[]
[]
[]
[]
[]
[]
[]
[]
[]
[]
[]
[]
[]
[]
[]
[]
[]
[]
[]
[]
[]
[]
[]
[]
[]
[]
[]
[]
[]
[]
[]
[]
[]
[]
[]
[]
[]
[]
[]
[]
[]
[]
[]
[]
[]
[]
[]
[]
[]
[]
[]
[]
[]
[]
[]
[]
[]
[]
[]
[]
[]
[]
[]
[]
[]
[]
[]
[]
[]
[]
[]
[]
[]
[]
[]
[]
[]
[]
[]
[]
[]
[]
[]
[]
[]
[]
[]
[]
[]
[]
[]
[]
[]
[]
[]
[]
[]
[]
[]
[]
[]
[]
[]
[]
[]
[]
[]
[]
[]
[]
[]
[]
[]
[]
[]
[]
[]
[]
[]
[]
[]
[]
[]
[]
[]
[]
[]
[]
[]
[]
[]
[]
[]
[]
[]
[]
[]
[]
[]
[]
[]
[]
[]
[]
[]
[]
[]
[]
[]
[]
[]
[]
[]
[]
[]
[]
[]
[]
[]
[]
[]
[]
[]
[]
[]
[]
[]
[]
[]
[]
[]
[]
[]
[]
[]
[]
[]
[]
[]
[]
[]
[]
[]
[]
[]
[]
[]
[]
[]
[]
[]
[]
[]
[]
[]
[]
[]
[]
[]
[]
[]
[]
[]
[]
[]
[]
[]
[]
[]
[]
[]
[]
[]
[]
[]
[]
[]
[]
[]
[]
[]
[]
[]
[]
[]
[]
[]
[]
[]
[]
[]
[]
[]
[]
[]
[]
[]
[]
[]
[]
[]
[]
[]
[]
[]
[]
[]
[]
[]
[]
[]
[]
[]
[]
[]
[]
[]
[]
[]
[]
[]
[]
[]
[]
[]
[]
[]
[]
[]
[]
[]
[]
[]
[]
[]
[]
[]
[]
[]
[]
[]
[]
[]
[]
[]
[]
[]
[]
[]
[]
[]
[]
[]
[]
[]
[]
[]
[]
[]
[]
[]
[]
[]
[]
[]
[]
[]
[]
[]
[]
[]
[]
[]
[]
[]
[]
[]
[]
[]
[]
[]
[]
[]
[]
[]
[]
[]
[]
[]
[]
[]
[]
[]
[]
[]
[]
[]
[]
[]
[]
[]
[]
[]
[]
[]
[]
[]
[]
[]
[]
[]
[]
[]
[]
[]
[]
[]
[]
[]
[]
[]
[]
[]
[]
[]
[]
[]
[]
[]
[]
[]
[]
[]
[]
[]
[]
[]
[]
[]
[]
[]
[]
[]
[]
[]
[]
[]
[]
[]
[]
[]
[]
[]
[]
[]
[]
[]
[]
[]
[]
[]
[]
[]
[]
[]
[]
[]
[]
[]
[]
[]
[]
[]
[]
[]
[]
[]
[]
[]
[]
[]
[]
[]
[]
[]
[]
[]
[]
[]
[]
[]
[]
[]
[]
[]
[]
[]
[]
[]
[]
[]
[]
[]
[]
[]
[]
[]
[]
[]
[]
[]
[]
[]
[]
[]
[]
[]
[]
[]
[]
[]
[]
[]
[]
[]
[]
[]
[]
[]
[]
[]
[]
[]
[]
[]
[]
[]
[]
[]
[]
[]
[]
[]
[]
[]
[]
[]
[]
[]
[]
[]
[]
[]
[]
[]
[]
[]
[]
[]
[]
[]
[]
[]
[]
[]
[]
[]
[]
[]
[]
[]
[]
[]
[]
[]
[]
[]
[]
[]
[]
[]
[]
[]
[]
[]
[]
[]
[]
[]
[]
[]
[]
[]
[]
[]
[]
[]
[]
[]
[]
[]
[]
[]
[]
[]
[]
[]
[]
[]
[]
[]
[]
[]
[]
[]
[]
[]
[]
[]
[]
[]
[]
[]
[]
[]
[]
[]
[]
[]
[]
[]
[]
[]
[]
[]
[]
[]
[]
[]
[]
[]
[]
[]
[]
[]
[]
[]
[]
[]
[]
[]
[]
[]
[]
[]
[]
[]
[]
[]
[]
[]
[]
[]
[]
[]
[]
[]
[]
[]
[]
[]
[]
[]
[]
[]
[]
[]
[]
[]
[]
[]
[]
[]
[]
[]
[]
[]
[]
[]
[]
[]
[]
[]
[]
[]
[]
[]
[]
[]
[]
[]
[]
[]
[]
[]
[]
[]
[]
[]
[]
[]
[]
[]
[]
[]
[]
[]
[]
[]
[]
[]
[]
[]
[]
[]
[]
[]
[]
[]
[]
[]
[]
[]
[]
[]
[]
[]
[]
[]
[]
[]
[]
[]
[]
[]
[]
[]
[]
[]
[]
[]
[]
[]
[]
[]
[]
[]
[]
[]
[]
[]
[]
[]
[]
[]
[]
[]
[]
[]
[]
[]
[]
[]
[]
[]
[]
[]
[]
[]
[]
[]
[]
[]
[]
[]
[]
[]
[]
[]
[]
[]
[]
[]
[]
[]
[]
[]
[]
[]
[]
[]
[]
[]
[]
[]
[]
[]
[]
[]
[]
[]
[]
[]
[]
[]
[]
[]
[]
[]
[]
[]
[]
[]
[]
[]
[]
[]
[]
[]
[]
[]
[]
[]
[]
[]
[]
[]
[]
[]
[]
[]
[]
[]
[]
[]
[]
[]
[]
[]
[]
[]
[]
[]
[]
[]
[]
[]
[]
[]
[]
[]
[]
[]
[]
[]
[]
[]
[]
[]
[]
[]
[]
[]
[]
[]
[]
[]
[]
[]
[]
[]
[]
[]
[]
[]
[]
[]
[]
[]
[]
[]
[]
[]
[]
[]
[]
[]
[]
[]
[]
[]
[]
[]
[]
[]
[]
[]
[]
[]
[]
[]
[]
[]
[]
[]
[]
[]
[]
[]
[]
[]
[]
[]
[]
[]
[]
[]
[]
[]
[]
[]
[]
[]
[]
[]
[]
[]
[]
[]
[]
[]
[]
[]
[]
[]
[]
[]
[]
[]
[]
[]
[]
[]
[]
[]
[]
[]
[]
[]
[]
[]
[]
[]
[]
[]
[]
[null,null,null,null,null,null,null,null,null,null,null,"Object_Code_BILL"]

{"sheet":"Inst.","index":9,"n_rows":24,"n_cols":11,"rows_kept":24,"cut":false,"hidden":false,"merged":[[0,10,0,12],[7,1,8,13],[7,0,8,0],[9,1,9,13],[6,0,6,13],[1,0,5,13],[21,1,22,3],[19,1,20,3],[14,1,16,13],[14,0,16,0],[17,0,17,13],[18,1,18,13],[10,1,10,13],[11,1,13,13],[11,0,13,0],[23,0,24,0],[23,1,24,13],[19,0,20,0],[21,0,22,0],[19,4,20,13],[21,4,22,13]]}
[null,null,null,null,null,null,null,null,null,null,"Home-Back"]
["कार्यालय में सामान्यतः बजट रजिस्टर एवं बिल रजिस्टर भौतिक रूप से संघारित किये जाते है लेकिन इसमें की गयी प्रविष्टियो के आधार पर किसी प्रकार की रिपोर्ट आदि प्राप्त नहीं होती है तथा आवश्यकता होने पर बनानी पड़ती है । यदि इन दो रजिस्टर में की गयी प्रविष्टियों को इस एक्सल सीट में पुनः प्रविष्ट किया जावे तो यूजर किये गये डाटा इनपुट के आधार पर त्वरित सूचना/रिपोर्ट प्राप्त कर सकता है । वस्तुतः यह एक कम्प्यूटीकृत एक्सल सीट है जिससे एक्सल से प्राप्त होने वाले सभी लाभ प्राप्त हो सकते है । "]
[]
[]
[]
[]
["Data Entry"]
[1,"सर्वप्रथम एक्सल सीट \"Add/Update Office Name/Budget Head\"  में कार्यालय का नाम, बजट मद एवं मांग संख्या की आवश्यक एन्ट्री करना । यूजर एक से अधिक कार्यालय/बजट मद के लिए प्रयोग कर सकता है । "]
[]
[2,"इसके पश्चात एक्सल सीट \"Budget Register\" में आवश्यकता अनुसार आवश्यक प्रविष्टिया करना । "]
[3,"इसके पश्चात एक्सल सीट \"Bill Register\" में आवश्यकता अनुसार आवश्यक प्रविष्टिया करना । "]
[4,"उपर्युक्त दोनो एक्सल सीट में जहां एरो का बटन दिया हुआ है, वहां ड्राप ड्राउन मीनू का उपयोग करते हुये वांछित वेल्यू सलेक्ट करनी है तथा केवल सफेद कलर (White Colour cell)  के सेल को ही यूज करना है । अन्य सेल में किसी प्रकार का कार्य नहीं करना है । "]
[]
[]
[5,"यूंकि यह एक Macro-enabled worksheet है, इसलिये इस प्रकार की सीट में किसी भी Row/Column को डिलीट/कट नहीं करना है । यदि यूजर इस प्रकार की त्रुटि करता है तो इस सीट  से प्राप्त होने वाले Reports/Query के परिणाम अशुद्व वेल्यू को प्रदर्शित करेंगे ।"]
[]
[]
["Report/Query"]
[6,"इस एक्सल सीट से यूजर निम्नाकिंत प्रकार की Report/Query  प्राप्त कर सकता है-"]
[7,"Instant/\nQuick query",null,null,"एक्सल सीट \"Budget Register \" के प्रारम्भ में वांछित वेल्यू को सलेक्ट करके तुरन्त परिणाम प्राप्त कर सकता है । "]
[]
[8,"Report/Query based on Pivot-table",null,null,"Budget Register & Bill Register दोनों एक्सल सीट में इनपुट डाटा के आधार पर इनमें दिये गये option का उपयोग करते हुये वांछित परिणाम प्राप्त किये जा सकते है । "]
[]
[9,"It is expenditure report on month end basis (like GA 19)"]

{"sheet":"TV Pending ","index":10,"n_rows":1225,"n_cols":13,"rows_kept":1225,"cut":false,"hidden":true,"merged":[]}
[null,null,null,null,null,"Home-Back"]
["Helper Column"]
[{"$f":"INDEX(Voucher_Date_1819,MATCH(ROWS('Bill Register 20-21'!$L$3:'Bill Register 20-21'!L3),COUNTIF(Voucher_Date_1819,\"<=\"&Voucher_Date_1819),0))","v":{"$error":"#N/A"}},{"$f":"INDEX(Voucher_Date_1819,MATCH(SMALL(IF(ISBLANK(Voucher_Date_1819),\"\",IF(ISNUMBER(Voucher_Date_1819),COUNTIF(Voucher_Date_1819,\"<\"&Voucher_Date_1819),COUNTIF(Voucher_Date_1819,\"<\"&Voucher_Date_1819)+SUM(IF(ISNUMBER(Voucher_Date_1819),1,0))+1)),ROW(A2)),IF(ISBLANK(Voucher_Date_1819),\"\",IF(ISNUMBER(Voucher_Date_1819),COUNTIF(Voucher_Date_1819,\"<\"&Voucher_Date_1819),COUNTIF(Voucher_Date_1819,\"<\"&Voucher_Date_1819)+SUM(IF(ISNUMBER(Voucher_Date_1819),1,0))+1)),0))","v":{"$error":"#NUM!"}}]
[{"$f":"INDEX(Voucher_Date_1819,MATCH(ROWS('Bill Register 20-21'!$L$3:'Bill Register 20-21'!L4),COUNTIF(Voucher_Date_1819,\"<=\"&Voucher_Date_1819),0))","v":{"$error":"#N/A"}},{"$f":"INDEX(Voucher_Date_1819,MATCH(SMALL(IF(ISBLANK(Voucher_Date_1819),\"\",IF(ISNUMBER(Voucher_Date_1819),COUNTIF(Voucher_Date_1819,\"<\"&Voucher_Date_1819),COUNTIF(Voucher_Date_1819,\"<\"&Voucher_Date_1819)+SUM(IF(ISNUMBER(Voucher_Date_1819),1,0))+1)),ROW(A3)),IF(ISBLANK(Voucher_Date_1819),\"\",IF(ISNUMBER(Voucher_Date_1819),COUNTIF(Voucher_Date_1819,\"<\"&Voucher_Date_1819),COUNTIF(Voucher_Date_1819,\"<\"&Voucher_Date_1819)+SUM(IF(ISNUMBER(Voucher_Date_1819),1,0))+1)),0))","v":{"$error":"#NUM!"}}]
[{"$f":"INDEX(Voucher_Date_1819,MATCH(ROWS('Bill Register 20-21'!$L$3:'Bill Register 20-21'!L5),COUNTIF(Voucher_Date_1819,\"<=\"&Voucher_Date_1819),0))","v":{"$error":"#N/A"}},{"$f":"INDEX(Voucher_Date_1819,MATCH(SMALL(IF(ISBLANK(Voucher_Date_1819),\"\",IF(ISNUMBER(Voucher_Date_1819),COUNTIF(Voucher_Date_1819,\"<\"&Voucher_Date_1819),COUNTIF(Voucher_Date_1819,\"<\"&Voucher_Date_1819)+SUM(IF(ISNUMBER(Voucher_Date_1819),1,0))+1)),ROW(A4)),IF(ISBLANK(Voucher_Date_1819),\"\",IF(ISNUMBER(Voucher_Date_1819),COUNTIF(Voucher_Date_1819,\"<\"&Voucher_Date_1819),COUNTIF(Voucher_Date_1819,\"<\"&Voucher_Date_1819)+SUM(IF(ISNUMBER(Voucher_Date_1819),1,0))+1)),0))","v":{"$error":"#NUM!"}}]
[{"$f":"INDEX(Voucher_Date_1819,MATCH(ROWS('Bill Register 20-21'!$L$3:'Bill Register 20-21'!L6),COUNTIF(Voucher_Date_1819,\"<=\"&Voucher_Date_1819),0))","v":{"$error":"#N/A"}},{"$f":"INDEX(Voucher_Date_1819,MATCH(SMALL(IF(ISBLANK(Voucher_Date_1819),\"\",IF(ISNUMBER(Voucher_Date_1819),COUNTIF(Voucher_Date_1819,\"<\"&Voucher_Date_1819),COUNTIF(Voucher_Date_1819,\"<\"&Voucher_Date_1819)+SUM(IF(ISNUMBER(Voucher_Date_1819),1,0))+1)),ROW(A5)),IF(ISBLANK(Voucher_Date_1819),\"\",IF(ISNUMBER(Voucher_Date_1819),COUNTIF(Voucher_Date_1819,\"<\"&Voucher_Date_1819),COUNTIF(Voucher_Date_1819,\"<\"&Voucher_Date_1819)+SUM(IF(ISNUMBER(Voucher_Date_1819),1,0))+1)),0))","v":{"$error":"#NUM!"}}]
[{"$f":"INDEX(Voucher_Date_1819,MATCH(ROWS('Bill Register 20-21'!$L$3:'Bill Register 20-21'!L7),COUNTIF(Voucher_Date_1819,\"<=\"&Voucher_Date_1819),0))","v":{"$error":"#N/A"}},{"$f":"INDEX(Voucher_Date_1819,MATCH(SMALL(IF(ISBLANK(Voucher_Date_1819),\"\",IF(ISNUMBER(Voucher_Date_1819),COUNTIF(Voucher_Date_1819,\"<\"&Voucher_Date_1819),COUNTIF(Voucher_Date_1819,\"<\"&Voucher_Date_1819)+SUM(IF(ISNUMBER(Voucher_Date_1819),1,0))+1)),ROW(A6)),IF(ISBLANK(Voucher_Date_1819),\"\",IF(ISNUMBER(Voucher_Date_1819),COUNTIF(Voucher_Date_1819,\"<\"&Voucher_Date_1819),COUNTIF(Voucher_Date_1819,\"<\"&Voucher_Date_1819)+SUM(IF(ISNUMBER(Voucher_Date_1819),1,0))+1)),0))","v":{"$error":"#NUM!"}}]
[{"$f":"INDEX(Voucher_Date_1819,MATCH(ROWS('Bill Register 20-21'!$L$3:'Bill Register 20-21'!L8),COUNTIF(Voucher_Date_1819,\"<=\"&Voucher_Date_1819),0))","v":{"$error":"#N/A"}},{"$f":"INDEX(Voucher_Date_1819,MATCH(SMALL(IF(ISBLANK(Voucher_Date_1819),\"\",IF(ISNUMBER(Voucher_Date_1819),COUNTIF(Voucher_Date_1819,\"<\"&Voucher_Date_1819),COUNTIF(Voucher_Date_1819,\"<\"&Voucher_Date_1819)+SUM(IF(ISNUMBER(Voucher_Date_1819),1,0))+1)),ROW(A7)),IF(ISBLANK(Voucher_Date_1819),\"\",IF(ISNUMBER(Voucher_Date_1819),COUNTIF(Voucher_Date_1819,\"<\"&Voucher_Date_1819),COUNTIF(Voucher_Date_1819,\"<\"&Voucher_Date_1819)+SUM(IF(ISNUMBER(Voucher_Date_1819),1,0))+1)),0))","v":{"$error":"#NUM!"}}]
[{"$f":"INDEX(Voucher_Date_1819,MATCH(ROWS('Bill Register 20-21'!$L$3:'Bill Register 20-21'!L9),COUNTIF(Voucher_Date_1819,\"<=\"&Voucher_Date_1819),0))","v":{"$error":"#N/A"}},{"$f":"INDEX(Voucher_Date_1819,MATCH(SMALL(IF(ISBLANK(Voucher_Date_1819),\"\",IF(ISNUMBER(Voucher_Date_1819),COUNTIF(Voucher_Date_1819,\"<\"&Voucher_Date_1819),COUNTIF(Voucher_Date_1819,\"<\"&Voucher_Date_1819)+SUM(IF(ISNUMBER(Voucher_Date_1819),1,0))+1)),ROW(A8)),IF(ISBLANK(Voucher_Date_1819),\"\",IF(ISNUMBER(Voucher_Date_1819),COUNTIF(Voucher_Date_1819,\"<\"&Voucher_Date_1819),COUNTIF(Voucher_Date_1819,\"<\"&Voucher_Date_1819)+SUM(IF(ISNUMBER(Voucher_Date_1819),1,0))+1)),0))","v":{"$error":"#NUM!"}}]
[{"$f":"INDEX(Voucher_Date_1819,MATCH(ROWS('Bill Register 20-21'!$L$3:'Bill Register 20-21'!L10),COUNTIF(Voucher_Date_1819,\"<=\"&Voucher_Date_1819),0))","v":{"$error":"#N/A"}},{"$f":"INDEX(Voucher_Date_1819,MATCH(SMALL(IF(ISBLANK(Voucher_Date_1819),\"\",IF(ISNUMBER(Voucher_Date_1819),COUNTIF(Voucher_Date_1819,\"<\"&Voucher_Date_1819),COUNTIF(Voucher_Date_1819,\"<\"&Voucher_Date_1819)+SUM(IF(ISNUMBER(Voucher_Date_1819),1,0))+1)),ROW(A9)),IF(ISBLANK(Voucher_Date_1819),\"\",IF(ISNUMBER(Voucher_Date_1819),COUNTIF(Voucher_Date_1819,\"<\"&Voucher_Date_1819),COUNTIF(Voucher_Date_1819,\"<\"&Voucher_Date_1819)+SUM(IF(ISNUMBER(Voucher_Date_1819),1,0))+1)),0))","v":{"$error":"#NUM!"}}]
[{"$f":"INDEX(Voucher_Date_1819,MATCH(ROWS('Bill Register 20-21'!$L$3:'Bill Register 20-21'!L11),COUNTIF(Voucher_Date_1819,\"<=\"&Voucher_Date_1819),0))","v":{"$error":"#N/A"}},{"$f":"INDEX(Voucher_Date_1819,MATCH(SMALL(IF(ISBLANK(Voucher_Date_1819),\"\",IF(ISNUMBER(Voucher_Date_1819),COUNTIF(Voucher_Date_1819,\"<\"&Voucher_Date_1819),COUNTIF(Voucher_Date_1819,\"<\"&Voucher_Date_1819)+SUM(IF(ISNUMBER(Voucher_Date_1819),1,0))+1)),ROW(A10)),IF(ISBLANK(Voucher_Date_1819),\"\",IF(ISNUMBER(Voucher_Date_1819),COUNTIF(Voucher_Date_1819,\"<\"&Voucher_Date_1819),COUNTIF(Voucher_Date_1819,\"<\"&Voucher_Date_1819)+SUM(IF(ISNUMBER(Voucher_Date_1819),1,0))+1)),0))","v":{"$error":"#NUM!"}}]
[{"$f":"INDEX(Voucher_Date_1819,MATCH(ROWS('Bill Register 20-21'!$L$3:'Bill Register 20-21'!L12),COUNTIF(Voucher_Date_1819,\"<=\"&Voucher_Date_1819),0))","v":{"$error":"#N/A"}},{"$f":"INDEX(Voucher_Date_1819,MATCH(SMALL(IF(ISBLANK(Voucher_Date_1819),\"\",IF(ISNUMBER(Voucher_Date_1819),COUNTIF(Voucher_Date_1819,\"<\"&Voucher_Date_1819),COUNTIF(Voucher_Date_1819,\"<\"&Voucher_Date_1819)+SUM(IF(ISNUMBER(Voucher_Date_1819),1,0))+1)),ROW(A11)),IF(ISBLANK(Voucher_Date_1819),\"\",IF(ISNUMBER(Voucher_Date_1819),COUNTIF(Voucher_Date_1819,\"<\"&Voucher_Date_1819),COUNTIF(Voucher_Date_1819,\"<\"&Voucher_Date_1819)+SUM(IF(ISNUMBER(Voucher_Date_1819),1,0))+1)),0))","v":{"$error":"#NUM!"}}]
[{"$f":"INDEX(Voucher_Date_1819,MATCH(ROWS('Bill Register 20-21'!$L$3:'Bill Register 20-21'!L13),COUNTIF(Voucher_Date_1819,\"<=\"&Voucher_Date_1819),0))","v":{"$error":"#N/A"}},{"$f":"INDEX(Voucher_Date_1819,MATCH(SMALL(IF(ISBLANK(Voucher_Date_1819),\"\",IF(ISNUMBER(Voucher_Date_1819),COUNTIF(Voucher_Date_1819,\"<\"&Voucher_Date_1819),COUNTIF(Voucher_Date_1819,\"<\"&Voucher_Date_1819)+SUM(IF(ISNUMBER(Voucher_Date_1819),1,0))+1)),ROW(A12)),IF(ISBLANK(Voucher_Date_1819),\"\",IF(ISNUMBER(Voucher_Date_1819),COUNTIF(Voucher_Date_1819,\"<\"&Voucher_Date_1819),COUNTIF(Voucher_Date_1819,\"<\"&Voucher_Date_1819)+SUM(IF(ISNUMBER(Voucher_Date_1819),1,0))+1)),0))","v":{"$error":"#NUM!"}}]
[{"$f":"INDEX(Voucher_Date_1819,MATCH(ROWS('Bill Register 20-21'!$L$3:'Bill Register 20-21'!L14),COUNTIF(Voucher_Date_1819,\"<=\"&Voucher_Date_1819),0))","v":{"$error":"#N/A"}},{"$f":"INDEX(Voucher_Date_1819,MATCH(SMALL(IF(ISBLANK(Voucher_Date_1819),\"\",IF(ISNUMBER(Voucher_Date_1819),COUNTIF(Voucher_Date_1819,\"<\"&Voucher_Date_1819),COUNTIF(Voucher_Date_1819,\"<\"&Voucher_Date_1819)+SUM(IF(ISNUMBER(Voucher_Date_1819),1,0))+1)),ROW(A13)),IF(ISBLANK(Voucher_Date_1819),\"\",IF(ISNUMBER(Voucher_Date_1819),COUNTIF(Voucher_Date_1819,\"<\"&Voucher_Date_1819),COUNTIF(Voucher_Date_1819,\"<\"&Voucher_Date_1819)+SUM(IF(ISNUMBER(Voucher_Date_1819),1,0))+1)),0))","v":{"$error":"#NUM!"}}]
[{"$f":"INDEX(Voucher_Date_1819,MATCH(ROWS('Bill Register 20-21'!$L$3:'Bill Register 20-21'!L15),COUNTIF(Voucher_Date_1819,\"<=\"&Voucher_Date_1819),0))","v":{"$error":"#N/A"}},{"$f":"INDEX(Voucher_Date_1819,MATCH(SMALL(IF(ISBLANK(Voucher_Date_1819),\"\",IF(ISNUMBER(Voucher_Date_1819),COUNTIF(Voucher_Date_1819,\"<\"&Voucher_Date_1819),COUNTIF(Voucher_Date_1819,\"<\"&Voucher_Date_1819)+SUM(IF(ISNUMBER(Voucher_Date_1819),1,0))+1)),ROW(A14)),IF(ISBLANK(Voucher_Date_1819),\"\",IF(ISNUMBER(Voucher_Date_1819),COUNTIF(Voucher_Date_1819,\"<\"&Voucher_Date_1819),COUNTIF(Voucher_Date_1819,\"<\"&Voucher_Date_1819)+SUM(IF(ISNUMBER(Voucher_Date_1819),1,0))+1)),0))","v":{"$error":"#NUM!"}}]
[{"$f":"INDEX(Voucher_Date_1819,MATCH(ROWS('Bill Register 20-21'!$L$3:'Bill Register 20-21'!L16),COUNTIF(Voucher_Date_1819,\"<=\"&Voucher_Date_1819),0))","v":{"$error":"#N/A"}},{"$f":"INDEX(Voucher_Date_1819,MATCH(SMALL(IF(ISBLANK(Voucher_Date_1819),\"\",IF(ISNUMBER(Voucher_Date_1819),COUNTIF(Voucher_Date_1819,\"<\"&Voucher_Date_1819),COUNTIF(Voucher_Date_1819,\"<\"&Voucher_Date_1819)+SUM(IF(ISNUMBER(Voucher_Date_1819),1,0))+1)),ROW(A15)),IF(ISBLANK(Voucher_Date_1819),\"\",IF(ISNUMBER(Voucher_Date_1819),COUNTIF(Voucher_Date_1819,\"<\"&Voucher_Date_1819),COUNTIF(Voucher_Date_1819,\"<\"&Voucher_Date_1819)+SUM(IF(ISNUMBER(Voucher_Date_1819),1,0))+1)),0))","v":{"$error":"#NUM!"}}]
[{"$f":"INDEX(Voucher_Date_1819,MATCH(ROWS('Bill Register 20-21'!$L$3:'Bill Register 20-21'!L17),COUNTIF(Voucher_Date_1819,\"<=\"&Voucher_Date_1819),0))","v":{"$error":"#N/A"}},{"$f":"INDEX(Voucher_Date_1819,MATCH(SMALL(IF(ISBLANK(Voucher_Date_1819),\"\",IF(ISNUMBER(Voucher_Date_1819),COUNTIF(Voucher_Date_1819,\"<\"&Voucher_Date_1819),COUNTIF(Voucher_Date_1819,\"<\"&Voucher_Date_1819)+SUM(IF(ISNUMBER(Voucher_Date_1819),1,0))+1)),ROW(A16)),IF(ISBLANK(Voucher_Date_1819),\"\",IF(ISNUMBER(Voucher_Date_1819),COUNTIF(Voucher_Date_1819,\"<\"&Voucher_Date_1819),COUNTIF(Voucher_Date_1819,\"<\"&Voucher_Date_1819)+SUM(IF(ISNUMBER(Voucher_Date_1819),1,0))+1)),0))","v":{"$error":"#NUM!"}}]
[{"$f":"INDEX(Voucher_Date_1819,MATCH(ROWS('Bill Register 20-21'!$L$3:'Bill Register 20-21'!L18),COUNTIF(Voucher_Date_1819,\"<=\"&Voucher_Date_1819),0))","v":{"$error":"#N/A"}},{"$f":"INDEX(Voucher_Date_1819,MATCH(SMALL(IF(ISBLANK(Voucher_Date_1819),\"\",IF(ISNUMBER(Voucher_Date_1819),COUNTIF(Voucher_Date_1819,\"<\"&Voucher_Date_1819),COUNTIF(Voucher_Date_1819,\"<\"&Voucher_Date_1819)+SUM(IF(ISNUMBER(Voucher_Date_1819),1,0))+1)),ROW(A17)),IF(ISBLANK(Voucher_Date_1819),\"\",IF(ISNUMBER(Voucher_Date_1819),COUNTIF(Voucher_Date_1819,\"<\"&Voucher_Date_1819),COUNTIF(Voucher_Date_1819,\"<\"&Voucher_Date_1819)+SUM(IF(ISNUMBER(Voucher_Date_1819),1,0))+1)),0))","v":{"$error":"#NUM!"}}]
[{"$f":"INDEX(Voucher_Date_1819,MATCH(ROWS('Bill Register 20-21'!$L$3:'Bill Register 20-21'!L19),COUNTIF(Voucher_Date_1819,\"<=\"&Voucher_Date_1819),0))","v":{"$error":"#N/A"}},{"$f":"INDEX(Voucher_Date_1819,MATCH(SMALL(IF(ISBLANK(Voucher_Date_1819),\"\",IF(ISNUMBER(Voucher_Date_1819),COUNTIF(Voucher_Date_1819,\"<\"&Voucher_Date_1819),COUNTIF(Voucher_Date_1819,\"<\"&Voucher_Date_1819)+SUM(IF(ISNUMBER(Voucher_Date_1819),1,0))+1)),ROW(A18)),IF(ISBLANK(Voucher_Date_1819),\"\",IF(ISNUMBER(Voucher_Date_1819),COUNTIF(Voucher_Date_1819,\"<\"&Voucher_Date_1819),COUNTIF(Voucher_Date_1819,\"<\"&Voucher_Date_1819)+SUM(IF(ISNUMBER(Voucher_Date_1819),1,0))+1)),0))","v":{"$error":"#NUM!"}}]
[{"$f":"INDEX(Voucher_Date_1819,MATCH(ROWS('Bill Register 20-21'!$L$3:'Bill Register 20-21'!L20),COUNTIF(Voucher_Date_1819,\"<=\"&Voucher_Date_1819),0))","v":{"$error":"#N/A"}},{"$f":"INDEX(Voucher_Date_1819,MATCH(SMALL(IF(ISBLANK(Voucher_Date_1819),\"\",IF(ISNUMBER(Voucher_Date_1819),COUNTIF(Voucher_Date_1819,\"<\"&Voucher_Date_1819),COUNTIF(Voucher_Date_1819,\"<\"&Voucher_Date_1819)+SUM(IF(ISNUMBER(Voucher_Date_1819),1,0))+1)),ROW(A19)),IF(ISBLANK(Voucher_Date_1819),\"\",IF(ISNUMBER(Voucher_Date_1819),COUNTIF(Voucher_Date_1819,\"<\"&Voucher_Date_1819),COUNTIF(Voucher_Date_1819,\"<\"&Voucher_Date_1819)+SUM(IF(ISNUMBER(Voucher_Date_1819),1,0))+1)),0))","v":{"$error":"#NUM!"}}]
[{"$f":"INDEX(Voucher_Date_1819,MATCH(ROWS('Bill Register 20-21'!$L$3:'Bill Register 20-21'!L21),COUNTIF(Voucher_Date_1819,\"<=\"&Voucher_Date_1819),0))","v":{"$error":"#N/A"}},{"$f":"INDEX(Voucher_Date_1819,MATCH(SMALL(IF(ISBLANK(Voucher_Date_1819),\"\",IF(ISNUMBER(Voucher_Date_1819),COUNTIF(Voucher_Date_1819,\"<\"&Voucher_Date_1819),COUNTIF(Voucher_Date_1819,\"<\"&Voucher_Date_1819)+SUM(IF(ISNUMBER(Voucher_Date_1819),1,0))+1)),ROW(A20)),IF(ISBLANK(Voucher_Date_1819),\"\",IF(ISNUMBER(Voucher_Date_1819),COUNTIF(Voucher_Date_1819,\"<\"&Voucher_Date_1819),COUNTIF(Voucher_Date_1819,\"<\"&Voucher_Date_1819)+SUM(IF(ISNUMBER(Voucher_Date_1819),1,0))+1)),0))","v":{"$error":"#NUM!"}}]
[{"$f":"INDEX(Voucher_Date_1819,MATCH(ROWS('Bill Register 20-21'!$L$3:'Bill Register 20-21'!L22),COUNTIF(Voucher_Date_1819,\"<=\"&Voucher_Date_1819),0))","v":{"$error":"#N/A"}},{"$f":"INDEX(Voucher_Date_1819,MATCH(SMALL(IF(ISBLANK(Voucher_Date_1819),\"\",IF(ISNUMBER(Voucher_Date_1819),COUNTIF(Voucher_Date_1819,\"<\"&Voucher_Date_1819),COUNTIF(Voucher_Date_1819,\"<\"&Voucher_Date_1819)+SUM(IF(ISNUMBER(Voucher_Date_1819),1,0))+1)),ROW(A21)),IF(ISBLANK(Voucher_Date_1819),\"\",IF(ISNUMBER(Voucher_Date_1819),COUNTIF(Voucher_Date_1819,\"<\"&Voucher_Date_1819),COUNTIF(Voucher_Date_1819,\"<\"&Voucher_Date_1819)+SUM(IF(ISNUMBER(Voucher_Date_1819),1,0))+1)),0))","v":{"$error":"#NUM!"}}]
[{"$f":"INDEX(Voucher_Date_1819,MATCH(ROWS('Bill Register 20-21'!$L$3:'Bill Register 20-21'!L23),COUNTIF(Voucher_Date_1819,\"<=\"&Voucher_Date_1819),0))","v":{"$error":"#N/A"}},{"$f":"INDEX(Voucher_Date_1819,MATCH(SMALL(IF(ISBLANK(Voucher_Date_1819),\"\",IF(ISNUMBER(Voucher_Date_1819),COUNTIF(Voucher_Date_1819,\"<\"&Voucher_Date_1819),COUNTIF(Voucher_Date_1819,\"<\"&Voucher_Date_1819)+SUM(IF(ISNUMBER(Voucher_Date_1819),1,0))+1)),ROW(A22)),IF(ISBLANK(Voucher_Date_1819),\"\",IF(ISNUMBER(Voucher_Date_1819),COUNTIF(Voucher_Date_1819,\"<\"&Voucher_Date_1819),COUNTIF(Voucher_Date_1819,\"<\"&Voucher_Date_1819)+SUM(IF(ISNUMBER(Voucher_Date_1819),1,0))+1)),0))","v":{"$error":"#NUM!"}}]
[{"$f":"INDEX(Voucher_Date_1819,MATCH(ROWS('Bill Register 20-21'!$L$3:'Bill Register 20-21'!L24),COUNTIF(Voucher_Date_1819,\"<=\"&Voucher_Date_1819),0))","v":{"$error":"#N/A"}},{"$f":"INDEX(Voucher_Date_1819,MATCH(SMALL(IF(ISBLANK(Voucher_Date_1819),\"\",IF(ISNUMBER(Voucher_Date_1819),COUNTIF(Voucher_Date_1819,\"<\"&Voucher_Date_1819),COUNTIF(Voucher_Date_1819,\"<\"&Voucher_Date_1819)+SUM(IF(ISNUMBER(Voucher_Date_1819),1,0))+1)),ROW(A23)),IF(ISBLANK(Voucher_Date_1819),\"\",IF(ISNUMBER(Voucher_Date_1819),COUNTIF(Voucher_Date_1819,\"<\"&Voucher_Date_1819),COUNTIF(Voucher_Date_1819,\"<\"&Voucher_Date_1819)+SUM(IF(ISNUMBER(Voucher_Date_1819),1,0))+1)),0))","v":{"$error":"#NUM!"}}]
[{"$f":"INDEX(Voucher_Date_1819,MATCH(ROWS('Bill Register 20-21'!$L$3:'Bill Register 20-21'!L25),COUNTIF(Voucher_Date_1819,\"<=\"&Voucher_Date_1819),0))","v":{"$error":"#N/A"}},{"$f":"INDEX(Voucher_Date_1819,MATCH(SMALL(IF(ISBLANK(Voucher_Date_1819),\"\",IF(ISNUMBER(Voucher_Date_1819),COUNTIF(Voucher_Date_1819,\"<\"&Voucher_Date_1819),COUNTIF(Voucher_Date_1819,\"<\"&Voucher_Date_1819)+SUM(IF(ISNUMBER(Voucher_Date_1819),1,0))+1)),ROW(A24)),IF(ISBLANK(Voucher_Date_1819),\"\",IF(ISNUMBER(Voucher_Date_1819),COUNTIF(Voucher_Date_1819,\"<\"&Voucher_Date_1819),COUNTIF(Voucher_Date_1819,\"<\"&Voucher_Date_1819)+SUM(IF(ISNUMBER(Voucher_Date_1819),1,0))+1)),0))","v":{"$error":"#NUM!"}}]
[{"$f":"INDEX(Voucher_Date_1819,MATCH(ROWS('Bill Register 20-21'!$L$3:'Bill Register 20-21'!L26),COUNTIF(Voucher_Date_1819,\"<=\"&Voucher_Date_1819),0))","v":{"$error":"#N/A"}},{"$f":"INDEX(Voucher_Date_1819,MATCH(SMALL(IF(ISBLANK(Voucher_Date_1819),\"\",IF(ISNUMBER(Voucher_Date_1819),COUNTIF(Voucher_Date_1819,\"<\"&Voucher_Date_1819),COUNTIF(Voucher_Date_1819,\"<\"&Voucher_Date_1819)+SUM(IF(ISNUMBER(Voucher_Date_1819),1,0))+1)),ROW(A25)),IF(ISBLANK(Voucher_Date_1819),\"\",IF(ISNUMBER(Voucher_Date_1819),COUNTIF(Voucher_Date_1819,\"<\"&Voucher_Date_1819),COUNTIF(Voucher_Date_1819,\"<\"&Voucher_Date_1819)+SUM(IF(ISNUMBER(Voucher_Date_1819),1,0))+1)),0))","v":{"$error":"#NUM!"}}]
[{"$f":"INDEX(Voucher_Date_1819,MATCH(ROWS('Bill Register 20-21'!$L$3:'Bill Register 20-21'!L27),COUNTIF(Voucher_Date_1819,\"<=\"&Voucher_Date_1819),0))","v":{"$error":"#N/A"}},{"$f":"INDEX(Voucher_Date_1819,MATCH(SMALL(IF(ISBLANK(Voucher_Date_1819),\"\",IF(ISNUMBER(Voucher_Date_1819),COUNTIF(Voucher_Date_1819,\"<\"&Voucher_Date_1819),COUNTIF(Voucher_Date_1819,\"<\"&Voucher_Date_1819)+SUM(IF(ISNUMBER(Voucher_Date_1819),1,0))+1)),ROW(A26)),IF(ISBLANK(Voucher_Date_1819),\"\",IF(ISNUMBER(Voucher_Date_1819),COUNTIF(Voucher_Date_1819,\"<\"&Voucher_Date_1819),COUNTIF(Voucher_Date_1819,\"<\"&Voucher_Date_1819)+SUM(IF(ISNUMBER(Voucher_Date_1819),1,0))+1)),0))","v":{"$error":"#NUM!"}}]
[{"$f":"INDEX(Voucher_Date_1819,MATCH(ROWS('Bill Register 20-21'!$L$3:'Bill Register 20-21'!L28),COUNTIF(Voucher_Date_1819,\"<=\"&Voucher_Date_1819),0))","v":{"$error":"#N/A"}},{"$f":"INDEX(Voucher_Date_1819,MATCH(SMALL(IF(ISBLANK(Voucher_Date_1819),\"\",IF(ISNUMBER(Voucher_Date_1819),COUNTIF(Voucher_Date_1819,\"<\"&Voucher_Date_1819),COUNTIF(Voucher_Date_1819,\"<\"&Voucher_Date_1819)+SUM(IF(ISNUMBER(Voucher_Date_1819),1,0))+1)),ROW(A27)),IF(ISBLANK(Voucher_Date_1819),\"\",IF(ISNUMBER(Voucher_Date_1819),COUNTIF(Voucher_Date_1819,\"<\"&Voucher_Date_1819),COUNTIF(Voucher_Date_1819,\"<\"&Voucher_Date_1819)+SUM(IF(ISNUMBER(Voucher_Date_1819),1,0))+1)),0))","v":{"$error":"#NUM!"}}]
[{"$f":"INDEX(Voucher_Date_1819,MATCH(ROWS('Bill Register 20-21'!$L$3:'Bill Register 20-21'!L29),COUNTIF(Voucher_Date_1819,\"<=\"&Voucher_Date_1819),0))","v":{"$error":"#N/A"}},{"$f":"INDEX(Voucher_Date_1819,MATCH(SMALL(IF(ISBLANK(Voucher_Date_1819),\"\",IF(ISNUMBER(Voucher_Date_1819),COUNTIF(Voucher_Date_1819,\"<\"&Voucher_Date_1819),COUNTIF(Voucher_Date_1819,\"<\"&Voucher_Date_1819)+SUM(IF(ISNUMBER(Voucher_Date_1819),1,0))+1)),ROW(A28)),IF(ISBLANK(Voucher_Date_1819),\"\",IF(ISNUMBER(Voucher_Date_1819),COUNTIF(Voucher_Date_1819,\"<\"&Voucher_Date_1819),COUNTIF(Voucher_Date_1819,\"<\"&Voucher_Date_1819)+SUM(IF(ISNUMBER(Voucher_Date_1819),1,0))+1)),0))","v":{"$error":"#NUM!"}}]
[{"$f":"INDEX(Voucher_Date_1819,MATCH(ROWS('Bill Register 20-21'!$L$3:'Bill Register 20-21'!L30),COUNTIF(Voucher_Date_1819,\"<=\"&Voucher_Date_1819),0))","v":{"$error":"#N/A"}},{"$f":"INDEX(Voucher_Date_1819,MATCH(SMALL(IF(ISBLANK(Voucher_Date_1819),\"\",IF(ISNUMBER(Voucher_Date_1819),COUNTIF(Voucher_Date_1819,\"<\"&Voucher_Date_1819),COUNTIF(Voucher_Date_1819,\"<\"&Voucher_Date_1819)+SUM(IF(ISNUMBER(Voucher_Date_1819),1,0))+1)),ROW(A29)),IF(ISBLANK(Voucher_Date_1819),\"\",IF(ISNUMBER(Voucher_Date_1819),COUNTIF(Voucher_Date_1819,\"<\"&Voucher_Date_1819),COUNTIF(Voucher_Date_1819,\"<\"&Voucher_Date_1819)+SUM(IF(ISNUMBER(Voucher_Date_1819),1,0))+1)),0))","v":{"$error":"#NUM!"}}]
[{"$f":"INDEX(Voucher_Date_1819,MATCH(ROWS('Bill Register 20-21'!$L$3:'Bill Register 20-21'!L31),COUNTIF(Voucher_Date_1819,\"<=\"&Voucher_Date_1819),0))","v":{"$error":"#N/A"}},{"$f":"INDEX(Voucher_Date_1819,MATCH(SMALL(IF(ISBLANK(Voucher_Date_1819),\"\",IF(ISNUMBER(Voucher_Date_1819),COUNTIF(Voucher_Date_1819,\"<\"&Voucher_Date_1819),COUNTIF(Voucher_Date_1819,\"<\"&Voucher_Date_1819)+SUM(IF(ISNUMBER(Voucher_Date_1819),1,0))+1)),ROW(A30)),IF(ISBLANK(Voucher_Date_1819),\"\",IF(ISNUMBER(Voucher_Date_1819),COUNTIF(Voucher_Date_1819,\"<\"&Voucher_Date_1819),COUNTIF(Voucher_Date_1819,\"<\"&Voucher_Date_1819)+SUM(IF(ISNUMBER(Voucher_Date_1819),1,0))+1)),0))","v":{"$error":"#NUM!"}}]
[{"$f":"INDEX(Voucher_Date_1819,MATCH(ROWS('Bill Register 20-21'!$L$3:'Bill Register 20-21'!L32),COUNTIF(Voucher_Date_1819,\"<=\"&Voucher_Date_1819),0))","v":{"$error":"#N/A"}},{"$f":"INDEX(Voucher_Date_1819,MATCH(SMALL(IF(ISBLANK(Voucher_Date_1819),\"\",IF(ISNUMBER(Voucher_Date_1819),COUNTIF(Voucher_Date_1819,\"<\"&Voucher_Date_1819),COUNTIF(Voucher_Date_1819,\"<\"&Voucher_Date_1819)+SUM(IF(ISNUMBER(Voucher_Date_1819),1,0))+1)),ROW(A31)),IF(ISBLANK(Voucher_Date_1819),\"\",IF(ISNUMBER(Voucher_Date_1819),COUNTIF(Voucher_Date_1819,\"<\"&Voucher_Date_1819),COUNTIF(Voucher_Date_1819,\"<\"&Voucher_Date_1819)+SUM(IF(ISNUMBER(Voucher_Date_1819),1,0))+1)),0))","v":{"$error":"#NUM!"}}]
[{"$f":"INDEX(Voucher_Date_1819,MATCH(ROWS('Bill Register 20-21'!$L$3:'Bill Register 20-21'!L33),COUNTIF(Voucher_Date_1819,\"<=\"&Voucher_Date_1819),0))","v":{"$error":"#N/A"}},{"$f":"INDEX(Voucher_Date_1819,MATCH(SMALL(IF(ISBLANK(Voucher_Date_1819),\"\",IF(ISNUMBER(Voucher_Date_1819),COUNTIF(Voucher_Date_1819,\"<\"&Voucher_Date_1819),COUNTIF(Voucher_Date_1819,\"<\"&Voucher_Date_1819)+SUM(IF(ISNUMBER(Voucher_Date_1819),1,0))+1)),ROW(A32)),IF(ISBLANK(Voucher_Date_1819),\"\",IF(ISNUMBER(Voucher_Date_1819),COUNTIF(Voucher_Date_1819,\"<\"&Voucher_Date_1819),COUNTIF(Voucher_Date_1819,\"<\"&Voucher_Date_1819)+SUM(IF(ISNUMBER(Voucher_Date_1819),1,0))+1)),0))","v":{"$error":"#NUM!"}}]
[{"$f":"INDEX(Voucher_Date_1819,MATCH(ROWS('Bill Register 20-21'!$L$3:'Bill Register 20-21'!L34),COUNTIF(Voucher_Date_1819,\"<=\"&Voucher_Date_1819),0))","v":{"$error":"#N/A"}},{"$f":"INDEX(Voucher_Date_1819,MATCH(SMALL(IF(ISBLANK(Voucher_Date_1819),\"\",IF(ISNUMBER(Voucher_Date_1819),COUNTIF(Voucher_Date_1819,\"<\"&Voucher_Date_1819),COUNTIF(Voucher_Date_1819,\"<\"&Voucher_Date_1819)+SUM(IF(ISNUMBER(Voucher_Date_1819),1,0))+1)),ROW(A33)),IF(ISBLANK(Voucher_Date_1819),\"\",IF(ISNUMBER(Voucher_Date_1819),COUNTIF(Voucher_Date_1819,\"<\"&Voucher_Date_1819),COUNTIF(Voucher_Date_1819,\"<\"&Voucher_Date_1819)+SUM(IF(ISNUMBER(Voucher_Date_1819),1,0))+1)),0))","v":{"$error":"#NUM!"}}]
[{"$f":"INDEX(Voucher_Date_1819,MATCH(ROWS('Bill Register 20-21'!$L$3:'Bill Register 20-21'!L35),COUNTIF(Voucher_Date_1819,\"<=\"&Voucher_Date_1819),0))","v":{"$error":"#N/A"}},{"$f":"INDEX(Voucher_Date_1819,MATCH(SMALL(IF(ISBLANK(Voucher_Date_1819),\"\",IF(ISNUMBER(Voucher_Date_1819),COUNTIF(Voucher_Date_1819,\"<\"&Voucher_Date_1819),COUNTIF(Voucher_Date_1819,\"<\"&Voucher_Date_1819)+SUM(IF(ISNUMBER(Voucher_Date_1819),1,0))+1)),ROW(A34)),IF(ISBLANK(Voucher_Date_1819),\"\",IF(ISNUMBER(Voucher_Date_1819),COUNTIF(Voucher_Date_1819,\"<\"&Voucher_Date_1819),COUNTIF(Voucher_Date_1819,\"<\"&Voucher_Date_1819)+SUM(IF(ISNUMBER(Voucher_Date_1819),1,0))+1)),0))","v":{"$error":"#NUM!"}}]
[{"$f":"INDEX(Voucher_Date_1819,MATCH(ROWS('Bill Register 20-21'!$L$3:'Bill Register 20-21'!L36),COUNTIF(Voucher_Date_1819,\"<=\"&Voucher_Date_1819),0))","v":{"$error":"#N/A"}},{"$f":"INDEX(Voucher_Date_1819,MATCH(SMALL(IF(ISBLANK(Voucher_Date_1819),\"\",IF(ISNUMBER(Voucher_Date_1819),COUNTIF(Voucher_Date_1819,\"<\"&Voucher_Date_1819),COUNTIF(Voucher_Date_1819,\"<\"&Voucher_Date_1819)+SUM(IF(ISNUMBER(Voucher_Date_1819),1,0))+1)),ROW(A35)),IF(ISBLANK(Voucher_Date_1819),\"\",IF(ISNUMBER(Voucher_Date_1819),COUNTIF(Voucher_Date_1819,\"<\"&Voucher_Date_1819),COUNTIF(Voucher_Date_1819,\"<\"&Voucher_Date_1819)+SUM(IF(ISNUMBER(Voucher_Date_1819),1,0))+1)),0))","v":{"$error":"#NUM!"}}]
[{"$f":"INDEX(Voucher_Date_1819,MATCH(ROWS('Bill Register 20-21'!$L$3:'Bill Register 20-21'!L37),COUNTIF(Voucher_Date_1819,\"<=\"&Voucher_Date_1819),0))","v":{"$error":"#N/A"}},{"$f":"INDEX(Voucher_Date_1819,MATCH(SMALL(IF(ISBLANK(Voucher_Date_1819),\"\",IF(ISNUMBER(Voucher_Date_1819),COUNTIF(Voucher_Date_1819,\"<\"&Voucher_Date_1819),COUNTIF(Voucher_Date_1819,\"<\"&Voucher_Date_1819)+SUM(IF(ISNUMBER(Voucher_Date_1819),1,0))+1)),ROW(A36)),IF(ISBLANK(Voucher_Date_1819),\"\",IF(ISNUMBER(Voucher_Date_1819),COUNTIF(Voucher_Date_1819,\"<\"&Voucher_Date_1819),COUNTIF(Voucher_Date_1819,\"<\"&Voucher_Date_1819)+SUM(IF(ISNUMBER(Voucher_Date_1819),1,0))+1)),0))","v":{"$error":"#NUM!"}}]
[{"$f":"INDEX(Voucher_Date_1819,MATCH(ROWS('Bill Register 20-21'!$L$3:'Bill Register 20-21'!L38),COUNTIF(Voucher_Date_1819,\"<=\"&Voucher_Date_1819),0))","v":{"$error":"#N/A"}},{"$f":"INDEX(Voucher_Date_1819,MATCH(SMALL(IF(ISBLANK(Voucher_Date_1819),\"\",IF(ISNUMBER(Voucher_Date_1819),COUNTIF(Voucher_Date_1819,\"<\"&Voucher_Date_1819),COUNTIF(Voucher_Date_1819,\"<\"&Voucher_Date_1819)+SUM(IF(ISNUMBER(Voucher_Date_1819),1,0))+1)),ROW(A37)),IF(ISBLANK(Voucher_Date_1819),\"\",IF(ISNUMBER(Voucher_Date_1819),COUNTIF(Voucher_Date_1819,\"<\"&Voucher_Date_1819),COUNTIF(Voucher_Date_1819,\"<\"&Voucher_Date_1819)+SUM(IF(ISNUMBER(Voucher_Date_1819),1,0))+1)),0))","v":{"$error":"#NUM!"}}]
[{"$f":"INDEX(Voucher_Date_1819,MATCH(ROWS('Bill Register 20-21'!$L$3:'Bill Register 20-21'!L39),COUNTIF(Voucher_Date_1819,\"<=\"&Voucher_Date_1819),0))","v":{"$error":"#N/A"}},{"$f":"INDEX(Voucher_Date_1819,MATCH(SMALL(IF(ISBLANK(Voucher_Date_1819),\"\",IF(ISNUMBER(Voucher_Date_1819),COUNTIF(Voucher_Date_1819,\"<\"&Voucher_Date_1819),COUNTIF(Voucher_Date_1819,\"<\"&Voucher_Date_1819)+SUM(IF(ISNUMBER(Voucher_Date_1819),1,0))+1)),ROW(A38)),IF(ISBLANK(Voucher_Date_1819),\"\",IF(ISNUMBER(Voucher_Date_1819),COUNTIF(Voucher_Date_1819,\"<\"&Voucher_Date_1819),COUNTIF(Voucher_Date_1819,\"<\"&Voucher_Date_1819)+SUM(IF(ISNUMBER(Voucher_Date_1819),1,0))+1)),0))","v":{"$error":"#NUM!"}}]
[{"$f":"INDEX(Voucher_Date_1819,MATCH(ROWS('Bill Register 20-21'!$L$3:'Bill Register 20-21'!L40),COUNTIF(Voucher_Date_1819,\"<=\"&Voucher_Date_1819),0))","v":{"$error":"#N/A"}},{"$f":"INDEX(Voucher_Date_1819,MATCH(SMALL(IF(ISBLANK(Voucher_Date_1819),\"\",IF(ISNUMBER(Voucher_Date_1819),COUNTIF(Voucher_Date_1819,\"<\"&Voucher_Date_1819),COUNTIF(Voucher_Date_1819,\"<\"&Voucher_Date_1819)+SUM(IF(ISNUMBER(Voucher_Date_1819),1,0))+1)),ROW(A39)),IF(ISBLANK(Voucher_Date_1819),\"\",IF(ISNUMBER(Voucher_Date_1819),COUNTIF(Voucher_Date_1819,\"<\"&Voucher_Date_1819),COUNTIF(Voucher_Date_1819,\"<\"&Voucher_Date_1819)+SUM(IF(ISNUMBER(Voucher_Date_1819),1,0))+1)),0))","v":{"$error":"#NUM!"}}]
[{"$f":"INDEX(Voucher_Date_1819,MATCH(ROWS('Bill Register 20-21'!$L$3:'Bill Register 20-21'!L41),COUNTIF(Voucher_Date_1819,\"<=\"&Voucher_Date_1819),0))","v":{"$error":"#N/A"}},{"$f":"INDEX(Voucher_Date_1819,MATCH(SMALL(IF(ISBLANK(Voucher_Date_1819),\"\",IF(ISNUMBER(Voucher_Date_1819),COUNTIF(Voucher_Date_1819,\"<\"&Voucher_Date_1819),COUNTIF(Voucher_Date_1819,\"<\"&Voucher_Date_1819)+SUM(IF(ISNUMBER(Voucher_Date_1819),1,0))+1)),ROW(A40)),IF(ISBLANK(Voucher_Date_1819),\"\",IF(ISNUMBER(Voucher_Date_1819),COUNTIF(Voucher_Date_1819,\"<\"&Voucher_Date_1819),COUNTIF(Voucher_Date_1819,\"<\"&Voucher_Date_1819)+SUM(IF(ISNUMBER(Voucher_Date_1819),1,0))+1)),0))","v":{"$error":"#NUM!"}}]
[{"$f":"INDEX(Voucher_Date_1819,MATCH(ROWS('Bill Register 20-21'!$L$3:'Bill Register 20-21'!L42),COUNTIF(Voucher_Date_1819,\"<=\"&Voucher_Date_1819),0))","v":{"$error":"#N/A"}},{"$f":"INDEX(Voucher_Date_1819,MATCH(SMALL(IF(ISBLANK(Voucher_Date_1819),\"\",IF(ISNUMBER(Voucher_Date_1819),COUNTIF(Voucher_Date_1819,\"<\"&Voucher_Date_1819),COUNTIF(Voucher_Date_1819,\"<\"&Voucher_Date_1819)+SUM(IF(ISNUMBER(Voucher_Date_1819),1,0))+1)),ROW(A41)),IF(ISBLANK(Voucher_Date_1819),\"\",IF(ISNUMBER(Voucher_Date_1819),COUNTIF(Voucher_Date_1819,\"<\"&Voucher_Date_1819),COUNTIF(Voucher_Date_1819,\"<\"&Voucher_Date_1819)+SUM(IF(ISNUMBER(Voucher_Date_1819),1,0))+1)),0))","v":{"$error":"#NUM!"}}]
[{"$f":"INDEX(Voucher_Date_1819,MATCH(ROWS('Bill Register 20-21'!$L$3:'Bill Register 20-21'!L43),COUNTIF(Voucher_Date_1819,\"<=\"&Voucher_Date_1819),0))","v":{"$error":"#N/A"}},{"$f":"INDEX(Voucher_Date_1819,MATCH(SMALL(IF(ISBLANK(Voucher_Date_1819),\"\",IF(ISNUMBER(Voucher_Date_1819),COUNTIF(Voucher_Date_1819,\"<\"&Voucher_Date_1819),COUNTIF(Voucher_Date_1819,\"<\"&Voucher_Date_1819)+SUM(IF(ISNUMBER(Voucher_Date_1819),1,0))+1)),ROW(A42)),IF(ISBLANK(Voucher_Date_1819),\"\",IF(ISNUMBER(Voucher_Date_1819),COUNTIF(Voucher_Date_1819,\"<\"&Voucher_Date_1819),COUNTIF(Voucher_Date_1819,\"<\"&Voucher_Date_1819)+SUM(IF(ISNUMBER(Voucher_Date_1819),1,0))+1)),0))","v":{"$error":"#NUM!"}}]
[{"$f":"INDEX(Voucher_Date_1819,MATCH(ROWS('Bill Register 20-21'!$L$3:'Bill Register 20-21'!L44),COUNTIF(Voucher_Date_1819,\"<=\"&Voucher_Date_1819),0))","v":{"$error":"#N/A"}},{"$f":"INDEX(Voucher_Date_1819,MATCH(SMALL(IF(ISBLANK(Voucher_Date_1819),\"\",IF(ISNUMBER(Voucher_Date_1819),COUNTIF(Voucher_Date_1819,\"<\"&Voucher_Date_1819),COUNTIF(Voucher_Date_1819,\"<\"&Voucher_Date_1819)+SUM(IF(ISNUMBER(Voucher_Date_1819),1,0))+1)),ROW(A43)),IF(ISBLANK(Voucher_Date_1819),\"\",IF(ISNUMBER(Voucher_Date_1819),COUNTIF(Voucher_Date_1819,\"<\"&Voucher_Date_1819),COUNTIF(Voucher_Date_1819,\"<\"&Voucher_Date_1819)+SUM(IF(ISNUMBER(Voucher_Date_1819),1,0))+1)),0))","v":{"$error":"#NUM!"}}]
[{"$f":"INDEX(Voucher_Date_1819,MATCH(ROWS('Bill Register 20-21'!$L$3:'Bill Register 20-21'!L45),COUNTIF(Voucher_Date_1819,\"<=\"&Voucher_Date_1819),0))","v":{"$error":"#N/A"}},{"$f":"INDEX(Voucher_Date_1819,MATCH(SMALL(IF(ISBLANK(Voucher_Date_1819),\"\",IF(ISNUMBER(Voucher_Date_1819),COUNTIF(Voucher_Date_1819,\"<\"&Voucher_Date_1819),COUNTIF(Voucher_Date_1819,\"<\"&Voucher_Date_1819)+SUM(IF(ISNUMBER(Voucher_Date_1819),1,0))+1)),ROW(A44)),IF(ISBLANK(Voucher_Date_1819),\"\",IF(ISNUMBER(Voucher_Date_1819),COUNTIF(Voucher_Date_1819,\"<\"&Voucher_Date_1819),COUNTIF(Voucher_Date_1819,\"<\"&Voucher_Date_1819)+SUM(IF(ISNUMBER(Voucher_Date_1819),1,0))+1)),0))","v":{"$error":"#NUM!"}}]
[{"$f":"INDEX(Voucher_Date_1819,MATCH(ROWS('Bill Register 20-21'!$L$3:'Bill Register 20-21'!L46),COUNTIF(Voucher_Date_1819,\"<=\"&Voucher_Date_1819),0))","v":{"$error":"#N/A"}},{"$f":"INDEX(Voucher_Date_1819,MATCH(SMALL(IF(ISBLANK(Voucher_Date_1819),\"\",IF(ISNUMBER(Voucher_Date_1819),COUNTIF(Voucher_Date_1819,\"<\"&Voucher_Date_1819),COUNTIF(Voucher_Date_1819,\"<\"&Voucher_Date_1819)+SUM(IF(ISNUMBER(Voucher_Date_1819),1,0))+1)),ROW(A45)),IF(ISBLANK(Voucher_Date_1819),\"\",IF(ISNUMBER(Voucher_Date_1819),COUNTIF(Voucher_Date_1819,\"<\"&Voucher_Date_1819),COUNTIF(Voucher_Date_1819,\"<\"&Voucher_Date_1819)+SUM(IF(ISNUMBER(Voucher_Date_1819),1,0))+1)),0))","v":{"$error":"#NUM!"}}]
[{"$f":"INDEX(Voucher_Date_1819,MATCH(ROWS('Bill Register 20-21'!$L$3:'Bill Register 20-21'!L47),COUNTIF(Voucher_Date_1819,\"<=\"&Voucher_Date_1819),0))","v":{"$error":"#N/A"}},{"$f":"INDEX(Voucher_Date_1819,MATCH(SMALL(IF(ISBLANK(Voucher_Date_1819),\"\",IF(ISNUMBER(Voucher_Date_1819),COUNTIF(Voucher_Date_1819,\"<\"&Voucher_Date_1819),COUNTIF(Voucher_Date_1819,\"<\"&Voucher_Date_1819)+SUM(IF(ISNUMBER(Voucher_Date_1819),1,0))+1)),ROW(A46)),IF(ISBLANK(Voucher_Date_1819),\"\",IF(ISNUMBER(Voucher_Date_1819),COUNTIF(Voucher_Date_1819,\"<\"&Voucher_Date_1819),COUNTIF(Voucher_Date_1819,\"<\"&Voucher_Date_1819)+SUM(IF(ISNUMBER(Voucher_Date_1819),1,0))+1)),0))","v":{"$error":"#NUM!"}}]
[{"$f":"INDEX(Voucher_Date_1819,MATCH(ROWS('Bill Register 20-21'!$L$3:'Bill Register 20-21'!L48),COUNTIF(Voucher_Date_1819,\"<=\"&Voucher_Date_1819),0))","v":{"$error":"#N/A"}},{"$f":"INDEX(Voucher_Date_1819,MATCH(SMALL(IF(ISBLANK(Voucher_Date_1819),\"\",IF(ISNUMBER(Voucher_Date_1819),COUNTIF(Voucher_Date_1819,\"<\"&Voucher_Date_1819),COUNTIF(Voucher_Date_1819,\"<\"&Voucher_Date_1819)+SUM(IF(ISNUMBER(Voucher_Date_1819),1,0))+1)),ROW(A47)),IF(ISBLANK(Voucher_Date_1819),\"\",IF(ISNUMBER(Voucher_Date_1819),COUNTIF(Voucher_Date_1819,\"<\"&Voucher_Date_1819),COUNTIF(Voucher_Date_1819,\"<\"&Voucher_Date_1819)+SUM(IF(ISNUMBER(Voucher_Date_1819),1,0))+1)),0))","v":{"$error":"#NUM!"}}]
[{"$f":"INDEX(Voucher_Date_1819,MATCH(ROWS('Bill Register 20-21'!$L$3:'Bill Register 20-21'!L49),COUNTIF(Voucher_Date_1819,\"<=\"&Voucher_Date_1819),0))","v":{"$error":"#N/A"}},{"$f":"INDEX(Voucher_Date_1819,MATCH(SMALL(IF(ISBLANK(Voucher_Date_1819),\"\",IF(ISNUMBER(Voucher_Date_1819),COUNTIF(Voucher_Date_1819,\"<\"&Voucher_Date_1819),COUNTIF(Voucher_Date_1819,\"<\"&Voucher_Date_1819)+SUM(IF(ISNUMBER(Voucher_Date_1819),1,0))+1)),ROW(A48)),IF(ISBLANK(Voucher_Date_1819),\"\",IF(ISNUMBER(Voucher_Date_1819),COUNTIF(Voucher_Date_1819,\"<\"&Voucher_Date_1819),COUNTIF(Voucher_Date_1819,\"<\"&Voucher_Date_1819)+SUM(IF(ISNUMBER(Voucher_Date_1819),1,0))+1)),0))","v":{"$error":"#NUM!"}}]
[{"$f":"INDEX(Voucher_Date_1819,MATCH(ROWS('Bill Register 20-21'!$L$3:'Bill Register 20-21'!L50),COUNTIF(Voucher_Date_1819,\"<=\"&Voucher_Date_1819),0))","v":{"$error":"#N/A"}},{"$f":"INDEX(Voucher_Date_1819,MATCH(SMALL(IF(ISBLANK(Voucher_Date_1819),\"\",IF(ISNUMBER(Voucher_Date_1819),COUNTIF(Voucher_Date_1819,\"<\"&Voucher_Date_1819),COUNTIF(Voucher_Date_1819,\"<\"&Voucher_Date_1819)+SUM(IF(ISNUMBER(Voucher_Date_1819),1,0))+1)),ROW(A49)),IF(ISBLANK(Voucher_Date_1819),\"\",IF(ISNUMBER(Voucher_Date_1819),COUNTIF(Voucher_Date_1819,\"<\"&Voucher_Date_1819),COUNTIF(Voucher_Date_1819,\"<\"&Voucher_Date_1819)+SUM(IF(ISNUMBER(Voucher_Date_1819),1,0))+1)),0))","v":{"$error":"#NUM!"}}]
[{"$f":"INDEX(Voucher_Date_1819,MATCH(ROWS('Bill Register 20-21'!$L$3:'Bill Register 20-21'!L51),COUNTIF(Voucher_Date_1819,\"<=\"&Voucher_Date_1819),0))","v":{"$error":"#N/A"}},{"$f":"INDEX(Voucher_Date_1819,MATCH(SMALL(IF(ISBLANK(Voucher_Date_1819),\"\",IF(ISNUMBER(Voucher_Date_1819),COUNTIF(Voucher_Date_1819,\"<\"&Voucher_Date_1819),COUNTIF(Voucher_Date_1819,\"<\"&Voucher_Date_1819)+SUM(IF(ISNUMBER(Voucher_Date_1819),1,0))+1)),ROW(A50)),IF(ISBLANK(Voucher_Date_1819),\"\",IF(ISNUMBER(Voucher_Date_1819),COUNTIF(Voucher_Date_1819,\"<\"&Voucher_Date_1819),COUNTIF(Voucher_Date_1819,\"<\"&Voucher_Date_1819)+SUM(IF(ISNUMBER(Voucher_Date_1819),1,0))+1)),0))","v":{"$error":"#NUM!"}}]
[{"$f":"INDEX(Voucher_Date_1819,MATCH(ROWS('Bill Register 20-21'!$L$3:'Bill Register 20-21'!L52),COUNTIF(Voucher_Date_1819,\"<=\"&Voucher_Date_1819),0))","v":{"$error":"#N/A"}},{"$f":"INDEX(Voucher_Date_1819,MATCH(SMALL(IF(ISBLANK(Voucher_Date_1819),\"\",IF(ISNUMBER(Voucher_Date_1819),COUNTIF(Voucher_Date_1819,\"<\"&Voucher_Date_1819),COUNTIF(Voucher_Date_1819,\"<\"&Voucher_Date_1819)+SUM(IF(ISNUMBER(Voucher_Date_1819),1,0))+1)),ROW(A51)),IF(ISBLANK(Voucher_Date_1819),\"\",IF(ISNUMBER(Voucher_Date_1819),COUNTIF(Voucher_Date_1819,\"<\"&Voucher_Date_1819),COUNTIF(Voucher_Date_1819,\"<\"&Voucher_Date_1819)+SUM(IF(ISNUMBER(Voucher_Date_1819),1,0))+1)),0))","v":{"$error":"#NUM!"}}]
[{"$f":"INDEX(Voucher_Date_1819,MATCH(ROWS('Bill Register 20-21'!$L$3:'Bill Register 20-21'!L53),COUNTIF(Voucher_Date_1819,\"<=\"&Voucher_Date_1819),0))","v":{"$error":"#N/A"}},{"$f":"INDEX(Voucher_Date_1819,MATCH(SMALL(IF(ISBLANK(Voucher_Date_1819),\"\",IF(ISNUMBER(Voucher_Date_1819),COUNTIF(Voucher_Date_1819,\"<\"&Voucher_Date_1819),COUNTIF(Voucher_Date_1819,\"<\"&Voucher_Date_1819)+SUM(IF(ISNUMBER(Voucher_Date_1819),1,0))+1)),ROW(A52)),IF(ISBLANK(Voucher_Date_1819),\"\",IF(ISNUMBER(Voucher_Date_1819),COUNTIF(Voucher_Date_1819,\"<\"&Voucher_Date_1819),COUNTIF(Voucher_Date_1819,\"<\"&Voucher_Date_1819)+SUM(IF(ISNUMBER(Voucher_Date_1819),1,0))+1)),0))","v":{"$error":"#NUM!"}}]
[{"$f":"INDEX(Voucher_Date_1819,MATCH(ROWS('Bill Register 20-21'!$L$3:'Bill Register 20-21'!L54),COUNTIF(Voucher_Date_1819,\"<=\"&Voucher_Date_1819),0))","v":{"$error":"#N/A"}},{"$f":"INDEX(Voucher_Date_1819,MATCH(SMALL(IF(ISBLANK(Voucher_Date_1819),\"\",IF(ISNUMBER(Voucher_Date_1819),COUNTIF(Voucher_Date_1819,\"<\"&Voucher_Date_1819),COUNTIF(Voucher_Date_1819,\"<\"&Voucher_Date_1819)+SUM(IF(ISNUMBER(Voucher_Date_1819),1,0))+1)),ROW(A53)),IF(ISBLANK(Voucher_Date_1819),\"\",IF(ISNUMBER(Voucher_Date_1819),COUNTIF(Voucher_Date_1819,\"<\"&Voucher_Date_1819),COUNTIF(Voucher_Date_1819,\"<\"&Voucher_Date_1819)+SUM(IF(ISNUMBER(Voucher_Date_1819),1,0))+1)),0))","v":{"$error":"#NUM!"}}]
[{"$f":"INDEX(Voucher_Date_1819,MATCH(ROWS('Bill Register 20-21'!$L$3:'Bill Register 20-21'!L55),COUNTIF(Voucher_Date_1819,\"<=\"&Voucher_Date_1819),0))","v":{"$error":"#N/A"}},{"$f":"INDEX(Voucher_Date_1819,MATCH(SMALL(IF(ISBLANK(Voucher_Date_1819),\"\",IF(ISNUMBER(Voucher_Date_1819),COUNTIF(Voucher_Date_1819,\"<\"&Voucher_Date_1819),COUNTIF(Voucher_Date_1819,\"<\"&Voucher_Date_1819)+SUM(IF(ISNUMBER(Voucher_Date_1819),1,0))+1)),ROW(A54)),IF(ISBLANK(Voucher_Date_1819),\"\",IF(ISNUMBER(Voucher_Date_1819),COUNTIF(Voucher_Date_1819,\"<\"&Voucher_Date_1819),COUNTIF(Voucher_Date_1819,\"<\"&Voucher_Date_1819)+SUM(IF(ISNUMBER(Voucher_Date_1819),1,0))+1)),0))","v":{"$error":"#NUM!"}}]
[{"$f":"INDEX(Voucher_Date_1819,MATCH(ROWS('Bill Register 20-21'!$L$3:'Bill Register 20-21'!L56),COUNTIF(Voucher_Date_1819,\"<=\"&Voucher_Date_1819),0))","v":{"$error":"#N/A"}},{"$f":"INDEX(Voucher_Date_1819,MATCH(SMALL(IF(ISBLANK(Voucher_Date_1819),\"\",IF(ISNUMBER(Voucher_Date_1819),COUNTIF(Voucher_Date_1819,\"<\"&Voucher_Date_1819),COUNTIF(Voucher_Date_1819,\"<\"&Voucher_Date_1819)+SUM(IF(ISNUMBER(Voucher_Date_1819),1,0))+1)),ROW(A55)),IF(ISBLANK(Voucher_Date_1819),\"\",IF(ISNUMBER(Voucher_Date_1819),COUNTIF(Voucher_Date_1819,\"<\"&Voucher_Date_1819),COUNTIF(Voucher_Date_1819,\"<\"&Voucher_Date_1819)+SUM(IF(ISNUMBER(Voucher_Date_1819),1,0))+1)),0))","v":{"$error":"#NUM!"}}]
[{"$f":"INDEX(Voucher_Date_1819,MATCH(ROWS('Bill Register 20-21'!$L$3:'Bill Register 20-21'!L57),COUNTIF(Voucher_Date_1819,\"<=\"&Voucher_Date_1819),0))","v":{"$error":"#N/A"}},{"$f":"INDEX(Voucher_Date_1819,MATCH(SMALL(IF(ISBLANK(Voucher_Date_1819),\"\",IF(ISNUMBER(Voucher_Date_1819),COUNTIF(Voucher_Date_1819,\"<\"&Voucher_Date_1819),COUNTIF(Voucher_Date_1819,\"<\"&Voucher_Date_1819)+SUM(IF(ISNUMBER(Voucher_Date_1819),1,0))+1)),ROW(A56)),IF(ISBLANK(Voucher_Date_1819),\"\",IF(ISNUMBER(Voucher_Date_1819),COUNTIF(Voucher_Date_1819,\"<\"&Voucher_Date_1819),COUNTIF(Voucher_Date_1819,\"<\"&Voucher_Date_1819)+SUM(IF(ISNUMBER(Voucher_Date_1819),1,0))+1)),0))","v":{"$error":"#NUM!"}}]
[{"$f":"INDEX(Voucher_Date_1819,MATCH(ROWS('Bill Register 20-21'!$L$3:'Bill Register 20-21'!L58),COUNTIF(Voucher_Date_1819,\"<=\"&Voucher_Date_1819),0))","v":{"$error":"#N/A"}},{"$f":"INDEX(Voucher_Date_1819,MATCH(SMALL(IF(ISBLANK(Voucher_Date_1819),\"\",IF(ISNUMBER(Voucher_Date_1819),COUNTIF(Voucher_Date_1819,\"<\"&Voucher_Date_1819),COUNTIF(Voucher_Date_1819,\"<\"&Voucher_Date_1819)+SUM(IF(ISNUMBER(Voucher_Date_1819),1,0))+1)),ROW(A57)),IF(ISBLANK(Voucher_Date_1819),\"\",IF(ISNUMBER(Voucher_Date_1819),COUNTIF(Voucher_Date_1819,\"<\"&Voucher_Date_1819),COUNTIF(Voucher_Date_1819,\"<\"&Voucher_Date_1819)+SUM(IF(ISNUMBER(Voucher_Date_1819),1,0))+1)),0))","v":{"$error":"#NUM!"}}]
[{"$f":"INDEX(Voucher_Date_1819,MATCH(ROWS('Bill Register 20-21'!$L$3:'Bill Register 20-21'!L59),COUNTIF(Voucher_Date_1819,\"<=\"&Voucher_Date_1819),0))","v":{"$error":"#N/A"}},{"$f":"INDEX(Voucher_Date_1819,MATCH(SMALL(IF(ISBLANK(Voucher_Date_1819),\"\",IF(ISNUMBER(Voucher_Date_1819),COUNTIF(Voucher_Date_1819,\"<\"&Voucher_Date_1819),COUNTIF(Voucher_Date_1819,\"<\"&Voucher_Date_1819)+SUM(IF(ISNUMBER(Voucher_Date_1819),1,0))+1)),ROW(A58)),IF(ISBLANK(Voucher_Date_1819),\"\",IF(ISNUMBER(Voucher_Date_1819),COUNTIF(Voucher_Date_1819,\"<\"&Voucher_Date_1819),COUNTIF(Voucher_Date_1819,\"<\"&Voucher_Date_1819)+SUM(IF(ISNUMBER(Voucher_Date_1819),1,0))+1)),0))","v":{"$error":"#NUM!"}}]
[{"$f":"INDEX(Voucher_Date_1819,MATCH(ROWS('Bill Register 20-21'!$L$3:'Bill Register 20-21'!L60),COUNTIF(Voucher_Date_1819,\"<=\"&Voucher_Date_1819),0))","v":{"$error":"#N/A"}},{"$f":"INDEX(Voucher_Date_1819,MATCH(SMALL(IF(ISBLANK(Voucher_Date_1819),\"\",IF(ISNUMBER(Voucher_Date_1819),COUNTIF(Voucher_Date_1819,\"<\"&Voucher_Date_1819),COUNTIF(Voucher_Date_1819,\"<\"&Voucher_Date_1819)+SUM(IF(ISNUMBER(Voucher_Date_1819),1,0))+1)),ROW(A59)),IF(ISBLANK(Voucher_Date_1819),\"\",IF(ISNUMBER(Voucher_Date_1819),COUNTIF(Voucher_Date_1819,\"<\"&Voucher_Date_1819),COUNTIF(Voucher_Date_1819,\"<\"&Voucher_Date_1819)+SUM(IF(ISNUMBER(Voucher_Date_1819),1,0))+1)),0))","v":{"$error":"#NUM!"}}]
[{"$f":"INDEX(Voucher_Date_1819,MATCH(ROWS('Bill Register 20-21'!$L$3:'Bill Register 20-21'!L61),COUNTIF(Voucher_Date_1819,\"<=\"&Voucher_Date_1819),0))","v":{"$error":"#N/A"}},{"$f":"INDEX(Voucher_Date_1819,MATCH(SMALL(IF(ISBLANK(Voucher_Date_1819),\"\",IF(ISNUMBER(Voucher_Date_1819),COUNTIF(Voucher_Date_1819,\"<\"&Voucher_Date_1819),COUNTIF(Voucher_Date_1819,\"<\"&Voucher_Date_1819)+SUM(IF(ISNUMBER(Voucher_Date_1819),1,0))+1)),ROW(A60)),IF(ISBLANK(Voucher_Date_1819),\"\",IF(ISNUMBER(Voucher_Date_1819),COUNTIF(Voucher_Date_1819,\"<\"&Voucher_Date_1819),COUNTIF(Voucher_Date_1819,\"<\"&Voucher_Date_1819)+SUM(IF(ISNUMBER(Voucher_Date_1819),1,0))+1)),0))","v":{"$error":"#NUM!"}}]
[{"$f":"INDEX(Voucher_Date_1819,MATCH(ROWS('Bill Register 20-21'!$L$3:'Bill Register 20-21'!L62),COUNTIF(Voucher_Date_1819,\"<=\"&Voucher_Date_1819),0))","v":{"$error":"#N/A"}},{"$f":"INDEX(Voucher_Date_1819,MATCH(SMALL(IF(ISBLANK(Voucher_Date_1819),\"\",IF(ISNUMBER(Voucher_Date_1819),COUNTIF(Voucher_Date_1819,\"<\"&Voucher_Date_1819),COUNTIF(Voucher_Date_1819,\"<\"&Voucher_Date_1819)+SUM(IF(ISNUMBER(Voucher_Date_1819),1,0))+1)),ROW(A61)),IF(ISBLANK(Voucher_Date_1819),\"\",IF(ISNUMBER(Voucher_Date_1819),COUNTIF(Voucher_Date_1819,\"<\"&Voucher_Date_1819),COUNTIF(Voucher_Date_1819,\"<\"&Voucher_Date_1819)+SUM(IF(ISNUMBER(Voucher_Date_1819),1,0))+1)),0))","v":{"$error":"#NUM!"}}]
[{"$f":"INDEX(Voucher_Date_1819,MATCH(ROWS('Bill Register 20-21'!$L$3:'Bill Register 20-21'!L63),COUNTIF(Voucher_Date_1819,\"<=\"&Voucher_Date_1819),0))","v":{"$error":"#N/A"}},{"$f":"INDEX(Voucher_Date_1819,MATCH(SMALL(IF(ISBLANK(Voucher_Date_1819),\"\",IF(ISNUMBER(Voucher_Date_1819),COUNTIF(Voucher_Date_1819,\"<\"&Voucher_Date_1819),COUNTIF(Voucher_Date_1819,\"<\"&Voucher_Date_1819)+SUM(IF(ISNUMBER(Voucher_Date_1819),1,0))+1)),ROW(A62)),IF(ISBLANK(Voucher_Date_1819),\"\",IF(ISNUMBER(Voucher_Date_1819),COUNTIF(Voucher_Date_1819,\"<\"&Voucher_Date_1819),COUNTIF(Voucher_Date_1819,\"<\"&Voucher_Date_1819)+SUM(IF(ISNUMBER(Voucher_Date_1819),1,0))+1)),0))","v":{"$error":"#NUM!"}}]
[{"$f":"INDEX(Voucher_Date_1819,MATCH(ROWS('Bill Register 20-21'!$L$3:'Bill Register 20-21'!L64),COUNTIF(Voucher_Date_1819,\"<=\"&Voucher_Date_1819),0))","v":{"$error":"#N/A"}},{"$f":"INDEX(Voucher_Date_1819,MATCH(SMALL(IF(ISBLANK(Voucher_Date_1819),\"\",IF(ISNUMBER(Voucher_Date_1819),COUNTIF(Voucher_Date_1819,\"<\"&Voucher_Date_1819),COUNTIF(Voucher_Date_1819,\"<\"&Voucher_Date_1819)+SUM(IF(ISNUMBER(Voucher_Date_1819),1,0))+1)),ROW(A63)),IF(ISBLANK(Voucher_Date_1819),\"\",IF(ISNUMBER(Voucher_Date_1819),COUNTIF(Voucher_Date_1819,\"<\"&Voucher_Date_1819),COUNTIF(Voucher_Date_1819,\"<\"&Voucher_Date_1819)+SUM(IF(ISNUMBER(Voucher_Date_1819),1,0))+1)),0))","v":{"$error":"#NUM!"}}]
[{"$f":"INDEX(Voucher_Date_1819,MATCH(ROWS('Bill Register 20-21'!$L$3:'Bill Register 20-21'!L65),COUNTIF(Voucher_Date_1819,\"<=\"&Voucher_Date_1819),0))","v":{"$error":"#N/A"}},{"$f":"INDEX(Voucher_Date_1819,MATCH(SMALL(IF(ISBLANK(Voucher_Date_1819),\"\",IF(ISNUMBER(Voucher_Date_1819),COUNTIF(Voucher_Date_1819,\"<\"&Voucher_Date_1819),COUNTIF(Voucher_Date_1819,\"<\"&Voucher_Date_1819)+SUM(IF(ISNUMBER(Voucher_Date_1819),1,0))+1)),ROW(A64)),IF(ISBLANK(Voucher_Date_1819),\"\",IF(ISNUMBER(Voucher_Date_1819),COUNTIF(Voucher_Date_1819,\"<\"&Voucher_Date_1819),COUNTIF(Voucher_Date_1819,\"<\"&Voucher_Date_1819)+SUM(IF(ISNUMBER(Voucher_Date_1819),1,0))+1)),0))","v":{"$error":"#NUM!"}}]
[{"$f":"INDEX(Voucher_Date_1819,MATCH(ROWS('Bill Register 20-21'!$L$3:'Bill Register 20-21'!L66),COUNTIF(Voucher_Date_1819,\"<=\"&Voucher_Date_1819),0))","v":{"$error":"#N/A"}},{"$f":"INDEX(Voucher_Date_1819,MATCH(SMALL(IF(ISBLANK(Voucher_Date_1819),\"\",IF(ISNUMBER(Voucher_Date_1819),COUNTIF(Voucher_Date_1819,\"<\"&Voucher_Date_1819),COUNTIF(Voucher_Date_1819,\"<\"&Voucher_Date_1819)+SUM(IF(ISNUMBER(Voucher_Date_1819),1,0))+1)),ROW(A65)),IF(ISBLANK(Voucher_Date_1819),\"\",IF(ISNUMBER(Voucher_Date_1819),COUNTIF(Voucher_Date_1819,\"<\"&Voucher_Date_1819),COUNTIF(Voucher_Date_1819,\"<\"&Voucher_Date_1819)+SUM(IF(ISNUMBER(Voucher_Date_1819),1,0))+1)),0))","v":{"$error":"#NUM!"}}]
[{"$f":"INDEX(Voucher_Date_1819,MATCH(ROWS('Bill Register 20-21'!$L$3:'Bill Register 20-21'!L67),COUNTIF(Voucher_Date_1819,\"<=\"&Voucher_Date_1819),0))","v":{"$error":"#N/A"}},{"$f":"INDEX(Voucher_Date_1819,MATCH(SMALL(IF(ISBLANK(Voucher_Date_1819),\"\",IF(ISNUMBER(Voucher_Date_1819),COUNTIF(Voucher_Date_1819,\"<\"&Voucher_Date_1819),COUNTIF(Voucher_Date_1819,\"<\"&Voucher_Date_1819)+SUM(IF(ISNUMBER(Voucher_Date_1819),1,0))+1)),ROW(A66)),IF(ISBLANK(Voucher_Date_1819),\"\",IF(ISNUMBER(Voucher_Date_1819),COUNTIF(Voucher_Date_1819,\"<\"&Voucher_Date_1819),COUNTIF(Voucher_Date_1819,\"<\"&Voucher_Date_1819)+SUM(IF(ISNUMBER(Voucher_Date_1819),1,0))+1)),0))","v":{"$error":"#NUM!"}}]
[{"$f":"INDEX(Voucher_Date_1819,MATCH(ROWS('Bill Register 20-21'!$L$3:'Bill Register 20-21'!L68),COUNTIF(Voucher_Date_1819,\"<=\"&Voucher_Date_1819),0))","v":{"$error":"#N/A"}},{"$f":"INDEX(Voucher_Date_1819,MATCH(SMALL(IF(ISBLANK(Voucher_Date_1819),\"\",IF(ISNUMBER(Voucher_Date_1819),COUNTIF(Voucher_Date_1819,\"<\"&Voucher_Date_1819),COUNTIF(Voucher_Date_1819,\"<\"&Voucher_Date_1819)+SUM(IF(ISNUMBER(Voucher_Date_1819),1,0))+1)),ROW(A67)),IF(ISBLANK(Voucher_Date_1819),\"\",IF(ISNUMBER(Voucher_Date_1819),COUNTIF(Voucher_Date_1819,\"<\"&Voucher_Date_1819),COUNTIF(Voucher_Date_1819,\"<\"&Voucher_Date_1819)+SUM(IF(ISNUMBER(Voucher_Date_1819),1,0))+1)),0))","v":{"$error":"#NUM!"}}]
[{"$f":"INDEX(Voucher_Date_1819,MATCH(ROWS('Bill Register 20-21'!$L$3:'Bill Register 20-21'!L69),COUNTIF(Voucher_Date_1819,\"<=\"&Voucher_Date_1819),0))","v":{"$error":"#N/A"}},{"$f":"INDEX(Voucher_Date_1819,MATCH(SMALL(IF(ISBLANK(Voucher_Date_1819),\"\",IF(ISNUMBER(Voucher_Date_1819),COUNTIF(Voucher_Date_1819,\"<\"&Voucher_Date_1819),COUNTIF(Voucher_Date_1819,\"<\"&Voucher_Date_1819)+SUM(IF(ISNUMBER(Voucher_Date_1819),1,0))+1)),ROW(A68)),IF(ISBLANK(Voucher_Date_1819),\"\",IF(ISNUMBER(Voucher_Date_1819),COUNTIF(Voucher_Date_1819,\"<\"&Voucher_Date_1819),COUNTIF(Voucher_Date_1819,\"<\"&Voucher_Date_1819)+SUM(IF(ISNUMBER(Voucher_Date_1819),1,0))+1)),0))","v":{"$error":"#NUM!"}}]
[{"$f":"INDEX(Voucher_Date_1819,MATCH(ROWS('Bill Register 20-21'!$L$3:'Bill Register 20-21'!L70),COUNTIF(Voucher_Date_1819,\"<=\"&Voucher_Date_1819),0))","v":{"$error":"#N/A"}},{"$f":"INDEX(Voucher_Date_1819,MATCH(SMALL(IF(ISBLANK(Voucher_Date_1819),\"\",IF(ISNUMBER(Voucher_Date_1819),COUNTIF(Voucher_Date_1819,\"<\"&Voucher_Date_1819),COUNTIF(Voucher_Date_1819,\"<\"&Voucher_Date_1819)+SUM(IF(ISNUMBER(Voucher_Date_1819),1,0))+1)),ROW(A69)),IF(ISBLANK(Voucher_Date_1819),\"\",IF(ISNUMBER(Voucher_Date_1819),COUNTIF(Voucher_Date_1819,\"<\"&Voucher_Date_1819),COUNTIF(Voucher_Date_1819,\"<\"&Voucher_Date_1819)+SUM(IF(ISNUMBER(Voucher_Date_1819),1,0))+1)),0))","v":{"$error":"#NUM!"}}]
[{"$f":"INDEX(Voucher_Date_1819,MATCH(ROWS('Bill Register 20-21'!$L$3:'Bill Register 20-21'!L71),COUNTIF(Voucher_Date_1819,\"<=\"&Voucher_Date_1819),0))","v":{"$error":"#N/A"}},{"$f":"INDEX(Voucher_Date_1819,MATCH(SMALL(IF(ISBLANK(Voucher_Date_1819),\"\",IF(ISNUMBER(Voucher_Date_1819),COUNTIF(Voucher_Date_1819,\"<\"&Voucher_Date_1819),COUNTIF(Voucher_Date_1819,\"<\"&Voucher_Date_1819)+SUM(IF(ISNUMBER(Voucher_Date_1819),1,0))+1)),ROW(A70)),IF(ISBLANK(Voucher_Date_1819),\"\",IF(ISNUMBER(Voucher_Date_1819),COUNTIF(Voucher_Date_1819,\"<\"&Voucher_Date_1819),COUNTIF(Voucher_Date_1819,\"<\"&Voucher_Date_1819)+SUM(IF(ISNUMBER(Voucher_Date_1819),1,0))+1)),0))","v":{"$error":"#NUM!"}}]
[{"$f":"INDEX(Voucher_Date_1819,MATCH(ROWS('Bill Register 20-21'!$L$3:'Bill Register 20-21'!L72),COUNTIF(Voucher_Date_1819,\"<=\"&Voucher_Date_1819),0))","v":{"$error":"#N/A"}},{"$f":"INDEX(Voucher_Date_1819,MATCH(SMALL(IF(ISBLANK(Voucher_Date_1819),\"\",IF(ISNUMBER(Voucher_Date_1819),COUNTIF(Voucher_Date_1819,\"<\"&Voucher_Date_1819),COUNTIF(Voucher_Date_1819,\"<\"&Voucher_Date_1819)+SUM(IF(ISNUMBER(Voucher_Date_1819),1,0))+1)),ROW(A71)),IF(ISBLANK(Voucher_Date_1819),\"\",IF(ISNUMBER(Voucher_Date_1819),COUNTIF(Voucher_Date_1819,\"<\"&Voucher_Date_1819),COUNTIF(Voucher_Date_1819,\"<\"&Voucher_Date_1819)+SUM(IF(ISNUMBER(Voucher_Date_1819),1,0))+1)),0))","v":{"$error":"#NUM!"}}]
[{"$f":"INDEX(Voucher_Date_1819,MATCH(ROWS('Bill Register 20-21'!$L$3:'Bill Register 20-21'!L73),COUNTIF(Voucher_Date_1819,\"<=\"&Voucher_Date_1819),0))","v":{"$error":"#N/A"}},{"$f":"INDEX(Voucher_Date_1819,MATCH(SMALL(IF(ISBLANK(Voucher_Date_1819),\"\",IF(ISNUMBER(Voucher_Date_1819),COUNTIF(Voucher_Date_1819,\"<\"&Voucher_Date_1819),COUNTIF(Voucher_Date_1819,\"<\"&Voucher_Date_1819)+SUM(IF(ISNUMBER(Voucher_Date_1819),1,0))+1)),ROW(A72)),IF(ISBLANK(Voucher_Date_1819),\"\",IF(ISNUMBER(Voucher_Date_1819),COUNTIF(Voucher_Date_1819,\"<\"&Voucher_Date_1819),COUNTIF(Voucher_Date_1819,\"<\"&Voucher_Date_1819)+SUM(IF(ISNUMBER(Voucher_Date_1819),1,0))+1)),0))","v":{"$error":"#NUM!"}}]
[{"$f":"INDEX(Voucher_Date_1819,MATCH(ROWS('Bill Register 20-21'!$L$3:'Bill Register 20-21'!L74),COUNTIF(Voucher_Date_1819,\"<=\"&Voucher_Date_1819),0))","v":{"$error":"#N/A"}},{"$f":"INDEX(Voucher_Date_1819,MATCH(SMALL(IF(ISBLANK(Voucher_Date_1819),\"\",IF(ISNUMBER(Voucher_Date_1819),COUNTIF(Voucher_Date_1819,\"<\"&Voucher_Date_1819),COUNTIF(Voucher_Date_1819,\"<\"&Voucher_Date_1819)+SUM(IF(ISNUMBER(Voucher_Date_1819),1,0))+1)),ROW(A73)),IF(ISBLANK(Voucher_Date_1819),\"\",IF(ISNUMBER(Voucher_Date_1819),COUNTIF(Voucher_Date_1819,\"<\"&Voucher_Date_1819),COUNTIF(Voucher_Date_1819,\"<\"&Voucher_Date_1819)+SUM(IF(ISNUMBER(Voucher_Date_1819),1,0))+1)),0))","v":{"$error":"#NUM!"}}]
[{"$f":"INDEX(Voucher_Date_1819,MATCH(ROWS('Bill Register 20-21'!$L$3:'Bill Register 20-21'!L75),COUNTIF(Voucher_Date_1819,\"<=\"&Voucher_Date_1819),0))","v":{"$error":"#N/A"}},{"$f":"INDEX(Voucher_Date_1819,MATCH(SMALL(IF(ISBLANK(Voucher_Date_1819),\"\",IF(ISNUMBER(Voucher_Date_1819),COUNTIF(Voucher_Date_1819,\"<\"&Voucher_Date_1819),COUNTIF(Voucher_Date_1819,\"<\"&Voucher_Date_1819)+SUM(IF(ISNUMBER(Voucher_Date_1819),1,0))+1)),ROW(A74)),IF(ISBLANK(Voucher_Date_1819),\"\",IF(ISNUMBER(Voucher_Date_1819),COUNTIF(Voucher_Date_1819,\"<\"&Voucher_Date_1819),COUNTIF(Voucher_Date_1819,\"<\"&Voucher_Date_1819)+SUM(IF(ISNUMBER(Voucher_Date_1819),1,0))+1)),0))","v":{"$error":"#NUM!"}}]
[{"$f":"INDEX(Voucher_Date_1819,MATCH(ROWS('Bill Register 20-21'!$L$3:'Bill Register 20-21'!L76),COUNTIF(Voucher_Date_1819,\"<=\"&Voucher_Date_1819),0))","v":{"$error":"#N/A"}},{"$f":"INDEX(Voucher_Date_1819,MATCH(SMALL(IF(ISBLANK(Voucher_Date_1819),\"\",IF(ISNUMBER(Voucher_Date_1819),COUNTIF(Voucher_Date_1819,\"<\"&Voucher_Date_1819),COUNTIF(Voucher_Date_1819,\"<\"&Voucher_Date_1819)+SUM(IF(ISNUMBER(Voucher_Date_1819),1,0))+1)),ROW(A75)),IF(ISBLANK(Voucher_Date_1819),\"\",IF(ISNUMBER(Voucher_Date_1819),COUNTIF(Voucher_Date_1819,\"<\"&Voucher_Date_1819),COUNTIF(Voucher_Date_1819,\"<\"&Voucher_Date_1819)+SUM(IF(ISNUMBER(Voucher_Date_1819),1,0))+1)),0))","v":{"$error":"#NUM!"}}]
[{"$f":"INDEX(Voucher_Date_1819,MATCH(ROWS('Bill Register 20-21'!$L$3:'Bill Register 20-21'!L77),COUNTIF(Voucher_Date_1819,\"<=\"&Voucher_Date_1819),0))","v":{"$error":"#N/A"}},{"$f":"INDEX(Voucher_Date_1819,MATCH(SMALL(IF(ISBLANK(Voucher_Date_1819),\"\",IF(ISNUMBER(Voucher_Date_1819),COUNTIF(Voucher_Date_1819,\"<\"&Voucher_Date_1819),COUNTIF(Voucher_Date_1819,\"<\"&Voucher_Date_1819)+SUM(IF(ISNUMBER(Voucher_Date_1819),1,0))+1)),ROW(A76)),IF(ISBLANK(Voucher_Date_1819),\"\",IF(ISNUMBER(Voucher_Date_1819),COUNTIF(Voucher_Date_1819,\"<\"&Voucher_Date_1819),COUNTIF(Voucher_Date_1819,\"<\"&Voucher_Date_1819)+SUM(IF(ISNUMBER(Voucher_Date_1819),1,0))+1)),0))","v":{"$error":"#NUM!"}}]
[{"$f":"INDEX(Voucher_Date_1819,MATCH(ROWS('Bill Register 20-21'!$L$3:'Bill Register 20-21'!L78),COUNTIF(Voucher_Date_1819,\"<=\"&Voucher_Date_1819),0))","v":{"$error":"#N/A"}},{"$f":"INDEX(Voucher_Date_1819,MATCH(SMALL(IF(ISBLANK(Voucher_Date_1819),\"\",IF(ISNUMBER(Voucher_Date_1819),COUNTIF(Voucher_Date_1819,\"<\"&Voucher_Date_1819),COUNTIF(Voucher_Date_1819,\"<\"&Voucher_Date_1819)+SUM(IF(ISNUMBER(Voucher_Date_1819),1,0))+1)),ROW(A77)),IF(ISBLANK(Voucher_Date_1819),\"\",IF(ISNUMBER(Voucher_Date_1819),COUNTIF(Voucher_Date_1819,\"<\"&Voucher_Date_1819),COUNTIF(Voucher_Date_1819,\"<\"&Voucher_Date_1819)+SUM(IF(ISNUMBER(Voucher_Date_1819),1,0))+1)),0))","v":{"$error":"#NUM!"}}]
[{"$f":"INDEX(Voucher_Date_1819,MATCH(ROWS('Bill Register 20-21'!$L$3:'Bill Register 20-21'!L79),COUNTIF(Voucher_Date_1819,\"<=\"&Voucher_Date_1819),0))","v":{"$error":"#N/A"}},{"$f":"INDEX(Voucher_Date_1819,MATCH(SMALL(IF(ISBLANK(Voucher_Date_1819),\"\",IF(ISNUMBER(Voucher_Date_1819),COUNTIF(Voucher_Date_1819,\"<\"&Voucher_Date_1819),COUNTIF(Voucher_Date_1819,\"<\"&Voucher_Date_1819)+SUM(IF(ISNUMBER(Voucher_Date_1819),1,0))+1)),ROW(A78)),IF(ISBLANK(Voucher_Date_1819),\"\",IF(ISNUMBER(Voucher_Date_1819),COUNTIF(Voucher_Date_1819,\"<\"&Voucher_Date_1819),COUNTIF(Voucher_Date_1819,\"<\"&Voucher_Date_1819)+SUM(IF(ISNUMBER(Voucher_Date_1819),1,0))+1)),0))","v":{"$error":"#NUM!"}}]
[{"$f":"INDEX(Voucher_Date_1819,MATCH(ROWS('Bill Register 20-21'!$L$3:'Bill Register 20-21'!L80),COUNTIF(Voucher_Date_1819,\"<=\"&Voucher_Date_1819),0))","v":{"$error":"#N/A"}},{"$f":"INDEX(Voucher_Date_1819,MATCH(SMALL(IF(ISBLANK(Voucher_Date_1819),\"\",IF(ISNUMBER(Voucher_Date_1819),COUNTIF(Voucher_Date_1819,\"<\"&Voucher_Date_1819),COUNTIF(Voucher_Date_1819,\"<\"&Voucher_Date_1819)+SUM(IF(ISNUMBER(Voucher_Date_1819),1,0))+1)),ROW(A79)),IF(ISBLANK(Voucher_Date_1819),\"\",IF(ISNUMBER(Voucher_Date_1819),COUNTIF(Voucher_Date_1819,\"<\"&Voucher_Date_1819),COUNTIF(Voucher_Date_1819,\"<\"&Voucher_Date_1819)+SUM(IF(ISNUMBER(Voucher_Date_1819),1,0))+1)),0))","v":{"$error":"#NUM!"}}]
[{"$f":"INDEX(Voucher_Date_1819,MATCH(ROWS('Bill Register 20-21'!$L$3:'Bill Register 20-21'!L81),COUNTIF(Voucher_Date_1819,\"<=\"&Voucher_Date_1819),0))","v":{"$error":"#N/A"}},{"$f":"INDEX(Voucher_Date_1819,MATCH(SMALL(IF(ISBLANK(Voucher_Date_1819),\"\",IF(ISNUMBER(Voucher_Date_1819),COUNTIF(Voucher_Date_1819,\"<\"&Voucher_Date_1819),COUNTIF(Voucher_Date_1819,\"<\"&Voucher_Date_1819)+SUM(IF(ISNUMBER(Voucher_Date_1819),1,0))+1)),ROW(A80)),IF(ISBLANK(Voucher_Date_1819),\"\",IF(ISNUMBER(Voucher_Date_1819),COUNTIF(Voucher_Date_1819,\"<\"&Voucher_Date_1819),COUNTIF(Voucher_Date_1819,\"<\"&Voucher_Date_1819)+SUM(IF(ISNUMBER(Voucher_Date_1819),1,0))+1)),0))","v":{"$error":"#NUM!"}}]
[{"$f":"INDEX(Voucher_Date_1819,MATCH(ROWS('Bill Register 20-21'!$L$3:'Bill Register 20-21'!L82),COUNTIF(Voucher_Date_1819,\"<=\"&Voucher_Date_1819),0))","v":{"$error":"#N/A"}},{"$f":"INDEX(Voucher_Date_1819,MATCH(SMALL(IF(ISBLANK(Voucher_Date_1819),\"\",IF(ISNUMBER(Voucher_Date_1819),COUNTIF(Voucher_Date_1819,\"<\"&Voucher_Date_1819),COUNTIF(Voucher_Date_1819,\"<\"&Voucher_Date_1819)+SUM(IF(ISNUMBER(Voucher_Date_1819),1,0))+1)),ROW(A81)),IF(ISBLANK(Voucher_Date_1819),\"\",IF(ISNUMBER(Voucher_Date_1819),COUNTIF(Voucher_Date_1819,\"<\"&Voucher_Date_1819),COUNTIF(Voucher_Date_1819,\"<\"&Voucher_Date_1819)+SUM(IF(ISNUMBER(Voucher_Date_1819),1,0))+1)),0))","v":{"$error":"#NUM!"}}]
[{"$f":"INDEX(Voucher_Date_1819,MATCH(ROWS('Bill Register 20-21'!$L$3:'Bill Register 20-21'!L83),COUNTIF(Voucher_Date_1819,\"<=\"&Voucher_Date_1819),0))","v":{"$error":"#N/A"}},{"$f":"INDEX(Voucher_Date_1819,MATCH(SMALL(IF(ISBLANK(Voucher_Date_1819),\"\",IF(ISNUMBER(Voucher_Date_1819),COUNTIF(Voucher_Date_1819,\"<\"&Voucher_Date_1819),COUNTIF(Voucher_Date_1819,\"<\"&Voucher_Date_1819)+SUM(IF(ISNUMBER(Voucher_Date_1819),1,0))+1)),ROW(A82)),IF(ISBLANK(Voucher_Date_1819),\"\",IF(ISNUMBER(Voucher_Date_1819),COUNTIF(Voucher_Date_1819,\"<\"&Voucher_Date_1819),COUNTIF(Voucher_Date_1819,\"<\"&Voucher_Date_1819)+SUM(IF(ISNUMBER(Voucher_Date_1819),1,0))+1)),0))","v":{"$error":"#NUM!"}}]
[{"$f":"INDEX(Voucher_Date_1819,MATCH(ROWS('Bill Register 20-21'!$L$3:'Bill Register 20-21'!L84),COUNTIF(Voucher_Date_1819,\"<=\"&Voucher_Date_1819),0))","v":{"$error":"#N/A"}},{"$f":"INDEX(Voucher_Date_1819,MATCH(SMALL(IF(ISBLANK(Voucher_Date_1819),\"\",IF(ISNUMBER(Voucher_Date_1819),COUNTIF(Voucher_Date_1819,\"<\"&Voucher_Date_1819),COUNTIF(Voucher_Date_1819,\"<\"&Voucher_Date_1819)+SUM(IF(ISNUMBER(Voucher_Date_1819),1,0))+1)),ROW(A83)),IF(ISBLANK(Voucher_Date_1819),\"\",IF(ISNUMBER(Voucher_Date_1819),COUNTIF(Voucher_Date_1819,\"<\"&Voucher_Date_1819),COUNTIF(Voucher_Date_1819,\"<\"&Voucher_Date_1819)+SUM(IF(ISNUMBER(Voucher_Date_1819),1,0))+1)),0))","v":{"$error":"#NUM!"}}]
[{"$f":"INDEX(Voucher_Date_1819,MATCH(ROWS('Bill Register 20-21'!$L$3:'Bill Register 20-21'!L85),COUNTIF(Voucher_Date_1819,\"<=\"&Voucher_Date_1819),0))","v":{"$error":"#N/A"}},{"$f":"INDEX(Voucher_Date_1819,MATCH(SMALL(IF(ISBLANK(Voucher_Date_1819),\"\",IF(ISNUMBER(Voucher_Date_1819),COUNTIF(Voucher_Date_1819,\"<\"&Voucher_Date_1819),COUNTIF(Voucher_Date_1819,\"<\"&Voucher_Date_1819)+SUM(IF(ISNUMBER(Voucher_Date_1819),1,0))+1)),ROW(A84)),IF(ISBLANK(Voucher_Date_1819),\"\",IF(ISNUMBER(Voucher_Date_1819),COUNTIF(Voucher_Date_1819,\"<\"&Voucher_Date_1819),COUNTIF(Voucher_Date_1819,\"<\"&Voucher_Date_1819)+SUM(IF(ISNUMBER(Voucher_Date_1819),1,0))+1)),0))","v":{"$error":"#NUM!"}}]
[{"$f":"INDEX(Voucher_Date_1819,MATCH(ROWS('Bill Register 20-21'!$L$3:'Bill Register 20-21'!L86),COUNTIF(Voucher_Date_1819,\"<=\"&Voucher_Date_1819),0))","v":{"$error":"#N/A"}},{"$f":"INDEX(Voucher_Date_1819,MATCH(SMALL(IF(ISBLANK(Voucher_Date_1819),\"\",IF(ISNUMBER(Voucher_Date_1819),COUNTIF(Voucher_Date_1819,\"<\"&Voucher_Date_1819),COUNTIF(Voucher_Date_1819,\"<\"&Voucher_Date_1819)+SUM(IF(ISNUMBER(Voucher_Date_1819),1,0))+1)),ROW(A85)),IF(ISBLANK(Voucher_Date_1819),\"\",IF(ISNUMBER(Voucher_Date_1819),COUNTIF(Voucher_Date_1819,\"<\"&Voucher_Date_1819),COUNTIF(Voucher_Date_1819,\"<\"&Voucher_Date_1819)+SUM(IF(ISNUMBER(Voucher_Date_1819),1,0))+1)),0))","v":{"$error":"#NUM!"}}]
[{"$f":"INDEX(Voucher_Date_1819,MATCH(ROWS('Bill Register 20-21'!$L$3:'Bill Register 20-21'!L87),COUNTIF(Voucher_Date_1819,\"<=\"&Voucher_Date_1819),0))","v":{"$error":"#N/A"}},{"$f":"INDEX(Voucher_Date_1819,MATCH(SMALL(IF(ISBLANK(Voucher_Date_1819),\"\",IF(ISNUMBER(Voucher_Date_1819),COUNTIF(Voucher_Date_1819,\"<\"&Voucher_Date_1819),COUNTIF(Voucher_Date_1819,\"<\"&Voucher_Date_1819)+SUM(IF(ISNUMBER(Voucher_Date_1819),1,0))+1)),ROW(A86)),IF(ISBLANK(Voucher_Date_1819),\"\",IF(ISNUMBER(Voucher_Date_1819),COUNTIF(Voucher_Date_1819,\"<\"&Voucher_Date_1819),COUNTIF(Voucher_Date_1819,\"<\"&Voucher_Date_1819)+SUM(IF(ISNUMBER(Voucher_Date_1819),1,0))+1)),0))","v":{"$error":"#NUM!"}}]
[{"$f":"INDEX(Voucher_Date_1819,MATCH(ROWS('Bill Register 20-21'!$L$3:'Bill Register 20-21'!L88),COUNTIF(Voucher_Date_1819,\"<=\"&Voucher_Date_1819),0))","v":{"$error":"#N/A"}},{"$f":"INDEX(Voucher_Date_1819,MATCH(SMALL(IF(ISBLANK(Voucher_Date_1819),\"\",IF(ISNUMBER(Voucher_Date_1819),COUNTIF(Voucher_Date_1819,\"<\"&Voucher_Date_1819),COUNTIF(Voucher_Date_1819,\"<\"&Voucher_Date_1819)+SUM(IF(ISNUMBER(Voucher_Date_1819),1,0))+1)),ROW(A87)),IF(ISBLANK(Voucher_Date_1819),\"\",IF(ISNUMBER(Voucher_Date_1819),COUNTIF(Voucher_Date_1819,\"<\"&Voucher_Date_1819),COUNTIF(Voucher_Date_1819,\"<\"&Voucher_Date_1819)+SUM(IF(ISNUMBER(Voucher_Date_1819),1,0))+1)),0))","v":{"$error":"#NUM!"}}]
[{"$f":"INDEX(Voucher_Date_1819,MATCH(ROWS('Bill Register 20-21'!$L$3:'Bill Register 20-21'!L89),COUNTIF(Voucher_Date_1819,\"<=\"&Voucher_Date_1819),0))","v":{"$error":"#N/A"}},{"$f":"INDEX(Voucher_Date_1819,MATCH(SMALL(IF(ISBLANK(Voucher_Date_1819),\"\",IF(ISNUMBER(Voucher_Date_1819),COUNTIF(Voucher_Date_1819,\"<\"&Voucher_Date_1819),COUNTIF(Voucher_Date_1819,\"<\"&Voucher_Date_1819)+SUM(IF(ISNUMBER(Voucher_Date_1819),1,0))+1)),ROW(A88)),IF(ISBLANK(Voucher_Date_1819),\"\",IF(ISNUMBER(Voucher_Date_1819),COUNTIF(Voucher_Date_1819,\"<\"&Voucher_Date_1819),COUNTIF(Voucher_Date_1819,\"<\"&Voucher_Date_1819)+SUM(IF(ISNUMBER(Voucher_Date_1819),1,0))+1)),0))","v":{"$error":"#NUM!"}}]
[{"$f":"INDEX(Voucher_Date_1819,MATCH(ROWS('Bill Register 20-21'!$L$3:'Bill Register 20-21'!L90),COUNTIF(Voucher_Date_1819,\"<=\"&Voucher_Date_1819),0))","v":{"$error":"#N/A"}},{"$f":"INDEX(Voucher_Date_1819,MATCH(SMALL(IF(ISBLANK(Voucher_Date_1819),\"\",IF(ISNUMBER(Voucher_Date_1819),COUNTIF(Voucher_Date_1819,\"<\"&Voucher_Date_1819),COUNTIF(Voucher_Date_1819,\"<\"&Voucher_Date_1819)+SUM(IF(ISNUMBER(Voucher_Date_1819),1,0))+1)),ROW(A89)),IF(ISBLANK(Voucher_Date_1819),\"\",IF(ISNUMBER(Voucher_Date_1819),COUNTIF(Voucher_Date_1819,\"<\"&Voucher_Date_1819),COUNTIF(Voucher_Date_1819,\"<\"&Voucher_Date_1819)+SUM(IF(ISNUMBER(Voucher_Date_1819),1,0))+1)),0))","v":{"$error":"#NUM!"}}]
[{"$f":"INDEX(Voucher_Date_1819,MATCH(ROWS('Bill Register 20-21'!$L$3:'Bill Register 20-21'!L91),COUNTIF(Voucher_Date_1819,\"<=\"&Voucher_Date_1819),0))","v":{"$error":"#N/A"}},{"$f":"INDEX(Voucher_Date_1819,MATCH(SMALL(IF(ISBLANK(Voucher_Date_1819),\"\",IF(ISNUMBER(Voucher_Date_1819),COUNTIF(Voucher_Date_1819,\"<\"&Voucher_Date_1819),COUNTIF(Voucher_Date_1819,\"<\"&Voucher_Date_1819)+SUM(IF(ISNUMBER(Voucher_Date_1819),1,0))+1)),ROW(A90)),IF(ISBLANK(Voucher_Date_1819),\"\",IF(ISNUMBER(Voucher_Date_1819),COUNTIF(Voucher_Date_1819,\"<\"&Voucher_Date_1819),COUNTIF(Voucher_Date_1819,\"<\"&Voucher_Date_1819)+SUM(IF(ISNUMBER(Voucher_Date_1819),1,0))+1)),0))","v":{"$error":"#NUM!"}}]
[{"$f":"INDEX(Voucher_Date_1819,MATCH(ROWS('Bill Register 20-21'!$L$3:'Bill Register 20-21'!L92),COUNTIF(Voucher_Date_1819,\"<=\"&Voucher_Date_1819),0))","v":{"$error":"#N/A"}},{"$f":"INDEX(Voucher_Date_1819,MATCH(SMALL(IF(ISBLANK(Voucher_Date_1819),\"\",IF(ISNUMBER(Voucher_Date_1819),COUNTIF(Voucher_Date_1819,\"<\"&Voucher_Date_1819),COUNTIF(Voucher_Date_1819,\"<\"&Voucher_Date_1819)+SUM(IF(ISNUMBER(Voucher_Date_1819),1,0))+1)),ROW(A91)),IF(ISBLANK(Voucher_Date_1819),\"\",IF(ISNUMBER(Voucher_Date_1819),COUNTIF(Voucher_Date_1819,\"<\"&Voucher_Date_1819),COUNTIF(Voucher_Date_1819,\"<\"&Voucher_Date_1819)+SUM(IF(ISNUMBER(Voucher_Date_1819),1,0))+1)),0))","v":{"$error":"#NUM!"}}]
[{"$f":"INDEX(Voucher_Date_1819,MATCH(ROWS('Bill Register 20-21'!$L$3:'Bill Register 20-21'!L93),COUNTIF(Voucher_Date_1819,\"<=\"&Voucher_Date_1819),0))","v":{"$error":"#N/A"}},{"$f":"INDEX(Voucher_Date_1819,MATCH(SMALL(IF(ISBLANK(Voucher_Date_1819),\"\",IF(ISNUMBER(Voucher_Date_1819),COUNTIF(Voucher_Date_1819,\"<\"&Voucher_Date_1819),COUNTIF(Voucher_Date_1819,\"<\"&Voucher_Date_1819)+SUM(IF(ISNUMBER(Voucher_Date_1819),1,0))+1)),ROW(A92)),IF(ISBLANK(Voucher_Date_1819),\"\",IF(ISNUMBER(Voucher_Date_1819),COUNTIF(Voucher_Date_1819,\"<\"&Voucher_Date_1819),COUNTIF(Voucher_Date_1819,\"<\"&Voucher_Date_1819)+SUM(IF(ISNUMBER(Voucher_Date_1819),1,0))+1)),0))","v":{"$error":"#NUM!"}}]
[{"$f":"INDEX(Voucher_Date_1819,MATCH(ROWS('Bill Register 20-21'!$L$3:'Bill Register 20-21'!L94),COUNTIF(Voucher_Date_1819,\"<=\"&Voucher_Date_1819),0))","v":{"$error":"#N/A"}},{"$f":"INDEX(Voucher_Date_1819,MATCH(SMALL(IF(ISBLANK(Voucher_Date_1819),\"\",IF(ISNUMBER(Voucher_Date_1819),COUNTIF(Voucher_Date_1819,\"<\"&Voucher_Date_1819),COUNTIF(Voucher_Date_1819,\"<\"&Voucher_Date_1819)+SUM(IF(ISNUMBER(Voucher_Date_1819),1,0))+1)),ROW(A93)),IF(ISBLANK(Voucher_Date_1819),\"\",IF(ISNUMBER(Voucher_Date_1819),COUNTIF(Voucher_Date_1819,\"<\"&Voucher_Date_1819),COUNTIF(Voucher_Date_1819,\"<\"&Voucher_Date_1819)+SUM(IF(ISNUMBER(Voucher_Date_1819),1,0))+1)),0))","v":{"$error":"#NUM!"}}]
[{"$f":"INDEX(Voucher_Date_1819,MATCH(ROWS('Bill Register 20-21'!$L$3:'Bill Register 20-21'!L95),COUNTIF(Voucher_Date_1819,\"<=\"&Voucher_Date_1819),0))","v":{"$error":"#N/A"}},{"$f":"INDEX(Voucher_Date_1819,MATCH(SMALL(IF(ISBLANK(Voucher_Date_1819),\"\",IF(ISNUMBER(Voucher_Date_1819),COUNTIF(Voucher_Date_1819,\"<\"&Voucher_Date_1819),COUNTIF(Voucher_Date_1819,\"<\"&Voucher_Date_1819)+SUM(IF(ISNUMBER(Voucher_Date_1819),1,0))+1)),ROW(A94)),IF(ISBLANK(Voucher_Date_1819),\"\",IF(ISNUMBER(Voucher_Date_1819),COUNTIF(Voucher_Date_1819,\"<\"&Voucher_Date_1819),COUNTIF(Voucher_Date_1819,\"<\"&Voucher_Date_1819)+SUM(IF(ISNUMBER(Voucher_Date_1819),1,0))+1)),0))","v":{"$error":"#NUM!"}}]
[{"$f":"INDEX(Voucher_Date_1819,MATCH(ROWS('Bill Register 20-21'!$L$3:'Bill Register 20-21'!L96),COUNTIF(Voucher_Date_1819,\"<=\"&Voucher_Date_1819),0))","v":{"$error":"#N/A"}},{"$f":"INDEX(Voucher_Date_1819,MATCH(SMALL(IF(ISBLANK(Voucher_Date_1819),\"\",IF(ISNUMBER(Voucher_Date_1819),COUNTIF(Voucher_Date_1819,\"<\"&Voucher_Date_1819),COUNTIF(Voucher_Date_1819,\"<\"&Voucher_Date_1819)+SUM(IF(ISNUMBER(Voucher_Date_1819),1,0))+1)),ROW(A95)),IF(ISBLANK(Voucher_Date_1819),\"\",IF(ISNUMBER(Voucher_Date_1819),COUNTIF(Voucher_Date_1819,\"<\"&Voucher_Date_1819),COUNTIF(Voucher_Date_1819,\"<\"&Voucher_Date_1819)+SUM(IF(ISNUMBER(Voucher_Date_1819),1,0))+1)),0))","v":{"$error":"#NUM!"}}]
[{"$f":"INDEX(Voucher_Date_1819,MATCH(ROWS('Bill Register 20-21'!$L$3:'Bill Register 20-21'!L97),COUNTIF(Voucher_Date_1819,\"<=\"&Voucher_Date_1819),0))","v":{"$error":"#N/A"}},{"$f":"INDEX(Voucher_Date_1819,MATCH(SMALL(IF(ISBLANK(Voucher_Date_1819),\"\",IF(ISNUMBER(Voucher_Date_1819),COUNTIF(Voucher_Date_1819,\"<\"&Voucher_Date_1819),COUNTIF(Voucher_Date_1819,\"<\"&Voucher_Date_1819)+SUM(IF(ISNUMBER(Voucher_Date_1819),1,0))+1)),ROW(A96)),IF(ISBLANK(Voucher_Date_1819),\"\",IF(ISNUMBER(Voucher_Date_1819),COUNTIF(Voucher_Date_1819,\"<\"&Voucher_Date_1819),COUNTIF(Voucher_Date_1819,\"<\"&Voucher_Date_1819)+SUM(IF(ISNUMBER(Voucher_Date_1819),1,0))+1)),0))","v":{"$error":"#NUM!"}}]
[{"$f":"INDEX(Voucher_Date_1819,MATCH(ROWS('Bill Register 20-21'!$L$3:'Bill Register 20-21'!L98),COUNTIF(Voucher_Date_1819,\"<=\"&Voucher_Date_1819),0))","v":{"$error":"#N/A"}},{"$f":"INDEX(Voucher_Date_1819,MATCH(SMALL(IF(ISBLANK(Voucher_Date_1819),\"\",IF(ISNUMBER(Voucher_Date_1819),COUNTIF(Voucher_Date_1819,\"<\"&Voucher_Date_1819),COUNTIF(Voucher_Date_1819,\"<\"&Voucher_Date_1819)+SUM(IF(ISNUMBER(Voucher_Date_1819),1,0))+1)),ROW(A97)),IF(ISBLANK(Voucher_Date_1819),\"\",IF(ISNUMBER(Voucher_Date_1819),COUNTIF(Voucher_Date_1819,\"<\"&Voucher_Date_1819),COUNTIF(Voucher_Date_1819,\"<\"&Voucher_Date_1819)+SUM(IF(ISNUMBER(Voucher_Date_1819),1,0))+1)),0))","v":{"$error":"#NUM!"}}]
[{"$f":"INDEX(Voucher_Date_1819,MATCH(ROWS('Bill Register 20-21'!$L$3:'Bill Register 20-21'!L99),COUNTIF(Voucher_Date_1819,\"<=\"&Voucher_Date_1819),0))","v":{"$error":"#N/A"}},{"$f":"INDEX(Voucher_Date_1819,MATCH(SMALL(IF(ISBLANK(Voucher_Date_1819),\"\",IF(ISNUMBER(Voucher_Date_1819),COUNTIF(Voucher_Date_1819,\"<\"&Voucher_Date_1819),COUNTIF(Voucher_Date_1819,\"<\"&Voucher_Date_1819)+SUM(IF(ISNUMBER(Voucher_Date_1819),1,0))+1)),ROW(A98)),IF(ISBLANK(Voucher_Date_1819),\"\",IF(ISNUMBER(Voucher_Date_1819),COUNTIF(Voucher_Date_1819,\"<\"&Voucher_Date_1819),COUNTIF(Voucher_Date_1819,\"<\"&Voucher_Date_1819)+SUM(IF(ISNUMBER(Voucher_Date_1819),1,0))+1)),0))","v":{"$error":"#NUM!"}}]
[{"$f":"INDEX(Voucher_Date_1819,MATCH(ROWS('Bill Register 20-21'!$L$3:'Bill Register 20-21'!L100),COUNTIF(Voucher_Date_1819,\"<=\"&Voucher_Date_1819),0))","v":{"$error":"#N/A"}},{"$f":"INDEX(Voucher_Date_1819,MATCH(SMALL(IF(ISBLANK(Voucher_Date_1819),\"\",IF(ISNUMBER(Voucher_Date_1819),COUNTIF(Voucher_Date_1819,\"<\"&Voucher_Date_1819),COUNTIF(Voucher_Date_1819,\"<\"&Voucher_Date_1819)+SUM(IF(ISNUMBER(Voucher_Date_1819),1,0))+1)),ROW(A99)),IF(ISBLANK(Voucher_Date_1819),\"\",IF(ISNUMBER(Voucher_Date_1819),COUNTIF(Voucher_Date_1819,\"<\"&Voucher_Date_1819),COUNTIF(Voucher_Date_1819,\"<\"&Voucher_Date_1819)+SUM(IF(ISNUMBER(Voucher_Date_1819),1,0))+1)),0))","v":{"$error":"#NUM!"}}]
[{"$f":"INDEX(Voucher_Date_1819,MATCH(ROWS('Bill Register 20-21'!$L$3:'Bill Register 20-21'!L101),COUNTIF(Voucher_Date_1819,\"<=\"&Voucher_Date_1819),0))","v":{"$error":"#N/A"}},{"$f":"INDEX(Voucher_Date_1819,MATCH(SMALL(IF(ISBLANK(Voucher_Date_1819),\"\",IF(ISNUMBER(Voucher_Date_1819),COUNTIF(Voucher_Date_1819,\"<\"&Voucher_Date_1819),COUNTIF(Voucher_Date_1819,\"<\"&Voucher_Date_1819)+SUM(IF(ISNUMBER(Voucher_Date_1819),1,0))+1)),ROW(A100)),IF(ISBLANK(Voucher_Date_1819),\"\",IF(ISNUMBER(Voucher_Date_1819),COUNTIF(Voucher_Date_1819,\"<\"&Voucher_Date_1819),COUNTIF(Voucher_Date_1819,\"<\"&Voucher_Date_1819)+SUM(IF(ISNUMBER(Voucher_Date_1819),1,0))+1)),0))","v":{"$error":"#NUM!"}}]
[{"$f":"INDEX(Voucher_Date_1819,MATCH(ROWS('Bill Register 20-21'!$L$3:'Bill Register 20-21'!L102),COUNTIF(Voucher_Date_1819,\"<=\"&Voucher_Date_1819),0))","v":{"$error":"#N/A"}},{"$f":"INDEX(Voucher_Date_1819,MATCH(SMALL(IF(ISBLANK(Voucher_Date_1819),\"\",IF(ISNUMBER(Voucher_Date_1819),COUNTIF(Voucher_Date_1819,\"<\"&Voucher_Date_1819),COUNTIF(Voucher_Date_1819,\"<\"&Voucher_Date_1819)+SUM(IF(ISNUMBER(Voucher_Date_1819),1,0))+1)),ROW(A101)),IF(ISBLANK(Voucher_Date_1819),\"\",IF(ISNUMBER(Voucher_Date_1819),COUNTIF(Voucher_Date_1819,\"<\"&Voucher_Date_1819),COUNTIF(Voucher_Date_1819,\"<\"&Voucher_Date_1819)+SUM(IF(ISNUMBER(Voucher_Date_1819),1,0))+1)),0))","v":{"$error":"#NUM!"}}]
[{"$f":"INDEX(Voucher_Date_1819,MATCH(ROWS('Bill Register 20-21'!$L$3:'Bill Register 20-21'!L103),COUNTIF(Voucher_Date_1819,\"<=\"&Voucher_Date_1819),0))","v":{"$error":"#N/A"}},{"$f":"INDEX(Voucher_Date_1819,MATCH(SMALL(IF(ISBLANK(Voucher_Date_1819),\"\",IF(ISNUMBER(Voucher_Date_1819),COUNTIF(Voucher_Date_1819,\"<\"&Voucher_Date_1819),COUNTIF(Voucher_Date_1819,\"<\"&Voucher_Date_1819)+SUM(IF(ISNUMBER(Voucher_Date_1819),1,0))+1)),ROW(A102)),IF(ISBLANK(Voucher_Date_1819),\"\",IF(ISNUMBER(Voucher_Date_1819),COUNTIF(Voucher_Date_1819,\"<\"&Voucher_Date_1819),COUNTIF(Voucher_Date_1819,\"<\"&Voucher_Date_1819)+SUM(IF(ISNUMBER(Voucher_Date_1819),1,0))+1)),0))","v":{"$error":"#NUM!"}}]
[{"$f":"INDEX(Voucher_Date_1819,MATCH(ROWS('Bill Register 20-21'!$L$3:'Bill Register 20-21'!L104),COUNTIF(Voucher_Date_1819,\"<=\"&Voucher_Date_1819),0))","v":{"$error":"#N/A"}},{"$f":"INDEX(Voucher_Date_1819,MATCH(SMALL(IF(ISBLANK(Voucher_Date_1819),\"\",IF(ISNUMBER(Voucher_Date_1819),COUNTIF(Voucher_Date_1819,\"<\"&Voucher_Date_1819),COUNTIF(Voucher_Date_1819,\"<\"&Voucher_Date_1819)+SUM(IF(ISNUMBER(Voucher_Date_1819),1,0))+1)),ROW(A103)),IF(ISBLANK(Voucher_Date_1819),\"\",IF(ISNUMBER(Voucher_Date_1819),COUNTIF(Voucher_Date_1819,\"<\"&Voucher_Date_1819),COUNTIF(Voucher_Date_1819,\"<\"&Voucher_Date_1819)+SUM(IF(ISNUMBER(Voucher_Date_1819),1,0))+1)),0))","v":{"$error":"#NUM!"}}]
[{"$f":"INDEX(Voucher_Date_1819,MATCH(ROWS('Bill Register 20-21'!$L$3:'Bill Register 20-21'!L105),COUNTIF(Voucher_Date_1819,\"<=\"&Voucher_Date_1819),0))","v":{"$error":"#N/A"}},{"$f":"INDEX(Voucher_Date_1819,MATCH(SMALL(IF(ISBLANK(Voucher_Date_1819),\"\",IF(ISNUMBER(Voucher_Date_1819),COUNTIF(Voucher_Date_1819,\"<\"&Voucher_Date_1819),COUNTIF(Voucher_Date_1819,\"<\"&Voucher_Date_1819)+SUM(IF(ISNUMBER(Voucher_Date_1819),1,0))+1)),ROW(A104)),IF(ISBLANK(Voucher_Date_1819),\"\",IF(ISNUMBER(Voucher_Date_1819),COUNTIF(Voucher_Date_1819,\"<\"&Voucher_Date_1819),COUNTIF(Voucher_Date_1819,\"<\"&Voucher_Date_1819)+SUM(IF(ISNUMBER(Voucher_Date_1819),1,0))+1)),0))","v":{"$error":"#NUM!"}}]
[{"$f":"INDEX(Voucher_Date_1819,MATCH(ROWS('Bill Register 20-21'!$L$3:'Bill Register 20-21'!L106),COUNTIF(Voucher_Date_1819,\"<=\"&Voucher_Date_1819),0))","v":{"$error":"#N/A"}},{"$f":"INDEX(Voucher_Date_1819,MATCH(SMALL(IF(ISBLANK(Voucher_Date_1819),\"\",IF(ISNUMBER(Voucher_Date_1819),COUNTIF(Voucher_Date_1819,\"<\"&Voucher_Date_1819),COUNTIF(Voucher_Date_1819,\"<\"&Voucher_Date_1819)+SUM(IF(ISNUMBER(Voucher_Date_1819),1,0))+1)),ROW(A105)),IF(ISBLANK(Voucher_Date_1819),\"\",IF(ISNUMBER(Voucher_Date_1819),COUNTIF(Voucher_Date_1819,\"<\"&Voucher_Date_1819),COUNTIF(Voucher_Date_1819,\"<\"&Voucher_Date_1819)+SUM(IF(ISNUMBER(Voucher_Date_1819),1,0))+1)),0))","v":{"$error":"#NUM!"}}]
[{"$f":"INDEX(Voucher_Date_1819,MATCH(ROWS('Bill Register 20-21'!$L$3:'Bill Register 20-21'!L107),COUNTIF(Voucher_Date_1819,\"<=\"&Voucher_Date_1819),0))","v":{"$error":"#N/A"}},{"$f":"INDEX(Voucher_Date_1819,MATCH(SMALL(IF(ISBLANK(Voucher_Date_1819),\"\",IF(ISNUMBER(Voucher_Date_1819),COUNTIF(Voucher_Date_1819,\"<\"&Voucher_Date_1819),COUNTIF(Voucher_Date_1819,\"<\"&Voucher_Date_1819)+SUM(IF(ISNUMBER(Voucher_Date_1819),1,0))+1)),ROW(A106)),IF(ISBLANK(Voucher_Date_1819),\"\",IF(ISNUMBER(Voucher_Date_1819),COUNTIF(Voucher_Date_1819,\"<\"&Voucher_Date_1819),COUNTIF(Voucher_Date_1819,\"<\"&Voucher_Date_1819)+SUM(IF(ISNUMBER(Voucher_Date_1819),1,0))+1)),0))","v":{"$error":"#NUM!"}}]
[{"$f":"INDEX(Voucher_Date_1819,MATCH(ROWS('Bill Register 20-21'!$L$3:'Bill Register 20-21'!L108),COUNTIF(Voucher_Date_1819,\"<=\"&Voucher_Date_1819),0))","v":{"$error":"#N/A"}},{"$f":"INDEX(Voucher_Date_1819,MATCH(SMALL(IF(ISBLANK(Voucher_Date_1819),\"\",IF(ISNUMBER(Voucher_Date_1819),COUNTIF(Voucher_Date_1819,\"<\"&Voucher_Date_1819),COUNTIF(Voucher_Date_1819,\"<\"&Voucher_Date_1819)+SUM(IF(ISNUMBER(Voucher_Date_1819),1,0))+1)),ROW(A107)),IF(ISBLANK(Voucher_Date_1819),\"\",IF(ISNUMBER(Voucher_Date_1819),COUNTIF(Voucher_Date_1819,\"<\"&Voucher_Date_1819),COUNTIF(Voucher_Date_1819,\"<\"&Voucher_Date_1819)+SUM(IF(ISNUMBER(Voucher_Date_1819),1,0))+1)),0))","v":{"$error":"#NUM!"}}]
[{"$f":"INDEX(Voucher_Date_1819,MATCH(ROWS('Bill Register 20-21'!$L$3:'Bill Register 20-21'!L109),COUNTIF(Voucher_Date_1819,\"<=\"&Voucher_Date_1819),0))","v":{"$error":"#N/A"}},{"$f":"INDEX(Voucher_Date_1819,MATCH(SMALL(IF(ISBLANK(Voucher_Date_1819),\"\",IF(ISNUMBER(Voucher_Date_1819),COUNTIF(Voucher_Date_1819,\"<\"&Voucher_Date_1819),COUNTIF(Voucher_Date_1819,\"<\"&Voucher_Date_1819)+SUM(IF(ISNUMBER(Voucher_Date_1819),1,0))+1)),ROW(A108)),IF(ISBLANK(Voucher_Date_1819),\"\",IF(ISNUMBER(Voucher_Date_1819),COUNTIF(Voucher_Date_1819,\"<\"&Voucher_Date_1819),COUNTIF(Voucher_Date_1819,\"<\"&Voucher_Date_1819)+SUM(IF(ISNUMBER(Voucher_Date_1819),1,0))+1)),0))","v":{"$error":"#NUM!"}}]
[{"$f":"INDEX(Voucher_Date_1819,MATCH(ROWS('Bill Register 20-21'!$L$3:'Bill Register 20-21'!L110),COUNTIF(Voucher_Date_1819,\"<=\"&Voucher_Date_1819),0))","v":{"$error":"#N/A"}},{"$f":"INDEX(Voucher_Date_1819,MATCH(SMALL(IF(ISBLANK(Voucher_Date_1819),\"\",IF(ISNUMBER(Voucher_Date_1819),COUNTIF(Voucher_Date_1819,\"<\"&Voucher_Date_1819),COUNTIF(Voucher_Date_1819,\"<\"&Voucher_Date_1819)+SUM(IF(ISNUMBER(Voucher_Date_1819),1,0))+1)),ROW(A109)),IF(ISBLANK(Voucher_Date_1819),\"\",IF(ISNUMBER(Voucher_Date_1819),COUNTIF(Voucher_Date_1819,\"<\"&Voucher_Date_1819),COUNTIF(Voucher_Date_1819,\"<\"&Voucher_Date_1819)+SUM(IF(ISNUMBER(Voucher_Date_1819),1,0))+1)),0))","v":{"$error":"#NUM!"}}]
[{"$f":"INDEX(Voucher_Date_1819,MATCH(ROWS('Bill Register 20-21'!$L$3:'Bill Register 20-21'!L111),COUNTIF(Voucher_Date_1819,\"<=\"&Voucher_Date_1819),0))","v":{"$error":"#N/A"}},{"$f":"INDEX(Voucher_Date_1819,MATCH(SMALL(IF(ISBLANK(Voucher_Date_1819),\"\",IF(ISNUMBER(Voucher_Date_1819),COUNTIF(Voucher_Date_1819,\"<\"&Voucher_Date_1819),COUNTIF(Voucher_Date_1819,\"<\"&Voucher_Date_1819)+SUM(IF(ISNUMBER(Voucher_Date_1819),1,0))+1)),ROW(A110)),IF(ISBLANK(Voucher_Date_1819),\"\",IF(ISNUMBER(Voucher_Date_1819),COUNTIF(Voucher_Date_1819,\"<\"&Voucher_Date_1819),COUNTIF(Voucher_Date_1819,\"<\"&Voucher_Date_1819)+SUM(IF(ISNUMBER(Voucher_Date_1819),1,0))+1)),0))","v":{"$error":"#NUM!"}}]
[{"$f":"INDEX(Voucher_Date_1819,MATCH(ROWS('Bill Register 20-21'!$L$3:'Bill Register 20-21'!L112),COUNTIF(Voucher_Date_1819,\"<=\"&Voucher_Date_1819),0))","v":{"$error":"#N/A"}},{"$f":"INDEX(Voucher_Date_1819,MATCH(SMALL(IF(ISBLANK(Voucher_Date_1819),\"\",IF(ISNUMBER(Voucher_Date_1819),COUNTIF(Voucher_Date_1819,\"<\"&Voucher_Date_1819),COUNTIF(Voucher_Date_1819,\"<\"&Voucher_Date_1819)+SUM(IF(ISNUMBER(Voucher_Date_1819),1,0))+1)),ROW(A111)),IF(ISBLANK(Voucher_Date_1819),\"\",IF(ISNUMBER(Voucher_Date_1819),COUNTIF(Voucher_Date_1819,\"<\"&Voucher_Date_1819),COUNTIF(Voucher_Date_1819,\"<\"&Voucher_Date_1819)+SUM(IF(ISNUMBER(Voucher_Date_1819),1,0))+1)),0))","v":{"$error":"#NUM!"}}]
[{"$f":"INDEX(Voucher_Date_1819,MATCH(ROWS('Bill Register 20-21'!$L$3:'Bill Register 20-21'!L113),COUNTIF(Voucher_Date_1819,\"<=\"&Voucher_Date_1819),0))","v":{"$error":"#N/A"}},{"$f":"INDEX(Voucher_Date_1819,MATCH(SMALL(IF(ISBLANK(Voucher_Date_1819),\"\",IF(ISNUMBER(Voucher_Date_1819),COUNTIF(Voucher_Date_1819,\"<\"&Voucher_Date_1819),COUNTIF(Voucher_Date_1819,\"<\"&Voucher_Date_1819)+SUM(IF(ISNUMBER(Voucher_Date_1819),1,0))+1)),ROW(A112)),IF(ISBLANK(Voucher_Date_1819),\"\",IF(ISNUMBER(Voucher_Date_1819),COUNTIF(Voucher_Date_1819,\"<\"&Voucher_Date_1819),COUNTIF(Voucher_Date_1819,\"<\"&Voucher_Date_1819)+SUM(IF(ISNUMBER(Voucher_Date_1819),1,0))+1)),0))","v":{"$error":"#NUM!"}}]
[{"$f":"INDEX(Voucher_Date_1819,MATCH(ROWS('Bill Register 20-21'!$L$3:'Bill Register 20-21'!L114),COUNTIF(Voucher_Date_1819,\"<=\"&Voucher_Date_1819),0))","v":{"$error":"#N/A"}},{"$f":"INDEX(Voucher_Date_1819,MATCH(SMALL(IF(ISBLANK(Voucher_Date_1819),\"\",IF(ISNUMBER(Voucher_Date_1819),COUNTIF(Voucher_Date_1819,\"<\"&Voucher_Date_1819),COUNTIF(Voucher_Date_1819,\"<\"&Voucher_Date_1819)+SUM(IF(ISNUMBER(Voucher_Date_1819),1,0))+1)),ROW(A113)),IF(ISBLANK(Voucher_Date_1819),\"\",IF(ISNUMBER(Voucher_Date_1819),COUNTIF(Voucher_Date_1819,\"<\"&Voucher_Date_1819),COUNTIF(Voucher_Date_1819,\"<\"&Voucher_Date_1819)+SUM(IF(ISNUMBER(Voucher_Date_1819),1,0))+1)),0))","v":{"$error":"#NUM!"}}]
[{"$f":"INDEX(Voucher_Date_1819,MATCH(ROWS('Bill Register 20-21'!$L$3:'Bill Register 20-21'!L115),COUNTIF(Voucher_Date_1819,\"<=\"&Voucher_Date_1819),0))","v":{"$error":"#N/A"}},{"$f":"INDEX(Voucher_Date_1819,MATCH(SMALL(IF(ISBLANK(Voucher_Date_1819),\"\",IF(ISNUMBER(Voucher_Date_1819),COUNTIF(Voucher_Date_1819,\"<\"&Voucher_Date_1819),COUNTIF(Voucher_Date_1819,\"<\"&Voucher_Date_1819)+SUM(IF(ISNUMBER(Voucher_Date_1819),1,0))+1)),ROW(A114)),IF(ISBLANK(Voucher_Date_1819),\"\",IF(ISNUMBER(Voucher_Date_1819),COUNTIF(Voucher_Date_1819,\"<\"&Voucher_Date_1819),COUNTIF(Voucher_Date_1819,\"<\"&Voucher_Date_1819)+SUM(IF(ISNUMBER(Voucher_Date_1819),1,0))+1)),0))","v":{"$error":"#NUM!"}}]
[{"$f":"INDEX(Voucher_Date_1819,MATCH(ROWS('Bill Register 20-21'!$L$3:'Bill Register 20-21'!L116),COUNTIF(Voucher_Date_1819,\"<=\"&Voucher_Date_1819),0))","v":{"$error":"#N/A"}},{"$f":"INDEX(Voucher_Date_1819,MATCH(SMALL(IF(ISBLANK(Voucher_Date_1819),\"\",IF(ISNUMBER(Voucher_Date_1819),COUNTIF(Voucher_Date_1819,\"<\"&Voucher_Date_1819),COUNTIF(Voucher_Date_1819,\"<\"&Voucher_Date_1819)+SUM(IF(ISNUMBER(Voucher_Date_1819),1,0))+1)),ROW(A115)),IF(ISBLANK(Voucher_Date_1819),\"\",IF(ISNUMBER(Voucher_Date_1819),COUNTIF(Voucher_Date_1819,\"<\"&Voucher_Date_1819),COUNTIF(Voucher_Date_1819,\"<\"&Voucher_Date_1819)+SUM(IF(ISNUMBER(Voucher_Date_1819),1,0))+1)),0))","v":{"$error":"#NUM!"}}]
[{"$f":"INDEX(Voucher_Date_1819,MATCH(ROWS('Bill Register 20-21'!$L$3:'Bill Register 20-21'!L117),COUNTIF(Voucher_Date_1819,\"<=\"&Voucher_Date_1819),0))","v":{"$error":"#N/A"}},{"$f":"INDEX(Voucher_Date_1819,MATCH(SMALL(IF(ISBLANK(Voucher_Date_1819),\"\",IF(ISNUMBER(Voucher_Date_1819),COUNTIF(Voucher_Date_1819,\"<\"&Voucher_Date_1819),COUNTIF(Voucher_Date_1819,\"<\"&Voucher_Date_1819)+SUM(IF(ISNUMBER(Voucher_Date_1819),1,0))+1)),ROW(A116)),IF(ISBLANK(Voucher_Date_1819),\"\",IF(ISNUMBER(Voucher_Date_1819),COUNTIF(Voucher_Date_1819,\"<\"&Voucher_Date_1819),COUNTIF(Voucher_Date_1819,\"<\"&Voucher_Date_1819)+SUM(IF(ISNUMBER(Voucher_Date_1819),1,0))+1)),0))","v":{"$error":"#NUM!"}}]
[{"$f":"INDEX(Voucher_Date_1819,MATCH(ROWS('Bill Register 20-21'!$L$3:'Bill Register 20-21'!L118),COUNTIF(Voucher_Date_1819,\"<=\"&Voucher_Date_1819),0))","v":{"$error":"#N/A"}},{"$f":"INDEX(Voucher_Date_1819,MATCH(SMALL(IF(ISBLANK(Voucher_Date_1819),\"\",IF(ISNUMBER(Voucher_Date_1819),COUNTIF(Voucher_Date_1819,\"<\"&Voucher_Date_1819),COUNTIF(Voucher_Date_1819,\"<\"&Voucher_Date_1819)+SUM(IF(ISNUMBER(Voucher_Date_1819),1,0))+1)),ROW(A117)),IF(ISBLANK(Voucher_Date_1819),\"\",IF(ISNUMBER(Voucher_Date_1819),COUNTIF(Voucher_Date_1819,\"<\"&Voucher_Date_1819),COUNTIF(Voucher_Date_1819,\"<\"&Voucher_Date_1819)+SUM(IF(ISNUMBER(Voucher_Date_1819),1,0))+1)),0))","v":{"$error":"#NUM!"}}]
[{"$f":"INDEX(Voucher_Date_1819,MATCH(ROWS('Bill Register 20-21'!$L$3:'Bill Register 20-21'!L119),COUNTIF(Voucher_Date_1819,\"<=\"&Voucher_Date_1819),0))","v":{"$error":"#N/A"}},{"$f":"INDEX(Voucher_Date_1819,MATCH(SMALL(IF(ISBLANK(Voucher_Date_1819),\"\",IF(ISNUMBER(Voucher_Date_1819),COUNTIF(Voucher_Date_1819,\"<\"&Voucher_Date_1819),COUNTIF(Voucher_Date_1819,\"<\"&Voucher_Date_1819)+SUM(IF(ISNUMBER(Voucher_Date_1819),1,0))+1)),ROW(A118)),IF(ISBLANK(Voucher_Date_1819),\"\",IF(ISNUMBER(Voucher_Date_1819),COUNTIF(Voucher_Date_1819,\"<\"&Voucher_Date_1819),COUNTIF(Voucher_Date_1819,\"<\"&Voucher_Date_1819)+SUM(IF(ISNUMBER(Voucher_Date_1819),1,0))+1)),0))","v":{"$error":"#NUM!"}}]
[{"$f":"INDEX(Voucher_Date_1819,MATCH(ROWS('Bill Register 20-21'!$L$3:'Bill Register 20-21'!L120),COUNTIF(Voucher_Date_1819,\"<=\"&Voucher_Date_1819),0))","v":{"$error":"#N/A"}},{"$f":"INDEX(Voucher_Date_1819,MATCH(SMALL(IF(ISBLANK(Voucher_Date_1819),\"\",IF(ISNUMBER(Voucher_Date_1819),COUNTIF(Voucher_Date_1819,\"<\"&Voucher_Date_1819),COUNTIF(Voucher_Date_1819,\"<\"&Voucher_Date_1819)+SUM(IF(ISNUMBER(Voucher_Date_1819),1,0))+1)),ROW(A119)),IF(ISBLANK(Voucher_Date_1819),\"\",IF(ISNUMBER(Voucher_Date_1819),COUNTIF(Voucher_Date_1819,\"<\"&Voucher_Date_1819),COUNTIF(Voucher_Date_1819,\"<\"&Voucher_Date_1819)+SUM(IF(ISNUMBER(Voucher_Date_1819),1,0))+1)),0))","v":{"$error":"#NUM!"}}]
[{"$f":"INDEX(Voucher_Date_1819,MATCH(ROWS('Bill Register 20-21'!$L$3:'Bill Register 20-21'!L121),COUNTIF(Voucher_Date_1819,\"<=\"&Voucher_Date_1819),0))","v":{"$error":"#N/A"}},{"$f":"INDEX(Voucher_Date_1819,MATCH(SMALL(IF(ISBLANK(Voucher_Date_1819),\"\",IF(ISNUMBER(Voucher_Date_1819),COUNTIF(Voucher_Date_1819,\"<\"&Voucher_Date_1819),COUNTIF(Voucher_Date_1819,\"<\"&Voucher_Date_1819)+SUM(IF(ISNUMBER(Voucher_Date_1819),1,0))+1)),ROW(A120)),IF(ISBLANK(Voucher_Date_1819),\"\",IF(ISNUMBER(Voucher_Date_1819),COUNTIF(Voucher_Date_1819,\"<\"&Voucher_Date_1819),COUNTIF(Voucher_Date_1819,\"<\"&Voucher_Date_1819)+SUM(IF(ISNUMBER(Voucher_Date_1819),1,0))+1)),0))","v":{"$error":"#NUM!"}}]
[{"$f":"INDEX(Voucher_Date_1819,MATCH(ROWS('Bill Register 20-21'!$L$3:'Bill Register 20-21'!L122),COUNTIF(Voucher_Date_1819,\"<=\"&Voucher_Date_1819),0))","v":{"$error":"#N/A"}},{"$f":"INDEX(Voucher_Date_1819,MATCH(SMALL(IF(ISBLANK(Voucher_Date_1819),\"\",IF(ISNUMBER(Voucher_Date_1819),COUNTIF(Voucher_Date_1819,\"<\"&Voucher_Date_1819),COUNTIF(Voucher_Date_1819,\"<\"&Voucher_Date_1819)+SUM(IF(ISNUMBER(Voucher_Date_1819),1,0))+1)),ROW(A121)),IF(ISBLANK(Voucher_Date_1819),\"\",IF(ISNUMBER(Voucher_Date_1819),COUNTIF(Voucher_Date_1819,\"<\"&Voucher_Date_1819),COUNTIF(Voucher_Date_1819,\"<\"&Voucher_Date_1819)+SUM(IF(ISNUMBER(Voucher_Date_1819),1,0))+1)),0))","v":{"$error":"#NUM!"}}]
[{"$f":"INDEX(Voucher_Date_1819,MATCH(ROWS('Bill Register 20-21'!$L$3:'Bill Register 20-21'!L123),COUNTIF(Voucher_Date_1819,\"<=\"&Voucher_Date_1819),0))","v":{"$error":"#N/A"}},{"$f":"INDEX(Voucher_Date_1819,MATCH(SMALL(IF(ISBLANK(Voucher_Date_1819),\"\",IF(ISNUMBER(Voucher_Date_1819),COUNTIF(Voucher_Date_1819,\"<\"&Voucher_Date_1819),COUNTIF(Voucher_Date_1819,\"<\"&Voucher_Date_1819)+SUM(IF(ISNUMBER(Voucher_Date_1819),1,0))+1)),ROW(A122)),IF(ISBLANK(Voucher_Date_1819),\"\",IF(ISNUMBER(Voucher_Date_1819),COUNTIF(Voucher_Date_1819,\"<\"&Voucher_Date_1819),COUNTIF(Voucher_Date_1819,\"<\"&Voucher_Date_1819)+SUM(IF(ISNUMBER(Voucher_Date_1819),1,0))+1)),0))","v":{"$error":"#NUM!"}}]
[{"$f":"INDEX(Voucher_Date_1819,MATCH(ROWS('Bill Register 20-21'!$L$3:'Bill Register 20-21'!L124),COUNTIF(Voucher_Date_1819,\"<=\"&Voucher_Date_1819),0))","v":{"$error":"#N/A"}},{"$f":"INDEX(Voucher_Date_1819,MATCH(SMALL(IF(ISBLANK(Voucher_Date_1819),\"\",IF(ISNUMBER(Voucher_Date_1819),COUNTIF(Voucher_Date_1819,\"<\"&Voucher_Date_1819),COUNTIF(Voucher_Date_1819,\"<\"&Voucher_Date_1819)+SUM(IF(ISNUMBER(Voucher_Date_1819),1,0))+1)),ROW(A123)),IF(ISBLANK(Voucher_Date_1819),\"\",IF(ISNUMBER(Voucher_Date_1819),COUNTIF(Voucher_Date_1819,\"<\"&Voucher_Date_1819),COUNTIF(Voucher_Date_1819,\"<\"&Voucher_Date_1819)+SUM(IF(ISNUMBER(Voucher_Date_1819),1,0))+1)),0))","v":{"$error":"#NUM!"}}]
[{"$f":"INDEX(Voucher_Date_1819,MATCH(ROWS('Bill Register 20-21'!$L$3:'Bill Register 20-21'!L125),COUNTIF(Voucher_Date_1819,\"<=\"&Voucher_Date_1819),0))","v":{"$error":"#N/A"}},{"$f":"INDEX(Voucher_Date_1819,MATCH(SMALL(IF(ISBLANK(Voucher_Date_1819),\"\",IF(ISNUMBER(Voucher_Date_1819),COUNTIF(Voucher_Date_1819,\"<\"&Voucher_Date_1819),COUNTIF(Voucher_Date_1819,\"<\"&Voucher_Date_1819)+SUM(IF(ISNUMBER(Voucher_Date_1819),1,0))+1)),ROW(A124)),IF(ISBLANK(Voucher_Date_1819),\"\",IF(ISNUMBER(Voucher_Date_1819),COUNTIF(Voucher_Date_1819,\"<\"&Voucher_Date_1819),COUNTIF(Voucher_Date_1819,\"<\"&Voucher_Date_1819)+SUM(IF(ISNUMBER(Voucher_Date_1819),1,0))+1)),0))","v":{"$error":"#NUM!"}}]
[{"$f":"INDEX(Voucher_Date_1819,MATCH(ROWS('Bill Register 20-21'!$L$3:'Bill Register 20-21'!L126),COUNTIF(Voucher_Date_1819,\"<=\"&Voucher_Date_1819),0))","v":{"$error":"#N/A"}},{"$f":"INDEX(Voucher_Date_1819,MATCH(SMALL(IF(ISBLANK(Voucher_Date_1819),\"\",IF(ISNUMBER(Voucher_Date_1819),COUNTIF(Voucher_Date_1819,\"<\"&Voucher_Date_1819),COUNTIF(Voucher_Date_1819,\"<\"&Voucher_Date_1819)+SUM(IF(ISNUMBER(Voucher_Date_1819),1,0))+1)),ROW(A125)),IF(ISBLANK(Voucher_Date_1819),\"\",IF(ISNUMBER(Voucher_Date_1819),COUNTIF(Voucher_Date_1819,\"<\"&Voucher_Date_1819),COUNTIF(Voucher_Date_1819,\"<\"&Voucher_Date_1819)+SUM(IF(ISNUMBER(Voucher_Date_1819),1,0))+1)),0))","v":{"$error":"#NUM!"}}]
[{"$f":"INDEX(Voucher_Date_1819,MATCH(ROWS('Bill Register 20-21'!$L$3:'Bill Register 20-21'!L127),COUNTIF(Voucher_Date_1819,\"<=\"&Voucher_Date_1819),0))","v":{"$error":"#N/A"}},{"$f":"INDEX(Voucher_Date_1819,MATCH(SMALL(IF(ISBLANK(Voucher_Date_1819),\"\",IF(ISNUMBER(Voucher_Date_1819),COUNTIF(Voucher_Date_1819,\"<\"&Voucher_Date_1819),COUNTIF(Voucher_Date_1819,\"<\"&Voucher_Date_1819)+SUM(IF(ISNUMBER(Voucher_Date_1819),1,0))+1)),ROW(A126)),IF(ISBLANK(Voucher_Date_1819),\"\",IF(ISNUMBER(Voucher_Date_1819),COUNTIF(Voucher_Date_1819,\"<\"&Voucher_Date_1819),COUNTIF(Voucher_Date_1819,\"<\"&Voucher_Date_1819)+SUM(IF(ISNUMBER(Voucher_Date_1819),1,0))+1)),0))","v":{"$error":"#NUM!"}}]
[{"$f":"INDEX(Voucher_Date_1819,MATCH(ROWS('Bill Register 20-21'!$L$3:'Bill Register 20-21'!L128),COUNTIF(Voucher_Date_1819,\"<=\"&Voucher_Date_1819),0))","v":{"$error":"#N/A"}},{"$f":"INDEX(Voucher_Date_1819,MATCH(SMALL(IF(ISBLANK(Voucher_Date_1819),\"\",IF(ISNUMBER(Voucher_Date_1819),COUNTIF(Voucher_Date_1819,\"<\"&Voucher_Date_1819),COUNTIF(Voucher_Date_1819,\"<\"&Voucher_Date_1819)+SUM(IF(ISNUMBER(Voucher_Date_1819),1,0))+1)),ROW(A127)),IF(ISBLANK(Voucher_Date_1819),\"\",IF(ISNUMBER(Voucher_Date_1819),COUNTIF(Voucher_Date_1819,\"<\"&Voucher_Date_1819),COUNTIF(Voucher_Date_1819,\"<\"&Voucher_Date_1819)+SUM(IF(ISNUMBER(Voucher_Date_1819),1,0))+1)),0))","v":{"$error":"#NUM!"}}]
[{"$f":"INDEX(Voucher_Date_1819,MATCH(ROWS('Bill Register 20-21'!$L$3:'Bill Register 20-21'!L129),COUNTIF(Voucher_Date_1819,\"<=\"&Voucher_Date_1819),0))","v":{"$error":"#N/A"}},{"$f":"INDEX(Voucher_Date_1819,MATCH(SMALL(IF(ISBLANK(Voucher_Date_1819),\"\",IF(ISNUMBER(Voucher_Date_1819),COUNTIF(Voucher_Date_1819,\"<\"&Voucher_Date_1819),COUNTIF(Voucher_Date_1819,\"<\"&Voucher_Date_1819)+SUM(IF(ISNUMBER(Voucher_Date_1819),1,0))+1)),ROW(A128)),IF(ISBLANK(Voucher_Date_1819),\"\",IF(ISNUMBER(Voucher_Date_1819),COUNTIF(Voucher_Date_1819,\"<\"&Voucher_Date_1819),COUNTIF(Voucher_Date_1819,\"<\"&Voucher_Date_1819)+SUM(IF(ISNUMBER(Voucher_Date_1819),1,0))+1)),0))","v":{"$error":"#NUM!"}}]
[{"$f":"INDEX(Voucher_Date_1819,MATCH(ROWS('Bill Register 20-21'!$L$3:'Bill Register 20-21'!L130),COUNTIF(Voucher_Date_1819,\"<=\"&Voucher_Date_1819),0))","v":{"$error":"#N/A"}},{"$f":"INDEX(Voucher_Date_1819,MATCH(SMALL(IF(ISBLANK(Voucher_Date_1819),\"\",IF(ISNUMBER(Voucher_Date_1819),COUNTIF(Voucher_Date_1819,\"<\"&Voucher_Date_1819),COUNTIF(Voucher_Date_1819,\"<\"&Voucher_Date_1819)+SUM(IF(ISNUMBER(Voucher_Date_1819),1,0))+1)),ROW(A129)),IF(ISBLANK(Voucher_Date_1819),\"\",IF(ISNUMBER(Voucher_Date_1819),COUNTIF(Voucher_Date_1819,\"<\"&Voucher_Date_1819),COUNTIF(Voucher_Date_1819,\"<\"&Voucher_Date_1819)+SUM(IF(ISNUMBER(Voucher_Date_1819),1,0))+1)),0))","v":{"$error":"#NUM!"}}]
[{"$f":"INDEX(Voucher_Date_1819,MATCH(ROWS('Bill Register 20-21'!$L$3:'Bill Register 20-21'!L131),COUNTIF(Voucher_Date_1819,\"<=\"&Voucher_Date_1819),0))","v":{"$error":"#N/A"}},{"$f":"INDEX(Voucher_Date_1819,MATCH(SMALL(IF(ISBLANK(Voucher_Date_1819),\"\",IF(ISNUMBER(Voucher_Date_1819),COUNTIF(Voucher_Date_1819,\"<\"&Voucher_Date_1819),COUNTIF(Voucher_Date_1819,\"<\"&Voucher_Date_1819)+SUM(IF(ISNUMBER(Voucher_Date_1819),1,0))+1)),ROW(A130)),IF(ISBLANK(Voucher_Date_1819),\"\",IF(ISNUMBER(Voucher_Date_1819),COUNTIF(Voucher_Date_1819,\"<\"&Voucher_Date_1819),COUNTIF(Voucher_Date_1819,\"<\"&Voucher_Date_1819)+SUM(IF(ISNUMBER(Voucher_Date_1819),1,0))+1)),0))","v":{"$error":"#NUM!"}}]
[{"$f":"INDEX(Voucher_Date_1819,MATCH(ROWS('Bill Register 20-21'!$L$3:'Bill Register 20-21'!L132),COUNTIF(Voucher_Date_1819,\"<=\"&Voucher_Date_1819),0))","v":{"$error":"#N/A"}},{"$f":"INDEX(Voucher_Date_1819,MATCH(SMALL(IF(ISBLANK(Voucher_Date_1819),\"\",IF(ISNUMBER(Voucher_Date_1819),COUNTIF(Voucher_Date_1819,\"<\"&Voucher_Date_1819),COUNTIF(Voucher_Date_1819,\"<\"&Voucher_Date_1819)+SUM(IF(ISNUMBER(Voucher_Date_1819),1,0))+1)),ROW(A131)),IF(ISBLANK(Voucher_Date_1819),\"\",IF(ISNUMBER(Voucher_Date_1819),COUNTIF(Voucher_Date_1819,\"<\"&Voucher_Date_1819),COUNTIF(Voucher_Date_1819,\"<\"&Voucher_Date_1819)+SUM(IF(ISNUMBER(Voucher_Date_1819),1,0))+1)),0))","v":{"$error":"#NUM!"}}]
[{"$f":"INDEX(Voucher_Date_1819,MATCH(ROWS('Bill Register 20-21'!$L$3:'Bill Register 20-21'!L133),COUNTIF(Voucher_Date_1819,\"<=\"&Voucher_Date_1819),0))","v":{"$error":"#N/A"}},{"$f":"INDEX(Voucher_Date_1819,MATCH(SMALL(IF(ISBLANK(Voucher_Date_1819),\"\",IF(ISNUMBER(Voucher_Date_1819),COUNTIF(Voucher_Date_1819,\"<\"&Voucher_Date_1819),COUNTIF(Voucher_Date_1819,\"<\"&Voucher_Date_1819)+SUM(IF(ISNUMBER(Voucher_Date_1819),1,0))+1)),ROW(A132)),IF(ISBLANK(Voucher_Date_1819),\"\",IF(ISNUMBER(Voucher_Date_1819),COUNTIF(Voucher_Date_1819,\"<\"&Voucher_Date_1819),COUNTIF(Voucher_Date_1819,\"<\"&Voucher_Date_1819)+SUM(IF(ISNUMBER(Voucher_Date_1819),1,0))+1)),0))","v":{"$error":"#NUM!"}}]
[{"$f":"INDEX(Voucher_Date_1819,MATCH(ROWS('Bill Register 20-21'!$L$3:'Bill Register 20-21'!L134),COUNTIF(Voucher_Date_1819,\"<=\"&Voucher_Date_1819),0))","v":{"$error":"#N/A"}},{"$f":"INDEX(Voucher_Date_1819,MATCH(SMALL(IF(ISBLANK(Voucher_Date_1819),\"\",IF(ISNUMBER(Voucher_Date_1819),COUNTIF(Voucher_Date_1819,\"<\"&Voucher_Date_1819),COUNTIF(Voucher_Date_1819,\"<\"&Voucher_Date_1819)+SUM(IF(ISNUMBER(Voucher_Date_1819),1,0))+1)),ROW(A133)),IF(ISBLANK(Voucher_Date_1819),\"\",IF(ISNUMBER(Voucher_Date_1819),COUNTIF(Voucher_Date_1819,\"<\"&Voucher_Date_1819),COUNTIF(Voucher_Date_1819,\"<\"&Voucher_Date_1819)+SUM(IF(ISNUMBER(Voucher_Date_1819),1,0))+1)),0))","v":{"$error":"#NUM!"}}]
[{"$f":"INDEX(Voucher_Date_1819,MATCH(ROWS('Bill Register 20-21'!$L$3:'Bill Register 20-21'!L135),COUNTIF(Voucher_Date_1819,\"<=\"&Voucher_Date_1819),0))","v":{"$error":"#N/A"}},{"$f":"INDEX(Voucher_Date_1819,MATCH(SMALL(IF(ISBLANK(Voucher_Date_1819),\"\",IF(ISNUMBER(Voucher_Date_1819),COUNTIF(Voucher_Date_1819,\"<\"&Voucher_Date_1819),COUNTIF(Voucher_Date_1819,\"<\"&Voucher_Date_1819)+SUM(IF(ISNUMBER(Voucher_Date_1819),1,0))+1)),ROW(A134)),IF(ISBLANK(Voucher_Date_1819),\"\",IF(ISNUMBER(Voucher_Date_1819),COUNTIF(Voucher_Date_1819,\"<\"&Voucher_Date_1819),COUNTIF(Voucher_Date_1819,\"<\"&Voucher_Date_1819)+SUM(IF(ISNUMBER(Voucher_Date_1819),1,0))+1)),0))","v":{"$error":"#NUM!"}}]
[{"$f":"INDEX(Voucher_Date_1819,MATCH(ROWS('Bill Register 20-21'!$L$3:'Bill Register 20-21'!L136),COUNTIF(Voucher_Date_1819,\"<=\"&Voucher_Date_1819),0))","v":{"$error":"#N/A"}},{"$f":"INDEX(Voucher_Date_1819,MATCH(SMALL(IF(ISBLANK(Voucher_Date_1819),\"\",IF(ISNUMBER(Voucher_Date_1819),COUNTIF(Voucher_Date_1819,\"<\"&Voucher_Date_1819),COUNTIF(Voucher_Date_1819,\"<\"&Voucher_Date_1819)+SUM(IF(ISNUMBER(Voucher_Date_1819),1,0))+1)),ROW(A135)),IF(ISBLANK(Voucher_Date_1819),\"\",IF(ISNUMBER(Voucher_Date_1819),COUNTIF(Voucher_Date_1819,\"<\"&Voucher_Date_1819),COUNTIF(Voucher_Date_1819,\"<\"&Voucher_Date_1819)+SUM(IF(ISNUMBER(Voucher_Date_1819),1,0))+1)),0))","v":{"$error":"#NUM!"}}]
[{"$f":"INDEX(Voucher_Date_1819,MATCH(ROWS('Bill Register 20-21'!$L$3:'Bill Register 20-21'!L137),COUNTIF(Voucher_Date_1819,\"<=\"&Voucher_Date_1819),0))","v":{"$error":"#N/A"}},{"$f":"INDEX(Voucher_Date_1819,MATCH(SMALL(IF(ISBLANK(Voucher_Date_1819),\"\",IF(ISNUMBER(Voucher_Date_1819),COUNTIF(Voucher_Date_1819,\"<\"&Voucher_Date_1819),COUNTIF(Voucher_Date_1819,\"<\"&Voucher_Date_1819)+SUM(IF(ISNUMBER(Voucher_Date_1819),1,0))+1)),ROW(A136)),IF(ISBLANK(Voucher_Date_1819),\"\",IF(ISNUMBER(Voucher_Date_1819),COUNTIF(Voucher_Date_1819,\"<\"&Voucher_Date_1819),COUNTIF(Voucher_Date_1819,\"<\"&Voucher_Date_1819)+SUM(IF(ISNUMBER(Voucher_Date_1819),1,0))+1)),0))","v":{"$error":"#NUM!"}}]
[{"$f":"INDEX(Voucher_Date_1819,MATCH(ROWS('Bill Register 20-21'!$L$3:'Bill Register 20-21'!L138),COUNTIF(Voucher_Date_1819,\"<=\"&Voucher_Date_1819),0))","v":{"$error":"#N/A"}},{"$f":"INDEX(Voucher_Date_1819,MATCH(SMALL(IF(ISBLANK(Voucher_Date_1819),\"\",IF(ISNUMBER(Voucher_Date_1819),COUNTIF(Voucher_Date_1819,\"<\"&Voucher_Date_1819),COUNTIF(Voucher_Date_1819,\"<\"&Voucher_Date_1819)+SUM(IF(ISNUMBER(Voucher_Date_1819),1,0))+1)),ROW(A137)),IF(ISBLANK(Voucher_Date_1819),\"\",IF(ISNUMBER(Voucher_Date_1819),COUNTIF(Voucher_Date_1819,\"<\"&Voucher_Date_1819),COUNTIF(Voucher_Date_1819,\"<\"&Voucher_Date_1819)+SUM(IF(ISNUMBER(Voucher_Date_1819),1,0))+1)),0))","v":{"$error":"#NUM!"}}]
[{"$f":"INDEX(Voucher_Date_1819,MATCH(ROWS('Bill Register 20-21'!$L$3:'Bill Register 20-21'!L139),COUNTIF(Voucher_Date_1819,\"<=\"&Voucher_Date_1819),0))","v":{"$error":"#N/A"}},{"$f":"INDEX(Voucher_Date_1819,MATCH(SMALL(IF(ISBLANK(Voucher_Date_1819),\"\",IF(ISNUMBER(Voucher_Date_1819),COUNTIF(Voucher_Date_1819,\"<\"&Voucher_Date_1819),COUNTIF(Voucher_Date_1819,\"<\"&Voucher_Date_1819)+SUM(IF(ISNUMBER(Voucher_Date_1819),1,0))+1)),ROW(A138)),IF(ISBLANK(Voucher_Date_1819),\"\",IF(ISNUMBER(Voucher_Date_1819),COUNTIF(Voucher_Date_1819,\"<\"&Voucher_Date_1819),COUNTIF(Voucher_Date_1819,\"<\"&Voucher_Date_1819)+SUM(IF(ISNUMBER(Voucher_Date_1819),1,0))+1)),0))","v":{"$error":"#NUM!"}}]
[{"$f":"INDEX(Voucher_Date_1819,MATCH(ROWS('Bill Register 20-21'!$L$3:'Bill Register 20-21'!L140),COUNTIF(Voucher_Date_1819,\"<=\"&Voucher_Date_1819),0))","v":{"$error":"#N/A"}},{"$f":"INDEX(Voucher_Date_1819,MATCH(SMALL(IF(ISBLANK(Voucher_Date_1819),\"\",IF(ISNUMBER(Voucher_Date_1819),COUNTIF(Voucher_Date_1819,\"<\"&Voucher_Date_1819),COUNTIF(Voucher_Date_1819,\"<\"&Voucher_Date_1819)+SUM(IF(ISNUMBER(Voucher_Date_1819),1,0))+1)),ROW(A139)),IF(ISBLANK(Voucher_Date_1819),\"\",IF(ISNUMBER(Voucher_Date_1819),COUNTIF(Voucher_Date_1819,\"<\"&Voucher_Date_1819),COUNTIF(Voucher_Date_1819,\"<\"&Voucher_Date_1819)+SUM(IF(ISNUMBER(Voucher_Date_1819),1,0))+1)),0))","v":{"$error":"#NUM!"}}]
[{"$f":"INDEX(Voucher_Date_1819,MATCH(ROWS('Bill Register 20-21'!$L$3:'Bill Register 20-21'!L141),COUNTIF(Voucher_Date_1819,\"<=\"&Voucher_Date_1819),0))","v":{"$error":"#N/A"}},{"$f":"INDEX(Voucher_Date_1819,MATCH(SMALL(IF(ISBLANK(Voucher_Date_1819),\"\",IF(ISNUMBER(Voucher_Date_1819),COUNTIF(Voucher_Date_1819,\"<\"&Voucher_Date_1819),COUNTIF(Voucher_Date_1819,\"<\"&Voucher_Date_1819)+SUM(IF(ISNUMBER(Voucher_Date_1819),1,0))+1)),ROW(A140)),IF(ISBLANK(Voucher_Date_1819),\"\",IF(ISNUMBER(Voucher_Date_1819),COUNTIF(Voucher_Date_1819,\"<\"&Voucher_Date_1819),COUNTIF(Voucher_Date_1819,\"<\"&Voucher_Date_1819)+SUM(IF(ISNUMBER(Voucher_Date_1819),1,0))+1)),0))","v":{"$error":"#NUM!"}}]
[{"$f":"INDEX(Voucher_Date_1819,MATCH(ROWS('Bill Register 20-21'!$L$3:'Bill Register 20-21'!L142),COUNTIF(Voucher_Date_1819,\"<=\"&Voucher_Date_1819),0))","v":{"$error":"#N/A"}},{"$f":"INDEX(Voucher_Date_1819,MATCH(SMALL(IF(ISBLANK(Voucher_Date_1819),\"\",IF(ISNUMBER(Voucher_Date_1819),COUNTIF(Voucher_Date_1819,\"<\"&Voucher_Date_1819),COUNTIF(Voucher_Date_1819,\"<\"&Voucher_Date_1819)+SUM(IF(ISNUMBER(Voucher_Date_1819),1,0))+1)),ROW(A141)),IF(ISBLANK(Voucher_Date_1819),\"\",IF(ISNUMBER(Voucher_Date_1819),COUNTIF(Voucher_Date_1819,\"<\"&Voucher_Date_1819),COUNTIF(Voucher_Date_1819,\"<\"&Voucher_Date_1819)+SUM(IF(ISNUMBER(Voucher_Date_1819),1,0))+1)),0))","v":{"$error":"#NUM!"}}]
[{"$f":"INDEX(Voucher_Date_1819,MATCH(ROWS('Bill Register 20-21'!$L$3:'Bill Register 20-21'!L143),COUNTIF(Voucher_Date_1819,\"<=\"&Voucher_Date_1819),0))","v":{"$error":"#N/A"}},{"$f":"INDEX(Voucher_Date_1819,MATCH(SMALL(IF(ISBLANK(Voucher_Date_1819),\"\",IF(ISNUMBER(Voucher_Date_1819),COUNTIF(Voucher_Date_1819,\"<\"&Voucher_Date_1819),COUNTIF(Voucher_Date_1819,\"<\"&Voucher_Date_1819)+SUM(IF(ISNUMBER(Voucher_Date_1819),1,0))+1)),ROW(A142)),IF(ISBLANK(Voucher_Date_1819),\"\",IF(ISNUMBER(Voucher_Date_1819),COUNTIF(Voucher_Date_1819,\"<\"&Voucher_Date_1819),COUNTIF(Voucher_Date_1819,\"<\"&Voucher_Date_1819)+SUM(IF(ISNUMBER(Voucher_Date_1819),1,0))+1)),0))","v":{"$error":"#NUM!"}}]
[{"$f":"INDEX(Voucher_Date_1819,MATCH(ROWS('Bill Register 20-21'!$L$3:'Bill Register 20-21'!L144),COUNTIF(Voucher_Date_1819,\"<=\"&Voucher_Date_1819),0))","v":{"$error":"#N/A"}},{"$f":"INDEX(Voucher_Date_1819,MATCH(SMALL(IF(ISBLANK(Voucher_Date_1819),\"\",IF(ISNUMBER(Voucher_Date_1819),COUNTIF(Voucher_Date_1819,\"<\"&Voucher_Date_1819),COUNTIF(Voucher_Date_1819,\"<\"&Voucher_Date_1819)+SUM(IF(ISNUMBER(Voucher_Date_1819),1,0))+1)),ROW(A143)),IF(ISBLANK(Voucher_Date_1819),\"\",IF(ISNUMBER(Voucher_Date_1819),COUNTIF(Voucher_Date_1819,\"<\"&Voucher_Date_1819),COUNTIF(Voucher_Date_1819,\"<\"&Voucher_Date_1819)+SUM(IF(ISNUMBER(Voucher_Date_1819),1,0))+1)),0))","v":{"$error":"#NUM!"}}]
[{"$f":"INDEX(Voucher_Date_1819,MATCH(ROWS('Bill Register 20-21'!$L$3:'Bill Register 20-21'!L145),COUNTIF(Voucher_Date_1819,\"<=\"&Voucher_Date_1819),0))","v":{"$error":"#N/A"}},{"$f":"INDEX(Voucher_Date_1819,MATCH(SMALL(IF(ISBLANK(Voucher_Date_1819),\"\",IF(ISNUMBER(Voucher_Date_1819),COUNTIF(Voucher_Date_1819,\"<\"&Voucher_Date_1819),COUNTIF(Voucher_Date_1819,\"<\"&Voucher_Date_1819)+SUM(IF(ISNUMBER(Voucher_Date_1819),1,0))+1)),ROW(A144)),IF(ISBLANK(Voucher_Date_1819),\"\",IF(ISNUMBER(Voucher_Date_1819),COUNTIF(Voucher_Date_1819,\"<\"&Voucher_Date_1819),COUNTIF(Voucher_Date_1819,\"<\"&Voucher_Date_1819)+SUM(IF(ISNUMBER(Voucher_Date_1819),1,0))+1)),0))","v":{"$error":"#NUM!"}}]
[{"$f":"INDEX(Voucher_Date_1819,MATCH(ROWS('Bill Register 20-21'!$L$3:'Bill Register 20-21'!L146),COUNTIF(Voucher_Date_1819,\"<=\"&Voucher_Date_1819),0))","v":{"$error":"#N/A"}},{"$f":"INDEX(Voucher_Date_1819,MATCH(SMALL(IF(ISBLANK(Voucher_Date_1819),\"\",IF(ISNUMBER(Voucher_Date_1819),COUNTIF(Voucher_Date_1819,\"<\"&Voucher_Date_1819),COUNTIF(Voucher_Date_1819,\"<\"&Voucher_Date_1819)+SUM(IF(ISNUMBER(Voucher_Date_1819),1,0))+1)),ROW(A145)),IF(ISBLANK(Voucher_Date_1819),\"\",IF(ISNUMBER(Voucher_Date_1819),COUNTIF(Voucher_Date_1819,\"<\"&Voucher_Date_1819),COUNTIF(Voucher_Date_1819,\"<\"&Voucher_Date_1819)+SUM(IF(ISNUMBER(Voucher_Date_1819),1,0))+1)),0))","v":{"$error":"#NUM!"}}]
[{"$f":"INDEX(Voucher_Date_1819,MATCH(ROWS('Bill Register 20-21'!$L$3:'Bill Register 20-21'!L147),COUNTIF(Voucher_Date_1819,\"<=\"&Voucher_Date_1819),0))","v":{"$error":"#N/A"}},{"$f":"INDEX(Voucher_Date_1819,MATCH(SMALL(IF(ISBLANK(Voucher_Date_1819),\"\",IF(ISNUMBER(Voucher_Date_1819),COUNTIF(Voucher_Date_1819,\"<\"&Voucher_Date_1819),COUNTIF(Voucher_Date_1819,\"<\"&Voucher_Date_1819)+SUM(IF(ISNUMBER(Voucher_Date_1819),1,0))+1)),ROW(A146)),IF(ISBLANK(Voucher_Date_1819),\"\",IF(ISNUMBER(Voucher_Date_1819),COUNTIF(Voucher_Date_1819,\"<\"&Voucher_Date_1819),COUNTIF(Voucher_Date_1819,\"<\"&Voucher_Date_1819)+SUM(IF(ISNUMBER(Voucher_Date_1819),1,0))+1)),0))","v":{"$error":"#NUM!"}}]
[{"$f":"INDEX(Voucher_Date_1819,MATCH(ROWS('Bill Register 20-21'!$L$3:'Bill Register 20-21'!L148),COUNTIF(Voucher_Date_1819,\"<=\"&Voucher_Date_1819),0))","v":{"$error":"#N/A"}},{"$f":"INDEX(Voucher_Date_1819,MATCH(SMALL(IF(ISBLANK(Voucher_Date_1819),\"\",IF(ISNUMBER(Voucher_Date_1819),COUNTIF(Voucher_Date_1819,\"<\"&Voucher_Date_1819),COUNTIF(Voucher_Date_1819,\"<\"&Voucher_Date_1819)+SUM(IF(ISNUMBER(Voucher_Date_1819),1,0))+1)),ROW(A147)),IF(ISBLANK(Voucher_Date_1819),\"\",IF(ISNUMBER(Voucher_Date_1819),COUNTIF(Voucher_Date_1819,\"<\"&Voucher_Date_1819),COUNTIF(Voucher_Date_1819,\"<\"&Voucher_Date_1819)+SUM(IF(ISNUMBER(Voucher_Date_1819),1,0))+1)),0))","v":{"$error":"#NUM!"}}]
[{"$f":"INDEX(Voucher_Date_1819,MATCH(ROWS('Bill Register 20-21'!$L$3:'Bill Register 20-21'!L149),COUNTIF(Voucher_Date_1819,\"<=\"&Voucher_Date_1819),0))","v":{"$error":"#N/A"}},{"$f":"INDEX(Voucher_Date_1819,MATCH(SMALL(IF(ISBLANK(Voucher_Date_1819),\"\",IF(ISNUMBER(Voucher_Date_1819),COUNTIF(Voucher_Date_1819,\"<\"&Voucher_Date_1819),COUNTIF(Voucher_Date_1819,\"<\"&Voucher_Date_1819)+SUM(IF(ISNUMBER(Voucher_Date_1819),1,0))+1)),ROW(A148)),IF(ISBLANK(Voucher_Date_1819),\"\",IF(ISNUMBER(Voucher_Date_1819),COUNTIF(Voucher_Date_1819,\"<\"&Voucher_Date_1819),COUNTIF(Voucher_Date_1819,\"<\"&Voucher_Date_1819)+SUM(IF(ISNUMBER(Voucher_Date_1819),1,0))+1)),0))","v":{"$error":"#NUM!"}}]
[{"$f":"INDEX(Voucher_Date_1819,MATCH(ROWS('Bill Register 20-21'!$L$3:'Bill Register 20-21'!L150),COUNTIF(Voucher_Date_1819,\"<=\"&Voucher_Date_1819),0))","v":{"$error":"#N/A"}},{"$f":"INDEX(Voucher_Date_1819,MATCH(SMALL(IF(ISBLANK(Voucher_Date_1819),\"\",IF(ISNUMBER(Voucher_Date_1819),COUNTIF(Voucher_Date_1819,\"<\"&Voucher_Date_1819),COUNTIF(Voucher_Date_1819,\"<\"&Voucher_Date_1819)+SUM(IF(ISNUMBER(Voucher_Date_1819),1,0))+1)),ROW(A149)),IF(ISBLANK(Voucher_Date_1819),\"\",IF(ISNUMBER(Voucher_Date_1819),COUNTIF(Voucher_Date_1819,\"<\"&Voucher_Date_1819),COUNTIF(Voucher_Date_1819,\"<\"&Voucher_Date_1819)+SUM(IF(ISNUMBER(Voucher_Date_1819),1,0))+1)),0))","v":{"$error":"#NUM!"}}]
[{"$f":"INDEX(Voucher_Date_1819,MATCH(ROWS('Bill Register 20-21'!$L$3:'Bill Register 20-21'!L151),COUNTIF(Voucher_Date_1819,\"<=\"&Voucher_Date_1819),0))","v":{"$error":"#N/A"}},{"$f":"INDEX(Voucher_Date_1819,MATCH(SMALL(IF(ISBLANK(Voucher_Date_1819),\"\",IF(ISNUMBER(Voucher_Date_1819),COUNTIF(Voucher_Date_1819,\"<\"&Voucher_Date_1819),COUNTIF(Voucher_Date_1819,\"<\"&Voucher_Date_1819)+SUM(IF(ISNUMBER(Voucher_Date_1819),1,0))+1)),ROW(A150)),IF(ISBLANK(Voucher_Date_1819),\"\",IF(ISNUMBER(Voucher_Date_1819),COUNTIF(Voucher_Date_1819,\"<\"&Voucher_Date_1819),COUNTIF(Voucher_Date_1819,\"<\"&Voucher_Date_1819)+SUM(IF(ISNUMBER(Voucher_Date_1819),1,0))+1)),0))","v":{"$error":"#NUM!"}}]
[{"$f":"INDEX(Voucher_Date_1819,MATCH(ROWS('Bill Register 20-21'!$L$3:'Bill Register 20-21'!L152),COUNTIF(Voucher_Date_1819,\"<=\"&Voucher_Date_1819),0))","v":{"$error":"#N/A"}},{"$f":"INDEX(Voucher_Date_1819,MATCH(SMALL(IF(ISBLANK(Voucher_Date_1819),\"\",IF(ISNUMBER(Voucher_Date_1819),COUNTIF(Voucher_Date_1819,\"<\"&Voucher_Date_1819),COUNTIF(Voucher_Date_1819,\"<\"&Voucher_Date_1819)+SUM(IF(ISNUMBER(Voucher_Date_1819),1,0))+1)),ROW(A151)),IF(ISBLANK(Voucher_Date_1819),\"\",IF(ISNUMBER(Voucher_Date_1819),COUNTIF(Voucher_Date_1819,\"<\"&Voucher_Date_1819),COUNTIF(Voucher_Date_1819,\"<\"&Voucher_Date_1819)+SUM(IF(ISNUMBER(Voucher_Date_1819),1,0))+1)),0))","v":{"$error":"#NUM!"}}]
[{"$f":"INDEX(Voucher_Date_1819,MATCH(ROWS('Bill Register 20-21'!$L$3:'Bill Register 20-21'!L153),COUNTIF(Voucher_Date_1819,\"<=\"&Voucher_Date_1819),0))","v":{"$error":"#N/A"}},{"$f":"INDEX(Voucher_Date_1819,MATCH(SMALL(IF(ISBLANK(Voucher_Date_1819),\"\",IF(ISNUMBER(Voucher_Date_1819),COUNTIF(Voucher_Date_1819,\"<\"&Voucher_Date_1819),COUNTIF(Voucher_Date_1819,\"<\"&Voucher_Date_1819)+SUM(IF(ISNUMBER(Voucher_Date_1819),1,0))+1)),ROW(A152)),IF(ISBLANK(Voucher_Date_1819),\"\",IF(ISNUMBER(Voucher_Date_1819),COUNTIF(Voucher_Date_1819,\"<\"&Voucher_Date_1819),COUNTIF(Voucher_Date_1819,\"<\"&Voucher_Date_1819)+SUM(IF(ISNUMBER(Voucher_Date_1819),1,0))+1)),0))","v":{"$error":"#NUM!"}}]
[{"$f":"INDEX(Voucher_Date_1819,MATCH(ROWS('Bill Register 20-21'!$L$3:'Bill Register 20-21'!L154),COUNTIF(Voucher_Date_1819,\"<=\"&Voucher_Date_1819),0))","v":{"$error":"#N/A"}},{"$f":"INDEX(Voucher_Date_1819,MATCH(SMALL(IF(ISBLANK(Voucher_Date_1819),\"\",IF(ISNUMBER(Voucher_Date_1819),COUNTIF(Voucher_Date_1819,\"<\"&Voucher_Date_1819),COUNTIF(Voucher_Date_1819,\"<\"&Voucher_Date_1819)+SUM(IF(ISNUMBER(Voucher_Date_1819),1,0))+1)),ROW(A153)),IF(ISBLANK(Voucher_Date_1819),\"\",IF(ISNUMBER(Voucher_Date_1819),COUNTIF(Voucher_Date_1819,\"<\"&Voucher_Date_1819),COUNTIF(Voucher_Date_1819,\"<\"&Voucher_Date_1819)+SUM(IF(ISNUMBER(Voucher_Date_1819),1,0))+1)),0))","v":{"$error":"#NUM!"}}]
[{"$f":"INDEX(Voucher_Date_1819,MATCH(ROWS('Bill Register 20-21'!$L$3:'Bill Register 20-21'!L155),COUNTIF(Voucher_Date_1819,\"<=\"&Voucher_Date_1819),0))","v":{"$error":"#N/A"}},{"$f":"INDEX(Voucher_Date_1819,MATCH(SMALL(IF(ISBLANK(Voucher_Date_1819),\"\",IF(ISNUMBER(Voucher_Date_1819),COUNTIF(Voucher_Date_1819,\"<\"&Voucher_Date_1819),COUNTIF(Voucher_Date_1819,\"<\"&Voucher_Date_1819)+SUM(IF(ISNUMBER(Voucher_Date_1819),1,0))+1)),ROW(A154)),IF(ISBLANK(Voucher_Date_1819),\"\",IF(ISNUMBER(Voucher_Date_1819),COUNTIF(Voucher_Date_1819,\"<\"&Voucher_Date_1819),COUNTIF(Voucher_Date_1819,\"<\"&Voucher_Date_1819)+SUM(IF(ISNUMBER(Voucher_Date_1819),1,0))+1)),0))","v":{"$error":"#NUM!"}}]
[{"$f":"INDEX(Voucher_Date_1819,MATCH(ROWS('Bill Register 20-21'!$L$3:'Bill Register 20-21'!L156),COUNTIF(Voucher_Date_1819,\"<=\"&Voucher_Date_1819),0))","v":{"$error":"#N/A"}},{"$f":"INDEX(Voucher_Date_1819,MATCH(SMALL(IF(ISBLANK(Voucher_Date_1819),\"\",IF(ISNUMBER(Voucher_Date_1819),COUNTIF(Voucher_Date_1819,\"<\"&Voucher_Date_1819),COUNTIF(Voucher_Date_1819,\"<\"&Voucher_Date_1819)+SUM(IF(ISNUMBER(Voucher_Date_1819),1,0))+1)),ROW(A155)),IF(ISBLANK(Voucher_Date_1819),\"\",IF(ISNUMBER(Voucher_Date_1819),COUNTIF(Voucher_Date_1819,\"<\"&Voucher_Date_1819),COUNTIF(Voucher_Date_1819,\"<\"&Voucher_Date_1819)+SUM(IF(ISNUMBER(Voucher_Date_1819),1,0))+1)),0))","v":{"$error":"#NUM!"}}]
[{"$f":"INDEX(Voucher_Date_1819,MATCH(ROWS('Bill Register 20-21'!$L$3:'Bill Register 20-21'!L157),COUNTIF(Voucher_Date_1819,\"<=\"&Voucher_Date_1819),0))","v":{"$error":"#N/A"}},{"$f":"INDEX(Voucher_Date_1819,MATCH(SMALL(IF(ISBLANK(Voucher_Date_1819),\"\",IF(ISNUMBER(Voucher_Date_1819),COUNTIF(Voucher_Date_1819,\"<\"&Voucher_Date_1819),COUNTIF(Voucher_Date_1819,\"<\"&Voucher_Date_1819)+SUM(IF(ISNUMBER(Voucher_Date_1819),1,0))+1)),ROW(A156)),IF(ISBLANK(Voucher_Date_1819),\"\",IF(ISNUMBER(Voucher_Date_1819),COUNTIF(Voucher_Date_1819,\"<\"&Voucher_Date_1819),COUNTIF(Voucher_Date_1819,\"<\"&Voucher_Date_1819)+SUM(IF(ISNUMBER(Voucher_Date_1819),1,0))+1)),0))","v":{"$error":"#NUM!"}}]
[{"$f":"INDEX(Voucher_Date_1819,MATCH(ROWS('Bill Register 20-21'!$L$3:'Bill Register 20-21'!L158),COUNTIF(Voucher_Date_1819,\"<=\"&Voucher_Date_1819),0))","v":{"$error":"#N/A"}},{"$f":"INDEX(Voucher_Date_1819,MATCH(SMALL(IF(ISBLANK(Voucher_Date_1819),\"\",IF(ISNUMBER(Voucher_Date_1819),COUNTIF(Voucher_Date_1819,\"<\"&Voucher_Date_1819),COUNTIF(Voucher_Date_1819,\"<\"&Voucher_Date_1819)+SUM(IF(ISNUMBER(Voucher_Date_1819),1,0))+1)),ROW(A157)),IF(ISBLANK(Voucher_Date_1819),\"\",IF(ISNUMBER(Voucher_Date_1819),COUNTIF(Voucher_Date_1819,\"<\"&Voucher_Date_1819),COUNTIF(Voucher_Date_1819,\"<\"&Voucher_Date_1819)+SUM(IF(ISNUMBER(Voucher_Date_1819),1,0))+1)),0))","v":{"$error":"#NUM!"}}]
[{"$f":"INDEX(Voucher_Date_1819,MATCH(ROWS('Bill Register 20-21'!$L$3:'Bill Register 20-21'!L159),COUNTIF(Voucher_Date_1819,\"<=\"&Voucher_Date_1819),0))","v":{"$error":"#N/A"}},{"$f":"INDEX(Voucher_Date_1819,MATCH(SMALL(IF(ISBLANK(Voucher_Date_1819),\"\",IF(ISNUMBER(Voucher_Date_1819),COUNTIF(Voucher_Date_1819,\"<\"&Voucher_Date_1819),COUNTIF(Voucher_Date_1819,\"<\"&Voucher_Date_1819)+SUM(IF(ISNUMBER(Voucher_Date_1819),1,0))+1)),ROW(A158)),IF(ISBLANK(Voucher_Date_1819),\"\",IF(ISNUMBER(Voucher_Date_1819),COUNTIF(Voucher_Date_1819,\"<\"&Voucher_Date_1819),COUNTIF(Voucher_Date_1819,\"<\"&Voucher_Date_1819)+SUM(IF(ISNUMBER(Voucher_Date_1819),1,0))+1)),0))","v":{"$error":"#NUM!"}}]
[{"$f":"INDEX(Voucher_Date_1819,MATCH(ROWS('Bill Register 20-21'!$L$3:'Bill Register 20-21'!L160),COUNTIF(Voucher_Date_1819,\"<=\"&Voucher_Date_1819),0))","v":{"$error":"#N/A"}},{"$f":"INDEX(Voucher_Date_1819,MATCH(SMALL(IF(ISBLANK(Voucher_Date_1819),\"\",IF(ISNUMBER(Voucher_Date_1819),COUNTIF(Voucher_Date_1819,\"<\"&Voucher_Date_1819),COUNTIF(Voucher_Date_1819,\"<\"&Voucher_Date_1819)+SUM(IF(ISNUMBER(Voucher_Date_1819),1,0))+1)),ROW(A159)),IF(ISBLANK(Voucher_Date_1819),\"\",IF(ISNUMBER(Voucher_Date_1819),COUNTIF(Voucher_Date_1819,\"<\"&Voucher_Date_1819),COUNTIF(Voucher_Date_1819,\"<\"&Voucher_Date_1819)+SUM(IF(ISNUMBER(Voucher_Date_1819),1,0))+1)),0))","v":{"$error":"#NUM!"}}]
[{"$f":"INDEX(Voucher_Date_1819,MATCH(ROWS('Bill Register 20-21'!$L$3:'Bill Register 20-21'!L161),COUNTIF(Voucher_Date_1819,\"<=\"&Voucher_Date_1819),0))","v":{"$error":"#N/A"}},{"$f":"INDEX(Voucher_Date_1819,MATCH(SMALL(IF(ISBLANK(Voucher_Date_1819),\"\",IF(ISNUMBER(Voucher_Date_1819),COUNTIF(Voucher_Date_1819,\"<\"&Voucher_Date_1819),COUNTIF(Voucher_Date_1819,\"<\"&Voucher_Date_1819)+SUM(IF(ISNUMBER(Voucher_Date_1819),1,0))+1)),ROW(A160)),IF(ISBLANK(Voucher_Date_1819),\"\",IF(ISNUMBER(Voucher_Date_1819),COUNTIF(Voucher_Date_1819,\"<\"&Voucher_Date_1819),COUNTIF(Voucher_Date_1819,\"<\"&Voucher_Date_1819)+SUM(IF(ISNUMBER(Voucher_Date_1819),1,0))+1)),0))","v":{"$error":"#NUM!"}}]
[{"$f":"INDEX(Voucher_Date_1819,MATCH(ROWS('Bill Register 20-21'!$L$3:'Bill Register 20-21'!L162),COUNTIF(Voucher_Date_1819,\"<=\"&Voucher_Date_1819),0))","v":{"$error":"#N/A"}},{"$f":"INDEX(Voucher_Date_1819,MATCH(SMALL(IF(ISBLANK(Voucher_Date_1819),\"\",IF(ISNUMBER(Voucher_Date_1819),COUNTIF(Voucher_Date_1819,\"<\"&Voucher_Date_1819),COUNTIF(Voucher_Date_1819,\"<\"&Voucher_Date_1819)+SUM(IF(ISNUMBER(Voucher_Date_1819),1,0))+1)),ROW(A161)),IF(ISBLANK(Voucher_Date_1819),\"\",IF(ISNUMBER(Voucher_Date_1819),COUNTIF(Voucher_Date_1819,\"<\"&Voucher_Date_1819),COUNTIF(Voucher_Date_1819,\"<\"&Voucher_Date_1819)+SUM(IF(ISNUMBER(Voucher_Date_1819),1,0))+1)),0))","v":{"$error":"#NUM!"}}]
[{"$f":"INDEX(Voucher_Date_1819,MATCH(ROWS('Bill Register 20-21'!$L$3:'Bill Register 20-21'!L163),COUNTIF(Voucher_Date_1819,\"<=\"&Voucher_Date_1819),0))","v":{"$error":"#N/A"}},{"$f":"INDEX(Voucher_Date_1819,MATCH(SMALL(IF(ISBLANK(Voucher_Date_1819),\"\",IF(ISNUMBER(Voucher_Date_1819),COUNTIF(Voucher_Date_1819,\"<\"&Voucher_Date_1819),COUNTIF(Voucher_Date_1819,\"<\"&Voucher_Date_1819)+SUM(IF(ISNUMBER(Voucher_Date_1819),1,0))+1)),ROW(A162)),IF(ISBLANK(Voucher_Date_1819),\"\",IF(ISNUMBER(Voucher_Date_1819),COUNTIF(Voucher_Date_1819,\"<\"&Voucher_Date_1819),COUNTIF(Voucher_Date_1819,\"<\"&Voucher_Date_1819)+SUM(IF(ISNUMBER(Voucher_Date_1819),1,0))+1)),0))","v":{"$error":"#NUM!"}}]
[{"$f":"INDEX(Voucher_Date_1819,MATCH(ROWS('Bill Register 20-21'!$L$3:'Bill Register 20-21'!L164),COUNTIF(Voucher_Date_1819,\"<=\"&Voucher_Date_1819),0))","v":{"$error":"#N/A"}},{"$f":"INDEX(Voucher_Date_1819,MATCH(SMALL(IF(ISBLANK(Voucher_Date_1819),\"\",IF(ISNUMBER(Voucher_Date_1819),COUNTIF(Voucher_Date_1819,\"<\"&Voucher_Date_1819),COUNTIF(Voucher_Date_1819,\"<\"&Voucher_Date_1819)+SUM(IF(ISNUMBER(Voucher_Date_1819),1,0))+1)),ROW(A163)),IF(ISBLANK(Voucher_Date_1819),\"\",IF(ISNUMBER(Voucher_Date_1819),COUNTIF(Voucher_Date_1819,\"<\"&Voucher_Date_1819),COUNTIF(Voucher_Date_1819,\"<\"&Voucher_Date_1819)+SUM(IF(ISNUMBER(Voucher_Date_1819),1,0))+1)),0))","v":{"$error":"#NUM!"}}]
[{"$f":"INDEX(Voucher_Date_1819,MATCH(ROWS('Bill Register 20-21'!$L$3:'Bill Register 20-21'!L165),COUNTIF(Voucher_Date_1819,\"<=\"&Voucher_Date_1819),0))","v":{"$error":"#N/A"}},{"$f":"INDEX(Voucher_Date_1819,MATCH(SMALL(IF(ISBLANK(Voucher_Date_1819),\"\",IF(ISNUMBER(Voucher_Date_1819),COUNTIF(Voucher_Date_1819,\"<\"&Voucher_Date_1819),COUNTIF(Voucher_Date_1819,\"<\"&Voucher_Date_1819)+SUM(IF(ISNUMBER(Voucher_Date_1819),1,0))+1)),ROW(A164)),IF(ISBLANK(Voucher_Date_1819),\"\",IF(ISNUMBER(Voucher_Date_1819),COUNTIF(Voucher_Date_1819,\"<\"&Voucher_Date_1819),COUNTIF(Voucher_Date_1819,\"<\"&Voucher_Date_1819)+SUM(IF(ISNUMBER(Voucher_Date_1819),1,0))+1)),0))","v":{"$error":"#NUM!"}}]
[{"$f":"INDEX(Voucher_Date_1819,MATCH(ROWS('Bill Register 20-21'!$L$3:'Bill Register 20-21'!L166),COUNTIF(Voucher_Date_1819,\"<=\"&Voucher_Date_1819),0))","v":{"$error":"#N/A"}},{"$f":"INDEX(Voucher_Date_1819,MATCH(SMALL(IF(ISBLANK(Voucher_Date_1819),\"\",IF(ISNUMBER(Voucher_Date_1819),COUNTIF(Voucher_Date_1819,\"<\"&Voucher_Date_1819),COUNTIF(Voucher_Date_1819,\"<\"&Voucher_Date_1819)+SUM(IF(ISNUMBER(Voucher_Date_1819),1,0))+1)),ROW(A165)),IF(ISBLANK(Voucher_Date_1819),\"\",IF(ISNUMBER(Voucher_Date_1819),COUNTIF(Voucher_Date_1819,\"<\"&Voucher_Date_1819),COUNTIF(Voucher_Date_1819,\"<\"&Voucher_Date_1819)+SUM(IF(ISNUMBER(Voucher_Date_1819),1,0))+1)),0))","v":{"$error":"#NUM!"}}]
[{"$f":"INDEX(Voucher_Date_1819,MATCH(ROWS('Bill Register 20-21'!$L$3:'Bill Register 20-21'!L167),COUNTIF(Voucher_Date_1819,\"<=\"&Voucher_Date_1819),0))","v":{"$error":"#N/A"}},{"$f":"INDEX(Voucher_Date_1819,MATCH(SMALL(IF(ISBLANK(Voucher_Date_1819),\"\",IF(ISNUMBER(Voucher_Date_1819),COUNTIF(Voucher_Date_1819,\"<\"&Voucher_Date_1819),COUNTIF(Voucher_Date_1819,\"<\"&Voucher_Date_1819)+SUM(IF(ISNUMBER(Voucher_Date_1819),1,0))+1)),ROW(A166)),IF(ISBLANK(Voucher_Date_1819),\"\",IF(ISNUMBER(Voucher_Date_1819),COUNTIF(Voucher_Date_1819,\"<\"&Voucher_Date_1819),COUNTIF(Voucher_Date_1819,\"<\"&Voucher_Date_1819)+SUM(IF(ISNUMBER(Voucher_Date_1819),1,0))+1)),0))","v":{"$error":"#NUM!"}}]
[{"$f":"INDEX(Voucher_Date_1819,MATCH(ROWS('Bill Register 20-21'!$L$3:'Bill Register 20-21'!L168),COUNTIF(Voucher_Date_1819,\"<=\"&Voucher_Date_1819),0))","v":{"$error":"#N/A"}},{"$f":"INDEX(Voucher_Date_1819,MATCH(SMALL(IF(ISBLANK(Voucher_Date_1819),\"\",IF(ISNUMBER(Voucher_Date_1819),COUNTIF(Voucher_Date_1819,\"<\"&Voucher_Date_1819),COUNTIF(Voucher_Date_1819,\"<\"&Voucher_Date_1819)+SUM(IF(ISNUMBER(Voucher_Date_1819),1,0))+1)),ROW(A167)),IF(ISBLANK(Voucher_Date_1819),\"\",IF(ISNUMBER(Voucher_Date_1819),COUNTIF(Voucher_Date_1819,\"<\"&Voucher_Date_1819),COUNTIF(Voucher_Date_1819,\"<\"&Voucher_Date_1819)+SUM(IF(ISNUMBER(Voucher_Date_1819),1,0))+1)),0))","v":{"$error":"#NUM!"}}]
[{"$f":"INDEX(Voucher_Date_1819,MATCH(ROWS('Bill Register 20-21'!$L$3:'Bill Register 20-21'!L169),COUNTIF(Voucher_Date_1819,\"<=\"&Voucher_Date_1819),0))","v":{"$error":"#N/A"}},{"$f":"INDEX(Voucher_Date_1819,MATCH(SMALL(IF(ISBLANK(Voucher_Date_1819),\"\",IF(ISNUMBER(Voucher_Date_1819),COUNTIF(Voucher_Date_1819,\"<\"&Voucher_Date_1819),COUNTIF(Voucher_Date_1819,\"<\"&Voucher_Date_1819)+SUM(IF(ISNUMBER(Voucher_Date_1819),1,0))+1)),ROW(A168)),IF(ISBLANK(Voucher_Date_1819),\"\",IF(ISNUMBER(Voucher_Date_1819),COUNTIF(Voucher_Date_1819,\"<\"&Voucher_Date_1819),COUNTIF(Voucher_Date_1819,\"<\"&Voucher_Date_1819)+SUM(IF(ISNUMBER(Voucher_Date_1819),1,0))+1)),0))","v":{"$error":"#NUM!"}}]
[{"$f":"INDEX(Voucher_Date_1819,MATCH(ROWS('Bill Register 20-21'!$L$3:'Bill Register 20-21'!L170),COUNTIF(Voucher_Date_1819,\"<=\"&Voucher_Date_1819),0))","v":{"$error":"#N/A"}},{"$f":"INDEX(Voucher_Date_1819,MATCH(SMALL(IF(ISBLANK(Voucher_Date_1819),\"\",IF(ISNUMBER(Voucher_Date_1819),COUNTIF(Voucher_Date_1819,\"<\"&Voucher_Date_1819),COUNTIF(Voucher_Date_1819,\"<\"&Voucher_Date_1819)+SUM(IF(ISNUMBER(Voucher_Date_1819),1,0))+1)),ROW(A169)),IF(ISBLANK(Voucher_Date_1819),\"\",IF(ISNUMBER(Voucher_Date_1819),COUNTIF(Voucher_Date_1819,\"<\"&Voucher_Date_1819),COUNTIF(Voucher_Date_1819,\"<\"&Voucher_Date_1819)+SUM(IF(ISNUMBER(Voucher_Date_1819),1,0))+1)),0))","v":{"$error":"#NUM!"}}]
[{"$f":"INDEX(Voucher_Date_1819,MATCH(ROWS('Bill Register 20-21'!$L$3:'Bill Register 20-21'!L171),COUNTIF(Voucher_Date_1819,\"<=\"&Voucher_Date_1819),0))","v":{"$error":"#N/A"}},{"$f":"INDEX(Voucher_Date_1819,MATCH(SMALL(IF(ISBLANK(Voucher_Date_1819),\"\",IF(ISNUMBER(Voucher_Date_1819),COUNTIF(Voucher_Date_1819,\"<\"&Voucher_Date_1819),COUNTIF(Voucher_Date_1819,\"<\"&Voucher_Date_1819)+SUM(IF(ISNUMBER(Voucher_Date_1819),1,0))+1)),ROW(A170)),IF(ISBLANK(Voucher_Date_1819),\"\",IF(ISNUMBER(Voucher_Date_1819),COUNTIF(Voucher_Date_1819,\"<\"&Voucher_Date_1819),COUNTIF(Voucher_Date_1819,\"<\"&Voucher_Date_1819)+SUM(IF(ISNUMBER(Voucher_Date_1819),1,0))+1)),0))","v":{"$error":"#NUM!"}}]
[{"$f":"INDEX(Voucher_Date_1819,MATCH(ROWS('Bill Register 20-21'!$L$3:'Bill Register 20-21'!L172),COUNTIF(Voucher_Date_1819,\"<=\"&Voucher_Date_1819),0))","v":{"$error":"#N/A"}},{"$f":"INDEX(Voucher_Date_1819,MATCH(SMALL(IF(ISBLANK(Voucher_Date_1819),\"\",IF(ISNUMBER(Voucher_Date_1819),COUNTIF(Voucher_Date_1819,\"<\"&Voucher_Date_1819),COUNTIF(Voucher_Date_1819,\"<\"&Voucher_Date_1819)+SUM(IF(ISNUMBER(Voucher_Date_1819),1,0))+1)),ROW(A171)),IF(ISBLANK(Voucher_Date_1819),\"\",IF(ISNUMBER(Voucher_Date_1819),COUNTIF(Voucher_Date_1819,\"<\"&Voucher_Date_1819),COUNTIF(Voucher_Date_1819,\"<\"&Voucher_Date_1819)+SUM(IF(ISNUMBER(Voucher_Date_1819),1,0))+1)),0))","v":{"$error":"#NUM!"}}]
[{"$f":"INDEX(Voucher_Date_1819,MATCH(ROWS('Bill Register 20-21'!$L$3:'Bill Register 20-21'!L173),COUNTIF(Voucher_Date_1819,\"<=\"&Voucher_Date_1819),0))","v":{"$error":"#N/A"}},{"$f":"INDEX(Voucher_Date_1819,MATCH(SMALL(IF(ISBLANK(Voucher_Date_1819),\"\",IF(ISNUMBER(Voucher_Date_1819),COUNTIF(Voucher_Date_1819,\"<\"&Voucher_Date_1819),COUNTIF(Voucher_Date_1819,\"<\"&Voucher_Date_1819)+SUM(IF(ISNUMBER(Voucher_Date_1819),1,0))+1)),ROW(A172)),IF(ISBLANK(Voucher_Date_1819),\"\",IF(ISNUMBER(Voucher_Date_1819),COUNTIF(Voucher_Date_1819,\"<\"&Voucher_Date_1819),COUNTIF(Voucher_Date_1819,\"<\"&Voucher_Date_1819)+SUM(IF(ISNUMBER(Voucher_Date_1819),1,0))+1)),0))","v":{"$error":"#NUM!"}}]
[{"$f":"INDEX(Voucher_Date_1819,MATCH(ROWS('Bill Register 20-21'!$L$3:'Bill Register 20-21'!L174),COUNTIF(Voucher_Date_1819,\"<=\"&Voucher_Date_1819),0))","v":{"$error":"#N/A"}},{"$f":"INDEX(Voucher_Date_1819,MATCH(SMALL(IF(ISBLANK(Voucher_Date_1819),\"\",IF(ISNUMBER(Voucher_Date_1819),COUNTIF(Voucher_Date_1819,\"<\"&Voucher_Date_1819),COUNTIF(Voucher_Date_1819,\"<\"&Voucher_Date_1819)+SUM(IF(ISNUMBER(Voucher_Date_1819),1,0))+1)),ROW(A173)),IF(ISBLANK(Voucher_Date_1819),\"\",IF(ISNUMBER(Voucher_Date_1819),COUNTIF(Voucher_Date_1819,\"<\"&Voucher_Date_1819),COUNTIF(Voucher_Date_1819,\"<\"&Voucher_Date_1819)+SUM(IF(ISNUMBER(Voucher_Date_1819),1,0))+1)),0))","v":{"$error":"#NUM!"}}]
[{"$f":"INDEX(Voucher_Date_1819,MATCH(ROWS('Bill Register 20-21'!$L$3:'Bill Register 20-21'!L175),COUNTIF(Voucher_Date_1819,\"<=\"&Voucher_Date_1819),0))","v":{"$error":"#N/A"}},{"$f":"INDEX(Voucher_Date_1819,MATCH(SMALL(IF(ISBLANK(Voucher_Date_1819),\"\",IF(ISNUMBER(Voucher_Date_1819),COUNTIF(Voucher_Date_1819,\"<\"&Voucher_Date_1819),COUNTIF(Voucher_Date_1819,\"<\"&Voucher_Date_1819)+SUM(IF(ISNUMBER(Voucher_Date_1819),1,0))+1)),ROW(A174)),IF(ISBLANK(Voucher_Date_1819),\"\",IF(ISNUMBER(Voucher_Date_1819),COUNTIF(Voucher_Date_1819,\"<\"&Voucher_Date_1819),COUNTIF(Voucher_Date_1819,\"<\"&Voucher_Date_1819)+SUM(IF(ISNUMBER(Voucher_Date_1819),1,0))+1)),0))","v":{"$error":"#NUM!"}}]
[{"$f":"INDEX(Voucher_Date_1819,MATCH(ROWS('Bill Register 20-21'!$L$3:'Bill Register 20-21'!L176),COUNTIF(Voucher_Date_1819,\"<=\"&Voucher_Date_1819),0))","v":{"$error":"#N/A"}},{"$f":"INDEX(Voucher_Date_1819,MATCH(SMALL(IF(ISBLANK(Voucher_Date_1819),\"\",IF(ISNUMBER(Voucher_Date_1819),COUNTIF(Voucher_Date_1819,\"<\"&Voucher_Date_1819),COUNTIF(Voucher_Date_1819,\"<\"&Voucher_Date_1819)+SUM(IF(ISNUMBER(Voucher_Date_1819),1,0))+1)),ROW(A175)),IF(ISBLANK(Voucher_Date_1819),\"\",IF(ISNUMBER(Voucher_Date_1819),COUNTIF(Voucher_Date_1819,\"<\"&Voucher_Date_1819),COUNTIF(Voucher_Date_1819,\"<\"&Voucher_Date_1819)+SUM(IF(ISNUMBER(Voucher_Date_1819),1,0))+1)),0))","v":{"$error":"#NUM!"}}]
[{"$f":"INDEX(Voucher_Date_1819,MATCH(ROWS('Bill Register 20-21'!$L$3:'Bill Register 20-21'!L177),COUNTIF(Voucher_Date_1819,\"<=\"&Voucher_Date_1819),0))","v":{"$error":"#N/A"}},{"$f":"INDEX(Voucher_Date_1819,MATCH(SMALL(IF(ISBLANK(Voucher_Date_1819),\"\",IF(ISNUMBER(Voucher_Date_1819),COUNTIF(Voucher_Date_1819,\"<\"&Voucher_Date_1819),COUNTIF(Voucher_Date_1819,\"<\"&Voucher_Date_1819)+SUM(IF(ISNUMBER(Voucher_Date_1819),1,0))+1)),ROW(A176)),IF(ISBLANK(Voucher_Date_1819),\"\",IF(ISNUMBER(Voucher_Date_1819),COUNTIF(Voucher_Date_1819,\"<\"&Voucher_Date_1819),COUNTIF(Voucher_Date_1819,\"<\"&Voucher_Date_1819)+SUM(IF(ISNUMBER(Voucher_Date_1819),1,0))+1)),0))","v":{"$error":"#NUM!"}}]
[{"$f":"INDEX(Voucher_Date_1819,MATCH(ROWS('Bill Register 20-21'!$L$3:'Bill Register 20-21'!L178),COUNTIF(Voucher_Date_1819,\"<=\"&Voucher_Date_1819),0))","v":{"$error":"#N/A"}},{"$f":"INDEX(Voucher_Date_1819,MATCH(SMALL(IF(ISBLANK(Voucher_Date_1819),\"\",IF(ISNUMBER(Voucher_Date_1819),COUNTIF(Voucher_Date_1819,\"<\"&Voucher_Date_1819),COUNTIF(Voucher_Date_1819,\"<\"&Voucher_Date_1819)+SUM(IF(ISNUMBER(Voucher_Date_1819),1,0))+1)),ROW(A177)),IF(ISBLANK(Voucher_Date_1819),\"\",IF(ISNUMBER(Voucher_Date_1819),COUNTIF(Voucher_Date_1819,\"<\"&Voucher_Date_1819),COUNTIF(Voucher_Date_1819,\"<\"&Voucher_Date_1819)+SUM(IF(ISNUMBER(Voucher_Date_1819),1,0))+1)),0))","v":{"$error":"#NUM!"}}]
[{"$f":"INDEX(Voucher_Date_1819,MATCH(ROWS('Bill Register 20-21'!$L$3:'Bill Register 20-21'!L179),COUNTIF(Voucher_Date_1819,\"<=\"&Voucher_Date_1819),0))","v":{"$error":"#N/A"}},{"$f":"INDEX(Voucher_Date_1819,MATCH(SMALL(IF(ISBLANK(Voucher_Date_1819),\"\",IF(ISNUMBER(Voucher_Date_1819),COUNTIF(Voucher_Date_1819,\"<\"&Voucher_Date_1819),COUNTIF(Voucher_Date_1819,\"<\"&Voucher_Date_1819)+SUM(IF(ISNUMBER(Voucher_Date_1819),1,0))+1)),ROW(A178)),IF(ISBLANK(Voucher_Date_1819),\"\",IF(ISNUMBER(Voucher_Date_1819),COUNTIF(Voucher_Date_1819,\"<\"&Voucher_Date_1819),COUNTIF(Voucher_Date_1819,\"<\"&Voucher_Date_1819)+SUM(IF(ISNUMBER(Voucher_Date_1819),1,0))+1)),0))","v":{"$error":"#NUM!"}}]
[{"$f":"INDEX(Voucher_Date_1819,MATCH(ROWS('Bill Register 20-21'!$L$3:'Bill Register 20-21'!L180),COUNTIF(Voucher_Date_1819,\"<=\"&Voucher_Date_1819),0))","v":{"$error":"#N/A"}},{"$f":"INDEX(Voucher_Date_1819,MATCH(SMALL(IF(ISBLANK(Voucher_Date_1819),\"\",IF(ISNUMBER(Voucher_Date_1819),COUNTIF(Voucher_Date_1819,\"<\"&Voucher_Date_1819),COUNTIF(Voucher_Date_1819,\"<\"&Voucher_Date_1819)+SUM(IF(ISNUMBER(Voucher_Date_1819),1,0))+1)),ROW(A179)),IF(ISBLANK(Voucher_Date_1819),\"\",IF(ISNUMBER(Voucher_Date_1819),COUNTIF(Voucher_Date_1819,\"<\"&Voucher_Date_1819),COUNTIF(Voucher_Date_1819,\"<\"&Voucher_Date_1819)+SUM(IF(ISNUMBER(Voucher_Date_1819),1,0))+1)),0))","v":{"$error":"#NUM!"}}]
[{"$f":"INDEX(Voucher_Date_1819,MATCH(ROWS('Bill Register 20-21'!$L$3:'Bill Register 20-21'!L181),COUNTIF(Voucher_Date_1819,\"<=\"&Voucher_Date_1819),0))","v":{"$error":"#N/A"}},{"$f":"INDEX(Voucher_Date_1819,MATCH(SMALL(IF(ISBLANK(Voucher_Date_1819),\"\",IF(ISNUMBER(Voucher_Date_1819),COUNTIF(Voucher_Date_1819,\"<\"&Voucher_Date_1819),COUNTIF(Voucher_Date_1819,\"<\"&Voucher_Date_1819)+SUM(IF(ISNUMBER(Voucher_Date_1819),1,0))+1)),ROW(A180)),IF(ISBLANK(Voucher_Date_1819),\"\",IF(ISNUMBER(Voucher_Date_1819),COUNTIF(Voucher_Date_1819,\"<\"&Voucher_Date_1819),COUNTIF(Voucher_Date_1819,\"<\"&Voucher_Date_1819)+SUM(IF(ISNUMBER(Voucher_Date_1819),1,0))+1)),0))","v":{"$error":"#NUM!"}}]
[{"$f":"INDEX(Voucher_Date_1819,MATCH(ROWS('Bill Register 20-21'!$L$3:'Bill Register 20-21'!L182),COUNTIF(Voucher_Date_1819,\"<=\"&Voucher_Date_1819),0))","v":{"$error":"#N/A"}},{"$f":"INDEX(Voucher_Date_1819,MATCH(SMALL(IF(ISBLANK(Voucher_Date_1819),\"\",IF(ISNUMBER(Voucher_Date_1819),COUNTIF(Voucher_Date_1819,\"<\"&Voucher_Date_1819),COUNTIF(Voucher_Date_1819,\"<\"&Voucher_Date_1819)+SUM(IF(ISNUMBER(Voucher_Date_1819),1,0))+1)),ROW(A181)),IF(ISBLANK(Voucher_Date_1819),\"\",IF(ISNUMBER(Voucher_Date_1819),COUNTIF(Voucher_Date_1819,\"<\"&Voucher_Date_1819),COUNTIF(Voucher_Date_1819,\"<\"&Voucher_Date_1819)+SUM(IF(ISNUMBER(Voucher_Date_1819),1,0))+1)),0))","v":{"$error":"#NUM!"}}]
[{"$f":"INDEX(Voucher_Date_1819,MATCH(ROWS('Bill Register 20-21'!$L$3:'Bill Register 20-21'!L183),COUNTIF(Voucher_Date_1819,\"<=\"&Voucher_Date_1819),0))","v":{"$error":"#N/A"}},{"$f":"INDEX(Voucher_Date_1819,MATCH(SMALL(IF(ISBLANK(Voucher_Date_1819),\"\",IF(ISNUMBER(Voucher_Date_1819),COUNTIF(Voucher_Date_1819,\"<\"&Voucher_Date_1819),COUNTIF(Voucher_Date_1819,\"<\"&Voucher_Date_1819)+SUM(IF(ISNUMBER(Voucher_Date_1819),1,0))+1)),ROW(A182)),IF(ISBLANK(Voucher_Date_1819),\"\",IF(ISNUMBER(Voucher_Date_1819),COUNTIF(Voucher_Date_1819,\"<\"&Voucher_Date_1819),COUNTIF(Voucher_Date_1819,\"<\"&Voucher_Date_1819)+SUM(IF(ISNUMBER(Voucher_Date_1819),1,0))+1)),0))","v":{"$error":"#NUM!"}}]
[{"$f":"INDEX(Voucher_Date_1819,MATCH(ROWS('Bill Register 20-21'!$L$3:'Bill Register 20-21'!L184),COUNTIF(Voucher_Date_1819,\"<=\"&Voucher_Date_1819),0))","v":{"$error":"#N/A"}},{"$f":"INDEX(Voucher_Date_1819,MATCH(SMALL(IF(ISBLANK(Voucher_Date_1819),\"\",IF(ISNUMBER(Voucher_Date_1819),COUNTIF(Voucher_Date_1819,\"<\"&Voucher_Date_1819),COUNTIF(Voucher_Date_1819,\"<\"&Voucher_Date_1819)+SUM(IF(ISNUMBER(Voucher_Date_1819),1,0))+1)),ROW(A183)),IF(ISBLANK(Voucher_Date_1819),\"\",IF(ISNUMBER(Voucher_Date_1819),COUNTIF(Voucher_Date_1819,\"<\"&Voucher_Date_1819),COUNTIF(Voucher_Date_1819,\"<\"&Voucher_Date_1819)+SUM(IF(ISNUMBER(Voucher_Date_1819),1,0))+1)),0))","v":{"$error":"#NUM!"}}]
[{"$f":"INDEX(Voucher_Date_1819,MATCH(ROWS('Bill Register 20-21'!$L$3:'Bill Register 20-21'!L185),COUNTIF(Voucher_Date_1819,\"<=\"&Voucher_Date_1819),0))","v":{"$error":"#N/A"}},{"$f":"INDEX(Voucher_Date_1819,MATCH(SMALL(IF(ISBLANK(Voucher_Date_1819),\"\",IF(ISNUMBER(Voucher_Date_1819),COUNTIF(Voucher_Date_1819,\"<\"&Voucher_Date_1819),COUNTIF(Voucher_Date_1819,\"<\"&Voucher_Date_1819)+SUM(IF(ISNUMBER(Voucher_Date_1819),1,0))+1)),ROW(A184)),IF(ISBLANK(Voucher_Date_1819),\"\",IF(ISNUMBER(Voucher_Date_1819),COUNTIF(Voucher_Date_1819,\"<\"&Voucher_Date_1819),COUNTIF(Voucher_Date_1819,\"<\"&Voucher_Date_1819)+SUM(IF(ISNUMBER(Voucher_Date_1819),1,0))+1)),0))","v":{"$error":"#NUM!"}}]
[{"$f":"INDEX(Voucher_Date_1819,MATCH(ROWS('Bill Register 20-21'!$L$3:'Bill Register 20-21'!L186),COUNTIF(Voucher_Date_1819,\"<=\"&Voucher_Date_1819),0))","v":{"$error":"#N/A"}},{"$f":"INDEX(Voucher_Date_1819,MATCH(SMALL(IF(ISBLANK(Voucher_Date_1819),\"\",IF(ISNUMBER(Voucher_Date_1819),COUNTIF(Voucher_Date_1819,\"<\"&Voucher_Date_1819),COUNTIF(Voucher_Date_1819,\"<\"&Voucher_Date_1819)+SUM(IF(ISNUMBER(Voucher_Date_1819),1,0))+1)),ROW(A185)),IF(ISBLANK(Voucher_Date_1819),\"\",IF(ISNUMBER(Voucher_Date_1819),COUNTIF(Voucher_Date_1819,\"<\"&Voucher_Date_1819),COUNTIF(Voucher_Date_1819,\"<\"&Voucher_Date_1819)+SUM(IF(ISNUMBER(Voucher_Date_1819),1,0))+1)),0))","v":{"$error":"#NUM!"}}]
[{"$f":"INDEX(Voucher_Date_1819,MATCH(ROWS('Bill Register 20-21'!$L$3:'Bill Register 20-21'!L187),COUNTIF(Voucher_Date_1819,\"<=\"&Voucher_Date_1819),0))","v":{"$error":"#N/A"}},{"$f":"INDEX(Voucher_Date_1819,MATCH(SMALL(IF(ISBLANK(Voucher_Date_1819),\"\",IF(ISNUMBER(Voucher_Date_1819),COUNTIF(Voucher_Date_1819,\"<\"&Voucher_Date_1819),COUNTIF(Voucher_Date_1819,\"<\"&Voucher_Date_1819)+SUM(IF(ISNUMBER(Voucher_Date_1819),1,0))+1)),ROW(A186)),IF(ISBLANK(Voucher_Date_1819),\"\",IF(ISNUMBER(Voucher_Date_1819),COUNTIF(Voucher_Date_1819,\"<\"&Voucher_Date_1819),COUNTIF(Voucher_Date_1819,\"<\"&Voucher_Date_1819)+SUM(IF(ISNUMBER(Voucher_Date_1819),1,0))+1)),0))","v":{"$error":"#NUM!"}}]
[{"$f":"INDEX(Voucher_Date_1819,MATCH(ROWS('Bill Register 20-21'!$L$3:'Bill Register 20-21'!L188),COUNTIF(Voucher_Date_1819,\"<=\"&Voucher_Date_1819),0))","v":{"$error":"#N/A"}},{"$f":"INDEX(Voucher_Date_1819,MATCH(SMALL(IF(ISBLANK(Voucher_Date_1819),\"\",IF(ISNUMBER(Voucher_Date_1819),COUNTIF(Voucher_Date_1819,\"<\"&Voucher_Date_1819),COUNTIF(Voucher_Date_1819,\"<\"&Voucher_Date_1819)+SUM(IF(ISNUMBER(Voucher_Date_1819),1,0))+1)),ROW(A187)),IF(ISBLANK(Voucher_Date_1819),\"\",IF(ISNUMBER(Voucher_Date_1819),COUNTIF(Voucher_Date_1819,\"<\"&Voucher_Date_1819),COUNTIF(Voucher_Date_1819,\"<\"&Voucher_Date_1819)+SUM(IF(ISNUMBER(Voucher_Date_1819),1,0))+1)),0))","v":{"$error":"#NUM!"}}]
[{"$f":"INDEX(Voucher_Date_1819,MATCH(ROWS('Bill Register 20-21'!$L$3:'Bill Register 20-21'!L189),COUNTIF(Voucher_Date_1819,\"<=\"&Voucher_Date_1819),0))","v":{"$error":"#N/A"}},{"$f":"INDEX(Voucher_Date_1819,MATCH(SMALL(IF(ISBLANK(Voucher_Date_1819),\"\",IF(ISNUMBER(Voucher_Date_1819),COUNTIF(Voucher_Date_1819,\"<\"&Voucher_Date_1819),COUNTIF(Voucher_Date_1819,\"<\"&Voucher_Date_1819)+SUM(IF(ISNUMBER(Voucher_Date_1819),1,0))+1)),ROW(A188)),IF(ISBLANK(Voucher_Date_1819),\"\",IF(ISNUMBER(Voucher_Date_1819),COUNTIF(Voucher_Date_1819,\"<\"&Voucher_Date_1819),COUNTIF(Voucher_Date_1819,\"<\"&Voucher_Date_1819)+SUM(IF(ISNUMBER(Voucher_Date_1819),1,0))+1)),0))","v":{"$error":"#NUM!"}}]
[{"$f":"INDEX(Voucher_Date_1819,MATCH(ROWS('Bill Register 20-21'!$L$3:'Bill Register 20-21'!L190),COUNTIF(Voucher_Date_1819,\"<=\"&Voucher_Date_1819),0))","v":{"$error":"#N/A"}},{"$f":"INDEX(Voucher_Date_1819,MATCH(SMALL(IF(ISBLANK(Voucher_Date_1819),\"\",IF(ISNUMBER(Voucher_Date_1819),COUNTIF(Voucher_Date_1819,\"<\"&Voucher_Date_1819),COUNTIF(Voucher_Date_1819,\"<\"&Voucher_Date_1819)+SUM(IF(ISNUMBER(Voucher_Date_1819),1,0))+1)),ROW(A189)),IF(ISBLANK(Voucher_Date_1819),\"\",IF(ISNUMBER(Voucher_Date_1819),COUNTIF(Voucher_Date_1819,\"<\"&Voucher_Date_1819),COUNTIF(Voucher_Date_1819,\"<\"&Voucher_Date_1819)+SUM(IF(ISNUMBER(Voucher_Date_1819),1,0))+1)),0))","v":{"$error":"#NUM!"}}]
[{"$f":"INDEX(Voucher_Date_1819,MATCH(ROWS('Bill Register 20-21'!$L$3:'Bill Register 20-21'!L191),COUNTIF(Voucher_Date_1819,\"<=\"&Voucher_Date_1819),0))","v":{"$error":"#N/A"}},{"$f":"INDEX(Voucher_Date_1819,MATCH(SMALL(IF(ISBLANK(Voucher_Date_1819),\"\",IF(ISNUMBER(Voucher_Date_1819),COUNTIF(Voucher_Date_1819,\"<\"&Voucher_Date_1819),COUNTIF(Voucher_Date_1819,\"<\"&Voucher_Date_1819)+SUM(IF(ISNUMBER(Voucher_Date_1819),1,0))+1)),ROW(A190)),IF(ISBLANK(Voucher_Date_1819),\"\",IF(ISNUMBER(Voucher_Date_1819),COUNTIF(Voucher_Date_1819,\"<\"&Voucher_Date_1819),COUNTIF(Voucher_Date_1819,\"<\"&Voucher_Date_1819)+SUM(IF(ISNUMBER(Voucher_Date_1819),1,0))+1)),0))","v":{"$error":"#NUM!"}}]
[{"$f":"INDEX(Voucher_Date_1819,MATCH(ROWS('Bill Register 20-21'!$L$3:'Bill Register 20-21'!L192),COUNTIF(Voucher_Date_1819,\"<=\"&Voucher_Date_1819),0))","v":{"$error":"#N/A"}},{"$f":"INDEX(Voucher_Date_1819,MATCH(SMALL(IF(ISBLANK(Voucher_Date_1819),\"\",IF(ISNUMBER(Voucher_Date_1819),COUNTIF(Voucher_Date_1819,\"<\"&Voucher_Date_1819),COUNTIF(Voucher_Date_1819,\"<\"&Voucher_Date_1819)+SUM(IF(ISNUMBER(Voucher_Date_1819),1,0))+1)),ROW(A191)),IF(ISBLANK(Voucher_Date_1819),\"\",IF(ISNUMBER(Voucher_Date_1819),COUNTIF(Voucher_Date_1819,\"<\"&Voucher_Date_1819),COUNTIF(Voucher_Date_1819,\"<\"&Voucher_Date_1819)+SUM(IF(ISNUMBER(Voucher_Date_1819),1,0))+1)),0))","v":{"$error":"#NUM!"}}]
[{"$f":"INDEX(Voucher_Date_1819,MATCH(ROWS('Bill Register 20-21'!$L$3:'Bill Register 20-21'!L193),COUNTIF(Voucher_Date_1819,\"<=\"&Voucher_Date_1819),0))","v":{"$error":"#N/A"}},{"$f":"INDEX(Voucher_Date_1819,MATCH(SMALL(IF(ISBLANK(Voucher_Date_1819),\"\",IF(ISNUMBER(Voucher_Date_1819),COUNTIF(Voucher_Date_1819,\"<\"&Voucher_Date_1819),COUNTIF(Voucher_Date_1819,\"<\"&Voucher_Date_1819)+SUM(IF(ISNUMBER(Voucher_Date_1819),1,0))+1)),ROW(A192)),IF(ISBLANK(Voucher_Date_1819),\"\",IF(ISNUMBER(Voucher_Date_1819),COUNTIF(Voucher_Date_1819,\"<\"&Voucher_Date_1819),COUNTIF(Voucher_Date_1819,\"<\"&Voucher_Date_1819)+SUM(IF(ISNUMBER(Voucher_Date_1819),1,0))+1)),0))","v":{"$error":"#NUM!"}}]
[{"$f":"INDEX(Voucher_Date_1819,MATCH(ROWS('Bill Register 20-21'!$L$3:'Bill Register 20-21'!L194),COUNTIF(Voucher_Date_1819,\"<=\"&Voucher_Date_1819),0))","v":{"$error":"#N/A"}},{"$f":"INDEX(Voucher_Date_1819,MATCH(SMALL(IF(ISBLANK(Voucher_Date_1819),\"\",IF(ISNUMBER(Voucher_Date_1819),COUNTIF(Voucher_Date_1819,\"<\"&Voucher_Date_1819),COUNTIF(Voucher_Date_1819,\"<\"&Voucher_Date_1819)+SUM(IF(ISNUMBER(Voucher_Date_1819),1,0))+1)),ROW(A193)),IF(ISBLANK(Voucher_Date_1819),\"\",IF(ISNUMBER(Voucher_Date_1819),COUNTIF(Voucher_Date_1819,\"<\"&Voucher_Date_1819),COUNTIF(Voucher_Date_1819,\"<\"&Voucher_Date_1819)+SUM(IF(ISNUMBER(Voucher_Date_1819),1,0))+1)),0))","v":{"$error":"#NUM!"}}]
[{"$f":"INDEX(Voucher_Date_1819,MATCH(ROWS('Bill Register 20-21'!$L$3:'Bill Register 20-21'!L195),COUNTIF(Voucher_Date_1819,\"<=\"&Voucher_Date_1819),0))","v":{"$error":"#N/A"}},{"$f":"INDEX(Voucher_Date_1819,MATCH(SMALL(IF(ISBLANK(Voucher_Date_1819),\"\",IF(ISNUMBER(Voucher_Date_1819),COUNTIF(Voucher_Date_1819,\"<\"&Voucher_Date_1819),COUNTIF(Voucher_Date_1819,\"<\"&Voucher_Date_1819)+SUM(IF(ISNUMBER(Voucher_Date_1819),1,0))+1)),ROW(A194)),IF(ISBLANK(Voucher_Date_1819),\"\",IF(ISNUMBER(Voucher_Date_1819),COUNTIF(Voucher_Date_1819,\"<\"&Voucher_Date_1819),COUNTIF(Voucher_Date_1819,\"<\"&Voucher_Date_1819)+SUM(IF(ISNUMBER(Voucher_Date_1819),1,0))+1)),0))","v":{"$error":"#NUM!"}}]
[{"$f":"INDEX(Voucher_Date_1819,MATCH(ROWS('Bill Register 20-21'!$L$3:'Bill Register 20-21'!L196),COUNTIF(Voucher_Date_1819,\"<=\"&Voucher_Date_1819),0))","v":{"$error":"#N/A"}},{"$f":"INDEX(Voucher_Date_1819,MATCH(SMALL(IF(ISBLANK(Voucher_Date_1819),\"\",IF(ISNUMBER(Voucher_Date_1819),COUNTIF(Voucher_Date_1819,\"<\"&Voucher_Date_1819),COUNTIF(Voucher_Date_1819,\"<\"&Voucher_Date_1819)+SUM(IF(ISNUMBER(Voucher_Date_1819),1,0))+1)),ROW(A195)),IF(ISBLANK(Voucher_Date_1819),\"\",IF(ISNUMBER(Voucher_Date_1819),COUNTIF(Voucher_Date_1819,\"<\"&Voucher_Date_1819),COUNTIF(Voucher_Date_1819,\"<\"&Voucher_Date_1819)+SUM(IF(ISNUMBER(Voucher_Date_1819),1,0))+1)),0))","v":{"$error":"#NUM!"}}]
[{"$f":"INDEX(Voucher_Date_1819,MATCH(ROWS('Bill Register 20-21'!$L$3:'Bill Register 20-21'!L197),COUNTIF(Voucher_Date_1819,\"<=\"&Voucher_Date_1819),0))","v":{"$error":"#N/A"}},{"$f":"INDEX(Voucher_Date_1819,MATCH(SMALL(IF(ISBLANK(Voucher_Date_1819),\"\",IF(ISNUMBER(Voucher_Date_1819),COUNTIF(Voucher_Date_1819,\"<\"&Voucher_Date_1819),COUNTIF(Voucher_Date_1819,\"<\"&Voucher_Date_1819)+SUM(IF(ISNUMBER(Voucher_Date_1819),1,0))+1)),ROW(A196)),IF(ISBLANK(Voucher_Date_1819),\"\",IF(ISNUMBER(Voucher_Date_1819),COUNTIF(Voucher_Date_1819,\"<\"&Voucher_Date_1819),COUNTIF(Voucher_Date_1819,\"<\"&Voucher_Date_1819)+SUM(IF(ISNUMBER(Voucher_Date_1819),1,0))+1)),0))","v":{"$error":"#NUM!"}}]
[{"$f":"INDEX(Voucher_Date_1819,MATCH(ROWS('Bill Register 20-21'!$L$3:'Bill Register 20-21'!L198),COUNTIF(Voucher_Date_1819,\"<=\"&Voucher_Date_1819),0))","v":{"$error":"#N/A"}},{"$f":"INDEX(Voucher_Date_1819,MATCH(SMALL(IF(ISBLANK(Voucher_Date_1819),\"\",IF(ISNUMBER(Voucher_Date_1819),COUNTIF(Voucher_Date_1819,\"<\"&Voucher_Date_1819),COUNTIF(Voucher_Date_1819,\"<\"&Voucher_Date_1819)+SUM(IF(ISNUMBER(Voucher_Date_1819),1,0))+1)),ROW(A197)),IF(ISBLANK(Voucher_Date_1819),\"\",IF(ISNUMBER(Voucher_Date_1819),COUNTIF(Voucher_Date_1819,\"<\"&Voucher_Date_1819),COUNTIF(Voucher_Date_1819,\"<\"&Voucher_Date_1819)+SUM(IF(ISNUMBER(Voucher_Date_1819),1,0))+1)),0))","v":{"$error":"#NUM!"}}]
[{"$f":"INDEX(Voucher_Date_1819,MATCH(ROWS('Bill Register 20-21'!$L$3:'Bill Register 20-21'!L199),COUNTIF(Voucher_Date_1819,\"<=\"&Voucher_Date_1819),0))","v":{"$error":"#N/A"}},{"$f":"INDEX(Voucher_Date_1819,MATCH(SMALL(IF(ISBLANK(Voucher_Date_1819),\"\",IF(ISNUMBER(Voucher_Date_1819),COUNTIF(Voucher_Date_1819,\"<\"&Voucher_Date_1819),COUNTIF(Voucher_Date_1819,\"<\"&Voucher_Date_1819)+SUM(IF(ISNUMBER(Voucher_Date_1819),1,0))+1)),ROW(A198)),IF(ISBLANK(Voucher_Date_1819),\"\",IF(ISNUMBER(Voucher_Date_1819),COUNTIF(Voucher_Date_1819,\"<\"&Voucher_Date_1819),COUNTIF(Voucher_Date_1819,\"<\"&Voucher_Date_1819)+SUM(IF(ISNUMBER(Voucher_Date_1819),1,0))+1)),0))","v":{"$error":"#NUM!"}}]
[{"$f":"INDEX(Voucher_Date_1819,MATCH(ROWS('Bill Register 20-21'!$L$3:'Bill Register 20-21'!L200),COUNTIF(Voucher_Date_1819,\"<=\"&Voucher_Date_1819),0))","v":{"$error":"#N/A"}},{"$f":"INDEX(Voucher_Date_1819,MATCH(SMALL(IF(ISBLANK(Voucher_Date_1819),\"\",IF(ISNUMBER(Voucher_Date_1819),COUNTIF(Voucher_Date_1819,\"<\"&Voucher_Date_1819),COUNTIF(Voucher_Date_1819,\"<\"&Voucher_Date_1819)+SUM(IF(ISNUMBER(Voucher_Date_1819),1,0))+1)),ROW(A199)),IF(ISBLANK(Voucher_Date_1819),\"\",IF(ISNUMBER(Voucher_Date_1819),COUNTIF(Voucher_Date_1819,\"<\"&Voucher_Date_1819),COUNTIF(Voucher_Date_1819,\"<\"&Voucher_Date_1819)+SUM(IF(ISNUMBER(Voucher_Date_1819),1,0))+1)),0))","v":{"$error":"#NUM!"}}]
[{"$f":"INDEX(Voucher_Date_1819,MATCH(ROWS('Bill Register 20-21'!$L$3:'Bill Register 20-21'!L201),COUNTIF(Voucher_Date_1819,\"<=\"&Voucher_Date_1819),0))","v":{"$error":"#N/A"}},{"$f":"INDEX(Voucher_Date_1819,MATCH(SMALL(IF(ISBLANK(Voucher_Date_1819),\"\",IF(ISNUMBER(Voucher_Date_1819),COUNTIF(Voucher_Date_1819,\"<\"&Voucher_Date_1819),COUNTIF(Voucher_Date_1819,\"<\"&Voucher_Date_1819)+SUM(IF(ISNUMBER(Voucher_Date_1819),1,0))+1)),ROW(A200)),IF(ISBLANK(Voucher_Date_1819),\"\",IF(ISNUMBER(Voucher_Date_1819),COUNTIF(Voucher_Date_1819,\"<\"&Voucher_Date_1819),COUNTIF(Voucher_Date_1819,\"<\"&Voucher_Date_1819)+SUM(IF(ISNUMBER(Voucher_Date_1819),1,0))+1)),0))","v":{"$error":"#NUM!"}}]
[{"$f":"INDEX(Voucher_Date_1819,MATCH(ROWS('Bill Register 20-21'!$L$3:'Bill Register 20-21'!L202),COUNTIF(Voucher_Date_1819,\"<=\"&Voucher_Date_1819),0))","v":{"$error":"#N/A"}},{"$f":"INDEX(Voucher_Date_1819,MATCH(SMALL(IF(ISBLANK(Voucher_Date_1819),\"\",IF(ISNUMBER(Voucher_Date_1819),COUNTIF(Voucher_Date_1819,\"<\"&Voucher_Date_1819),COUNTIF(Voucher_Date_1819,\"<\"&Voucher_Date_1819)+SUM(IF(ISNUMBER(Voucher_Date_1819),1,0))+1)),ROW(A201)),IF(ISBLANK(Voucher_Date_1819),\"\",IF(ISNUMBER(Voucher_Date_1819),COUNTIF(Voucher_Date_1819,\"<\"&Voucher_Date_1819),COUNTIF(Voucher_Date_1819,\"<\"&Voucher_Date_1819)+SUM(IF(ISNUMBER(Voucher_Date_1819),1,0))+1)),0))","v":{"$error":"#NUM!"}}]
[{"$f":"INDEX(Voucher_Date_1819,MATCH(ROWS('Bill Register 20-21'!$L$3:'Bill Register 20-21'!L203),COUNTIF(Voucher_Date_1819,\"<=\"&Voucher_Date_1819),0))","v":{"$error":"#N/A"}},{"$f":"INDEX(Voucher_Date_1819,MATCH(SMALL(IF(ISBLANK(Voucher_Date_1819),\"\",IF(ISNUMBER(Voucher_Date_1819),COUNTIF(Voucher_Date_1819,\"<\"&Voucher_Date_1819),COUNTIF(Voucher_Date_1819,\"<\"&Voucher_Date_1819)+SUM(IF(ISNUMBER(Voucher_Date_1819),1,0))+1)),ROW(A202)),IF(ISBLANK(Voucher_Date_1819),\"\",IF(ISNUMBER(Voucher_Date_1819),COUNTIF(Voucher_Date_1819,\"<\"&Voucher_Date_1819),COUNTIF(Voucher_Date_1819,\"<\"&Voucher_Date_1819)+SUM(IF(ISNUMBER(Voucher_Date_1819),1,0))+1)),0))","v":{"$error":"#NUM!"}}]
[{"$f":"INDEX(Voucher_Date_1819,MATCH(ROWS('Bill Register 20-21'!$L$3:'Bill Register 20-21'!L204),COUNTIF(Voucher_Date_1819,\"<=\"&Voucher_Date_1819),0))","v":{"$error":"#N/A"}},{"$f":"INDEX(Voucher_Date_1819,MATCH(SMALL(IF(ISBLANK(Voucher_Date_1819),\"\",IF(ISNUMBER(Voucher_Date_1819),COUNTIF(Voucher_Date_1819,\"<\"&Voucher_Date_1819),COUNTIF(Voucher_Date_1819,\"<\"&Voucher_Date_1819)+SUM(IF(ISNUMBER(Voucher_Date_1819),1,0))+1)),ROW(A203)),IF(ISBLANK(Voucher_Date_1819),\"\",IF(ISNUMBER(Voucher_Date_1819),COUNTIF(Voucher_Date_1819,\"<\"&Voucher_Date_1819),COUNTIF(Voucher_Date_1819,\"<\"&Voucher_Date_1819)+SUM(IF(ISNUMBER(Voucher_Date_1819),1,0))+1)),0))","v":{"$error":"#NUM!"}}]
[{"$f":"INDEX(Voucher_Date_1819,MATCH(ROWS('Bill Register 20-21'!$L$3:'Bill Register 20-21'!L205),COUNTIF(Voucher_Date_1819,\"<=\"&Voucher_Date_1819),0))","v":{"$error":"#N/A"}},{"$f":"INDEX(Voucher_Date_1819,MATCH(SMALL(IF(ISBLANK(Voucher_Date_1819),\"\",IF(ISNUMBER(Voucher_Date_1819),COUNTIF(Voucher_Date_1819,\"<\"&Voucher_Date_1819),COUNTIF(Voucher_Date_1819,\"<\"&Voucher_Date_1819)+SUM(IF(ISNUMBER(Voucher_Date_1819),1,0))+1)),ROW(A204)),IF(ISBLANK(Voucher_Date_1819),\"\",IF(ISNUMBER(Voucher_Date_1819),COUNTIF(Voucher_Date_1819,\"<\"&Voucher_Date_1819),COUNTIF(Voucher_Date_1819,\"<\"&Voucher_Date_1819)+SUM(IF(ISNUMBER(Voucher_Date_1819),1,0))+1)),0))","v":{"$error":"#NUM!"}}]
[{"$f":"INDEX(Voucher_Date_1819,MATCH(ROWS('Bill Register 20-21'!$L$3:'Bill Register 20-21'!L206),COUNTIF(Voucher_Date_1819,\"<=\"&Voucher_Date_1819),0))","v":{"$error":"#N/A"}},{"$f":"INDEX(Voucher_Date_1819,MATCH(SMALL(IF(ISBLANK(Voucher_Date_1819),\"\",IF(ISNUMBER(Voucher_Date_1819),COUNTIF(Voucher_Date_1819,\"<\"&Voucher_Date_1819),COUNTIF(Voucher_Date_1819,\"<\"&Voucher_Date_1819)+SUM(IF(ISNUMBER(Voucher_Date_1819),1,0))+1)),ROW(A205)),IF(ISBLANK(Voucher_Date_1819),\"\",IF(ISNUMBER(Voucher_Date_1819),COUNTIF(Voucher_Date_1819,\"<\"&Voucher_Date_1819),COUNTIF(Voucher_Date_1819,\"<\"&Voucher_Date_1819)+SUM(IF(ISNUMBER(Voucher_Date_1819),1,0))+1)),0))","v":{"$error":"#NUM!"}}]
[{"$f":"INDEX(Voucher_Date_1819,MATCH(ROWS('Bill Register 20-21'!$L$3:'Bill Register 20-21'!L207),COUNTIF(Voucher_Date_1819,\"<=\"&Voucher_Date_1819),0))","v":{"$error":"#N/A"}},{"$f":"INDEX(Voucher_Date_1819,MATCH(SMALL(IF(ISBLANK(Voucher_Date_1819),\"\",IF(ISNUMBER(Voucher_Date_1819),COUNTIF(Voucher_Date_1819,\"<\"&Voucher_Date_1819),COUNTIF(Voucher_Date_1819,\"<\"&Voucher_Date_1819)+SUM(IF(ISNUMBER(Voucher_Date_1819),1,0))+1)),ROW(A206)),IF(ISBLANK(Voucher_Date_1819),\"\",IF(ISNUMBER(Voucher_Date_1819),COUNTIF(Voucher_Date_1819,\"<\"&Voucher_Date_1819),COUNTIF(Voucher_Date_1819,\"<\"&Voucher_Date_1819)+SUM(IF(ISNUMBER(Voucher_Date_1819),1,0))+1)),0))","v":{"$error":"#NUM!"}}]
[{"$f":"INDEX(Voucher_Date_1819,MATCH(ROWS('Bill Register 20-21'!$L$3:'Bill Register 20-21'!L208),COUNTIF(Voucher_Date_1819,\"<=\"&Voucher_Date_1819),0))","v":{"$error":"#N/A"}},{"$f":"INDEX(Voucher_Date_1819,MATCH(SMALL(IF(ISBLANK(Voucher_Date_1819),\"\",IF(ISNUMBER(Voucher_Date_1819),COUNTIF(Voucher_Date_1819,\"<\"&Voucher_Date_1819),COUNTIF(Voucher_Date_1819,\"<\"&Voucher_Date_1819)+SUM(IF(ISNUMBER(Voucher_Date_1819),1,0))+1)),ROW(A207)),IF(ISBLANK(Voucher_Date_1819),\"\",IF(ISNUMBER(Voucher_Date_1819),COUNTIF(Voucher_Date_1819,\"<\"&Voucher_Date_1819),COUNTIF(Voucher_Date_1819,\"<\"&Voucher_Date_1819)+SUM(IF(ISNUMBER(Voucher_Date_1819),1,0))+1)),0))","v":{"$error":"#NUM!"}}]
[{"$f":"INDEX(Voucher_Date_1819,MATCH(ROWS('Bill Register 20-21'!$L$3:'Bill Register 20-21'!L209),COUNTIF(Voucher_Date_1819,\"<=\"&Voucher_Date_1819),0))","v":{"$error":"#N/A"}},{"$f":"INDEX(Voucher_Date_1819,MATCH(SMALL(IF(ISBLANK(Voucher_Date_1819),\"\",IF(ISNUMBER(Voucher_Date_1819),COUNTIF(Voucher_Date_1819,\"<\"&Voucher_Date_1819),COUNTIF(Voucher_Date_1819,\"<\"&Voucher_Date_1819)+SUM(IF(ISNUMBER(Voucher_Date_1819),1,0))+1)),ROW(A208)),IF(ISBLANK(Voucher_Date_1819),\"\",IF(ISNUMBER(Voucher_Date_1819),COUNTIF(Voucher_Date_1819,\"<\"&Voucher_Date_1819),COUNTIF(Voucher_Date_1819,\"<\"&Voucher_Date_1819)+SUM(IF(ISNUMBER(Voucher_Date_1819),1,0))+1)),0))","v":{"$error":"#NUM!"}}]
[{"$f":"INDEX(Voucher_Date_1819,MATCH(ROWS('Bill Register 20-21'!$L$3:'Bill Register 20-21'!L210),COUNTIF(Voucher_Date_1819,\"<=\"&Voucher_Date_1819),0))","v":{"$error":"#N/A"}},{"$f":"INDEX(Voucher_Date_1819,MATCH(SMALL(IF(ISBLANK(Voucher_Date_1819),\"\",IF(ISNUMBER(Voucher_Date_1819),COUNTIF(Voucher_Date_1819,\"<\"&Voucher_Date_1819),COUNTIF(Voucher_Date_1819,\"<\"&Voucher_Date_1819)+SUM(IF(ISNUMBER(Voucher_Date_1819),1,0))+1)),ROW(A209)),IF(ISBLANK(Voucher_Date_1819),\"\",IF(ISNUMBER(Voucher_Date_1819),COUNTIF(Voucher_Date_1819,\"<\"&Voucher_Date_1819),COUNTIF(Voucher_Date_1819,\"<\"&Voucher_Date_1819)+SUM(IF(ISNUMBER(Voucher_Date_1819),1,0))+1)),0))","v":{"$error":"#NUM!"}}]
[{"$f":"INDEX(Voucher_Date_1819,MATCH(ROWS('Bill Register 20-21'!$L$3:'Bill Register 20-21'!L211),COUNTIF(Voucher_Date_1819,\"<=\"&Voucher_Date_1819),0))","v":{"$error":"#N/A"}},{"$f":"INDEX(Voucher_Date_1819,MATCH(SMALL(IF(ISBLANK(Voucher_Date_1819),\"\",IF(ISNUMBER(Voucher_Date_1819),COUNTIF(Voucher_Date_1819,\"<\"&Voucher_Date_1819),COUNTIF(Voucher_Date_1819,\"<\"&Voucher_Date_1819)+SUM(IF(ISNUMBER(Voucher_Date_1819),1,0))+1)),ROW(A210)),IF(ISBLANK(Voucher_Date_1819),\"\",IF(ISNUMBER(Voucher_Date_1819),COUNTIF(Voucher_Date_1819,\"<\"&Voucher_Date_1819),COUNTIF(Voucher_Date_1819,\"<\"&Voucher_Date_1819)+SUM(IF(ISNUMBER(Voucher_Date_1819),1,0))+1)),0))","v":{"$error":"#NUM!"}}]
[{"$f":"INDEX(Voucher_Date_1819,MATCH(ROWS('Bill Register 20-21'!$L$3:'Bill Register 20-21'!L212),COUNTIF(Voucher_Date_1819,\"<=\"&Voucher_Date_1819),0))","v":{"$error":"#N/A"}},{"$f":"INDEX(Voucher_Date_1819,MATCH(SMALL(IF(ISBLANK(Voucher_Date_1819),\"\",IF(ISNUMBER(Voucher_Date_1819),COUNTIF(Voucher_Date_1819,\"<\"&Voucher_Date_1819),COUNTIF(Voucher_Date_1819,\"<\"&Voucher_Date_1819)+SUM(IF(ISNUMBER(Voucher_Date_1819),1,0))+1)),ROW(A211)),IF(ISBLANK(Voucher_Date_1819),\"\",IF(ISNUMBER(Voucher_Date_1819),COUNTIF(Voucher_Date_1819,\"<\"&Voucher_Date_1819),COUNTIF(Voucher_Date_1819,\"<\"&Voucher_Date_1819)+SUM(IF(ISNUMBER(Voucher_Date_1819),1,0))+1)),0))","v":{"$error":"#NUM!"}}]
[{"$f":"INDEX(Voucher_Date_1819,MATCH(ROWS('Bill Register 20-21'!$L$3:'Bill Register 20-21'!L213),COUNTIF(Voucher_Date_1819,\"<=\"&Voucher_Date_1819),0))","v":{"$error":"#N/A"}},{"$f":"INDEX(Voucher_Date_1819,MATCH(SMALL(IF(ISBLANK(Voucher_Date_1819),\"\",IF(ISNUMBER(Voucher_Date_1819),COUNTIF(Voucher_Date_1819,\"<\"&Voucher_Date_1819),COUNTIF(Voucher_Date_1819,\"<\"&Voucher_Date_1819)+SUM(IF(ISNUMBER(Voucher_Date_1819),1,0))+1)),ROW(A212)),IF(ISBLANK(Voucher_Date_1819),\"\",IF(ISNUMBER(Voucher_Date_1819),COUNTIF(Voucher_Date_1819,\"<\"&Voucher_Date_1819),COUNTIF(Voucher_Date_1819,\"<\"&Voucher_Date_1819)+SUM(IF(ISNUMBER(Voucher_Date_1819),1,0))+1)),0))","v":{"$error":"#NUM!"}}]
[{"$f":"INDEX(Voucher_Date_1819,MATCH(ROWS('Bill Register 20-21'!$L$3:'Bill Register 20-21'!L214),COUNTIF(Voucher_Date_1819,\"<=\"&Voucher_Date_1819),0))","v":{"$error":"#N/A"}},{"$f":"INDEX(Voucher_Date_1819,MATCH(SMALL(IF(ISBLANK(Voucher_Date_1819),\"\",IF(ISNUMBER(Voucher_Date_1819),COUNTIF(Voucher_Date_1819,\"<\"&Voucher_Date_1819),COUNTIF(Voucher_Date_1819,\"<\"&Voucher_Date_1819)+SUM(IF(ISNUMBER(Voucher_Date_1819),1,0))+1)),ROW(A213)),IF(ISBLANK(Voucher_Date_1819),\"\",IF(ISNUMBER(Voucher_Date_1819),COUNTIF(Voucher_Date_1819,\"<\"&Voucher_Date_1819),COUNTIF(Voucher_Date_1819,\"<\"&Voucher_Date_1819)+SUM(IF(ISNUMBER(Voucher_Date_1819),1,0))+1)),0))","v":{"$error":"#NUM!"}}]
[{"$f":"INDEX(Voucher_Date_1819,MATCH(ROWS('Bill Register 20-21'!$L$3:'Bill Register 20-21'!L215),COUNTIF(Voucher_Date_1819,\"<=\"&Voucher_Date_1819),0))","v":{"$error":"#N/A"}},{"$f":"INDEX(Voucher_Date_1819,MATCH(SMALL(IF(ISBLANK(Voucher_Date_1819),\"\",IF(ISNUMBER(Voucher_Date_1819),COUNTIF(Voucher_Date_1819,\"<\"&Voucher_Date_1819),COUNTIF(Voucher_Date_1819,\"<\"&Voucher_Date_1819)+SUM(IF(ISNUMBER(Voucher_Date_1819),1,0))+1)),ROW(A214)),IF(ISBLANK(Voucher_Date_1819),\"\",IF(ISNUMBER(Voucher_Date_1819),COUNTIF(Voucher_Date_1819,\"<\"&Voucher_Date_1819),COUNTIF(Voucher_Date_1819,\"<\"&Voucher_Date_1819)+SUM(IF(ISNUMBER(Voucher_Date_1819),1,0))+1)),0))","v":{"$error":"#NUM!"}}]
[{"$f":"INDEX(Voucher_Date_1819,MATCH(ROWS('Bill Register 20-21'!$L$3:'Bill Register 20-21'!L216),COUNTIF(Voucher_Date_1819,\"<=\"&Voucher_Date_1819),0))","v":{"$error":"#N/A"}},{"$f":"INDEX(Voucher_Date_1819,MATCH(SMALL(IF(ISBLANK(Voucher_Date_1819),\"\",IF(ISNUMBER(Voucher_Date_1819),COUNTIF(Voucher_Date_1819,\"<\"&Voucher_Date_1819),COUNTIF(Voucher_Date_1819,\"<\"&Voucher_Date_1819)+SUM(IF(ISNUMBER(Voucher_Date_1819),1,0))+1)),ROW(A215)),IF(ISBLANK(Voucher_Date_1819),\"\",IF(ISNUMBER(Voucher_Date_1819),COUNTIF(Voucher_Date_1819,\"<\"&Voucher_Date_1819),COUNTIF(Voucher_Date_1819,\"<\"&Voucher_Date_1819)+SUM(IF(ISNUMBER(Voucher_Date_1819),1,0))+1)),0))","v":{"$error":"#NUM!"}}]
[{"$f":"INDEX(Voucher_Date_1819,MATCH(ROWS('Bill Register 20-21'!$L$3:'Bill Register 20-21'!L217),COUNTIF(Voucher_Date_1819,\"<=\"&Voucher_Date_1819),0))","v":{"$error":"#N/A"}},{"$f":"INDEX(Voucher_Date_1819,MATCH(SMALL(IF(ISBLANK(Voucher_Date_1819),\"\",IF(ISNUMBER(Voucher_Date_1819),COUNTIF(Voucher_Date_1819,\"<\"&Voucher_Date_1819),COUNTIF(Voucher_Date_1819,\"<\"&Voucher_Date_1819)+SUM(IF(ISNUMBER(Voucher_Date_1819),1,0))+1)),ROW(A216)),IF(ISBLANK(Voucher_Date_1819),\"\",IF(ISNUMBER(Voucher_Date_1819),COUNTIF(Voucher_Date_1819,\"<\"&Voucher_Date_1819),COUNTIF(Voucher_Date_1819,\"<\"&Voucher_Date_1819)+SUM(IF(ISNUMBER(Voucher_Date_1819),1,0))+1)),0))","v":{"$error":"#NUM!"}}]
[{"$f":"INDEX(Voucher_Date_1819,MATCH(ROWS('Bill Register 20-21'!$L$3:'Bill Register 20-21'!L218),COUNTIF(Voucher_Date_1819,\"<=\"&Voucher_Date_1819),0))","v":{"$error":"#N/A"}},{"$f":"INDEX(Voucher_Date_1819,MATCH(SMALL(IF(ISBLANK(Voucher_Date_1819),\"\",IF(ISNUMBER(Voucher_Date_1819),COUNTIF(Voucher_Date_1819,\"<\"&Voucher_Date_1819),COUNTIF(Voucher_Date_1819,\"<\"&Voucher_Date_1819)+SUM(IF(ISNUMBER(Voucher_Date_1819),1,0))+1)),ROW(A217)),IF(ISBLANK(Voucher_Date_1819),\"\",IF(ISNUMBER(Voucher_Date_1819),COUNTIF(Voucher_Date_1819,\"<\"&Voucher_Date_1819),COUNTIF(Voucher_Date_1819,\"<\"&Voucher_Date_1819)+SUM(IF(ISNUMBER(Voucher_Date_1819),1,0))+1)),0))","v":{"$error":"#NUM!"}}]
[{"$f":"INDEX(Voucher_Date_1819,MATCH(ROWS('Bill Register 20-21'!$L$3:'Bill Register 20-21'!L219),COUNTIF(Voucher_Date_1819,\"<=\"&Voucher_Date_1819),0))","v":{"$error":"#N/A"}},{"$f":"INDEX(Voucher_Date_1819,MATCH(SMALL(IF(ISBLANK(Voucher_Date_1819),\"\",IF(ISNUMBER(Voucher_Date_1819),COUNTIF(Voucher_Date_1819,\"<\"&Voucher_Date_1819),COUNTIF(Voucher_Date_1819,\"<\"&Voucher_Date_1819)+SUM(IF(ISNUMBER(Voucher_Date_1819),1,0))+1)),ROW(A218)),IF(ISBLANK(Voucher_Date_1819),\"\",IF(ISNUMBER(Voucher_Date_1819),COUNTIF(Voucher_Date_1819,\"<\"&Voucher_Date_1819),COUNTIF(Voucher_Date_1819,\"<\"&Voucher_Date_1819)+SUM(IF(ISNUMBER(Voucher_Date_1819),1,0))+1)),0))","v":{"$error":"#NUM!"}}]
[{"$f":"INDEX(Voucher_Date_1819,MATCH(ROWS('Bill Register 20-21'!$L$3:'Bill Register 20-21'!L220),COUNTIF(Voucher_Date_1819,\"<=\"&Voucher_Date_1819),0))","v":{"$error":"#N/A"}},{"$f":"INDEX(Voucher_Date_1819,MATCH(SMALL(IF(ISBLANK(Voucher_Date_1819),\"\",IF(ISNUMBER(Voucher_Date_1819),COUNTIF(Voucher_Date_1819,\"<\"&Voucher_Date_1819),COUNTIF(Voucher_Date_1819,\"<\"&Voucher_Date_1819)+SUM(IF(ISNUMBER(Voucher_Date_1819),1,0))+1)),ROW(A219)),IF(ISBLANK(Voucher_Date_1819),\"\",IF(ISNUMBER(Voucher_Date_1819),COUNTIF(Voucher_Date_1819,\"<\"&Voucher_Date_1819),COUNTIF(Voucher_Date_1819,\"<\"&Voucher_Date_1819)+SUM(IF(ISNUMBER(Voucher_Date_1819),1,0))+1)),0))","v":{"$error":"#NUM!"}}]
[{"$f":"INDEX(Voucher_Date_1819,MATCH(ROWS('Bill Register 20-21'!$L$3:'Bill Register 20-21'!L221),COUNTIF(Voucher_Date_1819,\"<=\"&Voucher_Date_1819),0))","v":{"$error":"#N/A"}},{"$f":"INDEX(Voucher_Date_1819,MATCH(SMALL(IF(ISBLANK(Voucher_Date_1819),\"\",IF(ISNUMBER(Voucher_Date_1819),COUNTIF(Voucher_Date_1819,\"<\"&Voucher_Date_1819),COUNTIF(Voucher_Date_1819,\"<\"&Voucher_Date_1819)+SUM(IF(ISNUMBER(Voucher_Date_1819),1,0))+1)),ROW(A220)),IF(ISBLANK(Voucher_Date_1819),\"\",IF(ISNUMBER(Voucher_Date_1819),COUNTIF(Voucher_Date_1819,\"<\"&Voucher_Date_1819),COUNTIF(Voucher_Date_1819,\"<\"&Voucher_Date_1819)+SUM(IF(ISNUMBER(Voucher_Date_1819),1,0))+1)),0))","v":{"$error":"#NUM!"}}]
[{"$f":"INDEX(Voucher_Date_1819,MATCH(ROWS('Bill Register 20-21'!$L$3:'Bill Register 20-21'!L222),COUNTIF(Voucher_Date_1819,\"<=\"&Voucher_Date_1819),0))","v":{"$error":"#N/A"}},{"$f":"INDEX(Voucher_Date_1819,MATCH(SMALL(IF(ISBLANK(Voucher_Date_1819),\"\",IF(ISNUMBER(Voucher_Date_1819),COUNTIF(Voucher_Date_1819,\"<\"&Voucher_Date_1819),COUNTIF(Voucher_Date_1819,\"<\"&Voucher_Date_1819)+SUM(IF(ISNUMBER(Voucher_Date_1819),1,0))+1)),ROW(A221)),IF(ISBLANK(Voucher_Date_1819),\"\",IF(ISNUMBER(Voucher_Date_1819),COUNTIF(Voucher_Date_1819,\"<\"&Voucher_Date_1819),COUNTIF(Voucher_Date_1819,\"<\"&Voucher_Date_1819)+SUM(IF(ISNUMBER(Voucher_Date_1819),1,0))+1)),0))","v":{"$error":"#NUM!"}}]
[{"$f":"INDEX(Voucher_Date_1819,MATCH(ROWS('Bill Register 20-21'!$L$3:'Bill Register 20-21'!L223),COUNTIF(Voucher_Date_1819,\"<=\"&Voucher_Date_1819),0))","v":{"$error":"#N/A"}},{"$f":"INDEX(Voucher_Date_1819,MATCH(SMALL(IF(ISBLANK(Voucher_Date_1819),\"\",IF(ISNUMBER(Voucher_Date_1819),COUNTIF(Voucher_Date_1819,\"<\"&Voucher_Date_1819),COUNTIF(Voucher_Date_1819,\"<\"&Voucher_Date_1819)+SUM(IF(ISNUMBER(Voucher_Date_1819),1,0))+1)),ROW(A222)),IF(ISBLANK(Voucher_Date_1819),\"\",IF(ISNUMBER(Voucher_Date_1819),COUNTIF(Voucher_Date_1819,\"<\"&Voucher_Date_1819),COUNTIF(Voucher_Date_1819,\"<\"&Voucher_Date_1819)+SUM(IF(ISNUMBER(Voucher_Date_1819),1,0))+1)),0))","v":{"$error":"#NUM!"}}]
[{"$f":"INDEX(Voucher_Date_1819,MATCH(ROWS('Bill Register 20-21'!$L$3:'Bill Register 20-21'!L224),COUNTIF(Voucher_Date_1819,\"<=\"&Voucher_Date_1819),0))","v":{"$error":"#N/A"}},{"$f":"INDEX(Voucher_Date_1819,MATCH(SMALL(IF(ISBLANK(Voucher_Date_1819),\"\",IF(ISNUMBER(Voucher_Date_1819),COUNTIF(Voucher_Date_1819,\"<\"&Voucher_Date_1819),COUNTIF(Voucher_Date_1819,\"<\"&Voucher_Date_1819)+SUM(IF(ISNUMBER(Voucher_Date_1819),1,0))+1)),ROW(A223)),IF(ISBLANK(Voucher_Date_1819),\"\",IF(ISNUMBER(Voucher_Date_1819),COUNTIF(Voucher_Date_1819,\"<\"&Voucher_Date_1819),COUNTIF(Voucher_Date_1819,\"<\"&Voucher_Date_1819)+SUM(IF(ISNUMBER(Voucher_Date_1819),1,0))+1)),0))","v":{"$error":"#NUM!"}}]
[{"$f":"INDEX(Voucher_Date_1819,MATCH(ROWS('Bill Register 20-21'!$L$3:'Bill Register 20-21'!L225),COUNTIF(Voucher_Date_1819,\"<=\"&Voucher_Date_1819),0))","v":{"$error":"#N/A"}},{"$f":"INDEX(Voucher_Date_1819,MATCH(SMALL(IF(ISBLANK(Voucher_Date_1819),\"\",IF(ISNUMBER(Voucher_Date_1819),COUNTIF(Voucher_Date_1819,\"<\"&Voucher_Date_1819),COUNTIF(Voucher_Date_1819,\"<\"&Voucher_Date_1819)+SUM(IF(ISNUMBER(Voucher_Date_1819),1,0))+1)),ROW(A224)),IF(ISBLANK(Voucher_Date_1819),\"\",IF(ISNUMBER(Voucher_Date_1819),COUNTIF(Voucher_Date_1819,\"<\"&Voucher_Date_1819),COUNTIF(Voucher_Date_1819,\"<\"&Voucher_Date_1819)+SUM(IF(ISNUMBER(Voucher_Date_1819),1,0))+1)),0))","v":{"$error":"#NUM!"}}]
[{"$f":"INDEX(Voucher_Date_1819,MATCH(ROWS('Bill Register 20-21'!$L$3:'Bill Register 20-21'!L226),COUNTIF(Voucher_Date_1819,\"<=\"&Voucher_Date_1819),0))","v":{"$error":"#N/A"}},{"$f":"INDEX(Voucher_Date_1819,MATCH(SMALL(IF(ISBLANK(Voucher_Date_1819),\"\",IF(ISNUMBER(Voucher_Date_1819),COUNTIF(Voucher_Date_1819,\"<\"&Voucher_Date_1819),COUNTIF(Voucher_Date_1819,\"<\"&Voucher_Date_1819)+SUM(IF(ISNUMBER(Voucher_Date_1819),1,0))+1)),ROW(A225)),IF(ISBLANK(Voucher_Date_1819),\"\",IF(ISNUMBER(Voucher_Date_1819),COUNTIF(Voucher_Date_1819,\"<\"&Voucher_Date_1819),COUNTIF(Voucher_Date_1819,\"<\"&Voucher_Date_1819)+SUM(IF(ISNUMBER(Voucher_Date_1819),1,0))+1)),0))","v":{"$error":"#NUM!"}}]
[{"$f":"INDEX(Voucher_Date_1819,MATCH(ROWS('Bill Register 20-21'!$L$3:'Bill Register 20-21'!L227),COUNTIF(Voucher_Date_1819,\"<=\"&Voucher_Date_1819),0))","v":{"$error":"#N/A"}},{"$f":"INDEX(Voucher_Date_1819,MATCH(SMALL(IF(ISBLANK(Voucher_Date_1819),\"\",IF(ISNUMBER(Voucher_Date_1819),COUNTIF(Voucher_Date_1819,\"<\"&Voucher_Date_1819),COUNTIF(Voucher_Date_1819,\"<\"&Voucher_Date_1819)+SUM(IF(ISNUMBER(Voucher_Date_1819),1,0))+1)),ROW(A226)),IF(ISBLANK(Voucher_Date_1819),\"\",IF(ISNUMBER(Voucher_Date_1819),COUNTIF(Voucher_Date_1819,\"<\"&Voucher_Date_1819),COUNTIF(Voucher_Date_1819,\"<\"&Voucher_Date_1819)+SUM(IF(ISNUMBER(Voucher_Date_1819),1,0))+1)),0))","v":{"$error":"#NUM!"}}]
[{"$f":"INDEX(Voucher_Date_1819,MATCH(ROWS('Bill Register 20-21'!$L$3:'Bill Register 20-21'!L228),COUNTIF(Voucher_Date_1819,\"<=\"&Voucher_Date_1819),0))","v":{"$error":"#N/A"}},{"$f":"INDEX(Voucher_Date_1819,MATCH(SMALL(IF(ISBLANK(Voucher_Date_1819),\"\",IF(ISNUMBER(Voucher_Date_1819),COUNTIF(Voucher_Date_1819,\"<\"&Voucher_Date_1819),COUNTIF(Voucher_Date_1819,\"<\"&Voucher_Date_1819)+SUM(IF(ISNUMBER(Voucher_Date_1819),1,0))+1)),ROW(A227)),IF(ISBLANK(Voucher_Date_1819),\"\",IF(ISNUMBER(Voucher_Date_1819),COUNTIF(Voucher_Date_1819,\"<\"&Voucher_Date_1819),COUNTIF(Voucher_Date_1819,\"<\"&Voucher_Date_1819)+SUM(IF(ISNUMBER(Voucher_Date_1819),1,0))+1)),0))","v":{"$error":"#NUM!"}}]
[{"$f":"INDEX(Voucher_Date_1819,MATCH(ROWS('Bill Register 20-21'!$L$3:'Bill Register 20-21'!L229),COUNTIF(Voucher_Date_1819,\"<=\"&Voucher_Date_1819),0))","v":{"$error":"#N/A"}},{"$f":"INDEX(Voucher_Date_1819,MATCH(SMALL(IF(ISBLANK(Voucher_Date_1819),\"\",IF(ISNUMBER(Voucher_Date_1819),COUNTIF(Voucher_Date_1819,\"<\"&Voucher_Date_1819),COUNTIF(Voucher_Date_1819,\"<\"&Voucher_Date_1819)+SUM(IF(ISNUMBER(Voucher_Date_1819),1,0))+1)),ROW(A228)),IF(ISBLANK(Voucher_Date_1819),\"\",IF(ISNUMBER(Voucher_Date_1819),COUNTIF(Voucher_Date_1819,\"<\"&Voucher_Date_1819),COUNTIF(Voucher_Date_1819,\"<\"&Voucher_Date_1819)+SUM(IF(ISNUMBER(Voucher_Date_1819),1,0))+1)),0))","v":{"$error":"#NUM!"}}]
[{"$f":"INDEX(Voucher_Date_1819,MATCH(ROWS('Bill Register 20-21'!$L$3:'Bill Register 20-21'!L230),COUNTIF(Voucher_Date_1819,\"<=\"&Voucher_Date_1819),0))","v":{"$error":"#N/A"}},{"$f":"INDEX(Voucher_Date_1819,MATCH(SMALL(IF(ISBLANK(Voucher_Date_1819),\"\",IF(ISNUMBER(Voucher_Date_1819),COUNTIF(Voucher_Date_1819,\"<\"&Voucher_Date_1819),COUNTIF(Voucher_Date_1819,\"<\"&Voucher_Date_1819)+SUM(IF(ISNUMBER(Voucher_Date_1819),1,0))+1)),ROW(A229)),IF(ISBLANK(Voucher_Date_1819),\"\",IF(ISNUMBER(Voucher_Date_1819),COUNTIF(Voucher_Date_1819,\"<\"&Voucher_Date_1819),COUNTIF(Voucher_Date_1819,\"<\"&Voucher_Date_1819)+SUM(IF(ISNUMBER(Voucher_Date_1819),1,0))+1)),0))","v":{"$error":"#NUM!"}}]
[{"$f":"INDEX(Voucher_Date_1819,MATCH(ROWS('Bill Register 20-21'!$L$3:'Bill Register 20-21'!L231),COUNTIF(Voucher_Date_1819,\"<=\"&Voucher_Date_1819),0))","v":{"$error":"#N/A"}},{"$f":"INDEX(Voucher_Date_1819,MATCH(SMALL(IF(ISBLANK(Voucher_Date_1819),\"\",IF(ISNUMBER(Voucher_Date_1819),COUNTIF(Voucher_Date_1819,\"<\"&Voucher_Date_1819),COUNTIF(Voucher_Date_1819,\"<\"&Voucher_Date_1819)+SUM(IF(ISNUMBER(Voucher_Date_1819),1,0))+1)),ROW(A230)),IF(ISBLANK(Voucher_Date_1819),\"\",IF(ISNUMBER(Voucher_Date_1819),COUNTIF(Voucher_Date_1819,\"<\"&Voucher_Date_1819),COUNTIF(Voucher_Date_1819,\"<\"&Voucher_Date_1819)+SUM(IF(ISNUMBER(Voucher_Date_1819),1,0))+1)),0))","v":{"$error":"#NUM!"}}]
[{"$f":"INDEX(Voucher_Date_1819,MATCH(ROWS('Bill Register 20-21'!$L$3:'Bill Register 20-21'!L232),COUNTIF(Voucher_Date_1819,\"<=\"&Voucher_Date_1819),0))","v":{"$error":"#N/A"}},{"$f":"INDEX(Voucher_Date_1819,MATCH(SMALL(IF(ISBLANK(Voucher_Date_1819),\"\",IF(ISNUMBER(Voucher_Date_1819),COUNTIF(Voucher_Date_1819,\"<\"&Voucher_Date_1819),COUNTIF(Voucher_Date_1819,\"<\"&Voucher_Date_1819)+SUM(IF(ISNUMBER(Voucher_Date_1819),1,0))+1)),ROW(A231)),IF(ISBLANK(Voucher_Date_1819),\"\",IF(ISNUMBER(Voucher_Date_1819),COUNTIF(Voucher_Date_1819,\"<\"&Voucher_Date_1819),COUNTIF(Voucher_Date_1819,\"<\"&Voucher_Date_1819)+SUM(IF(ISNUMBER(Voucher_Date_1819),1,0))+1)),0))","v":{"$error":"#NUM!"}}]
[{"$f":"INDEX(Voucher_Date_1819,MATCH(ROWS('Bill Register 20-21'!$L$3:'Bill Register 20-21'!L233),COUNTIF(Voucher_Date_1819,\"<=\"&Voucher_Date_1819),0))","v":{"$error":"#N/A"}},{"$f":"INDEX(Voucher_Date_1819,MATCH(SMALL(IF(ISBLANK(Voucher_Date_1819),\"\",IF(ISNUMBER(Voucher_Date_1819),COUNTIF(Voucher_Date_1819,\"<\"&Voucher_Date_1819),COUNTIF(Voucher_Date_1819,\"<\"&Voucher_Date_1819)+SUM(IF(ISNUMBER(Voucher_Date_1819),1,0))+1)),ROW(A232)),IF(ISBLANK(Voucher_Date_1819),\"\",IF(ISNUMBER(Voucher_Date_1819),COUNTIF(Voucher_Date_1819,\"<\"&Voucher_Date_1819),COUNTIF(Voucher_Date_1819,\"<\"&Voucher_Date_1819)+SUM(IF(ISNUMBER(Voucher_Date_1819),1,0))+1)),0))","v":{"$error":"#NUM!"}}]
[{"$f":"INDEX(Voucher_Date_1819,MATCH(ROWS('Bill Register 20-21'!$L$3:'Bill Register 20-21'!L234),COUNTIF(Voucher_Date_1819,\"<=\"&Voucher_Date_1819),0))","v":{"$error":"#N/A"}},{"$f":"INDEX(Voucher_Date_1819,MATCH(SMALL(IF(ISBLANK(Voucher_Date_1819),\"\",IF(ISNUMBER(Voucher_Date_1819),COUNTIF(Voucher_Date_1819,\"<\"&Voucher_Date_1819),COUNTIF(Voucher_Date_1819,\"<\"&Voucher_Date_1819)+SUM(IF(ISNUMBER(Voucher_Date_1819),1,0))+1)),ROW(A233)),IF(ISBLANK(Voucher_Date_1819),\"\",IF(ISNUMBER(Voucher_Date_1819),COUNTIF(Voucher_Date_1819,\"<\"&Voucher_Date_1819),COUNTIF(Voucher_Date_1819,\"<\"&Voucher_Date_1819)+SUM(IF(ISNUMBER(Voucher_Date_1819),1,0))+1)),0))","v":{"$error":"#NUM!"}}]
[{"$f":"INDEX(Voucher_Date_1819,MATCH(ROWS('Bill Register 20-21'!$L$3:'Bill Register 20-21'!L235),COUNTIF(Voucher_Date_1819,\"<=\"&Voucher_Date_1819),0))","v":{"$error":"#N/A"}},{"$f":"INDEX(Voucher_Date_1819,MATCH(SMALL(IF(ISBLANK(Voucher_Date_1819),\"\",IF(ISNUMBER(Voucher_Date_1819),COUNTIF(Voucher_Date_1819,\"<\"&Voucher_Date_1819),COUNTIF(Voucher_Date_1819,\"<\"&Voucher_Date_1819)+SUM(IF(ISNUMBER(Voucher_Date_1819),1,0))+1)),ROW(A234)),IF(ISBLANK(Voucher_Date_1819),\"\",IF(ISNUMBER(Voucher_Date_1819),COUNTIF(Voucher_Date_1819,\"<\"&Voucher_Date_1819),COUNTIF(Voucher_Date_1819,\"<\"&Voucher_Date_1819)+SUM(IF(ISNUMBER(Voucher_Date_1819),1,0))+1)),0))","v":{"$error":"#NUM!"}}]
[{"$f":"INDEX(Voucher_Date_1819,MATCH(ROWS('Bill Register 20-21'!$L$3:'Bill Register 20-21'!L236),COUNTIF(Voucher_Date_1819,\"<=\"&Voucher_Date_1819),0))","v":{"$error":"#N/A"}},{"$f":"INDEX(Voucher_Date_1819,MATCH(SMALL(IF(ISBLANK(Voucher_Date_1819),\"\",IF(ISNUMBER(Voucher_Date_1819),COUNTIF(Voucher_Date_1819,\"<\"&Voucher_Date_1819),COUNTIF(Voucher_Date_1819,\"<\"&Voucher_Date_1819)+SUM(IF(ISNUMBER(Voucher_Date_1819),1,0))+1)),ROW(A235)),IF(ISBLANK(Voucher_Date_1819),\"\",IF(ISNUMBER(Voucher_Date_1819),COUNTIF(Voucher_Date_1819,\"<\"&Voucher_Date_1819),COUNTIF(Voucher_Date_1819,\"<\"&Voucher_Date_1819)+SUM(IF(ISNUMBER(Voucher_Date_1819),1,0))+1)),0))","v":{"$error":"#NUM!"}}]
[{"$f":"INDEX(Voucher_Date_1819,MATCH(ROWS('Bill Register 20-21'!$L$3:'Bill Register 20-21'!L237),COUNTIF(Voucher_Date_1819,\"<=\"&Voucher_Date_1819),0))","v":{"$error":"#N/A"}},{"$f":"INDEX(Voucher_Date_1819,MATCH(SMALL(IF(ISBLANK(Voucher_Date_1819),\"\",IF(ISNUMBER(Voucher_Date_1819),COUNTIF(Voucher_Date_1819,\"<\"&Voucher_Date_1819),COUNTIF(Voucher_Date_1819,\"<\"&Voucher_Date_1819)+SUM(IF(ISNUMBER(Voucher_Date_1819),1,0))+1)),ROW(A236)),IF(ISBLANK(Voucher_Date_1819),\"\",IF(ISNUMBER(Voucher_Date_1819),COUNTIF(Voucher_Date_1819,\"<\"&Voucher_Date_1819),COUNTIF(Voucher_Date_1819,\"<\"&Voucher_Date_1819)+SUM(IF(ISNUMBER(Voucher_Date_1819),1,0))+1)),0))","v":{"$error":"#NUM!"}}]
[{"$f":"INDEX(Voucher_Date_1819,MATCH(ROWS('Bill Register 20-21'!$L$3:'Bill Register 20-21'!L238),COUNTIF(Voucher_Date_1819,\"<=\"&Voucher_Date_1819),0))","v":{"$error":"#N/A"}},{"$f":"INDEX(Voucher_Date_1819,MATCH(SMALL(IF(ISBLANK(Voucher_Date_1819),\"\",IF(ISNUMBER(Voucher_Date_1819),COUNTIF(Voucher_Date_1819,\"<\"&Voucher_Date_1819),COUNTIF(Voucher_Date_1819,\"<\"&Voucher_Date_1819)+SUM(IF(ISNUMBER(Voucher_Date_1819),1,0))+1)),ROW(A237)),IF(ISBLANK(Voucher_Date_1819),\"\",IF(ISNUMBER(Voucher_Date_1819),COUNTIF(Voucher_Date_1819,\"<\"&Voucher_Date_1819),COUNTIF(Voucher_Date_1819,\"<\"&Voucher_Date_1819)+SUM(IF(ISNUMBER(Voucher_Date_1819),1,0))+1)),0))","v":{"$error":"#NUM!"}}]
[{"$f":"INDEX(Voucher_Date_1819,MATCH(ROWS('Bill Register 20-21'!$L$3:'Bill Register 20-21'!L239),COUNTIF(Voucher_Date_1819,\"<=\"&Voucher_Date_1819),0))","v":{"$error":"#N/A"}},{"$f":"INDEX(Voucher_Date_1819,MATCH(SMALL(IF(ISBLANK(Voucher_Date_1819),\"\",IF(ISNUMBER(Voucher_Date_1819),COUNTIF(Voucher_Date_1819,\"<\"&Voucher_Date_1819),COUNTIF(Voucher_Date_1819,\"<\"&Voucher_Date_1819)+SUM(IF(ISNUMBER(Voucher_Date_1819),1,0))+1)),ROW(A238)),IF(ISBLANK(Voucher_Date_1819),\"\",IF(ISNUMBER(Voucher_Date_1819),COUNTIF(Voucher_Date_1819,\"<\"&Voucher_Date_1819),COUNTIF(Voucher_Date_1819,\"<\"&Voucher_Date_1819)+SUM(IF(ISNUMBER(Voucher_Date_1819),1,0))+1)),0))","v":{"$error":"#NUM!"}}]
[{"$f":"INDEX(Voucher_Date_1819,MATCH(ROWS('Bill Register 20-21'!$L$3:'Bill Register 20-21'!L240),COUNTIF(Voucher_Date_1819,\"<=\"&Voucher_Date_1819),0))","v":{"$error":"#N/A"}},{"$f":"INDEX(Voucher_Date_1819,MATCH(SMALL(IF(ISBLANK(Voucher_Date_1819),\"\",IF(ISNUMBER(Voucher_Date_1819),COUNTIF(Voucher_Date_1819,\"<\"&Voucher_Date_1819),COUNTIF(Voucher_Date_1819,\"<\"&Voucher_Date_1819)+SUM(IF(ISNUMBER(Voucher_Date_1819),1,0))+1)),ROW(A239)),IF(ISBLANK(Voucher_Date_1819),\"\",IF(ISNUMBER(Voucher_Date_1819),COUNTIF(Voucher_Date_1819,\"<\"&Voucher_Date_1819),COUNTIF(Voucher_Date_1819,\"<\"&Voucher_Date_1819)+SUM(IF(ISNUMBER(Voucher_Date_1819),1,0))+1)),0))","v":{"$error":"#NUM!"}}]
[{"$f":"INDEX(Voucher_Date_1819,MATCH(ROWS('Bill Register 20-21'!$L$3:'Bill Register 20-21'!L241),COUNTIF(Voucher_Date_1819,\"<=\"&Voucher_Date_1819),0))","v":{"$error":"#N/A"}},{"$f":"INDEX(Voucher_Date_1819,MATCH(SMALL(IF(ISBLANK(Voucher_Date_1819),\"\",IF(ISNUMBER(Voucher_Date_1819),COUNTIF(Voucher_Date_1819,\"<\"&Voucher_Date_1819),COUNTIF(Voucher_Date_1819,\"<\"&Voucher_Date_1819)+SUM(IF(ISNUMBER(Voucher_Date_1819),1,0))+1)),ROW(A240)),IF(ISBLANK(Voucher_Date_1819),\"\",IF(ISNUMBER(Voucher_Date_1819),COUNTIF(Voucher_Date_1819,\"<\"&Voucher_Date_1819),COUNTIF(Voucher_Date_1819,\"<\"&Voucher_Date_1819)+SUM(IF(ISNUMBER(Voucher_Date_1819),1,0))+1)),0))","v":{"$error":"#NUM!"}}]
[{"$f":"INDEX(Voucher_Date_1819,MATCH(ROWS('Bill Register 20-21'!$L$3:'Bill Register 20-21'!L242),COUNTIF(Voucher_Date_1819,\"<=\"&Voucher_Date_1819),0))","v":{"$error":"#N/A"}},{"$f":"INDEX(Voucher_Date_1819,MATCH(SMALL(IF(ISBLANK(Voucher_Date_1819),\"\",IF(ISNUMBER(Voucher_Date_1819),COUNTIF(Voucher_Date_1819,\"<\"&Voucher_Date_1819),COUNTIF(Voucher_Date_1819,\"<\"&Voucher_Date_1819)+SUM(IF(ISNUMBER(Voucher_Date_1819),1,0))+1)),ROW(A241)),IF(ISBLANK(Voucher_Date_1819),\"\",IF(ISNUMBER(Voucher_Date_1819),COUNTIF(Voucher_Date_1819,\"<\"&Voucher_Date_1819),COUNTIF(Voucher_Date_1819,\"<\"&Voucher_Date_1819)+SUM(IF(ISNUMBER(Voucher_Date_1819),1,0))+1)),0))","v":{"$error":"#NUM!"}}]
[{"$f":"INDEX(Voucher_Date_1819,MATCH(ROWS('Bill Register 20-21'!$L$3:'Bill Register 20-21'!L243),COUNTIF(Voucher_Date_1819,\"<=\"&Voucher_Date_1819),0))","v":{"$error":"#N/A"}},{"$f":"INDEX(Voucher_Date_1819,MATCH(SMALL(IF(ISBLANK(Voucher_Date_1819),\"\",IF(ISNUMBER(Voucher_Date_1819),COUNTIF(Voucher_Date_1819,\"<\"&Voucher_Date_1819),COUNTIF(Voucher_Date_1819,\"<\"&Voucher_Date_1819)+SUM(IF(ISNUMBER(Voucher_Date_1819),1,0))+1)),ROW(A242)),IF(ISBLANK(Voucher_Date_1819),\"\",IF(ISNUMBER(Voucher_Date_1819),COUNTIF(Voucher_Date_1819,\"<\"&Voucher_Date_1819),COUNTIF(Voucher_Date_1819,\"<\"&Voucher_Date_1819)+SUM(IF(ISNUMBER(Voucher_Date_1819),1,0))+1)),0))","v":{"$error":"#NUM!"}}]
[{"$f":"INDEX(Voucher_Date_1819,MATCH(ROWS('Bill Register 20-21'!$L$3:'Bill Register 20-21'!L244),COUNTIF(Voucher_Date_1819,\"<=\"&Voucher_Date_1819),0))","v":{"$error":"#N/A"}},{"$f":"INDEX(Voucher_Date_1819,MATCH(SMALL(IF(ISBLANK(Voucher_Date_1819),\"\",IF(ISNUMBER(Voucher_Date_1819),COUNTIF(Voucher_Date_1819,\"<\"&Voucher_Date_1819),COUNTIF(Voucher_Date_1819,\"<\"&Voucher_Date_1819)+SUM(IF(ISNUMBER(Voucher_Date_1819),1,0))+1)),ROW(A243)),IF(ISBLANK(Voucher_Date_1819),\"\",IF(ISNUMBER(Voucher_Date_1819),COUNTIF(Voucher_Date_1819,\"<\"&Voucher_Date_1819),COUNTIF(Voucher_Date_1819,\"<\"&Voucher_Date_1819)+SUM(IF(ISNUMBER(Voucher_Date_1819),1,0))+1)),0))","v":{"$error":"#NUM!"}}]
[{"$f":"INDEX(Voucher_Date_1819,MATCH(ROWS('Bill Register 20-21'!$L$3:'Bill Register 20-21'!L245),COUNTIF(Voucher_Date_1819,\"<=\"&Voucher_Date_1819),0))","v":{"$error":"#N/A"}},{"$f":"INDEX(Voucher_Date_1819,MATCH(SMALL(IF(ISBLANK(Voucher_Date_1819),\"\",IF(ISNUMBER(Voucher_Date_1819),COUNTIF(Voucher_Date_1819,\"<\"&Voucher_Date_1819),COUNTIF(Voucher_Date_1819,\"<\"&Voucher_Date_1819)+SUM(IF(ISNUMBER(Voucher_Date_1819),1,0))+1)),ROW(A244)),IF(ISBLANK(Voucher_Date_1819),\"\",IF(ISNUMBER(Voucher_Date_1819),COUNTIF(Voucher_Date_1819,\"<\"&Voucher_Date_1819),COUNTIF(Voucher_Date_1819,\"<\"&Voucher_Date_1819)+SUM(IF(ISNUMBER(Voucher_Date_1819),1,0))+1)),0))","v":{"$error":"#NUM!"}}]
[{"$f":"INDEX(Voucher_Date_1819,MATCH(ROWS('Bill Register 20-21'!$L$3:'Bill Register 20-21'!L246),COUNTIF(Voucher_Date_1819,\"<=\"&Voucher_Date_1819),0))","v":{"$error":"#N/A"}},{"$f":"INDEX(Voucher_Date_1819,MATCH(SMALL(IF(ISBLANK(Voucher_Date_1819),\"\",IF(ISNUMBER(Voucher_Date_1819),COUNTIF(Voucher_Date_1819,\"<\"&Voucher_Date_1819),COUNTIF(Voucher_Date_1819,\"<\"&Voucher_Date_1819)+SUM(IF(ISNUMBER(Voucher_Date_1819),1,0))+1)),ROW(A245)),IF(ISBLANK(Voucher_Date_1819),\"\",IF(ISNUMBER(Voucher_Date_1819),COUNTIF(Voucher_Date_1819,\"<\"&Voucher_Date_1819),COUNTIF(Voucher_Date_1819,\"<\"&Voucher_Date_1819)+SUM(IF(ISNUMBER(Voucher_Date_1819),1,0))+1)),0))","v":{"$error":"#NUM!"}}]
[{"$f":"INDEX(Voucher_Date_1819,MATCH(ROWS('Bill Register 20-21'!$L$3:'Bill Register 20-21'!L247),COUNTIF(Voucher_Date_1819,\"<=\"&Voucher_Date_1819),0))","v":{"$error":"#N/A"}},{"$f":"INDEX(Voucher_Date_1819,MATCH(SMALL(IF(ISBLANK(Voucher_Date_1819),\"\",IF(ISNUMBER(Voucher_Date_1819),COUNTIF(Voucher_Date_1819,\"<\"&Voucher_Date_1819),COUNTIF(Voucher_Date_1819,\"<\"&Voucher_Date_1819)+SUM(IF(ISNUMBER(Voucher_Date_1819),1,0))+1)),ROW(A246)),IF(ISBLANK(Voucher_Date_1819),\"\",IF(ISNUMBER(Voucher_Date_1819),COUNTIF(Voucher_Date_1819,\"<\"&Voucher_Date_1819),COUNTIF(Voucher_Date_1819,\"<\"&Voucher_Date_1819)+SUM(IF(ISNUMBER(Voucher_Date_1819),1,0))+1)),0))","v":{"$error":"#NUM!"}}]
[{"$f":"INDEX(Voucher_Date_1819,MATCH(ROWS('Bill Register 20-21'!$L$3:'Bill Register 20-21'!L248),COUNTIF(Voucher_Date_1819,\"<=\"&Voucher_Date_1819),0))","v":{"$error":"#N/A"}},{"$f":"INDEX(Voucher_Date_1819,MATCH(SMALL(IF(ISBLANK(Voucher_Date_1819),\"\",IF(ISNUMBER(Voucher_Date_1819),COUNTIF(Voucher_Date_1819,\"<\"&Voucher_Date_1819),COUNTIF(Voucher_Date_1819,\"<\"&Voucher_Date_1819)+SUM(IF(ISNUMBER(Voucher_Date_1819),1,0))+1)),ROW(A247)),IF(ISBLANK(Voucher_Date_1819),\"\",IF(ISNUMBER(Voucher_Date_1819),COUNTIF(Voucher_Date_1819,\"<\"&Voucher_Date_1819),COUNTIF(Voucher_Date_1819,\"<\"&Voucher_Date_1819)+SUM(IF(ISNUMBER(Voucher_Date_1819),1,0))+1)),0))","v":{"$error":"#NUM!"}}]
[{"$f":"INDEX(Voucher_Date_1819,MATCH(ROWS('Bill Register 20-21'!$L$3:'Bill Register 20-21'!L249),COUNTIF(Voucher_Date_1819,\"<=\"&Voucher_Date_1819),0))","v":{"$error":"#N/A"}},{"$f":"INDEX(Voucher_Date_1819,MATCH(SMALL(IF(ISBLANK(Voucher_Date_1819),\"\",IF(ISNUMBER(Voucher_Date_1819),COUNTIF(Voucher_Date_1819,\"<\"&Voucher_Date_1819),COUNTIF(Voucher_Date_1819,\"<\"&Voucher_Date_1819)+SUM(IF(ISNUMBER(Voucher_Date_1819),1,0))+1)),ROW(A248)),IF(ISBLANK(Voucher_Date_1819),\"\",IF(ISNUMBER(Voucher_Date_1819),COUNTIF(Voucher_Date_1819,\"<\"&Voucher_Date_1819),COUNTIF(Voucher_Date_1819,\"<\"&Voucher_Date_1819)+SUM(IF(ISNUMBER(Voucher_Date_1819),1,0))+1)),0))","v":{"$error":"#NUM!"}}]
[{"$f":"INDEX(Voucher_Date_1819,MATCH(ROWS('Bill Register 20-21'!$L$3:'Bill Register 20-21'!L250),COUNTIF(Voucher_Date_1819,\"<=\"&Voucher_Date_1819),0))","v":{"$error":"#N/A"}},{"$f":"INDEX(Voucher_Date_1819,MATCH(SMALL(IF(ISBLANK(Voucher_Date_1819),\"\",IF(ISNUMBER(Voucher_Date_1819),COUNTIF(Voucher_Date_1819,\"<\"&Voucher_Date_1819),COUNTIF(Voucher_Date_1819,\"<\"&Voucher_Date_1819)+SUM(IF(ISNUMBER(Voucher_Date_1819),1,0))+1)),ROW(A249)),IF(ISBLANK(Voucher_Date_1819),\"\",IF(ISNUMBER(Voucher_Date_1819),COUNTIF(Voucher_Date_1819,\"<\"&Voucher_Date_1819),COUNTIF(Voucher_Date_1819,\"<\"&Voucher_Date_1819)+SUM(IF(ISNUMBER(Voucher_Date_1819),1,0))+1)),0))","v":{"$error":"#NUM!"}}]
[{"$f":"INDEX(Voucher_Date_1819,MATCH(ROWS('Bill Register 20-21'!$L$3:'Bill Register 20-21'!L251),COUNTIF(Voucher_Date_1819,\"<=\"&Voucher_Date_1819),0))","v":{"$error":"#N/A"}},{"$f":"INDEX(Voucher_Date_1819,MATCH(SMALL(IF(ISBLANK(Voucher_Date_1819),\"\",IF(ISNUMBER(Voucher_Date_1819),COUNTIF(Voucher_Date_1819,\"<\"&Voucher_Date_1819),COUNTIF(Voucher_Date_1819,\"<\"&Voucher_Date_1819)+SUM(IF(ISNUMBER(Voucher_Date_1819),1,0))+1)),ROW(A250)),IF(ISBLANK(Voucher_Date_1819),\"\",IF(ISNUMBER(Voucher_Date_1819),COUNTIF(Voucher_Date_1819,\"<\"&Voucher_Date_1819),COUNTIF(Voucher_Date_1819,\"<\"&Voucher_Date_1819)+SUM(IF(ISNUMBER(Voucher_Date_1819),1,0))+1)),0))","v":{"$error":"#NUM!"}}]
[{"$f":"INDEX(Voucher_Date_1819,MATCH(ROWS('Bill Register 20-21'!$L$3:'Bill Register 20-21'!L252),COUNTIF(Voucher_Date_1819,\"<=\"&Voucher_Date_1819),0))","v":{"$error":"#N/A"}},{"$f":"INDEX(Voucher_Date_1819,MATCH(SMALL(IF(ISBLANK(Voucher_Date_1819),\"\",IF(ISNUMBER(Voucher_Date_1819),COUNTIF(Voucher_Date_1819,\"<\"&Voucher_Date_1819),COUNTIF(Voucher_Date_1819,\"<\"&Voucher_Date_1819)+SUM(IF(ISNUMBER(Voucher_Date_1819),1,0))+1)),ROW(A251)),IF(ISBLANK(Voucher_Date_1819),\"\",IF(ISNUMBER(Voucher_Date_1819),COUNTIF(Voucher_Date_1819,\"<\"&Voucher_Date_1819),COUNTIF(Voucher_Date_1819,\"<\"&Voucher_Date_1819)+SUM(IF(ISNUMBER(Voucher_Date_1819),1,0))+1)),0))","v":{"$error":"#NUM!"}}]
[{"$f":"INDEX(Voucher_Date_1819,MATCH(ROWS('Bill Register 20-21'!$L$3:'Bill Register 20-21'!L253),COUNTIF(Voucher_Date_1819,\"<=\"&Voucher_Date_1819),0))","v":{"$error":"#N/A"}},{"$f":"INDEX(Voucher_Date_1819,MATCH(SMALL(IF(ISBLANK(Voucher_Date_1819),\"\",IF(ISNUMBER(Voucher_Date_1819),COUNTIF(Voucher_Date_1819,\"<\"&Voucher_Date_1819),COUNTIF(Voucher_Date_1819,\"<\"&Voucher_Date_1819)+SUM(IF(ISNUMBER(Voucher_Date_1819),1,0))+1)),ROW(A252)),IF(ISBLANK(Voucher_Date_1819),\"\",IF(ISNUMBER(Voucher_Date_1819),COUNTIF(Voucher_Date_1819,\"<\"&Voucher_Date_1819),COUNTIF(Voucher_Date_1819,\"<\"&Voucher_Date_1819)+SUM(IF(ISNUMBER(Voucher_Date_1819),1,0))+1)),0))","v":{"$error":"#NUM!"}}]
[{"$f":"INDEX(Voucher_Date_1819,MATCH(ROWS('Bill Register 20-21'!$L$3:'Bill Register 20-21'!L254),COUNTIF(Voucher_Date_1819,\"<=\"&Voucher_Date_1819),0))","v":{"$error":"#N/A"}},{"$f":"INDEX(Voucher_Date_1819,MATCH(SMALL(IF(ISBLANK(Voucher_Date_1819),\"\",IF(ISNUMBER(Voucher_Date_1819),COUNTIF(Voucher_Date_1819,\"<\"&Voucher_Date_1819),COUNTIF(Voucher_Date_1819,\"<\"&Voucher_Date_1819)+SUM(IF(ISNUMBER(Voucher_Date_1819),1,0))+1)),ROW(A253)),IF(ISBLANK(Voucher_Date_1819),\"\",IF(ISNUMBER(Voucher_Date_1819),COUNTIF(Voucher_Date_1819,\"<\"&Voucher_Date_1819),COUNTIF(Voucher_Date_1819,\"<\"&Voucher_Date_1819)+SUM(IF(ISNUMBER(Voucher_Date_1819),1,0))+1)),0))","v":{"$error":"#NUM!"}}]
[{"$f":"INDEX(Voucher_Date_1819,MATCH(ROWS('Bill Register 20-21'!$L$3:'Bill Register 20-21'!L255),COUNTIF(Voucher_Date_1819,\"<=\"&Voucher_Date_1819),0))","v":{"$error":"#N/A"}},{"$f":"INDEX(Voucher_Date_1819,MATCH(SMALL(IF(ISBLANK(Voucher_Date_1819),\"\",IF(ISNUMBER(Voucher_Date_1819),COUNTIF(Voucher_Date_1819,\"<\"&Voucher_Date_1819),COUNTIF(Voucher_Date_1819,\"<\"&Voucher_Date_1819)+SUM(IF(ISNUMBER(Voucher_Date_1819),1,0))+1)),ROW(A254)),IF(ISBLANK(Voucher_Date_1819),\"\",IF(ISNUMBER(Voucher_Date_1819),COUNTIF(Voucher_Date_1819,\"<\"&Voucher_Date_1819),COUNTIF(Voucher_Date_1819,\"<\"&Voucher_Date_1819)+SUM(IF(ISNUMBER(Voucher_Date_1819),1,0))+1)),0))","v":{"$error":"#NUM!"}}]
[{"$f":"INDEX(Voucher_Date_1819,MATCH(ROWS('Bill Register 20-21'!$L$3:'Bill Register 20-21'!L256),COUNTIF(Voucher_Date_1819,\"<=\"&Voucher_Date_1819),0))","v":{"$error":"#N/A"}},{"$f":"INDEX(Voucher_Date_1819,MATCH(SMALL(IF(ISBLANK(Voucher_Date_1819),\"\",IF(ISNUMBER(Voucher_Date_1819),COUNTIF(Voucher_Date_1819,\"<\"&Voucher_Date_1819),COUNTIF(Voucher_Date_1819,\"<\"&Voucher_Date_1819)+SUM(IF(ISNUMBER(Voucher_Date_1819),1,0))+1)),ROW(A255)),IF(ISBLANK(Voucher_Date_1819),\"\",IF(ISNUMBER(Voucher_Date_1819),COUNTIF(Voucher_Date_1819,\"<\"&Voucher_Date_1819),COUNTIF(Voucher_Date_1819,\"<\"&Voucher_Date_1819)+SUM(IF(ISNUMBER(Voucher_Date_1819),1,0))+1)),0))","v":{"$error":"#NUM!"}}]
[{"$f":"INDEX(Voucher_Date_1819,MATCH(ROWS('Bill Register 20-21'!$L$3:'Bill Register 20-21'!L257),COUNTIF(Voucher_Date_1819,\"<=\"&Voucher_Date_1819),0))","v":{"$error":"#N/A"}},{"$f":"INDEX(Voucher_Date_1819,MATCH(SMALL(IF(ISBLANK(Voucher_Date_1819),\"\",IF(ISNUMBER(Voucher_Date_1819),COUNTIF(Voucher_Date_1819,\"<\"&Voucher_Date_1819),COUNTIF(Voucher_Date_1819,\"<\"&Voucher_Date_1819)+SUM(IF(ISNUMBER(Voucher_Date_1819),1,0))+1)),ROW(A256)),IF(ISBLANK(Voucher_Date_1819),\"\",IF(ISNUMBER(Voucher_Date_1819),COUNTIF(Voucher_Date_1819,\"<\"&Voucher_Date_1819),COUNTIF(Voucher_Date_1819,\"<\"&Voucher_Date_1819)+SUM(IF(ISNUMBER(Voucher_Date_1819),1,0))+1)),0))","v":{"$error":"#NUM!"}}]
[{"$f":"INDEX(Voucher_Date_1819,MATCH(ROWS('Bill Register 20-21'!$L$3:'Bill Register 20-21'!L258),COUNTIF(Voucher_Date_1819,\"<=\"&Voucher_Date_1819),0))","v":{"$error":"#N/A"}},{"$f":"INDEX(Voucher_Date_1819,MATCH(SMALL(IF(ISBLANK(Voucher_Date_1819),\"\",IF(ISNUMBER(Voucher_Date_1819),COUNTIF(Voucher_Date_1819,\"<\"&Voucher_Date_1819),COUNTIF(Voucher_Date_1819,\"<\"&Voucher_Date_1819)+SUM(IF(ISNUMBER(Voucher_Date_1819),1,0))+1)),ROW(A257)),IF(ISBLANK(Voucher_Date_1819),\"\",IF(ISNUMBER(Voucher_Date_1819),COUNTIF(Voucher_Date_1819,\"<\"&Voucher_Date_1819),COUNTIF(Voucher_Date_1819,\"<\"&Voucher_Date_1819)+SUM(IF(ISNUMBER(Voucher_Date_1819),1,0))+1)),0))","v":{"$error":"#NUM!"}}]
[{"$f":"INDEX(Voucher_Date_1819,MATCH(ROWS('Bill Register 20-21'!$L$3:'Bill Register 20-21'!L259),COUNTIF(Voucher_Date_1819,\"<=\"&Voucher_Date_1819),0))","v":{"$error":"#N/A"}},{"$f":"INDEX(Voucher_Date_1819,MATCH(SMALL(IF(ISBLANK(Voucher_Date_1819),\"\",IF(ISNUMBER(Voucher_Date_1819),COUNTIF(Voucher_Date_1819,\"<\"&Voucher_Date_1819),COUNTIF(Voucher_Date_1819,\"<\"&Voucher_Date_1819)+SUM(IF(ISNUMBER(Voucher_Date_1819),1,0))+1)),ROW(A258)),IF(ISBLANK(Voucher_Date_1819),\"\",IF(ISNUMBER(Voucher_Date_1819),COUNTIF(Voucher_Date_1819,\"<\"&Voucher_Date_1819),COUNTIF(Voucher_Date_1819,\"<\"&Voucher_Date_1819)+SUM(IF(ISNUMBER(Voucher_Date_1819),1,0))+1)),0))","v":{"$error":"#NUM!"}}]
[{"$f":"INDEX(Voucher_Date_1819,MATCH(ROWS('Bill Register 20-21'!$L$3:'Bill Register 20-21'!L260),COUNTIF(Voucher_Date_1819,\"<=\"&Voucher_Date_1819),0))","v":{"$error":"#N/A"}},{"$f":"INDEX(Voucher_Date_1819,MATCH(SMALL(IF(ISBLANK(Voucher_Date_1819),\"\",IF(ISNUMBER(Voucher_Date_1819),COUNTIF(Voucher_Date_1819,\"<\"&Voucher_Date_1819),COUNTIF(Voucher_Date_1819,\"<\"&Voucher_Date_1819)+SUM(IF(ISNUMBER(Voucher_Date_1819),1,0))+1)),ROW(A259)),IF(ISBLANK(Voucher_Date_1819),\"\",IF(ISNUMBER(Voucher_Date_1819),COUNTIF(Voucher_Date_1819,\"<\"&Voucher_Date_1819),COUNTIF(Voucher_Date_1819,\"<\"&Voucher_Date_1819)+SUM(IF(ISNUMBER(Voucher_Date_1819),1,0))+1)),0))","v":{"$error":"#NUM!"}}]
[{"$f":"INDEX(Voucher_Date_1819,MATCH(ROWS('Bill Register 20-21'!$L$3:'Bill Register 20-21'!L261),COUNTIF(Voucher_Date_1819,\"<=\"&Voucher_Date_1819),0))","v":{"$error":"#N/A"}},{"$f":"INDEX(Voucher_Date_1819,MATCH(SMALL(IF(ISBLANK(Voucher_Date_1819),\"\",IF(ISNUMBER(Voucher_Date_1819),COUNTIF(Voucher_Date_1819,\"<\"&Voucher_Date_1819),COUNTIF(Voucher_Date_1819,\"<\"&Voucher_Date_1819)+SUM(IF(ISNUMBER(Voucher_Date_1819),1,0))+1)),ROW(A260)),IF(ISBLANK(Voucher_Date_1819),\"\",IF(ISNUMBER(Voucher_Date_1819),COUNTIF(Voucher_Date_1819,\"<\"&Voucher_Date_1819),COUNTIF(Voucher_Date_1819,\"<\"&Voucher_Date_1819)+SUM(IF(ISNUMBER(Voucher_Date_1819),1,0))+1)),0))","v":{"$error":"#NUM!"}}]
[{"$f":"INDEX(Voucher_Date_1819,MATCH(ROWS('Bill Register 20-21'!$L$3:'Bill Register 20-21'!L262),COUNTIF(Voucher_Date_1819,\"<=\"&Voucher_Date_1819),0))","v":{"$error":"#N/A"}},{"$f":"INDEX(Voucher_Date_1819,MATCH(SMALL(IF(ISBLANK(Voucher_Date_1819),\"\",IF(ISNUMBER(Voucher_Date_1819),COUNTIF(Voucher_Date_1819,\"<\"&Voucher_Date_1819),COUNTIF(Voucher_Date_1819,\"<\"&Voucher_Date_1819)+SUM(IF(ISNUMBER(Voucher_Date_1819),1,0))+1)),ROW(A261)),IF(ISBLANK(Voucher_Date_1819),\"\",IF(ISNUMBER(Voucher_Date_1819),COUNTIF(Voucher_Date_1819,\"<\"&Voucher_Date_1819),COUNTIF(Voucher_Date_1819,\"<\"&Voucher_Date_1819)+SUM(IF(ISNUMBER(Voucher_Date_1819),1,0))+1)),0))","v":{"$error":"#NUM!"}}]
[{"$f":"INDEX(Voucher_Date_1819,MATCH(ROWS('Bill Register 20-21'!$L$3:'Bill Register 20-21'!L263),COUNTIF(Voucher_Date_1819,\"<=\"&Voucher_Date_1819),0))","v":{"$error":"#N/A"}},{"$f":"INDEX(Voucher_Date_1819,MATCH(SMALL(IF(ISBLANK(Voucher_Date_1819),\"\",IF(ISNUMBER(Voucher_Date_1819),COUNTIF(Voucher_Date_1819,\"<\"&Voucher_Date_1819),COUNTIF(Voucher_Date_1819,\"<\"&Voucher_Date_1819)+SUM(IF(ISNUMBER(Voucher_Date_1819),1,0))+1)),ROW(A262)),IF(ISBLANK(Voucher_Date_1819),\"\",IF(ISNUMBER(Voucher_Date_1819),COUNTIF(Voucher_Date_1819,\"<\"&Voucher_Date_1819),COUNTIF(Voucher_Date_1819,\"<\"&Voucher_Date_1819)+SUM(IF(ISNUMBER(Voucher_Date_1819),1,0))+1)),0))","v":{"$error":"#NUM!"}}]
[{"$f":"INDEX(Voucher_Date_1819,MATCH(ROWS('Bill Register 20-21'!$L$3:'Bill Register 20-21'!L264),COUNTIF(Voucher_Date_1819,\"<=\"&Voucher_Date_1819),0))","v":{"$error":"#N/A"}},{"$f":"INDEX(Voucher_Date_1819,MATCH(SMALL(IF(ISBLANK(Voucher_Date_1819),\"\",IF(ISNUMBER(Voucher_Date_1819),COUNTIF(Voucher_Date_1819,\"<\"&Voucher_Date_1819),COUNTIF(Voucher_Date_1819,\"<\"&Voucher_Date_1819)+SUM(IF(ISNUMBER(Voucher_Date_1819),1,0))+1)),ROW(A263)),IF(ISBLANK(Voucher_Date_1819),\"\",IF(ISNUMBER(Voucher_Date_1819),COUNTIF(Voucher_Date_1819,\"<\"&Voucher_Date_1819),COUNTIF(Voucher_Date_1819,\"<\"&Voucher_Date_1819)+SUM(IF(ISNUMBER(Voucher_Date_1819),1,0))+1)),0))","v":{"$error":"#NUM!"}}]
[{"$f":"INDEX(Voucher_Date_1819,MATCH(ROWS('Bill Register 20-21'!$L$3:'Bill Register 20-21'!L265),COUNTIF(Voucher_Date_1819,\"<=\"&Voucher_Date_1819),0))","v":{"$error":"#N/A"}},{"$f":"INDEX(Voucher_Date_1819,MATCH(SMALL(IF(ISBLANK(Voucher_Date_1819),\"\",IF(ISNUMBER(Voucher_Date_1819),COUNTIF(Voucher_Date_1819,\"<\"&Voucher_Date_1819),COUNTIF(Voucher_Date_1819,\"<\"&Voucher_Date_1819)+SUM(IF(ISNUMBER(Voucher_Date_1819),1,0))+1)),ROW(A264)),IF(ISBLANK(Voucher_Date_1819),\"\",IF(ISNUMBER(Voucher_Date_1819),COUNTIF(Voucher_Date_1819,\"<\"&Voucher_Date_1819),COUNTIF(Voucher_Date_1819,\"<\"&Voucher_Date_1819)+SUM(IF(ISNUMBER(Voucher_Date_1819),1,0))+1)),0))","v":{"$error":"#NUM!"}}]
[{"$f":"INDEX(Voucher_Date_1819,MATCH(ROWS('Bill Register 20-21'!$L$3:'Bill Register 20-21'!L266),COUNTIF(Voucher_Date_1819,\"<=\"&Voucher_Date_1819),0))","v":{"$error":"#N/A"}},{"$f":"INDEX(Voucher_Date_1819,MATCH(SMALL(IF(ISBLANK(Voucher_Date_1819),\"\",IF(ISNUMBER(Voucher_Date_1819),COUNTIF(Voucher_Date_1819,\"<\"&Voucher_Date_1819),COUNTIF(Voucher_Date_1819,\"<\"&Voucher_Date_1819)+SUM(IF(ISNUMBER(Voucher_Date_1819),1,0))+1)),ROW(A265)),IF(ISBLANK(Voucher_Date_1819),\"\",IF(ISNUMBER(Voucher_Date_1819),COUNTIF(Voucher_Date_1819,\"<\"&Voucher_Date_1819),COUNTIF(Voucher_Date_1819,\"<\"&Voucher_Date_1819)+SUM(IF(ISNUMBER(Voucher_Date_1819),1,0))+1)),0))","v":{"$error":"#NUM!"}}]
[{"$f":"INDEX(Voucher_Date_1819,MATCH(ROWS('Bill Register 20-21'!$L$3:'Bill Register 20-21'!L267),COUNTIF(Voucher_Date_1819,\"<=\"&Voucher_Date_1819),0))","v":{"$error":"#N/A"}},{"$f":"INDEX(Voucher_Date_1819,MATCH(SMALL(IF(ISBLANK(Voucher_Date_1819),\"\",IF(ISNUMBER(Voucher_Date_1819),COUNTIF(Voucher_Date_1819,\"<\"&Voucher_Date_1819),COUNTIF(Voucher_Date_1819,\"<\"&Voucher_Date_1819)+SUM(IF(ISNUMBER(Voucher_Date_1819),1,0))+1)),ROW(A266)),IF(ISBLANK(Voucher_Date_1819),\"\",IF(ISNUMBER(Voucher_Date_1819),COUNTIF(Voucher_Date_1819,\"<\"&Voucher_Date_1819),COUNTIF(Voucher_Date_1819,\"<\"&Voucher_Date_1819)+SUM(IF(ISNUMBER(Voucher_Date_1819),1,0))+1)),0))","v":{"$error":"#NUM!"}}]
[{"$f":"INDEX(Voucher_Date_1819,MATCH(ROWS('Bill Register 20-21'!$L$3:'Bill Register 20-21'!L268),COUNTIF(Voucher_Date_1819,\"<=\"&Voucher_Date_1819),0))","v":{"$error":"#N/A"}},{"$f":"INDEX(Voucher_Date_1819,MATCH(SMALL(IF(ISBLANK(Voucher_Date_1819),\"\",IF(ISNUMBER(Voucher_Date_1819),COUNTIF(Voucher_Date_1819,\"<\"&Voucher_Date_1819),COUNTIF(Voucher_Date_1819,\"<\"&Voucher_Date_1819)+SUM(IF(ISNUMBER(Voucher_Date_1819),1,0))+1)),ROW(A267)),IF(ISBLANK(Voucher_Date_1819),\"\",IF(ISNUMBER(Voucher_Date_1819),COUNTIF(Voucher_Date_1819,\"<\"&Voucher_Date_1819),COUNTIF(Voucher_Date_1819,\"<\"&Voucher_Date_1819)+SUM(IF(ISNUMBER(Voucher_Date_1819),1,0))+1)),0))","v":{"$error":"#NUM!"}}]
[{"$f":"INDEX(Voucher_Date_1819,MATCH(ROWS('Bill Register 20-21'!$L$3:'Bill Register 20-21'!L269),COUNTIF(Voucher_Date_1819,\"<=\"&Voucher_Date_1819),0))","v":{"$error":"#N/A"}},{"$f":"INDEX(Voucher_Date_1819,MATCH(SMALL(IF(ISBLANK(Voucher_Date_1819),\"\",IF(ISNUMBER(Voucher_Date_1819),COUNTIF(Voucher_Date_1819,\"<\"&Voucher_Date_1819),COUNTIF(Voucher_Date_1819,\"<\"&Voucher_Date_1819)+SUM(IF(ISNUMBER(Voucher_Date_1819),1,0))+1)),ROW(A268)),IF(ISBLANK(Voucher_Date_1819),\"\",IF(ISNUMBER(Voucher_Date_1819),COUNTIF(Voucher_Date_1819,\"<\"&Voucher_Date_1819),COUNTIF(Voucher_Date_1819,\"<\"&Voucher_Date_1819)+SUM(IF(ISNUMBER(Voucher_Date_1819),1,0))+1)),0))","v":{"$error":"#NUM!"}}]
[{"$f":"INDEX(Voucher_Date_1819,MATCH(ROWS('Bill Register 20-21'!$L$3:'Bill Register 20-21'!L270),COUNTIF(Voucher_Date_1819,\"<=\"&Voucher_Date_1819),0))","v":{"$error":"#N/A"}},{"$f":"INDEX(Voucher_Date_1819,MATCH(SMALL(IF(ISBLANK(Voucher_Date_1819),\"\",IF(ISNUMBER(Voucher_Date_1819),COUNTIF(Voucher_Date_1819,\"<\"&Voucher_Date_1819),COUNTIF(Voucher_Date_1819,\"<\"&Voucher_Date_1819)+SUM(IF(ISNUMBER(Voucher_Date_1819),1,0))+1)),ROW(A269)),IF(ISBLANK(Voucher_Date_1819),\"\",IF(ISNUMBER(Voucher_Date_1819),COUNTIF(Voucher_Date_1819,\"<\"&Voucher_Date_1819),COUNTIF(Voucher_Date_1819,\"<\"&Voucher_Date_1819)+SUM(IF(ISNUMBER(Voucher_Date_1819),1,0))+1)),0))","v":{"$error":"#NUM!"}}]
[{"$f":"INDEX(Voucher_Date_1819,MATCH(ROWS('Bill Register 20-21'!$L$3:'Bill Register 20-21'!L271),COUNTIF(Voucher_Date_1819,\"<=\"&Voucher_Date_1819),0))","v":{"$error":"#N/A"}},{"$f":"INDEX(Voucher_Date_1819,MATCH(SMALL(IF(ISBLANK(Voucher_Date_1819),\"\",IF(ISNUMBER(Voucher_Date_1819),COUNTIF(Voucher_Date_1819,\"<\"&Voucher_Date_1819),COUNTIF(Voucher_Date_1819,\"<\"&Voucher_Date_1819)+SUM(IF(ISNUMBER(Voucher_Date_1819),1,0))+1)),ROW(A270)),IF(ISBLANK(Voucher_Date_1819),\"\",IF(ISNUMBER(Voucher_Date_1819),COUNTIF(Voucher_Date_1819,\"<\"&Voucher_Date_1819),COUNTIF(Voucher_Date_1819,\"<\"&Voucher_Date_1819)+SUM(IF(ISNUMBER(Voucher_Date_1819),1,0))+1)),0))","v":{"$error":"#NUM!"}}]
[{"$f":"INDEX(Voucher_Date_1819,MATCH(ROWS('Bill Register 20-21'!$L$3:'Bill Register 20-21'!L272),COUNTIF(Voucher_Date_1819,\"<=\"&Voucher_Date_1819),0))","v":{"$error":"#N/A"}},{"$f":"INDEX(Voucher_Date_1819,MATCH(SMALL(IF(ISBLANK(Voucher_Date_1819),\"\",IF(ISNUMBER(Voucher_Date_1819),COUNTIF(Voucher_Date_1819,\"<\"&Voucher_Date_1819),COUNTIF(Voucher_Date_1819,\"<\"&Voucher_Date_1819)+SUM(IF(ISNUMBER(Voucher_Date_1819),1,0))+1)),ROW(A271)),IF(ISBLANK(Voucher_Date_1819),\"\",IF(ISNUMBER(Voucher_Date_1819),COUNTIF(Voucher_Date_1819,\"<\"&Voucher_Date_1819),COUNTIF(Voucher_Date_1819,\"<\"&Voucher_Date_1819)+SUM(IF(ISNUMBER(Voucher_Date_1819),1,0))+1)),0))","v":{"$error":"#NUM!"}}]
[{"$f":"INDEX(Voucher_Date_1819,MATCH(ROWS('Bill Register 20-21'!$L$3:'Bill Register 20-21'!L273),COUNTIF(Voucher_Date_1819,\"<=\"&Voucher_Date_1819),0))","v":{"$error":"#N/A"}},{"$f":"INDEX(Voucher_Date_1819,MATCH(SMALL(IF(ISBLANK(Voucher_Date_1819),\"\",IF(ISNUMBER(Voucher_Date_1819),COUNTIF(Voucher_Date_1819,\"<\"&Voucher_Date_1819),COUNTIF(Voucher_Date_1819,\"<\"&Voucher_Date_1819)+SUM(IF(ISNUMBER(Voucher_Date_1819),1,0))+1)),ROW(A272)),IF(ISBLANK(Voucher_Date_1819),\"\",IF(ISNUMBER(Voucher_Date_1819),COUNTIF(Voucher_Date_1819,\"<\"&Voucher_Date_1819),COUNTIF(Voucher_Date_1819,\"<\"&Voucher_Date_1819)+SUM(IF(ISNUMBER(Voucher_Date_1819),1,0))+1)),0))","v":{"$error":"#NUM!"}}]
[{"$f":"INDEX(Voucher_Date_1819,MATCH(ROWS('Bill Register 20-21'!$L$3:'Bill Register 20-21'!L274),COUNTIF(Voucher_Date_1819,\"<=\"&Voucher_Date_1819),0))","v":{"$error":"#N/A"}},{"$f":"INDEX(Voucher_Date_1819,MATCH(SMALL(IF(ISBLANK(Voucher_Date_1819),\"\",IF(ISNUMBER(Voucher_Date_1819),COUNTIF(Voucher_Date_1819,\"<\"&Voucher_Date_1819),COUNTIF(Voucher_Date_1819,\"<\"&Voucher_Date_1819)+SUM(IF(ISNUMBER(Voucher_Date_1819),1,0))+1)),ROW(A273)),IF(ISBLANK(Voucher_Date_1819),\"\",IF(ISNUMBER(Voucher_Date_1819),COUNTIF(Voucher_Date_1819,\"<\"&Voucher_Date_1819),COUNTIF(Voucher_Date_1819,\"<\"&Voucher_Date_1819)+SUM(IF(ISNUMBER(Voucher_Date_1819),1,0))+1)),0))","v":{"$error":"#NUM!"}}]
[{"$f":"INDEX(Voucher_Date_1819,MATCH(ROWS('Bill Register 20-21'!$L$3:'Bill Register 20-21'!L275),COUNTIF(Voucher_Date_1819,\"<=\"&Voucher_Date_1819),0))","v":{"$error":"#N/A"}},{"$f":"INDEX(Voucher_Date_1819,MATCH(SMALL(IF(ISBLANK(Voucher_Date_1819),\"\",IF(ISNUMBER(Voucher_Date_1819),COUNTIF(Voucher_Date_1819,\"<\"&Voucher_Date_1819),COUNTIF(Voucher_Date_1819,\"<\"&Voucher_Date_1819)+SUM(IF(ISNUMBER(Voucher_Date_1819),1,0))+1)),ROW(A274)),IF(ISBLANK(Voucher_Date_1819),\"\",IF(ISNUMBER(Voucher_Date_1819),COUNTIF(Voucher_Date_1819,\"<\"&Voucher_Date_1819),COUNTIF(Voucher_Date_1819,\"<\"&Voucher_Date_1819)+SUM(IF(ISNUMBER(Voucher_Date_1819),1,0))+1)),0))","v":{"$error":"#NUM!"}}]
[{"$f":"INDEX(Voucher_Date_1819,MATCH(ROWS('Bill Register 20-21'!$L$3:'Bill Register 20-21'!L276),COUNTIF(Voucher_Date_1819,\"<=\"&Voucher_Date_1819),0))","v":{"$error":"#N/A"}},{"$f":"INDEX(Voucher_Date_1819,MATCH(SMALL(IF(ISBLANK(Voucher_Date_1819),\"\",IF(ISNUMBER(Voucher_Date_1819),COUNTIF(Voucher_Date_1819,\"<\"&Voucher_Date_1819),COUNTIF(Voucher_Date_1819,\"<\"&Voucher_Date_1819)+SUM(IF(ISNUMBER(Voucher_Date_1819),1,0))+1)),ROW(A275)),IF(ISBLANK(Voucher_Date_1819),\"\",IF(ISNUMBER(Voucher_Date_1819),COUNTIF(Voucher_Date_1819,\"<\"&Voucher_Date_1819),COUNTIF(Voucher_Date_1819,\"<\"&Voucher_Date_1819)+SUM(IF(ISNUMBER(Voucher_Date_1819),1,0))+1)),0))","v":{"$error":"#NUM!"}}]
[{"$f":"INDEX(Voucher_Date_1819,MATCH(ROWS('Bill Register 20-21'!$L$3:'Bill Register 20-21'!L277),COUNTIF(Voucher_Date_1819,\"<=\"&Voucher_Date_1819),0))","v":{"$error":"#N/A"}},{"$f":"INDEX(Voucher_Date_1819,MATCH(SMALL(IF(ISBLANK(Voucher_Date_1819),\"\",IF(ISNUMBER(Voucher_Date_1819),COUNTIF(Voucher_Date_1819,\"<\"&Voucher_Date_1819),COUNTIF(Voucher_Date_1819,\"<\"&Voucher_Date_1819)+SUM(IF(ISNUMBER(Voucher_Date_1819),1,0))+1)),ROW(A276)),IF(ISBLANK(Voucher_Date_1819),\"\",IF(ISNUMBER(Voucher_Date_1819),COUNTIF(Voucher_Date_1819,\"<\"&Voucher_Date_1819),COUNTIF(Voucher_Date_1819,\"<\"&Voucher_Date_1819)+SUM(IF(ISNUMBER(Voucher_Date_1819),1,0))+1)),0))","v":{"$error":"#NUM!"}}]
[{"$f":"INDEX(Voucher_Date_1819,MATCH(ROWS('Bill Register 20-21'!$L$3:'Bill Register 20-21'!L278),COUNTIF(Voucher_Date_1819,\"<=\"&Voucher_Date_1819),0))","v":{"$error":"#N/A"}},{"$f":"INDEX(Voucher_Date_1819,MATCH(SMALL(IF(ISBLANK(Voucher_Date_1819),\"\",IF(ISNUMBER(Voucher_Date_1819),COUNTIF(Voucher_Date_1819,\"<\"&Voucher_Date_1819),COUNTIF(Voucher_Date_1819,\"<\"&Voucher_Date_1819)+SUM(IF(ISNUMBER(Voucher_Date_1819),1,0))+1)),ROW(A277)),IF(ISBLANK(Voucher_Date_1819),\"\",IF(ISNUMBER(Voucher_Date_1819),COUNTIF(Voucher_Date_1819,\"<\"&Voucher_Date_1819),COUNTIF(Voucher_Date_1819,\"<\"&Voucher_Date_1819)+SUM(IF(ISNUMBER(Voucher_Date_1819),1,0))+1)),0))","v":{"$error":"#NUM!"}}]
[{"$f":"INDEX(Voucher_Date_1819,MATCH(ROWS('Bill Register 20-21'!$L$3:'Bill Register 20-21'!L279),COUNTIF(Voucher_Date_1819,\"<=\"&Voucher_Date_1819),0))","v":{"$error":"#N/A"}},{"$f":"INDEX(Voucher_Date_1819,MATCH(SMALL(IF(ISBLANK(Voucher_Date_1819),\"\",IF(ISNUMBER(Voucher_Date_1819),COUNTIF(Voucher_Date_1819,\"<\"&Voucher_Date_1819),COUNTIF(Voucher_Date_1819,\"<\"&Voucher_Date_1819)+SUM(IF(ISNUMBER(Voucher_Date_1819),1,0))+1)),ROW(A278)),IF(ISBLANK(Voucher_Date_1819),\"\",IF(ISNUMBER(Voucher_Date_1819),COUNTIF(Voucher_Date_1819,\"<\"&Voucher_Date_1819),COUNTIF(Voucher_Date_1819,\"<\"&Voucher_Date_1819)+SUM(IF(ISNUMBER(Voucher_Date_1819),1,0))+1)),0))","v":{"$error":"#NUM!"}}]
[{"$f":"INDEX(Voucher_Date_1819,MATCH(ROWS('Bill Register 20-21'!$L$3:'Bill Register 20-21'!L280),COUNTIF(Voucher_Date_1819,\"<=\"&Voucher_Date_1819),0))","v":{"$error":"#N/A"}},{"$f":"INDEX(Voucher_Date_1819,MATCH(SMALL(IF(ISBLANK(Voucher_Date_1819),\"\",IF(ISNUMBER(Voucher_Date_1819),COUNTIF(Voucher_Date_1819,\"<\"&Voucher_Date_1819),COUNTIF(Voucher_Date_1819,\"<\"&Voucher_Date_1819)+SUM(IF(ISNUMBER(Voucher_Date_1819),1,0))+1)),ROW(A279)),IF(ISBLANK(Voucher_Date_1819),\"\",IF(ISNUMBER(Voucher_Date_1819),COUNTIF(Voucher_Date_1819,\"<\"&Voucher_Date_1819),COUNTIF(Voucher_Date_1819,\"<\"&Voucher_Date_1819)+SUM(IF(ISNUMBER(Voucher_Date_1819),1,0))+1)),0))","v":{"$error":"#NUM!"}}]
[{"$f":"INDEX(Voucher_Date_1819,MATCH(ROWS('Bill Register 20-21'!$L$3:'Bill Register 20-21'!L281),COUNTIF(Voucher_Date_1819,\"<=\"&Voucher_Date_1819),0))","v":{"$error":"#N/A"}},{"$f":"INDEX(Voucher_Date_1819,MATCH(SMALL(IF(ISBLANK(Voucher_Date_1819),\"\",IF(ISNUMBER(Voucher_Date_1819),COUNTIF(Voucher_Date_1819,\"<\"&Voucher_Date_1819),COUNTIF(Voucher_Date_1819,\"<\"&Voucher_Date_1819)+SUM(IF(ISNUMBER(Voucher_Date_1819),1,0))+1)),ROW(A280)),IF(ISBLANK(Voucher_Date_1819),\"\",IF(ISNUMBER(Voucher_Date_1819),COUNTIF(Voucher_Date_1819,\"<\"&Voucher_Date_1819),COUNTIF(Voucher_Date_1819,\"<\"&Voucher_Date_1819)+SUM(IF(ISNUMBER(Voucher_Date_1819),1,0))+1)),0))","v":{"$error":"#NUM!"}}]
[{"$f":"INDEX(Voucher_Date_1819,MATCH(ROWS('Bill Register 20-21'!$L$3:'Bill Register 20-21'!L282),COUNTIF(Voucher_Date_1819,\"<=\"&Voucher_Date_1819),0))","v":{"$error":"#N/A"}},{"$f":"INDEX(Voucher_Date_1819,MATCH(SMALL(IF(ISBLANK(Voucher_Date_1819),\"\",IF(ISNUMBER(Voucher_Date_1819),COUNTIF(Voucher_Date_1819,\"<\"&Voucher_Date_1819),COUNTIF(Voucher_Date_1819,\"<\"&Voucher_Date_1819)+SUM(IF(ISNUMBER(Voucher_Date_1819),1,0))+1)),ROW(A281)),IF(ISBLANK(Voucher_Date_1819),\"\",IF(ISNUMBER(Voucher_Date_1819),COUNTIF(Voucher_Date_1819,\"<\"&Voucher_Date_1819),COUNTIF(Voucher_Date_1819,\"<\"&Voucher_Date_1819)+SUM(IF(ISNUMBER(Voucher_Date_1819),1,0))+1)),0))","v":{"$error":"#NUM!"}}]
[{"$f":"INDEX(Voucher_Date_1819,MATCH(ROWS('Bill Register 20-21'!$L$3:'Bill Register 20-21'!L283),COUNTIF(Voucher_Date_1819,\"<=\"&Voucher_Date_1819),0))","v":{"$error":"#N/A"}},{"$f":"INDEX(Voucher_Date_1819,MATCH(SMALL(IF(ISBLANK(Voucher_Date_1819),\"\",IF(ISNUMBER(Voucher_Date_1819),COUNTIF(Voucher_Date_1819,\"<\"&Voucher_Date_1819),COUNTIF(Voucher_Date_1819,\"<\"&Voucher_Date_1819)+SUM(IF(ISNUMBER(Voucher_Date_1819),1,0))+1)),ROW(A282)),IF(ISBLANK(Voucher_Date_1819),\"\",IF(ISNUMBER(Voucher_Date_1819),COUNTIF(Voucher_Date_1819,\"<\"&Voucher_Date_1819),COUNTIF(Voucher_Date_1819,\"<\"&Voucher_Date_1819)+SUM(IF(ISNUMBER(Voucher_Date_1819),1,0))+1)),0))","v":{"$error":"#NUM!"}}]
[{"$f":"INDEX(Voucher_Date_1819,MATCH(ROWS('Bill Register 20-21'!$L$3:'Bill Register 20-21'!L284),COUNTIF(Voucher_Date_1819,\"<=\"&Voucher_Date_1819),0))","v":{"$error":"#N/A"}},{"$f":"INDEX(Voucher_Date_1819,MATCH(SMALL(IF(ISBLANK(Voucher_Date_1819),\"\",IF(ISNUMBER(Voucher_Date_1819),COUNTIF(Voucher_Date_1819,\"<\"&Voucher_Date_1819),COUNTIF(Voucher_Date_1819,\"<\"&Voucher_Date_1819)+SUM(IF(ISNUMBER(Voucher_Date_1819),1,0))+1)),ROW(A283)),IF(ISBLANK(Voucher_Date_1819),\"\",IF(ISNUMBER(Voucher_Date_1819),COUNTIF(Voucher_Date_1819,\"<\"&Voucher_Date_1819),COUNTIF(Voucher_Date_1819,\"<\"&Voucher_Date_1819)+SUM(IF(ISNUMBER(Voucher_Date_1819),1,0))+1)),0))","v":{"$error":"#NUM!"}}]
[{"$f":"INDEX(Voucher_Date_1819,MATCH(ROWS('Bill Register 20-21'!$L$3:'Bill Register 20-21'!L285),COUNTIF(Voucher_Date_1819,\"<=\"&Voucher_Date_1819),0))","v":{"$error":"#N/A"}},{"$f":"INDEX(Voucher_Date_1819,MATCH(SMALL(IF(ISBLANK(Voucher_Date_1819),\"\",IF(ISNUMBER(Voucher_Date_1819),COUNTIF(Voucher_Date_1819,\"<\"&Voucher_Date_1819),COUNTIF(Voucher_Date_1819,\"<\"&Voucher_Date_1819)+SUM(IF(ISNUMBER(Voucher_Date_1819),1,0))+1)),ROW(A284)),IF(ISBLANK(Voucher_Date_1819),\"\",IF(ISNUMBER(Voucher_Date_1819),COUNTIF(Voucher_Date_1819,\"<\"&Voucher_Date_1819),COUNTIF(Voucher_Date_1819,\"<\"&Voucher_Date_1819)+SUM(IF(ISNUMBER(Voucher_Date_1819),1,0))+1)),0))","v":{"$error":"#NUM!"}}]
[{"$f":"INDEX(Voucher_Date_1819,MATCH(ROWS('Bill Register 20-21'!$L$3:'Bill Register 20-21'!L286),COUNTIF(Voucher_Date_1819,\"<=\"&Voucher_Date_1819),0))","v":{"$error":"#N/A"}},{"$f":"INDEX(Voucher_Date_1819,MATCH(SMALL(IF(ISBLANK(Voucher_Date_1819),\"\",IF(ISNUMBER(Voucher_Date_1819),COUNTIF(Voucher_Date_1819,\"<\"&Voucher_Date_1819),COUNTIF(Voucher_Date_1819,\"<\"&Voucher_Date_1819)+SUM(IF(ISNUMBER(Voucher_Date_1819),1,0))+1)),ROW(A285)),IF(ISBLANK(Voucher_Date_1819),\"\",IF(ISNUMBER(Voucher_Date_1819),COUNTIF(Voucher_Date_1819,\"<\"&Voucher_Date_1819),COUNTIF(Voucher_Date_1819,\"<\"&Voucher_Date_1819)+SUM(IF(ISNUMBER(Voucher_Date_1819),1,0))+1)),0))","v":{"$error":"#NUM!"}}]
[{"$f":"INDEX(Voucher_Date_1819,MATCH(ROWS('Bill Register 20-21'!$L$3:'Bill Register 20-21'!L287),COUNTIF(Voucher_Date_1819,\"<=\"&Voucher_Date_1819),0))","v":{"$error":"#N/A"}},{"$f":"INDEX(Voucher_Date_1819,MATCH(SMALL(IF(ISBLANK(Voucher_Date_1819),\"\",IF(ISNUMBER(Voucher_Date_1819),COUNTIF(Voucher_Date_1819,\"<\"&Voucher_Date_1819),COUNTIF(Voucher_Date_1819,\"<\"&Voucher_Date_1819)+SUM(IF(ISNUMBER(Voucher_Date_1819),1,0))+1)),ROW(A286)),IF(ISBLANK(Voucher_Date_1819),\"\",IF(ISNUMBER(Voucher_Date_1819),COUNTIF(Voucher_Date_1819,\"<\"&Voucher_Date_1819),COUNTIF(Voucher_Date_1819,\"<\"&Voucher_Date_1819)+SUM(IF(ISNUMBER(Voucher_Date_1819),1,0))+1)),0))","v":{"$error":"#NUM!"}}]
[{"$f":"INDEX(Voucher_Date_1819,MATCH(ROWS('Bill Register 20-21'!$L$3:'Bill Register 20-21'!L288),COUNTIF(Voucher_Date_1819,\"<=\"&Voucher_Date_1819),0))","v":{"$error":"#N/A"}},{"$f":"INDEX(Voucher_Date_1819,MATCH(SMALL(IF(ISBLANK(Voucher_Date_1819),\"\",IF(ISNUMBER(Voucher_Date_1819),COUNTIF(Voucher_Date_1819,\"<\"&Voucher_Date_1819),COUNTIF(Voucher_Date_1819,\"<\"&Voucher_Date_1819)+SUM(IF(ISNUMBER(Voucher_Date_1819),1,0))+1)),ROW(A287)),IF(ISBLANK(Voucher_Date_1819),\"\",IF(ISNUMBER(Voucher_Date_1819),COUNTIF(Voucher_Date_1819,\"<\"&Voucher_Date_1819),COUNTIF(Voucher_Date_1819,\"<\"&Voucher_Date_1819)+SUM(IF(ISNUMBER(Voucher_Date_1819),1,0))+1)),0))","v":{"$error":"#NUM!"}}]
[{"$f":"INDEX(Voucher_Date_1819,MATCH(ROWS('Bill Register 20-21'!$L$3:'Bill Register 20-21'!L289),COUNTIF(Voucher_Date_1819,\"<=\"&Voucher_Date_1819),0))","v":{"$error":"#N/A"}},{"$f":"INDEX(Voucher_Date_1819,MATCH(SMALL(IF(ISBLANK(Voucher_Date_1819),\"\",IF(ISNUMBER(Voucher_Date_1819),COUNTIF(Voucher_Date_1819,\"<\"&Voucher_Date_1819),COUNTIF(Voucher_Date_1819,\"<\"&Voucher_Date_1819)+SUM(IF(ISNUMBER(Voucher_Date_1819),1,0))+1)),ROW(A288)),IF(ISBLANK(Voucher_Date_1819),\"\",IF(ISNUMBER(Voucher_Date_1819),COUNTIF(Voucher_Date_1819,\"<\"&Voucher_Date_1819),COUNTIF(Voucher_Date_1819,\"<\"&Voucher_Date_1819)+SUM(IF(ISNUMBER(Voucher_Date_1819),1,0))+1)),0))","v":{"$error":"#NUM!"}}]
[{"$f":"INDEX(Voucher_Date_1819,MATCH(ROWS('Bill Register 20-21'!$L$3:'Bill Register 20-21'!L290),COUNTIF(Voucher_Date_1819,\"<=\"&Voucher_Date_1819),0))","v":{"$error":"#N/A"}},{"$f":"INDEX(Voucher_Date_1819,MATCH(SMALL(IF(ISBLANK(Voucher_Date_1819),\"\",IF(ISNUMBER(Voucher_Date_1819),COUNTIF(Voucher_Date_1819,\"<\"&Voucher_Date_1819),COUNTIF(Voucher_Date_1819,\"<\"&Voucher_Date_1819)+SUM(IF(ISNUMBER(Voucher_Date_1819),1,0))+1)),ROW(A289)),IF(ISBLANK(Voucher_Date_1819),\"\",IF(ISNUMBER(Voucher_Date_1819),COUNTIF(Voucher_Date_1819,\"<\"&Voucher_Date_1819),COUNTIF(Voucher_Date_1819,\"<\"&Voucher_Date_1819)+SUM(IF(ISNUMBER(Voucher_Date_1819),1,0))+1)),0))","v":{"$error":"#NUM!"}}]
[{"$f":"INDEX(Voucher_Date_1819,MATCH(ROWS('Bill Register 20-21'!$L$3:'Bill Register 20-21'!L291),COUNTIF(Voucher_Date_1819,\"<=\"&Voucher_Date_1819),0))","v":{"$error":"#N/A"}},{"$f":"INDEX(Voucher_Date_1819,MATCH(SMALL(IF(ISBLANK(Voucher_Date_1819),\"\",IF(ISNUMBER(Voucher_Date_1819),COUNTIF(Voucher_Date_1819,\"<\"&Voucher_Date_1819),COUNTIF(Voucher_Date_1819,\"<\"&Voucher_Date_1819)+SUM(IF(ISNUMBER(Voucher_Date_1819),1,0))+1)),ROW(A290)),IF(ISBLANK(Voucher_Date_1819),\"\",IF(ISNUMBER(Voucher_Date_1819),COUNTIF(Voucher_Date_1819,\"<\"&Voucher_Date_1819),COUNTIF(Voucher_Date_1819,\"<\"&Voucher_Date_1819)+SUM(IF(ISNUMBER(Voucher_Date_1819),1,0))+1)),0))","v":{"$error":"#NUM!"}}]
[{"$f":"INDEX(Voucher_Date_1819,MATCH(ROWS('Bill Register 20-21'!$L$3:'Bill Register 20-21'!L292),COUNTIF(Voucher_Date_1819,\"<=\"&Voucher_Date_1819),0))","v":{"$error":"#N/A"}},{"$f":"INDEX(Voucher_Date_1819,MATCH(SMALL(IF(ISBLANK(Voucher_Date_1819),\"\",IF(ISNUMBER(Voucher_Date_1819),COUNTIF(Voucher_Date_1819,\"<\"&Voucher_Date_1819),COUNTIF(Voucher_Date_1819,\"<\"&Voucher_Date_1819)+SUM(IF(ISNUMBER(Voucher_Date_1819),1,0))+1)),ROW(A291)),IF(ISBLANK(Voucher_Date_1819),\"\",IF(ISNUMBER(Voucher_Date_1819),COUNTIF(Voucher_Date_1819,\"<\"&Voucher_Date_1819),COUNTIF(Voucher_Date_1819,\"<\"&Voucher_Date_1819)+SUM(IF(ISNUMBER(Voucher_Date_1819),1,0))+1)),0))","v":{"$error":"#NUM!"}}]
[{"$f":"INDEX(Voucher_Date_1819,MATCH(ROWS('Bill Register 20-21'!$L$3:'Bill Register 20-21'!L293),COUNTIF(Voucher_Date_1819,\"<=\"&Voucher_Date_1819),0))","v":{"$error":"#N/A"}},{"$f":"INDEX(Voucher_Date_1819,MATCH(SMALL(IF(ISBLANK(Voucher_Date_1819),\"\",IF(ISNUMBER(Voucher_Date_1819),COUNTIF(Voucher_Date_1819,\"<\"&Voucher_Date_1819),COUNTIF(Voucher_Date_1819,\"<\"&Voucher_Date_1819)+SUM(IF(ISNUMBER(Voucher_Date_1819),1,0))+1)),ROW(A292)),IF(ISBLANK(Voucher_Date_1819),\"\",IF(ISNUMBER(Voucher_Date_1819),COUNTIF(Voucher_Date_1819,\"<\"&Voucher_Date_1819),COUNTIF(Voucher_Date_1819,\"<\"&Voucher_Date_1819)+SUM(IF(ISNUMBER(Voucher_Date_1819),1,0))+1)),0))","v":{"$error":"#NUM!"}}]
[{"$f":"INDEX(Voucher_Date_1819,MATCH(ROWS('Bill Register 20-21'!$L$3:'Bill Register 20-21'!L294),COUNTIF(Voucher_Date_1819,\"<=\"&Voucher_Date_1819),0))","v":{"$error":"#N/A"}},{"$f":"INDEX(Voucher_Date_1819,MATCH(SMALL(IF(ISBLANK(Voucher_Date_1819),\"\",IF(ISNUMBER(Voucher_Date_1819),COUNTIF(Voucher_Date_1819,\"<\"&Voucher_Date_1819),COUNTIF(Voucher_Date_1819,\"<\"&Voucher_Date_1819)+SUM(IF(ISNUMBER(Voucher_Date_1819),1,0))+1)),ROW(A293)),IF(ISBLANK(Voucher_Date_1819),\"\",IF(ISNUMBER(Voucher_Date_1819),COUNTIF(Voucher_Date_1819,\"<\"&Voucher_Date_1819),COUNTIF(Voucher_Date_1819,\"<\"&Voucher_Date_1819)+SUM(IF(ISNUMBER(Voucher_Date_1819),1,0))+1)),0))","v":{"$error":"#NUM!"}}]
[{"$f":"INDEX(Voucher_Date_1819,MATCH(ROWS('Bill Register 20-21'!$L$3:'Bill Register 20-21'!L295),COUNTIF(Voucher_Date_1819,\"<=\"&Voucher_Date_1819),0))","v":{"$error":"#N/A"}},{"$f":"INDEX(Voucher_Date_1819,MATCH(SMALL(IF(ISBLANK(Voucher_Date_1819),\"\",IF(ISNUMBER(Voucher_Date_1819),COUNTIF(Voucher_Date_1819,\"<\"&Voucher_Date_1819),COUNTIF(Voucher_Date_1819,\"<\"&Voucher_Date_1819)+SUM(IF(ISNUMBER(Voucher_Date_1819),1,0))+1)),ROW(A294)),IF(ISBLANK(Voucher_Date_1819),\"\",IF(ISNUMBER(Voucher_Date_1819),COUNTIF(Voucher_Date_1819,\"<\"&Voucher_Date_1819),COUNTIF(Voucher_Date_1819,\"<\"&Voucher_Date_1819)+SUM(IF(ISNUMBER(Voucher_Date_1819),1,0))+1)),0))","v":{"$error":"#NUM!"}}]
[{"$f":"INDEX(Voucher_Date_1819,MATCH(ROWS('Bill Register 20-21'!$L$3:'Bill Register 20-21'!L296),COUNTIF(Voucher_Date_1819,\"<=\"&Voucher_Date_1819),0))","v":{"$error":"#N/A"}},{"$f":"INDEX(Voucher_Date_1819,MATCH(SMALL(IF(ISBLANK(Voucher_Date_1819),\"\",IF(ISNUMBER(Voucher_Date_1819),COUNTIF(Voucher_Date_1819,\"<\"&Voucher_Date_1819),COUNTIF(Voucher_Date_1819,\"<\"&Voucher_Date_1819)+SUM(IF(ISNUMBER(Voucher_Date_1819),1,0))+1)),ROW(A295)),IF(ISBLANK(Voucher_Date_1819),\"\",IF(ISNUMBER(Voucher_Date_1819),COUNTIF(Voucher_Date_1819,\"<\"&Voucher_Date_1819),COUNTIF(Voucher_Date_1819,\"<\"&Voucher_Date_1819)+SUM(IF(ISNUMBER(Voucher_Date_1819),1,0))+1)),0))","v":{"$error":"#NUM!"}}]
[{"$f":"INDEX(Voucher_Date_1819,MATCH(ROWS('Bill Register 20-21'!$L$3:'Bill Register 20-21'!L297),COUNTIF(Voucher_Date_1819,\"<=\"&Voucher_Date_1819),0))","v":{"$error":"#N/A"}},{"$f":"INDEX(Voucher_Date_1819,MATCH(SMALL(IF(ISBLANK(Voucher_Date_1819),\"\",IF(ISNUMBER(Voucher_Date_1819),COUNTIF(Voucher_Date_1819,\"<\"&Voucher_Date_1819),COUNTIF(Voucher_Date_1819,\"<\"&Voucher_Date_1819)+SUM(IF(ISNUMBER(Voucher_Date_1819),1,0))+1)),ROW(A296)),IF(ISBLANK(Voucher_Date_1819),\"\",IF(ISNUMBER(Voucher_Date_1819),COUNTIF(Voucher_Date_1819,\"<\"&Voucher_Date_1819),COUNTIF(Voucher_Date_1819,\"<\"&Voucher_Date_1819)+SUM(IF(ISNUMBER(Voucher_Date_1819),1,0))+1)),0))","v":{"$error":"#NUM!"}}]
[{"$f":"INDEX(Voucher_Date_1819,MATCH(ROWS('Bill Register 20-21'!$L$3:'Bill Register 20-21'!L298),COUNTIF(Voucher_Date_1819,\"<=\"&Voucher_Date_1819),0))","v":{"$error":"#N/A"}},{"$f":"INDEX(Voucher_Date_1819,MATCH(SMALL(IF(ISBLANK(Voucher_Date_1819),\"\",IF(ISNUMBER(Voucher_Date_1819),COUNTIF(Voucher_Date_1819,\"<\"&Voucher_Date_1819),COUNTIF(Voucher_Date_1819,\"<\"&Voucher_Date_1819)+SUM(IF(ISNUMBER(Voucher_Date_1819),1,0))+1)),ROW(A297)),IF(ISBLANK(Voucher_Date_1819),\"\",IF(ISNUMBER(Voucher_Date_1819),COUNTIF(Voucher_Date_1819,\"<\"&Voucher_Date_1819),COUNTIF(Voucher_Date_1819,\"<\"&Voucher_Date_1819)+SUM(IF(ISNUMBER(Voucher_Date_1819),1,0))+1)),0))","v":{"$error":"#NUM!"}}]
[{"$f":"INDEX(Voucher_Date_1819,MATCH(ROWS('Bill Register 20-21'!$L$3:'Bill Register 20-21'!L299),COUNTIF(Voucher_Date_1819,\"<=\"&Voucher_Date_1819),0))","v":{"$error":"#N/A"}},{"$f":"INDEX(Voucher_Date_1819,MATCH(SMALL(IF(ISBLANK(Voucher_Date_1819),\"\",IF(ISNUMBER(Voucher_Date_1819),COUNTIF(Voucher_Date_1819,\"<\"&Voucher_Date_1819),COUNTIF(Voucher_Date_1819,\"<\"&Voucher_Date_1819)+SUM(IF(ISNUMBER(Voucher_Date_1819),1,0))+1)),ROW(A298)),IF(ISBLANK(Voucher_Date_1819),\"\",IF(ISNUMBER(Voucher_Date_1819),COUNTIF(Voucher_Date_1819,\"<\"&Voucher_Date_1819),COUNTIF(Voucher_Date_1819,\"<\"&Voucher_Date_1819)+SUM(IF(ISNUMBER(Voucher_Date_1819),1,0))+1)),0))","v":{"$error":"#NUM!"}}]
[{"$f":"INDEX(Voucher_Date_1819,MATCH(ROWS('Bill Register 20-21'!$L$3:'Bill Register 20-21'!L300),COUNTIF(Voucher_Date_1819,\"<=\"&Voucher_Date_1819),0))","v":{"$error":"#N/A"}},{"$f":"INDEX(Voucher_Date_1819,MATCH(SMALL(IF(ISBLANK(Voucher_Date_1819),\"\",IF(ISNUMBER(Voucher_Date_1819),COUNTIF(Voucher_Date_1819,\"<\"&Voucher_Date_1819),COUNTIF(Voucher_Date_1819,\"<\"&Voucher_Date_1819)+SUM(IF(ISNUMBER(Voucher_Date_1819),1,0))+1)),ROW(A299)),IF(ISBLANK(Voucher_Date_1819),\"\",IF(ISNUMBER(Voucher_Date_1819),COUNTIF(Voucher_Date_1819,\"<\"&Voucher_Date_1819),COUNTIF(Voucher_Date_1819,\"<\"&Voucher_Date_1819)+SUM(IF(ISNUMBER(Voucher_Date_1819),1,0))+1)),0))","v":{"$error":"#NUM!"}}]
[{"$f":"INDEX(Voucher_Date_1819,MATCH(ROWS('Bill Register 20-21'!$L$3:'Bill Register 20-21'!L301),COUNTIF(Voucher_Date_1819,\"<=\"&Voucher_Date_1819),0))","v":{"$error":"#N/A"}},{"$f":"INDEX(Voucher_Date_1819,MATCH(SMALL(IF(ISBLANK(Voucher_Date_1819),\"\",IF(ISNUMBER(Voucher_Date_1819),COUNTIF(Voucher_Date_1819,\"<\"&Voucher_Date_1819),COUNTIF(Voucher_Date_1819,\"<\"&Voucher_Date_1819)+SUM(IF(ISNUMBER(Voucher_Date_1819),1,0))+1)),ROW(A300)),IF(ISBLANK(Voucher_Date_1819),\"\",IF(ISNUMBER(Voucher_Date_1819),COUNTIF(Voucher_Date_1819,\"<\"&Voucher_Date_1819),COUNTIF(Voucher_Date_1819,\"<\"&Voucher_Date_1819)+SUM(IF(ISNUMBER(Voucher_Date_1819),1,0))+1)),0))","v":{"$error":"#NUM!"}}]
[{"$f":"INDEX(Voucher_Date_1819,MATCH(ROWS('Bill Register 20-21'!$L$3:'Bill Register 20-21'!L302),COUNTIF(Voucher_Date_1819,\"<=\"&Voucher_Date_1819),0))","v":{"$error":"#N/A"}},{"$f":"INDEX(Voucher_Date_1819,MATCH(SMALL(IF(ISBLANK(Voucher_Date_1819),\"\",IF(ISNUMBER(Voucher_Date_1819),COUNTIF(Voucher_Date_1819,\"<\"&Voucher_Date_1819),COUNTIF(Voucher_Date_1819,\"<\"&Voucher_Date_1819)+SUM(IF(ISNUMBER(Voucher_Date_1819),1,0))+1)),ROW(A301)),IF(ISBLANK(Voucher_Date_1819),\"\",IF(ISNUMBER(Voucher_Date_1819),COUNTIF(Voucher_Date_1819,\"<\"&Voucher_Date_1819),COUNTIF(Voucher_Date_1819,\"<\"&Voucher_Date_1819)+SUM(IF(ISNUMBER(Voucher_Date_1819),1,0))+1)),0))","v":{"$error":"#NUM!"}}]
[{"$f":"INDEX(Voucher_Date_1819,MATCH(ROWS('Bill Register 20-21'!$L$3:'Bill Register 20-21'!L303),COUNTIF(Voucher_Date_1819,\"<=\"&Voucher_Date_1819),0))","v":{"$error":"#N/A"}},{"$f":"INDEX(Voucher_Date_1819,MATCH(SMALL(IF(ISBLANK(Voucher_Date_1819),\"\",IF(ISNUMBER(Voucher_Date_1819),COUNTIF(Voucher_Date_1819,\"<\"&Voucher_Date_1819),COUNTIF(Voucher_Date_1819,\"<\"&Voucher_Date_1819)+SUM(IF(ISNUMBER(Voucher_Date_1819),1,0))+1)),ROW(A302)),IF(ISBLANK(Voucher_Date_1819),\"\",IF(ISNUMBER(Voucher_Date_1819),COUNTIF(Voucher_Date_1819,\"<\"&Voucher_Date_1819),COUNTIF(Voucher_Date_1819,\"<\"&Voucher_Date_1819)+SUM(IF(ISNUMBER(Voucher_Date_1819),1,0))+1)),0))","v":{"$error":"#NUM!"}}]
[{"$f":"INDEX(Voucher_Date_1819,MATCH(ROWS('Bill Register 20-21'!$L$3:'Bill Register 20-21'!L304),COUNTIF(Voucher_Date_1819,\"<=\"&Voucher_Date_1819),0))","v":{"$error":"#N/A"}},{"$f":"INDEX(Voucher_Date_1819,MATCH(SMALL(IF(ISBLANK(Voucher_Date_1819),\"\",IF(ISNUMBER(Voucher_Date_1819),COUNTIF(Voucher_Date_1819,\"<\"&Voucher_Date_1819),COUNTIF(Voucher_Date_1819,\"<\"&Voucher_Date_1819)+SUM(IF(ISNUMBER(Voucher_Date_1819),1,0))+1)),ROW(A303)),IF(ISBLANK(Voucher_Date_1819),\"\",IF(ISNUMBER(Voucher_Date_1819),COUNTIF(Voucher_Date_1819,\"<\"&Voucher_Date_1819),COUNTIF(Voucher_Date_1819,\"<\"&Voucher_Date_1819)+SUM(IF(ISNUMBER(Voucher_Date_1819),1,0))+1)),0))","v":{"$error":"#NUM!"}}]
[{"$f":"INDEX(Voucher_Date_1819,MATCH(ROWS('Bill Register 20-21'!$L$3:'Bill Register 20-21'!L305),COUNTIF(Voucher_Date_1819,\"<=\"&Voucher_Date_1819),0))","v":{"$error":"#N/A"}},{"$f":"INDEX(Voucher_Date_1819,MATCH(SMALL(IF(ISBLANK(Voucher_Date_1819),\"\",IF(ISNUMBER(Voucher_Date_1819),COUNTIF(Voucher_Date_1819,\"<\"&Voucher_Date_1819),COUNTIF(Voucher_Date_1819,\"<\"&Voucher_Date_1819)+SUM(IF(ISNUMBER(Voucher_Date_1819),1,0))+1)),ROW(A304)),IF(ISBLANK(Voucher_Date_1819),\"\",IF(ISNUMBER(Voucher_Date_1819),COUNTIF(Voucher_Date_1819,\"<\"&Voucher_Date_1819),COUNTIF(Voucher_Date_1819,\"<\"&Voucher_Date_1819)+SUM(IF(ISNUMBER(Voucher_Date_1819),1,0))+1)),0))","v":{"$error":"#NUM!"}}]
[{"$f":"INDEX(Voucher_Date_1819,MATCH(ROWS('Bill Register 20-21'!$L$3:'Bill Register 20-21'!L306),COUNTIF(Voucher_Date_1819,\"<=\"&Voucher_Date_1819),0))","v":{"$error":"#N/A"}},{"$f":"INDEX(Voucher_Date_1819,MATCH(SMALL(IF(ISBLANK(Voucher_Date_1819),\"\",IF(ISNUMBER(Voucher_Date_1819),COUNTIF(Voucher_Date_1819,\"<\"&Voucher_Date_1819),COUNTIF(Voucher_Date_1819,\"<\"&Voucher_Date_1819)+SUM(IF(ISNUMBER(Voucher_Date_1819),1,0))+1)),ROW(A305)),IF(ISBLANK(Voucher_Date_1819),\"\",IF(ISNUMBER(Voucher_Date_1819),COUNTIF(Voucher_Date_1819,\"<\"&Voucher_Date_1819),COUNTIF(Voucher_Date_1819,\"<\"&Voucher_Date_1819)+SUM(IF(ISNUMBER(Voucher_Date_1819),1,0))+1)),0))","v":{"$error":"#NUM!"}}]
[{"$f":"INDEX(Voucher_Date_1819,MATCH(ROWS('Bill Register 20-21'!$L$3:'Bill Register 20-21'!L307),COUNTIF(Voucher_Date_1819,\"<=\"&Voucher_Date_1819),0))","v":{"$error":"#N/A"}},{"$f":"INDEX(Voucher_Date_1819,MATCH(SMALL(IF(ISBLANK(Voucher_Date_1819),\"\",IF(ISNUMBER(Voucher_Date_1819),COUNTIF(Voucher_Date_1819,\"<\"&Voucher_Date_1819),COUNTIF(Voucher_Date_1819,\"<\"&Voucher_Date_1819)+SUM(IF(ISNUMBER(Voucher_Date_1819),1,0))+1)),ROW(A306)),IF(ISBLANK(Voucher_Date_1819),\"\",IF(ISNUMBER(Voucher_Date_1819),COUNTIF(Voucher_Date_1819,\"<\"&Voucher_Date_1819),COUNTIF(Voucher_Date_1819,\"<\"&Voucher_Date_1819)+SUM(IF(ISNUMBER(Voucher_Date_1819),1,0))+1)),0))","v":{"$error":"#NUM!"}}]
[{"$f":"INDEX(Voucher_Date_1819,MATCH(ROWS('Bill Register 20-21'!$L$3:'Bill Register 20-21'!L308),COUNTIF(Voucher_Date_1819,\"<=\"&Voucher_Date_1819),0))","v":{"$error":"#N/A"}},{"$f":"INDEX(Voucher_Date_1819,MATCH(SMALL(IF(ISBLANK(Voucher_Date_1819),\"\",IF(ISNUMBER(Voucher_Date_1819),COUNTIF(Voucher_Date_1819,\"<\"&Voucher_Date_1819),COUNTIF(Voucher_Date_1819,\"<\"&Voucher_Date_1819)+SUM(IF(ISNUMBER(Voucher_Date_1819),1,0))+1)),ROW(A307)),IF(ISBLANK(Voucher_Date_1819),\"\",IF(ISNUMBER(Voucher_Date_1819),COUNTIF(Voucher_Date_1819,\"<\"&Voucher_Date_1819),COUNTIF(Voucher_Date_1819,\"<\"&Voucher_Date_1819)+SUM(IF(ISNUMBER(Voucher_Date_1819),1,0))+1)),0))","v":{"$error":"#NUM!"}}]
[{"$f":"INDEX(Voucher_Date_1819,MATCH(ROWS('Bill Register 20-21'!$L$3:'Bill Register 20-21'!L309),COUNTIF(Voucher_Date_1819,\"<=\"&Voucher_Date_1819),0))","v":{"$error":"#N/A"}},{"$f":"INDEX(Voucher_Date_1819,MATCH(SMALL(IF(ISBLANK(Voucher_Date_1819),\"\",IF(ISNUMBER(Voucher_Date_1819),COUNTIF(Voucher_Date_1819,\"<\"&Voucher_Date_1819),COUNTIF(Voucher_Date_1819,\"<\"&Voucher_Date_1819)+SUM(IF(ISNUMBER(Voucher_Date_1819),1,0))+1)),ROW(A308)),IF(ISBLANK(Voucher_Date_1819),\"\",IF(ISNUMBER(Voucher_Date_1819),COUNTIF(Voucher_Date_1819,\"<\"&Voucher_Date_1819),COUNTIF(Voucher_Date_1819,\"<\"&Voucher_Date_1819)+SUM(IF(ISNUMBER(Voucher_Date_1819),1,0))+1)),0))","v":{"$error":"#NUM!"}}]
[{"$f":"INDEX(Voucher_Date_1819,MATCH(ROWS('Bill Register 20-21'!$L$3:'Bill Register 20-21'!L310),COUNTIF(Voucher_Date_1819,\"<=\"&Voucher_Date_1819),0))","v":{"$error":"#N/A"}},{"$f":"INDEX(Voucher_Date_1819,MATCH(SMALL(IF(ISBLANK(Voucher_Date_1819),\"\",IF(ISNUMBER(Voucher_Date_1819),COUNTIF(Voucher_Date_1819,\"<\"&Voucher_Date_1819),COUNTIF(Voucher_Date_1819,\"<\"&Voucher_Date_1819)+SUM(IF(ISNUMBER(Voucher_Date_1819),1,0))+1)),ROW(A309)),IF(ISBLANK(Voucher_Date_1819),\"\",IF(ISNUMBER(Voucher_Date_1819),COUNTIF(Voucher_Date_1819,\"<\"&Voucher_Date_1819),COUNTIF(Voucher_Date_1819,\"<\"&Voucher_Date_1819)+SUM(IF(ISNUMBER(Voucher_Date_1819),1,0))+1)),0))","v":{"$error":"#NUM!"}}]
[{"$f":"INDEX(Voucher_Date_1819,MATCH(ROWS('Bill Register 20-21'!$L$3:'Bill Register 20-21'!L311),COUNTIF(Voucher_Date_1819,\"<=\"&Voucher_Date_1819),0))","v":{"$error":"#N/A"}},{"$f":"INDEX(Voucher_Date_1819,MATCH(SMALL(IF(ISBLANK(Voucher_Date_1819),\"\",IF(ISNUMBER(Voucher_Date_1819),COUNTIF(Voucher_Date_1819,\"<\"&Voucher_Date_1819),COUNTIF(Voucher_Date_1819,\"<\"&Voucher_Date_1819)+SUM(IF(ISNUMBER(Voucher_Date_1819),1,0))+1)),ROW(A310)),IF(ISBLANK(Voucher_Date_1819),\"\",IF(ISNUMBER(Voucher_Date_1819),COUNTIF(Voucher_Date_1819,\"<\"&Voucher_Date_1819),COUNTIF(Voucher_Date_1819,\"<\"&Voucher_Date_1819)+SUM(IF(ISNUMBER(Voucher_Date_1819),1,0))+1)),0))","v":{"$error":"#NUM!"}}]
[{"$f":"INDEX(Voucher_Date_1819,MATCH(ROWS('Bill Register 20-21'!$L$3:'Bill Register 20-21'!L312),COUNTIF(Voucher_Date_1819,\"<=\"&Voucher_Date_1819),0))","v":{"$error":"#N/A"}},{"$f":"INDEX(Voucher_Date_1819,MATCH(SMALL(IF(ISBLANK(Voucher_Date_1819),\"\",IF(ISNUMBER(Voucher_Date_1819),COUNTIF(Voucher_Date_1819,\"<\"&Voucher_Date_1819),COUNTIF(Voucher_Date_1819,\"<\"&Voucher_Date_1819)+SUM(IF(ISNUMBER(Voucher_Date_1819),1,0))+1)),ROW(A311)),IF(ISBLANK(Voucher_Date_1819),\"\",IF(ISNUMBER(Voucher_Date_1819),COUNTIF(Voucher_Date_1819,\"<\"&Voucher_Date_1819),COUNTIF(Voucher_Date_1819,\"<\"&Voucher_Date_1819)+SUM(IF(ISNUMBER(Voucher_Date_1819),1,0))+1)),0))","v":{"$error":"#NUM!"}}]
[{"$f":"INDEX(Voucher_Date_1819,MATCH(ROWS('Bill Register 20-21'!$L$3:'Bill Register 20-21'!L313),COUNTIF(Voucher_Date_1819,\"<=\"&Voucher_Date_1819),0))","v":{"$error":"#N/A"}},{"$f":"INDEX(Voucher_Date_1819,MATCH(SMALL(IF(ISBLANK(Voucher_Date_1819),\"\",IF(ISNUMBER(Voucher_Date_1819),COUNTIF(Voucher_Date_1819,\"<\"&Voucher_Date_1819),COUNTIF(Voucher_Date_1819,\"<\"&Voucher_Date_1819)+SUM(IF(ISNUMBER(Voucher_Date_1819),1,0))+1)),ROW(A312)),IF(ISBLANK(Voucher_Date_1819),\"\",IF(ISNUMBER(Voucher_Date_1819),COUNTIF(Voucher_Date_1819,\"<\"&Voucher_Date_1819),COUNTIF(Voucher_Date_1819,\"<\"&Voucher_Date_1819)+SUM(IF(ISNUMBER(Voucher_Date_1819),1,0))+1)),0))","v":{"$error":"#NUM!"}}]
[{"$f":"INDEX(Voucher_Date_1819,MATCH(ROWS('Bill Register 20-21'!$L$3:'Bill Register 20-21'!L314),COUNTIF(Voucher_Date_1819,\"<=\"&Voucher_Date_1819),0))","v":{"$error":"#N/A"}},{"$f":"INDEX(Voucher_Date_1819,MATCH(SMALL(IF(ISBLANK(Voucher_Date_1819),\"\",IF(ISNUMBER(Voucher_Date_1819),COUNTIF(Voucher_Date_1819,\"<\"&Voucher_Date_1819),COUNTIF(Voucher_Date_1819,\"<\"&Voucher_Date_1819)+SUM(IF(ISNUMBER(Voucher_Date_1819),1,0))+1)),ROW(A313)),IF(ISBLANK(Voucher_Date_1819),\"\",IF(ISNUMBER(Voucher_Date_1819),COUNTIF(Voucher_Date_1819,\"<\"&Voucher_Date_1819),COUNTIF(Voucher_Date_1819,\"<\"&Voucher_Date_1819)+SUM(IF(ISNUMBER(Voucher_Date_1819),1,0))+1)),0))","v":{"$error":"#NUM!"}}]
[{"$f":"INDEX(Voucher_Date_1819,MATCH(ROWS('Bill Register 20-21'!$L$3:'Bill Register 20-21'!L315),COUNTIF(Voucher_Date_1819,\"<=\"&Voucher_Date_1819),0))","v":{"$error":"#N/A"}},{"$f":"INDEX(Voucher_Date_1819,MATCH(SMALL(IF(ISBLANK(Voucher_Date_1819),\"\",IF(ISNUMBER(Voucher_Date_1819),COUNTIF(Voucher_Date_1819,\"<\"&Voucher_Date_1819),COUNTIF(Voucher_Date_1819,\"<\"&Voucher_Date_1819)+SUM(IF(ISNUMBER(Voucher_Date_1819),1,0))+1)),ROW(A314)),IF(ISBLANK(Voucher_Date_1819),\"\",IF(ISNUMBER(Voucher_Date_1819),COUNTIF(Voucher_Date_1819,\"<\"&Voucher_Date_1819),COUNTIF(Voucher_Date_1819,\"<\"&Voucher_Date_1819)+SUM(IF(ISNUMBER(Voucher_Date_1819),1,0))+1)),0))","v":{"$error":"#NUM!"}}]
[{"$f":"INDEX(Voucher_Date_1819,MATCH(ROWS('Bill Register 20-21'!$L$3:'Bill Register 20-21'!L316),COUNTIF(Voucher_Date_1819,\"<=\"&Voucher_Date_1819),0))","v":{"$error":"#N/A"}},{"$f":"INDEX(Voucher_Date_1819,MATCH(SMALL(IF(ISBLANK(Voucher_Date_1819),\"\",IF(ISNUMBER(Voucher_Date_1819),COUNTIF(Voucher_Date_1819,\"<\"&Voucher_Date_1819),COUNTIF(Voucher_Date_1819,\"<\"&Voucher_Date_1819)+SUM(IF(ISNUMBER(Voucher_Date_1819),1,0))+1)),ROW(A315)),IF(ISBLANK(Voucher_Date_1819),\"\",IF(ISNUMBER(Voucher_Date_1819),COUNTIF(Voucher_Date_1819,\"<\"&Voucher_Date_1819),COUNTIF(Voucher_Date_1819,\"<\"&Voucher_Date_1819)+SUM(IF(ISNUMBER(Voucher_Date_1819),1,0))+1)),0))","v":{"$error":"#NUM!"}}]
[{"$f":"INDEX(Voucher_Date_1819,MATCH(ROWS('Bill Register 20-21'!$L$3:'Bill Register 20-21'!L317),COUNTIF(Voucher_Date_1819,\"<=\"&Voucher_Date_1819),0))","v":{"$error":"#N/A"}},{"$f":"INDEX(Voucher_Date_1819,MATCH(SMALL(IF(ISBLANK(Voucher_Date_1819),\"\",IF(ISNUMBER(Voucher_Date_1819),COUNTIF(Voucher_Date_1819,\"<\"&Voucher_Date_1819),COUNTIF(Voucher_Date_1819,\"<\"&Voucher_Date_1819)+SUM(IF(ISNUMBER(Voucher_Date_1819),1,0))+1)),ROW(A316)),IF(ISBLANK(Voucher_Date_1819),\"\",IF(ISNUMBER(Voucher_Date_1819),COUNTIF(Voucher_Date_1819,\"<\"&Voucher_Date_1819),COUNTIF(Voucher_Date_1819,\"<\"&Voucher_Date_1819)+SUM(IF(ISNUMBER(Voucher_Date_1819),1,0))+1)),0))","v":{"$error":"#NUM!"}}]
[{"$f":"INDEX(Voucher_Date_1819,MATCH(ROWS('Bill Register 20-21'!$L$3:'Bill Register 20-21'!L318),COUNTIF(Voucher_Date_1819,\"<=\"&Voucher_Date_1819),0))","v":{"$error":"#N/A"}},{"$f":"INDEX(Voucher_Date_1819,MATCH(SMALL(IF(ISBLANK(Voucher_Date_1819),\"\",IF(ISNUMBER(Voucher_Date_1819),COUNTIF(Voucher_Date_1819,\"<\"&Voucher_Date_1819),COUNTIF(Voucher_Date_1819,\"<\"&Voucher_Date_1819)+SUM(IF(ISNUMBER(Voucher_Date_1819),1,0))+1)),ROW(A317)),IF(ISBLANK(Voucher_Date_1819),\"\",IF(ISNUMBER(Voucher_Date_1819),COUNTIF(Voucher_Date_1819,\"<\"&Voucher_Date_1819),COUNTIF(Voucher_Date_1819,\"<\"&Voucher_Date_1819)+SUM(IF(ISNUMBER(Voucher_Date_1819),1,0))+1)),0))","v":{"$error":"#NUM!"}}]
[{"$f":"INDEX(Voucher_Date_1819,MATCH(ROWS('Bill Register 20-21'!$L$3:'Bill Register 20-21'!L319),COUNTIF(Voucher_Date_1819,\"<=\"&Voucher_Date_1819),0))","v":{"$error":"#N/A"}},{"$f":"INDEX(Voucher_Date_1819,MATCH(SMALL(IF(ISBLANK(Voucher_Date_1819),\"\",IF(ISNUMBER(Voucher_Date_1819),COUNTIF(Voucher_Date_1819,\"<\"&Voucher_Date_1819),COUNTIF(Voucher_Date_1819,\"<\"&Voucher_Date_1819)+SUM(IF(ISNUMBER(Voucher_Date_1819),1,0))+1)),ROW(A318)),IF(ISBLANK(Voucher_Date_1819),\"\",IF(ISNUMBER(Voucher_Date_1819),COUNTIF(Voucher_Date_1819,\"<\"&Voucher_Date_1819),COUNTIF(Voucher_Date_1819,\"<\"&Voucher_Date_1819)+SUM(IF(ISNUMBER(Voucher_Date_1819),1,0))+1)),0))","v":{"$error":"#NUM!"}}]
[{"$f":"INDEX(Voucher_Date_1819,MATCH(ROWS('Bill Register 20-21'!$L$3:'Bill Register 20-21'!L320),COUNTIF(Voucher_Date_1819,\"<=\"&Voucher_Date_1819),0))","v":{"$error":"#N/A"}},{"$f":"INDEX(Voucher_Date_1819,MATCH(SMALL(IF(ISBLANK(Voucher_Date_1819),\"\",IF(ISNUMBER(Voucher_Date_1819),COUNTIF(Voucher_Date_1819,\"<\"&Voucher_Date_1819),COUNTIF(Voucher_Date_1819,\"<\"&Voucher_Date_1819)+SUM(IF(ISNUMBER(Voucher_Date_1819),1,0))+1)),ROW(A319)),IF(ISBLANK(Voucher_Date_1819),\"\",IF(ISNUMBER(Voucher_Date_1819),COUNTIF(Voucher_Date_1819,\"<\"&Voucher_Date_1819),COUNTIF(Voucher_Date_1819,\"<\"&Voucher_Date_1819)+SUM(IF(ISNUMBER(Voucher_Date_1819),1,0))+1)),0))","v":{"$error":"#NUM!"}}]
[{"$f":"INDEX(Voucher_Date_1819,MATCH(ROWS('Bill Register 20-21'!$L$3:'Bill Register 20-21'!L321),COUNTIF(Voucher_Date_1819,\"<=\"&Voucher_Date_1819),0))","v":{"$error":"#N/A"}},{"$f":"INDEX(Voucher_Date_1819,MATCH(SMALL(IF(ISBLANK(Voucher_Date_1819),\"\",IF(ISNUMBER(Voucher_Date_1819),COUNTIF(Voucher_Date_1819,\"<\"&Voucher_Date_1819),COUNTIF(Voucher_Date_1819,\"<\"&Voucher_Date_1819)+SUM(IF(ISNUMBER(Voucher_Date_1819),1,0))+1)),ROW(A320)),IF(ISBLANK(Voucher_Date_1819),\"\",IF(ISNUMBER(Voucher_Date_1819),COUNTIF(Voucher_Date_1819,\"<\"&Voucher_Date_1819),COUNTIF(Voucher_Date_1819,\"<\"&Voucher_Date_1819)+SUM(IF(ISNUMBER(Voucher_Date_1819),1,0))+1)),0))","v":{"$error":"#NUM!"}}]
[{"$f":"INDEX(Voucher_Date_1819,MATCH(ROWS('Bill Register 20-21'!$L$3:'Bill Register 20-21'!L322),COUNTIF(Voucher_Date_1819,\"<=\"&Voucher_Date_1819),0))","v":{"$error":"#N/A"}},{"$f":"INDEX(Voucher_Date_1819,MATCH(SMALL(IF(ISBLANK(Voucher_Date_1819),\"\",IF(ISNUMBER(Voucher_Date_1819),COUNTIF(Voucher_Date_1819,\"<\"&Voucher_Date_1819),COUNTIF(Voucher_Date_1819,\"<\"&Voucher_Date_1819)+SUM(IF(ISNUMBER(Voucher_Date_1819),1,0))+1)),ROW(A321)),IF(ISBLANK(Voucher_Date_1819),\"\",IF(ISNUMBER(Voucher_Date_1819),COUNTIF(Voucher_Date_1819,\"<\"&Voucher_Date_1819),COUNTIF(Voucher_Date_1819,\"<\"&Voucher_Date_1819)+SUM(IF(ISNUMBER(Voucher_Date_1819),1,0))+1)),0))","v":{"$error":"#NUM!"}}]
[{"$f":"INDEX(Voucher_Date_1819,MATCH(ROWS('Bill Register 20-21'!$L$3:'Bill Register 20-21'!L323),COUNTIF(Voucher_Date_1819,\"<=\"&Voucher_Date_1819),0))","v":{"$error":"#N/A"}},{"$f":"INDEX(Voucher_Date_1819,MATCH(SMALL(IF(ISBLANK(Voucher_Date_1819),\"\",IF(ISNUMBER(Voucher_Date_1819),COUNTIF(Voucher_Date_1819,\"<\"&Voucher_Date_1819),COUNTIF(Voucher_Date_1819,\"<\"&Voucher_Date_1819)+SUM(IF(ISNUMBER(Voucher_Date_1819),1,0))+1)),ROW(A322)),IF(ISBLANK(Voucher_Date_1819),\"\",IF(ISNUMBER(Voucher_Date_1819),COUNTIF(Voucher_Date_1819,\"<\"&Voucher_Date_1819),COUNTIF(Voucher_Date_1819,\"<\"&Voucher_Date_1819)+SUM(IF(ISNUMBER(Voucher_Date_1819),1,0))+1)),0))","v":{"$error":"#NUM!"}}]
[{"$f":"INDEX(Voucher_Date_1819,MATCH(ROWS('Bill Register 20-21'!$L$3:'Bill Register 20-21'!L324),COUNTIF(Voucher_Date_1819,\"<=\"&Voucher_Date_1819),0))","v":{"$error":"#N/A"}},{"$f":"INDEX(Voucher_Date_1819,MATCH(SMALL(IF(ISBLANK(Voucher_Date_1819),\"\",IF(ISNUMBER(Voucher_Date_1819),COUNTIF(Voucher_Date_1819,\"<\"&Voucher_Date_1819),COUNTIF(Voucher_Date_1819,\"<\"&Voucher_Date_1819)+SUM(IF(ISNUMBER(Voucher_Date_1819),1,0))+1)),ROW(A323)),IF(ISBLANK(Voucher_Date_1819),\"\",IF(ISNUMBER(Voucher_Date_1819),COUNTIF(Voucher_Date_1819,\"<\"&Voucher_Date_1819),COUNTIF(Voucher_Date_1819,\"<\"&Voucher_Date_1819)+SUM(IF(ISNUMBER(Voucher_Date_1819),1,0))+1)),0))","v":{"$error":"#NUM!"}}]
[{"$f":"INDEX(Voucher_Date_1819,MATCH(ROWS('Bill Register 20-21'!$L$3:'Bill Register 20-21'!L325),COUNTIF(Voucher_Date_1819,\"<=\"&Voucher_Date_1819),0))","v":{"$error":"#N/A"}},{"$f":"INDEX(Voucher_Date_1819,MATCH(SMALL(IF(ISBLANK(Voucher_Date_1819),\"\",IF(ISNUMBER(Voucher_Date_1819),COUNTIF(Voucher_Date_1819,\"<\"&Voucher_Date_1819),COUNTIF(Voucher_Date_1819,\"<\"&Voucher_Date_1819)+SUM(IF(ISNUMBER(Voucher_Date_1819),1,0))+1)),ROW(A324)),IF(ISBLANK(Voucher_Date_1819),\"\",IF(ISNUMBER(Voucher_Date_1819),COUNTIF(Voucher_Date_1819,\"<\"&Voucher_Date_1819),COUNTIF(Voucher_Date_1819,\"<\"&Voucher_Date_1819)+SUM(IF(ISNUMBER(Voucher_Date_1819),1,0))+1)),0))","v":{"$error":"#NUM!"}}]
[{"$f":"INDEX(Voucher_Date_1819,MATCH(ROWS('Bill Register 20-21'!$L$3:'Bill Register 20-21'!L326),COUNTIF(Voucher_Date_1819,\"<=\"&Voucher_Date_1819),0))","v":{"$error":"#N/A"}},{"$f":"INDEX(Voucher_Date_1819,MATCH(SMALL(IF(ISBLANK(Voucher_Date_1819),\"\",IF(ISNUMBER(Voucher_Date_1819),COUNTIF(Voucher_Date_1819,\"<\"&Voucher_Date_1819),COUNTIF(Voucher_Date_1819,\"<\"&Voucher_Date_1819)+SUM(IF(ISNUMBER(Voucher_Date_1819),1,0))+1)),ROW(A325)),IF(ISBLANK(Voucher_Date_1819),\"\",IF(ISNUMBER(Voucher_Date_1819),COUNTIF(Voucher_Date_1819,\"<\"&Voucher_Date_1819),COUNTIF(Voucher_Date_1819,\"<\"&Voucher_Date_1819)+SUM(IF(ISNUMBER(Voucher_Date_1819),1,0))+1)),0))","v":{"$error":"#NUM!"}}]
[{"$f":"INDEX(Voucher_Date_1819,MATCH(ROWS('Bill Register 20-21'!$L$3:'Bill Register 20-21'!L327),COUNTIF(Voucher_Date_1819,\"<=\"&Voucher_Date_1819),0))","v":{"$error":"#N/A"}},{"$f":"INDEX(Voucher_Date_1819,MATCH(SMALL(IF(ISBLANK(Voucher_Date_1819),\"\",IF(ISNUMBER(Voucher_Date_1819),COUNTIF(Voucher_Date_1819,\"<\"&Voucher_Date_1819),COUNTIF(Voucher_Date_1819,\"<\"&Voucher_Date_1819)+SUM(IF(ISNUMBER(Voucher_Date_1819),1,0))+1)),ROW(A326)),IF(ISBLANK(Voucher_Date_1819),\"\",IF(ISNUMBER(Voucher_Date_1819),COUNTIF(Voucher_Date_1819,\"<\"&Voucher_Date_1819),COUNTIF(Voucher_Date_1819,\"<\"&Voucher_Date_1819)+SUM(IF(ISNUMBER(Voucher_Date_1819),1,0))+1)),0))","v":{"$error":"#NUM!"}}]
[{"$f":"INDEX(Voucher_Date_1819,MATCH(ROWS('Bill Register 20-21'!$L$3:'Bill Register 20-21'!L328),COUNTIF(Voucher_Date_1819,\"<=\"&Voucher_Date_1819),0))","v":{"$error":"#N/A"}},{"$f":"INDEX(Voucher_Date_1819,MATCH(SMALL(IF(ISBLANK(Voucher_Date_1819),\"\",IF(ISNUMBER(Voucher_Date_1819),COUNTIF(Voucher_Date_1819,\"<\"&Voucher_Date_1819),COUNTIF(Voucher_Date_1819,\"<\"&Voucher_Date_1819)+SUM(IF(ISNUMBER(Voucher_Date_1819),1,0))+1)),ROW(A327)),IF(ISBLANK(Voucher_Date_1819),\"\",IF(ISNUMBER(Voucher_Date_1819),COUNTIF(Voucher_Date_1819,\"<\"&Voucher_Date_1819),COUNTIF(Voucher_Date_1819,\"<\"&Voucher_Date_1819)+SUM(IF(ISNUMBER(Voucher_Date_1819),1,0))+1)),0))","v":{"$error":"#NUM!"}}]
[{"$f":"INDEX(Voucher_Date_1819,MATCH(ROWS('Bill Register 20-21'!$L$3:'Bill Register 20-21'!L329),COUNTIF(Voucher_Date_1819,\"<=\"&Voucher_Date_1819),0))","v":{"$error":"#N/A"}},{"$f":"INDEX(Voucher_Date_1819,MATCH(SMALL(IF(ISBLANK(Voucher_Date_1819),\"\",IF(ISNUMBER(Voucher_Date_1819),COUNTIF(Voucher_Date_1819,\"<\"&Voucher_Date_1819),COUNTIF(Voucher_Date_1819,\"<\"&Voucher_Date_1819)+SUM(IF(ISNUMBER(Voucher_Date_1819),1,0))+1)),ROW(A328)),IF(ISBLANK(Voucher_Date_1819),\"\",IF(ISNUMBER(Voucher_Date_1819),COUNTIF(Voucher_Date_1819,\"<\"&Voucher_Date_1819),COUNTIF(Voucher_Date_1819,\"<\"&Voucher_Date_1819)+SUM(IF(ISNUMBER(Voucher_Date_1819),1,0))+1)),0))","v":{"$error":"#NUM!"}}]
[{"$f":"INDEX(Voucher_Date_1819,MATCH(ROWS('Bill Register 20-21'!$L$3:'Bill Register 20-21'!L330),COUNTIF(Voucher_Date_1819,\"<=\"&Voucher_Date_1819),0))","v":{"$error":"#N/A"}},{"$f":"INDEX(Voucher_Date_1819,MATCH(SMALL(IF(ISBLANK(Voucher_Date_1819),\"\",IF(ISNUMBER(Voucher_Date_1819),COUNTIF(Voucher_Date_1819,\"<\"&Voucher_Date_1819),COUNTIF(Voucher_Date_1819,\"<\"&Voucher_Date_1819)+SUM(IF(ISNUMBER(Voucher_Date_1819),1,0))+1)),ROW(A329)),IF(ISBLANK(Voucher_Date_1819),\"\",IF(ISNUMBER(Voucher_Date_1819),COUNTIF(Voucher_Date_1819,\"<\"&Voucher_Date_1819),COUNTIF(Voucher_Date_1819,\"<\"&Voucher_Date_1819)+SUM(IF(ISNUMBER(Voucher_Date_1819),1,0))+1)),0))","v":{"$error":"#NUM!"}}]
[{"$f":"INDEX(Voucher_Date_1819,MATCH(ROWS('Bill Register 20-21'!$L$3:'Bill Register 20-21'!L331),COUNTIF(Voucher_Date_1819,\"<=\"&Voucher_Date_1819),0))","v":{"$error":"#N/A"}},{"$f":"INDEX(Voucher_Date_1819,MATCH(SMALL(IF(ISBLANK(Voucher_Date_1819),\"\",IF(ISNUMBER(Voucher_Date_1819),COUNTIF(Voucher_Date_1819,\"<\"&Voucher_Date_1819),COUNTIF(Voucher_Date_1819,\"<\"&Voucher_Date_1819)+SUM(IF(ISNUMBER(Voucher_Date_1819),1,0))+1)),ROW(A330)),IF(ISBLANK(Voucher_Date_1819),\"\",IF(ISNUMBER(Voucher_Date_1819),COUNTIF(Voucher_Date_1819,\"<\"&Voucher_Date_1819),COUNTIF(Voucher_Date_1819,\"<\"&Voucher_Date_1819)+SUM(IF(ISNUMBER(Voucher_Date_1819),1,0))+1)),0))","v":{"$error":"#NUM!"}}]
[{"$f":"INDEX(Voucher_Date_1819,MATCH(ROWS('Bill Register 20-21'!$L$3:'Bill Register 20-21'!L332),COUNTIF(Voucher_Date_1819,\"<=\"&Voucher_Date_1819),0))","v":{"$error":"#N/A"}},{"$f":"INDEX(Voucher_Date_1819,MATCH(SMALL(IF(ISBLANK(Voucher_Date_1819),\"\",IF(ISNUMBER(Voucher_Date_1819),COUNTIF(Voucher_Date_1819,\"<\"&Voucher_Date_1819),COUNTIF(Voucher_Date_1819,\"<\"&Voucher_Date_1819)+SUM(IF(ISNUMBER(Voucher_Date_1819),1,0))+1)),ROW(A331)),IF(ISBLANK(Voucher_Date_1819),\"\",IF(ISNUMBER(Voucher_Date_1819),COUNTIF(Voucher_Date_1819,\"<\"&Voucher_Date_1819),COUNTIF(Voucher_Date_1819,\"<\"&Voucher_Date_1819)+SUM(IF(ISNUMBER(Voucher_Date_1819),1,0))+1)),0))","v":{"$error":"#NUM!"}}]
[{"$f":"INDEX(Voucher_Date_1819,MATCH(ROWS('Bill Register 20-21'!$L$3:'Bill Register 20-21'!L333),COUNTIF(Voucher_Date_1819,\"<=\"&Voucher_Date_1819),0))","v":{"$error":"#N/A"}},{"$f":"INDEX(Voucher_Date_1819,MATCH(SMALL(IF(ISBLANK(Voucher_Date_1819),\"\",IF(ISNUMBER(Voucher_Date_1819),COUNTIF(Voucher_Date_1819,\"<\"&Voucher_Date_1819),COUNTIF(Voucher_Date_1819,\"<\"&Voucher_Date_1819)+SUM(IF(ISNUMBER(Voucher_Date_1819),1,0))+1)),ROW(A332)),IF(ISBLANK(Voucher_Date_1819),\"\",IF(ISNUMBER(Voucher_Date_1819),COUNTIF(Voucher_Date_1819,\"<\"&Voucher_Date_1819),COUNTIF(Voucher_Date_1819,\"<\"&Voucher_Date_1819)+SUM(IF(ISNUMBER(Voucher_Date_1819),1,0))+1)),0))","v":{"$error":"#NUM!"}}]
[{"$f":"INDEX(Voucher_Date_1819,MATCH(ROWS('Bill Register 20-21'!$L$3:'Bill Register 20-21'!L334),COUNTIF(Voucher_Date_1819,\"<=\"&Voucher_Date_1819),0))","v":{"$error":"#N/A"}},{"$f":"INDEX(Voucher_Date_1819,MATCH(SMALL(IF(ISBLANK(Voucher_Date_1819),\"\",IF(ISNUMBER(Voucher_Date_1819),COUNTIF(Voucher_Date_1819,\"<\"&Voucher_Date_1819),COUNTIF(Voucher_Date_1819,\"<\"&Voucher_Date_1819)+SUM(IF(ISNUMBER(Voucher_Date_1819),1,0))+1)),ROW(A333)),IF(ISBLANK(Voucher_Date_1819),\"\",IF(ISNUMBER(Voucher_Date_1819),COUNTIF(Voucher_Date_1819,\"<\"&Voucher_Date_1819),COUNTIF(Voucher_Date_1819,\"<\"&Voucher_Date_1819)+SUM(IF(ISNUMBER(Voucher_Date_1819),1,0))+1)),0))","v":{"$error":"#NUM!"}}]
[{"$f":"INDEX(Voucher_Date_1819,MATCH(ROWS('Bill Register 20-21'!$L$3:'Bill Register 20-21'!L335),COUNTIF(Voucher_Date_1819,\"<=\"&Voucher_Date_1819),0))","v":{"$error":"#N/A"}},{"$f":"INDEX(Voucher_Date_1819,MATCH(SMALL(IF(ISBLANK(Voucher_Date_1819),\"\",IF(ISNUMBER(Voucher_Date_1819),COUNTIF(Voucher_Date_1819,\"<\"&Voucher_Date_1819),COUNTIF(Voucher_Date_1819,\"<\"&Voucher_Date_1819)+SUM(IF(ISNUMBER(Voucher_Date_1819),1,0))+1)),ROW(A334)),IF(ISBLANK(Voucher_Date_1819),\"\",IF(ISNUMBER(Voucher_Date_1819),COUNTIF(Voucher_Date_1819,\"<\"&Voucher_Date_1819),COUNTIF(Voucher_Date_1819,\"<\"&Voucher_Date_1819)+SUM(IF(ISNUMBER(Voucher_Date_1819),1,0))+1)),0))","v":{"$error":"#NUM!"}}]
[{"$f":"INDEX(Voucher_Date_1819,MATCH(ROWS('Bill Register 20-21'!$L$3:'Bill Register 20-21'!L336),COUNTIF(Voucher_Date_1819,\"<=\"&Voucher_Date_1819),0))","v":{"$error":"#N/A"}},{"$f":"INDEX(Voucher_Date_1819,MATCH(SMALL(IF(ISBLANK(Voucher_Date_1819),\"\",IF(ISNUMBER(Voucher_Date_1819),COUNTIF(Voucher_Date_1819,\"<\"&Voucher_Date_1819),COUNTIF(Voucher_Date_1819,\"<\"&Voucher_Date_1819)+SUM(IF(ISNUMBER(Voucher_Date_1819),1,0))+1)),ROW(A335)),IF(ISBLANK(Voucher_Date_1819),\"\",IF(ISNUMBER(Voucher_Date_1819),COUNTIF(Voucher_Date_1819,\"<\"&Voucher_Date_1819),COUNTIF(Voucher_Date_1819,\"<\"&Voucher_Date_1819)+SUM(IF(ISNUMBER(Voucher_Date_1819),1,0))+1)),0))","v":{"$error":"#NUM!"}}]
[{"$f":"INDEX(Voucher_Date_1819,MATCH(ROWS('Bill Register 20-21'!$L$3:'Bill Register 20-21'!L337),COUNTIF(Voucher_Date_1819,\"<=\"&Voucher_Date_1819),0))","v":{"$error":"#N/A"}},{"$f":"INDEX(Voucher_Date_1819,MATCH(SMALL(IF(ISBLANK(Voucher_Date_1819),\"\",IF(ISNUMBER(Voucher_Date_1819),COUNTIF(Voucher_Date_1819,\"<\"&Voucher_Date_1819),COUNTIF(Voucher_Date_1819,\"<\"&Voucher_Date_1819)+SUM(IF(ISNUMBER(Voucher_Date_1819),1,0))+1)),ROW(A336)),IF(ISBLANK(Voucher_Date_1819),\"\",IF(ISNUMBER(Voucher_Date_1819),COUNTIF(Voucher_Date_1819,\"<\"&Voucher_Date_1819),COUNTIF(Voucher_Date_1819,\"<\"&Voucher_Date_1819)+SUM(IF(ISNUMBER(Voucher_Date_1819),1,0))+1)),0))","v":{"$error":"#NUM!"}}]
[{"$f":"INDEX(Voucher_Date_1819,MATCH(ROWS('Bill Register 20-21'!$L$3:'Bill Register 20-21'!L338),COUNTIF(Voucher_Date_1819,\"<=\"&Voucher_Date_1819),0))","v":{"$error":"#N/A"}},{"$f":"INDEX(Voucher_Date_1819,MATCH(SMALL(IF(ISBLANK(Voucher_Date_1819),\"\",IF(ISNUMBER(Voucher_Date_1819),COUNTIF(Voucher_Date_1819,\"<\"&Voucher_Date_1819),COUNTIF(Voucher_Date_1819,\"<\"&Voucher_Date_1819)+SUM(IF(ISNUMBER(Voucher_Date_1819),1,0))+1)),ROW(A337)),IF(ISBLANK(Voucher_Date_1819),\"\",IF(ISNUMBER(Voucher_Date_1819),COUNTIF(Voucher_Date_1819,\"<\"&Voucher_Date_1819),COUNTIF(Voucher_Date_1819,\"<\"&Voucher_Date_1819)+SUM(IF(ISNUMBER(Voucher_Date_1819),1,0))+1)),0))","v":{"$error":"#NUM!"}}]
[{"$f":"INDEX(Voucher_Date_1819,MATCH(ROWS('Bill Register 20-21'!$L$3:'Bill Register 20-21'!L339),COUNTIF(Voucher_Date_1819,\"<=\"&Voucher_Date_1819),0))","v":{"$error":"#N/A"}},{"$f":"INDEX(Voucher_Date_1819,MATCH(SMALL(IF(ISBLANK(Voucher_Date_1819),\"\",IF(ISNUMBER(Voucher_Date_1819),COUNTIF(Voucher_Date_1819,\"<\"&Voucher_Date_1819),COUNTIF(Voucher_Date_1819,\"<\"&Voucher_Date_1819)+SUM(IF(ISNUMBER(Voucher_Date_1819),1,0))+1)),ROW(A338)),IF(ISBLANK(Voucher_Date_1819),\"\",IF(ISNUMBER(Voucher_Date_1819),COUNTIF(Voucher_Date_1819,\"<\"&Voucher_Date_1819),COUNTIF(Voucher_Date_1819,\"<\"&Voucher_Date_1819)+SUM(IF(ISNUMBER(Voucher_Date_1819),1,0))+1)),0))","v":{"$error":"#NUM!"}}]
[{"$f":"INDEX(Voucher_Date_1819,MATCH(ROWS('Bill Register 20-21'!$L$3:'Bill Register 20-21'!L340),COUNTIF(Voucher_Date_1819,\"<=\"&Voucher_Date_1819),0))","v":{"$error":"#N/A"}},{"$f":"INDEX(Voucher_Date_1819,MATCH(SMALL(IF(ISBLANK(Voucher_Date_1819),\"\",IF(ISNUMBER(Voucher_Date_1819),COUNTIF(Voucher_Date_1819,\"<\"&Voucher_Date_1819),COUNTIF(Voucher_Date_1819,\"<\"&Voucher_Date_1819)+SUM(IF(ISNUMBER(Voucher_Date_1819),1,0))+1)),ROW(A339)),IF(ISBLANK(Voucher_Date_1819),\"\",IF(ISNUMBER(Voucher_Date_1819),COUNTIF(Voucher_Date_1819,\"<\"&Voucher_Date_1819),COUNTIF(Voucher_Date_1819,\"<\"&Voucher_Date_1819)+SUM(IF(ISNUMBER(Voucher_Date_1819),1,0))+1)),0))","v":{"$error":"#NUM!"}}]
[{"$f":"INDEX(Voucher_Date_1819,MATCH(ROWS('Bill Register 20-21'!$L$3:'Bill Register 20-21'!L341),COUNTIF(Voucher_Date_1819,\"<=\"&Voucher_Date_1819),0))","v":{"$error":"#N/A"}},{"$f":"INDEX(Voucher_Date_1819,MATCH(SMALL(IF(ISBLANK(Voucher_Date_1819),\"\",IF(ISNUMBER(Voucher_Date_1819),COUNTIF(Voucher_Date_1819,\"<\"&Voucher_Date_1819),COUNTIF(Voucher_Date_1819,\"<\"&Voucher_Date_1819)+SUM(IF(ISNUMBER(Voucher_Date_1819),1,0))+1)),ROW(A340)),IF(ISBLANK(Voucher_Date_1819),\"\",IF(ISNUMBER(Voucher_Date_1819),COUNTIF(Voucher_Date_1819,\"<\"&Voucher_Date_1819),COUNTIF(Voucher_Date_1819,\"<\"&Voucher_Date_1819)+SUM(IF(ISNUMBER(Voucher_Date_1819),1,0))+1)),0))","v":{"$error":"#NUM!"}}]
[{"$f":"INDEX(Voucher_Date_1819,MATCH(ROWS('Bill Register 20-21'!$L$3:'Bill Register 20-21'!L342),COUNTIF(Voucher_Date_1819,\"<=\"&Voucher_Date_1819),0))","v":{"$error":"#N/A"}},{"$f":"INDEX(Voucher_Date_1819,MATCH(SMALL(IF(ISBLANK(Voucher_Date_1819),\"\",IF(ISNUMBER(Voucher_Date_1819),COUNTIF(Voucher_Date_1819,\"<\"&Voucher_Date_1819),COUNTIF(Voucher_Date_1819,\"<\"&Voucher_Date_1819)+SUM(IF(ISNUMBER(Voucher_Date_1819),1,0))+1)),ROW(A341)),IF(ISBLANK(Voucher_Date_1819),\"\",IF(ISNUMBER(Voucher_Date_1819),COUNTIF(Voucher_Date_1819,\"<\"&Voucher_Date_1819),COUNTIF(Voucher_Date_1819,\"<\"&Voucher_Date_1819)+SUM(IF(ISNUMBER(Voucher_Date_1819),1,0))+1)),0))","v":{"$error":"#NUM!"}}]
[{"$f":"INDEX(Voucher_Date_1819,MATCH(ROWS('Bill Register 20-21'!$L$3:'Bill Register 20-21'!L343),COUNTIF(Voucher_Date_1819,\"<=\"&Voucher_Date_1819),0))","v":{"$error":"#N/A"}},{"$f":"INDEX(Voucher_Date_1819,MATCH(SMALL(IF(ISBLANK(Voucher_Date_1819),\"\",IF(ISNUMBER(Voucher_Date_1819),COUNTIF(Voucher_Date_1819,\"<\"&Voucher_Date_1819),COUNTIF(Voucher_Date_1819,\"<\"&Voucher_Date_1819)+SUM(IF(ISNUMBER(Voucher_Date_1819),1,0))+1)),ROW(A342)),IF(ISBLANK(Voucher_Date_1819),\"\",IF(ISNUMBER(Voucher_Date_1819),COUNTIF(Voucher_Date_1819,\"<\"&Voucher_Date_1819),COUNTIF(Voucher_Date_1819,\"<\"&Voucher_Date_1819)+SUM(IF(ISNUMBER(Voucher_Date_1819),1,0))+1)),0))","v":{"$error":"#NUM!"}}]
[{"$f":"INDEX(Voucher_Date_1819,MATCH(ROWS('Bill Register 20-21'!$L$3:'Bill Register 20-21'!L344),COUNTIF(Voucher_Date_1819,\"<=\"&Voucher_Date_1819),0))","v":{"$error":"#N/A"}},{"$f":"INDEX(Voucher_Date_1819,MATCH(SMALL(IF(ISBLANK(Voucher_Date_1819),\"\",IF(ISNUMBER(Voucher_Date_1819),COUNTIF(Voucher_Date_1819,\"<\"&Voucher_Date_1819),COUNTIF(Voucher_Date_1819,\"<\"&Voucher_Date_1819)+SUM(IF(ISNUMBER(Voucher_Date_1819),1,0))+1)),ROW(A343)),IF(ISBLANK(Voucher_Date_1819),\"\",IF(ISNUMBER(Voucher_Date_1819),COUNTIF(Voucher_Date_1819,\"<\"&Voucher_Date_1819),COUNTIF(Voucher_Date_1819,\"<\"&Voucher_Date_1819)+SUM(IF(ISNUMBER(Voucher_Date_1819),1,0))+1)),0))","v":{"$error":"#NUM!"}}]
[{"$f":"INDEX(Voucher_Date_1819,MATCH(ROWS('Bill Register 20-21'!$L$3:'Bill Register 20-21'!L345),COUNTIF(Voucher_Date_1819,\"<=\"&Voucher_Date_1819),0))","v":{"$error":"#N/A"}},{"$f":"INDEX(Voucher_Date_1819,MATCH(SMALL(IF(ISBLANK(Voucher_Date_1819),\"\",IF(ISNUMBER(Voucher_Date_1819),COUNTIF(Voucher_Date_1819,\"<\"&Voucher_Date_1819),COUNTIF(Voucher_Date_1819,\"<\"&Voucher_Date_1819)+SUM(IF(ISNUMBER(Voucher_Date_1819),1,0))+1)),ROW(A344)),IF(ISBLANK(Voucher_Date_1819),\"\",IF(ISNUMBER(Voucher_Date_1819),COUNTIF(Voucher_Date_1819,\"<\"&Voucher_Date_1819),COUNTIF(Voucher_Date_1819,\"<\"&Voucher_Date_1819)+SUM(IF(ISNUMBER(Voucher_Date_1819),1,0))+1)),0))","v":{"$error":"#NUM!"}}]
[{"$f":"INDEX(Voucher_Date_1819,MATCH(ROWS('Bill Register 20-21'!$L$3:'Bill Register 20-21'!L346),COUNTIF(Voucher_Date_1819,\"<=\"&Voucher_Date_1819),0))","v":{"$error":"#N/A"}},{"$f":"INDEX(Voucher_Date_1819,MATCH(SMALL(IF(ISBLANK(Voucher_Date_1819),\"\",IF(ISNUMBER(Voucher_Date_1819),COUNTIF(Voucher_Date_1819,\"<\"&Voucher_Date_1819),COUNTIF(Voucher_Date_1819,\"<\"&Voucher_Date_1819)+SUM(IF(ISNUMBER(Voucher_Date_1819),1,0))+1)),ROW(A345)),IF(ISBLANK(Voucher_Date_1819),\"\",IF(ISNUMBER(Voucher_Date_1819),COUNTIF(Voucher_Date_1819,\"<\"&Voucher_Date_1819),COUNTIF(Voucher_Date_1819,\"<\"&Voucher_Date_1819)+SUM(IF(ISNUMBER(Voucher_Date_1819),1,0))+1)),0))","v":{"$error":"#NUM!"}}]
[{"$f":"INDEX(Voucher_Date_1819,MATCH(ROWS('Bill Register 20-21'!$L$3:'Bill Register 20-21'!L347),COUNTIF(Voucher_Date_1819,\"<=\"&Voucher_Date_1819),0))","v":{"$error":"#N/A"}},{"$f":"INDEX(Voucher_Date_1819,MATCH(SMALL(IF(ISBLANK(Voucher_Date_1819),\"\",IF(ISNUMBER(Voucher_Date_1819),COUNTIF(Voucher_Date_1819,\"<\"&Voucher_Date_1819),COUNTIF(Voucher_Date_1819,\"<\"&Voucher_Date_1819)+SUM(IF(ISNUMBER(Voucher_Date_1819),1,0))+1)),ROW(A346)),IF(ISBLANK(Voucher_Date_1819),\"\",IF(ISNUMBER(Voucher_Date_1819),COUNTIF(Voucher_Date_1819,\"<\"&Voucher_Date_1819),COUNTIF(Voucher_Date_1819,\"<\"&Voucher_Date_1819)+SUM(IF(ISNUMBER(Voucher_Date_1819),1,0))+1)),0))","v":{"$error":"#NUM!"}}]
[{"$f":"INDEX(Voucher_Date_1819,MATCH(ROWS('Bill Register 20-21'!$L$3:'Bill Register 20-21'!L348),COUNTIF(Voucher_Date_1819,\"<=\"&Voucher_Date_1819),0))","v":{"$error":"#N/A"}},{"$f":"INDEX(Voucher_Date_1819,MATCH(SMALL(IF(ISBLANK(Voucher_Date_1819),\"\",IF(ISNUMBER(Voucher_Date_1819),COUNTIF(Voucher_Date_1819,\"<\"&Voucher_Date_1819),COUNTIF(Voucher_Date_1819,\"<\"&Voucher_Date_1819)+SUM(IF(ISNUMBER(Voucher_Date_1819),1,0))+1)),ROW(A347)),IF(ISBLANK(Voucher_Date_1819),\"\",IF(ISNUMBER(Voucher_Date_1819),COUNTIF(Voucher_Date_1819,\"<\"&Voucher_Date_1819),COUNTIF(Voucher_Date_1819,\"<\"&Voucher_Date_1819)+SUM(IF(ISNUMBER(Voucher_Date_1819),1,0))+1)),0))","v":{"$error":"#NUM!"}}]
[{"$f":"INDEX(Voucher_Date_1819,MATCH(ROWS('Bill Register 20-21'!$L$3:'Bill Register 20-21'!L349),COUNTIF(Voucher_Date_1819,\"<=\"&Voucher_Date_1819),0))","v":{"$error":"#N/A"}},{"$f":"INDEX(Voucher_Date_1819,MATCH(SMALL(IF(ISBLANK(Voucher_Date_1819),\"\",IF(ISNUMBER(Voucher_Date_1819),COUNTIF(Voucher_Date_1819,\"<\"&Voucher_Date_1819),COUNTIF(Voucher_Date_1819,\"<\"&Voucher_Date_1819)+SUM(IF(ISNUMBER(Voucher_Date_1819),1,0))+1)),ROW(A348)),IF(ISBLANK(Voucher_Date_1819),\"\",IF(ISNUMBER(Voucher_Date_1819),COUNTIF(Voucher_Date_1819,\"<\"&Voucher_Date_1819),COUNTIF(Voucher_Date_1819,\"<\"&Voucher_Date_1819)+SUM(IF(ISNUMBER(Voucher_Date_1819),1,0))+1)),0))","v":{"$error":"#NUM!"}}]
[{"$f":"INDEX(Voucher_Date_1819,MATCH(ROWS('Bill Register 20-21'!$L$3:'Bill Register 20-21'!L350),COUNTIF(Voucher_Date_1819,\"<=\"&Voucher_Date_1819),0))","v":{"$error":"#N/A"}},{"$f":"INDEX(Voucher_Date_1819,MATCH(SMALL(IF(ISBLANK(Voucher_Date_1819),\"\",IF(ISNUMBER(Voucher_Date_1819),COUNTIF(Voucher_Date_1819,\"<\"&Voucher_Date_1819),COUNTIF(Voucher_Date_1819,\"<\"&Voucher_Date_1819)+SUM(IF(ISNUMBER(Voucher_Date_1819),1,0))+1)),ROW(A349)),IF(ISBLANK(Voucher_Date_1819),\"\",IF(ISNUMBER(Voucher_Date_1819),COUNTIF(Voucher_Date_1819,\"<\"&Voucher_Date_1819),COUNTIF(Voucher_Date_1819,\"<\"&Voucher_Date_1819)+SUM(IF(ISNUMBER(Voucher_Date_1819),1,0))+1)),0))","v":{"$error":"#NUM!"}}]
[{"$f":"INDEX(Voucher_Date_1819,MATCH(ROWS('Bill Register 20-21'!$L$3:'Bill Register 20-21'!L351),COUNTIF(Voucher_Date_1819,\"<=\"&Voucher_Date_1819),0))","v":{"$error":"#N/A"}},{"$f":"INDEX(Voucher_Date_1819,MATCH(SMALL(IF(ISBLANK(Voucher_Date_1819),\"\",IF(ISNUMBER(Voucher_Date_1819),COUNTIF(Voucher_Date_1819,\"<\"&Voucher_Date_1819),COUNTIF(Voucher_Date_1819,\"<\"&Voucher_Date_1819)+SUM(IF(ISNUMBER(Voucher_Date_1819),1,0))+1)),ROW(A350)),IF(ISBLANK(Voucher_Date_1819),\"\",IF(ISNUMBER(Voucher_Date_1819),COUNTIF(Voucher_Date_1819,\"<\"&Voucher_Date_1819),COUNTIF(Voucher_Date_1819,\"<\"&Voucher_Date_1819)+SUM(IF(ISNUMBER(Voucher_Date_1819),1,0))+1)),0))","v":{"$error":"#NUM!"}}]
[{"$f":"INDEX(Voucher_Date_1819,MATCH(ROWS('Bill Register 20-21'!$L$3:'Bill Register 20-21'!L352),COUNTIF(Voucher_Date_1819,\"<=\"&Voucher_Date_1819),0))","v":{"$error":"#N/A"}},{"$f":"INDEX(Voucher_Date_1819,MATCH(SMALL(IF(ISBLANK(Voucher_Date_1819),\"\",IF(ISNUMBER(Voucher_Date_1819),COUNTIF(Voucher_Date_1819,\"<\"&Voucher_Date_1819),COUNTIF(Voucher_Date_1819,\"<\"&Voucher_Date_1819)+SUM(IF(ISNUMBER(Voucher_Date_1819),1,0))+1)),ROW(A351)),IF(ISBLANK(Voucher_Date_1819),\"\",IF(ISNUMBER(Voucher_Date_1819),COUNTIF(Voucher_Date_1819,\"<\"&Voucher_Date_1819),COUNTIF(Voucher_Date_1819,\"<\"&Voucher_Date_1819)+SUM(IF(ISNUMBER(Voucher_Date_1819),1,0))+1)),0))","v":{"$error":"#NUM!"}}]
[{"$f":"INDEX(Voucher_Date_1819,MATCH(ROWS('Bill Register 20-21'!$L$3:'Bill Register 20-21'!L353),COUNTIF(Voucher_Date_1819,\"<=\"&Voucher_Date_1819),0))","v":{"$error":"#N/A"}},{"$f":"INDEX(Voucher_Date_1819,MATCH(SMALL(IF(ISBLANK(Voucher_Date_1819),\"\",IF(ISNUMBER(Voucher_Date_1819),COUNTIF(Voucher_Date_1819,\"<\"&Voucher_Date_1819),COUNTIF(Voucher_Date_1819,\"<\"&Voucher_Date_1819)+SUM(IF(ISNUMBER(Voucher_Date_1819),1,0))+1)),ROW(A352)),IF(ISBLANK(Voucher_Date_1819),\"\",IF(ISNUMBER(Voucher_Date_1819),COUNTIF(Voucher_Date_1819,\"<\"&Voucher_Date_1819),COUNTIF(Voucher_Date_1819,\"<\"&Voucher_Date_1819)+SUM(IF(ISNUMBER(Voucher_Date_1819),1,0))+1)),0))","v":{"$error":"#NUM!"}}]
[{"$f":"INDEX(Voucher_Date_1819,MATCH(ROWS('Bill Register 20-21'!$L$3:'Bill Register 20-21'!L354),COUNTIF(Voucher_Date_1819,\"<=\"&Voucher_Date_1819),0))","v":{"$error":"#N/A"}},{"$f":"INDEX(Voucher_Date_1819,MATCH(SMALL(IF(ISBLANK(Voucher_Date_1819),\"\",IF(ISNUMBER(Voucher_Date_1819),COUNTIF(Voucher_Date_1819,\"<\"&Voucher_Date_1819),COUNTIF(Voucher_Date_1819,\"<\"&Voucher_Date_1819)+SUM(IF(ISNUMBER(Voucher_Date_1819),1,0))+1)),ROW(A353)),IF(ISBLANK(Voucher_Date_1819),\"\",IF(ISNUMBER(Voucher_Date_1819),COUNTIF(Voucher_Date_1819,\"<\"&Voucher_Date_1819),COUNTIF(Voucher_Date_1819,\"<\"&Voucher_Date_1819)+SUM(IF(ISNUMBER(Voucher_Date_1819),1,0))+1)),0))","v":{"$error":"#NUM!"}}]
[{"$f":"INDEX(Voucher_Date_1819,MATCH(ROWS('Bill Register 20-21'!$L$3:'Bill Register 20-21'!L355),COUNTIF(Voucher_Date_1819,\"<=\"&Voucher_Date_1819),0))","v":{"$error":"#N/A"}},{"$f":"INDEX(Voucher_Date_1819,MATCH(SMALL(IF(ISBLANK(Voucher_Date_1819),\"\",IF(ISNUMBER(Voucher_Date_1819),COUNTIF(Voucher_Date_1819,\"<\"&Voucher_Date_1819),COUNTIF(Voucher_Date_1819,\"<\"&Voucher_Date_1819)+SUM(IF(ISNUMBER(Voucher_Date_1819),1,0))+1)),ROW(A354)),IF(ISBLANK(Voucher_Date_1819),\"\",IF(ISNUMBER(Voucher_Date_1819),COUNTIF(Voucher_Date_1819,\"<\"&Voucher_Date_1819),COUNTIF(Voucher_Date_1819,\"<\"&Voucher_Date_1819)+SUM(IF(ISNUMBER(Voucher_Date_1819),1,0))+1)),0))","v":{"$error":"#NUM!"}}]
[{"$f":"INDEX(Voucher_Date_1819,MATCH(ROWS('Bill Register 20-21'!$L$3:'Bill Register 20-21'!L356),COUNTIF(Voucher_Date_1819,\"<=\"&Voucher_Date_1819),0))","v":{"$error":"#N/A"}},{"$f":"INDEX(Voucher_Date_1819,MATCH(SMALL(IF(ISBLANK(Voucher_Date_1819),\"\",IF(ISNUMBER(Voucher_Date_1819),COUNTIF(Voucher_Date_1819,\"<\"&Voucher_Date_1819),COUNTIF(Voucher_Date_1819,\"<\"&Voucher_Date_1819)+SUM(IF(ISNUMBER(Voucher_Date_1819),1,0))+1)),ROW(A355)),IF(ISBLANK(Voucher_Date_1819),\"\",IF(ISNUMBER(Voucher_Date_1819),COUNTIF(Voucher_Date_1819,\"<\"&Voucher_Date_1819),COUNTIF(Voucher_Date_1819,\"<\"&Voucher_Date_1819)+SUM(IF(ISNUMBER(Voucher_Date_1819),1,0))+1)),0))","v":{"$error":"#NUM!"}}]
[{"$f":"INDEX(Voucher_Date_1819,MATCH(ROWS('Bill Register 20-21'!$L$3:'Bill Register 20-21'!L357),COUNTIF(Voucher_Date_1819,\"<=\"&Voucher_Date_1819),0))","v":{"$error":"#N/A"}},{"$f":"INDEX(Voucher_Date_1819,MATCH(SMALL(IF(ISBLANK(Voucher_Date_1819),\"\",IF(ISNUMBER(Voucher_Date_1819),COUNTIF(Voucher_Date_1819,\"<\"&Voucher_Date_1819),COUNTIF(Voucher_Date_1819,\"<\"&Voucher_Date_1819)+SUM(IF(ISNUMBER(Voucher_Date_1819),1,0))+1)),ROW(A356)),IF(ISBLANK(Voucher_Date_1819),\"\",IF(ISNUMBER(Voucher_Date_1819),COUNTIF(Voucher_Date_1819,\"<\"&Voucher_Date_1819),COUNTIF(Voucher_Date_1819,\"<\"&Voucher_Date_1819)+SUM(IF(ISNUMBER(Voucher_Date_1819),1,0))+1)),0))","v":{"$error":"#NUM!"}}]
[{"$f":"INDEX(Voucher_Date_1819,MATCH(ROWS('Bill Register 20-21'!$L$3:'Bill Register 20-21'!L358),COUNTIF(Voucher_Date_1819,\"<=\"&Voucher_Date_1819),0))","v":{"$error":"#N/A"}},{"$f":"INDEX(Voucher_Date_1819,MATCH(SMALL(IF(ISBLANK(Voucher_Date_1819),\"\",IF(ISNUMBER(Voucher_Date_1819),COUNTIF(Voucher_Date_1819,\"<\"&Voucher_Date_1819),COUNTIF(Voucher_Date_1819,\"<\"&Voucher_Date_1819)+SUM(IF(ISNUMBER(Voucher_Date_1819),1,0))+1)),ROW(A357)),IF(ISBLANK(Voucher_Date_1819),\"\",IF(ISNUMBER(Voucher_Date_1819),COUNTIF(Voucher_Date_1819,\"<\"&Voucher_Date_1819),COUNTIF(Voucher_Date_1819,\"<\"&Voucher_Date_1819)+SUM(IF(ISNUMBER(Voucher_Date_1819),1,0))+1)),0))","v":{"$error":"#NUM!"}}]
[{"$f":"INDEX(Voucher_Date_1819,MATCH(ROWS('Bill Register 20-21'!$L$3:'Bill Register 20-21'!L359),COUNTIF(Voucher_Date_1819,\"<=\"&Voucher_Date_1819),0))","v":{"$error":"#N/A"}},{"$f":"INDEX(Voucher_Date_1819,MATCH(SMALL(IF(ISBLANK(Voucher_Date_1819),\"\",IF(ISNUMBER(Voucher_Date_1819),COUNTIF(Voucher_Date_1819,\"<\"&Voucher_Date_1819),COUNTIF(Voucher_Date_1819,\"<\"&Voucher_Date_1819)+SUM(IF(ISNUMBER(Voucher_Date_1819),1,0))+1)),ROW(A358)),IF(ISBLANK(Voucher_Date_1819),\"\",IF(ISNUMBER(Voucher_Date_1819),COUNTIF(Voucher_Date_1819,\"<\"&Voucher_Date_1819),COUNTIF(Voucher_Date_1819,\"<\"&Voucher_Date_1819)+SUM(IF(ISNUMBER(Voucher_Date_1819),1,0))+1)),0))","v":{"$error":"#NUM!"}}]
[{"$f":"INDEX(Voucher_Date_1819,MATCH(ROWS('Bill Register 20-21'!$L$3:'Bill Register 20-21'!L360),COUNTIF(Voucher_Date_1819,\"<=\"&Voucher_Date_1819),0))","v":{"$error":"#N/A"}},{"$f":"INDEX(Voucher_Date_1819,MATCH(SMALL(IF(ISBLANK(Voucher_Date_1819),\"\",IF(ISNUMBER(Voucher_Date_1819),COUNTIF(Voucher_Date_1819,\"<\"&Voucher_Date_1819),COUNTIF(Voucher_Date_1819,\"<\"&Voucher_Date_1819)+SUM(IF(ISNUMBER(Voucher_Date_1819),1,0))+1)),ROW(A359)),IF(ISBLANK(Voucher_Date_1819),\"\",IF(ISNUMBER(Voucher_Date_1819),COUNTIF(Voucher_Date_1819,\"<\"&Voucher_Date_1819),COUNTIF(Voucher_Date_1819,\"<\"&Voucher_Date_1819)+SUM(IF(ISNUMBER(Voucher_Date_1819),1,0))+1)),0))","v":{"$error":"#NUM!"}}]
[{"$f":"INDEX(Voucher_Date_1819,MATCH(ROWS('Bill Register 20-21'!$L$3:'Bill Register 20-21'!L361),COUNTIF(Voucher_Date_1819,\"<=\"&Voucher_Date_1819),0))","v":{"$error":"#N/A"}},{"$f":"INDEX(Voucher_Date_1819,MATCH(SMALL(IF(ISBLANK(Voucher_Date_1819),\"\",IF(ISNUMBER(Voucher_Date_1819),COUNTIF(Voucher_Date_1819,\"<\"&Voucher_Date_1819),COUNTIF(Voucher_Date_1819,\"<\"&Voucher_Date_1819)+SUM(IF(ISNUMBER(Voucher_Date_1819),1,0))+1)),ROW(A360)),IF(ISBLANK(Voucher_Date_1819),\"\",IF(ISNUMBER(Voucher_Date_1819),COUNTIF(Voucher_Date_1819,\"<\"&Voucher_Date_1819),COUNTIF(Voucher_Date_1819,\"<\"&Voucher_Date_1819)+SUM(IF(ISNUMBER(Voucher_Date_1819),1,0))+1)),0))","v":{"$error":"#NUM!"}}]
[{"$f":"INDEX(Voucher_Date_1819,MATCH(ROWS('Bill Register 20-21'!$L$3:'Bill Register 20-21'!L362),COUNTIF(Voucher_Date_1819,\"<=\"&Voucher_Date_1819),0))","v":{"$error":"#N/A"}},{"$f":"INDEX(Voucher_Date_1819,MATCH(SMALL(IF(ISBLANK(Voucher_Date_1819),\"\",IF(ISNUMBER(Voucher_Date_1819),COUNTIF(Voucher_Date_1819,\"<\"&Voucher_Date_1819),COUNTIF(Voucher_Date_1819,\"<\"&Voucher_Date_1819)+SUM(IF(ISNUMBER(Voucher_Date_1819),1,0))+1)),ROW(A361)),IF(ISBLANK(Voucher_Date_1819),\"\",IF(ISNUMBER(Voucher_Date_1819),COUNTIF(Voucher_Date_1819,\"<\"&Voucher_Date_1819),COUNTIF(Voucher_Date_1819,\"<\"&Voucher_Date_1819)+SUM(IF(ISNUMBER(Voucher_Date_1819),1,0))+1)),0))","v":{"$error":"#NUM!"}}]
[{"$f":"INDEX(Voucher_Date_1819,MATCH(ROWS('Bill Register 20-21'!$L$3:'Bill Register 20-21'!L363),COUNTIF(Voucher_Date_1819,\"<=\"&Voucher_Date_1819),0))","v":{"$error":"#N/A"}},{"$f":"INDEX(Voucher_Date_1819,MATCH(SMALL(IF(ISBLANK(Voucher_Date_1819),\"\",IF(ISNUMBER(Voucher_Date_1819),COUNTIF(Voucher_Date_1819,\"<\"&Voucher_Date_1819),COUNTIF(Voucher_Date_1819,\"<\"&Voucher_Date_1819)+SUM(IF(ISNUMBER(Voucher_Date_1819),1,0))+1)),ROW(A362)),IF(ISBLANK(Voucher_Date_1819),\"\",IF(ISNUMBER(Voucher_Date_1819),COUNTIF(Voucher_Date_1819,\"<\"&Voucher_Date_1819),COUNTIF(Voucher_Date_1819,\"<\"&Voucher_Date_1819)+SUM(IF(ISNUMBER(Voucher_Date_1819),1,0))+1)),0))","v":{"$error":"#NUM!"}}]
[{"$f":"INDEX(Voucher_Date_1819,MATCH(ROWS('Bill Register 20-21'!$L$3:'Bill Register 20-21'!L364),COUNTIF(Voucher_Date_1819,\"<=\"&Voucher_Date_1819),0))","v":{"$error":"#N/A"}},{"$f":"INDEX(Voucher_Date_1819,MATCH(SMALL(IF(ISBLANK(Voucher_Date_1819),\"\",IF(ISNUMBER(Voucher_Date_1819),COUNTIF(Voucher_Date_1819,\"<\"&Voucher_Date_1819),COUNTIF(Voucher_Date_1819,\"<\"&Voucher_Date_1819)+SUM(IF(ISNUMBER(Voucher_Date_1819),1,0))+1)),ROW(A363)),IF(ISBLANK(Voucher_Date_1819),\"\",IF(ISNUMBER(Voucher_Date_1819),COUNTIF(Voucher_Date_1819,\"<\"&Voucher_Date_1819),COUNTIF(Voucher_Date_1819,\"<\"&Voucher_Date_1819)+SUM(IF(ISNUMBER(Voucher_Date_1819),1,0))+1)),0))","v":{"$error":"#NUM!"}}]
[{"$f":"INDEX(Voucher_Date_1819,MATCH(ROWS('Bill Register 20-21'!$L$3:'Bill Register 20-21'!L365),COUNTIF(Voucher_Date_1819,\"<=\"&Voucher_Date_1819),0))","v":{"$error":"#N/A"}},{"$f":"INDEX(Voucher_Date_1819,MATCH(SMALL(IF(ISBLANK(Voucher_Date_1819),\"\",IF(ISNUMBER(Voucher_Date_1819),COUNTIF(Voucher_Date_1819,\"<\"&Voucher_Date_1819),COUNTIF(Voucher_Date_1819,\"<\"&Voucher_Date_1819)+SUM(IF(ISNUMBER(Voucher_Date_1819),1,0))+1)),ROW(A364)),IF(ISBLANK(Voucher_Date_1819),\"\",IF(ISNUMBER(Voucher_Date_1819),COUNTIF(Voucher_Date_1819,\"<\"&Voucher_Date_1819),COUNTIF(Voucher_Date_1819,\"<\"&Voucher_Date_1819)+SUM(IF(ISNUMBER(Voucher_Date_1819),1,0))+1)),0))","v":{"$error":"#NUM!"}}]
[{"$f":"INDEX(Voucher_Date_1819,MATCH(ROWS('Bill Register 20-21'!$L$3:'Bill Register 20-21'!L366),COUNTIF(Voucher_Date_1819,\"<=\"&Voucher_Date_1819),0))","v":{"$error":"#N/A"}},{"$f":"INDEX(Voucher_Date_1819,MATCH(SMALL(IF(ISBLANK(Voucher_Date_1819),\"\",IF(ISNUMBER(Voucher_Date_1819),COUNTIF(Voucher_Date_1819,\"<\"&Voucher_Date_1819),COUNTIF(Voucher_Date_1819,\"<\"&Voucher_Date_1819)+SUM(IF(ISNUMBER(Voucher_Date_1819),1,0))+1)),ROW(A365)),IF(ISBLANK(Voucher_Date_1819),\"\",IF(ISNUMBER(Voucher_Date_1819),COUNTIF(Voucher_Date_1819,\"<\"&Voucher_Date_1819),COUNTIF(Voucher_Date_1819,\"<\"&Voucher_Date_1819)+SUM(IF(ISNUMBER(Voucher_Date_1819),1,0))+1)),0))","v":{"$error":"#NUM!"}}]
[{"$f":"INDEX(Voucher_Date_1819,MATCH(ROWS('Bill Register 20-21'!$L$3:'Bill Register 20-21'!L367),COUNTIF(Voucher_Date_1819,\"<=\"&Voucher_Date_1819),0))","v":{"$error":"#N/A"}},{"$f":"INDEX(Voucher_Date_1819,MATCH(SMALL(IF(ISBLANK(Voucher_Date_1819),\"\",IF(ISNUMBER(Voucher_Date_1819),COUNTIF(Voucher_Date_1819,\"<\"&Voucher_Date_1819),COUNTIF(Voucher_Date_1819,\"<\"&Voucher_Date_1819)+SUM(IF(ISNUMBER(Voucher_Date_1819),1,0))+1)),ROW(A366)),IF(ISBLANK(Voucher_Date_1819),\"\",IF(ISNUMBER(Voucher_Date_1819),COUNTIF(Voucher_Date_1819,\"<\"&Voucher_Date_1819),COUNTIF(Voucher_Date_1819,\"<\"&Voucher_Date_1819)+SUM(IF(ISNUMBER(Voucher_Date_1819),1,0))+1)),0))","v":{"$error":"#NUM!"}}]
[{"$f":"INDEX(Voucher_Date_1819,MATCH(ROWS('Bill Register 20-21'!$L$3:'Bill Register 20-21'!L368),COUNTIF(Voucher_Date_1819,\"<=\"&Voucher_Date_1819),0))","v":{"$error":"#N/A"}},{"$f":"INDEX(Voucher_Date_1819,MATCH(SMALL(IF(ISBLANK(Voucher_Date_1819),\"\",IF(ISNUMBER(Voucher_Date_1819),COUNTIF(Voucher_Date_1819,\"<\"&Voucher_Date_1819),COUNTIF(Voucher_Date_1819,\"<\"&Voucher_Date_1819)+SUM(IF(ISNUMBER(Voucher_Date_1819),1,0))+1)),ROW(A367)),IF(ISBLANK(Voucher_Date_1819),\"\",IF(ISNUMBER(Voucher_Date_1819),COUNTIF(Voucher_Date_1819,\"<\"&Voucher_Date_1819),COUNTIF(Voucher_Date_1819,\"<\"&Voucher_Date_1819)+SUM(IF(ISNUMBER(Voucher_Date_1819),1,0))+1)),0))","v":{"$error":"#NUM!"}}]
[{"$f":"INDEX(Voucher_Date_1819,MATCH(ROWS('Bill Register 20-21'!$L$3:'Bill Register 20-21'!L369),COUNTIF(Voucher_Date_1819,\"<=\"&Voucher_Date_1819),0))","v":{"$error":"#N/A"}},{"$f":"INDEX(Voucher_Date_1819,MATCH(SMALL(IF(ISBLANK(Voucher_Date_1819),\"\",IF(ISNUMBER(Voucher_Date_1819),COUNTIF(Voucher_Date_1819,\"<\"&Voucher_Date_1819),COUNTIF(Voucher_Date_1819,\"<\"&Voucher_Date_1819)+SUM(IF(ISNUMBER(Voucher_Date_1819),1,0))+1)),ROW(A368)),IF(ISBLANK(Voucher_Date_1819),\"\",IF(ISNUMBER(Voucher_Date_1819),COUNTIF(Voucher_Date_1819,\"<\"&Voucher_Date_1819),COUNTIF(Voucher_Date_1819,\"<\"&Voucher_Date_1819)+SUM(IF(ISNUMBER(Voucher_Date_1819),1,0))+1)),0))","v":{"$error":"#NUM!"}}]
[{"$f":"INDEX(Voucher_Date_1819,MATCH(ROWS('Bill Register 20-21'!$L$3:'Bill Register 20-21'!L370),COUNTIF(Voucher_Date_1819,\"<=\"&Voucher_Date_1819),0))","v":{"$error":"#N/A"}},{"$f":"INDEX(Voucher_Date_1819,MATCH(SMALL(IF(ISBLANK(Voucher_Date_1819),\"\",IF(ISNUMBER(Voucher_Date_1819),COUNTIF(Voucher_Date_1819,\"<\"&Voucher_Date_1819),COUNTIF(Voucher_Date_1819,\"<\"&Voucher_Date_1819)+SUM(IF(ISNUMBER(Voucher_Date_1819),1,0))+1)),ROW(A369)),IF(ISBLANK(Voucher_Date_1819),\"\",IF(ISNUMBER(Voucher_Date_1819),COUNTIF(Voucher_Date_1819,\"<\"&Voucher_Date_1819),COUNTIF(Voucher_Date_1819,\"<\"&Voucher_Date_1819)+SUM(IF(ISNUMBER(Voucher_Date_1819),1,0))+1)),0))","v":{"$error":"#NUM!"}}]
[{"$f":"INDEX(Voucher_Date_1819,MATCH(ROWS('Bill Register 20-21'!$L$3:'Bill Register 20-21'!L371),COUNTIF(Voucher_Date_1819,\"<=\"&Voucher_Date_1819),0))","v":{"$error":"#N/A"}},{"$f":"INDEX(Voucher_Date_1819,MATCH(SMALL(IF(ISBLANK(Voucher_Date_1819),\"\",IF(ISNUMBER(Voucher_Date_1819),COUNTIF(Voucher_Date_1819,\"<\"&Voucher_Date_1819),COUNTIF(Voucher_Date_1819,\"<\"&Voucher_Date_1819)+SUM(IF(ISNUMBER(Voucher_Date_1819),1,0))+1)),ROW(A370)),IF(ISBLANK(Voucher_Date_1819),\"\",IF(ISNUMBER(Voucher_Date_1819),COUNTIF(Voucher_Date_1819,\"<\"&Voucher_Date_1819),COUNTIF(Voucher_Date_1819,\"<\"&Voucher_Date_1819)+SUM(IF(ISNUMBER(Voucher_Date_1819),1,0))+1)),0))","v":{"$error":"#NUM!"}}]
[{"$f":"INDEX(Voucher_Date_1819,MATCH(ROWS('Bill Register 20-21'!$L$3:'Bill Register 20-21'!L372),COUNTIF(Voucher_Date_1819,\"<=\"&Voucher_Date_1819),0))","v":{"$error":"#N/A"}},{"$f":"INDEX(Voucher_Date_1819,MATCH(SMALL(IF(ISBLANK(Voucher_Date_1819),\"\",IF(ISNUMBER(Voucher_Date_1819),COUNTIF(Voucher_Date_1819,\"<\"&Voucher_Date_1819),COUNTIF(Voucher_Date_1819,\"<\"&Voucher_Date_1819)+SUM(IF(ISNUMBER(Voucher_Date_1819),1,0))+1)),ROW(A371)),IF(ISBLANK(Voucher_Date_1819),\"\",IF(ISNUMBER(Voucher_Date_1819),COUNTIF(Voucher_Date_1819,\"<\"&Voucher_Date_1819),COUNTIF(Voucher_Date_1819,\"<\"&Voucher_Date_1819)+SUM(IF(ISNUMBER(Voucher_Date_1819),1,0))+1)),0))","v":{"$error":"#NUM!"}}]
[{"$f":"INDEX(Voucher_Date_1819,MATCH(ROWS('Bill Register 20-21'!$L$3:'Bill Register 20-21'!L373),COUNTIF(Voucher_Date_1819,\"<=\"&Voucher_Date_1819),0))","v":{"$error":"#N/A"}},{"$f":"INDEX(Voucher_Date_1819,MATCH(SMALL(IF(ISBLANK(Voucher_Date_1819),\"\",IF(ISNUMBER(Voucher_Date_1819),COUNTIF(Voucher_Date_1819,\"<\"&Voucher_Date_1819),COUNTIF(Voucher_Date_1819,\"<\"&Voucher_Date_1819)+SUM(IF(ISNUMBER(Voucher_Date_1819),1,0))+1)),ROW(A372)),IF(ISBLANK(Voucher_Date_1819),\"\",IF(ISNUMBER(Voucher_Date_1819),COUNTIF(Voucher_Date_1819,\"<\"&Voucher_Date_1819),COUNTIF(Voucher_Date_1819,\"<\"&Voucher_Date_1819)+SUM(IF(ISNUMBER(Voucher_Date_1819),1,0))+1)),0))","v":{"$error":"#NUM!"}}]
[{"$f":"INDEX(Voucher_Date_1819,MATCH(ROWS('Bill Register 20-21'!$L$3:'Bill Register 20-21'!L374),COUNTIF(Voucher_Date_1819,\"<=\"&Voucher_Date_1819),0))","v":{"$error":"#N/A"}},{"$f":"INDEX(Voucher_Date_1819,MATCH(SMALL(IF(ISBLANK(Voucher_Date_1819),\"\",IF(ISNUMBER(Voucher_Date_1819),COUNTIF(Voucher_Date_1819,\"<\"&Voucher_Date_1819),COUNTIF(Voucher_Date_1819,\"<\"&Voucher_Date_1819)+SUM(IF(ISNUMBER(Voucher_Date_1819),1,0))+1)),ROW(A373)),IF(ISBLANK(Voucher_Date_1819),\"\",IF(ISNUMBER(Voucher_Date_1819),COUNTIF(Voucher_Date_1819,\"<\"&Voucher_Date_1819),COUNTIF(Voucher_Date_1819,\"<\"&Voucher_Date_1819)+SUM(IF(ISNUMBER(Voucher_Date_1819),1,0))+1)),0))","v":{"$error":"#NUM!"}}]
[{"$f":"INDEX(Voucher_Date_1819,MATCH(ROWS('Bill Register 20-21'!$L$3:'Bill Register 20-21'!L375),COUNTIF(Voucher_Date_1819,\"<=\"&Voucher_Date_1819),0))","v":{"$error":"#N/A"}},{"$f":"INDEX(Voucher_Date_1819,MATCH(SMALL(IF(ISBLANK(Voucher_Date_1819),\"\",IF(ISNUMBER(Voucher_Date_1819),COUNTIF(Voucher_Date_1819,\"<\"&Voucher_Date_1819),COUNTIF(Voucher_Date_1819,\"<\"&Voucher_Date_1819)+SUM(IF(ISNUMBER(Voucher_Date_1819),1,0))+1)),ROW(A374)),IF(ISBLANK(Voucher_Date_1819),\"\",IF(ISNUMBER(Voucher_Date_1819),COUNTIF(Voucher_Date_1819,\"<\"&Voucher_Date_1819),COUNTIF(Voucher_Date_1819,\"<\"&Voucher_Date_1819)+SUM(IF(ISNUMBER(Voucher_Date_1819),1,0))+1)),0))","v":{"$error":"#NUM!"}}]
[{"$f":"INDEX(Voucher_Date_1819,MATCH(ROWS('Bill Register 20-21'!$L$3:'Bill Register 20-21'!L376),COUNTIF(Voucher_Date_1819,\"<=\"&Voucher_Date_1819),0))","v":{"$error":"#N/A"}},{"$f":"INDEX(Voucher_Date_1819,MATCH(SMALL(IF(ISBLANK(Voucher_Date_1819),\"\",IF(ISNUMBER(Voucher_Date_1819),COUNTIF(Voucher_Date_1819,\"<\"&Voucher_Date_1819),COUNTIF(Voucher_Date_1819,\"<\"&Voucher_Date_1819)+SUM(IF(ISNUMBER(Voucher_Date_1819),1,0))+1)),ROW(A375)),IF(ISBLANK(Voucher_Date_1819),\"\",IF(ISNUMBER(Voucher_Date_1819),COUNTIF(Voucher_Date_1819,\"<\"&Voucher_Date_1819),COUNTIF(Voucher_Date_1819,\"<\"&Voucher_Date_1819)+SUM(IF(ISNUMBER(Voucher_Date_1819),1,0))+1)),0))","v":{"$error":"#NUM!"}}]
[{"$f":"INDEX(Voucher_Date_1819,MATCH(ROWS('Bill Register 20-21'!$L$3:'Bill Register 20-21'!L377),COUNTIF(Voucher_Date_1819,\"<=\"&Voucher_Date_1819),0))","v":{"$error":"#N/A"}},{"$f":"INDEX(Voucher_Date_1819,MATCH(SMALL(IF(ISBLANK(Voucher_Date_1819),\"\",IF(ISNUMBER(Voucher_Date_1819),COUNTIF(Voucher_Date_1819,\"<\"&Voucher_Date_1819),COUNTIF(Voucher_Date_1819,\"<\"&Voucher_Date_1819)+SUM(IF(ISNUMBER(Voucher_Date_1819),1,0))+1)),ROW(A376)),IF(ISBLANK(Voucher_Date_1819),\"\",IF(ISNUMBER(Voucher_Date_1819),COUNTIF(Voucher_Date_1819,\"<\"&Voucher_Date_1819),COUNTIF(Voucher_Date_1819,\"<\"&Voucher_Date_1819)+SUM(IF(ISNUMBER(Voucher_Date_1819),1,0))+1)),0))","v":{"$error":"#NUM!"}}]
[{"$f":"INDEX(Voucher_Date_1819,MATCH(ROWS('Bill Register 20-21'!$L$3:'Bill Register 20-21'!L378),COUNTIF(Voucher_Date_1819,\"<=\"&Voucher_Date_1819),0))","v":{"$error":"#N/A"}},{"$f":"INDEX(Voucher_Date_1819,MATCH(SMALL(IF(ISBLANK(Voucher_Date_1819),\"\",IF(ISNUMBER(Voucher_Date_1819),COUNTIF(Voucher_Date_1819,\"<\"&Voucher_Date_1819),COUNTIF(Voucher_Date_1819,\"<\"&Voucher_Date_1819)+SUM(IF(ISNUMBER(Voucher_Date_1819),1,0))+1)),ROW(A377)),IF(ISBLANK(Voucher_Date_1819),\"\",IF(ISNUMBER(Voucher_Date_1819),COUNTIF(Voucher_Date_1819,\"<\"&Voucher_Date_1819),COUNTIF(Voucher_Date_1819,\"<\"&Voucher_Date_1819)+SUM(IF(ISNUMBER(Voucher_Date_1819),1,0))+1)),0))","v":{"$error":"#NUM!"}}]
[{"$f":"INDEX(Voucher_Date_1819,MATCH(ROWS('Bill Register 20-21'!$L$3:'Bill Register 20-21'!L379),COUNTIF(Voucher_Date_1819,\"<=\"&Voucher_Date_1819),0))","v":{"$error":"#N/A"}},{"$f":"INDEX(Voucher_Date_1819,MATCH(SMALL(IF(ISBLANK(Voucher_Date_1819),\"\",IF(ISNUMBER(Voucher_Date_1819),COUNTIF(Voucher_Date_1819,\"<\"&Voucher_Date_1819),COUNTIF(Voucher_Date_1819,\"<\"&Voucher_Date_1819)+SUM(IF(ISNUMBER(Voucher_Date_1819),1,0))+1)),ROW(A378)),IF(ISBLANK(Voucher_Date_1819),\"\",IF(ISNUMBER(Voucher_Date_1819),COUNTIF(Voucher_Date_1819,\"<\"&Voucher_Date_1819),COUNTIF(Voucher_Date_1819,\"<\"&Voucher_Date_1819)+SUM(IF(ISNUMBER(Voucher_Date_1819),1,0))+1)),0))","v":{"$error":"#NUM!"}}]
[{"$f":"INDEX(Voucher_Date_1819,MATCH(ROWS('Bill Register 20-21'!$L$3:'Bill Register 20-21'!L380),COUNTIF(Voucher_Date_1819,\"<=\"&Voucher_Date_1819),0))","v":{"$error":"#N/A"}},{"$f":"INDEX(Voucher_Date_1819,MATCH(SMALL(IF(ISBLANK(Voucher_Date_1819),\"\",IF(ISNUMBER(Voucher_Date_1819),COUNTIF(Voucher_Date_1819,\"<\"&Voucher_Date_1819),COUNTIF(Voucher_Date_1819,\"<\"&Voucher_Date_1819)+SUM(IF(ISNUMBER(Voucher_Date_1819),1,0))+1)),ROW(A379)),IF(ISBLANK(Voucher_Date_1819),\"\",IF(ISNUMBER(Voucher_Date_1819),COUNTIF(Voucher_Date_1819,\"<\"&Voucher_Date_1819),COUNTIF(Voucher_Date_1819,\"<\"&Voucher_Date_1819)+SUM(IF(ISNUMBER(Voucher_Date_1819),1,0))+1)),0))","v":{"$error":"#NUM!"}}]
[{"$f":"INDEX(Voucher_Date_1819,MATCH(ROWS('Bill Register 20-21'!$L$3:'Bill Register 20-21'!L381),COUNTIF(Voucher_Date_1819,\"<=\"&Voucher_Date_1819),0))","v":{"$error":"#N/A"}},{"$f":"INDEX(Voucher_Date_1819,MATCH(SMALL(IF(ISBLANK(Voucher_Date_1819),\"\",IF(ISNUMBER(Voucher_Date_1819),COUNTIF(Voucher_Date_1819,\"<\"&Voucher_Date_1819),COUNTIF(Voucher_Date_1819,\"<\"&Voucher_Date_1819)+SUM(IF(ISNUMBER(Voucher_Date_1819),1,0))+1)),ROW(A380)),IF(ISBLANK(Voucher_Date_1819),\"\",IF(ISNUMBER(Voucher_Date_1819),COUNTIF(Voucher_Date_1819,\"<\"&Voucher_Date_1819),COUNTIF(Voucher_Date_1819,\"<\"&Voucher_Date_1819)+SUM(IF(ISNUMBER(Voucher_Date_1819),1,0))+1)),0))","v":{"$error":"#NUM!"}}]
[{"$f":"INDEX(Voucher_Date_1819,MATCH(ROWS('Bill Register 20-21'!$L$3:'Bill Register 20-21'!L382),COUNTIF(Voucher_Date_1819,\"<=\"&Voucher_Date_1819),0))","v":{"$error":"#N/A"}},{"$f":"INDEX(Voucher_Date_1819,MATCH(SMALL(IF(ISBLANK(Voucher_Date_1819),\"\",IF(ISNUMBER(Voucher_Date_1819),COUNTIF(Voucher_Date_1819,\"<\"&Voucher_Date_1819),COUNTIF(Voucher_Date_1819,\"<\"&Voucher_Date_1819)+SUM(IF(ISNUMBER(Voucher_Date_1819),1,0))+1)),ROW(A381)),IF(ISBLANK(Voucher_Date_1819),\"\",IF(ISNUMBER(Voucher_Date_1819),COUNTIF(Voucher_Date_1819,\"<\"&Voucher_Date_1819),COUNTIF(Voucher_Date_1819,\"<\"&Voucher_Date_1819)+SUM(IF(ISNUMBER(Voucher_Date_1819),1,0))+1)),0))","v":{"$error":"#NUM!"}}]
[{"$f":"INDEX(Voucher_Date_1819,MATCH(ROWS('Bill Register 20-21'!$L$3:'Bill Register 20-21'!L383),COUNTIF(Voucher_Date_1819,\"<=\"&Voucher_Date_1819),0))","v":{"$error":"#N/A"}},{"$f":"INDEX(Voucher_Date_1819,MATCH(SMALL(IF(ISBLANK(Voucher_Date_1819),\"\",IF(ISNUMBER(Voucher_Date_1819),COUNTIF(Voucher_Date_1819,\"<\"&Voucher_Date_1819),COUNTIF(Voucher_Date_1819,\"<\"&Voucher_Date_1819)+SUM(IF(ISNUMBER(Voucher_Date_1819),1,0))+1)),ROW(A382)),IF(ISBLANK(Voucher_Date_1819),\"\",IF(ISNUMBER(Voucher_Date_1819),COUNTIF(Voucher_Date_1819,\"<\"&Voucher_Date_1819),COUNTIF(Voucher_Date_1819,\"<\"&Voucher_Date_1819)+SUM(IF(ISNUMBER(Voucher_Date_1819),1,0))+1)),0))","v":{"$error":"#NUM!"}}]
[{"$f":"INDEX(Voucher_Date_1819,MATCH(ROWS('Bill Register 20-21'!$L$3:'Bill Register 20-21'!L384),COUNTIF(Voucher_Date_1819,\"<=\"&Voucher_Date_1819),0))","v":{"$error":"#N/A"}},{"$f":"INDEX(Voucher_Date_1819,MATCH(SMALL(IF(ISBLANK(Voucher_Date_1819),\"\",IF(ISNUMBER(Voucher_Date_1819),COUNTIF(Voucher_Date_1819,\"<\"&Voucher_Date_1819),COUNTIF(Voucher_Date_1819,\"<\"&Voucher_Date_1819)+SUM(IF(ISNUMBER(Voucher_Date_1819),1,0))+1)),ROW(A383)),IF(ISBLANK(Voucher_Date_1819),\"\",IF(ISNUMBER(Voucher_Date_1819),COUNTIF(Voucher_Date_1819,\"<\"&Voucher_Date_1819),COUNTIF(Voucher_Date_1819,\"<\"&Voucher_Date_1819)+SUM(IF(ISNUMBER(Voucher_Date_1819),1,0))+1)),0))","v":{"$error":"#NUM!"}}]
[{"$f":"INDEX(Voucher_Date_1819,MATCH(ROWS('Bill Register 20-21'!$L$3:'Bill Register 20-21'!L385),COUNTIF(Voucher_Date_1819,\"<=\"&Voucher_Date_1819),0))","v":{"$error":"#N/A"}},{"$f":"INDEX(Voucher_Date_1819,MATCH(SMALL(IF(ISBLANK(Voucher_Date_1819),\"\",IF(ISNUMBER(Voucher_Date_1819),COUNTIF(Voucher_Date_1819,\"<\"&Voucher_Date_1819),COUNTIF(Voucher_Date_1819,\"<\"&Voucher_Date_1819)+SUM(IF(ISNUMBER(Voucher_Date_1819),1,0))+1)),ROW(A384)),IF(ISBLANK(Voucher_Date_1819),\"\",IF(ISNUMBER(Voucher_Date_1819),COUNTIF(Voucher_Date_1819,\"<\"&Voucher_Date_1819),COUNTIF(Voucher_Date_1819,\"<\"&Voucher_Date_1819)+SUM(IF(ISNUMBER(Voucher_Date_1819),1,0))+1)),0))","v":{"$error":"#NUM!"}}]
[{"$f":"INDEX(Voucher_Date_1819,MATCH(ROWS('Bill Register 20-21'!$L$3:'Bill Register 20-21'!L386),COUNTIF(Voucher_Date_1819,\"<=\"&Voucher_Date_1819),0))","v":{"$error":"#N/A"}},{"$f":"INDEX(Voucher_Date_1819,MATCH(SMALL(IF(ISBLANK(Voucher_Date_1819),\"\",IF(ISNUMBER(Voucher_Date_1819),COUNTIF(Voucher_Date_1819,\"<\"&Voucher_Date_1819),COUNTIF(Voucher_Date_1819,\"<\"&Voucher_Date_1819)+SUM(IF(ISNUMBER(Voucher_Date_1819),1,0))+1)),ROW(A385)),IF(ISBLANK(Voucher_Date_1819),\"\",IF(ISNUMBER(Voucher_Date_1819),COUNTIF(Voucher_Date_1819,\"<\"&Voucher_Date_1819),COUNTIF(Voucher_Date_1819,\"<\"&Voucher_Date_1819)+SUM(IF(ISNUMBER(Voucher_Date_1819),1,0))+1)),0))","v":{"$error":"#NUM!"}}]
[{"$f":"INDEX(Voucher_Date_1819,MATCH(ROWS('Bill Register 20-21'!$L$3:'Bill Register 20-21'!L387),COUNTIF(Voucher_Date_1819,\"<=\"&Voucher_Date_1819),0))","v":{"$error":"#N/A"}},{"$f":"INDEX(Voucher_Date_1819,MATCH(SMALL(IF(ISBLANK(Voucher_Date_1819),\"\",IF(ISNUMBER(Voucher_Date_1819),COUNTIF(Voucher_Date_1819,\"<\"&Voucher_Date_1819),COUNTIF(Voucher_Date_1819,\"<\"&Voucher_Date_1819)+SUM(IF(ISNUMBER(Voucher_Date_1819),1,0))+1)),ROW(A386)),IF(ISBLANK(Voucher_Date_1819),\"\",IF(ISNUMBER(Voucher_Date_1819),COUNTIF(Voucher_Date_1819,\"<\"&Voucher_Date_1819),COUNTIF(Voucher_Date_1819,\"<\"&Voucher_Date_1819)+SUM(IF(ISNUMBER(Voucher_Date_1819),1,0))+1)),0))","v":{"$error":"#NUM!"}}]
[{"$f":"INDEX(Voucher_Date_1819,MATCH(ROWS('Bill Register 20-21'!$L$3:'Bill Register 20-21'!L388),COUNTIF(Voucher_Date_1819,\"<=\"&Voucher_Date_1819),0))","v":{"$error":"#N/A"}},{"$f":"INDEX(Voucher_Date_1819,MATCH(SMALL(IF(ISBLANK(Voucher_Date_1819),\"\",IF(ISNUMBER(Voucher_Date_1819),COUNTIF(Voucher_Date_1819,\"<\"&Voucher_Date_1819),COUNTIF(Voucher_Date_1819,\"<\"&Voucher_Date_1819)+SUM(IF(ISNUMBER(Voucher_Date_1819),1,0))+1)),ROW(A387)),IF(ISBLANK(Voucher_Date_1819),\"\",IF(ISNUMBER(Voucher_Date_1819),COUNTIF(Voucher_Date_1819,\"<\"&Voucher_Date_1819),COUNTIF(Voucher_Date_1819,\"<\"&Voucher_Date_1819)+SUM(IF(ISNUMBER(Voucher_Date_1819),1,0))+1)),0))","v":{"$error":"#NUM!"}}]
[{"$f":"INDEX(Voucher_Date_1819,MATCH(ROWS('Bill Register 20-21'!$L$3:'Bill Register 20-21'!L389),COUNTIF(Voucher_Date_1819,\"<=\"&Voucher_Date_1819),0))","v":{"$error":"#N/A"}},{"$f":"INDEX(Voucher_Date_1819,MATCH(SMALL(IF(ISBLANK(Voucher_Date_1819),\"\",IF(ISNUMBER(Voucher_Date_1819),COUNTIF(Voucher_Date_1819,\"<\"&Voucher_Date_1819),COUNTIF(Voucher_Date_1819,\"<\"&Voucher_Date_1819)+SUM(IF(ISNUMBER(Voucher_Date_1819),1,0))+1)),ROW(A388)),IF(ISBLANK(Voucher_Date_1819),\"\",IF(ISNUMBER(Voucher_Date_1819),COUNTIF(Voucher_Date_1819,\"<\"&Voucher_Date_1819),COUNTIF(Voucher_Date_1819,\"<\"&Voucher_Date_1819)+SUM(IF(ISNUMBER(Voucher_Date_1819),1,0))+1)),0))","v":{"$error":"#NUM!"}}]
[{"$f":"INDEX(Voucher_Date_1819,MATCH(ROWS('Bill Register 20-21'!$L$3:'Bill Register 20-21'!L390),COUNTIF(Voucher_Date_1819,\"<=\"&Voucher_Date_1819),0))","v":{"$error":"#N/A"}},{"$f":"INDEX(Voucher_Date_1819,MATCH(SMALL(IF(ISBLANK(Voucher_Date_1819),\"\",IF(ISNUMBER(Voucher_Date_1819),COUNTIF(Voucher_Date_1819,\"<\"&Voucher_Date_1819),COUNTIF(Voucher_Date_1819,\"<\"&Voucher_Date_1819)+SUM(IF(ISNUMBER(Voucher_Date_1819),1,0))+1)),ROW(A389)),IF(ISBLANK(Voucher_Date_1819),\"\",IF(ISNUMBER(Voucher_Date_1819),COUNTIF(Voucher_Date_1819,\"<\"&Voucher_Date_1819),COUNTIF(Voucher_Date_1819,\"<\"&Voucher_Date_1819)+SUM(IF(ISNUMBER(Voucher_Date_1819),1,0))+1)),0))","v":{"$error":"#NUM!"}}]
[{"$f":"INDEX(Voucher_Date_1819,MATCH(ROWS('Bill Register 20-21'!$L$3:'Bill Register 20-21'!L391),COUNTIF(Voucher_Date_1819,\"<=\"&Voucher_Date_1819),0))","v":{"$error":"#N/A"}},{"$f":"INDEX(Voucher_Date_1819,MATCH(SMALL(IF(ISBLANK(Voucher_Date_1819),\"\",IF(ISNUMBER(Voucher_Date_1819),COUNTIF(Voucher_Date_1819,\"<\"&Voucher_Date_1819),COUNTIF(Voucher_Date_1819,\"<\"&Voucher_Date_1819)+SUM(IF(ISNUMBER(Voucher_Date_1819),1,0))+1)),ROW(A390)),IF(ISBLANK(Voucher_Date_1819),\"\",IF(ISNUMBER(Voucher_Date_1819),COUNTIF(Voucher_Date_1819,\"<\"&Voucher_Date_1819),COUNTIF(Voucher_Date_1819,\"<\"&Voucher_Date_1819)+SUM(IF(ISNUMBER(Voucher_Date_1819),1,0))+1)),0))","v":{"$error":"#NUM!"}}]
[{"$f":"INDEX(Voucher_Date_1819,MATCH(ROWS('Bill Register 20-21'!$L$3:'Bill Register 20-21'!L392),COUNTIF(Voucher_Date_1819,\"<=\"&Voucher_Date_1819),0))","v":{"$error":"#N/A"}},{"$f":"INDEX(Voucher_Date_1819,MATCH(SMALL(IF(ISBLANK(Voucher_Date_1819),\"\",IF(ISNUMBER(Voucher_Date_1819),COUNTIF(Voucher_Date_1819,\"<\"&Voucher_Date_1819),COUNTIF(Voucher_Date_1819,\"<\"&Voucher_Date_1819)+SUM(IF(ISNUMBER(Voucher_Date_1819),1,0))+1)),ROW(A391)),IF(ISBLANK(Voucher_Date_1819),\"\",IF(ISNUMBER(Voucher_Date_1819),COUNTIF(Voucher_Date_1819,\"<\"&Voucher_Date_1819),COUNTIF(Voucher_Date_1819,\"<\"&Voucher_Date_1819)+SUM(IF(ISNUMBER(Voucher_Date_1819),1,0))+1)),0))","v":{"$error":"#NUM!"}}]
[{"$f":"INDEX(Voucher_Date_1819,MATCH(ROWS('Bill Register 20-21'!$L$3:'Bill Register 20-21'!L393),COUNTIF(Voucher_Date_1819,\"<=\"&Voucher_Date_1819),0))","v":{"$error":"#N/A"}},{"$f":"INDEX(Voucher_Date_1819,MATCH(SMALL(IF(ISBLANK(Voucher_Date_1819),\"\",IF(ISNUMBER(Voucher_Date_1819),COUNTIF(Voucher_Date_1819,\"<\"&Voucher_Date_1819),COUNTIF(Voucher_Date_1819,\"<\"&Voucher_Date_1819)+SUM(IF(ISNUMBER(Voucher_Date_1819),1,0))+1)),ROW(A392)),IF(ISBLANK(Voucher_Date_1819),\"\",IF(ISNUMBER(Voucher_Date_1819),COUNTIF(Voucher_Date_1819,\"<\"&Voucher_Date_1819),COUNTIF(Voucher_Date_1819,\"<\"&Voucher_Date_1819)+SUM(IF(ISNUMBER(Voucher_Date_1819),1,0))+1)),0))","v":{"$error":"#NUM!"}}]
[{"$f":"INDEX(Voucher_Date_1819,MATCH(ROWS('Bill Register 20-21'!$L$3:'Bill Register 20-21'!L394),COUNTIF(Voucher_Date_1819,\"<=\"&Voucher_Date_1819),0))","v":{"$error":"#N/A"}},{"$f":"INDEX(Voucher_Date_1819,MATCH(SMALL(IF(ISBLANK(Voucher_Date_1819),\"\",IF(ISNUMBER(Voucher_Date_1819),COUNTIF(Voucher_Date_1819,\"<\"&Voucher_Date_1819),COUNTIF(Voucher_Date_1819,\"<\"&Voucher_Date_1819)+SUM(IF(ISNUMBER(Voucher_Date_1819),1,0))+1)),ROW(A393)),IF(ISBLANK(Voucher_Date_1819),\"\",IF(ISNUMBER(Voucher_Date_1819),COUNTIF(Voucher_Date_1819,\"<\"&Voucher_Date_1819),COUNTIF(Voucher_Date_1819,\"<\"&Voucher_Date_1819)+SUM(IF(ISNUMBER(Voucher_Date_1819),1,0))+1)),0))","v":{"$error":"#NUM!"}}]
[{"$f":"INDEX(Voucher_Date_1819,MATCH(ROWS('Bill Register 20-21'!$L$3:'Bill Register 20-21'!L395),COUNTIF(Voucher_Date_1819,\"<=\"&Voucher_Date_1819),0))","v":{"$error":"#N/A"}},{"$f":"INDEX(Voucher_Date_1819,MATCH(SMALL(IF(ISBLANK(Voucher_Date_1819),\"\",IF(ISNUMBER(Voucher_Date_1819),COUNTIF(Voucher_Date_1819,\"<\"&Voucher_Date_1819),COUNTIF(Voucher_Date_1819,\"<\"&Voucher_Date_1819)+SUM(IF(ISNUMBER(Voucher_Date_1819),1,0))+1)),ROW(A394)),IF(ISBLANK(Voucher_Date_1819),\"\",IF(ISNUMBER(Voucher_Date_1819),COUNTIF(Voucher_Date_1819,\"<\"&Voucher_Date_1819),COUNTIF(Voucher_Date_1819,\"<\"&Voucher_Date_1819)+SUM(IF(ISNUMBER(Voucher_Date_1819),1,0))+1)),0))","v":{"$error":"#NUM!"}}]
[{"$f":"INDEX(Voucher_Date_1819,MATCH(ROWS('Bill Register 20-21'!$L$3:'Bill Register 20-21'!L396),COUNTIF(Voucher_Date_1819,\"<=\"&Voucher_Date_1819),0))","v":{"$error":"#N/A"}},{"$f":"INDEX(Voucher_Date_1819,MATCH(SMALL(IF(ISBLANK(Voucher_Date_1819),\"\",IF(ISNUMBER(Voucher_Date_1819),COUNTIF(Voucher_Date_1819,\"<\"&Voucher_Date_1819),COUNTIF(Voucher_Date_1819,\"<\"&Voucher_Date_1819)+SUM(IF(ISNUMBER(Voucher_Date_1819),1,0))+1)),ROW(A395)),IF(ISBLANK(Voucher_Date_1819),\"\",IF(ISNUMBER(Voucher_Date_1819),COUNTIF(Voucher_Date_1819,\"<\"&Voucher_Date_1819),COUNTIF(Voucher_Date_1819,\"<\"&Voucher_Date_1819)+SUM(IF(ISNUMBER(Voucher_Date_1819),1,0))+1)),0))","v":{"$error":"#NUM!"}}]
[{"$f":"INDEX(Voucher_Date_1819,MATCH(ROWS('Bill Register 20-21'!$L$3:'Bill Register 20-21'!L397),COUNTIF(Voucher_Date_1819,\"<=\"&Voucher_Date_1819),0))","v":{"$error":"#N/A"}},{"$f":"INDEX(Voucher_Date_1819,MATCH(SMALL(IF(ISBLANK(Voucher_Date_1819),\"\",IF(ISNUMBER(Voucher_Date_1819),COUNTIF(Voucher_Date_1819,\"<\"&Voucher_Date_1819),COUNTIF(Voucher_Date_1819,\"<\"&Voucher_Date_1819)+SUM(IF(ISNUMBER(Voucher_Date_1819),1,0))+1)),ROW(A396)),IF(ISBLANK(Voucher_Date_1819),\"\",IF(ISNUMBER(Voucher_Date_1819),COUNTIF(Voucher_Date_1819,\"<\"&Voucher_Date_1819),COUNTIF(Voucher_Date_1819,\"<\"&Voucher_Date_1819)+SUM(IF(ISNUMBER(Voucher_Date_1819),1,0))+1)),0))","v":{"$error":"#NUM!"}}]
[{"$f":"INDEX(Voucher_Date_1819,MATCH(ROWS('Bill Register 20-21'!$L$3:'Bill Register 20-21'!L398),COUNTIF(Voucher_Date_1819,\"<=\"&Voucher_Date_1819),0))","v":{"$error":"#N/A"}},{"$f":"INDEX(Voucher_Date_1819,MATCH(SMALL(IF(ISBLANK(Voucher_Date_1819),\"\",IF(ISNUMBER(Voucher_Date_1819),COUNTIF(Voucher_Date_1819,\"<\"&Voucher_Date_1819),COUNTIF(Voucher_Date_1819,\"<\"&Voucher_Date_1819)+SUM(IF(ISNUMBER(Voucher_Date_1819),1,0))+1)),ROW(A397)),IF(ISBLANK(Voucher_Date_1819),\"\",IF(ISNUMBER(Voucher_Date_1819),COUNTIF(Voucher_Date_1819,\"<\"&Voucher_Date_1819),COUNTIF(Voucher_Date_1819,\"<\"&Voucher_Date_1819)+SUM(IF(ISNUMBER(Voucher_Date_1819),1,0))+1)),0))","v":{"$error":"#NUM!"}}]
[{"$f":"INDEX(Voucher_Date_1819,MATCH(ROWS('Bill Register 20-21'!$L$3:'Bill Register 20-21'!L399),COUNTIF(Voucher_Date_1819,\"<=\"&Voucher_Date_1819),0))","v":{"$error":"#N/A"}},{"$f":"INDEX(Voucher_Date_1819,MATCH(SMALL(IF(ISBLANK(Voucher_Date_1819),\"\",IF(ISNUMBER(Voucher_Date_1819),COUNTIF(Voucher_Date_1819,\"<\"&Voucher_Date_1819),COUNTIF(Voucher_Date_1819,\"<\"&Voucher_Date_1819)+SUM(IF(ISNUMBER(Voucher_Date_1819),1,0))+1)),ROW(A398)),IF(ISBLANK(Voucher_Date_1819),\"\",IF(ISNUMBER(Voucher_Date_1819),COUNTIF(Voucher_Date_1819,\"<\"&Voucher_Date_1819),COUNTIF(Voucher_Date_1819,\"<\"&Voucher_Date_1819)+SUM(IF(ISNUMBER(Voucher_Date_1819),1,0))+1)),0))","v":{"$error":"#NUM!"}}]
[{"$f":"INDEX(Voucher_Date_1819,MATCH(ROWS('Bill Register 20-21'!$L$3:'Bill Register 20-21'!L400),COUNTIF(Voucher_Date_1819,\"<=\"&Voucher_Date_1819),0))","v":{"$error":"#N/A"}},{"$f":"INDEX(Voucher_Date_1819,MATCH(SMALL(IF(ISBLANK(Voucher_Date_1819),\"\",IF(ISNUMBER(Voucher_Date_1819),COUNTIF(Voucher_Date_1819,\"<\"&Voucher_Date_1819),COUNTIF(Voucher_Date_1819,\"<\"&Voucher_Date_1819)+SUM(IF(ISNUMBER(Voucher_Date_1819),1,0))+1)),ROW(A399)),IF(ISBLANK(Voucher_Date_1819),\"\",IF(ISNUMBER(Voucher_Date_1819),COUNTIF(Voucher_Date_1819,\"<\"&Voucher_Date_1819),COUNTIF(Voucher_Date_1819,\"<\"&Voucher_Date_1819)+SUM(IF(ISNUMBER(Voucher_Date_1819),1,0))+1)),0))","v":{"$error":"#NUM!"}}]
[{"$f":"INDEX(Voucher_Date_1819,MATCH(ROWS('Bill Register 20-21'!$L$3:'Bill Register 20-21'!L401),COUNTIF(Voucher_Date_1819,\"<=\"&Voucher_Date_1819),0))","v":{"$error":"#N/A"}},{"$f":"INDEX(Voucher_Date_1819,MATCH(SMALL(IF(ISBLANK(Voucher_Date_1819),\"\",IF(ISNUMBER(Voucher_Date_1819),COUNTIF(Voucher_Date_1819,\"<\"&Voucher_Date_1819),COUNTIF(Voucher_Date_1819,\"<\"&Voucher_Date_1819)+SUM(IF(ISNUMBER(Voucher_Date_1819),1,0))+1)),ROW(A400)),IF(ISBLANK(Voucher_Date_1819),\"\",IF(ISNUMBER(Voucher_Date_1819),COUNTIF(Voucher_Date_1819,\"<\"&Voucher_Date_1819),COUNTIF(Voucher_Date_1819,\"<\"&Voucher_Date_1819)+SUM(IF(ISNUMBER(Voucher_Date_1819),1,0))+1)),0))","v":{"$error":"#NUM!"}}]
[{"$f":"INDEX(Voucher_Date_1819,MATCH(ROWS('Bill Register 20-21'!$L$3:'Bill Register 20-21'!L402),COUNTIF(Voucher_Date_1819,\"<=\"&Voucher_Date_1819),0))","v":{"$error":"#N/A"}},{"$f":"INDEX(Voucher_Date_1819,MATCH(SMALL(IF(ISBLANK(Voucher_Date_1819),\"\",IF(ISNUMBER(Voucher_Date_1819),COUNTIF(Voucher_Date_1819,\"<\"&Voucher_Date_1819),COUNTIF(Voucher_Date_1819,\"<\"&Voucher_Date_1819)+SUM(IF(ISNUMBER(Voucher_Date_1819),1,0))+1)),ROW(A401)),IF(ISBLANK(Voucher_Date_1819),\"\",IF(ISNUMBER(Voucher_Date_1819),COUNTIF(Voucher_Date_1819,\"<\"&Voucher_Date_1819),COUNTIF(Voucher_Date_1819,\"<\"&Voucher_Date_1819)+SUM(IF(ISNUMBER(Voucher_Date_1819),1,0))+1)),0))","v":{"$error":"#NUM!"}}]
[{"$f":"INDEX(Voucher_Date_1819,MATCH(ROWS('Bill Register 20-21'!$L$3:'Bill Register 20-21'!L403),COUNTIF(Voucher_Date_1819,\"<=\"&Voucher_Date_1819),0))","v":{"$error":"#N/A"}},{"$f":"INDEX(Voucher_Date_1819,MATCH(SMALL(IF(ISBLANK(Voucher_Date_1819),\"\",IF(ISNUMBER(Voucher_Date_1819),COUNTIF(Voucher_Date_1819,\"<\"&Voucher_Date_1819),COUNTIF(Voucher_Date_1819,\"<\"&Voucher_Date_1819)+SUM(IF(ISNUMBER(Voucher_Date_1819),1,0))+1)),ROW(A402)),IF(ISBLANK(Voucher_Date_1819),\"\",IF(ISNUMBER(Voucher_Date_1819),COUNTIF(Voucher_Date_1819,\"<\"&Voucher_Date_1819),COUNTIF(Voucher_Date_1819,\"<\"&Voucher_Date_1819)+SUM(IF(ISNUMBER(Voucher_Date_1819),1,0))+1)),0))","v":{"$error":"#NUM!"}}]
[{"$f":"INDEX(Voucher_Date_1819,MATCH(ROWS('Bill Register 20-21'!$L$3:'Bill Register 20-21'!L404),COUNTIF(Voucher_Date_1819,\"<=\"&Voucher_Date_1819),0))","v":{"$error":"#N/A"}},{"$f":"INDEX(Voucher_Date_1819,MATCH(SMALL(IF(ISBLANK(Voucher_Date_1819),\"\",IF(ISNUMBER(Voucher_Date_1819),COUNTIF(Voucher_Date_1819,\"<\"&Voucher_Date_1819),COUNTIF(Voucher_Date_1819,\"<\"&Voucher_Date_1819)+SUM(IF(ISNUMBER(Voucher_Date_1819),1,0))+1)),ROW(A403)),IF(ISBLANK(Voucher_Date_1819),\"\",IF(ISNUMBER(Voucher_Date_1819),COUNTIF(Voucher_Date_1819,\"<\"&Voucher_Date_1819),COUNTIF(Voucher_Date_1819,\"<\"&Voucher_Date_1819)+SUM(IF(ISNUMBER(Voucher_Date_1819),1,0))+1)),0))","v":{"$error":"#NUM!"}}]
[{"$f":"INDEX(Voucher_Date_1819,MATCH(ROWS('Bill Register 20-21'!$L$3:'Bill Register 20-21'!L405),COUNTIF(Voucher_Date_1819,\"<=\"&Voucher_Date_1819),0))","v":{"$error":"#N/A"}},{"$f":"INDEX(Voucher_Date_1819,MATCH(SMALL(IF(ISBLANK(Voucher_Date_1819),\"\",IF(ISNUMBER(Voucher_Date_1819),COUNTIF(Voucher_Date_1819,\"<\"&Voucher_Date_1819),COUNTIF(Voucher_Date_1819,\"<\"&Voucher_Date_1819)+SUM(IF(ISNUMBER(Voucher_Date_1819),1,0))+1)),ROW(A404)),IF(ISBLANK(Voucher_Date_1819),\"\",IF(ISNUMBER(Voucher_Date_1819),COUNTIF(Voucher_Date_1819,\"<\"&Voucher_Date_1819),COUNTIF(Voucher_Date_1819,\"<\"&Voucher_Date_1819)+SUM(IF(ISNUMBER(Voucher_Date_1819),1,0))+1)),0))","v":{"$error":"#NUM!"}}]
[{"$f":"INDEX(Voucher_Date_1819,MATCH(ROWS('Bill Register 20-21'!$L$3:'Bill Register 20-21'!L406),COUNTIF(Voucher_Date_1819,\"<=\"&Voucher_Date_1819),0))","v":{"$error":"#N/A"}},{"$f":"INDEX(Voucher_Date_1819,MATCH(SMALL(IF(ISBLANK(Voucher_Date_1819),\"\",IF(ISNUMBER(Voucher_Date_1819),COUNTIF(Voucher_Date_1819,\"<\"&Voucher_Date_1819),COUNTIF(Voucher_Date_1819,\"<\"&Voucher_Date_1819)+SUM(IF(ISNUMBER(Voucher_Date_1819),1,0))+1)),ROW(A405)),IF(ISBLANK(Voucher_Date_1819),\"\",IF(ISNUMBER(Voucher_Date_1819),COUNTIF(Voucher_Date_1819,\"<\"&Voucher_Date_1819),COUNTIF(Voucher_Date_1819,\"<\"&Voucher_Date_1819)+SUM(IF(ISNUMBER(Voucher_Date_1819),1,0))+1)),0))","v":{"$error":"#NUM!"}}]
[{"$f":"INDEX(Voucher_Date_1819,MATCH(ROWS('Bill Register 20-21'!$L$3:'Bill Register 20-21'!L407),COUNTIF(Voucher_Date_1819,\"<=\"&Voucher_Date_1819),0))","v":{"$error":"#N/A"}},{"$f":"INDEX(Voucher_Date_1819,MATCH(SMALL(IF(ISBLANK(Voucher_Date_1819),\"\",IF(ISNUMBER(Voucher_Date_1819),COUNTIF(Voucher_Date_1819,\"<\"&Voucher_Date_1819),COUNTIF(Voucher_Date_1819,\"<\"&Voucher_Date_1819)+SUM(IF(ISNUMBER(Voucher_Date_1819),1,0))+1)),ROW(A406)),IF(ISBLANK(Voucher_Date_1819),\"\",IF(ISNUMBER(Voucher_Date_1819),COUNTIF(Voucher_Date_1819,\"<\"&Voucher_Date_1819),COUNTIF(Voucher_Date_1819,\"<\"&Voucher_Date_1819)+SUM(IF(ISNUMBER(Voucher_Date_1819),1,0))+1)),0))","v":{"$error":"#NUM!"}}]
[{"$f":"INDEX(Voucher_Date_1819,MATCH(ROWS('Bill Register 20-21'!$L$3:'Bill Register 20-21'!L408),COUNTIF(Voucher_Date_1819,\"<=\"&Voucher_Date_1819),0))","v":{"$error":"#N/A"}},{"$f":"INDEX(Voucher_Date_1819,MATCH(SMALL(IF(ISBLANK(Voucher_Date_1819),\"\",IF(ISNUMBER(Voucher_Date_1819),COUNTIF(Voucher_Date_1819,\"<\"&Voucher_Date_1819),COUNTIF(Voucher_Date_1819,\"<\"&Voucher_Date_1819)+SUM(IF(ISNUMBER(Voucher_Date_1819),1,0))+1)),ROW(A407)),IF(ISBLANK(Voucher_Date_1819),\"\",IF(ISNUMBER(Voucher_Date_1819),COUNTIF(Voucher_Date_1819,\"<\"&Voucher_Date_1819),COUNTIF(Voucher_Date_1819,\"<\"&Voucher_Date_1819)+SUM(IF(ISNUMBER(Voucher_Date_1819),1,0))+1)),0))","v":{"$error":"#NUM!"}}]
[{"$f":"INDEX(Voucher_Date_1819,MATCH(ROWS('Bill Register 20-21'!$L$3:'Bill Register 20-21'!L409),COUNTIF(Voucher_Date_1819,\"<=\"&Voucher_Date_1819),0))","v":{"$error":"#N/A"}},{"$f":"INDEX(Voucher_Date_1819,MATCH(SMALL(IF(ISBLANK(Voucher_Date_1819),\"\",IF(ISNUMBER(Voucher_Date_1819),COUNTIF(Voucher_Date_1819,\"<\"&Voucher_Date_1819),COUNTIF(Voucher_Date_1819,\"<\"&Voucher_Date_1819)+SUM(IF(ISNUMBER(Voucher_Date_1819),1,0))+1)),ROW(A408)),IF(ISBLANK(Voucher_Date_1819),\"\",IF(ISNUMBER(Voucher_Date_1819),COUNTIF(Voucher_Date_1819,\"<\"&Voucher_Date_1819),COUNTIF(Voucher_Date_1819,\"<\"&Voucher_Date_1819)+SUM(IF(ISNUMBER(Voucher_Date_1819),1,0))+1)),0))","v":{"$error":"#NUM!"}}]
[{"$f":"INDEX(Voucher_Date_1819,MATCH(ROWS('Bill Register 20-21'!$L$3:'Bill Register 20-21'!L410),COUNTIF(Voucher_Date_1819,\"<=\"&Voucher_Date_1819),0))","v":{"$error":"#N/A"}},{"$f":"INDEX(Voucher_Date_1819,MATCH(SMALL(IF(ISBLANK(Voucher_Date_1819),\"\",IF(ISNUMBER(Voucher_Date_1819),COUNTIF(Voucher_Date_1819,\"<\"&Voucher_Date_1819),COUNTIF(Voucher_Date_1819,\"<\"&Voucher_Date_1819)+SUM(IF(ISNUMBER(Voucher_Date_1819),1,0))+1)),ROW(A409)),IF(ISBLANK(Voucher_Date_1819),\"\",IF(ISNUMBER(Voucher_Date_1819),COUNTIF(Voucher_Date_1819,\"<\"&Voucher_Date_1819),COUNTIF(Voucher_Date_1819,\"<\"&Voucher_Date_1819)+SUM(IF(ISNUMBER(Voucher_Date_1819),1,0))+1)),0))","v":{"$error":"#NUM!"}}]
[{"$f":"INDEX(Voucher_Date_1819,MATCH(ROWS('Bill Register 20-21'!$L$3:'Bill Register 20-21'!L411),COUNTIF(Voucher_Date_1819,\"<=\"&Voucher_Date_1819),0))","v":{"$error":"#N/A"}},{"$f":"INDEX(Voucher_Date_1819,MATCH(SMALL(IF(ISBLANK(Voucher_Date_1819),\"\",IF(ISNUMBER(Voucher_Date_1819),COUNTIF(Voucher_Date_1819,\"<\"&Voucher_Date_1819),COUNTIF(Voucher_Date_1819,\"<\"&Voucher_Date_1819)+SUM(IF(ISNUMBER(Voucher_Date_1819),1,0))+1)),ROW(A410)),IF(ISBLANK(Voucher_Date_1819),\"\",IF(ISNUMBER(Voucher_Date_1819),COUNTIF(Voucher_Date_1819,\"<\"&Voucher_Date_1819),COUNTIF(Voucher_Date_1819,\"<\"&Voucher_Date_1819)+SUM(IF(ISNUMBER(Voucher_Date_1819),1,0))+1)),0))","v":{"$error":"#NUM!"}}]
[{"$f":"INDEX(Voucher_Date_1819,MATCH(ROWS('Bill Register 20-21'!$L$3:'Bill Register 20-21'!L412),COUNTIF(Voucher_Date_1819,\"<=\"&Voucher_Date_1819),0))","v":{"$error":"#N/A"}},{"$f":"INDEX(Voucher_Date_1819,MATCH(SMALL(IF(ISBLANK(Voucher_Date_1819),\"\",IF(ISNUMBER(Voucher_Date_1819),COUNTIF(Voucher_Date_1819,\"<\"&Voucher_Date_1819),COUNTIF(Voucher_Date_1819,\"<\"&Voucher_Date_1819)+SUM(IF(ISNUMBER(Voucher_Date_1819),1,0))+1)),ROW(A411)),IF(ISBLANK(Voucher_Date_1819),\"\",IF(ISNUMBER(Voucher_Date_1819),COUNTIF(Voucher_Date_1819,\"<\"&Voucher_Date_1819),COUNTIF(Voucher_Date_1819,\"<\"&Voucher_Date_1819)+SUM(IF(ISNUMBER(Voucher_Date_1819),1,0))+1)),0))","v":{"$error":"#NUM!"}}]
[{"$f":"INDEX(Voucher_Date_1819,MATCH(ROWS('Bill Register 20-21'!$L$3:'Bill Register 20-21'!L413),COUNTIF(Voucher_Date_1819,\"<=\"&Voucher_Date_1819),0))","v":{"$error":"#N/A"}},{"$f":"INDEX(Voucher_Date_1819,MATCH(SMALL(IF(ISBLANK(Voucher_Date_1819),\"\",IF(ISNUMBER(Voucher_Date_1819),COUNTIF(Voucher_Date_1819,\"<\"&Voucher_Date_1819),COUNTIF(Voucher_Date_1819,\"<\"&Voucher_Date_1819)+SUM(IF(ISNUMBER(Voucher_Date_1819),1,0))+1)),ROW(A412)),IF(ISBLANK(Voucher_Date_1819),\"\",IF(ISNUMBER(Voucher_Date_1819),COUNTIF(Voucher_Date_1819,\"<\"&Voucher_Date_1819),COUNTIF(Voucher_Date_1819,\"<\"&Voucher_Date_1819)+SUM(IF(ISNUMBER(Voucher_Date_1819),1,0))+1)),0))","v":{"$error":"#NUM!"}}]
[{"$f":"INDEX(Voucher_Date_1819,MATCH(ROWS('Bill Register 20-21'!$L$3:'Bill Register 20-21'!L414),COUNTIF(Voucher_Date_1819,\"<=\"&Voucher_Date_1819),0))","v":{"$error":"#N/A"}},{"$f":"INDEX(Voucher_Date_1819,MATCH(SMALL(IF(ISBLANK(Voucher_Date_1819),\"\",IF(ISNUMBER(Voucher_Date_1819),COUNTIF(Voucher_Date_1819,\"<\"&Voucher_Date_1819),COUNTIF(Voucher_Date_1819,\"<\"&Voucher_Date_1819)+SUM(IF(ISNUMBER(Voucher_Date_1819),1,0))+1)),ROW(A413)),IF(ISBLANK(Voucher_Date_1819),\"\",IF(ISNUMBER(Voucher_Date_1819),COUNTIF(Voucher_Date_1819,\"<\"&Voucher_Date_1819),COUNTIF(Voucher_Date_1819,\"<\"&Voucher_Date_1819)+SUM(IF(ISNUMBER(Voucher_Date_1819),1,0))+1)),0))","v":{"$error":"#NUM!"}}]
[{"$f":"INDEX(Voucher_Date_1819,MATCH(ROWS('Bill Register 20-21'!$L$3:'Bill Register 20-21'!L415),COUNTIF(Voucher_Date_1819,\"<=\"&Voucher_Date_1819),0))","v":{"$error":"#N/A"}},{"$f":"INDEX(Voucher_Date_1819,MATCH(SMALL(IF(ISBLANK(Voucher_Date_1819),\"\",IF(ISNUMBER(Voucher_Date_1819),COUNTIF(Voucher_Date_1819,\"<\"&Voucher_Date_1819),COUNTIF(Voucher_Date_1819,\"<\"&Voucher_Date_1819)+SUM(IF(ISNUMBER(Voucher_Date_1819),1,0))+1)),ROW(A414)),IF(ISBLANK(Voucher_Date_1819),\"\",IF(ISNUMBER(Voucher_Date_1819),COUNTIF(Voucher_Date_1819,\"<\"&Voucher_Date_1819),COUNTIF(Voucher_Date_1819,\"<\"&Voucher_Date_1819)+SUM(IF(ISNUMBER(Voucher_Date_1819),1,0))+1)),0))","v":{"$error":"#NUM!"}}]
[{"$f":"INDEX(Voucher_Date_1819,MATCH(ROWS('Bill Register 20-21'!$L$3:'Bill Register 20-21'!L416),COUNTIF(Voucher_Date_1819,\"<=\"&Voucher_Date_1819),0))","v":{"$error":"#N/A"}},{"$f":"INDEX(Voucher_Date_1819,MATCH(SMALL(IF(ISBLANK(Voucher_Date_1819),\"\",IF(ISNUMBER(Voucher_Date_1819),COUNTIF(Voucher_Date_1819,\"<\"&Voucher_Date_1819),COUNTIF(Voucher_Date_1819,\"<\"&Voucher_Date_1819)+SUM(IF(ISNUMBER(Voucher_Date_1819),1,0))+1)),ROW(A415)),IF(ISBLANK(Voucher_Date_1819),\"\",IF(ISNUMBER(Voucher_Date_1819),COUNTIF(Voucher_Date_1819,\"<\"&Voucher_Date_1819),COUNTIF(Voucher_Date_1819,\"<\"&Voucher_Date_1819)+SUM(IF(ISNUMBER(Voucher_Date_1819),1,0))+1)),0))","v":{"$error":"#NUM!"}}]
[{"$f":"INDEX(Voucher_Date_1819,MATCH(ROWS('Bill Register 20-21'!$L$3:'Bill Register 20-21'!L417),COUNTIF(Voucher_Date_1819,\"<=\"&Voucher_Date_1819),0))","v":{"$error":"#N/A"}},{"$f":"INDEX(Voucher_Date_1819,MATCH(SMALL(IF(ISBLANK(Voucher_Date_1819),\"\",IF(ISNUMBER(Voucher_Date_1819),COUNTIF(Voucher_Date_1819,\"<\"&Voucher_Date_1819),COUNTIF(Voucher_Date_1819,\"<\"&Voucher_Date_1819)+SUM(IF(ISNUMBER(Voucher_Date_1819),1,0))+1)),ROW(A416)),IF(ISBLANK(Voucher_Date_1819),\"\",IF(ISNUMBER(Voucher_Date_1819),COUNTIF(Voucher_Date_1819,\"<\"&Voucher_Date_1819),COUNTIF(Voucher_Date_1819,\"<\"&Voucher_Date_1819)+SUM(IF(ISNUMBER(Voucher_Date_1819),1,0))+1)),0))","v":{"$error":"#NUM!"}}]
[{"$f":"INDEX(Voucher_Date_1819,MATCH(ROWS('Bill Register 20-21'!$L$3:'Bill Register 20-21'!L418),COUNTIF(Voucher_Date_1819,\"<=\"&Voucher_Date_1819),0))","v":{"$error":"#N/A"}},{"$f":"INDEX(Voucher_Date_1819,MATCH(SMALL(IF(ISBLANK(Voucher_Date_1819),\"\",IF(ISNUMBER(Voucher_Date_1819),COUNTIF(Voucher_Date_1819,\"<\"&Voucher_Date_1819),COUNTIF(Voucher_Date_1819,\"<\"&Voucher_Date_1819)+SUM(IF(ISNUMBER(Voucher_Date_1819),1,0))+1)),ROW(A417)),IF(ISBLANK(Voucher_Date_1819),\"\",IF(ISNUMBER(Voucher_Date_1819),COUNTIF(Voucher_Date_1819,\"<\"&Voucher_Date_1819),COUNTIF(Voucher_Date_1819,\"<\"&Voucher_Date_1819)+SUM(IF(ISNUMBER(Voucher_Date_1819),1,0))+1)),0))","v":{"$error":"#NUM!"}}]
[{"$f":"INDEX(Voucher_Date_1819,MATCH(ROWS('Bill Register 20-21'!$L$3:'Bill Register 20-21'!L419),COUNTIF(Voucher_Date_1819,\"<=\"&Voucher_Date_1819),0))","v":{"$error":"#N/A"}},{"$f":"INDEX(Voucher_Date_1819,MATCH(SMALL(IF(ISBLANK(Voucher_Date_1819),\"\",IF(ISNUMBER(Voucher_Date_1819),COUNTIF(Voucher_Date_1819,\"<\"&Voucher_Date_1819),COUNTIF(Voucher_Date_1819,\"<\"&Voucher_Date_1819)+SUM(IF(ISNUMBER(Voucher_Date_1819),1,0))+1)),ROW(A418)),IF(ISBLANK(Voucher_Date_1819),\"\",IF(ISNUMBER(Voucher_Date_1819),COUNTIF(Voucher_Date_1819,\"<\"&Voucher_Date_1819),COUNTIF(Voucher_Date_1819,\"<\"&Voucher_Date_1819)+SUM(IF(ISNUMBER(Voucher_Date_1819),1,0))+1)),0))","v":{"$error":"#NUM!"}}]
[{"$f":"INDEX(Voucher_Date_1819,MATCH(ROWS('Bill Register 20-21'!$L$3:'Bill Register 20-21'!L420),COUNTIF(Voucher_Date_1819,\"<=\"&Voucher_Date_1819),0))","v":{"$error":"#N/A"}},{"$f":"INDEX(Voucher_Date_1819,MATCH(SMALL(IF(ISBLANK(Voucher_Date_1819),\"\",IF(ISNUMBER(Voucher_Date_1819),COUNTIF(Voucher_Date_1819,\"<\"&Voucher_Date_1819),COUNTIF(Voucher_Date_1819,\"<\"&Voucher_Date_1819)+SUM(IF(ISNUMBER(Voucher_Date_1819),1,0))+1)),ROW(A419)),IF(ISBLANK(Voucher_Date_1819),\"\",IF(ISNUMBER(Voucher_Date_1819),COUNTIF(Voucher_Date_1819,\"<\"&Voucher_Date_1819),COUNTIF(Voucher_Date_1819,\"<\"&Voucher_Date_1819)+SUM(IF(ISNUMBER(Voucher_Date_1819),1,0))+1)),0))","v":{"$error":"#NUM!"}}]
[{"$f":"INDEX(Voucher_Date_1819,MATCH(ROWS('Bill Register 20-21'!$L$3:'Bill Register 20-21'!L421),COUNTIF(Voucher_Date_1819,\"<=\"&Voucher_Date_1819),0))","v":{"$error":"#N/A"}},{"$f":"INDEX(Voucher_Date_1819,MATCH(SMALL(IF(ISBLANK(Voucher_Date_1819),\"\",IF(ISNUMBER(Voucher_Date_1819),COUNTIF(Voucher_Date_1819,\"<\"&Voucher_Date_1819),COUNTIF(Voucher_Date_1819,\"<\"&Voucher_Date_1819)+SUM(IF(ISNUMBER(Voucher_Date_1819),1,0))+1)),ROW(A420)),IF(ISBLANK(Voucher_Date_1819),\"\",IF(ISNUMBER(Voucher_Date_1819),COUNTIF(Voucher_Date_1819,\"<\"&Voucher_Date_1819),COUNTIF(Voucher_Date_1819,\"<\"&Voucher_Date_1819)+SUM(IF(ISNUMBER(Voucher_Date_1819),1,0))+1)),0))","v":{"$error":"#NUM!"}}]
[{"$f":"INDEX(Voucher_Date_1819,MATCH(ROWS('Bill Register 20-21'!$L$3:'Bill Register 20-21'!L422),COUNTIF(Voucher_Date_1819,\"<=\"&Voucher_Date_1819),0))","v":{"$error":"#N/A"}},{"$f":"INDEX(Voucher_Date_1819,MATCH(SMALL(IF(ISBLANK(Voucher_Date_1819),\"\",IF(ISNUMBER(Voucher_Date_1819),COUNTIF(Voucher_Date_1819,\"<\"&Voucher_Date_1819),COUNTIF(Voucher_Date_1819,\"<\"&Voucher_Date_1819)+SUM(IF(ISNUMBER(Voucher_Date_1819),1,0))+1)),ROW(A421)),IF(ISBLANK(Voucher_Date_1819),\"\",IF(ISNUMBER(Voucher_Date_1819),COUNTIF(Voucher_Date_1819,\"<\"&Voucher_Date_1819),COUNTIF(Voucher_Date_1819,\"<\"&Voucher_Date_1819)+SUM(IF(ISNUMBER(Voucher_Date_1819),1,0))+1)),0))","v":{"$error":"#NUM!"}}]
[{"$f":"INDEX(Voucher_Date_1819,MATCH(ROWS('Bill Register 20-21'!$L$3:'Bill Register 20-21'!L423),COUNTIF(Voucher_Date_1819,\"<=\"&Voucher_Date_1819),0))","v":{"$error":"#N/A"}},{"$f":"INDEX(Voucher_Date_1819,MATCH(SMALL(IF(ISBLANK(Voucher_Date_1819),\"\",IF(ISNUMBER(Voucher_Date_1819),COUNTIF(Voucher_Date_1819,\"<\"&Voucher_Date_1819),COUNTIF(Voucher_Date_1819,\"<\"&Voucher_Date_1819)+SUM(IF(ISNUMBER(Voucher_Date_1819),1,0))+1)),ROW(A422)),IF(ISBLANK(Voucher_Date_1819),\"\",IF(ISNUMBER(Voucher_Date_1819),COUNTIF(Voucher_Date_1819,\"<\"&Voucher_Date_1819),COUNTIF(Voucher_Date_1819,\"<\"&Voucher_Date_1819)+SUM(IF(ISNUMBER(Voucher_Date_1819),1,0))+1)),0))","v":{"$error":"#NUM!"}}]
[{"$f":"INDEX(Voucher_Date_1819,MATCH(ROWS('Bill Register 20-21'!$L$3:'Bill Register 20-21'!L424),COUNTIF(Voucher_Date_1819,\"<=\"&Voucher_Date_1819),0))","v":{"$error":"#N/A"}},{"$f":"INDEX(Voucher_Date_1819,MATCH(SMALL(IF(ISBLANK(Voucher_Date_1819),\"\",IF(ISNUMBER(Voucher_Date_1819),COUNTIF(Voucher_Date_1819,\"<\"&Voucher_Date_1819),COUNTIF(Voucher_Date_1819,\"<\"&Voucher_Date_1819)+SUM(IF(ISNUMBER(Voucher_Date_1819),1,0))+1)),ROW(A423)),IF(ISBLANK(Voucher_Date_1819),\"\",IF(ISNUMBER(Voucher_Date_1819),COUNTIF(Voucher_Date_1819,\"<\"&Voucher_Date_1819),COUNTIF(Voucher_Date_1819,\"<\"&Voucher_Date_1819)+SUM(IF(ISNUMBER(Voucher_Date_1819),1,0))+1)),0))","v":{"$error":"#NUM!"}}]
[{"$f":"INDEX(Voucher_Date_1819,MATCH(ROWS('Bill Register 20-21'!$L$3:'Bill Register 20-21'!L425),COUNTIF(Voucher_Date_1819,\"<=\"&Voucher_Date_1819),0))","v":{"$error":"#N/A"}},{"$f":"INDEX(Voucher_Date_1819,MATCH(SMALL(IF(ISBLANK(Voucher_Date_1819),\"\",IF(ISNUMBER(Voucher_Date_1819),COUNTIF(Voucher_Date_1819,\"<\"&Voucher_Date_1819),COUNTIF(Voucher_Date_1819,\"<\"&Voucher_Date_1819)+SUM(IF(ISNUMBER(Voucher_Date_1819),1,0))+1)),ROW(A424)),IF(ISBLANK(Voucher_Date_1819),\"\",IF(ISNUMBER(Voucher_Date_1819),COUNTIF(Voucher_Date_1819,\"<\"&Voucher_Date_1819),COUNTIF(Voucher_Date_1819,\"<\"&Voucher_Date_1819)+SUM(IF(ISNUMBER(Voucher_Date_1819),1,0))+1)),0))","v":{"$error":"#NUM!"}}]
[{"$f":"INDEX(Voucher_Date_1819,MATCH(ROWS('Bill Register 20-21'!$L$3:'Bill Register 20-21'!L426),COUNTIF(Voucher_Date_1819,\"<=\"&Voucher_Date_1819),0))","v":{"$error":"#N/A"}},{"$f":"INDEX(Voucher_Date_1819,MATCH(SMALL(IF(ISBLANK(Voucher_Date_1819),\"\",IF(ISNUMBER(Voucher_Date_1819),COUNTIF(Voucher_Date_1819,\"<\"&Voucher_Date_1819),COUNTIF(Voucher_Date_1819,\"<\"&Voucher_Date_1819)+SUM(IF(ISNUMBER(Voucher_Date_1819),1,0))+1)),ROW(A425)),IF(ISBLANK(Voucher_Date_1819),\"\",IF(ISNUMBER(Voucher_Date_1819),COUNTIF(Voucher_Date_1819,\"<\"&Voucher_Date_1819),COUNTIF(Voucher_Date_1819,\"<\"&Voucher_Date_1819)+SUM(IF(ISNUMBER(Voucher_Date_1819),1,0))+1)),0))","v":{"$error":"#NUM!"}}]
[{"$f":"INDEX(Voucher_Date_1819,MATCH(ROWS('Bill Register 20-21'!$L$3:'Bill Register 20-21'!L427),COUNTIF(Voucher_Date_1819,\"<=\"&Voucher_Date_1819),0))","v":{"$error":"#N/A"}},{"$f":"INDEX(Voucher_Date_1819,MATCH(SMALL(IF(ISBLANK(Voucher_Date_1819),\"\",IF(ISNUMBER(Voucher_Date_1819),COUNTIF(Voucher_Date_1819,\"<\"&Voucher_Date_1819),COUNTIF(Voucher_Date_1819,\"<\"&Voucher_Date_1819)+SUM(IF(ISNUMBER(Voucher_Date_1819),1,0))+1)),ROW(A426)),IF(ISBLANK(Voucher_Date_1819),\"\",IF(ISNUMBER(Voucher_Date_1819),COUNTIF(Voucher_Date_1819,\"<\"&Voucher_Date_1819),COUNTIF(Voucher_Date_1819,\"<\"&Voucher_Date_1819)+SUM(IF(ISNUMBER(Voucher_Date_1819),1,0))+1)),0))","v":{"$error":"#NUM!"}}]
[{"$f":"INDEX(Voucher_Date_1819,MATCH(ROWS('Bill Register 20-21'!$L$3:'Bill Register 20-21'!L428),COUNTIF(Voucher_Date_1819,\"<=\"&Voucher_Date_1819),0))","v":{"$error":"#N/A"}},{"$f":"INDEX(Voucher_Date_1819,MATCH(SMALL(IF(ISBLANK(Voucher_Date_1819),\"\",IF(ISNUMBER(Voucher_Date_1819),COUNTIF(Voucher_Date_1819,\"<\"&Voucher_Date_1819),COUNTIF(Voucher_Date_1819,\"<\"&Voucher_Date_1819)+SUM(IF(ISNUMBER(Voucher_Date_1819),1,0))+1)),ROW(A427)),IF(ISBLANK(Voucher_Date_1819),\"\",IF(ISNUMBER(Voucher_Date_1819),COUNTIF(Voucher_Date_1819,\"<\"&Voucher_Date_1819),COUNTIF(Voucher_Date_1819,\"<\"&Voucher_Date_1819)+SUM(IF(ISNUMBER(Voucher_Date_1819),1,0))+1)),0))","v":{"$error":"#NUM!"}}]
[{"$f":"INDEX(Voucher_Date_1819,MATCH(ROWS('Bill Register 20-21'!$L$3:'Bill Register 20-21'!L429),COUNTIF(Voucher_Date_1819,\"<=\"&Voucher_Date_1819),0))","v":{"$error":"#N/A"}},{"$f":"INDEX(Voucher_Date_1819,MATCH(SMALL(IF(ISBLANK(Voucher_Date_1819),\"\",IF(ISNUMBER(Voucher_Date_1819),COUNTIF(Voucher_Date_1819,\"<\"&Voucher_Date_1819),COUNTIF(Voucher_Date_1819,\"<\"&Voucher_Date_1819)+SUM(IF(ISNUMBER(Voucher_Date_1819),1,0))+1)),ROW(A428)),IF(ISBLANK(Voucher_Date_1819),\"\",IF(ISNUMBER(Voucher_Date_1819),COUNTIF(Voucher_Date_1819,\"<\"&Voucher_Date_1819),COUNTIF(Voucher_Date_1819,\"<\"&Voucher_Date_1819)+SUM(IF(ISNUMBER(Voucher_Date_1819),1,0))+1)),0))","v":{"$error":"#NUM!"}}]
[{"$f":"INDEX(Voucher_Date_1819,MATCH(ROWS('Bill Register 20-21'!$L$3:'Bill Register 20-21'!L430),COUNTIF(Voucher_Date_1819,\"<=\"&Voucher_Date_1819),0))","v":{"$error":"#N/A"}},{"$f":"INDEX(Voucher_Date_1819,MATCH(SMALL(IF(ISBLANK(Voucher_Date_1819),\"\",IF(ISNUMBER(Voucher_Date_1819),COUNTIF(Voucher_Date_1819,\"<\"&Voucher_Date_1819),COUNTIF(Voucher_Date_1819,\"<\"&Voucher_Date_1819)+SUM(IF(ISNUMBER(Voucher_Date_1819),1,0))+1)),ROW(A429)),IF(ISBLANK(Voucher_Date_1819),\"\",IF(ISNUMBER(Voucher_Date_1819),COUNTIF(Voucher_Date_1819,\"<\"&Voucher_Date_1819),COUNTIF(Voucher_Date_1819,\"<\"&Voucher_Date_1819)+SUM(IF(ISNUMBER(Voucher_Date_1819),1,0))+1)),0))","v":{"$error":"#NUM!"}}]
[{"$f":"INDEX(Voucher_Date_1819,MATCH(ROWS('Bill Register 20-21'!$L$3:'Bill Register 20-21'!L431),COUNTIF(Voucher_Date_1819,\"<=\"&Voucher_Date_1819),0))","v":{"$error":"#N/A"}},{"$f":"INDEX(Voucher_Date_1819,MATCH(SMALL(IF(ISBLANK(Voucher_Date_1819),\"\",IF(ISNUMBER(Voucher_Date_1819),COUNTIF(Voucher_Date_1819,\"<\"&Voucher_Date_1819),COUNTIF(Voucher_Date_1819,\"<\"&Voucher_Date_1819)+SUM(IF(ISNUMBER(Voucher_Date_1819),1,0))+1)),ROW(A430)),IF(ISBLANK(Voucher_Date_1819),\"\",IF(ISNUMBER(Voucher_Date_1819),COUNTIF(Voucher_Date_1819,\"<\"&Voucher_Date_1819),COUNTIF(Voucher_Date_1819,\"<\"&Voucher_Date_1819)+SUM(IF(ISNUMBER(Voucher_Date_1819),1,0))+1)),0))","v":{"$error":"#NUM!"}}]
[{"$f":"INDEX(Voucher_Date_1819,MATCH(ROWS('Bill Register 20-21'!$L$3:'Bill Register 20-21'!L432),COUNTIF(Voucher_Date_1819,\"<=\"&Voucher_Date_1819),0))","v":{"$error":"#N/A"}},{"$f":"INDEX(Voucher_Date_1819,MATCH(SMALL(IF(ISBLANK(Voucher_Date_1819),\"\",IF(ISNUMBER(Voucher_Date_1819),COUNTIF(Voucher_Date_1819,\"<\"&Voucher_Date_1819),COUNTIF(Voucher_Date_1819,\"<\"&Voucher_Date_1819)+SUM(IF(ISNUMBER(Voucher_Date_1819),1,0))+1)),ROW(A431)),IF(ISBLANK(Voucher_Date_1819),\"\",IF(ISNUMBER(Voucher_Date_1819),COUNTIF(Voucher_Date_1819,\"<\"&Voucher_Date_1819),COUNTIF(Voucher_Date_1819,\"<\"&Voucher_Date_1819)+SUM(IF(ISNUMBER(Voucher_Date_1819),1,0))+1)),0))","v":{"$error":"#NUM!"}}]
[{"$f":"INDEX(Voucher_Date_1819,MATCH(ROWS('Bill Register 20-21'!$L$3:'Bill Register 20-21'!L433),COUNTIF(Voucher_Date_1819,\"<=\"&Voucher_Date_1819),0))","v":{"$error":"#N/A"}},{"$f":"INDEX(Voucher_Date_1819,MATCH(SMALL(IF(ISBLANK(Voucher_Date_1819),\"\",IF(ISNUMBER(Voucher_Date_1819),COUNTIF(Voucher_Date_1819,\"<\"&Voucher_Date_1819),COUNTIF(Voucher_Date_1819,\"<\"&Voucher_Date_1819)+SUM(IF(ISNUMBER(Voucher_Date_1819),1,0))+1)),ROW(A432)),IF(ISBLANK(Voucher_Date_1819),\"\",IF(ISNUMBER(Voucher_Date_1819),COUNTIF(Voucher_Date_1819,\"<\"&Voucher_Date_1819),COUNTIF(Voucher_Date_1819,\"<\"&Voucher_Date_1819)+SUM(IF(ISNUMBER(Voucher_Date_1819),1,0))+1)),0))","v":{"$error":"#NUM!"}}]
[{"$f":"INDEX(Voucher_Date_1819,MATCH(ROWS('Bill Register 20-21'!$L$3:'Bill Register 20-21'!L434),COUNTIF(Voucher_Date_1819,\"<=\"&Voucher_Date_1819),0))","v":{"$error":"#N/A"}},{"$f":"INDEX(Voucher_Date_1819,MATCH(SMALL(IF(ISBLANK(Voucher_Date_1819),\"\",IF(ISNUMBER(Voucher_Date_1819),COUNTIF(Voucher_Date_1819,\"<\"&Voucher_Date_1819),COUNTIF(Voucher_Date_1819,\"<\"&Voucher_Date_1819)+SUM(IF(ISNUMBER(Voucher_Date_1819),1,0))+1)),ROW(A433)),IF(ISBLANK(Voucher_Date_1819),\"\",IF(ISNUMBER(Voucher_Date_1819),COUNTIF(Voucher_Date_1819,\"<\"&Voucher_Date_1819),COUNTIF(Voucher_Date_1819,\"<\"&Voucher_Date_1819)+SUM(IF(ISNUMBER(Voucher_Date_1819),1,0))+1)),0))","v":{"$error":"#NUM!"}}]
[{"$f":"INDEX(Voucher_Date_1819,MATCH(ROWS('Bill Register 20-21'!$L$3:'Bill Register 20-21'!L435),COUNTIF(Voucher_Date_1819,\"<=\"&Voucher_Date_1819),0))","v":{"$error":"#N/A"}},{"$f":"INDEX(Voucher_Date_1819,MATCH(SMALL(IF(ISBLANK(Voucher_Date_1819),\"\",IF(ISNUMBER(Voucher_Date_1819),COUNTIF(Voucher_Date_1819,\"<\"&Voucher_Date_1819),COUNTIF(Voucher_Date_1819,\"<\"&Voucher_Date_1819)+SUM(IF(ISNUMBER(Voucher_Date_1819),1,0))+1)),ROW(A434)),IF(ISBLANK(Voucher_Date_1819),\"\",IF(ISNUMBER(Voucher_Date_1819),COUNTIF(Voucher_Date_1819,\"<\"&Voucher_Date_1819),COUNTIF(Voucher_Date_1819,\"<\"&Voucher_Date_1819)+SUM(IF(ISNUMBER(Voucher_Date_1819),1,0))+1)),0))","v":{"$error":"#NUM!"}}]
[{"$f":"INDEX(Voucher_Date_1819,MATCH(ROWS('Bill Register 20-21'!$L$3:'Bill Register 20-21'!L436),COUNTIF(Voucher_Date_1819,\"<=\"&Voucher_Date_1819),0))","v":{"$error":"#N/A"}},{"$f":"INDEX(Voucher_Date_1819,MATCH(SMALL(IF(ISBLANK(Voucher_Date_1819),\"\",IF(ISNUMBER(Voucher_Date_1819),COUNTIF(Voucher_Date_1819,\"<\"&Voucher_Date_1819),COUNTIF(Voucher_Date_1819,\"<\"&Voucher_Date_1819)+SUM(IF(ISNUMBER(Voucher_Date_1819),1,0))+1)),ROW(A435)),IF(ISBLANK(Voucher_Date_1819),\"\",IF(ISNUMBER(Voucher_Date_1819),COUNTIF(Voucher_Date_1819,\"<\"&Voucher_Date_1819),COUNTIF(Voucher_Date_1819,\"<\"&Voucher_Date_1819)+SUM(IF(ISNUMBER(Voucher_Date_1819),1,0))+1)),0))","v":{"$error":"#NUM!"}}]
[{"$f":"INDEX(Voucher_Date_1819,MATCH(ROWS('Bill Register 20-21'!$L$3:'Bill Register 20-21'!L437),COUNTIF(Voucher_Date_1819,\"<=\"&Voucher_Date_1819),0))","v":{"$error":"#N/A"}},{"$f":"INDEX(Voucher_Date_1819,MATCH(SMALL(IF(ISBLANK(Voucher_Date_1819),\"\",IF(ISNUMBER(Voucher_Date_1819),COUNTIF(Voucher_Date_1819,\"<\"&Voucher_Date_1819),COUNTIF(Voucher_Date_1819,\"<\"&Voucher_Date_1819)+SUM(IF(ISNUMBER(Voucher_Date_1819),1,0))+1)),ROW(A436)),IF(ISBLANK(Voucher_Date_1819),\"\",IF(ISNUMBER(Voucher_Date_1819),COUNTIF(Voucher_Date_1819,\"<\"&Voucher_Date_1819),COUNTIF(Voucher_Date_1819,\"<\"&Voucher_Date_1819)+SUM(IF(ISNUMBER(Voucher_Date_1819),1,0))+1)),0))","v":{"$error":"#NUM!"}}]
[{"$f":"INDEX(Voucher_Date_1819,MATCH(ROWS('Bill Register 20-21'!$L$3:'Bill Register 20-21'!L438),COUNTIF(Voucher_Date_1819,\"<=\"&Voucher_Date_1819),0))","v":{"$error":"#N/A"}},{"$f":"INDEX(Voucher_Date_1819,MATCH(SMALL(IF(ISBLANK(Voucher_Date_1819),\"\",IF(ISNUMBER(Voucher_Date_1819),COUNTIF(Voucher_Date_1819,\"<\"&Voucher_Date_1819),COUNTIF(Voucher_Date_1819,\"<\"&Voucher_Date_1819)+SUM(IF(ISNUMBER(Voucher_Date_1819),1,0))+1)),ROW(A437)),IF(ISBLANK(Voucher_Date_1819),\"\",IF(ISNUMBER(Voucher_Date_1819),COUNTIF(Voucher_Date_1819,\"<\"&Voucher_Date_1819),COUNTIF(Voucher_Date_1819,\"<\"&Voucher_Date_1819)+SUM(IF(ISNUMBER(Voucher_Date_1819),1,0))+1)),0))","v":{"$error":"#NUM!"}}]
[{"$f":"INDEX(Voucher_Date_1819,MATCH(ROWS('Bill Register 20-21'!$L$3:'Bill Register 20-21'!L439),COUNTIF(Voucher_Date_1819,\"<=\"&Voucher_Date_1819),0))","v":{"$error":"#N/A"}},{"$f":"INDEX(Voucher_Date_1819,MATCH(SMALL(IF(ISBLANK(Voucher_Date_1819),\"\",IF(ISNUMBER(Voucher_Date_1819),COUNTIF(Voucher_Date_1819,\"<\"&Voucher_Date_1819),COUNTIF(Voucher_Date_1819,\"<\"&Voucher_Date_1819)+SUM(IF(ISNUMBER(Voucher_Date_1819),1,0))+1)),ROW(A438)),IF(ISBLANK(Voucher_Date_1819),\"\",IF(ISNUMBER(Voucher_Date_1819),COUNTIF(Voucher_Date_1819,\"<\"&Voucher_Date_1819),COUNTIF(Voucher_Date_1819,\"<\"&Voucher_Date_1819)+SUM(IF(ISNUMBER(Voucher_Date_1819),1,0))+1)),0))","v":{"$error":"#NUM!"}}]
[{"$f":"INDEX(Voucher_Date_1819,MATCH(ROWS('Bill Register 20-21'!$L$3:'Bill Register 20-21'!L440),COUNTIF(Voucher_Date_1819,\"<=\"&Voucher_Date_1819),0))","v":{"$error":"#N/A"}},{"$f":"INDEX(Voucher_Date_1819,MATCH(SMALL(IF(ISBLANK(Voucher_Date_1819),\"\",IF(ISNUMBER(Voucher_Date_1819),COUNTIF(Voucher_Date_1819,\"<\"&Voucher_Date_1819),COUNTIF(Voucher_Date_1819,\"<\"&Voucher_Date_1819)+SUM(IF(ISNUMBER(Voucher_Date_1819),1,0))+1)),ROW(A439)),IF(ISBLANK(Voucher_Date_1819),\"\",IF(ISNUMBER(Voucher_Date_1819),COUNTIF(Voucher_Date_1819,\"<\"&Voucher_Date_1819),COUNTIF(Voucher_Date_1819,\"<\"&Voucher_Date_1819)+SUM(IF(ISNUMBER(Voucher_Date_1819),1,0))+1)),0))","v":{"$error":"#NUM!"}}]
[{"$f":"INDEX(Voucher_Date_1819,MATCH(ROWS('Bill Register 20-21'!$L$3:'Bill Register 20-21'!L441),COUNTIF(Voucher_Date_1819,\"<=\"&Voucher_Date_1819),0))","v":{"$error":"#N/A"}},{"$f":"INDEX(Voucher_Date_1819,MATCH(SMALL(IF(ISBLANK(Voucher_Date_1819),\"\",IF(ISNUMBER(Voucher_Date_1819),COUNTIF(Voucher_Date_1819,\"<\"&Voucher_Date_1819),COUNTIF(Voucher_Date_1819,\"<\"&Voucher_Date_1819)+SUM(IF(ISNUMBER(Voucher_Date_1819),1,0))+1)),ROW(A440)),IF(ISBLANK(Voucher_Date_1819),\"\",IF(ISNUMBER(Voucher_Date_1819),COUNTIF(Voucher_Date_1819,\"<\"&Voucher_Date_1819),COUNTIF(Voucher_Date_1819,\"<\"&Voucher_Date_1819)+SUM(IF(ISNUMBER(Voucher_Date_1819),1,0))+1)),0))","v":{"$error":"#NUM!"}}]
[{"$f":"INDEX(Voucher_Date_1819,MATCH(ROWS('Bill Register 20-21'!$L$3:'Bill Register 20-21'!L442),COUNTIF(Voucher_Date_1819,\"<=\"&Voucher_Date_1819),0))","v":{"$error":"#N/A"}},{"$f":"INDEX(Voucher_Date_1819,MATCH(SMALL(IF(ISBLANK(Voucher_Date_1819),\"\",IF(ISNUMBER(Voucher_Date_1819),COUNTIF(Voucher_Date_1819,\"<\"&Voucher_Date_1819),COUNTIF(Voucher_Date_1819,\"<\"&Voucher_Date_1819)+SUM(IF(ISNUMBER(Voucher_Date_1819),1,0))+1)),ROW(A441)),IF(ISBLANK(Voucher_Date_1819),\"\",IF(ISNUMBER(Voucher_Date_1819),COUNTIF(Voucher_Date_1819,\"<\"&Voucher_Date_1819),COUNTIF(Voucher_Date_1819,\"<\"&Voucher_Date_1819)+SUM(IF(ISNUMBER(Voucher_Date_1819),1,0))+1)),0))","v":{"$error":"#NUM!"}}]
[{"$f":"INDEX(Voucher_Date_1819,MATCH(ROWS('Bill Register 20-21'!$L$3:'Bill Register 20-21'!L443),COUNTIF(Voucher_Date_1819,\"<=\"&Voucher_Date_1819),0))","v":{"$error":"#N/A"}},{"$f":"INDEX(Voucher_Date_1819,MATCH(SMALL(IF(ISBLANK(Voucher_Date_1819),\"\",IF(ISNUMBER(Voucher_Date_1819),COUNTIF(Voucher_Date_1819,\"<\"&Voucher_Date_1819),COUNTIF(Voucher_Date_1819,\"<\"&Voucher_Date_1819)+SUM(IF(ISNUMBER(Voucher_Date_1819),1,0))+1)),ROW(A442)),IF(ISBLANK(Voucher_Date_1819),\"\",IF(ISNUMBER(Voucher_Date_1819),COUNTIF(Voucher_Date_1819,\"<\"&Voucher_Date_1819),COUNTIF(Voucher_Date_1819,\"<\"&Voucher_Date_1819)+SUM(IF(ISNUMBER(Voucher_Date_1819),1,0))+1)),0))","v":{"$error":"#NUM!"}}]
[{"$f":"INDEX(Voucher_Date_1819,MATCH(ROWS('Bill Register 20-21'!$L$3:'Bill Register 20-21'!L444),COUNTIF(Voucher_Date_1819,\"<=\"&Voucher_Date_1819),0))","v":{"$error":"#N/A"}},{"$f":"INDEX(Voucher_Date_1819,MATCH(SMALL(IF(ISBLANK(Voucher_Date_1819),\"\",IF(ISNUMBER(Voucher_Date_1819),COUNTIF(Voucher_Date_1819,\"<\"&Voucher_Date_1819),COUNTIF(Voucher_Date_1819,\"<\"&Voucher_Date_1819)+SUM(IF(ISNUMBER(Voucher_Date_1819),1,0))+1)),ROW(A443)),IF(ISBLANK(Voucher_Date_1819),\"\",IF(ISNUMBER(Voucher_Date_1819),COUNTIF(Voucher_Date_1819,\"<\"&Voucher_Date_1819),COUNTIF(Voucher_Date_1819,\"<\"&Voucher_Date_1819)+SUM(IF(ISNUMBER(Voucher_Date_1819),1,0))+1)),0))","v":{"$error":"#NUM!"}}]
[{"$f":"INDEX(Voucher_Date_1819,MATCH(ROWS('Bill Register 20-21'!$L$3:'Bill Register 20-21'!L445),COUNTIF(Voucher_Date_1819,\"<=\"&Voucher_Date_1819),0))","v":{"$error":"#N/A"}},{"$f":"INDEX(Voucher_Date_1819,MATCH(SMALL(IF(ISBLANK(Voucher_Date_1819),\"\",IF(ISNUMBER(Voucher_Date_1819),COUNTIF(Voucher_Date_1819,\"<\"&Voucher_Date_1819),COUNTIF(Voucher_Date_1819,\"<\"&Voucher_Date_1819)+SUM(IF(ISNUMBER(Voucher_Date_1819),1,0))+1)),ROW(A444)),IF(ISBLANK(Voucher_Date_1819),\"\",IF(ISNUMBER(Voucher_Date_1819),COUNTIF(Voucher_Date_1819,\"<\"&Voucher_Date_1819),COUNTIF(Voucher_Date_1819,\"<\"&Voucher_Date_1819)+SUM(IF(ISNUMBER(Voucher_Date_1819),1,0))+1)),0))","v":{"$error":"#NUM!"}}]
[{"$f":"INDEX(Voucher_Date_1819,MATCH(ROWS('Bill Register 20-21'!$L$3:'Bill Register 20-21'!L446),COUNTIF(Voucher_Date_1819,\"<=\"&Voucher_Date_1819),0))","v":{"$error":"#N/A"}},{"$f":"INDEX(Voucher_Date_1819,MATCH(SMALL(IF(ISBLANK(Voucher_Date_1819),\"\",IF(ISNUMBER(Voucher_Date_1819),COUNTIF(Voucher_Date_1819,\"<\"&Voucher_Date_1819),COUNTIF(Voucher_Date_1819,\"<\"&Voucher_Date_1819)+SUM(IF(ISNUMBER(Voucher_Date_1819),1,0))+1)),ROW(A445)),IF(ISBLANK(Voucher_Date_1819),\"\",IF(ISNUMBER(Voucher_Date_1819),COUNTIF(Voucher_Date_1819,\"<\"&Voucher_Date_1819),COUNTIF(Voucher_Date_1819,\"<\"&Voucher_Date_1819)+SUM(IF(ISNUMBER(Voucher_Date_1819),1,0))+1)),0))","v":{"$error":"#NUM!"}}]
[{"$f":"INDEX(Voucher_Date_1819,MATCH(ROWS('Bill Register 20-21'!$L$3:'Bill Register 20-21'!L447),COUNTIF(Voucher_Date_1819,\"<=\"&Voucher_Date_1819),0))","v":{"$error":"#N/A"}},{"$f":"INDEX(Voucher_Date_1819,MATCH(SMALL(IF(ISBLANK(Voucher_Date_1819),\"\",IF(ISNUMBER(Voucher_Date_1819),COUNTIF(Voucher_Date_1819,\"<\"&Voucher_Date_1819),COUNTIF(Voucher_Date_1819,\"<\"&Voucher_Date_1819)+SUM(IF(ISNUMBER(Voucher_Date_1819),1,0))+1)),ROW(A446)),IF(ISBLANK(Voucher_Date_1819),\"\",IF(ISNUMBER(Voucher_Date_1819),COUNTIF(Voucher_Date_1819,\"<\"&Voucher_Date_1819),COUNTIF(Voucher_Date_1819,\"<\"&Voucher_Date_1819)+SUM(IF(ISNUMBER(Voucher_Date_1819),1,0))+1)),0))","v":{"$error":"#NUM!"}}]
[{"$f":"INDEX(Voucher_Date_1819,MATCH(ROWS('Bill Register 20-21'!$L$3:'Bill Register 20-21'!L448),COUNTIF(Voucher_Date_1819,\"<=\"&Voucher_Date_1819),0))","v":{"$error":"#N/A"}},{"$f":"INDEX(Voucher_Date_1819,MATCH(SMALL(IF(ISBLANK(Voucher_Date_1819),\"\",IF(ISNUMBER(Voucher_Date_1819),COUNTIF(Voucher_Date_1819,\"<\"&Voucher_Date_1819),COUNTIF(Voucher_Date_1819,\"<\"&Voucher_Date_1819)+SUM(IF(ISNUMBER(Voucher_Date_1819),1,0))+1)),ROW(A447)),IF(ISBLANK(Voucher_Date_1819),\"\",IF(ISNUMBER(Voucher_Date_1819),COUNTIF(Voucher_Date_1819,\"<\"&Voucher_Date_1819),COUNTIF(Voucher_Date_1819,\"<\"&Voucher_Date_1819)+SUM(IF(ISNUMBER(Voucher_Date_1819),1,0))+1)),0))","v":{"$error":"#NUM!"}}]
[{"$f":"INDEX(Voucher_Date_1819,MATCH(ROWS('Bill Register 20-21'!$L$3:'Bill Register 20-21'!L449),COUNTIF(Voucher_Date_1819,\"<=\"&Voucher_Date_1819),0))","v":{"$error":"#N/A"}},{"$f":"INDEX(Voucher_Date_1819,MATCH(SMALL(IF(ISBLANK(Voucher_Date_1819),\"\",IF(ISNUMBER(Voucher_Date_1819),COUNTIF(Voucher_Date_1819,\"<\"&Voucher_Date_1819),COUNTIF(Voucher_Date_1819,\"<\"&Voucher_Date_1819)+SUM(IF(ISNUMBER(Voucher_Date_1819),1,0))+1)),ROW(A448)),IF(ISBLANK(Voucher_Date_1819),\"\",IF(ISNUMBER(Voucher_Date_1819),COUNTIF(Voucher_Date_1819,\"<\"&Voucher_Date_1819),COUNTIF(Voucher_Date_1819,\"<\"&Voucher_Date_1819)+SUM(IF(ISNUMBER(Voucher_Date_1819),1,0))+1)),0))","v":{"$error":"#NUM!"}}]
[{"$f":"INDEX(Voucher_Date_1819,MATCH(ROWS('Bill Register 20-21'!$L$3:'Bill Register 20-21'!L450),COUNTIF(Voucher_Date_1819,\"<=\"&Voucher_Date_1819),0))","v":{"$error":"#N/A"}},{"$f":"INDEX(Voucher_Date_1819,MATCH(SMALL(IF(ISBLANK(Voucher_Date_1819),\"\",IF(ISNUMBER(Voucher_Date_1819),COUNTIF(Voucher_Date_1819,\"<\"&Voucher_Date_1819),COUNTIF(Voucher_Date_1819,\"<\"&Voucher_Date_1819)+SUM(IF(ISNUMBER(Voucher_Date_1819),1,0))+1)),ROW(A449)),IF(ISBLANK(Voucher_Date_1819),\"\",IF(ISNUMBER(Voucher_Date_1819),COUNTIF(Voucher_Date_1819,\"<\"&Voucher_Date_1819),COUNTIF(Voucher_Date_1819,\"<\"&Voucher_Date_1819)+SUM(IF(ISNUMBER(Voucher_Date_1819),1,0))+1)),0))","v":{"$error":"#NUM!"}}]
[{"$f":"INDEX(Voucher_Date_1819,MATCH(ROWS('Bill Register 20-21'!$L$3:'Bill Register 20-21'!L451),COUNTIF(Voucher_Date_1819,\"<=\"&Voucher_Date_1819),0))","v":{"$error":"#N/A"}},{"$f":"INDEX(Voucher_Date_1819,MATCH(SMALL(IF(ISBLANK(Voucher_Date_1819),\"\",IF(ISNUMBER(Voucher_Date_1819),COUNTIF(Voucher_Date_1819,\"<\"&Voucher_Date_1819),COUNTIF(Voucher_Date_1819,\"<\"&Voucher_Date_1819)+SUM(IF(ISNUMBER(Voucher_Date_1819),1,0))+1)),ROW(A450)),IF(ISBLANK(Voucher_Date_1819),\"\",IF(ISNUMBER(Voucher_Date_1819),COUNTIF(Voucher_Date_1819,\"<\"&Voucher_Date_1819),COUNTIF(Voucher_Date_1819,\"<\"&Voucher_Date_1819)+SUM(IF(ISNUMBER(Voucher_Date_1819),1,0))+1)),0))","v":{"$error":"#NUM!"}}]
[{"$f":"INDEX(Voucher_Date_1819,MATCH(ROWS('Bill Register 20-21'!$L$3:'Bill Register 20-21'!L452),COUNTIF(Voucher_Date_1819,\"<=\"&Voucher_Date_1819),0))","v":{"$error":"#N/A"}},{"$f":"INDEX(Voucher_Date_1819,MATCH(SMALL(IF(ISBLANK(Voucher_Date_1819),\"\",IF(ISNUMBER(Voucher_Date_1819),COUNTIF(Voucher_Date_1819,\"<\"&Voucher_Date_1819),COUNTIF(Voucher_Date_1819,\"<\"&Voucher_Date_1819)+SUM(IF(ISNUMBER(Voucher_Date_1819),1,0))+1)),ROW(A451)),IF(ISBLANK(Voucher_Date_1819),\"\",IF(ISNUMBER(Voucher_Date_1819),COUNTIF(Voucher_Date_1819,\"<\"&Voucher_Date_1819),COUNTIF(Voucher_Date_1819,\"<\"&Voucher_Date_1819)+SUM(IF(ISNUMBER(Voucher_Date_1819),1,0))+1)),0))","v":{"$error":"#NUM!"}}]
[{"$f":"INDEX(Voucher_Date_1819,MATCH(ROWS('Bill Register 20-21'!$L$3:'Bill Register 20-21'!L453),COUNTIF(Voucher_Date_1819,\"<=\"&Voucher_Date_1819),0))","v":{"$error":"#N/A"}},{"$f":"INDEX(Voucher_Date_1819,MATCH(SMALL(IF(ISBLANK(Voucher_Date_1819),\"\",IF(ISNUMBER(Voucher_Date_1819),COUNTIF(Voucher_Date_1819,\"<\"&Voucher_Date_1819),COUNTIF(Voucher_Date_1819,\"<\"&Voucher_Date_1819)+SUM(IF(ISNUMBER(Voucher_Date_1819),1,0))+1)),ROW(A452)),IF(ISBLANK(Voucher_Date_1819),\"\",IF(ISNUMBER(Voucher_Date_1819),COUNTIF(Voucher_Date_1819,\"<\"&Voucher_Date_1819),COUNTIF(Voucher_Date_1819,\"<\"&Voucher_Date_1819)+SUM(IF(ISNUMBER(Voucher_Date_1819),1,0))+1)),0))","v":{"$error":"#NUM!"}}]
[{"$f":"INDEX(Voucher_Date_1819,MATCH(ROWS('Bill Register 20-21'!$L$3:'Bill Register 20-21'!L454),COUNTIF(Voucher_Date_1819,\"<=\"&Voucher_Date_1819),0))","v":{"$error":"#N/A"}},{"$f":"INDEX(Voucher_Date_1819,MATCH(SMALL(IF(ISBLANK(Voucher_Date_1819),\"\",IF(ISNUMBER(Voucher_Date_1819),COUNTIF(Voucher_Date_1819,\"<\"&Voucher_Date_1819),COUNTIF(Voucher_Date_1819,\"<\"&Voucher_Date_1819)+SUM(IF(ISNUMBER(Voucher_Date_1819),1,0))+1)),ROW(A453)),IF(ISBLANK(Voucher_Date_1819),\"\",IF(ISNUMBER(Voucher_Date_1819),COUNTIF(Voucher_Date_1819,\"<\"&Voucher_Date_1819),COUNTIF(Voucher_Date_1819,\"<\"&Voucher_Date_1819)+SUM(IF(ISNUMBER(Voucher_Date_1819),1,0))+1)),0))","v":{"$error":"#NUM!"}}]
[{"$f":"INDEX(Voucher_Date_1819,MATCH(ROWS('Bill Register 20-21'!$L$3:'Bill Register 20-21'!L455),COUNTIF(Voucher_Date_1819,\"<=\"&Voucher_Date_1819),0))","v":{"$error":"#N/A"}},{"$f":"INDEX(Voucher_Date_1819,MATCH(SMALL(IF(ISBLANK(Voucher_Date_1819),\"\",IF(ISNUMBER(Voucher_Date_1819),COUNTIF(Voucher_Date_1819,\"<\"&Voucher_Date_1819),COUNTIF(Voucher_Date_1819,\"<\"&Voucher_Date_1819)+SUM(IF(ISNUMBER(Voucher_Date_1819),1,0))+1)),ROW(A454)),IF(ISBLANK(Voucher_Date_1819),\"\",IF(ISNUMBER(Voucher_Date_1819),COUNTIF(Voucher_Date_1819,\"<\"&Voucher_Date_1819),COUNTIF(Voucher_Date_1819,\"<\"&Voucher_Date_1819)+SUM(IF(ISNUMBER(Voucher_Date_1819),1,0))+1)),0))","v":{"$error":"#NUM!"}}]
[{"$f":"INDEX(Voucher_Date_1819,MATCH(ROWS('Bill Register 20-21'!$L$3:'Bill Register 20-21'!L456),COUNTIF(Voucher_Date_1819,\"<=\"&Voucher_Date_1819),0))","v":{"$error":"#N/A"}},{"$f":"INDEX(Voucher_Date_1819,MATCH(SMALL(IF(ISBLANK(Voucher_Date_1819),\"\",IF(ISNUMBER(Voucher_Date_1819),COUNTIF(Voucher_Date_1819,\"<\"&Voucher_Date_1819),COUNTIF(Voucher_Date_1819,\"<\"&Voucher_Date_1819)+SUM(IF(ISNUMBER(Voucher_Date_1819),1,0))+1)),ROW(A455)),IF(ISBLANK(Voucher_Date_1819),\"\",IF(ISNUMBER(Voucher_Date_1819),COUNTIF(Voucher_Date_1819,\"<\"&Voucher_Date_1819),COUNTIF(Voucher_Date_1819,\"<\"&Voucher_Date_1819)+SUM(IF(ISNUMBER(Voucher_Date_1819),1,0))+1)),0))","v":{"$error":"#NUM!"}}]
[{"$f":"INDEX(Voucher_Date_1819,MATCH(ROWS('Bill Register 20-21'!$L$3:'Bill Register 20-21'!L457),COUNTIF(Voucher_Date_1819,\"<=\"&Voucher_Date_1819),0))","v":{"$error":"#N/A"}},{"$f":"INDEX(Voucher_Date_1819,MATCH(SMALL(IF(ISBLANK(Voucher_Date_1819),\"\",IF(ISNUMBER(Voucher_Date_1819),COUNTIF(Voucher_Date_1819,\"<\"&Voucher_Date_1819),COUNTIF(Voucher_Date_1819,\"<\"&Voucher_Date_1819)+SUM(IF(ISNUMBER(Voucher_Date_1819),1,0))+1)),ROW(A456)),IF(ISBLANK(Voucher_Date_1819),\"\",IF(ISNUMBER(Voucher_Date_1819),COUNTIF(Voucher_Date_1819,\"<\"&Voucher_Date_1819),COUNTIF(Voucher_Date_1819,\"<\"&Voucher_Date_1819)+SUM(IF(ISNUMBER(Voucher_Date_1819),1,0))+1)),0))","v":{"$error":"#NUM!"}}]
[{"$f":"INDEX(Voucher_Date_1819,MATCH(ROWS('Bill Register 20-21'!$L$3:'Bill Register 20-21'!L458),COUNTIF(Voucher_Date_1819,\"<=\"&Voucher_Date_1819),0))","v":{"$error":"#N/A"}},{"$f":"INDEX(Voucher_Date_1819,MATCH(SMALL(IF(ISBLANK(Voucher_Date_1819),\"\",IF(ISNUMBER(Voucher_Date_1819),COUNTIF(Voucher_Date_1819,\"<\"&Voucher_Date_1819),COUNTIF(Voucher_Date_1819,\"<\"&Voucher_Date_1819)+SUM(IF(ISNUMBER(Voucher_Date_1819),1,0))+1)),ROW(A457)),IF(ISBLANK(Voucher_Date_1819),\"\",IF(ISNUMBER(Voucher_Date_1819),COUNTIF(Voucher_Date_1819,\"<\"&Voucher_Date_1819),COUNTIF(Voucher_Date_1819,\"<\"&Voucher_Date_1819)+SUM(IF(ISNUMBER(Voucher_Date_1819),1,0))+1)),0))","v":{"$error":"#NUM!"}}]
[{"$f":"INDEX(Voucher_Date_1819,MATCH(ROWS('Bill Register 20-21'!$L$3:'Bill Register 20-21'!L459),COUNTIF(Voucher_Date_1819,\"<=\"&Voucher_Date_1819),0))","v":{"$error":"#N/A"}},{"$f":"INDEX(Voucher_Date_1819,MATCH(SMALL(IF(ISBLANK(Voucher_Date_1819),\"\",IF(ISNUMBER(Voucher_Date_1819),COUNTIF(Voucher_Date_1819,\"<\"&Voucher_Date_1819),COUNTIF(Voucher_Date_1819,\"<\"&Voucher_Date_1819)+SUM(IF(ISNUMBER(Voucher_Date_1819),1,0))+1)),ROW(A458)),IF(ISBLANK(Voucher_Date_1819),\"\",IF(ISNUMBER(Voucher_Date_1819),COUNTIF(Voucher_Date_1819,\"<\"&Voucher_Date_1819),COUNTIF(Voucher_Date_1819,\"<\"&Voucher_Date_1819)+SUM(IF(ISNUMBER(Voucher_Date_1819),1,0))+1)),0))","v":{"$error":"#NUM!"}}]
[{"$f":"INDEX(Voucher_Date_1819,MATCH(ROWS('Bill Register 20-21'!$L$3:'Bill Register 20-21'!L460),COUNTIF(Voucher_Date_1819,\"<=\"&Voucher_Date_1819),0))","v":{"$error":"#N/A"}},{"$f":"INDEX(Voucher_Date_1819,MATCH(SMALL(IF(ISBLANK(Voucher_Date_1819),\"\",IF(ISNUMBER(Voucher_Date_1819),COUNTIF(Voucher_Date_1819,\"<\"&Voucher_Date_1819),COUNTIF(Voucher_Date_1819,\"<\"&Voucher_Date_1819)+SUM(IF(ISNUMBER(Voucher_Date_1819),1,0))+1)),ROW(A459)),IF(ISBLANK(Voucher_Date_1819),\"\",IF(ISNUMBER(Voucher_Date_1819),COUNTIF(Voucher_Date_1819,\"<\"&Voucher_Date_1819),COUNTIF(Voucher_Date_1819,\"<\"&Voucher_Date_1819)+SUM(IF(ISNUMBER(Voucher_Date_1819),1,0))+1)),0))","v":{"$error":"#NUM!"}}]
[{"$f":"INDEX(Voucher_Date_1819,MATCH(ROWS('Bill Register 20-21'!$L$3:'Bill Register 20-21'!L461),COUNTIF(Voucher_Date_1819,\"<=\"&Voucher_Date_1819),0))","v":{"$error":"#N/A"}},{"$f":"INDEX(Voucher_Date_1819,MATCH(SMALL(IF(ISBLANK(Voucher_Date_1819),\"\",IF(ISNUMBER(Voucher_Date_1819),COUNTIF(Voucher_Date_1819,\"<\"&Voucher_Date_1819),COUNTIF(Voucher_Date_1819,\"<\"&Voucher_Date_1819)+SUM(IF(ISNUMBER(Voucher_Date_1819),1,0))+1)),ROW(A460)),IF(ISBLANK(Voucher_Date_1819),\"\",IF(ISNUMBER(Voucher_Date_1819),COUNTIF(Voucher_Date_1819,\"<\"&Voucher_Date_1819),COUNTIF(Voucher_Date_1819,\"<\"&Voucher_Date_1819)+SUM(IF(ISNUMBER(Voucher_Date_1819),1,0))+1)),0))","v":{"$error":"#NUM!"}}]
[{"$f":"INDEX(Voucher_Date_1819,MATCH(ROWS('Bill Register 20-21'!$L$3:'Bill Register 20-21'!L462),COUNTIF(Voucher_Date_1819,\"<=\"&Voucher_Date_1819),0))","v":{"$error":"#N/A"}},{"$f":"INDEX(Voucher_Date_1819,MATCH(SMALL(IF(ISBLANK(Voucher_Date_1819),\"\",IF(ISNUMBER(Voucher_Date_1819),COUNTIF(Voucher_Date_1819,\"<\"&Voucher_Date_1819),COUNTIF(Voucher_Date_1819,\"<\"&Voucher_Date_1819)+SUM(IF(ISNUMBER(Voucher_Date_1819),1,0))+1)),ROW(A461)),IF(ISBLANK(Voucher_Date_1819),\"\",IF(ISNUMBER(Voucher_Date_1819),COUNTIF(Voucher_Date_1819,\"<\"&Voucher_Date_1819),COUNTIF(Voucher_Date_1819,\"<\"&Voucher_Date_1819)+SUM(IF(ISNUMBER(Voucher_Date_1819),1,0))+1)),0))","v":{"$error":"#NUM!"}}]
[{"$f":"INDEX(Voucher_Date_1819,MATCH(ROWS('Bill Register 20-21'!$L$3:'Bill Register 20-21'!L463),COUNTIF(Voucher_Date_1819,\"<=\"&Voucher_Date_1819),0))","v":{"$error":"#N/A"}},{"$f":"INDEX(Voucher_Date_1819,MATCH(SMALL(IF(ISBLANK(Voucher_Date_1819),\"\",IF(ISNUMBER(Voucher_Date_1819),COUNTIF(Voucher_Date_1819,\"<\"&Voucher_Date_1819),COUNTIF(Voucher_Date_1819,\"<\"&Voucher_Date_1819)+SUM(IF(ISNUMBER(Voucher_Date_1819),1,0))+1)),ROW(A462)),IF(ISBLANK(Voucher_Date_1819),\"\",IF(ISNUMBER(Voucher_Date_1819),COUNTIF(Voucher_Date_1819,\"<\"&Voucher_Date_1819),COUNTIF(Voucher_Date_1819,\"<\"&Voucher_Date_1819)+SUM(IF(ISNUMBER(Voucher_Date_1819),1,0))+1)),0))","v":{"$error":"#NUM!"}}]
[{"$f":"INDEX(Voucher_Date_1819,MATCH(ROWS('Bill Register 20-21'!$L$3:'Bill Register 20-21'!L464),COUNTIF(Voucher_Date_1819,\"<=\"&Voucher_Date_1819),0))","v":{"$error":"#N/A"}},{"$f":"INDEX(Voucher_Date_1819,MATCH(SMALL(IF(ISBLANK(Voucher_Date_1819),\"\",IF(ISNUMBER(Voucher_Date_1819),COUNTIF(Voucher_Date_1819,\"<\"&Voucher_Date_1819),COUNTIF(Voucher_Date_1819,\"<\"&Voucher_Date_1819)+SUM(IF(ISNUMBER(Voucher_Date_1819),1,0))+1)),ROW(A463)),IF(ISBLANK(Voucher_Date_1819),\"\",IF(ISNUMBER(Voucher_Date_1819),COUNTIF(Voucher_Date_1819,\"<\"&Voucher_Date_1819),COUNTIF(Voucher_Date_1819,\"<\"&Voucher_Date_1819)+SUM(IF(ISNUMBER(Voucher_Date_1819),1,0))+1)),0))","v":{"$error":"#NUM!"}}]
[{"$f":"INDEX(Voucher_Date_1819,MATCH(ROWS('Bill Register 20-21'!$L$3:'Bill Register 20-21'!L465),COUNTIF(Voucher_Date_1819,\"<=\"&Voucher_Date_1819),0))","v":{"$error":"#N/A"}},{"$f":"INDEX(Voucher_Date_1819,MATCH(SMALL(IF(ISBLANK(Voucher_Date_1819),\"\",IF(ISNUMBER(Voucher_Date_1819),COUNTIF(Voucher_Date_1819,\"<\"&Voucher_Date_1819),COUNTIF(Voucher_Date_1819,\"<\"&Voucher_Date_1819)+SUM(IF(ISNUMBER(Voucher_Date_1819),1,0))+1)),ROW(A464)),IF(ISBLANK(Voucher_Date_1819),\"\",IF(ISNUMBER(Voucher_Date_1819),COUNTIF(Voucher_Date_1819,\"<\"&Voucher_Date_1819),COUNTIF(Voucher_Date_1819,\"<\"&Voucher_Date_1819)+SUM(IF(ISNUMBER(Voucher_Date_1819),1,0))+1)),0))","v":{"$error":"#NUM!"}}]
[{"$f":"INDEX(Voucher_Date_1819,MATCH(ROWS('Bill Register 20-21'!$L$3:'Bill Register 20-21'!L466),COUNTIF(Voucher_Date_1819,\"<=\"&Voucher_Date_1819),0))","v":{"$error":"#N/A"}},{"$f":"INDEX(Voucher_Date_1819,MATCH(SMALL(IF(ISBLANK(Voucher_Date_1819),\"\",IF(ISNUMBER(Voucher_Date_1819),COUNTIF(Voucher_Date_1819,\"<\"&Voucher_Date_1819),COUNTIF(Voucher_Date_1819,\"<\"&Voucher_Date_1819)+SUM(IF(ISNUMBER(Voucher_Date_1819),1,0))+1)),ROW(A465)),IF(ISBLANK(Voucher_Date_1819),\"\",IF(ISNUMBER(Voucher_Date_1819),COUNTIF(Voucher_Date_1819,\"<\"&Voucher_Date_1819),COUNTIF(Voucher_Date_1819,\"<\"&Voucher_Date_1819)+SUM(IF(ISNUMBER(Voucher_Date_1819),1,0))+1)),0))","v":{"$error":"#NUM!"}}]
[{"$f":"INDEX(Voucher_Date_1819,MATCH(ROWS('Bill Register 20-21'!$L$3:'Bill Register 20-21'!L467),COUNTIF(Voucher_Date_1819,\"<=\"&Voucher_Date_1819),0))","v":{"$error":"#N/A"}},{"$f":"INDEX(Voucher_Date_1819,MATCH(SMALL(IF(ISBLANK(Voucher_Date_1819),\"\",IF(ISNUMBER(Voucher_Date_1819),COUNTIF(Voucher_Date_1819,\"<\"&Voucher_Date_1819),COUNTIF(Voucher_Date_1819,\"<\"&Voucher_Date_1819)+SUM(IF(ISNUMBER(Voucher_Date_1819),1,0))+1)),ROW(A466)),IF(ISBLANK(Voucher_Date_1819),\"\",IF(ISNUMBER(Voucher_Date_1819),COUNTIF(Voucher_Date_1819,\"<\"&Voucher_Date_1819),COUNTIF(Voucher_Date_1819,\"<\"&Voucher_Date_1819)+SUM(IF(ISNUMBER(Voucher_Date_1819),1,0))+1)),0))","v":{"$error":"#NUM!"}}]
[{"$f":"INDEX(Voucher_Date_1819,MATCH(ROWS('Bill Register 20-21'!$L$3:'Bill Register 20-21'!L468),COUNTIF(Voucher_Date_1819,\"<=\"&Voucher_Date_1819),0))","v":{"$error":"#N/A"}},{"$f":"INDEX(Voucher_Date_1819,MATCH(SMALL(IF(ISBLANK(Voucher_Date_1819),\"\",IF(ISNUMBER(Voucher_Date_1819),COUNTIF(Voucher_Date_1819,\"<\"&Voucher_Date_1819),COUNTIF(Voucher_Date_1819,\"<\"&Voucher_Date_1819)+SUM(IF(ISNUMBER(Voucher_Date_1819),1,0))+1)),ROW(A467)),IF(ISBLANK(Voucher_Date_1819),\"\",IF(ISNUMBER(Voucher_Date_1819),COUNTIF(Voucher_Date_1819,\"<\"&Voucher_Date_1819),COUNTIF(Voucher_Date_1819,\"<\"&Voucher_Date_1819)+SUM(IF(ISNUMBER(Voucher_Date_1819),1,0))+1)),0))","v":{"$error":"#NUM!"}}]
[{"$f":"INDEX(Voucher_Date_1819,MATCH(ROWS('Bill Register 20-21'!$L$3:'Bill Register 20-21'!L469),COUNTIF(Voucher_Date_1819,\"<=\"&Voucher_Date_1819),0))","v":{"$error":"#N/A"}},{"$f":"INDEX(Voucher_Date_1819,MATCH(SMALL(IF(ISBLANK(Voucher_Date_1819),\"\",IF(ISNUMBER(Voucher_Date_1819),COUNTIF(Voucher_Date_1819,\"<\"&Voucher_Date_1819),COUNTIF(Voucher_Date_1819,\"<\"&Voucher_Date_1819)+SUM(IF(ISNUMBER(Voucher_Date_1819),1,0))+1)),ROW(A468)),IF(ISBLANK(Voucher_Date_1819),\"\",IF(ISNUMBER(Voucher_Date_1819),COUNTIF(Voucher_Date_1819,\"<\"&Voucher_Date_1819),COUNTIF(Voucher_Date_1819,\"<\"&Voucher_Date_1819)+SUM(IF(ISNUMBER(Voucher_Date_1819),1,0))+1)),0))","v":{"$error":"#NUM!"}}]
[{"$f":"INDEX(Voucher_Date_1819,MATCH(ROWS('Bill Register 20-21'!$L$3:'Bill Register 20-21'!L470),COUNTIF(Voucher_Date_1819,\"<=\"&Voucher_Date_1819),0))","v":{"$error":"#N/A"}},{"$f":"INDEX(Voucher_Date_1819,MATCH(SMALL(IF(ISBLANK(Voucher_Date_1819),\"\",IF(ISNUMBER(Voucher_Date_1819),COUNTIF(Voucher_Date_1819,\"<\"&Voucher_Date_1819),COUNTIF(Voucher_Date_1819,\"<\"&Voucher_Date_1819)+SUM(IF(ISNUMBER(Voucher_Date_1819),1,0))+1)),ROW(A469)),IF(ISBLANK(Voucher_Date_1819),\"\",IF(ISNUMBER(Voucher_Date_1819),COUNTIF(Voucher_Date_1819,\"<\"&Voucher_Date_1819),COUNTIF(Voucher_Date_1819,\"<\"&Voucher_Date_1819)+SUM(IF(ISNUMBER(Voucher_Date_1819),1,0))+1)),0))","v":{"$error":"#NUM!"}}]
[{"$f":"INDEX(Voucher_Date_1819,MATCH(ROWS('Bill Register 20-21'!$L$3:'Bill Register 20-21'!L471),COUNTIF(Voucher_Date_1819,\"<=\"&Voucher_Date_1819),0))","v":{"$error":"#N/A"}},{"$f":"INDEX(Voucher_Date_1819,MATCH(SMALL(IF(ISBLANK(Voucher_Date_1819),\"\",IF(ISNUMBER(Voucher_Date_1819),COUNTIF(Voucher_Date_1819,\"<\"&Voucher_Date_1819),COUNTIF(Voucher_Date_1819,\"<\"&Voucher_Date_1819)+SUM(IF(ISNUMBER(Voucher_Date_1819),1,0))+1)),ROW(A470)),IF(ISBLANK(Voucher_Date_1819),\"\",IF(ISNUMBER(Voucher_Date_1819),COUNTIF(Voucher_Date_1819,\"<\"&Voucher_Date_1819),COUNTIF(Voucher_Date_1819,\"<\"&Voucher_Date_1819)+SUM(IF(ISNUMBER(Voucher_Date_1819),1,0))+1)),0))","v":{"$error":"#NUM!"}}]
[{"$f":"INDEX(Voucher_Date_1819,MATCH(ROWS('Bill Register 20-21'!$L$3:'Bill Register 20-21'!L472),COUNTIF(Voucher_Date_1819,\"<=\"&Voucher_Date_1819),0))","v":{"$error":"#N/A"}},{"$f":"INDEX(Voucher_Date_1819,MATCH(SMALL(IF(ISBLANK(Voucher_Date_1819),\"\",IF(ISNUMBER(Voucher_Date_1819),COUNTIF(Voucher_Date_1819,\"<\"&Voucher_Date_1819),COUNTIF(Voucher_Date_1819,\"<\"&Voucher_Date_1819)+SUM(IF(ISNUMBER(Voucher_Date_1819),1,0))+1)),ROW(A471)),IF(ISBLANK(Voucher_Date_1819),\"\",IF(ISNUMBER(Voucher_Date_1819),COUNTIF(Voucher_Date_1819,\"<\"&Voucher_Date_1819),COUNTIF(Voucher_Date_1819,\"<\"&Voucher_Date_1819)+SUM(IF(ISNUMBER(Voucher_Date_1819),1,0))+1)),0))","v":{"$error":"#NUM!"}}]
[{"$f":"INDEX(Voucher_Date_1819,MATCH(ROWS('Bill Register 20-21'!$L$3:'Bill Register 20-21'!L473),COUNTIF(Voucher_Date_1819,\"<=\"&Voucher_Date_1819),0))","v":{"$error":"#N/A"}},{"$f":"INDEX(Voucher_Date_1819,MATCH(SMALL(IF(ISBLANK(Voucher_Date_1819),\"\",IF(ISNUMBER(Voucher_Date_1819),COUNTIF(Voucher_Date_1819,\"<\"&Voucher_Date_1819),COUNTIF(Voucher_Date_1819,\"<\"&Voucher_Date_1819)+SUM(IF(ISNUMBER(Voucher_Date_1819),1,0))+1)),ROW(A472)),IF(ISBLANK(Voucher_Date_1819),\"\",IF(ISNUMBER(Voucher_Date_1819),COUNTIF(Voucher_Date_1819,\"<\"&Voucher_Date_1819),COUNTIF(Voucher_Date_1819,\"<\"&Voucher_Date_1819)+SUM(IF(ISNUMBER(Voucher_Date_1819),1,0))+1)),0))","v":{"$error":"#NUM!"}}]
[{"$f":"INDEX(Voucher_Date_1819,MATCH(ROWS('Bill Register 20-21'!$L$3:'Bill Register 20-21'!L474),COUNTIF(Voucher_Date_1819,\"<=\"&Voucher_Date_1819),0))","v":{"$error":"#N/A"}},{"$f":"INDEX(Voucher_Date_1819,MATCH(SMALL(IF(ISBLANK(Voucher_Date_1819),\"\",IF(ISNUMBER(Voucher_Date_1819),COUNTIF(Voucher_Date_1819,\"<\"&Voucher_Date_1819),COUNTIF(Voucher_Date_1819,\"<\"&Voucher_Date_1819)+SUM(IF(ISNUMBER(Voucher_Date_1819),1,0))+1)),ROW(A473)),IF(ISBLANK(Voucher_Date_1819),\"\",IF(ISNUMBER(Voucher_Date_1819),COUNTIF(Voucher_Date_1819,\"<\"&Voucher_Date_1819),COUNTIF(Voucher_Date_1819,\"<\"&Voucher_Date_1819)+SUM(IF(ISNUMBER(Voucher_Date_1819),1,0))+1)),0))","v":{"$error":"#NUM!"}}]
[{"$f":"INDEX(Voucher_Date_1819,MATCH(ROWS('Bill Register 20-21'!$L$3:'Bill Register 20-21'!L475),COUNTIF(Voucher_Date_1819,\"<=\"&Voucher_Date_1819),0))","v":{"$error":"#N/A"}},{"$f":"INDEX(Voucher_Date_1819,MATCH(SMALL(IF(ISBLANK(Voucher_Date_1819),\"\",IF(ISNUMBER(Voucher_Date_1819),COUNTIF(Voucher_Date_1819,\"<\"&Voucher_Date_1819),COUNTIF(Voucher_Date_1819,\"<\"&Voucher_Date_1819)+SUM(IF(ISNUMBER(Voucher_Date_1819),1,0))+1)),ROW(A474)),IF(ISBLANK(Voucher_Date_1819),\"\",IF(ISNUMBER(Voucher_Date_1819),COUNTIF(Voucher_Date_1819,\"<\"&Voucher_Date_1819),COUNTIF(Voucher_Date_1819,\"<\"&Voucher_Date_1819)+SUM(IF(ISNUMBER(Voucher_Date_1819),1,0))+1)),0))","v":{"$error":"#NUM!"}}]
[{"$f":"INDEX(Voucher_Date_1819,MATCH(ROWS('Bill Register 20-21'!$L$3:'Bill Register 20-21'!L476),COUNTIF(Voucher_Date_1819,\"<=\"&Voucher_Date_1819),0))","v":{"$error":"#N/A"}},{"$f":"INDEX(Voucher_Date_1819,MATCH(SMALL(IF(ISBLANK(Voucher_Date_1819),\"\",IF(ISNUMBER(Voucher_Date_1819),COUNTIF(Voucher_Date_1819,\"<\"&Voucher_Date_1819),COUNTIF(Voucher_Date_1819,\"<\"&Voucher_Date_1819)+SUM(IF(ISNUMBER(Voucher_Date_1819),1,0))+1)),ROW(A475)),IF(ISBLANK(Voucher_Date_1819),\"\",IF(ISNUMBER(Voucher_Date_1819),COUNTIF(Voucher_Date_1819,\"<\"&Voucher_Date_1819),COUNTIF(Voucher_Date_1819,\"<\"&Voucher_Date_1819)+SUM(IF(ISNUMBER(Voucher_Date_1819),1,0))+1)),0))","v":{"$error":"#NUM!"}}]
[{"$f":"INDEX(Voucher_Date_1819,MATCH(ROWS('Bill Register 20-21'!$L$3:'Bill Register 20-21'!L477),COUNTIF(Voucher_Date_1819,\"<=\"&Voucher_Date_1819),0))","v":{"$error":"#N/A"}},{"$f":"INDEX(Voucher_Date_1819,MATCH(SMALL(IF(ISBLANK(Voucher_Date_1819),\"\",IF(ISNUMBER(Voucher_Date_1819),COUNTIF(Voucher_Date_1819,\"<\"&Voucher_Date_1819),COUNTIF(Voucher_Date_1819,\"<\"&Voucher_Date_1819)+SUM(IF(ISNUMBER(Voucher_Date_1819),1,0))+1)),ROW(A476)),IF(ISBLANK(Voucher_Date_1819),\"\",IF(ISNUMBER(Voucher_Date_1819),COUNTIF(Voucher_Date_1819,\"<\"&Voucher_Date_1819),COUNTIF(Voucher_Date_1819,\"<\"&Voucher_Date_1819)+SUM(IF(ISNUMBER(Voucher_Date_1819),1,0))+1)),0))","v":{"$error":"#NUM!"}}]
[{"$f":"INDEX(Voucher_Date_1819,MATCH(ROWS('Bill Register 20-21'!$L$3:'Bill Register 20-21'!L478),COUNTIF(Voucher_Date_1819,\"<=\"&Voucher_Date_1819),0))","v":{"$error":"#N/A"}},{"$f":"INDEX(Voucher_Date_1819,MATCH(SMALL(IF(ISBLANK(Voucher_Date_1819),\"\",IF(ISNUMBER(Voucher_Date_1819),COUNTIF(Voucher_Date_1819,\"<\"&Voucher_Date_1819),COUNTIF(Voucher_Date_1819,\"<\"&Voucher_Date_1819)+SUM(IF(ISNUMBER(Voucher_Date_1819),1,0))+1)),ROW(A477)),IF(ISBLANK(Voucher_Date_1819),\"\",IF(ISNUMBER(Voucher_Date_1819),COUNTIF(Voucher_Date_1819,\"<\"&Voucher_Date_1819),COUNTIF(Voucher_Date_1819,\"<\"&Voucher_Date_1819)+SUM(IF(ISNUMBER(Voucher_Date_1819),1,0))+1)),0))","v":{"$error":"#NUM!"}}]
[{"$f":"INDEX(Voucher_Date_1819,MATCH(ROWS('Bill Register 20-21'!$L$3:'Bill Register 20-21'!L479),COUNTIF(Voucher_Date_1819,\"<=\"&Voucher_Date_1819),0))","v":{"$error":"#N/A"}},{"$f":"INDEX(Voucher_Date_1819,MATCH(SMALL(IF(ISBLANK(Voucher_Date_1819),\"\",IF(ISNUMBER(Voucher_Date_1819),COUNTIF(Voucher_Date_1819,\"<\"&Voucher_Date_1819),COUNTIF(Voucher_Date_1819,\"<\"&Voucher_Date_1819)+SUM(IF(ISNUMBER(Voucher_Date_1819),1,0))+1)),ROW(A478)),IF(ISBLANK(Voucher_Date_1819),\"\",IF(ISNUMBER(Voucher_Date_1819),COUNTIF(Voucher_Date_1819,\"<\"&Voucher_Date_1819),COUNTIF(Voucher_Date_1819,\"<\"&Voucher_Date_1819)+SUM(IF(ISNUMBER(Voucher_Date_1819),1,0))+1)),0))","v":{"$error":"#NUM!"}}]
[{"$f":"INDEX(Voucher_Date_1819,MATCH(ROWS('Bill Register 20-21'!$L$3:'Bill Register 20-21'!L480),COUNTIF(Voucher_Date_1819,\"<=\"&Voucher_Date_1819),0))","v":{"$error":"#N/A"}},{"$f":"INDEX(Voucher_Date_1819,MATCH(SMALL(IF(ISBLANK(Voucher_Date_1819),\"\",IF(ISNUMBER(Voucher_Date_1819),COUNTIF(Voucher_Date_1819,\"<\"&Voucher_Date_1819),COUNTIF(Voucher_Date_1819,\"<\"&Voucher_Date_1819)+SUM(IF(ISNUMBER(Voucher_Date_1819),1,0))+1)),ROW(A479)),IF(ISBLANK(Voucher_Date_1819),\"\",IF(ISNUMBER(Voucher_Date_1819),COUNTIF(Voucher_Date_1819,\"<\"&Voucher_Date_1819),COUNTIF(Voucher_Date_1819,\"<\"&Voucher_Date_1819)+SUM(IF(ISNUMBER(Voucher_Date_1819),1,0))+1)),0))","v":{"$error":"#NUM!"}}]
[{"$f":"INDEX(Voucher_Date_1819,MATCH(ROWS('Bill Register 20-21'!$L$3:'Bill Register 20-21'!L481),COUNTIF(Voucher_Date_1819,\"<=\"&Voucher_Date_1819),0))","v":{"$error":"#N/A"}},{"$f":"INDEX(Voucher_Date_1819,MATCH(SMALL(IF(ISBLANK(Voucher_Date_1819),\"\",IF(ISNUMBER(Voucher_Date_1819),COUNTIF(Voucher_Date_1819,\"<\"&Voucher_Date_1819),COUNTIF(Voucher_Date_1819,\"<\"&Voucher_Date_1819)+SUM(IF(ISNUMBER(Voucher_Date_1819),1,0))+1)),ROW(A480)),IF(ISBLANK(Voucher_Date_1819),\"\",IF(ISNUMBER(Voucher_Date_1819),COUNTIF(Voucher_Date_1819,\"<\"&Voucher_Date_1819),COUNTIF(Voucher_Date_1819,\"<\"&Voucher_Date_1819)+SUM(IF(ISNUMBER(Voucher_Date_1819),1,0))+1)),0))","v":{"$error":"#NUM!"}}]
[{"$f":"INDEX(Voucher_Date_1819,MATCH(ROWS('Bill Register 20-21'!$L$3:'Bill Register 20-21'!L482),COUNTIF(Voucher_Date_1819,\"<=\"&Voucher_Date_1819),0))","v":{"$error":"#N/A"}},{"$f":"INDEX(Voucher_Date_1819,MATCH(SMALL(IF(ISBLANK(Voucher_Date_1819),\"\",IF(ISNUMBER(Voucher_Date_1819),COUNTIF(Voucher_Date_1819,\"<\"&Voucher_Date_1819),COUNTIF(Voucher_Date_1819,\"<\"&Voucher_Date_1819)+SUM(IF(ISNUMBER(Voucher_Date_1819),1,0))+1)),ROW(A481)),IF(ISBLANK(Voucher_Date_1819),\"\",IF(ISNUMBER(Voucher_Date_1819),COUNTIF(Voucher_Date_1819,\"<\"&Voucher_Date_1819),COUNTIF(Voucher_Date_1819,\"<\"&Voucher_Date_1819)+SUM(IF(ISNUMBER(Voucher_Date_1819),1,0))+1)),0))","v":{"$error":"#NUM!"}}]
[{"$f":"INDEX(Voucher_Date_1819,MATCH(ROWS('Bill Register 20-21'!$L$3:'Bill Register 20-21'!L483),COUNTIF(Voucher_Date_1819,\"<=\"&Voucher_Date_1819),0))","v":{"$error":"#N/A"}},{"$f":"INDEX(Voucher_Date_1819,MATCH(SMALL(IF(ISBLANK(Voucher_Date_1819),\"\",IF(ISNUMBER(Voucher_Date_1819),COUNTIF(Voucher_Date_1819,\"<\"&Voucher_Date_1819),COUNTIF(Voucher_Date_1819,\"<\"&Voucher_Date_1819)+SUM(IF(ISNUMBER(Voucher_Date_1819),1,0))+1)),ROW(A482)),IF(ISBLANK(Voucher_Date_1819),\"\",IF(ISNUMBER(Voucher_Date_1819),COUNTIF(Voucher_Date_1819,\"<\"&Voucher_Date_1819),COUNTIF(Voucher_Date_1819,\"<\"&Voucher_Date_1819)+SUM(IF(ISNUMBER(Voucher_Date_1819),1,0))+1)),0))","v":{"$error":"#NUM!"}}]
[{"$f":"INDEX(Voucher_Date_1819,MATCH(ROWS('Bill Register 20-21'!$L$3:'Bill Register 20-21'!L484),COUNTIF(Voucher_Date_1819,\"<=\"&Voucher_Date_1819),0))","v":{"$error":"#N/A"}},{"$f":"INDEX(Voucher_Date_1819,MATCH(SMALL(IF(ISBLANK(Voucher_Date_1819),\"\",IF(ISNUMBER(Voucher_Date_1819),COUNTIF(Voucher_Date_1819,\"<\"&Voucher_Date_1819),COUNTIF(Voucher_Date_1819,\"<\"&Voucher_Date_1819)+SUM(IF(ISNUMBER(Voucher_Date_1819),1,0))+1)),ROW(A483)),IF(ISBLANK(Voucher_Date_1819),\"\",IF(ISNUMBER(Voucher_Date_1819),COUNTIF(Voucher_Date_1819,\"<\"&Voucher_Date_1819),COUNTIF(Voucher_Date_1819,\"<\"&Voucher_Date_1819)+SUM(IF(ISNUMBER(Voucher_Date_1819),1,0))+1)),0))","v":{"$error":"#NUM!"}}]
[{"$f":"INDEX(Voucher_Date_1819,MATCH(ROWS('Bill Register 20-21'!$L$3:'Bill Register 20-21'!L485),COUNTIF(Voucher_Date_1819,\"<=\"&Voucher_Date_1819),0))","v":{"$error":"#N/A"}},{"$f":"INDEX(Voucher_Date_1819,MATCH(SMALL(IF(ISBLANK(Voucher_Date_1819),\"\",IF(ISNUMBER(Voucher_Date_1819),COUNTIF(Voucher_Date_1819,\"<\"&Voucher_Date_1819),COUNTIF(Voucher_Date_1819,\"<\"&Voucher_Date_1819)+SUM(IF(ISNUMBER(Voucher_Date_1819),1,0))+1)),ROW(A484)),IF(ISBLANK(Voucher_Date_1819),\"\",IF(ISNUMBER(Voucher_Date_1819),COUNTIF(Voucher_Date_1819,\"<\"&Voucher_Date_1819),COUNTIF(Voucher_Date_1819,\"<\"&Voucher_Date_1819)+SUM(IF(ISNUMBER(Voucher_Date_1819),1,0))+1)),0))","v":{"$error":"#NUM!"}}]
[{"$f":"INDEX(Voucher_Date_1819,MATCH(ROWS('Bill Register 20-21'!$L$3:'Bill Register 20-21'!L486),COUNTIF(Voucher_Date_1819,\"<=\"&Voucher_Date_1819),0))","v":{"$error":"#N/A"}},{"$f":"INDEX(Voucher_Date_1819,MATCH(SMALL(IF(ISBLANK(Voucher_Date_1819),\"\",IF(ISNUMBER(Voucher_Date_1819),COUNTIF(Voucher_Date_1819,\"<\"&Voucher_Date_1819),COUNTIF(Voucher_Date_1819,\"<\"&Voucher_Date_1819)+SUM(IF(ISNUMBER(Voucher_Date_1819),1,0))+1)),ROW(A485)),IF(ISBLANK(Voucher_Date_1819),\"\",IF(ISNUMBER(Voucher_Date_1819),COUNTIF(Voucher_Date_1819,\"<\"&Voucher_Date_1819),COUNTIF(Voucher_Date_1819,\"<\"&Voucher_Date_1819)+SUM(IF(ISNUMBER(Voucher_Date_1819),1,0))+1)),0))","v":{"$error":"#NUM!"}}]
[{"$f":"INDEX(Voucher_Date_1819,MATCH(ROWS('Bill Register 20-21'!$L$3:'Bill Register 20-21'!L487),COUNTIF(Voucher_Date_1819,\"<=\"&Voucher_Date_1819),0))","v":{"$error":"#N/A"}},{"$f":"INDEX(Voucher_Date_1819,MATCH(SMALL(IF(ISBLANK(Voucher_Date_1819),\"\",IF(ISNUMBER(Voucher_Date_1819),COUNTIF(Voucher_Date_1819,\"<\"&Voucher_Date_1819),COUNTIF(Voucher_Date_1819,\"<\"&Voucher_Date_1819)+SUM(IF(ISNUMBER(Voucher_Date_1819),1,0))+1)),ROW(A486)),IF(ISBLANK(Voucher_Date_1819),\"\",IF(ISNUMBER(Voucher_Date_1819),COUNTIF(Voucher_Date_1819,\"<\"&Voucher_Date_1819),COUNTIF(Voucher_Date_1819,\"<\"&Voucher_Date_1819)+SUM(IF(ISNUMBER(Voucher_Date_1819),1,0))+1)),0))","v":{"$error":"#NUM!"}}]
[{"$f":"INDEX(Voucher_Date_1819,MATCH(ROWS('Bill Register 20-21'!$L$3:'Bill Register 20-21'!L488),COUNTIF(Voucher_Date_1819,\"<=\"&Voucher_Date_1819),0))","v":{"$error":"#N/A"}},{"$f":"INDEX(Voucher_Date_1819,MATCH(SMALL(IF(ISBLANK(Voucher_Date_1819),\"\",IF(ISNUMBER(Voucher_Date_1819),COUNTIF(Voucher_Date_1819,\"<\"&Voucher_Date_1819),COUNTIF(Voucher_Date_1819,\"<\"&Voucher_Date_1819)+SUM(IF(ISNUMBER(Voucher_Date_1819),1,0))+1)),ROW(A487)),IF(ISBLANK(Voucher_Date_1819),\"\",IF(ISNUMBER(Voucher_Date_1819),COUNTIF(Voucher_Date_1819,\"<\"&Voucher_Date_1819),COUNTIF(Voucher_Date_1819,\"<\"&Voucher_Date_1819)+SUM(IF(ISNUMBER(Voucher_Date_1819),1,0))+1)),0))","v":{"$error":"#NUM!"}}]
[{"$f":"INDEX(Voucher_Date_1819,MATCH(ROWS('Bill Register 20-21'!$L$3:'Bill Register 20-21'!L489),COUNTIF(Voucher_Date_1819,\"<=\"&Voucher_Date_1819),0))","v":{"$error":"#N/A"}},{"$f":"INDEX(Voucher_Date_1819,MATCH(SMALL(IF(ISBLANK(Voucher_Date_1819),\"\",IF(ISNUMBER(Voucher_Date_1819),COUNTIF(Voucher_Date_1819,\"<\"&Voucher_Date_1819),COUNTIF(Voucher_Date_1819,\"<\"&Voucher_Date_1819)+SUM(IF(ISNUMBER(Voucher_Date_1819),1,0))+1)),ROW(A488)),IF(ISBLANK(Voucher_Date_1819),\"\",IF(ISNUMBER(Voucher_Date_1819),COUNTIF(Voucher_Date_1819,\"<\"&Voucher_Date_1819),COUNTIF(Voucher_Date_1819,\"<\"&Voucher_Date_1819)+SUM(IF(ISNUMBER(Voucher_Date_1819),1,0))+1)),0))","v":{"$error":"#NUM!"}}]
[{"$f":"INDEX(Voucher_Date_1819,MATCH(ROWS('Bill Register 20-21'!$L$3:'Bill Register 20-21'!L490),COUNTIF(Voucher_Date_1819,\"<=\"&Voucher_Date_1819),0))","v":{"$error":"#N/A"}},{"$f":"INDEX(Voucher_Date_1819,MATCH(SMALL(IF(ISBLANK(Voucher_Date_1819),\"\",IF(ISNUMBER(Voucher_Date_1819),COUNTIF(Voucher_Date_1819,\"<\"&Voucher_Date_1819),COUNTIF(Voucher_Date_1819,\"<\"&Voucher_Date_1819)+SUM(IF(ISNUMBER(Voucher_Date_1819),1,0))+1)),ROW(A489)),IF(ISBLANK(Voucher_Date_1819),\"\",IF(ISNUMBER(Voucher_Date_1819),COUNTIF(Voucher_Date_1819,\"<\"&Voucher_Date_1819),COUNTIF(Voucher_Date_1819,\"<\"&Voucher_Date_1819)+SUM(IF(ISNUMBER(Voucher_Date_1819),1,0))+1)),0))","v":{"$error":"#NUM!"}}]
[{"$f":"INDEX(Voucher_Date_1819,MATCH(ROWS('Bill Register 20-21'!$L$3:'Bill Register 20-21'!L491),COUNTIF(Voucher_Date_1819,\"<=\"&Voucher_Date_1819),0))","v":{"$error":"#N/A"}},{"$f":"INDEX(Voucher_Date_1819,MATCH(SMALL(IF(ISBLANK(Voucher_Date_1819),\"\",IF(ISNUMBER(Voucher_Date_1819),COUNTIF(Voucher_Date_1819,\"<\"&Voucher_Date_1819),COUNTIF(Voucher_Date_1819,\"<\"&Voucher_Date_1819)+SUM(IF(ISNUMBER(Voucher_Date_1819),1,0))+1)),ROW(A490)),IF(ISBLANK(Voucher_Date_1819),\"\",IF(ISNUMBER(Voucher_Date_1819),COUNTIF(Voucher_Date_1819,\"<\"&Voucher_Date_1819),COUNTIF(Voucher_Date_1819,\"<\"&Voucher_Date_1819)+SUM(IF(ISNUMBER(Voucher_Date_1819),1,0))+1)),0))","v":{"$error":"#NUM!"}}]
[{"$f":"INDEX(Voucher_Date_1819,MATCH(ROWS('Bill Register 20-21'!$L$3:'Bill Register 20-21'!L492),COUNTIF(Voucher_Date_1819,\"<=\"&Voucher_Date_1819),0))","v":{"$error":"#N/A"}},{"$f":"INDEX(Voucher_Date_1819,MATCH(SMALL(IF(ISBLANK(Voucher_Date_1819),\"\",IF(ISNUMBER(Voucher_Date_1819),COUNTIF(Voucher_Date_1819,\"<\"&Voucher_Date_1819),COUNTIF(Voucher_Date_1819,\"<\"&Voucher_Date_1819)+SUM(IF(ISNUMBER(Voucher_Date_1819),1,0))+1)),ROW(A491)),IF(ISBLANK(Voucher_Date_1819),\"\",IF(ISNUMBER(Voucher_Date_1819),COUNTIF(Voucher_Date_1819,\"<\"&Voucher_Date_1819),COUNTIF(Voucher_Date_1819,\"<\"&Voucher_Date_1819)+SUM(IF(ISNUMBER(Voucher_Date_1819),1,0))+1)),0))","v":{"$error":"#NUM!"}}]
[{"$f":"INDEX(Voucher_Date_1819,MATCH(ROWS('Bill Register 20-21'!$L$3:'Bill Register 20-21'!L493),COUNTIF(Voucher_Date_1819,\"<=\"&Voucher_Date_1819),0))","v":{"$error":"#N/A"}},{"$f":"INDEX(Voucher_Date_1819,MATCH(SMALL(IF(ISBLANK(Voucher_Date_1819),\"\",IF(ISNUMBER(Voucher_Date_1819),COUNTIF(Voucher_Date_1819,\"<\"&Voucher_Date_1819),COUNTIF(Voucher_Date_1819,\"<\"&Voucher_Date_1819)+SUM(IF(ISNUMBER(Voucher_Date_1819),1,0))+1)),ROW(A492)),IF(ISBLANK(Voucher_Date_1819),\"\",IF(ISNUMBER(Voucher_Date_1819),COUNTIF(Voucher_Date_1819,\"<\"&Voucher_Date_1819),COUNTIF(Voucher_Date_1819,\"<\"&Voucher_Date_1819)+SUM(IF(ISNUMBER(Voucher_Date_1819),1,0))+1)),0))","v":{"$error":"#NUM!"}}]
[{"$f":"INDEX(Voucher_Date_1819,MATCH(ROWS('Bill Register 20-21'!$L$3:'Bill Register 20-21'!L494),COUNTIF(Voucher_Date_1819,\"<=\"&Voucher_Date_1819),0))","v":{"$error":"#N/A"}},{"$f":"INDEX(Voucher_Date_1819,MATCH(SMALL(IF(ISBLANK(Voucher_Date_1819),\"\",IF(ISNUMBER(Voucher_Date_1819),COUNTIF(Voucher_Date_1819,\"<\"&Voucher_Date_1819),COUNTIF(Voucher_Date_1819,\"<\"&Voucher_Date_1819)+SUM(IF(ISNUMBER(Voucher_Date_1819),1,0))+1)),ROW(A493)),IF(ISBLANK(Voucher_Date_1819),\"\",IF(ISNUMBER(Voucher_Date_1819),COUNTIF(Voucher_Date_1819,\"<\"&Voucher_Date_1819),COUNTIF(Voucher_Date_1819,\"<\"&Voucher_Date_1819)+SUM(IF(ISNUMBER(Voucher_Date_1819),1,0))+1)),0))","v":{"$error":"#NUM!"}}]
[{"$f":"INDEX(Voucher_Date_1819,MATCH(ROWS('Bill Register 20-21'!$L$3:'Bill Register 20-21'!L495),COUNTIF(Voucher_Date_1819,\"<=\"&Voucher_Date_1819),0))","v":{"$error":"#N/A"}},{"$f":"INDEX(Voucher_Date_1819,MATCH(SMALL(IF(ISBLANK(Voucher_Date_1819),\"\",IF(ISNUMBER(Voucher_Date_1819),COUNTIF(Voucher_Date_1819,\"<\"&Voucher_Date_1819),COUNTIF(Voucher_Date_1819,\"<\"&Voucher_Date_1819)+SUM(IF(ISNUMBER(Voucher_Date_1819),1,0))+1)),ROW(A494)),IF(ISBLANK(Voucher_Date_1819),\"\",IF(ISNUMBER(Voucher_Date_1819),COUNTIF(Voucher_Date_1819,\"<\"&Voucher_Date_1819),COUNTIF(Voucher_Date_1819,\"<\"&Voucher_Date_1819)+SUM(IF(ISNUMBER(Voucher_Date_1819),1,0))+1)),0))","v":{"$error":"#NUM!"}}]
[{"$f":"INDEX(Voucher_Date_1819,MATCH(ROWS('Bill Register 20-21'!$L$3:'Bill Register 20-21'!L496),COUNTIF(Voucher_Date_1819,\"<=\"&Voucher_Date_1819),0))","v":{"$error":"#N/A"}},{"$f":"INDEX(Voucher_Date_1819,MATCH(SMALL(IF(ISBLANK(Voucher_Date_1819),\"\",IF(ISNUMBER(Voucher_Date_1819),COUNTIF(Voucher_Date_1819,\"<\"&Voucher_Date_1819),COUNTIF(Voucher_Date_1819,\"<\"&Voucher_Date_1819)+SUM(IF(ISNUMBER(Voucher_Date_1819),1,0))+1)),ROW(A495)),IF(ISBLANK(Voucher_Date_1819),\"\",IF(ISNUMBER(Voucher_Date_1819),COUNTIF(Voucher_Date_1819,\"<\"&Voucher_Date_1819),COUNTIF(Voucher_Date_1819,\"<\"&Voucher_Date_1819)+SUM(IF(ISNUMBER(Voucher_Date_1819),1,0))+1)),0))","v":{"$error":"#NUM!"}}]
[{"$f":"INDEX(Voucher_Date_1819,MATCH(ROWS('Bill Register 20-21'!$L$3:'Bill Register 20-21'!L497),COUNTIF(Voucher_Date_1819,\"<=\"&Voucher_Date_1819),0))","v":{"$error":"#N/A"}},{"$f":"INDEX(Voucher_Date_1819,MATCH(SMALL(IF(ISBLANK(Voucher_Date_1819),\"\",IF(ISNUMBER(Voucher_Date_1819),COUNTIF(Voucher_Date_1819,\"<\"&Voucher_Date_1819),COUNTIF(Voucher_Date_1819,\"<\"&Voucher_Date_1819)+SUM(IF(ISNUMBER(Voucher_Date_1819),1,0))+1)),ROW(A496)),IF(ISBLANK(Voucher_Date_1819),\"\",IF(ISNUMBER(Voucher_Date_1819),COUNTIF(Voucher_Date_1819,\"<\"&Voucher_Date_1819),COUNTIF(Voucher_Date_1819,\"<\"&Voucher_Date_1819)+SUM(IF(ISNUMBER(Voucher_Date_1819),1,0))+1)),0))","v":{"$error":"#NUM!"}}]
[{"$f":"INDEX(Voucher_Date_1819,MATCH(ROWS('Bill Register 20-21'!$L$3:'Bill Register 20-21'!L498),COUNTIF(Voucher_Date_1819,\"<=\"&Voucher_Date_1819),0))","v":{"$error":"#N/A"}},{"$f":"INDEX(Voucher_Date_1819,MATCH(SMALL(IF(ISBLANK(Voucher_Date_1819),\"\",IF(ISNUMBER(Voucher_Date_1819),COUNTIF(Voucher_Date_1819,\"<\"&Voucher_Date_1819),COUNTIF(Voucher_Date_1819,\"<\"&Voucher_Date_1819)+SUM(IF(ISNUMBER(Voucher_Date_1819),1,0))+1)),ROW(A497)),IF(ISBLANK(Voucher_Date_1819),\"\",IF(ISNUMBER(Voucher_Date_1819),COUNTIF(Voucher_Date_1819,\"<\"&Voucher_Date_1819),COUNTIF(Voucher_Date_1819,\"<\"&Voucher_Date_1819)+SUM(IF(ISNUMBER(Voucher_Date_1819),1,0))+1)),0))","v":{"$error":"#NUM!"}}]
[{"$f":"INDEX(Voucher_Date_1819,MATCH(ROWS('Bill Register 20-21'!$L$3:'Bill Register 20-21'!L499),COUNTIF(Voucher_Date_1819,\"<=\"&Voucher_Date_1819),0))","v":{"$error":"#N/A"}},{"$f":"INDEX(Voucher_Date_1819,MATCH(SMALL(IF(ISBLANK(Voucher_Date_1819),\"\",IF(ISNUMBER(Voucher_Date_1819),COUNTIF(Voucher_Date_1819,\"<\"&Voucher_Date_1819),COUNTIF(Voucher_Date_1819,\"<\"&Voucher_Date_1819)+SUM(IF(ISNUMBER(Voucher_Date_1819),1,0))+1)),ROW(A498)),IF(ISBLANK(Voucher_Date_1819),\"\",IF(ISNUMBER(Voucher_Date_1819),COUNTIF(Voucher_Date_1819,\"<\"&Voucher_Date_1819),COUNTIF(Voucher_Date_1819,\"<\"&Voucher_Date_1819)+SUM(IF(ISNUMBER(Voucher_Date_1819),1,0))+1)),0))","v":{"$error":"#NUM!"}}]
[{"$f":"INDEX(Voucher_Date_1819,MATCH(ROWS('Bill Register 20-21'!$L$3:'Bill Register 20-21'!L500),COUNTIF(Voucher_Date_1819,\"<=\"&Voucher_Date_1819),0))","v":{"$error":"#N/A"}},{"$f":"INDEX(Voucher_Date_1819,MATCH(SMALL(IF(ISBLANK(Voucher_Date_1819),\"\",IF(ISNUMBER(Voucher_Date_1819),COUNTIF(Voucher_Date_1819,\"<\"&Voucher_Date_1819),COUNTIF(Voucher_Date_1819,\"<\"&Voucher_Date_1819)+SUM(IF(ISNUMBER(Voucher_Date_1819),1,0))+1)),ROW(A499)),IF(ISBLANK(Voucher_Date_1819),\"\",IF(ISNUMBER(Voucher_Date_1819),COUNTIF(Voucher_Date_1819,\"<\"&Voucher_Date_1819),COUNTIF(Voucher_Date_1819,\"<\"&Voucher_Date_1819)+SUM(IF(ISNUMBER(Voucher_Date_1819),1,0))+1)),0))","v":{"$error":"#NUM!"}}]
[{"$f":"INDEX(Voucher_Date_1819,MATCH(ROWS('Bill Register 20-21'!$L$3:'Bill Register 20-21'!L501),COUNTIF(Voucher_Date_1819,\"<=\"&Voucher_Date_1819),0))","v":{"$error":"#N/A"}},{"$f":"INDEX(Voucher_Date_1819,MATCH(SMALL(IF(ISBLANK(Voucher_Date_1819),\"\",IF(ISNUMBER(Voucher_Date_1819),COUNTIF(Voucher_Date_1819,\"<\"&Voucher_Date_1819),COUNTIF(Voucher_Date_1819,\"<\"&Voucher_Date_1819)+SUM(IF(ISNUMBER(Voucher_Date_1819),1,0))+1)),ROW(A500)),IF(ISBLANK(Voucher_Date_1819),\"\",IF(ISNUMBER(Voucher_Date_1819),COUNTIF(Voucher_Date_1819,\"<\"&Voucher_Date_1819),COUNTIF(Voucher_Date_1819,\"<\"&Voucher_Date_1819)+SUM(IF(ISNUMBER(Voucher_Date_1819),1,0))+1)),0))","v":{"$error":"#NUM!"}}]
[{"$f":"INDEX(Voucher_Date_1819,MATCH(ROWS('Bill Register 20-21'!$L$3:'Bill Register 20-21'!L502),COUNTIF(Voucher_Date_1819,\"<=\"&Voucher_Date_1819),0))","v":{"$error":"#N/A"}},{"$f":"INDEX(Voucher_Date_1819,MATCH(SMALL(IF(ISBLANK(Voucher_Date_1819),\"\",IF(ISNUMBER(Voucher_Date_1819),COUNTIF(Voucher_Date_1819,\"<\"&Voucher_Date_1819),COUNTIF(Voucher_Date_1819,\"<\"&Voucher_Date_1819)+SUM(IF(ISNUMBER(Voucher_Date_1819),1,0))+1)),ROW(A501)),IF(ISBLANK(Voucher_Date_1819),\"\",IF(ISNUMBER(Voucher_Date_1819),COUNTIF(Voucher_Date_1819,\"<\"&Voucher_Date_1819),COUNTIF(Voucher_Date_1819,\"<\"&Voucher_Date_1819)+SUM(IF(ISNUMBER(Voucher_Date_1819),1,0))+1)),0))","v":{"$error":"#NUM!"}}]
[{"$f":"INDEX(Voucher_Date_1819,MATCH(ROWS('Bill Register 20-21'!$L$3:'Bill Register 20-21'!L503),COUNTIF(Voucher_Date_1819,\"<=\"&Voucher_Date_1819),0))","v":{"$error":"#N/A"}},{"$f":"INDEX(Voucher_Date_1819,MATCH(SMALL(IF(ISBLANK(Voucher_Date_1819),\"\",IF(ISNUMBER(Voucher_Date_1819),COUNTIF(Voucher_Date_1819,\"<\"&Voucher_Date_1819),COUNTIF(Voucher_Date_1819,\"<\"&Voucher_Date_1819)+SUM(IF(ISNUMBER(Voucher_Date_1819),1,0))+1)),ROW(A502)),IF(ISBLANK(Voucher_Date_1819),\"\",IF(ISNUMBER(Voucher_Date_1819),COUNTIF(Voucher_Date_1819,\"<\"&Voucher_Date_1819),COUNTIF(Voucher_Date_1819,\"<\"&Voucher_Date_1819)+SUM(IF(ISNUMBER(Voucher_Date_1819),1,0))+1)),0))","v":{"$error":"#NUM!"}}]
[{"$f":"INDEX(Voucher_Date_1819,MATCH(ROWS('Bill Register 20-21'!$L$3:'Bill Register 20-21'!L504),COUNTIF(Voucher_Date_1819,\"<=\"&Voucher_Date_1819),0))","v":{"$error":"#N/A"}},{"$f":"INDEX(Voucher_Date_1819,MATCH(SMALL(IF(ISBLANK(Voucher_Date_1819),\"\",IF(ISNUMBER(Voucher_Date_1819),COUNTIF(Voucher_Date_1819,\"<\"&Voucher_Date_1819),COUNTIF(Voucher_Date_1819,\"<\"&Voucher_Date_1819)+SUM(IF(ISNUMBER(Voucher_Date_1819),1,0))+1)),ROW(A503)),IF(ISBLANK(Voucher_Date_1819),\"\",IF(ISNUMBER(Voucher_Date_1819),COUNTIF(Voucher_Date_1819,\"<\"&Voucher_Date_1819),COUNTIF(Voucher_Date_1819,\"<\"&Voucher_Date_1819)+SUM(IF(ISNUMBER(Voucher_Date_1819),1,0))+1)),0))","v":{"$error":"#NUM!"}}]
[{"$f":"INDEX(Voucher_Date_1819,MATCH(ROWS('Bill Register 20-21'!$L$3:'Bill Register 20-21'!L505),COUNTIF(Voucher_Date_1819,\"<=\"&Voucher_Date_1819),0))","v":{"$error":"#N/A"}},{"$f":"INDEX(Voucher_Date_1819,MATCH(SMALL(IF(ISBLANK(Voucher_Date_1819),\"\",IF(ISNUMBER(Voucher_Date_1819),COUNTIF(Voucher_Date_1819,\"<\"&Voucher_Date_1819),COUNTIF(Voucher_Date_1819,\"<\"&Voucher_Date_1819)+SUM(IF(ISNUMBER(Voucher_Date_1819),1,0))+1)),ROW(A504)),IF(ISBLANK(Voucher_Date_1819),\"\",IF(ISNUMBER(Voucher_Date_1819),COUNTIF(Voucher_Date_1819,\"<\"&Voucher_Date_1819),COUNTIF(Voucher_Date_1819,\"<\"&Voucher_Date_1819)+SUM(IF(ISNUMBER(Voucher_Date_1819),1,0))+1)),0))","v":{"$error":"#NUM!"}}]
[{"$f":"INDEX(Voucher_Date_1819,MATCH(ROWS('Bill Register 20-21'!$L$3:'Bill Register 20-21'!L506),COUNTIF(Voucher_Date_1819,\"<=\"&Voucher_Date_1819),0))","v":{"$error":"#N/A"}},{"$f":"INDEX(Voucher_Date_1819,MATCH(SMALL(IF(ISBLANK(Voucher_Date_1819),\"\",IF(ISNUMBER(Voucher_Date_1819),COUNTIF(Voucher_Date_1819,\"<\"&Voucher_Date_1819),COUNTIF(Voucher_Date_1819,\"<\"&Voucher_Date_1819)+SUM(IF(ISNUMBER(Voucher_Date_1819),1,0))+1)),ROW(A505)),IF(ISBLANK(Voucher_Date_1819),\"\",IF(ISNUMBER(Voucher_Date_1819),COUNTIF(Voucher_Date_1819,\"<\"&Voucher_Date_1819),COUNTIF(Voucher_Date_1819,\"<\"&Voucher_Date_1819)+SUM(IF(ISNUMBER(Voucher_Date_1819),1,0))+1)),0))","v":{"$error":"#NUM!"}}]
[{"$f":"INDEX(Voucher_Date_1819,MATCH(ROWS('Bill Register 20-21'!$L$3:'Bill Register 20-21'!L507),COUNTIF(Voucher_Date_1819,\"<=\"&Voucher_Date_1819),0))","v":{"$error":"#N/A"}},{"$f":"INDEX(Voucher_Date_1819,MATCH(SMALL(IF(ISBLANK(Voucher_Date_1819),\"\",IF(ISNUMBER(Voucher_Date_1819),COUNTIF(Voucher_Date_1819,\"<\"&Voucher_Date_1819),COUNTIF(Voucher_Date_1819,\"<\"&Voucher_Date_1819)+SUM(IF(ISNUMBER(Voucher_Date_1819),1,0))+1)),ROW(A506)),IF(ISBLANK(Voucher_Date_1819),\"\",IF(ISNUMBER(Voucher_Date_1819),COUNTIF(Voucher_Date_1819,\"<\"&Voucher_Date_1819),COUNTIF(Voucher_Date_1819,\"<\"&Voucher_Date_1819)+SUM(IF(ISNUMBER(Voucher_Date_1819),1,0))+1)),0))","v":{"$error":"#NUM!"}}]
[{"$f":"INDEX(Voucher_Date_1819,MATCH(ROWS('Bill Register 20-21'!$L$3:'Bill Register 20-21'!L508),COUNTIF(Voucher_Date_1819,\"<=\"&Voucher_Date_1819),0))","v":{"$error":"#N/A"}},{"$f":"INDEX(Voucher_Date_1819,MATCH(SMALL(IF(ISBLANK(Voucher_Date_1819),\"\",IF(ISNUMBER(Voucher_Date_1819),COUNTIF(Voucher_Date_1819,\"<\"&Voucher_Date_1819),COUNTIF(Voucher_Date_1819,\"<\"&Voucher_Date_1819)+SUM(IF(ISNUMBER(Voucher_Date_1819),1,0))+1)),ROW(A507)),IF(ISBLANK(Voucher_Date_1819),\"\",IF(ISNUMBER(Voucher_Date_1819),COUNTIF(Voucher_Date_1819,\"<\"&Voucher_Date_1819),COUNTIF(Voucher_Date_1819,\"<\"&Voucher_Date_1819)+SUM(IF(ISNUMBER(Voucher_Date_1819),1,0))+1)),0))","v":{"$error":"#NUM!"}}]
[{"$f":"INDEX(Voucher_Date_1819,MATCH(ROWS('Bill Register 20-21'!$L$3:'Bill Register 20-21'!L509),COUNTIF(Voucher_Date_1819,\"<=\"&Voucher_Date_1819),0))","v":{"$error":"#N/A"}},{"$f":"INDEX(Voucher_Date_1819,MATCH(SMALL(IF(ISBLANK(Voucher_Date_1819),\"\",IF(ISNUMBER(Voucher_Date_1819),COUNTIF(Voucher_Date_1819,\"<\"&Voucher_Date_1819),COUNTIF(Voucher_Date_1819,\"<\"&Voucher_Date_1819)+SUM(IF(ISNUMBER(Voucher_Date_1819),1,0))+1)),ROW(A508)),IF(ISBLANK(Voucher_Date_1819),\"\",IF(ISNUMBER(Voucher_Date_1819),COUNTIF(Voucher_Date_1819,\"<\"&Voucher_Date_1819),COUNTIF(Voucher_Date_1819,\"<\"&Voucher_Date_1819)+SUM(IF(ISNUMBER(Voucher_Date_1819),1,0))+1)),0))","v":{"$error":"#NUM!"}}]
[{"$f":"INDEX(Voucher_Date_1819,MATCH(ROWS('Bill Register 20-21'!$L$3:'Bill Register 20-21'!L510),COUNTIF(Voucher_Date_1819,\"<=\"&Voucher_Date_1819),0))","v":{"$error":"#N/A"}},{"$f":"INDEX(Voucher_Date_1819,MATCH(SMALL(IF(ISBLANK(Voucher_Date_1819),\"\",IF(ISNUMBER(Voucher_Date_1819),COUNTIF(Voucher_Date_1819,\"<\"&Voucher_Date_1819),COUNTIF(Voucher_Date_1819,\"<\"&Voucher_Date_1819)+SUM(IF(ISNUMBER(Voucher_Date_1819),1,0))+1)),ROW(A509)),IF(ISBLANK(Voucher_Date_1819),\"\",IF(ISNUMBER(Voucher_Date_1819),COUNTIF(Voucher_Date_1819,\"<\"&Voucher_Date_1819),COUNTIF(Voucher_Date_1819,\"<\"&Voucher_Date_1819)+SUM(IF(ISNUMBER(Voucher_Date_1819),1,0))+1)),0))","v":{"$error":"#NUM!"}}]
[{"$f":"INDEX(Voucher_Date_1819,MATCH(ROWS('Bill Register 20-21'!$L$3:'Bill Register 20-21'!L511),COUNTIF(Voucher_Date_1819,\"<=\"&Voucher_Date_1819),0))","v":{"$error":"#N/A"}},{"$f":"INDEX(Voucher_Date_1819,MATCH(SMALL(IF(ISBLANK(Voucher_Date_1819),\"\",IF(ISNUMBER(Voucher_Date_1819),COUNTIF(Voucher_Date_1819,\"<\"&Voucher_Date_1819),COUNTIF(Voucher_Date_1819,\"<\"&Voucher_Date_1819)+SUM(IF(ISNUMBER(Voucher_Date_1819),1,0))+1)),ROW(A510)),IF(ISBLANK(Voucher_Date_1819),\"\",IF(ISNUMBER(Voucher_Date_1819),COUNTIF(Voucher_Date_1819,\"<\"&Voucher_Date_1819),COUNTIF(Voucher_Date_1819,\"<\"&Voucher_Date_1819)+SUM(IF(ISNUMBER(Voucher_Date_1819),1,0))+1)),0))","v":{"$error":"#NUM!"}}]
[{"$f":"INDEX(Voucher_Date_1819,MATCH(ROWS('Bill Register 20-21'!$L$3:'Bill Register 20-21'!L512),COUNTIF(Voucher_Date_1819,\"<=\"&Voucher_Date_1819),0))","v":{"$error":"#N/A"}},{"$f":"INDEX(Voucher_Date_1819,MATCH(SMALL(IF(ISBLANK(Voucher_Date_1819),\"\",IF(ISNUMBER(Voucher_Date_1819),COUNTIF(Voucher_Date_1819,\"<\"&Voucher_Date_1819),COUNTIF(Voucher_Date_1819,\"<\"&Voucher_Date_1819)+SUM(IF(ISNUMBER(Voucher_Date_1819),1,0))+1)),ROW(A511)),IF(ISBLANK(Voucher_Date_1819),\"\",IF(ISNUMBER(Voucher_Date_1819),COUNTIF(Voucher_Date_1819,\"<\"&Voucher_Date_1819),COUNTIF(Voucher_Date_1819,\"<\"&Voucher_Date_1819)+SUM(IF(ISNUMBER(Voucher_Date_1819),1,0))+1)),0))","v":{"$error":"#NUM!"}}]
[{"$f":"INDEX(Voucher_Date_1819,MATCH(ROWS('Bill Register 20-21'!$L$3:'Bill Register 20-21'!L513),COUNTIF(Voucher_Date_1819,\"<=\"&Voucher_Date_1819),0))","v":{"$error":"#N/A"}},{"$f":"INDEX(Voucher_Date_1819,MATCH(SMALL(IF(ISBLANK(Voucher_Date_1819),\"\",IF(ISNUMBER(Voucher_Date_1819),COUNTIF(Voucher_Date_1819,\"<\"&Voucher_Date_1819),COUNTIF(Voucher_Date_1819,\"<\"&Voucher_Date_1819)+SUM(IF(ISNUMBER(Voucher_Date_1819),1,0))+1)),ROW(A512)),IF(ISBLANK(Voucher_Date_1819),\"\",IF(ISNUMBER(Voucher_Date_1819),COUNTIF(Voucher_Date_1819,\"<\"&Voucher_Date_1819),COUNTIF(Voucher_Date_1819,\"<\"&Voucher_Date_1819)+SUM(IF(ISNUMBER(Voucher_Date_1819),1,0))+1)),0))","v":{"$error":"#NUM!"}}]
[{"$f":"INDEX(Voucher_Date_1819,MATCH(ROWS('Bill Register 20-21'!$L$3:'Bill Register 20-21'!L514),COUNTIF(Voucher_Date_1819,\"<=\"&Voucher_Date_1819),0))","v":{"$error":"#N/A"}},{"$f":"INDEX(Voucher_Date_1819,MATCH(SMALL(IF(ISBLANK(Voucher_Date_1819),\"\",IF(ISNUMBER(Voucher_Date_1819),COUNTIF(Voucher_Date_1819,\"<\"&Voucher_Date_1819),COUNTIF(Voucher_Date_1819,\"<\"&Voucher_Date_1819)+SUM(IF(ISNUMBER(Voucher_Date_1819),1,0))+1)),ROW(A513)),IF(ISBLANK(Voucher_Date_1819),\"\",IF(ISNUMBER(Voucher_Date_1819),COUNTIF(Voucher_Date_1819,\"<\"&Voucher_Date_1819),COUNTIF(Voucher_Date_1819,\"<\"&Voucher_Date_1819)+SUM(IF(ISNUMBER(Voucher_Date_1819),1,0))+1)),0))","v":{"$error":"#NUM!"}}]
[{"$f":"INDEX(Voucher_Date_1819,MATCH(ROWS('Bill Register 20-21'!$L$3:'Bill Register 20-21'!L515),COUNTIF(Voucher_Date_1819,\"<=\"&Voucher_Date_1819),0))","v":{"$error":"#N/A"}},{"$f":"INDEX(Voucher_Date_1819,MATCH(SMALL(IF(ISBLANK(Voucher_Date_1819),\"\",IF(ISNUMBER(Voucher_Date_1819),COUNTIF(Voucher_Date_1819,\"<\"&Voucher_Date_1819),COUNTIF(Voucher_Date_1819,\"<\"&Voucher_Date_1819)+SUM(IF(ISNUMBER(Voucher_Date_1819),1,0))+1)),ROW(A514)),IF(ISBLANK(Voucher_Date_1819),\"\",IF(ISNUMBER(Voucher_Date_1819),COUNTIF(Voucher_Date_1819,\"<\"&Voucher_Date_1819),COUNTIF(Voucher_Date_1819,\"<\"&Voucher_Date_1819)+SUM(IF(ISNUMBER(Voucher_Date_1819),1,0))+1)),0))","v":{"$error":"#NUM!"}}]
[{"$f":"INDEX(Voucher_Date_1819,MATCH(ROWS('Bill Register 20-21'!$L$3:'Bill Register 20-21'!L516),COUNTIF(Voucher_Date_1819,\"<=\"&Voucher_Date_1819),0))","v":{"$error":"#N/A"}},{"$f":"INDEX(Voucher_Date_1819,MATCH(SMALL(IF(ISBLANK(Voucher_Date_1819),\"\",IF(ISNUMBER(Voucher_Date_1819),COUNTIF(Voucher_Date_1819,\"<\"&Voucher_Date_1819),COUNTIF(Voucher_Date_1819,\"<\"&Voucher_Date_1819)+SUM(IF(ISNUMBER(Voucher_Date_1819),1,0))+1)),ROW(A515)),IF(ISBLANK(Voucher_Date_1819),\"\",IF(ISNUMBER(Voucher_Date_1819),COUNTIF(Voucher_Date_1819,\"<\"&Voucher_Date_1819),COUNTIF(Voucher_Date_1819,\"<\"&Voucher_Date_1819)+SUM(IF(ISNUMBER(Voucher_Date_1819),1,0))+1)),0))","v":{"$error":"#NUM!"}}]
[{"$f":"INDEX(Voucher_Date_1819,MATCH(ROWS('Bill Register 20-21'!$L$3:'Bill Register 20-21'!L517),COUNTIF(Voucher_Date_1819,\"<=\"&Voucher_Date_1819),0))","v":{"$error":"#N/A"}},{"$f":"INDEX(Voucher_Date_1819,MATCH(SMALL(IF(ISBLANK(Voucher_Date_1819),\"\",IF(ISNUMBER(Voucher_Date_1819),COUNTIF(Voucher_Date_1819,\"<\"&Voucher_Date_1819),COUNTIF(Voucher_Date_1819,\"<\"&Voucher_Date_1819)+SUM(IF(ISNUMBER(Voucher_Date_1819),1,0))+1)),ROW(A516)),IF(ISBLANK(Voucher_Date_1819),\"\",IF(ISNUMBER(Voucher_Date_1819),COUNTIF(Voucher_Date_1819,\"<\"&Voucher_Date_1819),COUNTIF(Voucher_Date_1819,\"<\"&Voucher_Date_1819)+SUM(IF(ISNUMBER(Voucher_Date_1819),1,0))+1)),0))","v":{"$error":"#NUM!"}}]
[{"$f":"INDEX(Voucher_Date_1819,MATCH(ROWS('Bill Register 20-21'!$L$3:'Bill Register 20-21'!L518),COUNTIF(Voucher_Date_1819,\"<=\"&Voucher_Date_1819),0))","v":{"$error":"#N/A"}},{"$f":"INDEX(Voucher_Date_1819,MATCH(SMALL(IF(ISBLANK(Voucher_Date_1819),\"\",IF(ISNUMBER(Voucher_Date_1819),COUNTIF(Voucher_Date_1819,\"<\"&Voucher_Date_1819),COUNTIF(Voucher_Date_1819,\"<\"&Voucher_Date_1819)+SUM(IF(ISNUMBER(Voucher_Date_1819),1,0))+1)),ROW(A517)),IF(ISBLANK(Voucher_Date_1819),\"\",IF(ISNUMBER(Voucher_Date_1819),COUNTIF(Voucher_Date_1819,\"<\"&Voucher_Date_1819),COUNTIF(Voucher_Date_1819,\"<\"&Voucher_Date_1819)+SUM(IF(ISNUMBER(Voucher_Date_1819),1,0))+1)),0))","v":{"$error":"#NUM!"}}]
[{"$f":"INDEX(Voucher_Date_1819,MATCH(ROWS('Bill Register 20-21'!$L$3:'Bill Register 20-21'!L519),COUNTIF(Voucher_Date_1819,\"<=\"&Voucher_Date_1819),0))","v":{"$error":"#N/A"}},{"$f":"INDEX(Voucher_Date_1819,MATCH(SMALL(IF(ISBLANK(Voucher_Date_1819),\"\",IF(ISNUMBER(Voucher_Date_1819),COUNTIF(Voucher_Date_1819,\"<\"&Voucher_Date_1819),COUNTIF(Voucher_Date_1819,\"<\"&Voucher_Date_1819)+SUM(IF(ISNUMBER(Voucher_Date_1819),1,0))+1)),ROW(A518)),IF(ISBLANK(Voucher_Date_1819),\"\",IF(ISNUMBER(Voucher_Date_1819),COUNTIF(Voucher_Date_1819,\"<\"&Voucher_Date_1819),COUNTIF(Voucher_Date_1819,\"<\"&Voucher_Date_1819)+SUM(IF(ISNUMBER(Voucher_Date_1819),1,0))+1)),0))","v":{"$error":"#NUM!"}}]
[{"$f":"INDEX(Voucher_Date_1819,MATCH(ROWS('Bill Register 20-21'!$L$3:'Bill Register 20-21'!L520),COUNTIF(Voucher_Date_1819,\"<=\"&Voucher_Date_1819),0))","v":{"$error":"#N/A"}},{"$f":"INDEX(Voucher_Date_1819,MATCH(SMALL(IF(ISBLANK(Voucher_Date_1819),\"\",IF(ISNUMBER(Voucher_Date_1819),COUNTIF(Voucher_Date_1819,\"<\"&Voucher_Date_1819),COUNTIF(Voucher_Date_1819,\"<\"&Voucher_Date_1819)+SUM(IF(ISNUMBER(Voucher_Date_1819),1,0))+1)),ROW(A519)),IF(ISBLANK(Voucher_Date_1819),\"\",IF(ISNUMBER(Voucher_Date_1819),COUNTIF(Voucher_Date_1819,\"<\"&Voucher_Date_1819),COUNTIF(Voucher_Date_1819,\"<\"&Voucher_Date_1819)+SUM(IF(ISNUMBER(Voucher_Date_1819),1,0))+1)),0))","v":{"$error":"#NUM!"}}]
[{"$f":"INDEX(Voucher_Date_1819,MATCH(ROWS('Bill Register 20-21'!$L$3:'Bill Register 20-21'!L521),COUNTIF(Voucher_Date_1819,\"<=\"&Voucher_Date_1819),0))","v":{"$error":"#N/A"}},{"$f":"INDEX(Voucher_Date_1819,MATCH(SMALL(IF(ISBLANK(Voucher_Date_1819),\"\",IF(ISNUMBER(Voucher_Date_1819),COUNTIF(Voucher_Date_1819,\"<\"&Voucher_Date_1819),COUNTIF(Voucher_Date_1819,\"<\"&Voucher_Date_1819)+SUM(IF(ISNUMBER(Voucher_Date_1819),1,0))+1)),ROW(A520)),IF(ISBLANK(Voucher_Date_1819),\"\",IF(ISNUMBER(Voucher_Date_1819),COUNTIF(Voucher_Date_1819,\"<\"&Voucher_Date_1819),COUNTIF(Voucher_Date_1819,\"<\"&Voucher_Date_1819)+SUM(IF(ISNUMBER(Voucher_Date_1819),1,0))+1)),0))","v":{"$error":"#NUM!"}}]
[{"$f":"INDEX(Voucher_Date_1819,MATCH(ROWS('Bill Register 20-21'!$L$3:'Bill Register 20-21'!L522),COUNTIF(Voucher_Date_1819,\"<=\"&Voucher_Date_1819),0))","v":{"$error":"#N/A"}},{"$f":"INDEX(Voucher_Date_1819,MATCH(SMALL(IF(ISBLANK(Voucher_Date_1819),\"\",IF(ISNUMBER(Voucher_Date_1819),COUNTIF(Voucher_Date_1819,\"<\"&Voucher_Date_1819),COUNTIF(Voucher_Date_1819,\"<\"&Voucher_Date_1819)+SUM(IF(ISNUMBER(Voucher_Date_1819),1,0))+1)),ROW(A521)),IF(ISBLANK(Voucher_Date_1819),\"\",IF(ISNUMBER(Voucher_Date_1819),COUNTIF(Voucher_Date_1819,\"<\"&Voucher_Date_1819),COUNTIF(Voucher_Date_1819,\"<\"&Voucher_Date_1819)+SUM(IF(ISNUMBER(Voucher_Date_1819),1,0))+1)),0))","v":{"$error":"#NUM!"}}]
[{"$f":"INDEX(Voucher_Date_1819,MATCH(ROWS('Bill Register 20-21'!$L$3:'Bill Register 20-21'!L523),COUNTIF(Voucher_Date_1819,\"<=\"&Voucher_Date_1819),0))","v":{"$error":"#N/A"}},{"$f":"INDEX(Voucher_Date_1819,MATCH(SMALL(IF(ISBLANK(Voucher_Date_1819),\"\",IF(ISNUMBER(Voucher_Date_1819),COUNTIF(Voucher_Date_1819,\"<\"&Voucher_Date_1819),COUNTIF(Voucher_Date_1819,\"<\"&Voucher_Date_1819)+SUM(IF(ISNUMBER(Voucher_Date_1819),1,0))+1)),ROW(A522)),IF(ISBLANK(Voucher_Date_1819),\"\",IF(ISNUMBER(Voucher_Date_1819),COUNTIF(Voucher_Date_1819,\"<\"&Voucher_Date_1819),COUNTIF(Voucher_Date_1819,\"<\"&Voucher_Date_1819)+SUM(IF(ISNUMBER(Voucher_Date_1819),1,0))+1)),0))","v":{"$error":"#NUM!"}}]
[{"$f":"INDEX(Voucher_Date_1819,MATCH(ROWS('Bill Register 20-21'!$L$3:'Bill Register 20-21'!L524),COUNTIF(Voucher_Date_1819,\"<=\"&Voucher_Date_1819),0))","v":{"$error":"#N/A"}},{"$f":"INDEX(Voucher_Date_1819,MATCH(SMALL(IF(ISBLANK(Voucher_Date_1819),\"\",IF(ISNUMBER(Voucher_Date_1819),COUNTIF(Voucher_Date_1819,\"<\"&Voucher_Date_1819),COUNTIF(Voucher_Date_1819,\"<\"&Voucher_Date_1819)+SUM(IF(ISNUMBER(Voucher_Date_1819),1,0))+1)),ROW(A523)),IF(ISBLANK(Voucher_Date_1819),\"\",IF(ISNUMBER(Voucher_Date_1819),COUNTIF(Voucher_Date_1819,\"<\"&Voucher_Date_1819),COUNTIF(Voucher_Date_1819,\"<\"&Voucher_Date_1819)+SUM(IF(ISNUMBER(Voucher_Date_1819),1,0))+1)),0))","v":{"$error":"#NUM!"}}]
[{"$f":"INDEX(Voucher_Date_1819,MATCH(ROWS('Bill Register 20-21'!$L$3:'Bill Register 20-21'!L525),COUNTIF(Voucher_Date_1819,\"<=\"&Voucher_Date_1819),0))","v":{"$error":"#N/A"}},{"$f":"INDEX(Voucher_Date_1819,MATCH(SMALL(IF(ISBLANK(Voucher_Date_1819),\"\",IF(ISNUMBER(Voucher_Date_1819),COUNTIF(Voucher_Date_1819,\"<\"&Voucher_Date_1819),COUNTIF(Voucher_Date_1819,\"<\"&Voucher_Date_1819)+SUM(IF(ISNUMBER(Voucher_Date_1819),1,0))+1)),ROW(A524)),IF(ISBLANK(Voucher_Date_1819),\"\",IF(ISNUMBER(Voucher_Date_1819),COUNTIF(Voucher_Date_1819,\"<\"&Voucher_Date_1819),COUNTIF(Voucher_Date_1819,\"<\"&Voucher_Date_1819)+SUM(IF(ISNUMBER(Voucher_Date_1819),1,0))+1)),0))","v":{"$error":"#NUM!"}}]
[{"$f":"INDEX(Voucher_Date_1819,MATCH(ROWS('Bill Register 20-21'!$L$3:'Bill Register 20-21'!L526),COUNTIF(Voucher_Date_1819,\"<=\"&Voucher_Date_1819),0))","v":{"$error":"#N/A"}},{"$f":"INDEX(Voucher_Date_1819,MATCH(SMALL(IF(ISBLANK(Voucher_Date_1819),\"\",IF(ISNUMBER(Voucher_Date_1819),COUNTIF(Voucher_Date_1819,\"<\"&Voucher_Date_1819),COUNTIF(Voucher_Date_1819,\"<\"&Voucher_Date_1819)+SUM(IF(ISNUMBER(Voucher_Date_1819),1,0))+1)),ROW(A525)),IF(ISBLANK(Voucher_Date_1819),\"\",IF(ISNUMBER(Voucher_Date_1819),COUNTIF(Voucher_Date_1819,\"<\"&Voucher_Date_1819),COUNTIF(Voucher_Date_1819,\"<\"&Voucher_Date_1819)+SUM(IF(ISNUMBER(Voucher_Date_1819),1,0))+1)),0))","v":{"$error":"#NUM!"}}]
[{"$f":"INDEX(Voucher_Date_1819,MATCH(ROWS('Bill Register 20-21'!$L$3:'Bill Register 20-21'!L527),COUNTIF(Voucher_Date_1819,\"<=\"&Voucher_Date_1819),0))","v":{"$error":"#N/A"}},{"$f":"INDEX(Voucher_Date_1819,MATCH(SMALL(IF(ISBLANK(Voucher_Date_1819),\"\",IF(ISNUMBER(Voucher_Date_1819),COUNTIF(Voucher_Date_1819,\"<\"&Voucher_Date_1819),COUNTIF(Voucher_Date_1819,\"<\"&Voucher_Date_1819)+SUM(IF(ISNUMBER(Voucher_Date_1819),1,0))+1)),ROW(A526)),IF(ISBLANK(Voucher_Date_1819),\"\",IF(ISNUMBER(Voucher_Date_1819),COUNTIF(Voucher_Date_1819,\"<\"&Voucher_Date_1819),COUNTIF(Voucher_Date_1819,\"<\"&Voucher_Date_1819)+SUM(IF(ISNUMBER(Voucher_Date_1819),1,0))+1)),0))","v":{"$error":"#NUM!"}}]
[{"$f":"INDEX(Voucher_Date_1819,MATCH(ROWS('Bill Register 20-21'!$L$3:'Bill Register 20-21'!L528),COUNTIF(Voucher_Date_1819,\"<=\"&Voucher_Date_1819),0))","v":{"$error":"#N/A"}},{"$f":"INDEX(Voucher_Date_1819,MATCH(SMALL(IF(ISBLANK(Voucher_Date_1819),\"\",IF(ISNUMBER(Voucher_Date_1819),COUNTIF(Voucher_Date_1819,\"<\"&Voucher_Date_1819),COUNTIF(Voucher_Date_1819,\"<\"&Voucher_Date_1819)+SUM(IF(ISNUMBER(Voucher_Date_1819),1,0))+1)),ROW(A527)),IF(ISBLANK(Voucher_Date_1819),\"\",IF(ISNUMBER(Voucher_Date_1819),COUNTIF(Voucher_Date_1819,\"<\"&Voucher_Date_1819),COUNTIF(Voucher_Date_1819,\"<\"&Voucher_Date_1819)+SUM(IF(ISNUMBER(Voucher_Date_1819),1,0))+1)),0))","v":{"$error":"#NUM!"}}]
[{"$f":"INDEX(Voucher_Date_1819,MATCH(ROWS('Bill Register 20-21'!$L$3:'Bill Register 20-21'!L529),COUNTIF(Voucher_Date_1819,\"<=\"&Voucher_Date_1819),0))","v":{"$error":"#N/A"}},{"$f":"INDEX(Voucher_Date_1819,MATCH(SMALL(IF(ISBLANK(Voucher_Date_1819),\"\",IF(ISNUMBER(Voucher_Date_1819),COUNTIF(Voucher_Date_1819,\"<\"&Voucher_Date_1819),COUNTIF(Voucher_Date_1819,\"<\"&Voucher_Date_1819)+SUM(IF(ISNUMBER(Voucher_Date_1819),1,0))+1)),ROW(A528)),IF(ISBLANK(Voucher_Date_1819),\"\",IF(ISNUMBER(Voucher_Date_1819),COUNTIF(Voucher_Date_1819,\"<\"&Voucher_Date_1819),COUNTIF(Voucher_Date_1819,\"<\"&Voucher_Date_1819)+SUM(IF(ISNUMBER(Voucher_Date_1819),1,0))+1)),0))","v":{"$error":"#NUM!"}}]
[{"$f":"INDEX(Voucher_Date_1819,MATCH(ROWS('Bill Register 20-21'!$L$3:'Bill Register 20-21'!L530),COUNTIF(Voucher_Date_1819,\"<=\"&Voucher_Date_1819),0))","v":{"$error":"#N/A"}},{"$f":"INDEX(Voucher_Date_1819,MATCH(SMALL(IF(ISBLANK(Voucher_Date_1819),\"\",IF(ISNUMBER(Voucher_Date_1819),COUNTIF(Voucher_Date_1819,\"<\"&Voucher_Date_1819),COUNTIF(Voucher_Date_1819,\"<\"&Voucher_Date_1819)+SUM(IF(ISNUMBER(Voucher_Date_1819),1,0))+1)),ROW(A529)),IF(ISBLANK(Voucher_Date_1819),\"\",IF(ISNUMBER(Voucher_Date_1819),COUNTIF(Voucher_Date_1819,\"<\"&Voucher_Date_1819),COUNTIF(Voucher_Date_1819,\"<\"&Voucher_Date_1819)+SUM(IF(ISNUMBER(Voucher_Date_1819),1,0))+1)),0))","v":{"$error":"#NUM!"}}]
[{"$f":"INDEX(Voucher_Date_1819,MATCH(ROWS('Bill Register 20-21'!$L$3:'Bill Register 20-21'!L531),COUNTIF(Voucher_Date_1819,\"<=\"&Voucher_Date_1819),0))","v":{"$error":"#N/A"}},{"$f":"INDEX(Voucher_Date_1819,MATCH(SMALL(IF(ISBLANK(Voucher_Date_1819),\"\",IF(ISNUMBER(Voucher_Date_1819),COUNTIF(Voucher_Date_1819,\"<\"&Voucher_Date_1819),COUNTIF(Voucher_Date_1819,\"<\"&Voucher_Date_1819)+SUM(IF(ISNUMBER(Voucher_Date_1819),1,0))+1)),ROW(A530)),IF(ISBLANK(Voucher_Date_1819),\"\",IF(ISNUMBER(Voucher_Date_1819),COUNTIF(Voucher_Date_1819,\"<\"&Voucher_Date_1819),COUNTIF(Voucher_Date_1819,\"<\"&Voucher_Date_1819)+SUM(IF(ISNUMBER(Voucher_Date_1819),1,0))+1)),0))","v":{"$error":"#NUM!"}}]
[{"$f":"INDEX(Voucher_Date_1819,MATCH(ROWS('Bill Register 20-21'!$L$3:'Bill Register 20-21'!L532),COUNTIF(Voucher_Date_1819,\"<=\"&Voucher_Date_1819),0))","v":{"$error":"#N/A"}},{"$f":"INDEX(Voucher_Date_1819,MATCH(SMALL(IF(ISBLANK(Voucher_Date_1819),\"\",IF(ISNUMBER(Voucher_Date_1819),COUNTIF(Voucher_Date_1819,\"<\"&Voucher_Date_1819),COUNTIF(Voucher_Date_1819,\"<\"&Voucher_Date_1819)+SUM(IF(ISNUMBER(Voucher_Date_1819),1,0))+1)),ROW(A531)),IF(ISBLANK(Voucher_Date_1819),\"\",IF(ISNUMBER(Voucher_Date_1819),COUNTIF(Voucher_Date_1819,\"<\"&Voucher_Date_1819),COUNTIF(Voucher_Date_1819,\"<\"&Voucher_Date_1819)+SUM(IF(ISNUMBER(Voucher_Date_1819),1,0))+1)),0))","v":{"$error":"#NUM!"}}]
[{"$f":"INDEX(Voucher_Date_1819,MATCH(ROWS('Bill Register 20-21'!$L$3:'Bill Register 20-21'!L533),COUNTIF(Voucher_Date_1819,\"<=\"&Voucher_Date_1819),0))","v":{"$error":"#N/A"}},{"$f":"INDEX(Voucher_Date_1819,MATCH(SMALL(IF(ISBLANK(Voucher_Date_1819),\"\",IF(ISNUMBER(Voucher_Date_1819),COUNTIF(Voucher_Date_1819,\"<\"&Voucher_Date_1819),COUNTIF(Voucher_Date_1819,\"<\"&Voucher_Date_1819)+SUM(IF(ISNUMBER(Voucher_Date_1819),1,0))+1)),ROW(A532)),IF(ISBLANK(Voucher_Date_1819),\"\",IF(ISNUMBER(Voucher_Date_1819),COUNTIF(Voucher_Date_1819,\"<\"&Voucher_Date_1819),COUNTIF(Voucher_Date_1819,\"<\"&Voucher_Date_1819)+SUM(IF(ISNUMBER(Voucher_Date_1819),1,0))+1)),0))","v":{"$error":"#NUM!"}}]
[{"$f":"INDEX(Voucher_Date_1819,MATCH(ROWS('Bill Register 20-21'!$L$3:'Bill Register 20-21'!L534),COUNTIF(Voucher_Date_1819,\"<=\"&Voucher_Date_1819),0))","v":{"$error":"#N/A"}},{"$f":"INDEX(Voucher_Date_1819,MATCH(SMALL(IF(ISBLANK(Voucher_Date_1819),\"\",IF(ISNUMBER(Voucher_Date_1819),COUNTIF(Voucher_Date_1819,\"<\"&Voucher_Date_1819),COUNTIF(Voucher_Date_1819,\"<\"&Voucher_Date_1819)+SUM(IF(ISNUMBER(Voucher_Date_1819),1,0))+1)),ROW(A533)),IF(ISBLANK(Voucher_Date_1819),\"\",IF(ISNUMBER(Voucher_Date_1819),COUNTIF(Voucher_Date_1819,\"<\"&Voucher_Date_1819),COUNTIF(Voucher_Date_1819,\"<\"&Voucher_Date_1819)+SUM(IF(ISNUMBER(Voucher_Date_1819),1,0))+1)),0))","v":{"$error":"#NUM!"}}]
[{"$f":"INDEX(Voucher_Date_1819,MATCH(ROWS('Bill Register 20-21'!$L$3:'Bill Register 20-21'!L535),COUNTIF(Voucher_Date_1819,\"<=\"&Voucher_Date_1819),0))","v":{"$error":"#N/A"}},{"$f":"INDEX(Voucher_Date_1819,MATCH(SMALL(IF(ISBLANK(Voucher_Date_1819),\"\",IF(ISNUMBER(Voucher_Date_1819),COUNTIF(Voucher_Date_1819,\"<\"&Voucher_Date_1819),COUNTIF(Voucher_Date_1819,\"<\"&Voucher_Date_1819)+SUM(IF(ISNUMBER(Voucher_Date_1819),1,0))+1)),ROW(A534)),IF(ISBLANK(Voucher_Date_1819),\"\",IF(ISNUMBER(Voucher_Date_1819),COUNTIF(Voucher_Date_1819,\"<\"&Voucher_Date_1819),COUNTIF(Voucher_Date_1819,\"<\"&Voucher_Date_1819)+SUM(IF(ISNUMBER(Voucher_Date_1819),1,0))+1)),0))","v":{"$error":"#NUM!"}}]
[{"$f":"INDEX(Voucher_Date_1819,MATCH(ROWS('Bill Register 20-21'!$L$3:'Bill Register 20-21'!L536),COUNTIF(Voucher_Date_1819,\"<=\"&Voucher_Date_1819),0))","v":{"$error":"#N/A"}},{"$f":"INDEX(Voucher_Date_1819,MATCH(SMALL(IF(ISBLANK(Voucher_Date_1819),\"\",IF(ISNUMBER(Voucher_Date_1819),COUNTIF(Voucher_Date_1819,\"<\"&Voucher_Date_1819),COUNTIF(Voucher_Date_1819,\"<\"&Voucher_Date_1819)+SUM(IF(ISNUMBER(Voucher_Date_1819),1,0))+1)),ROW(A535)),IF(ISBLANK(Voucher_Date_1819),\"\",IF(ISNUMBER(Voucher_Date_1819),COUNTIF(Voucher_Date_1819,\"<\"&Voucher_Date_1819),COUNTIF(Voucher_Date_1819,\"<\"&Voucher_Date_1819)+SUM(IF(ISNUMBER(Voucher_Date_1819),1,0))+1)),0))","v":{"$error":"#NUM!"}}]
[{"$f":"INDEX(Voucher_Date_1819,MATCH(ROWS('Bill Register 20-21'!$L$3:'Bill Register 20-21'!L537),COUNTIF(Voucher_Date_1819,\"<=\"&Voucher_Date_1819),0))","v":{"$error":"#N/A"}},{"$f":"INDEX(Voucher_Date_1819,MATCH(SMALL(IF(ISBLANK(Voucher_Date_1819),\"\",IF(ISNUMBER(Voucher_Date_1819),COUNTIF(Voucher_Date_1819,\"<\"&Voucher_Date_1819),COUNTIF(Voucher_Date_1819,\"<\"&Voucher_Date_1819)+SUM(IF(ISNUMBER(Voucher_Date_1819),1,0))+1)),ROW(A536)),IF(ISBLANK(Voucher_Date_1819),\"\",IF(ISNUMBER(Voucher_Date_1819),COUNTIF(Voucher_Date_1819,\"<\"&Voucher_Date_1819),COUNTIF(Voucher_Date_1819,\"<\"&Voucher_Date_1819)+SUM(IF(ISNUMBER(Voucher_Date_1819),1,0))+1)),0))","v":{"$error":"#NUM!"}}]
[{"$f":"INDEX(Voucher_Date_1819,MATCH(ROWS('Bill Register 20-21'!$L$3:'Bill Register 20-21'!L538),COUNTIF(Voucher_Date_1819,\"<=\"&Voucher_Date_1819),0))","v":{"$error":"#N/A"}},{"$f":"INDEX(Voucher_Date_1819,MATCH(SMALL(IF(ISBLANK(Voucher_Date_1819),\"\",IF(ISNUMBER(Voucher_Date_1819),COUNTIF(Voucher_Date_1819,\"<\"&Voucher_Date_1819),COUNTIF(Voucher_Date_1819,\"<\"&Voucher_Date_1819)+SUM(IF(ISNUMBER(Voucher_Date_1819),1,0))+1)),ROW(A537)),IF(ISBLANK(Voucher_Date_1819),\"\",IF(ISNUMBER(Voucher_Date_1819),COUNTIF(Voucher_Date_1819,\"<\"&Voucher_Date_1819),COUNTIF(Voucher_Date_1819,\"<\"&Voucher_Date_1819)+SUM(IF(ISNUMBER(Voucher_Date_1819),1,0))+1)),0))","v":{"$error":"#NUM!"}}]
[{"$f":"INDEX(Voucher_Date_1819,MATCH(ROWS('Bill Register 20-21'!$L$3:'Bill Register 20-21'!L539),COUNTIF(Voucher_Date_1819,\"<=\"&Voucher_Date_1819),0))","v":{"$error":"#N/A"}},{"$f":"INDEX(Voucher_Date_1819,MATCH(SMALL(IF(ISBLANK(Voucher_Date_1819),\"\",IF(ISNUMBER(Voucher_Date_1819),COUNTIF(Voucher_Date_1819,\"<\"&Voucher_Date_1819),COUNTIF(Voucher_Date_1819,\"<\"&Voucher_Date_1819)+SUM(IF(ISNUMBER(Voucher_Date_1819),1,0))+1)),ROW(A538)),IF(ISBLANK(Voucher_Date_1819),\"\",IF(ISNUMBER(Voucher_Date_1819),COUNTIF(Voucher_Date_1819,\"<\"&Voucher_Date_1819),COUNTIF(Voucher_Date_1819,\"<\"&Voucher_Date_1819)+SUM(IF(ISNUMBER(Voucher_Date_1819),1,0))+1)),0))","v":{"$error":"#NUM!"}}]
[{"$f":"INDEX(Voucher_Date_1819,MATCH(ROWS('Bill Register 20-21'!$L$3:'Bill Register 20-21'!L540),COUNTIF(Voucher_Date_1819,\"<=\"&Voucher_Date_1819),0))","v":{"$error":"#N/A"}},{"$f":"INDEX(Voucher_Date_1819,MATCH(SMALL(IF(ISBLANK(Voucher_Date_1819),\"\",IF(ISNUMBER(Voucher_Date_1819),COUNTIF(Voucher_Date_1819,\"<\"&Voucher_Date_1819),COUNTIF(Voucher_Date_1819,\"<\"&Voucher_Date_1819)+SUM(IF(ISNUMBER(Voucher_Date_1819),1,0))+1)),ROW(A539)),IF(ISBLANK(Voucher_Date_1819),\"\",IF(ISNUMBER(Voucher_Date_1819),COUNTIF(Voucher_Date_1819,\"<\"&Voucher_Date_1819),COUNTIF(Voucher_Date_1819,\"<\"&Voucher_Date_1819)+SUM(IF(ISNUMBER(Voucher_Date_1819),1,0))+1)),0))","v":{"$error":"#NUM!"}}]
[{"$f":"INDEX(Voucher_Date_1819,MATCH(ROWS('Bill Register 20-21'!$L$3:'Bill Register 20-21'!L541),COUNTIF(Voucher_Date_1819,\"<=\"&Voucher_Date_1819),0))","v":{"$error":"#N/A"}},{"$f":"INDEX(Voucher_Date_1819,MATCH(SMALL(IF(ISBLANK(Voucher_Date_1819),\"\",IF(ISNUMBER(Voucher_Date_1819),COUNTIF(Voucher_Date_1819,\"<\"&Voucher_Date_1819),COUNTIF(Voucher_Date_1819,\"<\"&Voucher_Date_1819)+SUM(IF(ISNUMBER(Voucher_Date_1819),1,0))+1)),ROW(A540)),IF(ISBLANK(Voucher_Date_1819),\"\",IF(ISNUMBER(Voucher_Date_1819),COUNTIF(Voucher_Date_1819,\"<\"&Voucher_Date_1819),COUNTIF(Voucher_Date_1819,\"<\"&Voucher_Date_1819)+SUM(IF(ISNUMBER(Voucher_Date_1819),1,0))+1)),0))","v":{"$error":"#NUM!"}}]
[{"$f":"INDEX(Voucher_Date_1819,MATCH(ROWS('Bill Register 20-21'!$L$3:'Bill Register 20-21'!L542),COUNTIF(Voucher_Date_1819,\"<=\"&Voucher_Date_1819),0))","v":{"$error":"#N/A"}},{"$f":"INDEX(Voucher_Date_1819,MATCH(SMALL(IF(ISBLANK(Voucher_Date_1819),\"\",IF(ISNUMBER(Voucher_Date_1819),COUNTIF(Voucher_Date_1819,\"<\"&Voucher_Date_1819),COUNTIF(Voucher_Date_1819,\"<\"&Voucher_Date_1819)+SUM(IF(ISNUMBER(Voucher_Date_1819),1,0))+1)),ROW(A541)),IF(ISBLANK(Voucher_Date_1819),\"\",IF(ISNUMBER(Voucher_Date_1819),COUNTIF(Voucher_Date_1819,\"<\"&Voucher_Date_1819),COUNTIF(Voucher_Date_1819,\"<\"&Voucher_Date_1819)+SUM(IF(ISNUMBER(Voucher_Date_1819),1,0))+1)),0))","v":{"$error":"#NUM!"}}]
[{"$f":"INDEX(Voucher_Date_1819,MATCH(ROWS('Bill Register 20-21'!$L$3:'Bill Register 20-21'!L543),COUNTIF(Voucher_Date_1819,\"<=\"&Voucher_Date_1819),0))","v":{"$error":"#N/A"}},{"$f":"INDEX(Voucher_Date_1819,MATCH(SMALL(IF(ISBLANK(Voucher_Date_1819),\"\",IF(ISNUMBER(Voucher_Date_1819),COUNTIF(Voucher_Date_1819,\"<\"&Voucher_Date_1819),COUNTIF(Voucher_Date_1819,\"<\"&Voucher_Date_1819)+SUM(IF(ISNUMBER(Voucher_Date_1819),1,0))+1)),ROW(A542)),IF(ISBLANK(Voucher_Date_1819),\"\",IF(ISNUMBER(Voucher_Date_1819),COUNTIF(Voucher_Date_1819,\"<\"&Voucher_Date_1819),COUNTIF(Voucher_Date_1819,\"<\"&Voucher_Date_1819)+SUM(IF(ISNUMBER(Voucher_Date_1819),1,0))+1)),0))","v":{"$error":"#NUM!"}}]
[{"$f":"INDEX(Voucher_Date_1819,MATCH(ROWS('Bill Register 20-21'!$L$3:'Bill Register 20-21'!L544),COUNTIF(Voucher_Date_1819,\"<=\"&Voucher_Date_1819),0))","v":{"$error":"#N/A"}},{"$f":"INDEX(Voucher_Date_1819,MATCH(SMALL(IF(ISBLANK(Voucher_Date_1819),\"\",IF(ISNUMBER(Voucher_Date_1819),COUNTIF(Voucher_Date_1819,\"<\"&Voucher_Date_1819),COUNTIF(Voucher_Date_1819,\"<\"&Voucher_Date_1819)+SUM(IF(ISNUMBER(Voucher_Date_1819),1,0))+1)),ROW(A543)),IF(ISBLANK(Voucher_Date_1819),\"\",IF(ISNUMBER(Voucher_Date_1819),COUNTIF(Voucher_Date_1819,\"<\"&Voucher_Date_1819),COUNTIF(Voucher_Date_1819,\"<\"&Voucher_Date_1819)+SUM(IF(ISNUMBER(Voucher_Date_1819),1,0))+1)),0))","v":{"$error":"#NUM!"}}]
[{"$f":"INDEX(Voucher_Date_1819,MATCH(ROWS('Bill Register 20-21'!$L$3:'Bill Register 20-21'!L545),COUNTIF(Voucher_Date_1819,\"<=\"&Voucher_Date_1819),0))","v":{"$error":"#N/A"}},{"$f":"INDEX(Voucher_Date_1819,MATCH(SMALL(IF(ISBLANK(Voucher_Date_1819),\"\",IF(ISNUMBER(Voucher_Date_1819),COUNTIF(Voucher_Date_1819,\"<\"&Voucher_Date_1819),COUNTIF(Voucher_Date_1819,\"<\"&Voucher_Date_1819)+SUM(IF(ISNUMBER(Voucher_Date_1819),1,0))+1)),ROW(A544)),IF(ISBLANK(Voucher_Date_1819),\"\",IF(ISNUMBER(Voucher_Date_1819),COUNTIF(Voucher_Date_1819,\"<\"&Voucher_Date_1819),COUNTIF(Voucher_Date_1819,\"<\"&Voucher_Date_1819)+SUM(IF(ISNUMBER(Voucher_Date_1819),1,0))+1)),0))","v":{"$error":"#NUM!"}}]
[{"$f":"INDEX(Voucher_Date_1819,MATCH(ROWS('Bill Register 20-21'!$L$3:'Bill Register 20-21'!L546),COUNTIF(Voucher_Date_1819,\"<=\"&Voucher_Date_1819),0))","v":{"$error":"#N/A"}},{"$f":"INDEX(Voucher_Date_1819,MATCH(SMALL(IF(ISBLANK(Voucher_Date_1819),\"\",IF(ISNUMBER(Voucher_Date_1819),COUNTIF(Voucher_Date_1819,\"<\"&Voucher_Date_1819),COUNTIF(Voucher_Date_1819,\"<\"&Voucher_Date_1819)+SUM(IF(ISNUMBER(Voucher_Date_1819),1,0))+1)),ROW(A545)),IF(ISBLANK(Voucher_Date_1819),\"\",IF(ISNUMBER(Voucher_Date_1819),COUNTIF(Voucher_Date_1819,\"<\"&Voucher_Date_1819),COUNTIF(Voucher_Date_1819,\"<\"&Voucher_Date_1819)+SUM(IF(ISNUMBER(Voucher_Date_1819),1,0))+1)),0))","v":{"$error":"#NUM!"}}]
[{"$f":"INDEX(Voucher_Date_1819,MATCH(ROWS('Bill Register 20-21'!$L$3:'Bill Register 20-21'!L547),COUNTIF(Voucher_Date_1819,\"<=\"&Voucher_Date_1819),0))","v":{"$error":"#N/A"}},{"$f":"INDEX(Voucher_Date_1819,MATCH(SMALL(IF(ISBLANK(Voucher_Date_1819),\"\",IF(ISNUMBER(Voucher_Date_1819),COUNTIF(Voucher_Date_1819,\"<\"&Voucher_Date_1819),COUNTIF(Voucher_Date_1819,\"<\"&Voucher_Date_1819)+SUM(IF(ISNUMBER(Voucher_Date_1819),1,0))+1)),ROW(A546)),IF(ISBLANK(Voucher_Date_1819),\"\",IF(ISNUMBER(Voucher_Date_1819),COUNTIF(Voucher_Date_1819,\"<\"&Voucher_Date_1819),COUNTIF(Voucher_Date_1819,\"<\"&Voucher_Date_1819)+SUM(IF(ISNUMBER(Voucher_Date_1819),1,0))+1)),0))","v":{"$error":"#NUM!"}}]
[{"$f":"INDEX(Voucher_Date_1819,MATCH(ROWS('Bill Register 20-21'!$L$3:'Bill Register 20-21'!L548),COUNTIF(Voucher_Date_1819,\"<=\"&Voucher_Date_1819),0))","v":{"$error":"#N/A"}},{"$f":"INDEX(Voucher_Date_1819,MATCH(SMALL(IF(ISBLANK(Voucher_Date_1819),\"\",IF(ISNUMBER(Voucher_Date_1819),COUNTIF(Voucher_Date_1819,\"<\"&Voucher_Date_1819),COUNTIF(Voucher_Date_1819,\"<\"&Voucher_Date_1819)+SUM(IF(ISNUMBER(Voucher_Date_1819),1,0))+1)),ROW(A547)),IF(ISBLANK(Voucher_Date_1819),\"\",IF(ISNUMBER(Voucher_Date_1819),COUNTIF(Voucher_Date_1819,\"<\"&Voucher_Date_1819),COUNTIF(Voucher_Date_1819,\"<\"&Voucher_Date_1819)+SUM(IF(ISNUMBER(Voucher_Date_1819),1,0))+1)),0))","v":{"$error":"#NUM!"}}]
[{"$f":"INDEX(Voucher_Date_1819,MATCH(ROWS('Bill Register 20-21'!$L$3:'Bill Register 20-21'!L549),COUNTIF(Voucher_Date_1819,\"<=\"&Voucher_Date_1819),0))","v":{"$error":"#N/A"}},{"$f":"INDEX(Voucher_Date_1819,MATCH(SMALL(IF(ISBLANK(Voucher_Date_1819),\"\",IF(ISNUMBER(Voucher_Date_1819),COUNTIF(Voucher_Date_1819,\"<\"&Voucher_Date_1819),COUNTIF(Voucher_Date_1819,\"<\"&Voucher_Date_1819)+SUM(IF(ISNUMBER(Voucher_Date_1819),1,0))+1)),ROW(A548)),IF(ISBLANK(Voucher_Date_1819),\"\",IF(ISNUMBER(Voucher_Date_1819),COUNTIF(Voucher_Date_1819,\"<\"&Voucher_Date_1819),COUNTIF(Voucher_Date_1819,\"<\"&Voucher_Date_1819)+SUM(IF(ISNUMBER(Voucher_Date_1819),1,0))+1)),0))","v":{"$error":"#NUM!"}}]
[{"$f":"INDEX(Voucher_Date_1819,MATCH(ROWS('Bill Register 20-21'!$L$3:'Bill Register 20-21'!L550),COUNTIF(Voucher_Date_1819,\"<=\"&Voucher_Date_1819),0))","v":{"$error":"#N/A"}},{"$f":"INDEX(Voucher_Date_1819,MATCH(SMALL(IF(ISBLANK(Voucher_Date_1819),\"\",IF(ISNUMBER(Voucher_Date_1819),COUNTIF(Voucher_Date_1819,\"<\"&Voucher_Date_1819),COUNTIF(Voucher_Date_1819,\"<\"&Voucher_Date_1819)+SUM(IF(ISNUMBER(Voucher_Date_1819),1,0))+1)),ROW(A549)),IF(ISBLANK(Voucher_Date_1819),\"\",IF(ISNUMBER(Voucher_Date_1819),COUNTIF(Voucher_Date_1819,\"<\"&Voucher_Date_1819),COUNTIF(Voucher_Date_1819,\"<\"&Voucher_Date_1819)+SUM(IF(ISNUMBER(Voucher_Date_1819),1,0))+1)),0))","v":{"$error":"#NUM!"}}]
[{"$f":"INDEX(Voucher_Date_1819,MATCH(ROWS('Bill Register 20-21'!$L$3:'Bill Register 20-21'!L551),COUNTIF(Voucher_Date_1819,\"<=\"&Voucher_Date_1819),0))","v":{"$error":"#N/A"}},{"$f":"INDEX(Voucher_Date_1819,MATCH(SMALL(IF(ISBLANK(Voucher_Date_1819),\"\",IF(ISNUMBER(Voucher_Date_1819),COUNTIF(Voucher_Date_1819,\"<\"&Voucher_Date_1819),COUNTIF(Voucher_Date_1819,\"<\"&Voucher_Date_1819)+SUM(IF(ISNUMBER(Voucher_Date_1819),1,0))+1)),ROW(A550)),IF(ISBLANK(Voucher_Date_1819),\"\",IF(ISNUMBER(Voucher_Date_1819),COUNTIF(Voucher_Date_1819,\"<\"&Voucher_Date_1819),COUNTIF(Voucher_Date_1819,\"<\"&Voucher_Date_1819)+SUM(IF(ISNUMBER(Voucher_Date_1819),1,0))+1)),0))","v":{"$error":"#NUM!"}}]
[{"$f":"INDEX(Voucher_Date_1819,MATCH(ROWS('Bill Register 20-21'!$L$3:'Bill Register 20-21'!L552),COUNTIF(Voucher_Date_1819,\"<=\"&Voucher_Date_1819),0))","v":{"$error":"#N/A"}},{"$f":"INDEX(Voucher_Date_1819,MATCH(SMALL(IF(ISBLANK(Voucher_Date_1819),\"\",IF(ISNUMBER(Voucher_Date_1819),COUNTIF(Voucher_Date_1819,\"<\"&Voucher_Date_1819),COUNTIF(Voucher_Date_1819,\"<\"&Voucher_Date_1819)+SUM(IF(ISNUMBER(Voucher_Date_1819),1,0))+1)),ROW(A551)),IF(ISBLANK(Voucher_Date_1819),\"\",IF(ISNUMBER(Voucher_Date_1819),COUNTIF(Voucher_Date_1819,\"<\"&Voucher_Date_1819),COUNTIF(Voucher_Date_1819,\"<\"&Voucher_Date_1819)+SUM(IF(ISNUMBER(Voucher_Date_1819),1,0))+1)),0))","v":{"$error":"#NUM!"}}]
[{"$f":"INDEX(Voucher_Date_1819,MATCH(ROWS('Bill Register 20-21'!$L$3:'Bill Register 20-21'!L553),COUNTIF(Voucher_Date_1819,\"<=\"&Voucher_Date_1819),0))","v":{"$error":"#N/A"}},{"$f":"INDEX(Voucher_Date_1819,MATCH(SMALL(IF(ISBLANK(Voucher_Date_1819),\"\",IF(ISNUMBER(Voucher_Date_1819),COUNTIF(Voucher_Date_1819,\"<\"&Voucher_Date_1819),COUNTIF(Voucher_Date_1819,\"<\"&Voucher_Date_1819)+SUM(IF(ISNUMBER(Voucher_Date_1819),1,0))+1)),ROW(A552)),IF(ISBLANK(Voucher_Date_1819),\"\",IF(ISNUMBER(Voucher_Date_1819),COUNTIF(Voucher_Date_1819,\"<\"&Voucher_Date_1819),COUNTIF(Voucher_Date_1819,\"<\"&Voucher_Date_1819)+SUM(IF(ISNUMBER(Voucher_Date_1819),1,0))+1)),0))","v":{"$error":"#NUM!"}}]
[{"$f":"INDEX(Voucher_Date_1819,MATCH(ROWS('Bill Register 20-21'!$L$3:'Bill Register 20-21'!L554),COUNTIF(Voucher_Date_1819,\"<=\"&Voucher_Date_1819),0))","v":{"$error":"#N/A"}},{"$f":"INDEX(Voucher_Date_1819,MATCH(SMALL(IF(ISBLANK(Voucher_Date_1819),\"\",IF(ISNUMBER(Voucher_Date_1819),COUNTIF(Voucher_Date_1819,\"<\"&Voucher_Date_1819),COUNTIF(Voucher_Date_1819,\"<\"&Voucher_Date_1819)+SUM(IF(ISNUMBER(Voucher_Date_1819),1,0))+1)),ROW(A553)),IF(ISBLANK(Voucher_Date_1819),\"\",IF(ISNUMBER(Voucher_Date_1819),COUNTIF(Voucher_Date_1819,\"<\"&Voucher_Date_1819),COUNTIF(Voucher_Date_1819,\"<\"&Voucher_Date_1819)+SUM(IF(ISNUMBER(Voucher_Date_1819),1,0))+1)),0))","v":{"$error":"#NUM!"}}]
[{"$f":"INDEX(Voucher_Date_1819,MATCH(ROWS('Bill Register 20-21'!$L$3:'Bill Register 20-21'!L555),COUNTIF(Voucher_Date_1819,\"<=\"&Voucher_Date_1819),0))","v":{"$error":"#N/A"}},{"$f":"INDEX(Voucher_Date_1819,MATCH(SMALL(IF(ISBLANK(Voucher_Date_1819),\"\",IF(ISNUMBER(Voucher_Date_1819),COUNTIF(Voucher_Date_1819,\"<\"&Voucher_Date_1819),COUNTIF(Voucher_Date_1819,\"<\"&Voucher_Date_1819)+SUM(IF(ISNUMBER(Voucher_Date_1819),1,0))+1)),ROW(A554)),IF(ISBLANK(Voucher_Date_1819),\"\",IF(ISNUMBER(Voucher_Date_1819),COUNTIF(Voucher_Date_1819,\"<\"&Voucher_Date_1819),COUNTIF(Voucher_Date_1819,\"<\"&Voucher_Date_1819)+SUM(IF(ISNUMBER(Voucher_Date_1819),1,0))+1)),0))","v":{"$error":"#NUM!"}}]
[{"$f":"INDEX(Voucher_Date_1819,MATCH(ROWS('Bill Register 20-21'!$L$3:'Bill Register 20-21'!L556),COUNTIF(Voucher_Date_1819,\"<=\"&Voucher_Date_1819),0))","v":{"$error":"#N/A"}},{"$f":"INDEX(Voucher_Date_1819,MATCH(SMALL(IF(ISBLANK(Voucher_Date_1819),\"\",IF(ISNUMBER(Voucher_Date_1819),COUNTIF(Voucher_Date_1819,\"<\"&Voucher_Date_1819),COUNTIF(Voucher_Date_1819,\"<\"&Voucher_Date_1819)+SUM(IF(ISNUMBER(Voucher_Date_1819),1,0))+1)),ROW(A555)),IF(ISBLANK(Voucher_Date_1819),\"\",IF(ISNUMBER(Voucher_Date_1819),COUNTIF(Voucher_Date_1819,\"<\"&Voucher_Date_1819),COUNTIF(Voucher_Date_1819,\"<\"&Voucher_Date_1819)+SUM(IF(ISNUMBER(Voucher_Date_1819),1,0))+1)),0))","v":{"$error":"#NUM!"}}]
[{"$f":"INDEX(Voucher_Date_1819,MATCH(ROWS('Bill Register 20-21'!$L$3:'Bill Register 20-21'!L557),COUNTIF(Voucher_Date_1819,\"<=\"&Voucher_Date_1819),0))","v":{"$error":"#N/A"}},{"$f":"INDEX(Voucher_Date_1819,MATCH(SMALL(IF(ISBLANK(Voucher_Date_1819),\"\",IF(ISNUMBER(Voucher_Date_1819),COUNTIF(Voucher_Date_1819,\"<\"&Voucher_Date_1819),COUNTIF(Voucher_Date_1819,\"<\"&Voucher_Date_1819)+SUM(IF(ISNUMBER(Voucher_Date_1819),1,0))+1)),ROW(A556)),IF(ISBLANK(Voucher_Date_1819),\"\",IF(ISNUMBER(Voucher_Date_1819),COUNTIF(Voucher_Date_1819,\"<\"&Voucher_Date_1819),COUNTIF(Voucher_Date_1819,\"<\"&Voucher_Date_1819)+SUM(IF(ISNUMBER(Voucher_Date_1819),1,0))+1)),0))","v":{"$error":"#NUM!"}}]
[{"$f":"INDEX(Voucher_Date_1819,MATCH(ROWS('Bill Register 20-21'!$L$3:'Bill Register 20-21'!L558),COUNTIF(Voucher_Date_1819,\"<=\"&Voucher_Date_1819),0))","v":{"$error":"#N/A"}},{"$f":"INDEX(Voucher_Date_1819,MATCH(SMALL(IF(ISBLANK(Voucher_Date_1819),\"\",IF(ISNUMBER(Voucher_Date_1819),COUNTIF(Voucher_Date_1819,\"<\"&Voucher_Date_1819),COUNTIF(Voucher_Date_1819,\"<\"&Voucher_Date_1819)+SUM(IF(ISNUMBER(Voucher_Date_1819),1,0))+1)),ROW(A557)),IF(ISBLANK(Voucher_Date_1819),\"\",IF(ISNUMBER(Voucher_Date_1819),COUNTIF(Voucher_Date_1819,\"<\"&Voucher_Date_1819),COUNTIF(Voucher_Date_1819,\"<\"&Voucher_Date_1819)+SUM(IF(ISNUMBER(Voucher_Date_1819),1,0))+1)),0))","v":{"$error":"#NUM!"}}]
[{"$f":"INDEX(Voucher_Date_1819,MATCH(ROWS('Bill Register 20-21'!$L$3:'Bill Register 20-21'!L559),COUNTIF(Voucher_Date_1819,\"<=\"&Voucher_Date_1819),0))","v":{"$error":"#N/A"}},{"$f":"INDEX(Voucher_Date_1819,MATCH(SMALL(IF(ISBLANK(Voucher_Date_1819),\"\",IF(ISNUMBER(Voucher_Date_1819),COUNTIF(Voucher_Date_1819,\"<\"&Voucher_Date_1819),COUNTIF(Voucher_Date_1819,\"<\"&Voucher_Date_1819)+SUM(IF(ISNUMBER(Voucher_Date_1819),1,0))+1)),ROW(A558)),IF(ISBLANK(Voucher_Date_1819),\"\",IF(ISNUMBER(Voucher_Date_1819),COUNTIF(Voucher_Date_1819,\"<\"&Voucher_Date_1819),COUNTIF(Voucher_Date_1819,\"<\"&Voucher_Date_1819)+SUM(IF(ISNUMBER(Voucher_Date_1819),1,0))+1)),0))","v":{"$error":"#NUM!"}}]
[{"$f":"INDEX(Voucher_Date_1819,MATCH(ROWS('Bill Register 20-21'!$L$3:'Bill Register 20-21'!L560),COUNTIF(Voucher_Date_1819,\"<=\"&Voucher_Date_1819),0))","v":{"$error":"#N/A"}},{"$f":"INDEX(Voucher_Date_1819,MATCH(SMALL(IF(ISBLANK(Voucher_Date_1819),\"\",IF(ISNUMBER(Voucher_Date_1819),COUNTIF(Voucher_Date_1819,\"<\"&Voucher_Date_1819),COUNTIF(Voucher_Date_1819,\"<\"&Voucher_Date_1819)+SUM(IF(ISNUMBER(Voucher_Date_1819),1,0))+1)),ROW(A559)),IF(ISBLANK(Voucher_Date_1819),\"\",IF(ISNUMBER(Voucher_Date_1819),COUNTIF(Voucher_Date_1819,\"<\"&Voucher_Date_1819),COUNTIF(Voucher_Date_1819,\"<\"&Voucher_Date_1819)+SUM(IF(ISNUMBER(Voucher_Date_1819),1,0))+1)),0))","v":{"$error":"#NUM!"}}]
[{"$f":"INDEX(Voucher_Date_1819,MATCH(ROWS('Bill Register 20-21'!$L$3:'Bill Register 20-21'!L561),COUNTIF(Voucher_Date_1819,\"<=\"&Voucher_Date_1819),0))","v":{"$error":"#N/A"}},{"$f":"INDEX(Voucher_Date_1819,MATCH(SMALL(IF(ISBLANK(Voucher_Date_1819),\"\",IF(ISNUMBER(Voucher_Date_1819),COUNTIF(Voucher_Date_1819,\"<\"&Voucher_Date_1819),COUNTIF(Voucher_Date_1819,\"<\"&Voucher_Date_1819)+SUM(IF(ISNUMBER(Voucher_Date_1819),1,0))+1)),ROW(A560)),IF(ISBLANK(Voucher_Date_1819),\"\",IF(ISNUMBER(Voucher_Date_1819),COUNTIF(Voucher_Date_1819,\"<\"&Voucher_Date_1819),COUNTIF(Voucher_Date_1819,\"<\"&Voucher_Date_1819)+SUM(IF(ISNUMBER(Voucher_Date_1819),1,0))+1)),0))","v":{"$error":"#NUM!"}}]
[{"$f":"INDEX(Voucher_Date_1819,MATCH(ROWS('Bill Register 20-21'!$L$3:'Bill Register 20-21'!L562),COUNTIF(Voucher_Date_1819,\"<=\"&Voucher_Date_1819),0))","v":{"$error":"#N/A"}},{"$f":"INDEX(Voucher_Date_1819,MATCH(SMALL(IF(ISBLANK(Voucher_Date_1819),\"\",IF(ISNUMBER(Voucher_Date_1819),COUNTIF(Voucher_Date_1819,\"<\"&Voucher_Date_1819),COUNTIF(Voucher_Date_1819,\"<\"&Voucher_Date_1819)+SUM(IF(ISNUMBER(Voucher_Date_1819),1,0))+1)),ROW(A561)),IF(ISBLANK(Voucher_Date_1819),\"\",IF(ISNUMBER(Voucher_Date_1819),COUNTIF(Voucher_Date_1819,\"<\"&Voucher_Date_1819),COUNTIF(Voucher_Date_1819,\"<\"&Voucher_Date_1819)+SUM(IF(ISNUMBER(Voucher_Date_1819),1,0))+1)),0))","v":{"$error":"#NUM!"}}]
[{"$f":"INDEX(Voucher_Date_1819,MATCH(ROWS('Bill Register 20-21'!$L$3:'Bill Register 20-21'!L563),COUNTIF(Voucher_Date_1819,\"<=\"&Voucher_Date_1819),0))","v":{"$error":"#N/A"}},{"$f":"INDEX(Voucher_Date_1819,MATCH(SMALL(IF(ISBLANK(Voucher_Date_1819),\"\",IF(ISNUMBER(Voucher_Date_1819),COUNTIF(Voucher_Date_1819,\"<\"&Voucher_Date_1819),COUNTIF(Voucher_Date_1819,\"<\"&Voucher_Date_1819)+SUM(IF(ISNUMBER(Voucher_Date_1819),1,0))+1)),ROW(A562)),IF(ISBLANK(Voucher_Date_1819),\"\",IF(ISNUMBER(Voucher_Date_1819),COUNTIF(Voucher_Date_1819,\"<\"&Voucher_Date_1819),COUNTIF(Voucher_Date_1819,\"<\"&Voucher_Date_1819)+SUM(IF(ISNUMBER(Voucher_Date_1819),1,0))+1)),0))","v":{"$error":"#NUM!"}}]
[{"$f":"INDEX(Voucher_Date_1819,MATCH(ROWS('Bill Register 20-21'!$L$3:'Bill Register 20-21'!L564),COUNTIF(Voucher_Date_1819,\"<=\"&Voucher_Date_1819),0))","v":{"$error":"#N/A"}},{"$f":"INDEX(Voucher_Date_1819,MATCH(SMALL(IF(ISBLANK(Voucher_Date_1819),\"\",IF(ISNUMBER(Voucher_Date_1819),COUNTIF(Voucher_Date_1819,\"<\"&Voucher_Date_1819),COUNTIF(Voucher_Date_1819,\"<\"&Voucher_Date_1819)+SUM(IF(ISNUMBER(Voucher_Date_1819),1,0))+1)),ROW(A563)),IF(ISBLANK(Voucher_Date_1819),\"\",IF(ISNUMBER(Voucher_Date_1819),COUNTIF(Voucher_Date_1819,\"<\"&Voucher_Date_1819),COUNTIF(Voucher_Date_1819,\"<\"&Voucher_Date_1819)+SUM(IF(ISNUMBER(Voucher_Date_1819),1,0))+1)),0))","v":{"$error":"#NUM!"}}]
[{"$f":"INDEX(Voucher_Date_1819,MATCH(ROWS('Bill Register 20-21'!$L$3:'Bill Register 20-21'!L565),COUNTIF(Voucher_Date_1819,\"<=\"&Voucher_Date_1819),0))","v":{"$error":"#N/A"}},{"$f":"INDEX(Voucher_Date_1819,MATCH(SMALL(IF(ISBLANK(Voucher_Date_1819),\"\",IF(ISNUMBER(Voucher_Date_1819),COUNTIF(Voucher_Date_1819,\"<\"&Voucher_Date_1819),COUNTIF(Voucher_Date_1819,\"<\"&Voucher_Date_1819)+SUM(IF(ISNUMBER(Voucher_Date_1819),1,0))+1)),ROW(A564)),IF(ISBLANK(Voucher_Date_1819),\"\",IF(ISNUMBER(Voucher_Date_1819),COUNTIF(Voucher_Date_1819,\"<\"&Voucher_Date_1819),COUNTIF(Voucher_Date_1819,\"<\"&Voucher_Date_1819)+SUM(IF(ISNUMBER(Voucher_Date_1819),1,0))+1)),0))","v":{"$error":"#NUM!"}}]
[{"$f":"INDEX(Voucher_Date_1819,MATCH(ROWS('Bill Register 20-21'!$L$3:'Bill Register 20-21'!L566),COUNTIF(Voucher_Date_1819,\"<=\"&Voucher_Date_1819),0))","v":{"$error":"#N/A"}},{"$f":"INDEX(Voucher_Date_1819,MATCH(SMALL(IF(ISBLANK(Voucher_Date_1819),\"\",IF(ISNUMBER(Voucher_Date_1819),COUNTIF(Voucher_Date_1819,\"<\"&Voucher_Date_1819),COUNTIF(Voucher_Date_1819,\"<\"&Voucher_Date_1819)+SUM(IF(ISNUMBER(Voucher_Date_1819),1,0))+1)),ROW(A565)),IF(ISBLANK(Voucher_Date_1819),\"\",IF(ISNUMBER(Voucher_Date_1819),COUNTIF(Voucher_Date_1819,\"<\"&Voucher_Date_1819),COUNTIF(Voucher_Date_1819,\"<\"&Voucher_Date_1819)+SUM(IF(ISNUMBER(Voucher_Date_1819),1,0))+1)),0))","v":{"$error":"#NUM!"}}]
[{"$f":"INDEX(Voucher_Date_1819,MATCH(ROWS('Bill Register 20-21'!$L$3:'Bill Register 20-21'!L567),COUNTIF(Voucher_Date_1819,\"<=\"&Voucher_Date_1819),0))","v":{"$error":"#N/A"}},{"$f":"INDEX(Voucher_Date_1819,MATCH(SMALL(IF(ISBLANK(Voucher_Date_1819),\"\",IF(ISNUMBER(Voucher_Date_1819),COUNTIF(Voucher_Date_1819,\"<\"&Voucher_Date_1819),COUNTIF(Voucher_Date_1819,\"<\"&Voucher_Date_1819)+SUM(IF(ISNUMBER(Voucher_Date_1819),1,0))+1)),ROW(A566)),IF(ISBLANK(Voucher_Date_1819),\"\",IF(ISNUMBER(Voucher_Date_1819),COUNTIF(Voucher_Date_1819,\"<\"&Voucher_Date_1819),COUNTIF(Voucher_Date_1819,\"<\"&Voucher_Date_1819)+SUM(IF(ISNUMBER(Voucher_Date_1819),1,0))+1)),0))","v":{"$error":"#NUM!"}}]
[{"$f":"INDEX(Voucher_Date_1819,MATCH(ROWS('Bill Register 20-21'!$L$3:'Bill Register 20-21'!L568),COUNTIF(Voucher_Date_1819,\"<=\"&Voucher_Date_1819),0))","v":{"$error":"#N/A"}},{"$f":"INDEX(Voucher_Date_1819,MATCH(SMALL(IF(ISBLANK(Voucher_Date_1819),\"\",IF(ISNUMBER(Voucher_Date_1819),COUNTIF(Voucher_Date_1819,\"<\"&Voucher_Date_1819),COUNTIF(Voucher_Date_1819,\"<\"&Voucher_Date_1819)+SUM(IF(ISNUMBER(Voucher_Date_1819),1,0))+1)),ROW(A567)),IF(ISBLANK(Voucher_Date_1819),\"\",IF(ISNUMBER(Voucher_Date_1819),COUNTIF(Voucher_Date_1819,\"<\"&Voucher_Date_1819),COUNTIF(Voucher_Date_1819,\"<\"&Voucher_Date_1819)+SUM(IF(ISNUMBER(Voucher_Date_1819),1,0))+1)),0))","v":{"$error":"#NUM!"}}]
[{"$f":"INDEX(Voucher_Date_1819,MATCH(ROWS('Bill Register 20-21'!$L$3:'Bill Register 20-21'!L569),COUNTIF(Voucher_Date_1819,\"<=\"&Voucher_Date_1819),0))","v":{"$error":"#N/A"}},{"$f":"INDEX(Voucher_Date_1819,MATCH(SMALL(IF(ISBLANK(Voucher_Date_1819),\"\",IF(ISNUMBER(Voucher_Date_1819),COUNTIF(Voucher_Date_1819,\"<\"&Voucher_Date_1819),COUNTIF(Voucher_Date_1819,\"<\"&Voucher_Date_1819)+SUM(IF(ISNUMBER(Voucher_Date_1819),1,0))+1)),ROW(A568)),IF(ISBLANK(Voucher_Date_1819),\"\",IF(ISNUMBER(Voucher_Date_1819),COUNTIF(Voucher_Date_1819,\"<\"&Voucher_Date_1819),COUNTIF(Voucher_Date_1819,\"<\"&Voucher_Date_1819)+SUM(IF(ISNUMBER(Voucher_Date_1819),1,0))+1)),0))","v":{"$error":"#NUM!"}}]
[{"$f":"INDEX(Voucher_Date_1819,MATCH(ROWS('Bill Register 20-21'!$L$3:'Bill Register 20-21'!L570),COUNTIF(Voucher_Date_1819,\"<=\"&Voucher_Date_1819),0))","v":{"$error":"#N/A"}},{"$f":"INDEX(Voucher_Date_1819,MATCH(SMALL(IF(ISBLANK(Voucher_Date_1819),\"\",IF(ISNUMBER(Voucher_Date_1819),COUNTIF(Voucher_Date_1819,\"<\"&Voucher_Date_1819),COUNTIF(Voucher_Date_1819,\"<\"&Voucher_Date_1819)+SUM(IF(ISNUMBER(Voucher_Date_1819),1,0))+1)),ROW(A569)),IF(ISBLANK(Voucher_Date_1819),\"\",IF(ISNUMBER(Voucher_Date_1819),COUNTIF(Voucher_Date_1819,\"<\"&Voucher_Date_1819),COUNTIF(Voucher_Date_1819,\"<\"&Voucher_Date_1819)+SUM(IF(ISNUMBER(Voucher_Date_1819),1,0))+1)),0))","v":{"$error":"#NUM!"}}]
[{"$f":"INDEX(Voucher_Date_1819,MATCH(ROWS('Bill Register 20-21'!$L$3:'Bill Register 20-21'!L571),COUNTIF(Voucher_Date_1819,\"<=\"&Voucher_Date_1819),0))","v":{"$error":"#N/A"}},{"$f":"INDEX(Voucher_Date_1819,MATCH(SMALL(IF(ISBLANK(Voucher_Date_1819),\"\",IF(ISNUMBER(Voucher_Date_1819),COUNTIF(Voucher_Date_1819,\"<\"&Voucher_Date_1819),COUNTIF(Voucher_Date_1819,\"<\"&Voucher_Date_1819)+SUM(IF(ISNUMBER(Voucher_Date_1819),1,0))+1)),ROW(A570)),IF(ISBLANK(Voucher_Date_1819),\"\",IF(ISNUMBER(Voucher_Date_1819),COUNTIF(Voucher_Date_1819,\"<\"&Voucher_Date_1819),COUNTIF(Voucher_Date_1819,\"<\"&Voucher_Date_1819)+SUM(IF(ISNUMBER(Voucher_Date_1819),1,0))+1)),0))","v":{"$error":"#NUM!"}}]
[{"$f":"INDEX(Voucher_Date_1819,MATCH(ROWS('Bill Register 20-21'!$L$3:'Bill Register 20-21'!L572),COUNTIF(Voucher_Date_1819,\"<=\"&Voucher_Date_1819),0))","v":{"$error":"#N/A"}},{"$f":"INDEX(Voucher_Date_1819,MATCH(SMALL(IF(ISBLANK(Voucher_Date_1819),\"\",IF(ISNUMBER(Voucher_Date_1819),COUNTIF(Voucher_Date_1819,\"<\"&Voucher_Date_1819),COUNTIF(Voucher_Date_1819,\"<\"&Voucher_Date_1819)+SUM(IF(ISNUMBER(Voucher_Date_1819),1,0))+1)),ROW(A571)),IF(ISBLANK(Voucher_Date_1819),\"\",IF(ISNUMBER(Voucher_Date_1819),COUNTIF(Voucher_Date_1819,\"<\"&Voucher_Date_1819),COUNTIF(Voucher_Date_1819,\"<\"&Voucher_Date_1819)+SUM(IF(ISNUMBER(Voucher_Date_1819),1,0))+1)),0))","v":{"$error":"#NUM!"}}]
[{"$f":"INDEX(Voucher_Date_1819,MATCH(ROWS('Bill Register 20-21'!$L$3:'Bill Register 20-21'!L573),COUNTIF(Voucher_Date_1819,\"<=\"&Voucher_Date_1819),0))","v":{"$error":"#N/A"}},{"$f":"INDEX(Voucher_Date_1819,MATCH(SMALL(IF(ISBLANK(Voucher_Date_1819),\"\",IF(ISNUMBER(Voucher_Date_1819),COUNTIF(Voucher_Date_1819,\"<\"&Voucher_Date_1819),COUNTIF(Voucher_Date_1819,\"<\"&Voucher_Date_1819)+SUM(IF(ISNUMBER(Voucher_Date_1819),1,0))+1)),ROW(A572)),IF(ISBLANK(Voucher_Date_1819),\"\",IF(ISNUMBER(Voucher_Date_1819),COUNTIF(Voucher_Date_1819,\"<\"&Voucher_Date_1819),COUNTIF(Voucher_Date_1819,\"<\"&Voucher_Date_1819)+SUM(IF(ISNUMBER(Voucher_Date_1819),1,0))+1)),0))","v":{"$error":"#NUM!"}}]
[{"$f":"INDEX(Voucher_Date_1819,MATCH(ROWS('Bill Register 20-21'!$L$3:'Bill Register 20-21'!L574),COUNTIF(Voucher_Date_1819,\"<=\"&Voucher_Date_1819),0))","v":{"$error":"#N/A"}},{"$f":"INDEX(Voucher_Date_1819,MATCH(SMALL(IF(ISBLANK(Voucher_Date_1819),\"\",IF(ISNUMBER(Voucher_Date_1819),COUNTIF(Voucher_Date_1819,\"<\"&Voucher_Date_1819),COUNTIF(Voucher_Date_1819,\"<\"&Voucher_Date_1819)+SUM(IF(ISNUMBER(Voucher_Date_1819),1,0))+1)),ROW(A573)),IF(ISBLANK(Voucher_Date_1819),\"\",IF(ISNUMBER(Voucher_Date_1819),COUNTIF(Voucher_Date_1819,\"<\"&Voucher_Date_1819),COUNTIF(Voucher_Date_1819,\"<\"&Voucher_Date_1819)+SUM(IF(ISNUMBER(Voucher_Date_1819),1,0))+1)),0))","v":{"$error":"#NUM!"}}]
[{"$f":"INDEX(Voucher_Date_1819,MATCH(ROWS('Bill Register 20-21'!$L$3:'Bill Register 20-21'!L575),COUNTIF(Voucher_Date_1819,\"<=\"&Voucher_Date_1819),0))","v":{"$error":"#N/A"}},{"$f":"INDEX(Voucher_Date_1819,MATCH(SMALL(IF(ISBLANK(Voucher_Date_1819),\"\",IF(ISNUMBER(Voucher_Date_1819),COUNTIF(Voucher_Date_1819,\"<\"&Voucher_Date_1819),COUNTIF(Voucher_Date_1819,\"<\"&Voucher_Date_1819)+SUM(IF(ISNUMBER(Voucher_Date_1819),1,0))+1)),ROW(A574)),IF(ISBLANK(Voucher_Date_1819),\"\",IF(ISNUMBER(Voucher_Date_1819),COUNTIF(Voucher_Date_1819,\"<\"&Voucher_Date_1819),COUNTIF(Voucher_Date_1819,\"<\"&Voucher_Date_1819)+SUM(IF(ISNUMBER(Voucher_Date_1819),1,0))+1)),0))","v":{"$error":"#NUM!"}}]
[{"$f":"INDEX(Voucher_Date_1819,MATCH(ROWS('Bill Register 20-21'!$L$3:'Bill Register 20-21'!L576),COUNTIF(Voucher_Date_1819,\"<=\"&Voucher_Date_1819),0))","v":{"$error":"#N/A"}},{"$f":"INDEX(Voucher_Date_1819,MATCH(SMALL(IF(ISBLANK(Voucher_Date_1819),\"\",IF(ISNUMBER(Voucher_Date_1819),COUNTIF(Voucher_Date_1819,\"<\"&Voucher_Date_1819),COUNTIF(Voucher_Date_1819,\"<\"&Voucher_Date_1819)+SUM(IF(ISNUMBER(Voucher_Date_1819),1,0))+1)),ROW(A575)),IF(ISBLANK(Voucher_Date_1819),\"\",IF(ISNUMBER(Voucher_Date_1819),COUNTIF(Voucher_Date_1819,\"<\"&Voucher_Date_1819),COUNTIF(Voucher_Date_1819,\"<\"&Voucher_Date_1819)+SUM(IF(ISNUMBER(Voucher_Date_1819),1,0))+1)),0))","v":{"$error":"#NUM!"}}]
[{"$f":"INDEX(Voucher_Date_1819,MATCH(ROWS('Bill Register 20-21'!$L$3:'Bill Register 20-21'!L577),COUNTIF(Voucher_Date_1819,\"<=\"&Voucher_Date_1819),0))","v":{"$error":"#N/A"}},{"$f":"INDEX(Voucher_Date_1819,MATCH(SMALL(IF(ISBLANK(Voucher_Date_1819),\"\",IF(ISNUMBER(Voucher_Date_1819),COUNTIF(Voucher_Date_1819,\"<\"&Voucher_Date_1819),COUNTIF(Voucher_Date_1819,\"<\"&Voucher_Date_1819)+SUM(IF(ISNUMBER(Voucher_Date_1819),1,0))+1)),ROW(A576)),IF(ISBLANK(Voucher_Date_1819),\"\",IF(ISNUMBER(Voucher_Date_1819),COUNTIF(Voucher_Date_1819,\"<\"&Voucher_Date_1819),COUNTIF(Voucher_Date_1819,\"<\"&Voucher_Date_1819)+SUM(IF(ISNUMBER(Voucher_Date_1819),1,0))+1)),0))","v":{"$error":"#NUM!"}}]
[{"$f":"INDEX(Voucher_Date_1819,MATCH(ROWS('Bill Register 20-21'!$L$3:'Bill Register 20-21'!L578),COUNTIF(Voucher_Date_1819,\"<=\"&Voucher_Date_1819),0))","v":{"$error":"#N/A"}},{"$f":"INDEX(Voucher_Date_1819,MATCH(SMALL(IF(ISBLANK(Voucher_Date_1819),\"\",IF(ISNUMBER(Voucher_Date_1819),COUNTIF(Voucher_Date_1819,\"<\"&Voucher_Date_1819),COUNTIF(Voucher_Date_1819,\"<\"&Voucher_Date_1819)+SUM(IF(ISNUMBER(Voucher_Date_1819),1,0))+1)),ROW(A577)),IF(ISBLANK(Voucher_Date_1819),\"\",IF(ISNUMBER(Voucher_Date_1819),COUNTIF(Voucher_Date_1819,\"<\"&Voucher_Date_1819),COUNTIF(Voucher_Date_1819,\"<\"&Voucher_Date_1819)+SUM(IF(ISNUMBER(Voucher_Date_1819),1,0))+1)),0))","v":{"$error":"#NUM!"}}]
[{"$f":"INDEX(Voucher_Date_1819,MATCH(ROWS('Bill Register 20-21'!$L$3:'Bill Register 20-21'!L579),COUNTIF(Voucher_Date_1819,\"<=\"&Voucher_Date_1819),0))","v":{"$error":"#N/A"}},{"$f":"INDEX(Voucher_Date_1819,MATCH(SMALL(IF(ISBLANK(Voucher_Date_1819),\"\",IF(ISNUMBER(Voucher_Date_1819),COUNTIF(Voucher_Date_1819,\"<\"&Voucher_Date_1819),COUNTIF(Voucher_Date_1819,\"<\"&Voucher_Date_1819)+SUM(IF(ISNUMBER(Voucher_Date_1819),1,0))+1)),ROW(A578)),IF(ISBLANK(Voucher_Date_1819),\"\",IF(ISNUMBER(Voucher_Date_1819),COUNTIF(Voucher_Date_1819,\"<\"&Voucher_Date_1819),COUNTIF(Voucher_Date_1819,\"<\"&Voucher_Date_1819)+SUM(IF(ISNUMBER(Voucher_Date_1819),1,0))+1)),0))","v":{"$error":"#NUM!"}}]
[{"$f":"INDEX(Voucher_Date_1819,MATCH(ROWS('Bill Register 20-21'!$L$3:'Bill Register 20-21'!L580),COUNTIF(Voucher_Date_1819,\"<=\"&Voucher_Date_1819),0))","v":{"$error":"#N/A"}},{"$f":"INDEX(Voucher_Date_1819,MATCH(SMALL(IF(ISBLANK(Voucher_Date_1819),\"\",IF(ISNUMBER(Voucher_Date_1819),COUNTIF(Voucher_Date_1819,\"<\"&Voucher_Date_1819),COUNTIF(Voucher_Date_1819,\"<\"&Voucher_Date_1819)+SUM(IF(ISNUMBER(Voucher_Date_1819),1,0))+1)),ROW(A579)),IF(ISBLANK(Voucher_Date_1819),\"\",IF(ISNUMBER(Voucher_Date_1819),COUNTIF(Voucher_Date_1819,\"<\"&Voucher_Date_1819),COUNTIF(Voucher_Date_1819,\"<\"&Voucher_Date_1819)+SUM(IF(ISNUMBER(Voucher_Date_1819),1,0))+1)),0))","v":{"$error":"#NUM!"}}]
[{"$f":"INDEX(Voucher_Date_1819,MATCH(ROWS('Bill Register 20-21'!$L$3:'Bill Register 20-21'!L581),COUNTIF(Voucher_Date_1819,\"<=\"&Voucher_Date_1819),0))","v":{"$error":"#N/A"}},{"$f":"INDEX(Voucher_Date_1819,MATCH(SMALL(IF(ISBLANK(Voucher_Date_1819),\"\",IF(ISNUMBER(Voucher_Date_1819),COUNTIF(Voucher_Date_1819,\"<\"&Voucher_Date_1819),COUNTIF(Voucher_Date_1819,\"<\"&Voucher_Date_1819)+SUM(IF(ISNUMBER(Voucher_Date_1819),1,0))+1)),ROW(A580)),IF(ISBLANK(Voucher_Date_1819),\"\",IF(ISNUMBER(Voucher_Date_1819),COUNTIF(Voucher_Date_1819,\"<\"&Voucher_Date_1819),COUNTIF(Voucher_Date_1819,\"<\"&Voucher_Date_1819)+SUM(IF(ISNUMBER(Voucher_Date_1819),1,0))+1)),0))","v":{"$error":"#NUM!"}}]
[{"$f":"INDEX(Voucher_Date_1819,MATCH(ROWS('Bill Register 20-21'!$L$3:'Bill Register 20-21'!L582),COUNTIF(Voucher_Date_1819,\"<=\"&Voucher_Date_1819),0))","v":{"$error":"#N/A"}},{"$f":"INDEX(Voucher_Date_1819,MATCH(SMALL(IF(ISBLANK(Voucher_Date_1819),\"\",IF(ISNUMBER(Voucher_Date_1819),COUNTIF(Voucher_Date_1819,\"<\"&Voucher_Date_1819),COUNTIF(Voucher_Date_1819,\"<\"&Voucher_Date_1819)+SUM(IF(ISNUMBER(Voucher_Date_1819),1,0))+1)),ROW(A581)),IF(ISBLANK(Voucher_Date_1819),\"\",IF(ISNUMBER(Voucher_Date_1819),COUNTIF(Voucher_Date_1819,\"<\"&Voucher_Date_1819),COUNTIF(Voucher_Date_1819,\"<\"&Voucher_Date_1819)+SUM(IF(ISNUMBER(Voucher_Date_1819),1,0))+1)),0))","v":{"$error":"#NUM!"}}]
[{"$f":"INDEX(Voucher_Date_1819,MATCH(ROWS('Bill Register 20-21'!$L$3:'Bill Register 20-21'!L583),COUNTIF(Voucher_Date_1819,\"<=\"&Voucher_Date_1819),0))","v":{"$error":"#N/A"}},{"$f":"INDEX(Voucher_Date_1819,MATCH(SMALL(IF(ISBLANK(Voucher_Date_1819),\"\",IF(ISNUMBER(Voucher_Date_1819),COUNTIF(Voucher_Date_1819,\"<\"&Voucher_Date_1819),COUNTIF(Voucher_Date_1819,\"<\"&Voucher_Date_1819)+SUM(IF(ISNUMBER(Voucher_Date_1819),1,0))+1)),ROW(A582)),IF(ISBLANK(Voucher_Date_1819),\"\",IF(ISNUMBER(Voucher_Date_1819),COUNTIF(Voucher_Date_1819,\"<\"&Voucher_Date_1819),COUNTIF(Voucher_Date_1819,\"<\"&Voucher_Date_1819)+SUM(IF(ISNUMBER(Voucher_Date_1819),1,0))+1)),0))","v":{"$error":"#NUM!"}}]
[{"$f":"INDEX(Voucher_Date_1819,MATCH(ROWS('Bill Register 20-21'!$L$3:'Bill Register 20-21'!L584),COUNTIF(Voucher_Date_1819,\"<=\"&Voucher_Date_1819),0))","v":{"$error":"#N/A"}},{"$f":"INDEX(Voucher_Date_1819,MATCH(SMALL(IF(ISBLANK(Voucher_Date_1819),\"\",IF(ISNUMBER(Voucher_Date_1819),COUNTIF(Voucher_Date_1819,\"<\"&Voucher_Date_1819),COUNTIF(Voucher_Date_1819,\"<\"&Voucher_Date_1819)+SUM(IF(ISNUMBER(Voucher_Date_1819),1,0))+1)),ROW(A583)),IF(ISBLANK(Voucher_Date_1819),\"\",IF(ISNUMBER(Voucher_Date_1819),COUNTIF(Voucher_Date_1819,\"<\"&Voucher_Date_1819),COUNTIF(Voucher_Date_1819,\"<\"&Voucher_Date_1819)+SUM(IF(ISNUMBER(Voucher_Date_1819),1,0))+1)),0))","v":{"$error":"#NUM!"}}]
[{"$f":"INDEX(Voucher_Date_1819,MATCH(ROWS('Bill Register 20-21'!$L$3:'Bill Register 20-21'!L585),COUNTIF(Voucher_Date_1819,\"<=\"&Voucher_Date_1819),0))","v":{"$error":"#N/A"}},{"$f":"INDEX(Voucher_Date_1819,MATCH(SMALL(IF(ISBLANK(Voucher_Date_1819),\"\",IF(ISNUMBER(Voucher_Date_1819),COUNTIF(Voucher_Date_1819,\"<\"&Voucher_Date_1819),COUNTIF(Voucher_Date_1819,\"<\"&Voucher_Date_1819)+SUM(IF(ISNUMBER(Voucher_Date_1819),1,0))+1)),ROW(A584)),IF(ISBLANK(Voucher_Date_1819),\"\",IF(ISNUMBER(Voucher_Date_1819),COUNTIF(Voucher_Date_1819,\"<\"&Voucher_Date_1819),COUNTIF(Voucher_Date_1819,\"<\"&Voucher_Date_1819)+SUM(IF(ISNUMBER(Voucher_Date_1819),1,0))+1)),0))","v":{"$error":"#NUM!"}}]
[{"$f":"INDEX(Voucher_Date_1819,MATCH(ROWS('Bill Register 20-21'!$L$3:'Bill Register 20-21'!L586),COUNTIF(Voucher_Date_1819,\"<=\"&Voucher_Date_1819),0))","v":{"$error":"#N/A"}},{"$f":"INDEX(Voucher_Date_1819,MATCH(SMALL(IF(ISBLANK(Voucher_Date_1819),\"\",IF(ISNUMBER(Voucher_Date_1819),COUNTIF(Voucher_Date_1819,\"<\"&Voucher_Date_1819),COUNTIF(Voucher_Date_1819,\"<\"&Voucher_Date_1819)+SUM(IF(ISNUMBER(Voucher_Date_1819),1,0))+1)),ROW(A585)),IF(ISBLANK(Voucher_Date_1819),\"\",IF(ISNUMBER(Voucher_Date_1819),COUNTIF(Voucher_Date_1819,\"<\"&Voucher_Date_1819),COUNTIF(Voucher_Date_1819,\"<\"&Voucher_Date_1819)+SUM(IF(ISNUMBER(Voucher_Date_1819),1,0))+1)),0))","v":{"$error":"#NUM!"}}]
[{"$f":"INDEX(Voucher_Date_1819,MATCH(ROWS('Bill Register 20-21'!$L$3:'Bill Register 20-21'!L587),COUNTIF(Voucher_Date_1819,\"<=\"&Voucher_Date_1819),0))","v":{"$error":"#N/A"}},{"$f":"INDEX(Voucher_Date_1819,MATCH(SMALL(IF(ISBLANK(Voucher_Date_1819),\"\",IF(ISNUMBER(Voucher_Date_1819),COUNTIF(Voucher_Date_1819,\"<\"&Voucher_Date_1819),COUNTIF(Voucher_Date_1819,\"<\"&Voucher_Date_1819)+SUM(IF(ISNUMBER(Voucher_Date_1819),1,0))+1)),ROW(A586)),IF(ISBLANK(Voucher_Date_1819),\"\",IF(ISNUMBER(Voucher_Date_1819),COUNTIF(Voucher_Date_1819,\"<\"&Voucher_Date_1819),COUNTIF(Voucher_Date_1819,\"<\"&Voucher_Date_1819)+SUM(IF(ISNUMBER(Voucher_Date_1819),1,0))+1)),0))","v":{"$error":"#NUM!"}}]
[{"$f":"INDEX(Voucher_Date_1819,MATCH(ROWS('Bill Register 20-21'!$L$3:'Bill Register 20-21'!L588),COUNTIF(Voucher_Date_1819,\"<=\"&Voucher_Date_1819),0))","v":{"$error":"#N/A"}},{"$f":"INDEX(Voucher_Date_1819,MATCH(SMALL(IF(ISBLANK(Voucher_Date_1819),\"\",IF(ISNUMBER(Voucher_Date_1819),COUNTIF(Voucher_Date_1819,\"<\"&Voucher_Date_1819),COUNTIF(Voucher_Date_1819,\"<\"&Voucher_Date_1819)+SUM(IF(ISNUMBER(Voucher_Date_1819),1,0))+1)),ROW(A587)),IF(ISBLANK(Voucher_Date_1819),\"\",IF(ISNUMBER(Voucher_Date_1819),COUNTIF(Voucher_Date_1819,\"<\"&Voucher_Date_1819),COUNTIF(Voucher_Date_1819,\"<\"&Voucher_Date_1819)+SUM(IF(ISNUMBER(Voucher_Date_1819),1,0))+1)),0))","v":{"$error":"#NUM!"}}]
[{"$f":"INDEX(Voucher_Date_1819,MATCH(ROWS('Bill Register 20-21'!$L$3:'Bill Register 20-21'!L589),COUNTIF(Voucher_Date_1819,\"<=\"&Voucher_Date_1819),0))","v":{"$error":"#N/A"}},{"$f":"INDEX(Voucher_Date_1819,MATCH(SMALL(IF(ISBLANK(Voucher_Date_1819),\"\",IF(ISNUMBER(Voucher_Date_1819),COUNTIF(Voucher_Date_1819,\"<\"&Voucher_Date_1819),COUNTIF(Voucher_Date_1819,\"<\"&Voucher_Date_1819)+SUM(IF(ISNUMBER(Voucher_Date_1819),1,0))+1)),ROW(A588)),IF(ISBLANK(Voucher_Date_1819),\"\",IF(ISNUMBER(Voucher_Date_1819),COUNTIF(Voucher_Date_1819,\"<\"&Voucher_Date_1819),COUNTIF(Voucher_Date_1819,\"<\"&Voucher_Date_1819)+SUM(IF(ISNUMBER(Voucher_Date_1819),1,0))+1)),0))","v":{"$error":"#NUM!"}}]
[{"$f":"INDEX(Voucher_Date_1819,MATCH(ROWS('Bill Register 20-21'!$L$3:'Bill Register 20-21'!L590),COUNTIF(Voucher_Date_1819,\"<=\"&Voucher_Date_1819),0))","v":{"$error":"#N/A"}},{"$f":"INDEX(Voucher_Date_1819,MATCH(SMALL(IF(ISBLANK(Voucher_Date_1819),\"\",IF(ISNUMBER(Voucher_Date_1819),COUNTIF(Voucher_Date_1819,\"<\"&Voucher_Date_1819),COUNTIF(Voucher_Date_1819,\"<\"&Voucher_Date_1819)+SUM(IF(ISNUMBER(Voucher_Date_1819),1,0))+1)),ROW(A589)),IF(ISBLANK(Voucher_Date_1819),\"\",IF(ISNUMBER(Voucher_Date_1819),COUNTIF(Voucher_Date_1819,\"<\"&Voucher_Date_1819),COUNTIF(Voucher_Date_1819,\"<\"&Voucher_Date_1819)+SUM(IF(ISNUMBER(Voucher_Date_1819),1,0))+1)),0))","v":{"$error":"#NUM!"}}]
[{"$f":"INDEX(Voucher_Date_1819,MATCH(ROWS('Bill Register 20-21'!$L$3:'Bill Register 20-21'!L591),COUNTIF(Voucher_Date_1819,\"<=\"&Voucher_Date_1819),0))","v":{"$error":"#N/A"}},{"$f":"INDEX(Voucher_Date_1819,MATCH(SMALL(IF(ISBLANK(Voucher_Date_1819),\"\",IF(ISNUMBER(Voucher_Date_1819),COUNTIF(Voucher_Date_1819,\"<\"&Voucher_Date_1819),COUNTIF(Voucher_Date_1819,\"<\"&Voucher_Date_1819)+SUM(IF(ISNUMBER(Voucher_Date_1819),1,0))+1)),ROW(A590)),IF(ISBLANK(Voucher_Date_1819),\"\",IF(ISNUMBER(Voucher_Date_1819),COUNTIF(Voucher_Date_1819,\"<\"&Voucher_Date_1819),COUNTIF(Voucher_Date_1819,\"<\"&Voucher_Date_1819)+SUM(IF(ISNUMBER(Voucher_Date_1819),1,0))+1)),0))","v":{"$error":"#NUM!"}}]
[{"$f":"INDEX(Voucher_Date_1819,MATCH(ROWS('Bill Register 20-21'!$L$3:'Bill Register 20-21'!L592),COUNTIF(Voucher_Date_1819,\"<=\"&Voucher_Date_1819),0))","v":{"$error":"#N/A"}},{"$f":"INDEX(Voucher_Date_1819,MATCH(SMALL(IF(ISBLANK(Voucher_Date_1819),\"\",IF(ISNUMBER(Voucher_Date_1819),COUNTIF(Voucher_Date_1819,\"<\"&Voucher_Date_1819),COUNTIF(Voucher_Date_1819,\"<\"&Voucher_Date_1819)+SUM(IF(ISNUMBER(Voucher_Date_1819),1,0))+1)),ROW(A591)),IF(ISBLANK(Voucher_Date_1819),\"\",IF(ISNUMBER(Voucher_Date_1819),COUNTIF(Voucher_Date_1819,\"<\"&Voucher_Date_1819),COUNTIF(Voucher_Date_1819,\"<\"&Voucher_Date_1819)+SUM(IF(ISNUMBER(Voucher_Date_1819),1,0))+1)),0))","v":{"$error":"#NUM!"}}]
[{"$f":"INDEX(Voucher_Date_1819,MATCH(ROWS('Bill Register 20-21'!$L$3:'Bill Register 20-21'!L593),COUNTIF(Voucher_Date_1819,\"<=\"&Voucher_Date_1819),0))","v":{"$error":"#N/A"}},{"$f":"INDEX(Voucher_Date_1819,MATCH(SMALL(IF(ISBLANK(Voucher_Date_1819),\"\",IF(ISNUMBER(Voucher_Date_1819),COUNTIF(Voucher_Date_1819,\"<\"&Voucher_Date_1819),COUNTIF(Voucher_Date_1819,\"<\"&Voucher_Date_1819)+SUM(IF(ISNUMBER(Voucher_Date_1819),1,0))+1)),ROW(A592)),IF(ISBLANK(Voucher_Date_1819),\"\",IF(ISNUMBER(Voucher_Date_1819),COUNTIF(Voucher_Date_1819,\"<\"&Voucher_Date_1819),COUNTIF(Voucher_Date_1819,\"<\"&Voucher_Date_1819)+SUM(IF(ISNUMBER(Voucher_Date_1819),1,0))+1)),0))","v":{"$error":"#NUM!"}}]
[{"$f":"INDEX(Voucher_Date_1819,MATCH(ROWS('Bill Register 20-21'!$L$3:'Bill Register 20-21'!L594),COUNTIF(Voucher_Date_1819,\"<=\"&Voucher_Date_1819),0))","v":{"$error":"#N/A"}},{"$f":"INDEX(Voucher_Date_1819,MATCH(SMALL(IF(ISBLANK(Voucher_Date_1819),\"\",IF(ISNUMBER(Voucher_Date_1819),COUNTIF(Voucher_Date_1819,\"<\"&Voucher_Date_1819),COUNTIF(Voucher_Date_1819,\"<\"&Voucher_Date_1819)+SUM(IF(ISNUMBER(Voucher_Date_1819),1,0))+1)),ROW(A593)),IF(ISBLANK(Voucher_Date_1819),\"\",IF(ISNUMBER(Voucher_Date_1819),COUNTIF(Voucher_Date_1819,\"<\"&Voucher_Date_1819),COUNTIF(Voucher_Date_1819,\"<\"&Voucher_Date_1819)+SUM(IF(ISNUMBER(Voucher_Date_1819),1,0))+1)),0))","v":{"$error":"#NUM!"}}]
[{"$f":"INDEX(Voucher_Date_1819,MATCH(ROWS('Bill Register 20-21'!$L$3:'Bill Register 20-21'!L595),COUNTIF(Voucher_Date_1819,\"<=\"&Voucher_Date_1819),0))","v":{"$error":"#N/A"}},{"$f":"INDEX(Voucher_Date_1819,MATCH(SMALL(IF(ISBLANK(Voucher_Date_1819),\"\",IF(ISNUMBER(Voucher_Date_1819),COUNTIF(Voucher_Date_1819,\"<\"&Voucher_Date_1819),COUNTIF(Voucher_Date_1819,\"<\"&Voucher_Date_1819)+SUM(IF(ISNUMBER(Voucher_Date_1819),1,0))+1)),ROW(A594)),IF(ISBLANK(Voucher_Date_1819),\"\",IF(ISNUMBER(Voucher_Date_1819),COUNTIF(Voucher_Date_1819,\"<\"&Voucher_Date_1819),COUNTIF(Voucher_Date_1819,\"<\"&Voucher_Date_1819)+SUM(IF(ISNUMBER(Voucher_Date_1819),1,0))+1)),0))","v":{"$error":"#NUM!"}}]
[{"$f":"INDEX(Voucher_Date_1819,MATCH(ROWS('Bill Register 20-21'!$L$3:'Bill Register 20-21'!L596),COUNTIF(Voucher_Date_1819,\"<=\"&Voucher_Date_1819),0))","v":{"$error":"#N/A"}},{"$f":"INDEX(Voucher_Date_1819,MATCH(SMALL(IF(ISBLANK(Voucher_Date_1819),\"\",IF(ISNUMBER(Voucher_Date_1819),COUNTIF(Voucher_Date_1819,\"<\"&Voucher_Date_1819),COUNTIF(Voucher_Date_1819,\"<\"&Voucher_Date_1819)+SUM(IF(ISNUMBER(Voucher_Date_1819),1,0))+1)),ROW(A595)),IF(ISBLANK(Voucher_Date_1819),\"\",IF(ISNUMBER(Voucher_Date_1819),COUNTIF(Voucher_Date_1819,\"<\"&Voucher_Date_1819),COUNTIF(Voucher_Date_1819,\"<\"&Voucher_Date_1819)+SUM(IF(ISNUMBER(Voucher_Date_1819),1,0))+1)),0))","v":{"$error":"#NUM!"}}]
[{"$f":"INDEX(Voucher_Date_1819,MATCH(ROWS('Bill Register 20-21'!$L$3:'Bill Register 20-21'!L597),COUNTIF(Voucher_Date_1819,\"<=\"&Voucher_Date_1819),0))","v":{"$error":"#N/A"}},{"$f":"INDEX(Voucher_Date_1819,MATCH(SMALL(IF(ISBLANK(Voucher_Date_1819),\"\",IF(ISNUMBER(Voucher_Date_1819),COUNTIF(Voucher_Date_1819,\"<\"&Voucher_Date_1819),COUNTIF(Voucher_Date_1819,\"<\"&Voucher_Date_1819)+SUM(IF(ISNUMBER(Voucher_Date_1819),1,0))+1)),ROW(A596)),IF(ISBLANK(Voucher_Date_1819),\"\",IF(ISNUMBER(Voucher_Date_1819),COUNTIF(Voucher_Date_1819,\"<\"&Voucher_Date_1819),COUNTIF(Voucher_Date_1819,\"<\"&Voucher_Date_1819)+SUM(IF(ISNUMBER(Voucher_Date_1819),1,0))+1)),0))","v":{"$error":"#NUM!"}}]
[{"$f":"INDEX(Voucher_Date_1819,MATCH(ROWS('Bill Register 20-21'!$L$3:'Bill Register 20-21'!L598),COUNTIF(Voucher_Date_1819,\"<=\"&Voucher_Date_1819),0))","v":{"$error":"#N/A"}},{"$f":"INDEX(Voucher_Date_1819,MATCH(SMALL(IF(ISBLANK(Voucher_Date_1819),\"\",IF(ISNUMBER(Voucher_Date_1819),COUNTIF(Voucher_Date_1819,\"<\"&Voucher_Date_1819),COUNTIF(Voucher_Date_1819,\"<\"&Voucher_Date_1819)+SUM(IF(ISNUMBER(Voucher_Date_1819),1,0))+1)),ROW(A597)),IF(ISBLANK(Voucher_Date_1819),\"\",IF(ISNUMBER(Voucher_Date_1819),COUNTIF(Voucher_Date_1819,\"<\"&Voucher_Date_1819),COUNTIF(Voucher_Date_1819,\"<\"&Voucher_Date_1819)+SUM(IF(ISNUMBER(Voucher_Date_1819),1,0))+1)),0))","v":{"$error":"#NUM!"}}]
[{"$f":"INDEX(Voucher_Date_1819,MATCH(ROWS('Bill Register 20-21'!$L$3:'Bill Register 20-21'!L599),COUNTIF(Voucher_Date_1819,\"<=\"&Voucher_Date_1819),0))","v":{"$error":"#N/A"}},{"$f":"INDEX(Voucher_Date_1819,MATCH(SMALL(IF(ISBLANK(Voucher_Date_1819),\"\",IF(ISNUMBER(Voucher_Date_1819),COUNTIF(Voucher_Date_1819,\"<\"&Voucher_Date_1819),COUNTIF(Voucher_Date_1819,\"<\"&Voucher_Date_1819)+SUM(IF(ISNUMBER(Voucher_Date_1819),1,0))+1)),ROW(A598)),IF(ISBLANK(Voucher_Date_1819),\"\",IF(ISNUMBER(Voucher_Date_1819),COUNTIF(Voucher_Date_1819,\"<\"&Voucher_Date_1819),COUNTIF(Voucher_Date_1819,\"<\"&Voucher_Date_1819)+SUM(IF(ISNUMBER(Voucher_Date_1819),1,0))+1)),0))","v":{"$error":"#NUM!"}}]
[{"$f":"INDEX(Voucher_Date_1819,MATCH(ROWS('Bill Register 20-21'!$L$3:'Bill Register 20-21'!L600),COUNTIF(Voucher_Date_1819,\"<=\"&Voucher_Date_1819),0))","v":{"$error":"#N/A"}},{"$f":"INDEX(Voucher_Date_1819,MATCH(SMALL(IF(ISBLANK(Voucher_Date_1819),\"\",IF(ISNUMBER(Voucher_Date_1819),COUNTIF(Voucher_Date_1819,\"<\"&Voucher_Date_1819),COUNTIF(Voucher_Date_1819,\"<\"&Voucher_Date_1819)+SUM(IF(ISNUMBER(Voucher_Date_1819),1,0))+1)),ROW(A599)),IF(ISBLANK(Voucher_Date_1819),\"\",IF(ISNUMBER(Voucher_Date_1819),COUNTIF(Voucher_Date_1819,\"<\"&Voucher_Date_1819),COUNTIF(Voucher_Date_1819,\"<\"&Voucher_Date_1819)+SUM(IF(ISNUMBER(Voucher_Date_1819),1,0))+1)),0))","v":{"$error":"#NUM!"}}]
[{"$f":"INDEX(Voucher_Date_1819,MATCH(ROWS('Bill Register 20-21'!$L$3:'Bill Register 20-21'!L601),COUNTIF(Voucher_Date_1819,\"<=\"&Voucher_Date_1819),0))","v":{"$error":"#N/A"}},{"$f":"INDEX(Voucher_Date_1819,MATCH(SMALL(IF(ISBLANK(Voucher_Date_1819),\"\",IF(ISNUMBER(Voucher_Date_1819),COUNTIF(Voucher_Date_1819,\"<\"&Voucher_Date_1819),COUNTIF(Voucher_Date_1819,\"<\"&Voucher_Date_1819)+SUM(IF(ISNUMBER(Voucher_Date_1819),1,0))+1)),ROW(A600)),IF(ISBLANK(Voucher_Date_1819),\"\",IF(ISNUMBER(Voucher_Date_1819),COUNTIF(Voucher_Date_1819,\"<\"&Voucher_Date_1819),COUNTIF(Voucher_Date_1819,\"<\"&Voucher_Date_1819)+SUM(IF(ISNUMBER(Voucher_Date_1819),1,0))+1)),0))","v":{"$error":"#NUM!"}}]
[{"$f":"INDEX(Voucher_Date_1819,MATCH(ROWS('Bill Register 20-21'!$L$3:'Bill Register 20-21'!L602),COUNTIF(Voucher_Date_1819,\"<=\"&Voucher_Date_1819),0))","v":{"$error":"#N/A"}},{"$f":"INDEX(Voucher_Date_1819,MATCH(SMALL(IF(ISBLANK(Voucher_Date_1819),\"\",IF(ISNUMBER(Voucher_Date_1819),COUNTIF(Voucher_Date_1819,\"<\"&Voucher_Date_1819),COUNTIF(Voucher_Date_1819,\"<\"&Voucher_Date_1819)+SUM(IF(ISNUMBER(Voucher_Date_1819),1,0))+1)),ROW(A601)),IF(ISBLANK(Voucher_Date_1819),\"\",IF(ISNUMBER(Voucher_Date_1819),COUNTIF(Voucher_Date_1819,\"<\"&Voucher_Date_1819),COUNTIF(Voucher_Date_1819,\"<\"&Voucher_Date_1819)+SUM(IF(ISNUMBER(Voucher_Date_1819),1,0))+1)),0))","v":{"$error":"#NUM!"}}]
[{"$f":"INDEX(Voucher_Date_1819,MATCH(ROWS('Bill Register 20-21'!$L$3:'Bill Register 20-21'!L603),COUNTIF(Voucher_Date_1819,\"<=\"&Voucher_Date_1819),0))","v":{"$error":"#N/A"}},{"$f":"INDEX(Voucher_Date_1819,MATCH(SMALL(IF(ISBLANK(Voucher_Date_1819),\"\",IF(ISNUMBER(Voucher_Date_1819),COUNTIF(Voucher_Date_1819,\"<\"&Voucher_Date_1819),COUNTIF(Voucher_Date_1819,\"<\"&Voucher_Date_1819)+SUM(IF(ISNUMBER(Voucher_Date_1819),1,0))+1)),ROW(A602)),IF(ISBLANK(Voucher_Date_1819),\"\",IF(ISNUMBER(Voucher_Date_1819),COUNTIF(Voucher_Date_1819,\"<\"&Voucher_Date_1819),COUNTIF(Voucher_Date_1819,\"<\"&Voucher_Date_1819)+SUM(IF(ISNUMBER(Voucher_Date_1819),1,0))+1)),0))","v":{"$error":"#NUM!"}}]
[{"$f":"INDEX(Voucher_Date_1819,MATCH(ROWS('Bill Register 20-21'!$L$3:'Bill Register 20-21'!L604),COUNTIF(Voucher_Date_1819,\"<=\"&Voucher_Date_1819),0))","v":{"$error":"#N/A"}},{"$f":"INDEX(Voucher_Date_1819,MATCH(SMALL(IF(ISBLANK(Voucher_Date_1819),\"\",IF(ISNUMBER(Voucher_Date_1819),COUNTIF(Voucher_Date_1819,\"<\"&Voucher_Date_1819),COUNTIF(Voucher_Date_1819,\"<\"&Voucher_Date_1819)+SUM(IF(ISNUMBER(Voucher_Date_1819),1,0))+1)),ROW(A603)),IF(ISBLANK(Voucher_Date_1819),\"\",IF(ISNUMBER(Voucher_Date_1819),COUNTIF(Voucher_Date_1819,\"<\"&Voucher_Date_1819),COUNTIF(Voucher_Date_1819,\"<\"&Voucher_Date_1819)+SUM(IF(ISNUMBER(Voucher_Date_1819),1,0))+1)),0))","v":{"$error":"#NUM!"}}]
[{"$f":"INDEX(Voucher_Date_1819,MATCH(ROWS('Bill Register 20-21'!$L$3:'Bill Register 20-21'!L605),COUNTIF(Voucher_Date_1819,\"<=\"&Voucher_Date_1819),0))","v":{"$error":"#N/A"}},{"$f":"INDEX(Voucher_Date_1819,MATCH(SMALL(IF(ISBLANK(Voucher_Date_1819),\"\",IF(ISNUMBER(Voucher_Date_1819),COUNTIF(Voucher_Date_1819,\"<\"&Voucher_Date_1819),COUNTIF(Voucher_Date_1819,\"<\"&Voucher_Date_1819)+SUM(IF(ISNUMBER(Voucher_Date_1819),1,0))+1)),ROW(A604)),IF(ISBLANK(Voucher_Date_1819),\"\",IF(ISNUMBER(Voucher_Date_1819),COUNTIF(Voucher_Date_1819,\"<\"&Voucher_Date_1819),COUNTIF(Voucher_Date_1819,\"<\"&Voucher_Date_1819)+SUM(IF(ISNUMBER(Voucher_Date_1819),1,0))+1)),0))","v":{"$error":"#NUM!"}}]
[{"$f":"INDEX(Voucher_Date_1819,MATCH(ROWS('Bill Register 20-21'!$L$3:'Bill Register 20-21'!L606),COUNTIF(Voucher_Date_1819,\"<=\"&Voucher_Date_1819),0))","v":{"$error":"#N/A"}},{"$f":"INDEX(Voucher_Date_1819,MATCH(SMALL(IF(ISBLANK(Voucher_Date_1819),\"\",IF(ISNUMBER(Voucher_Date_1819),COUNTIF(Voucher_Date_1819,\"<\"&Voucher_Date_1819),COUNTIF(Voucher_Date_1819,\"<\"&Voucher_Date_1819)+SUM(IF(ISNUMBER(Voucher_Date_1819),1,0))+1)),ROW(A605)),IF(ISBLANK(Voucher_Date_1819),\"\",IF(ISNUMBER(Voucher_Date_1819),COUNTIF(Voucher_Date_1819,\"<\"&Voucher_Date_1819),COUNTIF(Voucher_Date_1819,\"<\"&Voucher_Date_1819)+SUM(IF(ISNUMBER(Voucher_Date_1819),1,0))+1)),0))","v":{"$error":"#NUM!"}}]
[{"$f":"INDEX(Voucher_Date_1819,MATCH(ROWS('Bill Register 20-21'!$L$3:'Bill Register 20-21'!L607),COUNTIF(Voucher_Date_1819,\"<=\"&Voucher_Date_1819),0))","v":{"$error":"#N/A"}},{"$f":"INDEX(Voucher_Date_1819,MATCH(SMALL(IF(ISBLANK(Voucher_Date_1819),\"\",IF(ISNUMBER(Voucher_Date_1819),COUNTIF(Voucher_Date_1819,\"<\"&Voucher_Date_1819),COUNTIF(Voucher_Date_1819,\"<\"&Voucher_Date_1819)+SUM(IF(ISNUMBER(Voucher_Date_1819),1,0))+1)),ROW(A606)),IF(ISBLANK(Voucher_Date_1819),\"\",IF(ISNUMBER(Voucher_Date_1819),COUNTIF(Voucher_Date_1819,\"<\"&Voucher_Date_1819),COUNTIF(Voucher_Date_1819,\"<\"&Voucher_Date_1819)+SUM(IF(ISNUMBER(Voucher_Date_1819),1,0))+1)),0))","v":{"$error":"#NUM!"}}]
[{"$f":"INDEX(Voucher_Date_1819,MATCH(ROWS('Bill Register 20-21'!$L$3:'Bill Register 20-21'!L608),COUNTIF(Voucher_Date_1819,\"<=\"&Voucher_Date_1819),0))","v":{"$error":"#N/A"}},{"$f":"INDEX(Voucher_Date_1819,MATCH(SMALL(IF(ISBLANK(Voucher_Date_1819),\"\",IF(ISNUMBER(Voucher_Date_1819),COUNTIF(Voucher_Date_1819,\"<\"&Voucher_Date_1819),COUNTIF(Voucher_Date_1819,\"<\"&Voucher_Date_1819)+SUM(IF(ISNUMBER(Voucher_Date_1819),1,0))+1)),ROW(A607)),IF(ISBLANK(Voucher_Date_1819),\"\",IF(ISNUMBER(Voucher_Date_1819),COUNTIF(Voucher_Date_1819,\"<\"&Voucher_Date_1819),COUNTIF(Voucher_Date_1819,\"<\"&Voucher_Date_1819)+SUM(IF(ISNUMBER(Voucher_Date_1819),1,0))+1)),0))","v":{"$error":"#NUM!"}}]
[{"$f":"INDEX(Voucher_Date_1819,MATCH(ROWS('Bill Register 20-21'!$L$3:'Bill Register 20-21'!L609),COUNTIF(Voucher_Date_1819,\"<=\"&Voucher_Date_1819),0))","v":{"$error":"#N/A"}},{"$f":"INDEX(Voucher_Date_1819,MATCH(SMALL(IF(ISBLANK(Voucher_Date_1819),\"\",IF(ISNUMBER(Voucher_Date_1819),COUNTIF(Voucher_Date_1819,\"<\"&Voucher_Date_1819),COUNTIF(Voucher_Date_1819,\"<\"&Voucher_Date_1819)+SUM(IF(ISNUMBER(Voucher_Date_1819),1,0))+1)),ROW(A608)),IF(ISBLANK(Voucher_Date_1819),\"\",IF(ISNUMBER(Voucher_Date_1819),COUNTIF(Voucher_Date_1819,\"<\"&Voucher_Date_1819),COUNTIF(Voucher_Date_1819,\"<\"&Voucher_Date_1819)+SUM(IF(ISNUMBER(Voucher_Date_1819),1,0))+1)),0))","v":{"$error":"#NUM!"}}]
[{"$f":"INDEX(Voucher_Date_1819,MATCH(ROWS('Bill Register 20-21'!$L$3:'Bill Register 20-21'!L610),COUNTIF(Voucher_Date_1819,\"<=\"&Voucher_Date_1819),0))","v":{"$error":"#N/A"}},{"$f":"INDEX(Voucher_Date_1819,MATCH(SMALL(IF(ISBLANK(Voucher_Date_1819),\"\",IF(ISNUMBER(Voucher_Date_1819),COUNTIF(Voucher_Date_1819,\"<\"&Voucher_Date_1819),COUNTIF(Voucher_Date_1819,\"<\"&Voucher_Date_1819)+SUM(IF(ISNUMBER(Voucher_Date_1819),1,0))+1)),ROW(A609)),IF(ISBLANK(Voucher_Date_1819),\"\",IF(ISNUMBER(Voucher_Date_1819),COUNTIF(Voucher_Date_1819,\"<\"&Voucher_Date_1819),COUNTIF(Voucher_Date_1819,\"<\"&Voucher_Date_1819)+SUM(IF(ISNUMBER(Voucher_Date_1819),1,0))+1)),0))","v":{"$error":"#NUM!"}}]
[{"$f":"INDEX(Voucher_Date_1819,MATCH(ROWS('Bill Register 20-21'!$L$3:'Bill Register 20-21'!L611),COUNTIF(Voucher_Date_1819,\"<=\"&Voucher_Date_1819),0))","v":{"$error":"#N/A"}},{"$f":"INDEX(Voucher_Date_1819,MATCH(SMALL(IF(ISBLANK(Voucher_Date_1819),\"\",IF(ISNUMBER(Voucher_Date_1819),COUNTIF(Voucher_Date_1819,\"<\"&Voucher_Date_1819),COUNTIF(Voucher_Date_1819,\"<\"&Voucher_Date_1819)+SUM(IF(ISNUMBER(Voucher_Date_1819),1,0))+1)),ROW(A610)),IF(ISBLANK(Voucher_Date_1819),\"\",IF(ISNUMBER(Voucher_Date_1819),COUNTIF(Voucher_Date_1819,\"<\"&Voucher_Date_1819),COUNTIF(Voucher_Date_1819,\"<\"&Voucher_Date_1819)+SUM(IF(ISNUMBER(Voucher_Date_1819),1,0))+1)),0))","v":{"$error":"#NUM!"}}]
[{"$f":"INDEX(Voucher_Date_1819,MATCH(ROWS('Bill Register 20-21'!$L$3:'Bill Register 20-21'!L612),COUNTIF(Voucher_Date_1819,\"<=\"&Voucher_Date_1819),0))","v":{"$error":"#N/A"}},{"$f":"INDEX(Voucher_Date_1819,MATCH(SMALL(IF(ISBLANK(Voucher_Date_1819),\"\",IF(ISNUMBER(Voucher_Date_1819),COUNTIF(Voucher_Date_1819,\"<\"&Voucher_Date_1819),COUNTIF(Voucher_Date_1819,\"<\"&Voucher_Date_1819)+SUM(IF(ISNUMBER(Voucher_Date_1819),1,0))+1)),ROW(A611)),IF(ISBLANK(Voucher_Date_1819),\"\",IF(ISNUMBER(Voucher_Date_1819),COUNTIF(Voucher_Date_1819,\"<\"&Voucher_Date_1819),COUNTIF(Voucher_Date_1819,\"<\"&Voucher_Date_1819)+SUM(IF(ISNUMBER(Voucher_Date_1819),1,0))+1)),0))","v":{"$error":"#NUM!"}}]
[{"$f":"INDEX(Voucher_Date_1819,MATCH(ROWS('Bill Register 20-21'!$L$3:'Bill Register 20-21'!L613),COUNTIF(Voucher_Date_1819,\"<=\"&Voucher_Date_1819),0))","v":{"$error":"#N/A"}},{"$f":"INDEX(Voucher_Date_1819,MATCH(SMALL(IF(ISBLANK(Voucher_Date_1819),\"\",IF(ISNUMBER(Voucher_Date_1819),COUNTIF(Voucher_Date_1819,\"<\"&Voucher_Date_1819),COUNTIF(Voucher_Date_1819,\"<\"&Voucher_Date_1819)+SUM(IF(ISNUMBER(Voucher_Date_1819),1,0))+1)),ROW(A612)),IF(ISBLANK(Voucher_Date_1819),\"\",IF(ISNUMBER(Voucher_Date_1819),COUNTIF(Voucher_Date_1819,\"<\"&Voucher_Date_1819),COUNTIF(Voucher_Date_1819,\"<\"&Voucher_Date_1819)+SUM(IF(ISNUMBER(Voucher_Date_1819),1,0))+1)),0))","v":{"$error":"#NUM!"}}]
[{"$f":"INDEX(Voucher_Date_1819,MATCH(ROWS('Bill Register 20-21'!$L$3:'Bill Register 20-21'!L614),COUNTIF(Voucher_Date_1819,\"<=\"&Voucher_Date_1819),0))","v":{"$error":"#N/A"}},{"$f":"INDEX(Voucher_Date_1819,MATCH(SMALL(IF(ISBLANK(Voucher_Date_1819),\"\",IF(ISNUMBER(Voucher_Date_1819),COUNTIF(Voucher_Date_1819,\"<\"&Voucher_Date_1819),COUNTIF(Voucher_Date_1819,\"<\"&Voucher_Date_1819)+SUM(IF(ISNUMBER(Voucher_Date_1819),1,0))+1)),ROW(A613)),IF(ISBLANK(Voucher_Date_1819),\"\",IF(ISNUMBER(Voucher_Date_1819),COUNTIF(Voucher_Date_1819,\"<\"&Voucher_Date_1819),COUNTIF(Voucher_Date_1819,\"<\"&Voucher_Date_1819)+SUM(IF(ISNUMBER(Voucher_Date_1819),1,0))+1)),0))","v":{"$error":"#NUM!"}}]
[{"$f":"INDEX(Voucher_Date_1819,MATCH(ROWS('Bill Register 20-21'!$L$3:'Bill Register 20-21'!L615),COUNTIF(Voucher_Date_1819,\"<=\"&Voucher_Date_1819),0))","v":{"$error":"#N/A"}},{"$f":"INDEX(Voucher_Date_1819,MATCH(SMALL(IF(ISBLANK(Voucher_Date_1819),\"\",IF(ISNUMBER(Voucher_Date_1819),COUNTIF(Voucher_Date_1819,\"<\"&Voucher_Date_1819),COUNTIF(Voucher_Date_1819,\"<\"&Voucher_Date_1819)+SUM(IF(ISNUMBER(Voucher_Date_1819),1,0))+1)),ROW(A614)),IF(ISBLANK(Voucher_Date_1819),\"\",IF(ISNUMBER(Voucher_Date_1819),COUNTIF(Voucher_Date_1819,\"<\"&Voucher_Date_1819),COUNTIF(Voucher_Date_1819,\"<\"&Voucher_Date_1819)+SUM(IF(ISNUMBER(Voucher_Date_1819),1,0))+1)),0))","v":{"$error":"#NUM!"}}]
[{"$f":"INDEX(Voucher_Date_1819,MATCH(ROWS('Bill Register 20-21'!$L$3:'Bill Register 20-21'!L616),COUNTIF(Voucher_Date_1819,\"<=\"&Voucher_Date_1819),0))","v":{"$error":"#N/A"}},{"$f":"INDEX(Voucher_Date_1819,MATCH(SMALL(IF(ISBLANK(Voucher_Date_1819),\"\",IF(ISNUMBER(Voucher_Date_1819),COUNTIF(Voucher_Date_1819,\"<\"&Voucher_Date_1819),COUNTIF(Voucher_Date_1819,\"<\"&Voucher_Date_1819)+SUM(IF(ISNUMBER(Voucher_Date_1819),1,0))+1)),ROW(A615)),IF(ISBLANK(Voucher_Date_1819),\"\",IF(ISNUMBER(Voucher_Date_1819),COUNTIF(Voucher_Date_1819,\"<\"&Voucher_Date_1819),COUNTIF(Voucher_Date_1819,\"<\"&Voucher_Date_1819)+SUM(IF(ISNUMBER(Voucher_Date_1819),1,0))+1)),0))","v":{"$error":"#NUM!"}}]
[{"$f":"INDEX(Voucher_Date_1819,MATCH(ROWS('Bill Register 20-21'!$L$3:'Bill Register 20-21'!L617),COUNTIF(Voucher_Date_1819,\"<=\"&Voucher_Date_1819),0))","v":{"$error":"#N/A"}},{"$f":"INDEX(Voucher_Date_1819,MATCH(SMALL(IF(ISBLANK(Voucher_Date_1819),\"\",IF(ISNUMBER(Voucher_Date_1819),COUNTIF(Voucher_Date_1819,\"<\"&Voucher_Date_1819),COUNTIF(Voucher_Date_1819,\"<\"&Voucher_Date_1819)+SUM(IF(ISNUMBER(Voucher_Date_1819),1,0))+1)),ROW(A616)),IF(ISBLANK(Voucher_Date_1819),\"\",IF(ISNUMBER(Voucher_Date_1819),COUNTIF(Voucher_Date_1819,\"<\"&Voucher_Date_1819),COUNTIF(Voucher_Date_1819,\"<\"&Voucher_Date_1819)+SUM(IF(ISNUMBER(Voucher_Date_1819),1,0))+1)),0))","v":{"$error":"#NUM!"}}]
[{"$f":"INDEX(Voucher_Date_1819,MATCH(ROWS('Bill Register 20-21'!$L$3:'Bill Register 20-21'!L618),COUNTIF(Voucher_Date_1819,\"<=\"&Voucher_Date_1819),0))","v":{"$error":"#N/A"}},{"$f":"INDEX(Voucher_Date_1819,MATCH(SMALL(IF(ISBLANK(Voucher_Date_1819),\"\",IF(ISNUMBER(Voucher_Date_1819),COUNTIF(Voucher_Date_1819,\"<\"&Voucher_Date_1819),COUNTIF(Voucher_Date_1819,\"<\"&Voucher_Date_1819)+SUM(IF(ISNUMBER(Voucher_Date_1819),1,0))+1)),ROW(A617)),IF(ISBLANK(Voucher_Date_1819),\"\",IF(ISNUMBER(Voucher_Date_1819),COUNTIF(Voucher_Date_1819,\"<\"&Voucher_Date_1819),COUNTIF(Voucher_Date_1819,\"<\"&Voucher_Date_1819)+SUM(IF(ISNUMBER(Voucher_Date_1819),1,0))+1)),0))","v":{"$error":"#NUM!"}}]
[{"$f":"INDEX(Voucher_Date_1819,MATCH(ROWS('Bill Register 20-21'!$L$3:'Bill Register 20-21'!L619),COUNTIF(Voucher_Date_1819,\"<=\"&Voucher_Date_1819),0))","v":{"$error":"#N/A"}},{"$f":"INDEX(Voucher_Date_1819,MATCH(SMALL(IF(ISBLANK(Voucher_Date_1819),\"\",IF(ISNUMBER(Voucher_Date_1819),COUNTIF(Voucher_Date_1819,\"<\"&Voucher_Date_1819),COUNTIF(Voucher_Date_1819,\"<\"&Voucher_Date_1819)+SUM(IF(ISNUMBER(Voucher_Date_1819),1,0))+1)),ROW(A618)),IF(ISBLANK(Voucher_Date_1819),\"\",IF(ISNUMBER(Voucher_Date_1819),COUNTIF(Voucher_Date_1819,\"<\"&Voucher_Date_1819),COUNTIF(Voucher_Date_1819,\"<\"&Voucher_Date_1819)+SUM(IF(ISNUMBER(Voucher_Date_1819),1,0))+1)),0))","v":{"$error":"#NUM!"}}]
[{"$f":"INDEX(Voucher_Date_1819,MATCH(ROWS('Bill Register 20-21'!$L$3:'Bill Register 20-21'!L620),COUNTIF(Voucher_Date_1819,\"<=\"&Voucher_Date_1819),0))","v":{"$error":"#N/A"}},{"$f":"INDEX(Voucher_Date_1819,MATCH(SMALL(IF(ISBLANK(Voucher_Date_1819),\"\",IF(ISNUMBER(Voucher_Date_1819),COUNTIF(Voucher_Date_1819,\"<\"&Voucher_Date_1819),COUNTIF(Voucher_Date_1819,\"<\"&Voucher_Date_1819)+SUM(IF(ISNUMBER(Voucher_Date_1819),1,0))+1)),ROW(A619)),IF(ISBLANK(Voucher_Date_1819),\"\",IF(ISNUMBER(Voucher_Date_1819),COUNTIF(Voucher_Date_1819,\"<\"&Voucher_Date_1819),COUNTIF(Voucher_Date_1819,\"<\"&Voucher_Date_1819)+SUM(IF(ISNUMBER(Voucher_Date_1819),1,0))+1)),0))","v":{"$error":"#NUM!"}}]
[{"$f":"INDEX(Voucher_Date_1819,MATCH(ROWS('Bill Register 20-21'!$L$3:'Bill Register 20-21'!L621),COUNTIF(Voucher_Date_1819,\"<=\"&Voucher_Date_1819),0))","v":{"$error":"#N/A"}},{"$f":"INDEX(Voucher_Date_1819,MATCH(SMALL(IF(ISBLANK(Voucher_Date_1819),\"\",IF(ISNUMBER(Voucher_Date_1819),COUNTIF(Voucher_Date_1819,\"<\"&Voucher_Date_1819),COUNTIF(Voucher_Date_1819,\"<\"&Voucher_Date_1819)+SUM(IF(ISNUMBER(Voucher_Date_1819),1,0))+1)),ROW(A620)),IF(ISBLANK(Voucher_Date_1819),\"\",IF(ISNUMBER(Voucher_Date_1819),COUNTIF(Voucher_Date_1819,\"<\"&Voucher_Date_1819),COUNTIF(Voucher_Date_1819,\"<\"&Voucher_Date_1819)+SUM(IF(ISNUMBER(Voucher_Date_1819),1,0))+1)),0))","v":{"$error":"#NUM!"}}]
[{"$f":"INDEX(Voucher_Date_1819,MATCH(ROWS('Bill Register 20-21'!$L$3:'Bill Register 20-21'!L622),COUNTIF(Voucher_Date_1819,\"<=\"&Voucher_Date_1819),0))","v":{"$error":"#N/A"}},{"$f":"INDEX(Voucher_Date_1819,MATCH(SMALL(IF(ISBLANK(Voucher_Date_1819),\"\",IF(ISNUMBER(Voucher_Date_1819),COUNTIF(Voucher_Date_1819,\"<\"&Voucher_Date_1819),COUNTIF(Voucher_Date_1819,\"<\"&Voucher_Date_1819)+SUM(IF(ISNUMBER(Voucher_Date_1819),1,0))+1)),ROW(A621)),IF(ISBLANK(Voucher_Date_1819),\"\",IF(ISNUMBER(Voucher_Date_1819),COUNTIF(Voucher_Date_1819,\"<\"&Voucher_Date_1819),COUNTIF(Voucher_Date_1819,\"<\"&Voucher_Date_1819)+SUM(IF(ISNUMBER(Voucher_Date_1819),1,0))+1)),0))","v":{"$error":"#NUM!"}}]
[{"$f":"INDEX(Voucher_Date_1819,MATCH(ROWS('Bill Register 20-21'!$L$3:'Bill Register 20-21'!L623),COUNTIF(Voucher_Date_1819,\"<=\"&Voucher_Date_1819),0))","v":{"$error":"#N/A"}},{"$f":"INDEX(Voucher_Date_1819,MATCH(SMALL(IF(ISBLANK(Voucher_Date_1819),\"\",IF(ISNUMBER(Voucher_Date_1819),COUNTIF(Voucher_Date_1819,\"<\"&Voucher_Date_1819),COUNTIF(Voucher_Date_1819,\"<\"&Voucher_Date_1819)+SUM(IF(ISNUMBER(Voucher_Date_1819),1,0))+1)),ROW(A622)),IF(ISBLANK(Voucher_Date_1819),\"\",IF(ISNUMBER(Voucher_Date_1819),COUNTIF(Voucher_Date_1819,\"<\"&Voucher_Date_1819),COUNTIF(Voucher_Date_1819,\"<\"&Voucher_Date_1819)+SUM(IF(ISNUMBER(Voucher_Date_1819),1,0))+1)),0))","v":{"$error":"#NUM!"}}]
[{"$f":"INDEX(Voucher_Date_1819,MATCH(ROWS('Bill Register 20-21'!$L$3:'Bill Register 20-21'!L624),COUNTIF(Voucher_Date_1819,\"<=\"&Voucher_Date_1819),0))","v":{"$error":"#N/A"}},{"$f":"INDEX(Voucher_Date_1819,MATCH(SMALL(IF(ISBLANK(Voucher_Date_1819),\"\",IF(ISNUMBER(Voucher_Date_1819),COUNTIF(Voucher_Date_1819,\"<\"&Voucher_Date_1819),COUNTIF(Voucher_Date_1819,\"<\"&Voucher_Date_1819)+SUM(IF(ISNUMBER(Voucher_Date_1819),1,0))+1)),ROW(A623)),IF(ISBLANK(Voucher_Date_1819),\"\",IF(ISNUMBER(Voucher_Date_1819),COUNTIF(Voucher_Date_1819,\"<\"&Voucher_Date_1819),COUNTIF(Voucher_Date_1819,\"<\"&Voucher_Date_1819)+SUM(IF(ISNUMBER(Voucher_Date_1819),1,0))+1)),0))","v":{"$error":"#NUM!"}}]
[{"$f":"INDEX(Voucher_Date_1819,MATCH(ROWS('Bill Register 20-21'!$L$3:'Bill Register 20-21'!L625),COUNTIF(Voucher_Date_1819,\"<=\"&Voucher_Date_1819),0))","v":{"$error":"#N/A"}},{"$f":"INDEX(Voucher_Date_1819,MATCH(SMALL(IF(ISBLANK(Voucher_Date_1819),\"\",IF(ISNUMBER(Voucher_Date_1819),COUNTIF(Voucher_Date_1819,\"<\"&Voucher_Date_1819),COUNTIF(Voucher_Date_1819,\"<\"&Voucher_Date_1819)+SUM(IF(ISNUMBER(Voucher_Date_1819),1,0))+1)),ROW(A624)),IF(ISBLANK(Voucher_Date_1819),\"\",IF(ISNUMBER(Voucher_Date_1819),COUNTIF(Voucher_Date_1819,\"<\"&Voucher_Date_1819),COUNTIF(Voucher_Date_1819,\"<\"&Voucher_Date_1819)+SUM(IF(ISNUMBER(Voucher_Date_1819),1,0))+1)),0))","v":{"$error":"#NUM!"}}]
[{"$f":"INDEX(Voucher_Date_1819,MATCH(ROWS('Bill Register 20-21'!$L$3:'Bill Register 20-21'!L626),COUNTIF(Voucher_Date_1819,\"<=\"&Voucher_Date_1819),0))","v":{"$error":"#N/A"}},{"$f":"INDEX(Voucher_Date_1819,MATCH(SMALL(IF(ISBLANK(Voucher_Date_1819),\"\",IF(ISNUMBER(Voucher_Date_1819),COUNTIF(Voucher_Date_1819,\"<\"&Voucher_Date_1819),COUNTIF(Voucher_Date_1819,\"<\"&Voucher_Date_1819)+SUM(IF(ISNUMBER(Voucher_Date_1819),1,0))+1)),ROW(A625)),IF(ISBLANK(Voucher_Date_1819),\"\",IF(ISNUMBER(Voucher_Date_1819),COUNTIF(Voucher_Date_1819,\"<\"&Voucher_Date_1819),COUNTIF(Voucher_Date_1819,\"<\"&Voucher_Date_1819)+SUM(IF(ISNUMBER(Voucher_Date_1819),1,0))+1)),0))","v":{"$error":"#NUM!"}}]
[{"$f":"INDEX(Voucher_Date_1819,MATCH(ROWS('Bill Register 20-21'!$L$3:'Bill Register 20-21'!L627),COUNTIF(Voucher_Date_1819,\"<=\"&Voucher_Date_1819),0))","v":{"$error":"#N/A"}},{"$f":"INDEX(Voucher_Date_1819,MATCH(SMALL(IF(ISBLANK(Voucher_Date_1819),\"\",IF(ISNUMBER(Voucher_Date_1819),COUNTIF(Voucher_Date_1819,\"<\"&Voucher_Date_1819),COUNTIF(Voucher_Date_1819,\"<\"&Voucher_Date_1819)+SUM(IF(ISNUMBER(Voucher_Date_1819),1,0))+1)),ROW(A626)),IF(ISBLANK(Voucher_Date_1819),\"\",IF(ISNUMBER(Voucher_Date_1819),COUNTIF(Voucher_Date_1819,\"<\"&Voucher_Date_1819),COUNTIF(Voucher_Date_1819,\"<\"&Voucher_Date_1819)+SUM(IF(ISNUMBER(Voucher_Date_1819),1,0))+1)),0))","v":{"$error":"#NUM!"}}]
[{"$f":"INDEX(Voucher_Date_1819,MATCH(ROWS('Bill Register 20-21'!$L$3:'Bill Register 20-21'!L628),COUNTIF(Voucher_Date_1819,\"<=\"&Voucher_Date_1819),0))","v":{"$error":"#N/A"}},{"$f":"INDEX(Voucher_Date_1819,MATCH(SMALL(IF(ISBLANK(Voucher_Date_1819),\"\",IF(ISNUMBER(Voucher_Date_1819),COUNTIF(Voucher_Date_1819,\"<\"&Voucher_Date_1819),COUNTIF(Voucher_Date_1819,\"<\"&Voucher_Date_1819)+SUM(IF(ISNUMBER(Voucher_Date_1819),1,0))+1)),ROW(A627)),IF(ISBLANK(Voucher_Date_1819),\"\",IF(ISNUMBER(Voucher_Date_1819),COUNTIF(Voucher_Date_1819,\"<\"&Voucher_Date_1819),COUNTIF(Voucher_Date_1819,\"<\"&Voucher_Date_1819)+SUM(IF(ISNUMBER(Voucher_Date_1819),1,0))+1)),0))","v":{"$error":"#NUM!"}}]
[{"$f":"INDEX(Voucher_Date_1819,MATCH(ROWS('Bill Register 20-21'!$L$3:'Bill Register 20-21'!L629),COUNTIF(Voucher_Date_1819,\"<=\"&Voucher_Date_1819),0))","v":{"$error":"#N/A"}},{"$f":"INDEX(Voucher_Date_1819,MATCH(SMALL(IF(ISBLANK(Voucher_Date_1819),\"\",IF(ISNUMBER(Voucher_Date_1819),COUNTIF(Voucher_Date_1819,\"<\"&Voucher_Date_1819),COUNTIF(Voucher_Date_1819,\"<\"&Voucher_Date_1819)+SUM(IF(ISNUMBER(Voucher_Date_1819),1,0))+1)),ROW(A628)),IF(ISBLANK(Voucher_Date_1819),\"\",IF(ISNUMBER(Voucher_Date_1819),COUNTIF(Voucher_Date_1819,\"<\"&Voucher_Date_1819),COUNTIF(Voucher_Date_1819,\"<\"&Voucher_Date_1819)+SUM(IF(ISNUMBER(Voucher_Date_1819),1,0))+1)),0))","v":{"$error":"#NUM!"}}]
[{"$f":"INDEX(Voucher_Date_1819,MATCH(ROWS('Bill Register 20-21'!$L$3:'Bill Register 20-21'!L630),COUNTIF(Voucher_Date_1819,\"<=\"&Voucher_Date_1819),0))","v":{"$error":"#N/A"}},{"$f":"INDEX(Voucher_Date_1819,MATCH(SMALL(IF(ISBLANK(Voucher_Date_1819),\"\",IF(ISNUMBER(Voucher_Date_1819),COUNTIF(Voucher_Date_1819,\"<\"&Voucher_Date_1819),COUNTIF(Voucher_Date_1819,\"<\"&Voucher_Date_1819)+SUM(IF(ISNUMBER(Voucher_Date_1819),1,0))+1)),ROW(A629)),IF(ISBLANK(Voucher_Date_1819),\"\",IF(ISNUMBER(Voucher_Date_1819),COUNTIF(Voucher_Date_1819,\"<\"&Voucher_Date_1819),COUNTIF(Voucher_Date_1819,\"<\"&Voucher_Date_1819)+SUM(IF(ISNUMBER(Voucher_Date_1819),1,0))+1)),0))","v":{"$error":"#NUM!"}}]
[{"$f":"INDEX(Voucher_Date_1819,MATCH(ROWS('Bill Register 20-21'!$L$3:'Bill Register 20-21'!L631),COUNTIF(Voucher_Date_1819,\"<=\"&Voucher_Date_1819),0))","v":{"$error":"#N/A"}},{"$f":"INDEX(Voucher_Date_1819,MATCH(SMALL(IF(ISBLANK(Voucher_Date_1819),\"\",IF(ISNUMBER(Voucher_Date_1819),COUNTIF(Voucher_Date_1819,\"<\"&Voucher_Date_1819),COUNTIF(Voucher_Date_1819,\"<\"&Voucher_Date_1819)+SUM(IF(ISNUMBER(Voucher_Date_1819),1,0))+1)),ROW(A630)),IF(ISBLANK(Voucher_Date_1819),\"\",IF(ISNUMBER(Voucher_Date_1819),COUNTIF(Voucher_Date_1819,\"<\"&Voucher_Date_1819),COUNTIF(Voucher_Date_1819,\"<\"&Voucher_Date_1819)+SUM(IF(ISNUMBER(Voucher_Date_1819),1,0))+1)),0))","v":{"$error":"#NUM!"}}]
[{"$f":"INDEX(Voucher_Date_1819,MATCH(ROWS('Bill Register 20-21'!$L$3:'Bill Register 20-21'!L632),COUNTIF(Voucher_Date_1819,\"<=\"&Voucher_Date_1819),0))","v":{"$error":"#N/A"}},{"$f":"INDEX(Voucher_Date_1819,MATCH(SMALL(IF(ISBLANK(Voucher_Date_1819),\"\",IF(ISNUMBER(Voucher_Date_1819),COUNTIF(Voucher_Date_1819,\"<\"&Voucher_Date_1819),COUNTIF(Voucher_Date_1819,\"<\"&Voucher_Date_1819)+SUM(IF(ISNUMBER(Voucher_Date_1819),1,0))+1)),ROW(A631)),IF(ISBLANK(Voucher_Date_1819),\"\",IF(ISNUMBER(Voucher_Date_1819),COUNTIF(Voucher_Date_1819,\"<\"&Voucher_Date_1819),COUNTIF(Voucher_Date_1819,\"<\"&Voucher_Date_1819)+SUM(IF(ISNUMBER(Voucher_Date_1819),1,0))+1)),0))","v":{"$error":"#NUM!"}}]
[{"$f":"INDEX(Voucher_Date_1819,MATCH(ROWS('Bill Register 20-21'!$L$3:'Bill Register 20-21'!L633),COUNTIF(Voucher_Date_1819,\"<=\"&Voucher_Date_1819),0))","v":{"$error":"#N/A"}},{"$f":"INDEX(Voucher_Date_1819,MATCH(SMALL(IF(ISBLANK(Voucher_Date_1819),\"\",IF(ISNUMBER(Voucher_Date_1819),COUNTIF(Voucher_Date_1819,\"<\"&Voucher_Date_1819),COUNTIF(Voucher_Date_1819,\"<\"&Voucher_Date_1819)+SUM(IF(ISNUMBER(Voucher_Date_1819),1,0))+1)),ROW(A632)),IF(ISBLANK(Voucher_Date_1819),\"\",IF(ISNUMBER(Voucher_Date_1819),COUNTIF(Voucher_Date_1819,\"<\"&Voucher_Date_1819),COUNTIF(Voucher_Date_1819,\"<\"&Voucher_Date_1819)+SUM(IF(ISNUMBER(Voucher_Date_1819),1,0))+1)),0))","v":{"$error":"#NUM!"}}]
[{"$f":"INDEX(Voucher_Date_1819,MATCH(ROWS('Bill Register 20-21'!$L$3:'Bill Register 20-21'!L634),COUNTIF(Voucher_Date_1819,\"<=\"&Voucher_Date_1819),0))","v":{"$error":"#N/A"}},{"$f":"INDEX(Voucher_Date_1819,MATCH(SMALL(IF(ISBLANK(Voucher_Date_1819),\"\",IF(ISNUMBER(Voucher_Date_1819),COUNTIF(Voucher_Date_1819,\"<\"&Voucher_Date_1819),COUNTIF(Voucher_Date_1819,\"<\"&Voucher_Date_1819)+SUM(IF(ISNUMBER(Voucher_Date_1819),1,0))+1)),ROW(A633)),IF(ISBLANK(Voucher_Date_1819),\"\",IF(ISNUMBER(Voucher_Date_1819),COUNTIF(Voucher_Date_1819,\"<\"&Voucher_Date_1819),COUNTIF(Voucher_Date_1819,\"<\"&Voucher_Date_1819)+SUM(IF(ISNUMBER(Voucher_Date_1819),1,0))+1)),0))","v":{"$error":"#NUM!"}}]
[{"$f":"INDEX(Voucher_Date_1819,MATCH(ROWS('Bill Register 20-21'!$L$3:'Bill Register 20-21'!L635),COUNTIF(Voucher_Date_1819,\"<=\"&Voucher_Date_1819),0))","v":{"$error":"#N/A"}},{"$f":"INDEX(Voucher_Date_1819,MATCH(SMALL(IF(ISBLANK(Voucher_Date_1819),\"\",IF(ISNUMBER(Voucher_Date_1819),COUNTIF(Voucher_Date_1819,\"<\"&Voucher_Date_1819),COUNTIF(Voucher_Date_1819,\"<\"&Voucher_Date_1819)+SUM(IF(ISNUMBER(Voucher_Date_1819),1,0))+1)),ROW(A634)),IF(ISBLANK(Voucher_Date_1819),\"\",IF(ISNUMBER(Voucher_Date_1819),COUNTIF(Voucher_Date_1819,\"<\"&Voucher_Date_1819),COUNTIF(Voucher_Date_1819,\"<\"&Voucher_Date_1819)+SUM(IF(ISNUMBER(Voucher_Date_1819),1,0))+1)),0))","v":{"$error":"#NUM!"}}]
[{"$f":"INDEX(Voucher_Date_1819,MATCH(ROWS('Bill Register 20-21'!$L$3:'Bill Register 20-21'!L636),COUNTIF(Voucher_Date_1819,\"<=\"&Voucher_Date_1819),0))","v":{"$error":"#N/A"}},{"$f":"INDEX(Voucher_Date_1819,MATCH(SMALL(IF(ISBLANK(Voucher_Date_1819),\"\",IF(ISNUMBER(Voucher_Date_1819),COUNTIF(Voucher_Date_1819,\"<\"&Voucher_Date_1819),COUNTIF(Voucher_Date_1819,\"<\"&Voucher_Date_1819)+SUM(IF(ISNUMBER(Voucher_Date_1819),1,0))+1)),ROW(A635)),IF(ISBLANK(Voucher_Date_1819),\"\",IF(ISNUMBER(Voucher_Date_1819),COUNTIF(Voucher_Date_1819,\"<\"&Voucher_Date_1819),COUNTIF(Voucher_Date_1819,\"<\"&Voucher_Date_1819)+SUM(IF(ISNUMBER(Voucher_Date_1819),1,0))+1)),0))","v":{"$error":"#NUM!"}}]
[{"$f":"INDEX(Voucher_Date_1819,MATCH(ROWS('Bill Register 20-21'!$L$3:'Bill Register 20-21'!L637),COUNTIF(Voucher_Date_1819,\"<=\"&Voucher_Date_1819),0))","v":{"$error":"#N/A"}},{"$f":"INDEX(Voucher_Date_1819,MATCH(SMALL(IF(ISBLANK(Voucher_Date_1819),\"\",IF(ISNUMBER(Voucher_Date_1819),COUNTIF(Voucher_Date_1819,\"<\"&Voucher_Date_1819),COUNTIF(Voucher_Date_1819,\"<\"&Voucher_Date_1819)+SUM(IF(ISNUMBER(Voucher_Date_1819),1,0))+1)),ROW(A636)),IF(ISBLANK(Voucher_Date_1819),\"\",IF(ISNUMBER(Voucher_Date_1819),COUNTIF(Voucher_Date_1819,\"<\"&Voucher_Date_1819),COUNTIF(Voucher_Date_1819,\"<\"&Voucher_Date_1819)+SUM(IF(ISNUMBER(Voucher_Date_1819),1,0))+1)),0))","v":{"$error":"#NUM!"}}]
[{"$f":"INDEX(Voucher_Date_1819,MATCH(ROWS('Bill Register 20-21'!$L$3:'Bill Register 20-21'!L638),COUNTIF(Voucher_Date_1819,\"<=\"&Voucher_Date_1819),0))","v":{"$error":"#N/A"}},{"$f":"INDEX(Voucher_Date_1819,MATCH(SMALL(IF(ISBLANK(Voucher_Date_1819),\"\",IF(ISNUMBER(Voucher_Date_1819),COUNTIF(Voucher_Date_1819,\"<\"&Voucher_Date_1819),COUNTIF(Voucher_Date_1819,\"<\"&Voucher_Date_1819)+SUM(IF(ISNUMBER(Voucher_Date_1819),1,0))+1)),ROW(A637)),IF(ISBLANK(Voucher_Date_1819),\"\",IF(ISNUMBER(Voucher_Date_1819),COUNTIF(Voucher_Date_1819,\"<\"&Voucher_Date_1819),COUNTIF(Voucher_Date_1819,\"<\"&Voucher_Date_1819)+SUM(IF(ISNUMBER(Voucher_Date_1819),1,0))+1)),0))","v":{"$error":"#NUM!"}}]
[{"$f":"INDEX(Voucher_Date_1819,MATCH(ROWS('Bill Register 20-21'!$L$3:'Bill Register 20-21'!L639),COUNTIF(Voucher_Date_1819,\"<=\"&Voucher_Date_1819),0))","v":{"$error":"#N/A"}},{"$f":"INDEX(Voucher_Date_1819,MATCH(SMALL(IF(ISBLANK(Voucher_Date_1819),\"\",IF(ISNUMBER(Voucher_Date_1819),COUNTIF(Voucher_Date_1819,\"<\"&Voucher_Date_1819),COUNTIF(Voucher_Date_1819,\"<\"&Voucher_Date_1819)+SUM(IF(ISNUMBER(Voucher_Date_1819),1,0))+1)),ROW(A638)),IF(ISBLANK(Voucher_Date_1819),\"\",IF(ISNUMBER(Voucher_Date_1819),COUNTIF(Voucher_Date_1819,\"<\"&Voucher_Date_1819),COUNTIF(Voucher_Date_1819,\"<\"&Voucher_Date_1819)+SUM(IF(ISNUMBER(Voucher_Date_1819),1,0))+1)),0))","v":{"$error":"#NUM!"}}]
[{"$f":"INDEX(Voucher_Date_1819,MATCH(ROWS('Bill Register 20-21'!$L$3:'Bill Register 20-21'!L640),COUNTIF(Voucher_Date_1819,\"<=\"&Voucher_Date_1819),0))","v":{"$error":"#N/A"}},{"$f":"INDEX(Voucher_Date_1819,MATCH(SMALL(IF(ISBLANK(Voucher_Date_1819),\"\",IF(ISNUMBER(Voucher_Date_1819),COUNTIF(Voucher_Date_1819,\"<\"&Voucher_Date_1819),COUNTIF(Voucher_Date_1819,\"<\"&Voucher_Date_1819)+SUM(IF(ISNUMBER(Voucher_Date_1819),1,0))+1)),ROW(A639)),IF(ISBLANK(Voucher_Date_1819),\"\",IF(ISNUMBER(Voucher_Date_1819),COUNTIF(Voucher_Date_1819,\"<\"&Voucher_Date_1819),COUNTIF(Voucher_Date_1819,\"<\"&Voucher_Date_1819)+SUM(IF(ISNUMBER(Voucher_Date_1819),1,0))+1)),0))","v":{"$error":"#NUM!"}}]
[{"$f":"INDEX(Voucher_Date_1819,MATCH(ROWS('Bill Register 20-21'!$L$3:'Bill Register 20-21'!L641),COUNTIF(Voucher_Date_1819,\"<=\"&Voucher_Date_1819),0))","v":{"$error":"#N/A"}},{"$f":"INDEX(Voucher_Date_1819,MATCH(SMALL(IF(ISBLANK(Voucher_Date_1819),\"\",IF(ISNUMBER(Voucher_Date_1819),COUNTIF(Voucher_Date_1819,\"<\"&Voucher_Date_1819),COUNTIF(Voucher_Date_1819,\"<\"&Voucher_Date_1819)+SUM(IF(ISNUMBER(Voucher_Date_1819),1,0))+1)),ROW(A640)),IF(ISBLANK(Voucher_Date_1819),\"\",IF(ISNUMBER(Voucher_Date_1819),COUNTIF(Voucher_Date_1819,\"<\"&Voucher_Date_1819),COUNTIF(Voucher_Date_1819,\"<\"&Voucher_Date_1819)+SUM(IF(ISNUMBER(Voucher_Date_1819),1,0))+1)),0))","v":{"$error":"#NUM!"}}]
[{"$f":"INDEX(Voucher_Date_1819,MATCH(ROWS('Bill Register 20-21'!$L$3:'Bill Register 20-21'!L642),COUNTIF(Voucher_Date_1819,\"<=\"&Voucher_Date_1819),0))","v":{"$error":"#N/A"}},{"$f":"INDEX(Voucher_Date_1819,MATCH(SMALL(IF(ISBLANK(Voucher_Date_1819),\"\",IF(ISNUMBER(Voucher_Date_1819),COUNTIF(Voucher_Date_1819,\"<\"&Voucher_Date_1819),COUNTIF(Voucher_Date_1819,\"<\"&Voucher_Date_1819)+SUM(IF(ISNUMBER(Voucher_Date_1819),1,0))+1)),ROW(A641)),IF(ISBLANK(Voucher_Date_1819),\"\",IF(ISNUMBER(Voucher_Date_1819),COUNTIF(Voucher_Date_1819,\"<\"&Voucher_Date_1819),COUNTIF(Voucher_Date_1819,\"<\"&Voucher_Date_1819)+SUM(IF(ISNUMBER(Voucher_Date_1819),1,0))+1)),0))","v":{"$error":"#NUM!"}}]
[{"$f":"INDEX(Voucher_Date_1819,MATCH(ROWS('Bill Register 20-21'!$L$3:'Bill Register 20-21'!L643),COUNTIF(Voucher_Date_1819,\"<=\"&Voucher_Date_1819),0))","v":{"$error":"#N/A"}},{"$f":"INDEX(Voucher_Date_1819,MATCH(SMALL(IF(ISBLANK(Voucher_Date_1819),\"\",IF(ISNUMBER(Voucher_Date_1819),COUNTIF(Voucher_Date_1819,\"<\"&Voucher_Date_1819),COUNTIF(Voucher_Date_1819,\"<\"&Voucher_Date_1819)+SUM(IF(ISNUMBER(Voucher_Date_1819),1,0))+1)),ROW(A642)),IF(ISBLANK(Voucher_Date_1819),\"\",IF(ISNUMBER(Voucher_Date_1819),COUNTIF(Voucher_Date_1819,\"<\"&Voucher_Date_1819),COUNTIF(Voucher_Date_1819,\"<\"&Voucher_Date_1819)+SUM(IF(ISNUMBER(Voucher_Date_1819),1,0))+1)),0))","v":{"$error":"#NUM!"}}]
[{"$f":"INDEX(Voucher_Date_1819,MATCH(ROWS('Bill Register 20-21'!$L$3:'Bill Register 20-21'!L644),COUNTIF(Voucher_Date_1819,\"<=\"&Voucher_Date_1819),0))","v":{"$error":"#N/A"}},{"$f":"INDEX(Voucher_Date_1819,MATCH(SMALL(IF(ISBLANK(Voucher_Date_1819),\"\",IF(ISNUMBER(Voucher_Date_1819),COUNTIF(Voucher_Date_1819,\"<\"&Voucher_Date_1819),COUNTIF(Voucher_Date_1819,\"<\"&Voucher_Date_1819)+SUM(IF(ISNUMBER(Voucher_Date_1819),1,0))+1)),ROW(A643)),IF(ISBLANK(Voucher_Date_1819),\"\",IF(ISNUMBER(Voucher_Date_1819),COUNTIF(Voucher_Date_1819,\"<\"&Voucher_Date_1819),COUNTIF(Voucher_Date_1819,\"<\"&Voucher_Date_1819)+SUM(IF(ISNUMBER(Voucher_Date_1819),1,0))+1)),0))","v":{"$error":"#NUM!"}}]
[{"$f":"INDEX(Voucher_Date_1819,MATCH(ROWS('Bill Register 20-21'!$L$3:'Bill Register 20-21'!L645),COUNTIF(Voucher_Date_1819,\"<=\"&Voucher_Date_1819),0))","v":{"$error":"#N/A"}},{"$f":"INDEX(Voucher_Date_1819,MATCH(SMALL(IF(ISBLANK(Voucher_Date_1819),\"\",IF(ISNUMBER(Voucher_Date_1819),COUNTIF(Voucher_Date_1819,\"<\"&Voucher_Date_1819),COUNTIF(Voucher_Date_1819,\"<\"&Voucher_Date_1819)+SUM(IF(ISNUMBER(Voucher_Date_1819),1,0))+1)),ROW(A644)),IF(ISBLANK(Voucher_Date_1819),\"\",IF(ISNUMBER(Voucher_Date_1819),COUNTIF(Voucher_Date_1819,\"<\"&Voucher_Date_1819),COUNTIF(Voucher_Date_1819,\"<\"&Voucher_Date_1819)+SUM(IF(ISNUMBER(Voucher_Date_1819),1,0))+1)),0))","v":{"$error":"#NUM!"}}]
[{"$f":"INDEX(Voucher_Date_1819,MATCH(ROWS('Bill Register 20-21'!$L$3:'Bill Register 20-21'!L646),COUNTIF(Voucher_Date_1819,\"<=\"&Voucher_Date_1819),0))","v":{"$error":"#N/A"}},{"$f":"INDEX(Voucher_Date_1819,MATCH(SMALL(IF(ISBLANK(Voucher_Date_1819),\"\",IF(ISNUMBER(Voucher_Date_1819),COUNTIF(Voucher_Date_1819,\"<\"&Voucher_Date_1819),COUNTIF(Voucher_Date_1819,\"<\"&Voucher_Date_1819)+SUM(IF(ISNUMBER(Voucher_Date_1819),1,0))+1)),ROW(A645)),IF(ISBLANK(Voucher_Date_1819),\"\",IF(ISNUMBER(Voucher_Date_1819),COUNTIF(Voucher_Date_1819,\"<\"&Voucher_Date_1819),COUNTIF(Voucher_Date_1819,\"<\"&Voucher_Date_1819)+SUM(IF(ISNUMBER(Voucher_Date_1819),1,0))+1)),0))","v":{"$error":"#NUM!"}}]
[{"$f":"INDEX(Voucher_Date_1819,MATCH(ROWS('Bill Register 20-21'!$L$3:'Bill Register 20-21'!L647),COUNTIF(Voucher_Date_1819,\"<=\"&Voucher_Date_1819),0))","v":{"$error":"#N/A"}},{"$f":"INDEX(Voucher_Date_1819,MATCH(SMALL(IF(ISBLANK(Voucher_Date_1819),\"\",IF(ISNUMBER(Voucher_Date_1819),COUNTIF(Voucher_Date_1819,\"<\"&Voucher_Date_1819),COUNTIF(Voucher_Date_1819,\"<\"&Voucher_Date_1819)+SUM(IF(ISNUMBER(Voucher_Date_1819),1,0))+1)),ROW(A646)),IF(ISBLANK(Voucher_Date_1819),\"\",IF(ISNUMBER(Voucher_Date_1819),COUNTIF(Voucher_Date_1819,\"<\"&Voucher_Date_1819),COUNTIF(Voucher_Date_1819,\"<\"&Voucher_Date_1819)+SUM(IF(ISNUMBER(Voucher_Date_1819),1,0))+1)),0))","v":{"$error":"#NUM!"}}]
[{"$f":"INDEX(Voucher_Date_1819,MATCH(ROWS('Bill Register 20-21'!$L$3:'Bill Register 20-21'!L648),COUNTIF(Voucher_Date_1819,\"<=\"&Voucher_Date_1819),0))","v":{"$error":"#N/A"}},{"$f":"INDEX(Voucher_Date_1819,MATCH(SMALL(IF(ISBLANK(Voucher_Date_1819),\"\",IF(ISNUMBER(Voucher_Date_1819),COUNTIF(Voucher_Date_1819,\"<\"&Voucher_Date_1819),COUNTIF(Voucher_Date_1819,\"<\"&Voucher_Date_1819)+SUM(IF(ISNUMBER(Voucher_Date_1819),1,0))+1)),ROW(A647)),IF(ISBLANK(Voucher_Date_1819),\"\",IF(ISNUMBER(Voucher_Date_1819),COUNTIF(Voucher_Date_1819,\"<\"&Voucher_Date_1819),COUNTIF(Voucher_Date_1819,\"<\"&Voucher_Date_1819)+SUM(IF(ISNUMBER(Voucher_Date_1819),1,0))+1)),0))","v":{"$error":"#NUM!"}}]
[{"$f":"INDEX(Voucher_Date_1819,MATCH(ROWS('Bill Register 20-21'!$L$3:'Bill Register 20-21'!L649),COUNTIF(Voucher_Date_1819,\"<=\"&Voucher_Date_1819),0))","v":{"$error":"#N/A"}},{"$f":"INDEX(Voucher_Date_1819,MATCH(SMALL(IF(ISBLANK(Voucher_Date_1819),\"\",IF(ISNUMBER(Voucher_Date_1819),COUNTIF(Voucher_Date_1819,\"<\"&Voucher_Date_1819),COUNTIF(Voucher_Date_1819,\"<\"&Voucher_Date_1819)+SUM(IF(ISNUMBER(Voucher_Date_1819),1,0))+1)),ROW(A648)),IF(ISBLANK(Voucher_Date_1819),\"\",IF(ISNUMBER(Voucher_Date_1819),COUNTIF(Voucher_Date_1819,\"<\"&Voucher_Date_1819),COUNTIF(Voucher_Date_1819,\"<\"&Voucher_Date_1819)+SUM(IF(ISNUMBER(Voucher_Date_1819),1,0))+1)),0))","v":{"$error":"#NUM!"}}]
[{"$f":"INDEX(Voucher_Date_1819,MATCH(ROWS('Bill Register 20-21'!$L$3:'Bill Register 20-21'!L650),COUNTIF(Voucher_Date_1819,\"<=\"&Voucher_Date_1819),0))","v":{"$error":"#N/A"}},{"$f":"INDEX(Voucher_Date_1819,MATCH(SMALL(IF(ISBLANK(Voucher_Date_1819),\"\",IF(ISNUMBER(Voucher_Date_1819),COUNTIF(Voucher_Date_1819,\"<\"&Voucher_Date_1819),COUNTIF(Voucher_Date_1819,\"<\"&Voucher_Date_1819)+SUM(IF(ISNUMBER(Voucher_Date_1819),1,0))+1)),ROW(A649)),IF(ISBLANK(Voucher_Date_1819),\"\",IF(ISNUMBER(Voucher_Date_1819),COUNTIF(Voucher_Date_1819,\"<\"&Voucher_Date_1819),COUNTIF(Voucher_Date_1819,\"<\"&Voucher_Date_1819)+SUM(IF(ISNUMBER(Voucher_Date_1819),1,0))+1)),0))","v":{"$error":"#NUM!"}}]
[{"$f":"INDEX(Voucher_Date_1819,MATCH(ROWS('Bill Register 20-21'!$L$3:'Bill Register 20-21'!L651),COUNTIF(Voucher_Date_1819,\"<=\"&Voucher_Date_1819),0))","v":{"$error":"#N/A"}},{"$f":"INDEX(Voucher_Date_1819,MATCH(SMALL(IF(ISBLANK(Voucher_Date_1819),\"\",IF(ISNUMBER(Voucher_Date_1819),COUNTIF(Voucher_Date_1819,\"<\"&Voucher_Date_1819),COUNTIF(Voucher_Date_1819,\"<\"&Voucher_Date_1819)+SUM(IF(ISNUMBER(Voucher_Date_1819),1,0))+1)),ROW(A650)),IF(ISBLANK(Voucher_Date_1819),\"\",IF(ISNUMBER(Voucher_Date_1819),COUNTIF(Voucher_Date_1819,\"<\"&Voucher_Date_1819),COUNTIF(Voucher_Date_1819,\"<\"&Voucher_Date_1819)+SUM(IF(ISNUMBER(Voucher_Date_1819),1,0))+1)),0))","v":{"$error":"#NUM!"}}]
[{"$f":"INDEX(Voucher_Date_1819,MATCH(ROWS('Bill Register 20-21'!$L$3:'Bill Register 20-21'!L652),COUNTIF(Voucher_Date_1819,\"<=\"&Voucher_Date_1819),0))","v":{"$error":"#N/A"}},{"$f":"INDEX(Voucher_Date_1819,MATCH(SMALL(IF(ISBLANK(Voucher_Date_1819),\"\",IF(ISNUMBER(Voucher_Date_1819),COUNTIF(Voucher_Date_1819,\"<\"&Voucher_Date_1819),COUNTIF(Voucher_Date_1819,\"<\"&Voucher_Date_1819)+SUM(IF(ISNUMBER(Voucher_Date_1819),1,0))+1)),ROW(A651)),IF(ISBLANK(Voucher_Date_1819),\"\",IF(ISNUMBER(Voucher_Date_1819),COUNTIF(Voucher_Date_1819,\"<\"&Voucher_Date_1819),COUNTIF(Voucher_Date_1819,\"<\"&Voucher_Date_1819)+SUM(IF(ISNUMBER(Voucher_Date_1819),1,0))+1)),0))","v":{"$error":"#NUM!"}}]
[{"$f":"INDEX(Voucher_Date_1819,MATCH(ROWS('Bill Register 20-21'!$L$3:'Bill Register 20-21'!L653),COUNTIF(Voucher_Date_1819,\"<=\"&Voucher_Date_1819),0))","v":{"$error":"#N/A"}},{"$f":"INDEX(Voucher_Date_1819,MATCH(SMALL(IF(ISBLANK(Voucher_Date_1819),\"\",IF(ISNUMBER(Voucher_Date_1819),COUNTIF(Voucher_Date_1819,\"<\"&Voucher_Date_1819),COUNTIF(Voucher_Date_1819,\"<\"&Voucher_Date_1819)+SUM(IF(ISNUMBER(Voucher_Date_1819),1,0))+1)),ROW(A652)),IF(ISBLANK(Voucher_Date_1819),\"\",IF(ISNUMBER(Voucher_Date_1819),COUNTIF(Voucher_Date_1819,\"<\"&Voucher_Date_1819),COUNTIF(Voucher_Date_1819,\"<\"&Voucher_Date_1819)+SUM(IF(ISNUMBER(Voucher_Date_1819),1,0))+1)),0))","v":{"$error":"#NUM!"}}]
[{"$f":"INDEX(Voucher_Date_1819,MATCH(ROWS('Bill Register 20-21'!$L$3:'Bill Register 20-21'!L654),COUNTIF(Voucher_Date_1819,\"<=\"&Voucher_Date_1819),0))","v":{"$error":"#N/A"}},{"$f":"INDEX(Voucher_Date_1819,MATCH(SMALL(IF(ISBLANK(Voucher_Date_1819),\"\",IF(ISNUMBER(Voucher_Date_1819),COUNTIF(Voucher_Date_1819,\"<\"&Voucher_Date_1819),COUNTIF(Voucher_Date_1819,\"<\"&Voucher_Date_1819)+SUM(IF(ISNUMBER(Voucher_Date_1819),1,0))+1)),ROW(A653)),IF(ISBLANK(Voucher_Date_1819),\"\",IF(ISNUMBER(Voucher_Date_1819),COUNTIF(Voucher_Date_1819,\"<\"&Voucher_Date_1819),COUNTIF(Voucher_Date_1819,\"<\"&Voucher_Date_1819)+SUM(IF(ISNUMBER(Voucher_Date_1819),1,0))+1)),0))","v":{"$error":"#NUM!"}}]
[{"$f":"INDEX(Voucher_Date_1819,MATCH(ROWS('Bill Register 20-21'!$L$3:'Bill Register 20-21'!L655),COUNTIF(Voucher_Date_1819,\"<=\"&Voucher_Date_1819),0))","v":{"$error":"#N/A"}},{"$f":"INDEX(Voucher_Date_1819,MATCH(SMALL(IF(ISBLANK(Voucher_Date_1819),\"\",IF(ISNUMBER(Voucher_Date_1819),COUNTIF(Voucher_Date_1819,\"<\"&Voucher_Date_1819),COUNTIF(Voucher_Date_1819,\"<\"&Voucher_Date_1819)+SUM(IF(ISNUMBER(Voucher_Date_1819),1,0))+1)),ROW(A654)),IF(ISBLANK(Voucher_Date_1819),\"\",IF(ISNUMBER(Voucher_Date_1819),COUNTIF(Voucher_Date_1819,\"<\"&Voucher_Date_1819),COUNTIF(Voucher_Date_1819,\"<\"&Voucher_Date_1819)+SUM(IF(ISNUMBER(Voucher_Date_1819),1,0))+1)),0))","v":{"$error":"#NUM!"}}]
[{"$f":"INDEX(Voucher_Date_1819,MATCH(ROWS('Bill Register 20-21'!$L$3:'Bill Register 20-21'!L656),COUNTIF(Voucher_Date_1819,\"<=\"&Voucher_Date_1819),0))","v":{"$error":"#N/A"}},{"$f":"INDEX(Voucher_Date_1819,MATCH(SMALL(IF(ISBLANK(Voucher_Date_1819),\"\",IF(ISNUMBER(Voucher_Date_1819),COUNTIF(Voucher_Date_1819,\"<\"&Voucher_Date_1819),COUNTIF(Voucher_Date_1819,\"<\"&Voucher_Date_1819)+SUM(IF(ISNUMBER(Voucher_Date_1819),1,0))+1)),ROW(A655)),IF(ISBLANK(Voucher_Date_1819),\"\",IF(ISNUMBER(Voucher_Date_1819),COUNTIF(Voucher_Date_1819,\"<\"&Voucher_Date_1819),COUNTIF(Voucher_Date_1819,\"<\"&Voucher_Date_1819)+SUM(IF(ISNUMBER(Voucher_Date_1819),1,0))+1)),0))","v":{"$error":"#NUM!"}}]
[{"$f":"INDEX(Voucher_Date_1819,MATCH(ROWS('Bill Register 20-21'!$L$3:'Bill Register 20-21'!L657),COUNTIF(Voucher_Date_1819,\"<=\"&Voucher_Date_1819),0))","v":{"$error":"#N/A"}},{"$f":"INDEX(Voucher_Date_1819,MATCH(SMALL(IF(ISBLANK(Voucher_Date_1819),\"\",IF(ISNUMBER(Voucher_Date_1819),COUNTIF(Voucher_Date_1819,\"<\"&Voucher_Date_1819),COUNTIF(Voucher_Date_1819,\"<\"&Voucher_Date_1819)+SUM(IF(ISNUMBER(Voucher_Date_1819),1,0))+1)),ROW(A656)),IF(ISBLANK(Voucher_Date_1819),\"\",IF(ISNUMBER(Voucher_Date_1819),COUNTIF(Voucher_Date_1819,\"<\"&Voucher_Date_1819),COUNTIF(Voucher_Date_1819,\"<\"&Voucher_Date_1819)+SUM(IF(ISNUMBER(Voucher_Date_1819),1,0))+1)),0))","v":{"$error":"#NUM!"}}]
[{"$f":"INDEX(Voucher_Date_1819,MATCH(ROWS('Bill Register 20-21'!$L$3:'Bill Register 20-21'!L658),COUNTIF(Voucher_Date_1819,\"<=\"&Voucher_Date_1819),0))","v":{"$error":"#N/A"}},{"$f":"INDEX(Voucher_Date_1819,MATCH(SMALL(IF(ISBLANK(Voucher_Date_1819),\"\",IF(ISNUMBER(Voucher_Date_1819),COUNTIF(Voucher_Date_1819,\"<\"&Voucher_Date_1819),COUNTIF(Voucher_Date_1819,\"<\"&Voucher_Date_1819)+SUM(IF(ISNUMBER(Voucher_Date_1819),1,0))+1)),ROW(A657)),IF(ISBLANK(Voucher_Date_1819),\"\",IF(ISNUMBER(Voucher_Date_1819),COUNTIF(Voucher_Date_1819,\"<\"&Voucher_Date_1819),COUNTIF(Voucher_Date_1819,\"<\"&Voucher_Date_1819)+SUM(IF(ISNUMBER(Voucher_Date_1819),1,0))+1)),0))","v":{"$error":"#NUM!"}}]
[{"$f":"INDEX(Voucher_Date_1819,MATCH(ROWS('Bill Register 20-21'!$L$3:'Bill Register 20-21'!L659),COUNTIF(Voucher_Date_1819,\"<=\"&Voucher_Date_1819),0))","v":{"$error":"#N/A"}},{"$f":"INDEX(Voucher_Date_1819,MATCH(SMALL(IF(ISBLANK(Voucher_Date_1819),\"\",IF(ISNUMBER(Voucher_Date_1819),COUNTIF(Voucher_Date_1819,\"<\"&Voucher_Date_1819),COUNTIF(Voucher_Date_1819,\"<\"&Voucher_Date_1819)+SUM(IF(ISNUMBER(Voucher_Date_1819),1,0))+1)),ROW(A658)),IF(ISBLANK(Voucher_Date_1819),\"\",IF(ISNUMBER(Voucher_Date_1819),COUNTIF(Voucher_Date_1819,\"<\"&Voucher_Date_1819),COUNTIF(Voucher_Date_1819,\"<\"&Voucher_Date_1819)+SUM(IF(ISNUMBER(Voucher_Date_1819),1,0))+1)),0))","v":{"$error":"#NUM!"}}]
[{"$f":"INDEX(Voucher_Date_1819,MATCH(ROWS('Bill Register 20-21'!$L$3:'Bill Register 20-21'!L660),COUNTIF(Voucher_Date_1819,\"<=\"&Voucher_Date_1819),0))","v":{"$error":"#N/A"}},{"$f":"INDEX(Voucher_Date_1819,MATCH(SMALL(IF(ISBLANK(Voucher_Date_1819),\"\",IF(ISNUMBER(Voucher_Date_1819),COUNTIF(Voucher_Date_1819,\"<\"&Voucher_Date_1819),COUNTIF(Voucher_Date_1819,\"<\"&Voucher_Date_1819)+SUM(IF(ISNUMBER(Voucher_Date_1819),1,0))+1)),ROW(A659)),IF(ISBLANK(Voucher_Date_1819),\"\",IF(ISNUMBER(Voucher_Date_1819),COUNTIF(Voucher_Date_1819,\"<\"&Voucher_Date_1819),COUNTIF(Voucher_Date_1819,\"<\"&Voucher_Date_1819)+SUM(IF(ISNUMBER(Voucher_Date_1819),1,0))+1)),0))","v":{"$error":"#NUM!"}}]
[{"$f":"INDEX(Voucher_Date_1819,MATCH(ROWS('Bill Register 20-21'!$L$3:'Bill Register 20-21'!L661),COUNTIF(Voucher_Date_1819,\"<=\"&Voucher_Date_1819),0))","v":{"$error":"#N/A"}},{"$f":"INDEX(Voucher_Date_1819,MATCH(SMALL(IF(ISBLANK(Voucher_Date_1819),\"\",IF(ISNUMBER(Voucher_Date_1819),COUNTIF(Voucher_Date_1819,\"<\"&Voucher_Date_1819),COUNTIF(Voucher_Date_1819,\"<\"&Voucher_Date_1819)+SUM(IF(ISNUMBER(Voucher_Date_1819),1,0))+1)),ROW(A660)),IF(ISBLANK(Voucher_Date_1819),\"\",IF(ISNUMBER(Voucher_Date_1819),COUNTIF(Voucher_Date_1819,\"<\"&Voucher_Date_1819),COUNTIF(Voucher_Date_1819,\"<\"&Voucher_Date_1819)+SUM(IF(ISNUMBER(Voucher_Date_1819),1,0))+1)),0))","v":{"$error":"#NUM!"}}]
[{"$f":"INDEX(Voucher_Date_1819,MATCH(ROWS('Bill Register 20-21'!$L$3:'Bill Register 20-21'!L662),COUNTIF(Voucher_Date_1819,\"<=\"&Voucher_Date_1819),0))","v":{"$error":"#N/A"}},{"$f":"INDEX(Voucher_Date_1819,MATCH(SMALL(IF(ISBLANK(Voucher_Date_1819),\"\",IF(ISNUMBER(Voucher_Date_1819),COUNTIF(Voucher_Date_1819,\"<\"&Voucher_Date_1819),COUNTIF(Voucher_Date_1819,\"<\"&Voucher_Date_1819)+SUM(IF(ISNUMBER(Voucher_Date_1819),1,0))+1)),ROW(A661)),IF(ISBLANK(Voucher_Date_1819),\"\",IF(ISNUMBER(Voucher_Date_1819),COUNTIF(Voucher_Date_1819,\"<\"&Voucher_Date_1819),COUNTIF(Voucher_Date_1819,\"<\"&Voucher_Date_1819)+SUM(IF(ISNUMBER(Voucher_Date_1819),1,0))+1)),0))","v":{"$error":"#NUM!"}}]
[{"$f":"INDEX(Voucher_Date_1819,MATCH(ROWS('Bill Register 20-21'!$L$3:'Bill Register 20-21'!L663),COUNTIF(Voucher_Date_1819,\"<=\"&Voucher_Date_1819),0))","v":{"$error":"#N/A"}},{"$f":"INDEX(Voucher_Date_1819,MATCH(SMALL(IF(ISBLANK(Voucher_Date_1819),\"\",IF(ISNUMBER(Voucher_Date_1819),COUNTIF(Voucher_Date_1819,\"<\"&Voucher_Date_1819),COUNTIF(Voucher_Date_1819,\"<\"&Voucher_Date_1819)+SUM(IF(ISNUMBER(Voucher_Date_1819),1,0))+1)),ROW(A662)),IF(ISBLANK(Voucher_Date_1819),\"\",IF(ISNUMBER(Voucher_Date_1819),COUNTIF(Voucher_Date_1819,\"<\"&Voucher_Date_1819),COUNTIF(Voucher_Date_1819,\"<\"&Voucher_Date_1819)+SUM(IF(ISNUMBER(Voucher_Date_1819),1,0))+1)),0))","v":{"$error":"#NUM!"}}]
[{"$f":"INDEX(Voucher_Date_1819,MATCH(ROWS('Bill Register 20-21'!$L$3:'Bill Register 20-21'!L664),COUNTIF(Voucher_Date_1819,\"<=\"&Voucher_Date_1819),0))","v":{"$error":"#N/A"}},{"$f":"INDEX(Voucher_Date_1819,MATCH(SMALL(IF(ISBLANK(Voucher_Date_1819),\"\",IF(ISNUMBER(Voucher_Date_1819),COUNTIF(Voucher_Date_1819,\"<\"&Voucher_Date_1819),COUNTIF(Voucher_Date_1819,\"<\"&Voucher_Date_1819)+SUM(IF(ISNUMBER(Voucher_Date_1819),1,0))+1)),ROW(A663)),IF(ISBLANK(Voucher_Date_1819),\"\",IF(ISNUMBER(Voucher_Date_1819),COUNTIF(Voucher_Date_1819,\"<\"&Voucher_Date_1819),COUNTIF(Voucher_Date_1819,\"<\"&Voucher_Date_1819)+SUM(IF(ISNUMBER(Voucher_Date_1819),1,0))+1)),0))","v":{"$error":"#NUM!"}}]
[{"$f":"INDEX(Voucher_Date_1819,MATCH(ROWS('Bill Register 20-21'!$L$3:'Bill Register 20-21'!L665),COUNTIF(Voucher_Date_1819,\"<=\"&Voucher_Date_1819),0))","v":{"$error":"#N/A"}},{"$f":"INDEX(Voucher_Date_1819,MATCH(SMALL(IF(ISBLANK(Voucher_Date_1819),\"\",IF(ISNUMBER(Voucher_Date_1819),COUNTIF(Voucher_Date_1819,\"<\"&Voucher_Date_1819),COUNTIF(Voucher_Date_1819,\"<\"&Voucher_Date_1819)+SUM(IF(ISNUMBER(Voucher_Date_1819),1,0))+1)),ROW(A664)),IF(ISBLANK(Voucher_Date_1819),\"\",IF(ISNUMBER(Voucher_Date_1819),COUNTIF(Voucher_Date_1819,\"<\"&Voucher_Date_1819),COUNTIF(Voucher_Date_1819,\"<\"&Voucher_Date_1819)+SUM(IF(ISNUMBER(Voucher_Date_1819),1,0))+1)),0))","v":{"$error":"#NUM!"}}]
[{"$f":"INDEX(Voucher_Date_1819,MATCH(ROWS('Bill Register 20-21'!$L$3:'Bill Register 20-21'!L666),COUNTIF(Voucher_Date_1819,\"<=\"&Voucher_Date_1819),0))","v":{"$error":"#N/A"}},{"$f":"INDEX(Voucher_Date_1819,MATCH(SMALL(IF(ISBLANK(Voucher_Date_1819),\"\",IF(ISNUMBER(Voucher_Date_1819),COUNTIF(Voucher_Date_1819,\"<\"&Voucher_Date_1819),COUNTIF(Voucher_Date_1819,\"<\"&Voucher_Date_1819)+SUM(IF(ISNUMBER(Voucher_Date_1819),1,0))+1)),ROW(A665)),IF(ISBLANK(Voucher_Date_1819),\"\",IF(ISNUMBER(Voucher_Date_1819),COUNTIF(Voucher_Date_1819,\"<\"&Voucher_Date_1819),COUNTIF(Voucher_Date_1819,\"<\"&Voucher_Date_1819)+SUM(IF(ISNUMBER(Voucher_Date_1819),1,0))+1)),0))","v":{"$error":"#NUM!"}}]
[{"$f":"INDEX(Voucher_Date_1819,MATCH(ROWS('Bill Register 20-21'!$L$3:'Bill Register 20-21'!L667),COUNTIF(Voucher_Date_1819,\"<=\"&Voucher_Date_1819),0))","v":{"$error":"#N/A"}},{"$f":"INDEX(Voucher_Date_1819,MATCH(SMALL(IF(ISBLANK(Voucher_Date_1819),\"\",IF(ISNUMBER(Voucher_Date_1819),COUNTIF(Voucher_Date_1819,\"<\"&Voucher_Date_1819),COUNTIF(Voucher_Date_1819,\"<\"&Voucher_Date_1819)+SUM(IF(ISNUMBER(Voucher_Date_1819),1,0))+1)),ROW(A666)),IF(ISBLANK(Voucher_Date_1819),\"\",IF(ISNUMBER(Voucher_Date_1819),COUNTIF(Voucher_Date_1819,\"<\"&Voucher_Date_1819),COUNTIF(Voucher_Date_1819,\"<\"&Voucher_Date_1819)+SUM(IF(ISNUMBER(Voucher_Date_1819),1,0))+1)),0))","v":{"$error":"#NUM!"}}]
[{"$f":"INDEX(Voucher_Date_1819,MATCH(ROWS('Bill Register 20-21'!$L$3:'Bill Register 20-21'!L668),COUNTIF(Voucher_Date_1819,\"<=\"&Voucher_Date_1819),0))","v":{"$error":"#N/A"}},{"$f":"INDEX(Voucher_Date_1819,MATCH(SMALL(IF(ISBLANK(Voucher_Date_1819),\"\",IF(ISNUMBER(Voucher_Date_1819),COUNTIF(Voucher_Date_1819,\"<\"&Voucher_Date_1819),COUNTIF(Voucher_Date_1819,\"<\"&Voucher_Date_1819)+SUM(IF(ISNUMBER(Voucher_Date_1819),1,0))+1)),ROW(A667)),IF(ISBLANK(Voucher_Date_1819),\"\",IF(ISNUMBER(Voucher_Date_1819),COUNTIF(Voucher_Date_1819,\"<\"&Voucher_Date_1819),COUNTIF(Voucher_Date_1819,\"<\"&Voucher_Date_1819)+SUM(IF(ISNUMBER(Voucher_Date_1819),1,0))+1)),0))","v":{"$error":"#NUM!"}}]
[{"$f":"INDEX(Voucher_Date_1819,MATCH(ROWS('Bill Register 20-21'!$L$3:'Bill Register 20-21'!L669),COUNTIF(Voucher_Date_1819,\"<=\"&Voucher_Date_1819),0))","v":{"$error":"#N/A"}},{"$f":"INDEX(Voucher_Date_1819,MATCH(SMALL(IF(ISBLANK(Voucher_Date_1819),\"\",IF(ISNUMBER(Voucher_Date_1819),COUNTIF(Voucher_Date_1819,\"<\"&Voucher_Date_1819),COUNTIF(Voucher_Date_1819,\"<\"&Voucher_Date_1819)+SUM(IF(ISNUMBER(Voucher_Date_1819),1,0))+1)),ROW(A668)),IF(ISBLANK(Voucher_Date_1819),\"\",IF(ISNUMBER(Voucher_Date_1819),COUNTIF(Voucher_Date_1819,\"<\"&Voucher_Date_1819),COUNTIF(Voucher_Date_1819,\"<\"&Voucher_Date_1819)+SUM(IF(ISNUMBER(Voucher_Date_1819),1,0))+1)),0))","v":{"$error":"#NUM!"}}]
[{"$f":"INDEX(Voucher_Date_1819,MATCH(ROWS('Bill Register 20-21'!$L$3:'Bill Register 20-21'!L670),COUNTIF(Voucher_Date_1819,\"<=\"&Voucher_Date_1819),0))","v":{"$error":"#N/A"}},{"$f":"INDEX(Voucher_Date_1819,MATCH(SMALL(IF(ISBLANK(Voucher_Date_1819),\"\",IF(ISNUMBER(Voucher_Date_1819),COUNTIF(Voucher_Date_1819,\"<\"&Voucher_Date_1819),COUNTIF(Voucher_Date_1819,\"<\"&Voucher_Date_1819)+SUM(IF(ISNUMBER(Voucher_Date_1819),1,0))+1)),ROW(A669)),IF(ISBLANK(Voucher_Date_1819),\"\",IF(ISNUMBER(Voucher_Date_1819),COUNTIF(Voucher_Date_1819,\"<\"&Voucher_Date_1819),COUNTIF(Voucher_Date_1819,\"<\"&Voucher_Date_1819)+SUM(IF(ISNUMBER(Voucher_Date_1819),1,0))+1)),0))","v":{"$error":"#NUM!"}}]
[{"$f":"INDEX(Voucher_Date_1819,MATCH(ROWS('Bill Register 20-21'!$L$3:'Bill Register 20-21'!L671),COUNTIF(Voucher_Date_1819,\"<=\"&Voucher_Date_1819),0))","v":{"$error":"#N/A"}},{"$f":"INDEX(Voucher_Date_1819,MATCH(SMALL(IF(ISBLANK(Voucher_Date_1819),\"\",IF(ISNUMBER(Voucher_Date_1819),COUNTIF(Voucher_Date_1819,\"<\"&Voucher_Date_1819),COUNTIF(Voucher_Date_1819,\"<\"&Voucher_Date_1819)+SUM(IF(ISNUMBER(Voucher_Date_1819),1,0))+1)),ROW(A670)),IF(ISBLANK(Voucher_Date_1819),\"\",IF(ISNUMBER(Voucher_Date_1819),COUNTIF(Voucher_Date_1819,\"<\"&Voucher_Date_1819),COUNTIF(Voucher_Date_1819,\"<\"&Voucher_Date_1819)+SUM(IF(ISNUMBER(Voucher_Date_1819),1,0))+1)),0))","v":{"$error":"#NUM!"}}]
[{"$f":"INDEX(Voucher_Date_1819,MATCH(ROWS('Bill Register 20-21'!$L$3:'Bill Register 20-21'!L672),COUNTIF(Voucher_Date_1819,\"<=\"&Voucher_Date_1819),0))","v":{"$error":"#N/A"}},{"$f":"INDEX(Voucher_Date_1819,MATCH(SMALL(IF(ISBLANK(Voucher_Date_1819),\"\",IF(ISNUMBER(Voucher_Date_1819),COUNTIF(Voucher_Date_1819,\"<\"&Voucher_Date_1819),COUNTIF(Voucher_Date_1819,\"<\"&Voucher_Date_1819)+SUM(IF(ISNUMBER(Voucher_Date_1819),1,0))+1)),ROW(A671)),IF(ISBLANK(Voucher_Date_1819),\"\",IF(ISNUMBER(Voucher_Date_1819),COUNTIF(Voucher_Date_1819,\"<\"&Voucher_Date_1819),COUNTIF(Voucher_Date_1819,\"<\"&Voucher_Date_1819)+SUM(IF(ISNUMBER(Voucher_Date_1819),1,0))+1)),0))","v":{"$error":"#NUM!"}}]
[{"$f":"INDEX(Voucher_Date_1819,MATCH(ROWS('Bill Register 20-21'!$L$3:'Bill Register 20-21'!L673),COUNTIF(Voucher_Date_1819,\"<=\"&Voucher_Date_1819),0))","v":{"$error":"#N/A"}},{"$f":"INDEX(Voucher_Date_1819,MATCH(SMALL(IF(ISBLANK(Voucher_Date_1819),\"\",IF(ISNUMBER(Voucher_Date_1819),COUNTIF(Voucher_Date_1819,\"<\"&Voucher_Date_1819),COUNTIF(Voucher_Date_1819,\"<\"&Voucher_Date_1819)+SUM(IF(ISNUMBER(Voucher_Date_1819),1,0))+1)),ROW(A672)),IF(ISBLANK(Voucher_Date_1819),\"\",IF(ISNUMBER(Voucher_Date_1819),COUNTIF(Voucher_Date_1819,\"<\"&Voucher_Date_1819),COUNTIF(Voucher_Date_1819,\"<\"&Voucher_Date_1819)+SUM(IF(ISNUMBER(Voucher_Date_1819),1,0))+1)),0))","v":{"$error":"#NUM!"}}]
[{"$f":"INDEX(Voucher_Date_1819,MATCH(ROWS('Bill Register 20-21'!$L$3:'Bill Register 20-21'!L674),COUNTIF(Voucher_Date_1819,\"<=\"&Voucher_Date_1819),0))","v":{"$error":"#N/A"}},{"$f":"INDEX(Voucher_Date_1819,MATCH(SMALL(IF(ISBLANK(Voucher_Date_1819),\"\",IF(ISNUMBER(Voucher_Date_1819),COUNTIF(Voucher_Date_1819,\"<\"&Voucher_Date_1819),COUNTIF(Voucher_Date_1819,\"<\"&Voucher_Date_1819)+SUM(IF(ISNUMBER(Voucher_Date_1819),1,0))+1)),ROW(A673)),IF(ISBLANK(Voucher_Date_1819),\"\",IF(ISNUMBER(Voucher_Date_1819),COUNTIF(Voucher_Date_1819,\"<\"&Voucher_Date_1819),COUNTIF(Voucher_Date_1819,\"<\"&Voucher_Date_1819)+SUM(IF(ISNUMBER(Voucher_Date_1819),1,0))+1)),0))","v":{"$error":"#NUM!"}}]
[{"$f":"INDEX(Voucher_Date_1819,MATCH(ROWS('Bill Register 20-21'!$L$3:'Bill Register 20-21'!L675),COUNTIF(Voucher_Date_1819,\"<=\"&Voucher_Date_1819),0))","v":{"$error":"#N/A"}},{"$f":"INDEX(Voucher_Date_1819,MATCH(SMALL(IF(ISBLANK(Voucher_Date_1819),\"\",IF(ISNUMBER(Voucher_Date_1819),COUNTIF(Voucher_Date_1819,\"<\"&Voucher_Date_1819),COUNTIF(Voucher_Date_1819,\"<\"&Voucher_Date_1819)+SUM(IF(ISNUMBER(Voucher_Date_1819),1,0))+1)),ROW(A674)),IF(ISBLANK(Voucher_Date_1819),\"\",IF(ISNUMBER(Voucher_Date_1819),COUNTIF(Voucher_Date_1819,\"<\"&Voucher_Date_1819),COUNTIF(Voucher_Date_1819,\"<\"&Voucher_Date_1819)+SUM(IF(ISNUMBER(Voucher_Date_1819),1,0))+1)),0))","v":{"$error":"#NUM!"}}]
[{"$f":"INDEX(Voucher_Date_1819,MATCH(ROWS('Bill Register 20-21'!$L$3:'Bill Register 20-21'!L676),COUNTIF(Voucher_Date_1819,\"<=\"&Voucher_Date_1819),0))","v":{"$error":"#N/A"}},{"$f":"INDEX(Voucher_Date_1819,MATCH(SMALL(IF(ISBLANK(Voucher_Date_1819),\"\",IF(ISNUMBER(Voucher_Date_1819),COUNTIF(Voucher_Date_1819,\"<\"&Voucher_Date_1819),COUNTIF(Voucher_Date_1819,\"<\"&Voucher_Date_1819)+SUM(IF(ISNUMBER(Voucher_Date_1819),1,0))+1)),ROW(A675)),IF(ISBLANK(Voucher_Date_1819),\"\",IF(ISNUMBER(Voucher_Date_1819),COUNTIF(Voucher_Date_1819,\"<\"&Voucher_Date_1819),COUNTIF(Voucher_Date_1819,\"<\"&Voucher_Date_1819)+SUM(IF(ISNUMBER(Voucher_Date_1819),1,0))+1)),0))","v":{"$error":"#NUM!"}}]
[{"$f":"INDEX(Voucher_Date_1819,MATCH(ROWS('Bill Register 20-21'!$L$3:'Bill Register 20-21'!L677),COUNTIF(Voucher_Date_1819,\"<=\"&Voucher_Date_1819),0))","v":{"$error":"#N/A"}},{"$f":"INDEX(Voucher_Date_1819,MATCH(SMALL(IF(ISBLANK(Voucher_Date_1819),\"\",IF(ISNUMBER(Voucher_Date_1819),COUNTIF(Voucher_Date_1819,\"<\"&Voucher_Date_1819),COUNTIF(Voucher_Date_1819,\"<\"&Voucher_Date_1819)+SUM(IF(ISNUMBER(Voucher_Date_1819),1,0))+1)),ROW(A676)),IF(ISBLANK(Voucher_Date_1819),\"\",IF(ISNUMBER(Voucher_Date_1819),COUNTIF(Voucher_Date_1819,\"<\"&Voucher_Date_1819),COUNTIF(Voucher_Date_1819,\"<\"&Voucher_Date_1819)+SUM(IF(ISNUMBER(Voucher_Date_1819),1,0))+1)),0))","v":{"$error":"#NUM!"}}]
[{"$f":"INDEX(Voucher_Date_1819,MATCH(ROWS('Bill Register 20-21'!$L$3:'Bill Register 20-21'!L678),COUNTIF(Voucher_Date_1819,\"<=\"&Voucher_Date_1819),0))","v":{"$error":"#N/A"}},{"$f":"INDEX(Voucher_Date_1819,MATCH(SMALL(IF(ISBLANK(Voucher_Date_1819),\"\",IF(ISNUMBER(Voucher_Date_1819),COUNTIF(Voucher_Date_1819,\"<\"&Voucher_Date_1819),COUNTIF(Voucher_Date_1819,\"<\"&Voucher_Date_1819)+SUM(IF(ISNUMBER(Voucher_Date_1819),1,0))+1)),ROW(A677)),IF(ISBLANK(Voucher_Date_1819),\"\",IF(ISNUMBER(Voucher_Date_1819),COUNTIF(Voucher_Date_1819,\"<\"&Voucher_Date_1819),COUNTIF(Voucher_Date_1819,\"<\"&Voucher_Date_1819)+SUM(IF(ISNUMBER(Voucher_Date_1819),1,0))+1)),0))","v":{"$error":"#NUM!"}}]
[{"$f":"INDEX(Voucher_Date_1819,MATCH(ROWS('Bill Register 20-21'!$L$3:'Bill Register 20-21'!L679),COUNTIF(Voucher_Date_1819,\"<=\"&Voucher_Date_1819),0))","v":{"$error":"#N/A"}},{"$f":"INDEX(Voucher_Date_1819,MATCH(SMALL(IF(ISBLANK(Voucher_Date_1819),\"\",IF(ISNUMBER(Voucher_Date_1819),COUNTIF(Voucher_Date_1819,\"<\"&Voucher_Date_1819),COUNTIF(Voucher_Date_1819,\"<\"&Voucher_Date_1819)+SUM(IF(ISNUMBER(Voucher_Date_1819),1,0))+1)),ROW(A678)),IF(ISBLANK(Voucher_Date_1819),\"\",IF(ISNUMBER(Voucher_Date_1819),COUNTIF(Voucher_Date_1819,\"<\"&Voucher_Date_1819),COUNTIF(Voucher_Date_1819,\"<\"&Voucher_Date_1819)+SUM(IF(ISNUMBER(Voucher_Date_1819),1,0))+1)),0))","v":{"$error":"#NUM!"}}]
[{"$f":"INDEX(Voucher_Date_1819,MATCH(ROWS('Bill Register 20-21'!$L$3:'Bill Register 20-21'!L680),COUNTIF(Voucher_Date_1819,\"<=\"&Voucher_Date_1819),0))","v":{"$error":"#N/A"}},{"$f":"INDEX(Voucher_Date_1819,MATCH(SMALL(IF(ISBLANK(Voucher_Date_1819),\"\",IF(ISNUMBER(Voucher_Date_1819),COUNTIF(Voucher_Date_1819,\"<\"&Voucher_Date_1819),COUNTIF(Voucher_Date_1819,\"<\"&Voucher_Date_1819)+SUM(IF(ISNUMBER(Voucher_Date_1819),1,0))+1)),ROW(A679)),IF(ISBLANK(Voucher_Date_1819),\"\",IF(ISNUMBER(Voucher_Date_1819),COUNTIF(Voucher_Date_1819,\"<\"&Voucher_Date_1819),COUNTIF(Voucher_Date_1819,\"<\"&Voucher_Date_1819)+SUM(IF(ISNUMBER(Voucher_Date_1819),1,0))+1)),0))","v":{"$error":"#NUM!"}}]
[{"$f":"INDEX(Voucher_Date_1819,MATCH(ROWS('Bill Register 20-21'!$L$3:'Bill Register 20-21'!L681),COUNTIF(Voucher_Date_1819,\"<=\"&Voucher_Date_1819),0))","v":{"$error":"#N/A"}},{"$f":"INDEX(Voucher_Date_1819,MATCH(SMALL(IF(ISBLANK(Voucher_Date_1819),\"\",IF(ISNUMBER(Voucher_Date_1819),COUNTIF(Voucher_Date_1819,\"<\"&Voucher_Date_1819),COUNTIF(Voucher_Date_1819,\"<\"&Voucher_Date_1819)+SUM(IF(ISNUMBER(Voucher_Date_1819),1,0))+1)),ROW(A680)),IF(ISBLANK(Voucher_Date_1819),\"\",IF(ISNUMBER(Voucher_Date_1819),COUNTIF(Voucher_Date_1819,\"<\"&Voucher_Date_1819),COUNTIF(Voucher_Date_1819,\"<\"&Voucher_Date_1819)+SUM(IF(ISNUMBER(Voucher_Date_1819),1,0))+1)),0))","v":{"$error":"#NUM!"}}]
[{"$f":"INDEX(Voucher_Date_1819,MATCH(ROWS('Bill Register 20-21'!$L$3:'Bill Register 20-21'!L682),COUNTIF(Voucher_Date_1819,\"<=\"&Voucher_Date_1819),0))","v":{"$error":"#N/A"}},{"$f":"INDEX(Voucher_Date_1819,MATCH(SMALL(IF(ISBLANK(Voucher_Date_1819),\"\",IF(ISNUMBER(Voucher_Date_1819),COUNTIF(Voucher_Date_1819,\"<\"&Voucher_Date_1819),COUNTIF(Voucher_Date_1819,\"<\"&Voucher_Date_1819)+SUM(IF(ISNUMBER(Voucher_Date_1819),1,0))+1)),ROW(A681)),IF(ISBLANK(Voucher_Date_1819),\"\",IF(ISNUMBER(Voucher_Date_1819),COUNTIF(Voucher_Date_1819,\"<\"&Voucher_Date_1819),COUNTIF(Voucher_Date_1819,\"<\"&Voucher_Date_1819)+SUM(IF(ISNUMBER(Voucher_Date_1819),1,0))+1)),0))","v":{"$error":"#NUM!"}}]
[{"$f":"INDEX(Voucher_Date_1819,MATCH(ROWS('Bill Register 20-21'!$L$3:'Bill Register 20-21'!L683),COUNTIF(Voucher_Date_1819,\"<=\"&Voucher_Date_1819),0))","v":{"$error":"#N/A"}},{"$f":"INDEX(Voucher_Date_1819,MATCH(SMALL(IF(ISBLANK(Voucher_Date_1819),\"\",IF(ISNUMBER(Voucher_Date_1819),COUNTIF(Voucher_Date_1819,\"<\"&Voucher_Date_1819),COUNTIF(Voucher_Date_1819,\"<\"&Voucher_Date_1819)+SUM(IF(ISNUMBER(Voucher_Date_1819),1,0))+1)),ROW(A682)),IF(ISBLANK(Voucher_Date_1819),\"\",IF(ISNUMBER(Voucher_Date_1819),COUNTIF(Voucher_Date_1819,\"<\"&Voucher_Date_1819),COUNTIF(Voucher_Date_1819,\"<\"&Voucher_Date_1819)+SUM(IF(ISNUMBER(Voucher_Date_1819),1,0))+1)),0))","v":{"$error":"#NUM!"}}]
[{"$f":"INDEX(Voucher_Date_1819,MATCH(ROWS('Bill Register 20-21'!$L$3:'Bill Register 20-21'!L684),COUNTIF(Voucher_Date_1819,\"<=\"&Voucher_Date_1819),0))","v":{"$error":"#N/A"}},{"$f":"INDEX(Voucher_Date_1819,MATCH(SMALL(IF(ISBLANK(Voucher_Date_1819),\"\",IF(ISNUMBER(Voucher_Date_1819),COUNTIF(Voucher_Date_1819,\"<\"&Voucher_Date_1819),COUNTIF(Voucher_Date_1819,\"<\"&Voucher_Date_1819)+SUM(IF(ISNUMBER(Voucher_Date_1819),1,0))+1)),ROW(A683)),IF(ISBLANK(Voucher_Date_1819),\"\",IF(ISNUMBER(Voucher_Date_1819),COUNTIF(Voucher_Date_1819,\"<\"&Voucher_Date_1819),COUNTIF(Voucher_Date_1819,\"<\"&Voucher_Date_1819)+SUM(IF(ISNUMBER(Voucher_Date_1819),1,0))+1)),0))","v":{"$error":"#NUM!"}}]
[{"$f":"INDEX(Voucher_Date_1819,MATCH(ROWS('Bill Register 20-21'!$L$3:'Bill Register 20-21'!L685),COUNTIF(Voucher_Date_1819,\"<=\"&Voucher_Date_1819),0))","v":{"$error":"#N/A"}},{"$f":"INDEX(Voucher_Date_1819,MATCH(SMALL(IF(ISBLANK(Voucher_Date_1819),\"\",IF(ISNUMBER(Voucher_Date_1819),COUNTIF(Voucher_Date_1819,\"<\"&Voucher_Date_1819),COUNTIF(Voucher_Date_1819,\"<\"&Voucher_Date_1819)+SUM(IF(ISNUMBER(Voucher_Date_1819),1,0))+1)),ROW(A684)),IF(ISBLANK(Voucher_Date_1819),\"\",IF(ISNUMBER(Voucher_Date_1819),COUNTIF(Voucher_Date_1819,\"<\"&Voucher_Date_1819),COUNTIF(Voucher_Date_1819,\"<\"&Voucher_Date_1819)+SUM(IF(ISNUMBER(Voucher_Date_1819),1,0))+1)),0))","v":{"$error":"#NUM!"}}]
[{"$f":"INDEX(Voucher_Date_1819,MATCH(ROWS('Bill Register 20-21'!$L$3:'Bill Register 20-21'!L686),COUNTIF(Voucher_Date_1819,\"<=\"&Voucher_Date_1819),0))","v":{"$error":"#N/A"}},{"$f":"INDEX(Voucher_Date_1819,MATCH(SMALL(IF(ISBLANK(Voucher_Date_1819),\"\",IF(ISNUMBER(Voucher_Date_1819),COUNTIF(Voucher_Date_1819,\"<\"&Voucher_Date_1819),COUNTIF(Voucher_Date_1819,\"<\"&Voucher_Date_1819)+SUM(IF(ISNUMBER(Voucher_Date_1819),1,0))+1)),ROW(A685)),IF(ISBLANK(Voucher_Date_1819),\"\",IF(ISNUMBER(Voucher_Date_1819),COUNTIF(Voucher_Date_1819,\"<\"&Voucher_Date_1819),COUNTIF(Voucher_Date_1819,\"<\"&Voucher_Date_1819)+SUM(IF(ISNUMBER(Voucher_Date_1819),1,0))+1)),0))","v":{"$error":"#NUM!"}}]
[{"$f":"INDEX(Voucher_Date_1819,MATCH(ROWS('Bill Register 20-21'!$L$3:'Bill Register 20-21'!L687),COUNTIF(Voucher_Date_1819,\"<=\"&Voucher_Date_1819),0))","v":{"$error":"#N/A"}},{"$f":"INDEX(Voucher_Date_1819,MATCH(SMALL(IF(ISBLANK(Voucher_Date_1819),\"\",IF(ISNUMBER(Voucher_Date_1819),COUNTIF(Voucher_Date_1819,\"<\"&Voucher_Date_1819),COUNTIF(Voucher_Date_1819,\"<\"&Voucher_Date_1819)+SUM(IF(ISNUMBER(Voucher_Date_1819),1,0))+1)),ROW(A686)),IF(ISBLANK(Voucher_Date_1819),\"\",IF(ISNUMBER(Voucher_Date_1819),COUNTIF(Voucher_Date_1819,\"<\"&Voucher_Date_1819),COUNTIF(Voucher_Date_1819,\"<\"&Voucher_Date_1819)+SUM(IF(ISNUMBER(Voucher_Date_1819),1,0))+1)),0))","v":{"$error":"#NUM!"}}]
[{"$f":"INDEX(Voucher_Date_1819,MATCH(ROWS('Bill Register 20-21'!$L$3:'Bill Register 20-21'!L688),COUNTIF(Voucher_Date_1819,\"<=\"&Voucher_Date_1819),0))","v":{"$error":"#N/A"}},{"$f":"INDEX(Voucher_Date_1819,MATCH(SMALL(IF(ISBLANK(Voucher_Date_1819),\"\",IF(ISNUMBER(Voucher_Date_1819),COUNTIF(Voucher_Date_1819,\"<\"&Voucher_Date_1819),COUNTIF(Voucher_Date_1819,\"<\"&Voucher_Date_1819)+SUM(IF(ISNUMBER(Voucher_Date_1819),1,0))+1)),ROW(A687)),IF(ISBLANK(Voucher_Date_1819),\"\",IF(ISNUMBER(Voucher_Date_1819),COUNTIF(Voucher_Date_1819,\"<\"&Voucher_Date_1819),COUNTIF(Voucher_Date_1819,\"<\"&Voucher_Date_1819)+SUM(IF(ISNUMBER(Voucher_Date_1819),1,0))+1)),0))","v":{"$error":"#NUM!"}}]
[{"$f":"INDEX(Voucher_Date_1819,MATCH(ROWS('Bill Register 20-21'!$L$3:'Bill Register 20-21'!L689),COUNTIF(Voucher_Date_1819,\"<=\"&Voucher_Date_1819),0))","v":{"$error":"#N/A"}},{"$f":"INDEX(Voucher_Date_1819,MATCH(SMALL(IF(ISBLANK(Voucher_Date_1819),\"\",IF(ISNUMBER(Voucher_Date_1819),COUNTIF(Voucher_Date_1819,\"<\"&Voucher_Date_1819),COUNTIF(Voucher_Date_1819,\"<\"&Voucher_Date_1819)+SUM(IF(ISNUMBER(Voucher_Date_1819),1,0))+1)),ROW(A688)),IF(ISBLANK(Voucher_Date_1819),\"\",IF(ISNUMBER(Voucher_Date_1819),COUNTIF(Voucher_Date_1819,\"<\"&Voucher_Date_1819),COUNTIF(Voucher_Date_1819,\"<\"&Voucher_Date_1819)+SUM(IF(ISNUMBER(Voucher_Date_1819),1,0))+1)),0))","v":{"$error":"#NUM!"}}]
[{"$f":"INDEX(Voucher_Date_1819,MATCH(ROWS('Bill Register 20-21'!$L$3:'Bill Register 20-21'!L690),COUNTIF(Voucher_Date_1819,\"<=\"&Voucher_Date_1819),0))","v":{"$error":"#N/A"}},{"$f":"INDEX(Voucher_Date_1819,MATCH(SMALL(IF(ISBLANK(Voucher_Date_1819),\"\",IF(ISNUMBER(Voucher_Date_1819),COUNTIF(Voucher_Date_1819,\"<\"&Voucher_Date_1819),COUNTIF(Voucher_Date_1819,\"<\"&Voucher_Date_1819)+SUM(IF(ISNUMBER(Voucher_Date_1819),1,0))+1)),ROW(A689)),IF(ISBLANK(Voucher_Date_1819),\"\",IF(ISNUMBER(Voucher_Date_1819),COUNTIF(Voucher_Date_1819,\"<\"&Voucher_Date_1819),COUNTIF(Voucher_Date_1819,\"<\"&Voucher_Date_1819)+SUM(IF(ISNUMBER(Voucher_Date_1819),1,0))+1)),0))","v":{"$error":"#NUM!"}}]
[{"$f":"INDEX(Voucher_Date_1819,MATCH(ROWS('Bill Register 20-21'!$L$3:'Bill Register 20-21'!L691),COUNTIF(Voucher_Date_1819,\"<=\"&Voucher_Date_1819),0))","v":{"$error":"#N/A"}},{"$f":"INDEX(Voucher_Date_1819,MATCH(SMALL(IF(ISBLANK(Voucher_Date_1819),\"\",IF(ISNUMBER(Voucher_Date_1819),COUNTIF(Voucher_Date_1819,\"<\"&Voucher_Date_1819),COUNTIF(Voucher_Date_1819,\"<\"&Voucher_Date_1819)+SUM(IF(ISNUMBER(Voucher_Date_1819),1,0))+1)),ROW(A690)),IF(ISBLANK(Voucher_Date_1819),\"\",IF(ISNUMBER(Voucher_Date_1819),COUNTIF(Voucher_Date_1819,\"<\"&Voucher_Date_1819),COUNTIF(Voucher_Date_1819,\"<\"&Voucher_Date_1819)+SUM(IF(ISNUMBER(Voucher_Date_1819),1,0))+1)),0))","v":{"$error":"#NUM!"}}]
[{"$f":"INDEX(Voucher_Date_1819,MATCH(ROWS('Bill Register 20-21'!$L$3:'Bill Register 20-21'!L692),COUNTIF(Voucher_Date_1819,\"<=\"&Voucher_Date_1819),0))","v":{"$error":"#N/A"}},{"$f":"INDEX(Voucher_Date_1819,MATCH(SMALL(IF(ISBLANK(Voucher_Date_1819),\"\",IF(ISNUMBER(Voucher_Date_1819),COUNTIF(Voucher_Date_1819,\"<\"&Voucher_Date_1819),COUNTIF(Voucher_Date_1819,\"<\"&Voucher_Date_1819)+SUM(IF(ISNUMBER(Voucher_Date_1819),1,0))+1)),ROW(A691)),IF(ISBLANK(Voucher_Date_1819),\"\",IF(ISNUMBER(Voucher_Date_1819),COUNTIF(Voucher_Date_1819,\"<\"&Voucher_Date_1819),COUNTIF(Voucher_Date_1819,\"<\"&Voucher_Date_1819)+SUM(IF(ISNUMBER(Voucher_Date_1819),1,0))+1)),0))","v":{"$error":"#NUM!"}}]
[{"$f":"INDEX(Voucher_Date_1819,MATCH(ROWS('Bill Register 20-21'!$L$3:'Bill Register 20-21'!L693),COUNTIF(Voucher_Date_1819,\"<=\"&Voucher_Date_1819),0))","v":{"$error":"#N/A"}},{"$f":"INDEX(Voucher_Date_1819,MATCH(SMALL(IF(ISBLANK(Voucher_Date_1819),\"\",IF(ISNUMBER(Voucher_Date_1819),COUNTIF(Voucher_Date_1819,\"<\"&Voucher_Date_1819),COUNTIF(Voucher_Date_1819,\"<\"&Voucher_Date_1819)+SUM(IF(ISNUMBER(Voucher_Date_1819),1,0))+1)),ROW(A692)),IF(ISBLANK(Voucher_Date_1819),\"\",IF(ISNUMBER(Voucher_Date_1819),COUNTIF(Voucher_Date_1819,\"<\"&Voucher_Date_1819),COUNTIF(Voucher_Date_1819,\"<\"&Voucher_Date_1819)+SUM(IF(ISNUMBER(Voucher_Date_1819),1,0))+1)),0))","v":{"$error":"#NUM!"}}]
[{"$f":"INDEX(Voucher_Date_1819,MATCH(ROWS('Bill Register 20-21'!$L$3:'Bill Register 20-21'!L694),COUNTIF(Voucher_Date_1819,\"<=\"&Voucher_Date_1819),0))","v":{"$error":"#N/A"}},{"$f":"INDEX(Voucher_Date_1819,MATCH(SMALL(IF(ISBLANK(Voucher_Date_1819),\"\",IF(ISNUMBER(Voucher_Date_1819),COUNTIF(Voucher_Date_1819,\"<\"&Voucher_Date_1819),COUNTIF(Voucher_Date_1819,\"<\"&Voucher_Date_1819)+SUM(IF(ISNUMBER(Voucher_Date_1819),1,0))+1)),ROW(A693)),IF(ISBLANK(Voucher_Date_1819),\"\",IF(ISNUMBER(Voucher_Date_1819),COUNTIF(Voucher_Date_1819,\"<\"&Voucher_Date_1819),COUNTIF(Voucher_Date_1819,\"<\"&Voucher_Date_1819)+SUM(IF(ISNUMBER(Voucher_Date_1819),1,0))+1)),0))","v":{"$error":"#NUM!"}}]
[{"$f":"INDEX(Voucher_Date_1819,MATCH(ROWS('Bill Register 20-21'!$L$3:'Bill Register 20-21'!L695),COUNTIF(Voucher_Date_1819,\"<=\"&Voucher_Date_1819),0))","v":{"$error":"#N/A"}},{"$f":"INDEX(Voucher_Date_1819,MATCH(SMALL(IF(ISBLANK(Voucher_Date_1819),\"\",IF(ISNUMBER(Voucher_Date_1819),COUNTIF(Voucher_Date_1819,\"<\"&Voucher_Date_1819),COUNTIF(Voucher_Date_1819,\"<\"&Voucher_Date_1819)+SUM(IF(ISNUMBER(Voucher_Date_1819),1,0))+1)),ROW(A694)),IF(ISBLANK(Voucher_Date_1819),\"\",IF(ISNUMBER(Voucher_Date_1819),COUNTIF(Voucher_Date_1819,\"<\"&Voucher_Date_1819),COUNTIF(Voucher_Date_1819,\"<\"&Voucher_Date_1819)+SUM(IF(ISNUMBER(Voucher_Date_1819),1,0))+1)),0))","v":{"$error":"#NUM!"}}]
[{"$f":"INDEX(Voucher_Date_1819,MATCH(ROWS('Bill Register 20-21'!$L$3:'Bill Register 20-21'!L696),COUNTIF(Voucher_Date_1819,\"<=\"&Voucher_Date_1819),0))","v":{"$error":"#N/A"}},{"$f":"INDEX(Voucher_Date_1819,MATCH(SMALL(IF(ISBLANK(Voucher_Date_1819),\"\",IF(ISNUMBER(Voucher_Date_1819),COUNTIF(Voucher_Date_1819,\"<\"&Voucher_Date_1819),COUNTIF(Voucher_Date_1819,\"<\"&Voucher_Date_1819)+SUM(IF(ISNUMBER(Voucher_Date_1819),1,0))+1)),ROW(A695)),IF(ISBLANK(Voucher_Date_1819),\"\",IF(ISNUMBER(Voucher_Date_1819),COUNTIF(Voucher_Date_1819,\"<\"&Voucher_Date_1819),COUNTIF(Voucher_Date_1819,\"<\"&Voucher_Date_1819)+SUM(IF(ISNUMBER(Voucher_Date_1819),1,0))+1)),0))","v":{"$error":"#NUM!"}}]
[{"$f":"INDEX(Voucher_Date_1819,MATCH(ROWS('Bill Register 20-21'!$L$3:'Bill Register 20-21'!L697),COUNTIF(Voucher_Date_1819,\"<=\"&Voucher_Date_1819),0))","v":{"$error":"#N/A"}},{"$f":"INDEX(Voucher_Date_1819,MATCH(SMALL(IF(ISBLANK(Voucher_Date_1819),\"\",IF(ISNUMBER(Voucher_Date_1819),COUNTIF(Voucher_Date_1819,\"<\"&Voucher_Date_1819),COUNTIF(Voucher_Date_1819,\"<\"&Voucher_Date_1819)+SUM(IF(ISNUMBER(Voucher_Date_1819),1,0))+1)),ROW(A696)),IF(ISBLANK(Voucher_Date_1819),\"\",IF(ISNUMBER(Voucher_Date_1819),COUNTIF(Voucher_Date_1819,\"<\"&Voucher_Date_1819),COUNTIF(Voucher_Date_1819,\"<\"&Voucher_Date_1819)+SUM(IF(ISNUMBER(Voucher_Date_1819),1,0))+1)),0))","v":{"$error":"#NUM!"}}]
[{"$f":"INDEX(Voucher_Date_1819,MATCH(ROWS('Bill Register 20-21'!$L$3:'Bill Register 20-21'!L698),COUNTIF(Voucher_Date_1819,\"<=\"&Voucher_Date_1819),0))","v":{"$error":"#N/A"}},{"$f":"INDEX(Voucher_Date_1819,MATCH(SMALL(IF(ISBLANK(Voucher_Date_1819),\"\",IF(ISNUMBER(Voucher_Date_1819),COUNTIF(Voucher_Date_1819,\"<\"&Voucher_Date_1819),COUNTIF(Voucher_Date_1819,\"<\"&Voucher_Date_1819)+SUM(IF(ISNUMBER(Voucher_Date_1819),1,0))+1)),ROW(A697)),IF(ISBLANK(Voucher_Date_1819),\"\",IF(ISNUMBER(Voucher_Date_1819),COUNTIF(Voucher_Date_1819,\"<\"&Voucher_Date_1819),COUNTIF(Voucher_Date_1819,\"<\"&Voucher_Date_1819)+SUM(IF(ISNUMBER(Voucher_Date_1819),1,0))+1)),0))","v":{"$error":"#NUM!"}}]
[{"$f":"INDEX(Voucher_Date_1819,MATCH(ROWS('Bill Register 20-21'!$L$3:'Bill Register 20-21'!L699),COUNTIF(Voucher_Date_1819,\"<=\"&Voucher_Date_1819),0))","v":{"$error":"#N/A"}},{"$f":"INDEX(Voucher_Date_1819,MATCH(SMALL(IF(ISBLANK(Voucher_Date_1819),\"\",IF(ISNUMBER(Voucher_Date_1819),COUNTIF(Voucher_Date_1819,\"<\"&Voucher_Date_1819),COUNTIF(Voucher_Date_1819,\"<\"&Voucher_Date_1819)+SUM(IF(ISNUMBER(Voucher_Date_1819),1,0))+1)),ROW(A698)),IF(ISBLANK(Voucher_Date_1819),\"\",IF(ISNUMBER(Voucher_Date_1819),COUNTIF(Voucher_Date_1819,\"<\"&Voucher_Date_1819),COUNTIF(Voucher_Date_1819,\"<\"&Voucher_Date_1819)+SUM(IF(ISNUMBER(Voucher_Date_1819),1,0))+1)),0))","v":{"$error":"#NUM!"}}]
[{"$f":"INDEX(Voucher_Date_1819,MATCH(ROWS('Bill Register 20-21'!$L$3:'Bill Register 20-21'!L700),COUNTIF(Voucher_Date_1819,\"<=\"&Voucher_Date_1819),0))","v":{"$error":"#N/A"}},{"$f":"INDEX(Voucher_Date_1819,MATCH(SMALL(IF(ISBLANK(Voucher_Date_1819),\"\",IF(ISNUMBER(Voucher_Date_1819),COUNTIF(Voucher_Date_1819,\"<\"&Voucher_Date_1819),COUNTIF(Voucher_Date_1819,\"<\"&Voucher_Date_1819)+SUM(IF(ISNUMBER(Voucher_Date_1819),1,0))+1)),ROW(A699)),IF(ISBLANK(Voucher_Date_1819),\"\",IF(ISNUMBER(Voucher_Date_1819),COUNTIF(Voucher_Date_1819,\"<\"&Voucher_Date_1819),COUNTIF(Voucher_Date_1819,\"<\"&Voucher_Date_1819)+SUM(IF(ISNUMBER(Voucher_Date_1819),1,0))+1)),0))","v":{"$error":"#NUM!"}}]
[{"$f":"INDEX(Voucher_Date_1819,MATCH(ROWS('Bill Register 20-21'!$L$3:'Bill Register 20-21'!L701),COUNTIF(Voucher_Date_1819,\"<=\"&Voucher_Date_1819),0))","v":{"$error":"#N/A"}},{"$f":"INDEX(Voucher_Date_1819,MATCH(SMALL(IF(ISBLANK(Voucher_Date_1819),\"\",IF(ISNUMBER(Voucher_Date_1819),COUNTIF(Voucher_Date_1819,\"<\"&Voucher_Date_1819),COUNTIF(Voucher_Date_1819,\"<\"&Voucher_Date_1819)+SUM(IF(ISNUMBER(Voucher_Date_1819),1,0))+1)),ROW(A700)),IF(ISBLANK(Voucher_Date_1819),\"\",IF(ISNUMBER(Voucher_Date_1819),COUNTIF(Voucher_Date_1819,\"<\"&Voucher_Date_1819),COUNTIF(Voucher_Date_1819,\"<\"&Voucher_Date_1819)+SUM(IF(ISNUMBER(Voucher_Date_1819),1,0))+1)),0))","v":{"$error":"#NUM!"}}]
[{"$f":"INDEX(Voucher_Date_1819,MATCH(ROWS('Bill Register 20-21'!$L$3:'Bill Register 20-21'!L702),COUNTIF(Voucher_Date_1819,\"<=\"&Voucher_Date_1819),0))","v":{"$error":"#N/A"}},{"$f":"INDEX(Voucher_Date_1819,MATCH(SMALL(IF(ISBLANK(Voucher_Date_1819),\"\",IF(ISNUMBER(Voucher_Date_1819),COUNTIF(Voucher_Date_1819,\"<\"&Voucher_Date_1819),COUNTIF(Voucher_Date_1819,\"<\"&Voucher_Date_1819)+SUM(IF(ISNUMBER(Voucher_Date_1819),1,0))+1)),ROW(A701)),IF(ISBLANK(Voucher_Date_1819),\"\",IF(ISNUMBER(Voucher_Date_1819),COUNTIF(Voucher_Date_1819,\"<\"&Voucher_Date_1819),COUNTIF(Voucher_Date_1819,\"<\"&Voucher_Date_1819)+SUM(IF(ISNUMBER(Voucher_Date_1819),1,0))+1)),0))","v":{"$error":"#NUM!"}}]
[{"$f":"INDEX(Voucher_Date_1819,MATCH(ROWS('Bill Register 20-21'!$L$3:'Bill Register 20-21'!L703),COUNTIF(Voucher_Date_1819,\"<=\"&Voucher_Date_1819),0))","v":{"$error":"#N/A"}},{"$f":"INDEX(Voucher_Date_1819,MATCH(SMALL(IF(ISBLANK(Voucher_Date_1819),\"\",IF(ISNUMBER(Voucher_Date_1819),COUNTIF(Voucher_Date_1819,\"<\"&Voucher_Date_1819),COUNTIF(Voucher_Date_1819,\"<\"&Voucher_Date_1819)+SUM(IF(ISNUMBER(Voucher_Date_1819),1,0))+1)),ROW(A702)),IF(ISBLANK(Voucher_Date_1819),\"\",IF(ISNUMBER(Voucher_Date_1819),COUNTIF(Voucher_Date_1819,\"<\"&Voucher_Date_1819),COUNTIF(Voucher_Date_1819,\"<\"&Voucher_Date_1819)+SUM(IF(ISNUMBER(Voucher_Date_1819),1,0))+1)),0))","v":{"$error":"#NUM!"}}]
[{"$f":"INDEX(Voucher_Date_1819,MATCH(ROWS('Bill Register 20-21'!$L$3:'Bill Register 20-21'!L704),COUNTIF(Voucher_Date_1819,\"<=\"&Voucher_Date_1819),0))","v":{"$error":"#N/A"}},{"$f":"INDEX(Voucher_Date_1819,MATCH(SMALL(IF(ISBLANK(Voucher_Date_1819),\"\",IF(ISNUMBER(Voucher_Date_1819),COUNTIF(Voucher_Date_1819,\"<\"&Voucher_Date_1819),COUNTIF(Voucher_Date_1819,\"<\"&Voucher_Date_1819)+SUM(IF(ISNUMBER(Voucher_Date_1819),1,0))+1)),ROW(A703)),IF(ISBLANK(Voucher_Date_1819),\"\",IF(ISNUMBER(Voucher_Date_1819),COUNTIF(Voucher_Date_1819,\"<\"&Voucher_Date_1819),COUNTIF(Voucher_Date_1819,\"<\"&Voucher_Date_1819)+SUM(IF(ISNUMBER(Voucher_Date_1819),1,0))+1)),0))","v":{"$error":"#NUM!"}}]
[{"$f":"INDEX(Voucher_Date_1819,MATCH(ROWS('Bill Register 20-21'!$L$3:'Bill Register 20-21'!L705),COUNTIF(Voucher_Date_1819,\"<=\"&Voucher_Date_1819),0))","v":{"$error":"#N/A"}},{"$f":"INDEX(Voucher_Date_1819,MATCH(SMALL(IF(ISBLANK(Voucher_Date_1819),\"\",IF(ISNUMBER(Voucher_Date_1819),COUNTIF(Voucher_Date_1819,\"<\"&Voucher_Date_1819),COUNTIF(Voucher_Date_1819,\"<\"&Voucher_Date_1819)+SUM(IF(ISNUMBER(Voucher_Date_1819),1,0))+1)),ROW(A704)),IF(ISBLANK(Voucher_Date_1819),\"\",IF(ISNUMBER(Voucher_Date_1819),COUNTIF(Voucher_Date_1819,\"<\"&Voucher_Date_1819),COUNTIF(Voucher_Date_1819,\"<\"&Voucher_Date_1819)+SUM(IF(ISNUMBER(Voucher_Date_1819),1,0))+1)),0))","v":{"$error":"#NUM!"}}]
[{"$f":"INDEX(Voucher_Date_1819,MATCH(ROWS('Bill Register 20-21'!$L$3:'Bill Register 20-21'!L706),COUNTIF(Voucher_Date_1819,\"<=\"&Voucher_Date_1819),0))","v":{"$error":"#N/A"}},{"$f":"INDEX(Voucher_Date_1819,MATCH(SMALL(IF(ISBLANK(Voucher_Date_1819),\"\",IF(ISNUMBER(Voucher_Date_1819),COUNTIF(Voucher_Date_1819,\"<\"&Voucher_Date_1819),COUNTIF(Voucher_Date_1819,\"<\"&Voucher_Date_1819)+SUM(IF(ISNUMBER(Voucher_Date_1819),1,0))+1)),ROW(A705)),IF(ISBLANK(Voucher_Date_1819),\"\",IF(ISNUMBER(Voucher_Date_1819),COUNTIF(Voucher_Date_1819,\"<\"&Voucher_Date_1819),COUNTIF(Voucher_Date_1819,\"<\"&Voucher_Date_1819)+SUM(IF(ISNUMBER(Voucher_Date_1819),1,0))+1)),0))","v":{"$error":"#NUM!"}}]
[{"$f":"INDEX(Voucher_Date_1819,MATCH(ROWS('Bill Register 20-21'!$L$3:'Bill Register 20-21'!L707),COUNTIF(Voucher_Date_1819,\"<=\"&Voucher_Date_1819),0))","v":{"$error":"#N/A"}},{"$f":"INDEX(Voucher_Date_1819,MATCH(SMALL(IF(ISBLANK(Voucher_Date_1819),\"\",IF(ISNUMBER(Voucher_Date_1819),COUNTIF(Voucher_Date_1819,\"<\"&Voucher_Date_1819),COUNTIF(Voucher_Date_1819,\"<\"&Voucher_Date_1819)+SUM(IF(ISNUMBER(Voucher_Date_1819),1,0))+1)),ROW(A706)),IF(ISBLANK(Voucher_Date_1819),\"\",IF(ISNUMBER(Voucher_Date_1819),COUNTIF(Voucher_Date_1819,\"<\"&Voucher_Date_1819),COUNTIF(Voucher_Date_1819,\"<\"&Voucher_Date_1819)+SUM(IF(ISNUMBER(Voucher_Date_1819),1,0))+1)),0))","v":{"$error":"#NUM!"}}]
[{"$f":"INDEX(Voucher_Date_1819,MATCH(ROWS('Bill Register 20-21'!$L$3:'Bill Register 20-21'!L708),COUNTIF(Voucher_Date_1819,\"<=\"&Voucher_Date_1819),0))","v":{"$error":"#N/A"}},{"$f":"INDEX(Voucher_Date_1819,MATCH(SMALL(IF(ISBLANK(Voucher_Date_1819),\"\",IF(ISNUMBER(Voucher_Date_1819),COUNTIF(Voucher_Date_1819,\"<\"&Voucher_Date_1819),COUNTIF(Voucher_Date_1819,\"<\"&Voucher_Date_1819)+SUM(IF(ISNUMBER(Voucher_Date_1819),1,0))+1)),ROW(A707)),IF(ISBLANK(Voucher_Date_1819),\"\",IF(ISNUMBER(Voucher_Date_1819),COUNTIF(Voucher_Date_1819,\"<\"&Voucher_Date_1819),COUNTIF(Voucher_Date_1819,\"<\"&Voucher_Date_1819)+SUM(IF(ISNUMBER(Voucher_Date_1819),1,0))+1)),0))","v":{"$error":"#NUM!"}}]
[{"$f":"INDEX(Voucher_Date_1819,MATCH(ROWS('Bill Register 20-21'!$L$3:'Bill Register 20-21'!L709),COUNTIF(Voucher_Date_1819,\"<=\"&Voucher_Date_1819),0))","v":{"$error":"#N/A"}},{"$f":"INDEX(Voucher_Date_1819,MATCH(SMALL(IF(ISBLANK(Voucher_Date_1819),\"\",IF(ISNUMBER(Voucher_Date_1819),COUNTIF(Voucher_Date_1819,\"<\"&Voucher_Date_1819),COUNTIF(Voucher_Date_1819,\"<\"&Voucher_Date_1819)+SUM(IF(ISNUMBER(Voucher_Date_1819),1,0))+1)),ROW(A708)),IF(ISBLANK(Voucher_Date_1819),\"\",IF(ISNUMBER(Voucher_Date_1819),COUNTIF(Voucher_Date_1819,\"<\"&Voucher_Date_1819),COUNTIF(Voucher_Date_1819,\"<\"&Voucher_Date_1819)+SUM(IF(ISNUMBER(Voucher_Date_1819),1,0))+1)),0))","v":{"$error":"#NUM!"}}]
[{"$f":"INDEX(Voucher_Date_1819,MATCH(ROWS('Bill Register 20-21'!$L$3:'Bill Register 20-21'!L710),COUNTIF(Voucher_Date_1819,\"<=\"&Voucher_Date_1819),0))","v":{"$error":"#N/A"}},{"$f":"INDEX(Voucher_Date_1819,MATCH(SMALL(IF(ISBLANK(Voucher_Date_1819),\"\",IF(ISNUMBER(Voucher_Date_1819),COUNTIF(Voucher_Date_1819,\"<\"&Voucher_Date_1819),COUNTIF(Voucher_Date_1819,\"<\"&Voucher_Date_1819)+SUM(IF(ISNUMBER(Voucher_Date_1819),1,0))+1)),ROW(A709)),IF(ISBLANK(Voucher_Date_1819),\"\",IF(ISNUMBER(Voucher_Date_1819),COUNTIF(Voucher_Date_1819,\"<\"&Voucher_Date_1819),COUNTIF(Voucher_Date_1819,\"<\"&Voucher_Date_1819)+SUM(IF(ISNUMBER(Voucher_Date_1819),1,0))+1)),0))","v":{"$error":"#NUM!"}}]
[{"$f":"INDEX(Voucher_Date_1819,MATCH(ROWS('Bill Register 20-21'!$L$3:'Bill Register 20-21'!L711),COUNTIF(Voucher_Date_1819,\"<=\"&Voucher_Date_1819),0))","v":{"$error":"#N/A"}},{"$f":"INDEX(Voucher_Date_1819,MATCH(SMALL(IF(ISBLANK(Voucher_Date_1819),\"\",IF(ISNUMBER(Voucher_Date_1819),COUNTIF(Voucher_Date_1819,\"<\"&Voucher_Date_1819),COUNTIF(Voucher_Date_1819,\"<\"&Voucher_Date_1819)+SUM(IF(ISNUMBER(Voucher_Date_1819),1,0))+1)),ROW(A710)),IF(ISBLANK(Voucher_Date_1819),\"\",IF(ISNUMBER(Voucher_Date_1819),COUNTIF(Voucher_Date_1819,\"<\"&Voucher_Date_1819),COUNTIF(Voucher_Date_1819,\"<\"&Voucher_Date_1819)+SUM(IF(ISNUMBER(Voucher_Date_1819),1,0))+1)),0))","v":{"$error":"#NUM!"}}]
[{"$f":"INDEX(Voucher_Date_1819,MATCH(ROWS('Bill Register 20-21'!$L$3:'Bill Register 20-21'!L712),COUNTIF(Voucher_Date_1819,\"<=\"&Voucher_Date_1819),0))","v":{"$error":"#N/A"}},{"$f":"INDEX(Voucher_Date_1819,MATCH(SMALL(IF(ISBLANK(Voucher_Date_1819),\"\",IF(ISNUMBER(Voucher_Date_1819),COUNTIF(Voucher_Date_1819,\"<\"&Voucher_Date_1819),COUNTIF(Voucher_Date_1819,\"<\"&Voucher_Date_1819)+SUM(IF(ISNUMBER(Voucher_Date_1819),1,0))+1)),ROW(A711)),IF(ISBLANK(Voucher_Date_1819),\"\",IF(ISNUMBER(Voucher_Date_1819),COUNTIF(Voucher_Date_1819,\"<\"&Voucher_Date_1819),COUNTIF(Voucher_Date_1819,\"<\"&Voucher_Date_1819)+SUM(IF(ISNUMBER(Voucher_Date_1819),1,0))+1)),0))","v":{"$error":"#NUM!"}}]
[{"$f":"INDEX(Voucher_Date_1819,MATCH(ROWS('Bill Register 20-21'!$L$3:'Bill Register 20-21'!L713),COUNTIF(Voucher_Date_1819,\"<=\"&Voucher_Date_1819),0))","v":{"$error":"#N/A"}},{"$f":"INDEX(Voucher_Date_1819,MATCH(SMALL(IF(ISBLANK(Voucher_Date_1819),\"\",IF(ISNUMBER(Voucher_Date_1819),COUNTIF(Voucher_Date_1819,\"<\"&Voucher_Date_1819),COUNTIF(Voucher_Date_1819,\"<\"&Voucher_Date_1819)+SUM(IF(ISNUMBER(Voucher_Date_1819),1,0))+1)),ROW(A712)),IF(ISBLANK(Voucher_Date_1819),\"\",IF(ISNUMBER(Voucher_Date_1819),COUNTIF(Voucher_Date_1819,\"<\"&Voucher_Date_1819),COUNTIF(Voucher_Date_1819,\"<\"&Voucher_Date_1819)+SUM(IF(ISNUMBER(Voucher_Date_1819),1,0))+1)),0))","v":{"$error":"#NUM!"}}]
[{"$f":"INDEX(Voucher_Date_1819,MATCH(ROWS('Bill Register 20-21'!$L$3:'Bill Register 20-21'!L714),COUNTIF(Voucher_Date_1819,\"<=\"&Voucher_Date_1819),0))","v":{"$error":"#N/A"}},{"$f":"INDEX(Voucher_Date_1819,MATCH(SMALL(IF(ISBLANK(Voucher_Date_1819),\"\",IF(ISNUMBER(Voucher_Date_1819),COUNTIF(Voucher_Date_1819,\"<\"&Voucher_Date_1819),COUNTIF(Voucher_Date_1819,\"<\"&Voucher_Date_1819)+SUM(IF(ISNUMBER(Voucher_Date_1819),1,0))+1)),ROW(A713)),IF(ISBLANK(Voucher_Date_1819),\"\",IF(ISNUMBER(Voucher_Date_1819),COUNTIF(Voucher_Date_1819,\"<\"&Voucher_Date_1819),COUNTIF(Voucher_Date_1819,\"<\"&Voucher_Date_1819)+SUM(IF(ISNUMBER(Voucher_Date_1819),1,0))+1)),0))","v":{"$error":"#NUM!"}}]
[{"$f":"INDEX(Voucher_Date_1819,MATCH(ROWS('Bill Register 20-21'!$L$3:'Bill Register 20-21'!L715),COUNTIF(Voucher_Date_1819,\"<=\"&Voucher_Date_1819),0))","v":{"$error":"#N/A"}},{"$f":"INDEX(Voucher_Date_1819,MATCH(SMALL(IF(ISBLANK(Voucher_Date_1819),\"\",IF(ISNUMBER(Voucher_Date_1819),COUNTIF(Voucher_Date_1819,\"<\"&Voucher_Date_1819),COUNTIF(Voucher_Date_1819,\"<\"&Voucher_Date_1819)+SUM(IF(ISNUMBER(Voucher_Date_1819),1,0))+1)),ROW(A714)),IF(ISBLANK(Voucher_Date_1819),\"\",IF(ISNUMBER(Voucher_Date_1819),COUNTIF(Voucher_Date_1819,\"<\"&Voucher_Date_1819),COUNTIF(Voucher_Date_1819,\"<\"&Voucher_Date_1819)+SUM(IF(ISNUMBER(Voucher_Date_1819),1,0))+1)),0))","v":{"$error":"#NUM!"}}]
[{"$f":"INDEX(Voucher_Date_1819,MATCH(ROWS('Bill Register 20-21'!$L$3:'Bill Register 20-21'!L716),COUNTIF(Voucher_Date_1819,\"<=\"&Voucher_Date_1819),0))","v":{"$error":"#N/A"}},{"$f":"INDEX(Voucher_Date_1819,MATCH(SMALL(IF(ISBLANK(Voucher_Date_1819),\"\",IF(ISNUMBER(Voucher_Date_1819),COUNTIF(Voucher_Date_1819,\"<\"&Voucher_Date_1819),COUNTIF(Voucher_Date_1819,\"<\"&Voucher_Date_1819)+SUM(IF(ISNUMBER(Voucher_Date_1819),1,0))+1)),ROW(A715)),IF(ISBLANK(Voucher_Date_1819),\"\",IF(ISNUMBER(Voucher_Date_1819),COUNTIF(Voucher_Date_1819,\"<\"&Voucher_Date_1819),COUNTIF(Voucher_Date_1819,\"<\"&Voucher_Date_1819)+SUM(IF(ISNUMBER(Voucher_Date_1819),1,0))+1)),0))","v":{"$error":"#NUM!"}}]
[{"$f":"INDEX(Voucher_Date_1819,MATCH(ROWS('Bill Register 20-21'!$L$3:'Bill Register 20-21'!L717),COUNTIF(Voucher_Date_1819,\"<=\"&Voucher_Date_1819),0))","v":{"$error":"#N/A"}},{"$f":"INDEX(Voucher_Date_1819,MATCH(SMALL(IF(ISBLANK(Voucher_Date_1819),\"\",IF(ISNUMBER(Voucher_Date_1819),COUNTIF(Voucher_Date_1819,\"<\"&Voucher_Date_1819),COUNTIF(Voucher_Date_1819,\"<\"&Voucher_Date_1819)+SUM(IF(ISNUMBER(Voucher_Date_1819),1,0))+1)),ROW(A716)),IF(ISBLANK(Voucher_Date_1819),\"\",IF(ISNUMBER(Voucher_Date_1819),COUNTIF(Voucher_Date_1819,\"<\"&Voucher_Date_1819),COUNTIF(Voucher_Date_1819,\"<\"&Voucher_Date_1819)+SUM(IF(ISNUMBER(Voucher_Date_1819),1,0))+1)),0))","v":{"$error":"#NUM!"}}]
[{"$f":"INDEX(Voucher_Date_1819,MATCH(ROWS('Bill Register 20-21'!$L$3:'Bill Register 20-21'!L718),COUNTIF(Voucher_Date_1819,\"<=\"&Voucher_Date_1819),0))","v":{"$error":"#N/A"}},{"$f":"INDEX(Voucher_Date_1819,MATCH(SMALL(IF(ISBLANK(Voucher_Date_1819),\"\",IF(ISNUMBER(Voucher_Date_1819),COUNTIF(Voucher_Date_1819,\"<\"&Voucher_Date_1819),COUNTIF(Voucher_Date_1819,\"<\"&Voucher_Date_1819)+SUM(IF(ISNUMBER(Voucher_Date_1819),1,0))+1)),ROW(A717)),IF(ISBLANK(Voucher_Date_1819),\"\",IF(ISNUMBER(Voucher_Date_1819),COUNTIF(Voucher_Date_1819,\"<\"&Voucher_Date_1819),COUNTIF(Voucher_Date_1819,\"<\"&Voucher_Date_1819)+SUM(IF(ISNUMBER(Voucher_Date_1819),1,0))+1)),0))","v":{"$error":"#NUM!"}}]
[{"$f":"INDEX(Voucher_Date_1819,MATCH(ROWS('Bill Register 20-21'!$L$3:'Bill Register 20-21'!L719),COUNTIF(Voucher_Date_1819,\"<=\"&Voucher_Date_1819),0))","v":{"$error":"#N/A"}},{"$f":"INDEX(Voucher_Date_1819,MATCH(SMALL(IF(ISBLANK(Voucher_Date_1819),\"\",IF(ISNUMBER(Voucher_Date_1819),COUNTIF(Voucher_Date_1819,\"<\"&Voucher_Date_1819),COUNTIF(Voucher_Date_1819,\"<\"&Voucher_Date_1819)+SUM(IF(ISNUMBER(Voucher_Date_1819),1,0))+1)),ROW(A718)),IF(ISBLANK(Voucher_Date_1819),\"\",IF(ISNUMBER(Voucher_Date_1819),COUNTIF(Voucher_Date_1819,\"<\"&Voucher_Date_1819),COUNTIF(Voucher_Date_1819,\"<\"&Voucher_Date_1819)+SUM(IF(ISNUMBER(Voucher_Date_1819),1,0))+1)),0))","v":{"$error":"#NUM!"}}]
[{"$f":"INDEX(Voucher_Date_1819,MATCH(ROWS('Bill Register 20-21'!$L$3:'Bill Register 20-21'!L720),COUNTIF(Voucher_Date_1819,\"<=\"&Voucher_Date_1819),0))","v":{"$error":"#N/A"}},{"$f":"INDEX(Voucher_Date_1819,MATCH(SMALL(IF(ISBLANK(Voucher_Date_1819),\"\",IF(ISNUMBER(Voucher_Date_1819),COUNTIF(Voucher_Date_1819,\"<\"&Voucher_Date_1819),COUNTIF(Voucher_Date_1819,\"<\"&Voucher_Date_1819)+SUM(IF(ISNUMBER(Voucher_Date_1819),1,0))+1)),ROW(A719)),IF(ISBLANK(Voucher_Date_1819),\"\",IF(ISNUMBER(Voucher_Date_1819),COUNTIF(Voucher_Date_1819,\"<\"&Voucher_Date_1819),COUNTIF(Voucher_Date_1819,\"<\"&Voucher_Date_1819)+SUM(IF(ISNUMBER(Voucher_Date_1819),1,0))+1)),0))","v":{"$error":"#NUM!"}}]
[{"$f":"INDEX(Voucher_Date_1819,MATCH(ROWS('Bill Register 20-21'!$L$3:'Bill Register 20-21'!L721),COUNTIF(Voucher_Date_1819,\"<=\"&Voucher_Date_1819),0))","v":{"$error":"#N/A"}},{"$f":"INDEX(Voucher_Date_1819,MATCH(SMALL(IF(ISBLANK(Voucher_Date_1819),\"\",IF(ISNUMBER(Voucher_Date_1819),COUNTIF(Voucher_Date_1819,\"<\"&Voucher_Date_1819),COUNTIF(Voucher_Date_1819,\"<\"&Voucher_Date_1819)+SUM(IF(ISNUMBER(Voucher_Date_1819),1,0))+1)),ROW(A720)),IF(ISBLANK(Voucher_Date_1819),\"\",IF(ISNUMBER(Voucher_Date_1819),COUNTIF(Voucher_Date_1819,\"<\"&Voucher_Date_1819),COUNTIF(Voucher_Date_1819,\"<\"&Voucher_Date_1819)+SUM(IF(ISNUMBER(Voucher_Date_1819),1,0))+1)),0))","v":{"$error":"#NUM!"}}]
[{"$f":"INDEX(Voucher_Date_1819,MATCH(ROWS('Bill Register 20-21'!$L$3:'Bill Register 20-21'!L722),COUNTIF(Voucher_Date_1819,\"<=\"&Voucher_Date_1819),0))","v":{"$error":"#N/A"}},{"$f":"INDEX(Voucher_Date_1819,MATCH(SMALL(IF(ISBLANK(Voucher_Date_1819),\"\",IF(ISNUMBER(Voucher_Date_1819),COUNTIF(Voucher_Date_1819,\"<\"&Voucher_Date_1819),COUNTIF(Voucher_Date_1819,\"<\"&Voucher_Date_1819)+SUM(IF(ISNUMBER(Voucher_Date_1819),1,0))+1)),ROW(A721)),IF(ISBLANK(Voucher_Date_1819),\"\",IF(ISNUMBER(Voucher_Date_1819),COUNTIF(Voucher_Date_1819,\"<\"&Voucher_Date_1819),COUNTIF(Voucher_Date_1819,\"<\"&Voucher_Date_1819)+SUM(IF(ISNUMBER(Voucher_Date_1819),1,0))+1)),0))","v":{"$error":"#NUM!"}}]
[{"$f":"INDEX(Voucher_Date_1819,MATCH(ROWS('Bill Register 20-21'!$L$3:'Bill Register 20-21'!L723),COUNTIF(Voucher_Date_1819,\"<=\"&Voucher_Date_1819),0))","v":{"$error":"#N/A"}},{"$f":"INDEX(Voucher_Date_1819,MATCH(SMALL(IF(ISBLANK(Voucher_Date_1819),\"\",IF(ISNUMBER(Voucher_Date_1819),COUNTIF(Voucher_Date_1819,\"<\"&Voucher_Date_1819),COUNTIF(Voucher_Date_1819,\"<\"&Voucher_Date_1819)+SUM(IF(ISNUMBER(Voucher_Date_1819),1,0))+1)),ROW(A722)),IF(ISBLANK(Voucher_Date_1819),\"\",IF(ISNUMBER(Voucher_Date_1819),COUNTIF(Voucher_Date_1819,\"<\"&Voucher_Date_1819),COUNTIF(Voucher_Date_1819,\"<\"&Voucher_Date_1819)+SUM(IF(ISNUMBER(Voucher_Date_1819),1,0))+1)),0))","v":{"$error":"#NUM!"}}]
[{"$f":"INDEX(Voucher_Date_1819,MATCH(ROWS('Bill Register 20-21'!$L$3:'Bill Register 20-21'!L724),COUNTIF(Voucher_Date_1819,\"<=\"&Voucher_Date_1819),0))","v":{"$error":"#N/A"}},{"$f":"INDEX(Voucher_Date_1819,MATCH(SMALL(IF(ISBLANK(Voucher_Date_1819),\"\",IF(ISNUMBER(Voucher_Date_1819),COUNTIF(Voucher_Date_1819,\"<\"&Voucher_Date_1819),COUNTIF(Voucher_Date_1819,\"<\"&Voucher_Date_1819)+SUM(IF(ISNUMBER(Voucher_Date_1819),1,0))+1)),ROW(A723)),IF(ISBLANK(Voucher_Date_1819),\"\",IF(ISNUMBER(Voucher_Date_1819),COUNTIF(Voucher_Date_1819,\"<\"&Voucher_Date_1819),COUNTIF(Voucher_Date_1819,\"<\"&Voucher_Date_1819)+SUM(IF(ISNUMBER(Voucher_Date_1819),1,0))+1)),0))","v":{"$error":"#NUM!"}}]
[{"$f":"INDEX(Voucher_Date_1819,MATCH(ROWS('Bill Register 20-21'!$L$3:'Bill Register 20-21'!L725),COUNTIF(Voucher_Date_1819,\"<=\"&Voucher_Date_1819),0))","v":{"$error":"#N/A"}},{"$f":"INDEX(Voucher_Date_1819,MATCH(SMALL(IF(ISBLANK(Voucher_Date_1819),\"\",IF(ISNUMBER(Voucher_Date_1819),COUNTIF(Voucher_Date_1819,\"<\"&Voucher_Date_1819),COUNTIF(Voucher_Date_1819,\"<\"&Voucher_Date_1819)+SUM(IF(ISNUMBER(Voucher_Date_1819),1,0))+1)),ROW(A724)),IF(ISBLANK(Voucher_Date_1819),\"\",IF(ISNUMBER(Voucher_Date_1819),COUNTIF(Voucher_Date_1819,\"<\"&Voucher_Date_1819),COUNTIF(Voucher_Date_1819,\"<\"&Voucher_Date_1819)+SUM(IF(ISNUMBER(Voucher_Date_1819),1,0))+1)),0))","v":{"$error":"#NUM!"}}]
[{"$f":"INDEX(Voucher_Date_1819,MATCH(ROWS('Bill Register 20-21'!$L$3:'Bill Register 20-21'!L726),COUNTIF(Voucher_Date_1819,\"<=\"&Voucher_Date_1819),0))","v":{"$error":"#N/A"}},{"$f":"INDEX(Voucher_Date_1819,MATCH(SMALL(IF(ISBLANK(Voucher_Date_1819),\"\",IF(ISNUMBER(Voucher_Date_1819),COUNTIF(Voucher_Date_1819,\"<\"&Voucher_Date_1819),COUNTIF(Voucher_Date_1819,\"<\"&Voucher_Date_1819)+SUM(IF(ISNUMBER(Voucher_Date_1819),1,0))+1)),ROW(A725)),IF(ISBLANK(Voucher_Date_1819),\"\",IF(ISNUMBER(Voucher_Date_1819),COUNTIF(Voucher_Date_1819,\"<\"&Voucher_Date_1819),COUNTIF(Voucher_Date_1819,\"<\"&Voucher_Date_1819)+SUM(IF(ISNUMBER(Voucher_Date_1819),1,0))+1)),0))","v":{"$error":"#NUM!"}}]
[{"$f":"INDEX(Voucher_Date_1819,MATCH(ROWS('Bill Register 20-21'!$L$3:'Bill Register 20-21'!L727),COUNTIF(Voucher_Date_1819,\"<=\"&Voucher_Date_1819),0))","v":{"$error":"#N/A"}},{"$f":"INDEX(Voucher_Date_1819,MATCH(SMALL(IF(ISBLANK(Voucher_Date_1819),\"\",IF(ISNUMBER(Voucher_Date_1819),COUNTIF(Voucher_Date_1819,\"<\"&Voucher_Date_1819),COUNTIF(Voucher_Date_1819,\"<\"&Voucher_Date_1819)+SUM(IF(ISNUMBER(Voucher_Date_1819),1,0))+1)),ROW(A726)),IF(ISBLANK(Voucher_Date_1819),\"\",IF(ISNUMBER(Voucher_Date_1819),COUNTIF(Voucher_Date_1819,\"<\"&Voucher_Date_1819),COUNTIF(Voucher_Date_1819,\"<\"&Voucher_Date_1819)+SUM(IF(ISNUMBER(Voucher_Date_1819),1,0))+1)),0))","v":{"$error":"#NUM!"}}]
[{"$f":"INDEX(Voucher_Date_1819,MATCH(ROWS('Bill Register 20-21'!$L$3:'Bill Register 20-21'!L728),COUNTIF(Voucher_Date_1819,\"<=\"&Voucher_Date_1819),0))","v":{"$error":"#N/A"}},{"$f":"INDEX(Voucher_Date_1819,MATCH(SMALL(IF(ISBLANK(Voucher_Date_1819),\"\",IF(ISNUMBER(Voucher_Date_1819),COUNTIF(Voucher_Date_1819,\"<\"&Voucher_Date_1819),COUNTIF(Voucher_Date_1819,\"<\"&Voucher_Date_1819)+SUM(IF(ISNUMBER(Voucher_Date_1819),1,0))+1)),ROW(A727)),IF(ISBLANK(Voucher_Date_1819),\"\",IF(ISNUMBER(Voucher_Date_1819),COUNTIF(Voucher_Date_1819,\"<\"&Voucher_Date_1819),COUNTIF(Voucher_Date_1819,\"<\"&Voucher_Date_1819)+SUM(IF(ISNUMBER(Voucher_Date_1819),1,0))+1)),0))","v":{"$error":"#NUM!"}}]
[{"$f":"INDEX(Voucher_Date_1819,MATCH(ROWS('Bill Register 20-21'!$L$3:'Bill Register 20-21'!L729),COUNTIF(Voucher_Date_1819,\"<=\"&Voucher_Date_1819),0))","v":{"$error":"#N/A"}},{"$f":"INDEX(Voucher_Date_1819,MATCH(SMALL(IF(ISBLANK(Voucher_Date_1819),\"\",IF(ISNUMBER(Voucher_Date_1819),COUNTIF(Voucher_Date_1819,\"<\"&Voucher_Date_1819),COUNTIF(Voucher_Date_1819,\"<\"&Voucher_Date_1819)+SUM(IF(ISNUMBER(Voucher_Date_1819),1,0))+1)),ROW(A728)),IF(ISBLANK(Voucher_Date_1819),\"\",IF(ISNUMBER(Voucher_Date_1819),COUNTIF(Voucher_Date_1819,\"<\"&Voucher_Date_1819),COUNTIF(Voucher_Date_1819,\"<\"&Voucher_Date_1819)+SUM(IF(ISNUMBER(Voucher_Date_1819),1,0))+1)),0))","v":{"$error":"#NUM!"}}]
[{"$f":"INDEX(Voucher_Date_1819,MATCH(ROWS('Bill Register 20-21'!$L$3:'Bill Register 20-21'!L730),COUNTIF(Voucher_Date_1819,\"<=\"&Voucher_Date_1819),0))","v":{"$error":"#N/A"}},{"$f":"INDEX(Voucher_Date_1819,MATCH(SMALL(IF(ISBLANK(Voucher_Date_1819),\"\",IF(ISNUMBER(Voucher_Date_1819),COUNTIF(Voucher_Date_1819,\"<\"&Voucher_Date_1819),COUNTIF(Voucher_Date_1819,\"<\"&Voucher_Date_1819)+SUM(IF(ISNUMBER(Voucher_Date_1819),1,0))+1)),ROW(A729)),IF(ISBLANK(Voucher_Date_1819),\"\",IF(ISNUMBER(Voucher_Date_1819),COUNTIF(Voucher_Date_1819,\"<\"&Voucher_Date_1819),COUNTIF(Voucher_Date_1819,\"<\"&Voucher_Date_1819)+SUM(IF(ISNUMBER(Voucher_Date_1819),1,0))+1)),0))","v":{"$error":"#NUM!"}}]
[{"$f":"INDEX(Voucher_Date_1819,MATCH(ROWS('Bill Register 20-21'!$L$3:'Bill Register 20-21'!L731),COUNTIF(Voucher_Date_1819,\"<=\"&Voucher_Date_1819),0))","v":{"$error":"#N/A"}},{"$f":"INDEX(Voucher_Date_1819,MATCH(SMALL(IF(ISBLANK(Voucher_Date_1819),\"\",IF(ISNUMBER(Voucher_Date_1819),COUNTIF(Voucher_Date_1819,\"<\"&Voucher_Date_1819),COUNTIF(Voucher_Date_1819,\"<\"&Voucher_Date_1819)+SUM(IF(ISNUMBER(Voucher_Date_1819),1,0))+1)),ROW(A730)),IF(ISBLANK(Voucher_Date_1819),\"\",IF(ISNUMBER(Voucher_Date_1819),COUNTIF(Voucher_Date_1819,\"<\"&Voucher_Date_1819),COUNTIF(Voucher_Date_1819,\"<\"&Voucher_Date_1819)+SUM(IF(ISNUMBER(Voucher_Date_1819),1,0))+1)),0))","v":{"$error":"#NUM!"}}]
[{"$f":"INDEX(Voucher_Date_1819,MATCH(ROWS('Bill Register 20-21'!$L$3:'Bill Register 20-21'!L732),COUNTIF(Voucher_Date_1819,\"<=\"&Voucher_Date_1819),0))","v":{"$error":"#N/A"}},{"$f":"INDEX(Voucher_Date_1819,MATCH(SMALL(IF(ISBLANK(Voucher_Date_1819),\"\",IF(ISNUMBER(Voucher_Date_1819),COUNTIF(Voucher_Date_1819,\"<\"&Voucher_Date_1819),COUNTIF(Voucher_Date_1819,\"<\"&Voucher_Date_1819)+SUM(IF(ISNUMBER(Voucher_Date_1819),1,0))+1)),ROW(A731)),IF(ISBLANK(Voucher_Date_1819),\"\",IF(ISNUMBER(Voucher_Date_1819),COUNTIF(Voucher_Date_1819,\"<\"&Voucher_Date_1819),COUNTIF(Voucher_Date_1819,\"<\"&Voucher_Date_1819)+SUM(IF(ISNUMBER(Voucher_Date_1819),1,0))+1)),0))","v":{"$error":"#NUM!"}}]
[{"$f":"INDEX(Voucher_Date_1819,MATCH(ROWS('Bill Register 20-21'!$L$3:'Bill Register 20-21'!L733),COUNTIF(Voucher_Date_1819,\"<=\"&Voucher_Date_1819),0))","v":{"$error":"#N/A"}},{"$f":"INDEX(Voucher_Date_1819,MATCH(SMALL(IF(ISBLANK(Voucher_Date_1819),\"\",IF(ISNUMBER(Voucher_Date_1819),COUNTIF(Voucher_Date_1819,\"<\"&Voucher_Date_1819),COUNTIF(Voucher_Date_1819,\"<\"&Voucher_Date_1819)+SUM(IF(ISNUMBER(Voucher_Date_1819),1,0))+1)),ROW(A732)),IF(ISBLANK(Voucher_Date_1819),\"\",IF(ISNUMBER(Voucher_Date_1819),COUNTIF(Voucher_Date_1819,\"<\"&Voucher_Date_1819),COUNTIF(Voucher_Date_1819,\"<\"&Voucher_Date_1819)+SUM(IF(ISNUMBER(Voucher_Date_1819),1,0))+1)),0))","v":{"$error":"#NUM!"}}]
[{"$f":"INDEX(Voucher_Date_1819,MATCH(ROWS('Bill Register 20-21'!$L$3:'Bill Register 20-21'!L734),COUNTIF(Voucher_Date_1819,\"<=\"&Voucher_Date_1819),0))","v":{"$error":"#N/A"}},{"$f":"INDEX(Voucher_Date_1819,MATCH(SMALL(IF(ISBLANK(Voucher_Date_1819),\"\",IF(ISNUMBER(Voucher_Date_1819),COUNTIF(Voucher_Date_1819,\"<\"&Voucher_Date_1819),COUNTIF(Voucher_Date_1819,\"<\"&Voucher_Date_1819)+SUM(IF(ISNUMBER(Voucher_Date_1819),1,0))+1)),ROW(A733)),IF(ISBLANK(Voucher_Date_1819),\"\",IF(ISNUMBER(Voucher_Date_1819),COUNTIF(Voucher_Date_1819,\"<\"&Voucher_Date_1819),COUNTIF(Voucher_Date_1819,\"<\"&Voucher_Date_1819)+SUM(IF(ISNUMBER(Voucher_Date_1819),1,0))+1)),0))","v":{"$error":"#NUM!"}}]
[{"$f":"INDEX(Voucher_Date_1819,MATCH(ROWS('Bill Register 20-21'!$L$3:'Bill Register 20-21'!L735),COUNTIF(Voucher_Date_1819,\"<=\"&Voucher_Date_1819),0))","v":{"$error":"#N/A"}},{"$f":"INDEX(Voucher_Date_1819,MATCH(SMALL(IF(ISBLANK(Voucher_Date_1819),\"\",IF(ISNUMBER(Voucher_Date_1819),COUNTIF(Voucher_Date_1819,\"<\"&Voucher_Date_1819),COUNTIF(Voucher_Date_1819,\"<\"&Voucher_Date_1819)+SUM(IF(ISNUMBER(Voucher_Date_1819),1,0))+1)),ROW(A734)),IF(ISBLANK(Voucher_Date_1819),\"\",IF(ISNUMBER(Voucher_Date_1819),COUNTIF(Voucher_Date_1819,\"<\"&Voucher_Date_1819),COUNTIF(Voucher_Date_1819,\"<\"&Voucher_Date_1819)+SUM(IF(ISNUMBER(Voucher_Date_1819),1,0))+1)),0))","v":{"$error":"#NUM!"}}]
[{"$f":"INDEX(Voucher_Date_1819,MATCH(ROWS('Bill Register 20-21'!$L$3:'Bill Register 20-21'!L736),COUNTIF(Voucher_Date_1819,\"<=\"&Voucher_Date_1819),0))","v":{"$error":"#N/A"}},{"$f":"INDEX(Voucher_Date_1819,MATCH(SMALL(IF(ISBLANK(Voucher_Date_1819),\"\",IF(ISNUMBER(Voucher_Date_1819),COUNTIF(Voucher_Date_1819,\"<\"&Voucher_Date_1819),COUNTIF(Voucher_Date_1819,\"<\"&Voucher_Date_1819)+SUM(IF(ISNUMBER(Voucher_Date_1819),1,0))+1)),ROW(A735)),IF(ISBLANK(Voucher_Date_1819),\"\",IF(ISNUMBER(Voucher_Date_1819),COUNTIF(Voucher_Date_1819,\"<\"&Voucher_Date_1819),COUNTIF(Voucher_Date_1819,\"<\"&Voucher_Date_1819)+SUM(IF(ISNUMBER(Voucher_Date_1819),1,0))+1)),0))","v":{"$error":"#NUM!"}}]
[{"$f":"INDEX(Voucher_Date_1819,MATCH(ROWS('Bill Register 20-21'!$L$3:'Bill Register 20-21'!L737),COUNTIF(Voucher_Date_1819,\"<=\"&Voucher_Date_1819),0))","v":{"$error":"#N/A"}},{"$f":"INDEX(Voucher_Date_1819,MATCH(SMALL(IF(ISBLANK(Voucher_Date_1819),\"\",IF(ISNUMBER(Voucher_Date_1819),COUNTIF(Voucher_Date_1819,\"<\"&Voucher_Date_1819),COUNTIF(Voucher_Date_1819,\"<\"&Voucher_Date_1819)+SUM(IF(ISNUMBER(Voucher_Date_1819),1,0))+1)),ROW(A736)),IF(ISBLANK(Voucher_Date_1819),\"\",IF(ISNUMBER(Voucher_Date_1819),COUNTIF(Voucher_Date_1819,\"<\"&Voucher_Date_1819),COUNTIF(Voucher_Date_1819,\"<\"&Voucher_Date_1819)+SUM(IF(ISNUMBER(Voucher_Date_1819),1,0))+1)),0))","v":{"$error":"#NUM!"}}]
[{"$f":"INDEX(Voucher_Date_1819,MATCH(ROWS('Bill Register 20-21'!$L$3:'Bill Register 20-21'!L738),COUNTIF(Voucher_Date_1819,\"<=\"&Voucher_Date_1819),0))","v":{"$error":"#N/A"}},{"$f":"INDEX(Voucher_Date_1819,MATCH(SMALL(IF(ISBLANK(Voucher_Date_1819),\"\",IF(ISNUMBER(Voucher_Date_1819),COUNTIF(Voucher_Date_1819,\"<\"&Voucher_Date_1819),COUNTIF(Voucher_Date_1819,\"<\"&Voucher_Date_1819)+SUM(IF(ISNUMBER(Voucher_Date_1819),1,0))+1)),ROW(A737)),IF(ISBLANK(Voucher_Date_1819),\"\",IF(ISNUMBER(Voucher_Date_1819),COUNTIF(Voucher_Date_1819,\"<\"&Voucher_Date_1819),COUNTIF(Voucher_Date_1819,\"<\"&Voucher_Date_1819)+SUM(IF(ISNUMBER(Voucher_Date_1819),1,0))+1)),0))","v":{"$error":"#NUM!"}}]
[{"$f":"INDEX(Voucher_Date_1819,MATCH(ROWS('Bill Register 20-21'!$L$3:'Bill Register 20-21'!L739),COUNTIF(Voucher_Date_1819,\"<=\"&Voucher_Date_1819),0))","v":{"$error":"#N/A"}},{"$f":"INDEX(Voucher_Date_1819,MATCH(SMALL(IF(ISBLANK(Voucher_Date_1819),\"\",IF(ISNUMBER(Voucher_Date_1819),COUNTIF(Voucher_Date_1819,\"<\"&Voucher_Date_1819),COUNTIF(Voucher_Date_1819,\"<\"&Voucher_Date_1819)+SUM(IF(ISNUMBER(Voucher_Date_1819),1,0))+1)),ROW(A738)),IF(ISBLANK(Voucher_Date_1819),\"\",IF(ISNUMBER(Voucher_Date_1819),COUNTIF(Voucher_Date_1819,\"<\"&Voucher_Date_1819),COUNTIF(Voucher_Date_1819,\"<\"&Voucher_Date_1819)+SUM(IF(ISNUMBER(Voucher_Date_1819),1,0))+1)),0))","v":{"$error":"#NUM!"}}]
[{"$f":"INDEX(Voucher_Date_1819,MATCH(ROWS('Bill Register 20-21'!$L$3:'Bill Register 20-21'!L740),COUNTIF(Voucher_Date_1819,\"<=\"&Voucher_Date_1819),0))","v":{"$error":"#N/A"}},{"$f":"INDEX(Voucher_Date_1819,MATCH(SMALL(IF(ISBLANK(Voucher_Date_1819),\"\",IF(ISNUMBER(Voucher_Date_1819),COUNTIF(Voucher_Date_1819,\"<\"&Voucher_Date_1819),COUNTIF(Voucher_Date_1819,\"<\"&Voucher_Date_1819)+SUM(IF(ISNUMBER(Voucher_Date_1819),1,0))+1)),ROW(A739)),IF(ISBLANK(Voucher_Date_1819),\"\",IF(ISNUMBER(Voucher_Date_1819),COUNTIF(Voucher_Date_1819,\"<\"&Voucher_Date_1819),COUNTIF(Voucher_Date_1819,\"<\"&Voucher_Date_1819)+SUM(IF(ISNUMBER(Voucher_Date_1819),1,0))+1)),0))","v":{"$error":"#NUM!"}}]
[{"$f":"INDEX(Voucher_Date_1819,MATCH(ROWS('Bill Register 20-21'!$L$3:'Bill Register 20-21'!L741),COUNTIF(Voucher_Date_1819,\"<=\"&Voucher_Date_1819),0))","v":{"$error":"#N/A"}},{"$f":"INDEX(Voucher_Date_1819,MATCH(SMALL(IF(ISBLANK(Voucher_Date_1819),\"\",IF(ISNUMBER(Voucher_Date_1819),COUNTIF(Voucher_Date_1819,\"<\"&Voucher_Date_1819),COUNTIF(Voucher_Date_1819,\"<\"&Voucher_Date_1819)+SUM(IF(ISNUMBER(Voucher_Date_1819),1,0))+1)),ROW(A740)),IF(ISBLANK(Voucher_Date_1819),\"\",IF(ISNUMBER(Voucher_Date_1819),COUNTIF(Voucher_Date_1819,\"<\"&Voucher_Date_1819),COUNTIF(Voucher_Date_1819,\"<\"&Voucher_Date_1819)+SUM(IF(ISNUMBER(Voucher_Date_1819),1,0))+1)),0))","v":{"$error":"#NUM!"}}]
[{"$f":"INDEX(Voucher_Date_1819,MATCH(ROWS('Bill Register 20-21'!$L$3:'Bill Register 20-21'!L742),COUNTIF(Voucher_Date_1819,\"<=\"&Voucher_Date_1819),0))","v":{"$error":"#N/A"}},{"$f":"INDEX(Voucher_Date_1819,MATCH(SMALL(IF(ISBLANK(Voucher_Date_1819),\"\",IF(ISNUMBER(Voucher_Date_1819),COUNTIF(Voucher_Date_1819,\"<\"&Voucher_Date_1819),COUNTIF(Voucher_Date_1819,\"<\"&Voucher_Date_1819)+SUM(IF(ISNUMBER(Voucher_Date_1819),1,0))+1)),ROW(A741)),IF(ISBLANK(Voucher_Date_1819),\"\",IF(ISNUMBER(Voucher_Date_1819),COUNTIF(Voucher_Date_1819,\"<\"&Voucher_Date_1819),COUNTIF(Voucher_Date_1819,\"<\"&Voucher_Date_1819)+SUM(IF(ISNUMBER(Voucher_Date_1819),1,0))+1)),0))","v":{"$error":"#NUM!"}}]
[{"$f":"INDEX(Voucher_Date_1819,MATCH(ROWS('Bill Register 20-21'!$L$3:'Bill Register 20-21'!L743),COUNTIF(Voucher_Date_1819,\"<=\"&Voucher_Date_1819),0))","v":{"$error":"#N/A"}},{"$f":"INDEX(Voucher_Date_1819,MATCH(SMALL(IF(ISBLANK(Voucher_Date_1819),\"\",IF(ISNUMBER(Voucher_Date_1819),COUNTIF(Voucher_Date_1819,\"<\"&Voucher_Date_1819),COUNTIF(Voucher_Date_1819,\"<\"&Voucher_Date_1819)+SUM(IF(ISNUMBER(Voucher_Date_1819),1,0))+1)),ROW(A742)),IF(ISBLANK(Voucher_Date_1819),\"\",IF(ISNUMBER(Voucher_Date_1819),COUNTIF(Voucher_Date_1819,\"<\"&Voucher_Date_1819),COUNTIF(Voucher_Date_1819,\"<\"&Voucher_Date_1819)+SUM(IF(ISNUMBER(Voucher_Date_1819),1,0))+1)),0))","v":{"$error":"#NUM!"}}]
[{"$f":"INDEX(Voucher_Date_1819,MATCH(ROWS('Bill Register 20-21'!$L$3:'Bill Register 20-21'!L744),COUNTIF(Voucher_Date_1819,\"<=\"&Voucher_Date_1819),0))","v":{"$error":"#N/A"}},{"$f":"INDEX(Voucher_Date_1819,MATCH(SMALL(IF(ISBLANK(Voucher_Date_1819),\"\",IF(ISNUMBER(Voucher_Date_1819),COUNTIF(Voucher_Date_1819,\"<\"&Voucher_Date_1819),COUNTIF(Voucher_Date_1819,\"<\"&Voucher_Date_1819)+SUM(IF(ISNUMBER(Voucher_Date_1819),1,0))+1)),ROW(A743)),IF(ISBLANK(Voucher_Date_1819),\"\",IF(ISNUMBER(Voucher_Date_1819),COUNTIF(Voucher_Date_1819,\"<\"&Voucher_Date_1819),COUNTIF(Voucher_Date_1819,\"<\"&Voucher_Date_1819)+SUM(IF(ISNUMBER(Voucher_Date_1819),1,0))+1)),0))","v":{"$error":"#NUM!"}}]
[{"$f":"INDEX(Voucher_Date_1819,MATCH(ROWS('Bill Register 20-21'!$L$3:'Bill Register 20-21'!L745),COUNTIF(Voucher_Date_1819,\"<=\"&Voucher_Date_1819),0))","v":{"$error":"#N/A"}},{"$f":"INDEX(Voucher_Date_1819,MATCH(SMALL(IF(ISBLANK(Voucher_Date_1819),\"\",IF(ISNUMBER(Voucher_Date_1819),COUNTIF(Voucher_Date_1819,\"<\"&Voucher_Date_1819),COUNTIF(Voucher_Date_1819,\"<\"&Voucher_Date_1819)+SUM(IF(ISNUMBER(Voucher_Date_1819),1,0))+1)),ROW(A744)),IF(ISBLANK(Voucher_Date_1819),\"\",IF(ISNUMBER(Voucher_Date_1819),COUNTIF(Voucher_Date_1819,\"<\"&Voucher_Date_1819),COUNTIF(Voucher_Date_1819,\"<\"&Voucher_Date_1819)+SUM(IF(ISNUMBER(Voucher_Date_1819),1,0))+1)),0))","v":{"$error":"#NUM!"}}]
[{"$f":"INDEX(Voucher_Date_1819,MATCH(ROWS('Bill Register 20-21'!$L$3:'Bill Register 20-21'!L746),COUNTIF(Voucher_Date_1819,\"<=\"&Voucher_Date_1819),0))","v":{"$error":"#N/A"}},{"$f":"INDEX(Voucher_Date_1819,MATCH(SMALL(IF(ISBLANK(Voucher_Date_1819),\"\",IF(ISNUMBER(Voucher_Date_1819),COUNTIF(Voucher_Date_1819,\"<\"&Voucher_Date_1819),COUNTIF(Voucher_Date_1819,\"<\"&Voucher_Date_1819)+SUM(IF(ISNUMBER(Voucher_Date_1819),1,0))+1)),ROW(A745)),IF(ISBLANK(Voucher_Date_1819),\"\",IF(ISNUMBER(Voucher_Date_1819),COUNTIF(Voucher_Date_1819,\"<\"&Voucher_Date_1819),COUNTIF(Voucher_Date_1819,\"<\"&Voucher_Date_1819)+SUM(IF(ISNUMBER(Voucher_Date_1819),1,0))+1)),0))","v":{"$error":"#NUM!"}}]
[{"$f":"INDEX(Voucher_Date_1819,MATCH(ROWS('Bill Register 20-21'!$L$3:'Bill Register 20-21'!L747),COUNTIF(Voucher_Date_1819,\"<=\"&Voucher_Date_1819),0))","v":{"$error":"#N/A"}},{"$f":"INDEX(Voucher_Date_1819,MATCH(SMALL(IF(ISBLANK(Voucher_Date_1819),\"\",IF(ISNUMBER(Voucher_Date_1819),COUNTIF(Voucher_Date_1819,\"<\"&Voucher_Date_1819),COUNTIF(Voucher_Date_1819,\"<\"&Voucher_Date_1819)+SUM(IF(ISNUMBER(Voucher_Date_1819),1,0))+1)),ROW(A746)),IF(ISBLANK(Voucher_Date_1819),\"\",IF(ISNUMBER(Voucher_Date_1819),COUNTIF(Voucher_Date_1819,\"<\"&Voucher_Date_1819),COUNTIF(Voucher_Date_1819,\"<\"&Voucher_Date_1819)+SUM(IF(ISNUMBER(Voucher_Date_1819),1,0))+1)),0))","v":{"$error":"#NUM!"}}]
[{"$f":"INDEX(Voucher_Date_1819,MATCH(ROWS('Bill Register 20-21'!$L$3:'Bill Register 20-21'!L748),COUNTIF(Voucher_Date_1819,\"<=\"&Voucher_Date_1819),0))","v":{"$error":"#N/A"}},{"$f":"INDEX(Voucher_Date_1819,MATCH(SMALL(IF(ISBLANK(Voucher_Date_1819),\"\",IF(ISNUMBER(Voucher_Date_1819),COUNTIF(Voucher_Date_1819,\"<\"&Voucher_Date_1819),COUNTIF(Voucher_Date_1819,\"<\"&Voucher_Date_1819)+SUM(IF(ISNUMBER(Voucher_Date_1819),1,0))+1)),ROW(A747)),IF(ISBLANK(Voucher_Date_1819),\"\",IF(ISNUMBER(Voucher_Date_1819),COUNTIF(Voucher_Date_1819,\"<\"&Voucher_Date_1819),COUNTIF(Voucher_Date_1819,\"<\"&Voucher_Date_1819)+SUM(IF(ISNUMBER(Voucher_Date_1819),1,0))+1)),0))","v":{"$error":"#NUM!"}}]
[{"$f":"INDEX(Voucher_Date_1819,MATCH(ROWS('Bill Register 20-21'!$L$3:'Bill Register 20-21'!L749),COUNTIF(Voucher_Date_1819,\"<=\"&Voucher_Date_1819),0))","v":{"$error":"#N/A"}},{"$f":"INDEX(Voucher_Date_1819,MATCH(SMALL(IF(ISBLANK(Voucher_Date_1819),\"\",IF(ISNUMBER(Voucher_Date_1819),COUNTIF(Voucher_Date_1819,\"<\"&Voucher_Date_1819),COUNTIF(Voucher_Date_1819,\"<\"&Voucher_Date_1819)+SUM(IF(ISNUMBER(Voucher_Date_1819),1,0))+1)),ROW(A748)),IF(ISBLANK(Voucher_Date_1819),\"\",IF(ISNUMBER(Voucher_Date_1819),COUNTIF(Voucher_Date_1819,\"<\"&Voucher_Date_1819),COUNTIF(Voucher_Date_1819,\"<\"&Voucher_Date_1819)+SUM(IF(ISNUMBER(Voucher_Date_1819),1,0))+1)),0))","v":{"$error":"#NUM!"}}]
[{"$f":"INDEX(Voucher_Date_1819,MATCH(ROWS('Bill Register 20-21'!$L$3:'Bill Register 20-21'!L750),COUNTIF(Voucher_Date_1819,\"<=\"&Voucher_Date_1819),0))","v":{"$error":"#N/A"}},{"$f":"INDEX(Voucher_Date_1819,MATCH(SMALL(IF(ISBLANK(Voucher_Date_1819),\"\",IF(ISNUMBER(Voucher_Date_1819),COUNTIF(Voucher_Date_1819,\"<\"&Voucher_Date_1819),COUNTIF(Voucher_Date_1819,\"<\"&Voucher_Date_1819)+SUM(IF(ISNUMBER(Voucher_Date_1819),1,0))+1)),ROW(A749)),IF(ISBLANK(Voucher_Date_1819),\"\",IF(ISNUMBER(Voucher_Date_1819),COUNTIF(Voucher_Date_1819,\"<\"&Voucher_Date_1819),COUNTIF(Voucher_Date_1819,\"<\"&Voucher_Date_1819)+SUM(IF(ISNUMBER(Voucher_Date_1819),1,0))+1)),0))","v":{"$error":"#NUM!"}}]
[{"$f":"INDEX(Voucher_Date_1819,MATCH(ROWS('Bill Register 20-21'!$L$3:'Bill Register 20-21'!L751),COUNTIF(Voucher_Date_1819,\"<=\"&Voucher_Date_1819),0))","v":{"$error":"#N/A"}},{"$f":"INDEX(Voucher_Date_1819,MATCH(SMALL(IF(ISBLANK(Voucher_Date_1819),\"\",IF(ISNUMBER(Voucher_Date_1819),COUNTIF(Voucher_Date_1819,\"<\"&Voucher_Date_1819),COUNTIF(Voucher_Date_1819,\"<\"&Voucher_Date_1819)+SUM(IF(ISNUMBER(Voucher_Date_1819),1,0))+1)),ROW(A750)),IF(ISBLANK(Voucher_Date_1819),\"\",IF(ISNUMBER(Voucher_Date_1819),COUNTIF(Voucher_Date_1819,\"<\"&Voucher_Date_1819),COUNTIF(Voucher_Date_1819,\"<\"&Voucher_Date_1819)+SUM(IF(ISNUMBER(Voucher_Date_1819),1,0))+1)),0))","v":{"$error":"#NUM!"}}]
[{"$f":"INDEX(Voucher_Date_1819,MATCH(ROWS('Bill Register 20-21'!$L$3:'Bill Register 20-21'!L752),COUNTIF(Voucher_Date_1819,\"<=\"&Voucher_Date_1819),0))","v":{"$error":"#N/A"}},{"$f":"INDEX(Voucher_Date_1819,MATCH(SMALL(IF(ISBLANK(Voucher_Date_1819),\"\",IF(ISNUMBER(Voucher_Date_1819),COUNTIF(Voucher_Date_1819,\"<\"&Voucher_Date_1819),COUNTIF(Voucher_Date_1819,\"<\"&Voucher_Date_1819)+SUM(IF(ISNUMBER(Voucher_Date_1819),1,0))+1)),ROW(A751)),IF(ISBLANK(Voucher_Date_1819),\"\",IF(ISNUMBER(Voucher_Date_1819),COUNTIF(Voucher_Date_1819,\"<\"&Voucher_Date_1819),COUNTIF(Voucher_Date_1819,\"<\"&Voucher_Date_1819)+SUM(IF(ISNUMBER(Voucher_Date_1819),1,0))+1)),0))","v":{"$error":"#NUM!"}}]
[{"$f":"INDEX(Voucher_Date_1819,MATCH(ROWS('Bill Register 20-21'!$L$3:'Bill Register 20-21'!L753),COUNTIF(Voucher_Date_1819,\"<=\"&Voucher_Date_1819),0))","v":{"$error":"#N/A"}},{"$f":"INDEX(Voucher_Date_1819,MATCH(SMALL(IF(ISBLANK(Voucher_Date_1819),\"\",IF(ISNUMBER(Voucher_Date_1819),COUNTIF(Voucher_Date_1819,\"<\"&Voucher_Date_1819),COUNTIF(Voucher_Date_1819,\"<\"&Voucher_Date_1819)+SUM(IF(ISNUMBER(Voucher_Date_1819),1,0))+1)),ROW(A752)),IF(ISBLANK(Voucher_Date_1819),\"\",IF(ISNUMBER(Voucher_Date_1819),COUNTIF(Voucher_Date_1819,\"<\"&Voucher_Date_1819),COUNTIF(Voucher_Date_1819,\"<\"&Voucher_Date_1819)+SUM(IF(ISNUMBER(Voucher_Date_1819),1,0))+1)),0))","v":{"$error":"#NUM!"}}]
[{"$f":"INDEX(Voucher_Date_1819,MATCH(ROWS('Bill Register 20-21'!$L$3:'Bill Register 20-21'!L754),COUNTIF(Voucher_Date_1819,\"<=\"&Voucher_Date_1819),0))","v":{"$error":"#N/A"}},{"$f":"INDEX(Voucher_Date_1819,MATCH(SMALL(IF(ISBLANK(Voucher_Date_1819),\"\",IF(ISNUMBER(Voucher_Date_1819),COUNTIF(Voucher_Date_1819,\"<\"&Voucher_Date_1819),COUNTIF(Voucher_Date_1819,\"<\"&Voucher_Date_1819)+SUM(IF(ISNUMBER(Voucher_Date_1819),1,0))+1)),ROW(A753)),IF(ISBLANK(Voucher_Date_1819),\"\",IF(ISNUMBER(Voucher_Date_1819),COUNTIF(Voucher_Date_1819,\"<\"&Voucher_Date_1819),COUNTIF(Voucher_Date_1819,\"<\"&Voucher_Date_1819)+SUM(IF(ISNUMBER(Voucher_Date_1819),1,0))+1)),0))","v":{"$error":"#NUM!"}}]
[{"$f":"INDEX(Voucher_Date_1819,MATCH(ROWS('Bill Register 20-21'!$L$3:'Bill Register 20-21'!L755),COUNTIF(Voucher_Date_1819,\"<=\"&Voucher_Date_1819),0))","v":{"$error":"#N/A"}},{"$f":"INDEX(Voucher_Date_1819,MATCH(SMALL(IF(ISBLANK(Voucher_Date_1819),\"\",IF(ISNUMBER(Voucher_Date_1819),COUNTIF(Voucher_Date_1819,\"<\"&Voucher_Date_1819),COUNTIF(Voucher_Date_1819,\"<\"&Voucher_Date_1819)+SUM(IF(ISNUMBER(Voucher_Date_1819),1,0))+1)),ROW(A754)),IF(ISBLANK(Voucher_Date_1819),\"\",IF(ISNUMBER(Voucher_Date_1819),COUNTIF(Voucher_Date_1819,\"<\"&Voucher_Date_1819),COUNTIF(Voucher_Date_1819,\"<\"&Voucher_Date_1819)+SUM(IF(ISNUMBER(Voucher_Date_1819),1,0))+1)),0))","v":{"$error":"#NUM!"}}]
[{"$f":"INDEX(Voucher_Date_1819,MATCH(ROWS('Bill Register 20-21'!$L$3:'Bill Register 20-21'!L756),COUNTIF(Voucher_Date_1819,\"<=\"&Voucher_Date_1819),0))","v":{"$error":"#N/A"}},{"$f":"INDEX(Voucher_Date_1819,MATCH(SMALL(IF(ISBLANK(Voucher_Date_1819),\"\",IF(ISNUMBER(Voucher_Date_1819),COUNTIF(Voucher_Date_1819,\"<\"&Voucher_Date_1819),COUNTIF(Voucher_Date_1819,\"<\"&Voucher_Date_1819)+SUM(IF(ISNUMBER(Voucher_Date_1819),1,0))+1)),ROW(A755)),IF(ISBLANK(Voucher_Date_1819),\"\",IF(ISNUMBER(Voucher_Date_1819),COUNTIF(Voucher_Date_1819,\"<\"&Voucher_Date_1819),COUNTIF(Voucher_Date_1819,\"<\"&Voucher_Date_1819)+SUM(IF(ISNUMBER(Voucher_Date_1819),1,0))+1)),0))","v":{"$error":"#NUM!"}}]
[{"$f":"INDEX(Voucher_Date_1819,MATCH(ROWS('Bill Register 20-21'!$L$3:'Bill Register 20-21'!L757),COUNTIF(Voucher_Date_1819,\"<=\"&Voucher_Date_1819),0))","v":{"$error":"#N/A"}},{"$f":"INDEX(Voucher_Date_1819,MATCH(SMALL(IF(ISBLANK(Voucher_Date_1819),\"\",IF(ISNUMBER(Voucher_Date_1819),COUNTIF(Voucher_Date_1819,\"<\"&Voucher_Date_1819),COUNTIF(Voucher_Date_1819,\"<\"&Voucher_Date_1819)+SUM(IF(ISNUMBER(Voucher_Date_1819),1,0))+1)),ROW(A756)),IF(ISBLANK(Voucher_Date_1819),\"\",IF(ISNUMBER(Voucher_Date_1819),COUNTIF(Voucher_Date_1819,\"<\"&Voucher_Date_1819),COUNTIF(Voucher_Date_1819,\"<\"&Voucher_Date_1819)+SUM(IF(ISNUMBER(Voucher_Date_1819),1,0))+1)),0))","v":{"$error":"#NUM!"}}]
[{"$f":"INDEX(Voucher_Date_1819,MATCH(ROWS('Bill Register 20-21'!$L$3:'Bill Register 20-21'!L758),COUNTIF(Voucher_Date_1819,\"<=\"&Voucher_Date_1819),0))","v":{"$error":"#N/A"}},{"$f":"INDEX(Voucher_Date_1819,MATCH(SMALL(IF(ISBLANK(Voucher_Date_1819),\"\",IF(ISNUMBER(Voucher_Date_1819),COUNTIF(Voucher_Date_1819,\"<\"&Voucher_Date_1819),COUNTIF(Voucher_Date_1819,\"<\"&Voucher_Date_1819)+SUM(IF(ISNUMBER(Voucher_Date_1819),1,0))+1)),ROW(A757)),IF(ISBLANK(Voucher_Date_1819),\"\",IF(ISNUMBER(Voucher_Date_1819),COUNTIF(Voucher_Date_1819,\"<\"&Voucher_Date_1819),COUNTIF(Voucher_Date_1819,\"<\"&Voucher_Date_1819)+SUM(IF(ISNUMBER(Voucher_Date_1819),1,0))+1)),0))","v":{"$error":"#NUM!"}}]
[{"$f":"INDEX(Voucher_Date_1819,MATCH(ROWS('Bill Register 20-21'!$L$3:'Bill Register 20-21'!L759),COUNTIF(Voucher_Date_1819,\"<=\"&Voucher_Date_1819),0))","v":{"$error":"#N/A"}},{"$f":"INDEX(Voucher_Date_1819,MATCH(SMALL(IF(ISBLANK(Voucher_Date_1819),\"\",IF(ISNUMBER(Voucher_Date_1819),COUNTIF(Voucher_Date_1819,\"<\"&Voucher_Date_1819),COUNTIF(Voucher_Date_1819,\"<\"&Voucher_Date_1819)+SUM(IF(ISNUMBER(Voucher_Date_1819),1,0))+1)),ROW(A758)),IF(ISBLANK(Voucher_Date_1819),\"\",IF(ISNUMBER(Voucher_Date_1819),COUNTIF(Voucher_Date_1819,\"<\"&Voucher_Date_1819),COUNTIF(Voucher_Date_1819,\"<\"&Voucher_Date_1819)+SUM(IF(ISNUMBER(Voucher_Date_1819),1,0))+1)),0))","v":{"$error":"#NUM!"}}]
[{"$f":"INDEX(Voucher_Date_1819,MATCH(ROWS('Bill Register 20-21'!$L$3:'Bill Register 20-21'!L760),COUNTIF(Voucher_Date_1819,\"<=\"&Voucher_Date_1819),0))","v":{"$error":"#N/A"}},{"$f":"INDEX(Voucher_Date_1819,MATCH(SMALL(IF(ISBLANK(Voucher_Date_1819),\"\",IF(ISNUMBER(Voucher_Date_1819),COUNTIF(Voucher_Date_1819,\"<\"&Voucher_Date_1819),COUNTIF(Voucher_Date_1819,\"<\"&Voucher_Date_1819)+SUM(IF(ISNUMBER(Voucher_Date_1819),1,0))+1)),ROW(A759)),IF(ISBLANK(Voucher_Date_1819),\"\",IF(ISNUMBER(Voucher_Date_1819),COUNTIF(Voucher_Date_1819,\"<\"&Voucher_Date_1819),COUNTIF(Voucher_Date_1819,\"<\"&Voucher_Date_1819)+SUM(IF(ISNUMBER(Voucher_Date_1819),1,0))+1)),0))","v":{"$error":"#NUM!"}}]
[{"$f":"INDEX(Voucher_Date_1819,MATCH(ROWS('Bill Register 20-21'!$L$3:'Bill Register 20-21'!L761),COUNTIF(Voucher_Date_1819,\"<=\"&Voucher_Date_1819),0))","v":{"$error":"#N/A"}},{"$f":"INDEX(Voucher_Date_1819,MATCH(SMALL(IF(ISBLANK(Voucher_Date_1819),\"\",IF(ISNUMBER(Voucher_Date_1819),COUNTIF(Voucher_Date_1819,\"<\"&Voucher_Date_1819),COUNTIF(Voucher_Date_1819,\"<\"&Voucher_Date_1819)+SUM(IF(ISNUMBER(Voucher_Date_1819),1,0))+1)),ROW(A760)),IF(ISBLANK(Voucher_Date_1819),\"\",IF(ISNUMBER(Voucher_Date_1819),COUNTIF(Voucher_Date_1819,\"<\"&Voucher_Date_1819),COUNTIF(Voucher_Date_1819,\"<\"&Voucher_Date_1819)+SUM(IF(ISNUMBER(Voucher_Date_1819),1,0))+1)),0))","v":{"$error":"#NUM!"}}]
[{"$f":"INDEX(Voucher_Date_1819,MATCH(ROWS('Bill Register 20-21'!$L$3:'Bill Register 20-21'!L762),COUNTIF(Voucher_Date_1819,\"<=\"&Voucher_Date_1819),0))","v":{"$error":"#N/A"}},{"$f":"INDEX(Voucher_Date_1819,MATCH(SMALL(IF(ISBLANK(Voucher_Date_1819),\"\",IF(ISNUMBER(Voucher_Date_1819),COUNTIF(Voucher_Date_1819,\"<\"&Voucher_Date_1819),COUNTIF(Voucher_Date_1819,\"<\"&Voucher_Date_1819)+SUM(IF(ISNUMBER(Voucher_Date_1819),1,0))+1)),ROW(A761)),IF(ISBLANK(Voucher_Date_1819),\"\",IF(ISNUMBER(Voucher_Date_1819),COUNTIF(Voucher_Date_1819,\"<\"&Voucher_Date_1819),COUNTIF(Voucher_Date_1819,\"<\"&Voucher_Date_1819)+SUM(IF(ISNUMBER(Voucher_Date_1819),1,0))+1)),0))","v":{"$error":"#NUM!"}}]
[{"$f":"INDEX(Voucher_Date_1819,MATCH(ROWS('Bill Register 20-21'!$L$3:'Bill Register 20-21'!L763),COUNTIF(Voucher_Date_1819,\"<=\"&Voucher_Date_1819),0))","v":{"$error":"#N/A"}},{"$f":"INDEX(Voucher_Date_1819,MATCH(SMALL(IF(ISBLANK(Voucher_Date_1819),\"\",IF(ISNUMBER(Voucher_Date_1819),COUNTIF(Voucher_Date_1819,\"<\"&Voucher_Date_1819),COUNTIF(Voucher_Date_1819,\"<\"&Voucher_Date_1819)+SUM(IF(ISNUMBER(Voucher_Date_1819),1,0))+1)),ROW(A762)),IF(ISBLANK(Voucher_Date_1819),\"\",IF(ISNUMBER(Voucher_Date_1819),COUNTIF(Voucher_Date_1819,\"<\"&Voucher_Date_1819),COUNTIF(Voucher_Date_1819,\"<\"&Voucher_Date_1819)+SUM(IF(ISNUMBER(Voucher_Date_1819),1,0))+1)),0))","v":{"$error":"#NUM!"}}]
[{"$f":"INDEX(Voucher_Date_1819,MATCH(ROWS('Bill Register 20-21'!$L$3:'Bill Register 20-21'!L764),COUNTIF(Voucher_Date_1819,\"<=\"&Voucher_Date_1819),0))","v":{"$error":"#N/A"}},{"$f":"INDEX(Voucher_Date_1819,MATCH(SMALL(IF(ISBLANK(Voucher_Date_1819),\"\",IF(ISNUMBER(Voucher_Date_1819),COUNTIF(Voucher_Date_1819,\"<\"&Voucher_Date_1819),COUNTIF(Voucher_Date_1819,\"<\"&Voucher_Date_1819)+SUM(IF(ISNUMBER(Voucher_Date_1819),1,0))+1)),ROW(A763)),IF(ISBLANK(Voucher_Date_1819),\"\",IF(ISNUMBER(Voucher_Date_1819),COUNTIF(Voucher_Date_1819,\"<\"&Voucher_Date_1819),COUNTIF(Voucher_Date_1819,\"<\"&Voucher_Date_1819)+SUM(IF(ISNUMBER(Voucher_Date_1819),1,0))+1)),0))","v":{"$error":"#NUM!"}}]
[{"$f":"INDEX(Voucher_Date_1819,MATCH(ROWS('Bill Register 20-21'!$L$3:'Bill Register 20-21'!L765),COUNTIF(Voucher_Date_1819,\"<=\"&Voucher_Date_1819),0))","v":{"$error":"#N/A"}},{"$f":"INDEX(Voucher_Date_1819,MATCH(SMALL(IF(ISBLANK(Voucher_Date_1819),\"\",IF(ISNUMBER(Voucher_Date_1819),COUNTIF(Voucher_Date_1819,\"<\"&Voucher_Date_1819),COUNTIF(Voucher_Date_1819,\"<\"&Voucher_Date_1819)+SUM(IF(ISNUMBER(Voucher_Date_1819),1,0))+1)),ROW(A764)),IF(ISBLANK(Voucher_Date_1819),\"\",IF(ISNUMBER(Voucher_Date_1819),COUNTIF(Voucher_Date_1819,\"<\"&Voucher_Date_1819),COUNTIF(Voucher_Date_1819,\"<\"&Voucher_Date_1819)+SUM(IF(ISNUMBER(Voucher_Date_1819),1,0))+1)),0))","v":{"$error":"#NUM!"}}]
[{"$f":"INDEX(Voucher_Date_1819,MATCH(ROWS('Bill Register 20-21'!$L$3:'Bill Register 20-21'!L766),COUNTIF(Voucher_Date_1819,\"<=\"&Voucher_Date_1819),0))","v":{"$error":"#N/A"}},{"$f":"INDEX(Voucher_Date_1819,MATCH(SMALL(IF(ISBLANK(Voucher_Date_1819),\"\",IF(ISNUMBER(Voucher_Date_1819),COUNTIF(Voucher_Date_1819,\"<\"&Voucher_Date_1819),COUNTIF(Voucher_Date_1819,\"<\"&Voucher_Date_1819)+SUM(IF(ISNUMBER(Voucher_Date_1819),1,0))+1)),ROW(A765)),IF(ISBLANK(Voucher_Date_1819),\"\",IF(ISNUMBER(Voucher_Date_1819),COUNTIF(Voucher_Date_1819,\"<\"&Voucher_Date_1819),COUNTIF(Voucher_Date_1819,\"<\"&Voucher_Date_1819)+SUM(IF(ISNUMBER(Voucher_Date_1819),1,0))+1)),0))","v":{"$error":"#NUM!"}}]
[{"$f":"INDEX(Voucher_Date_1819,MATCH(ROWS('Bill Register 20-21'!$L$3:'Bill Register 20-21'!L767),COUNTIF(Voucher_Date_1819,\"<=\"&Voucher_Date_1819),0))","v":{"$error":"#N/A"}},{"$f":"INDEX(Voucher_Date_1819,MATCH(SMALL(IF(ISBLANK(Voucher_Date_1819),\"\",IF(ISNUMBER(Voucher_Date_1819),COUNTIF(Voucher_Date_1819,\"<\"&Voucher_Date_1819),COUNTIF(Voucher_Date_1819,\"<\"&Voucher_Date_1819)+SUM(IF(ISNUMBER(Voucher_Date_1819),1,0))+1)),ROW(A766)),IF(ISBLANK(Voucher_Date_1819),\"\",IF(ISNUMBER(Voucher_Date_1819),COUNTIF(Voucher_Date_1819,\"<\"&Voucher_Date_1819),COUNTIF(Voucher_Date_1819,\"<\"&Voucher_Date_1819)+SUM(IF(ISNUMBER(Voucher_Date_1819),1,0))+1)),0))","v":{"$error":"#NUM!"}}]
[{"$f":"INDEX(Voucher_Date_1819,MATCH(ROWS('Bill Register 20-21'!$L$3:'Bill Register 20-21'!L768),COUNTIF(Voucher_Date_1819,\"<=\"&Voucher_Date_1819),0))","v":{"$error":"#N/A"}},{"$f":"INDEX(Voucher_Date_1819,MATCH(SMALL(IF(ISBLANK(Voucher_Date_1819),\"\",IF(ISNUMBER(Voucher_Date_1819),COUNTIF(Voucher_Date_1819,\"<\"&Voucher_Date_1819),COUNTIF(Voucher_Date_1819,\"<\"&Voucher_Date_1819)+SUM(IF(ISNUMBER(Voucher_Date_1819),1,0))+1)),ROW(A767)),IF(ISBLANK(Voucher_Date_1819),\"\",IF(ISNUMBER(Voucher_Date_1819),COUNTIF(Voucher_Date_1819,\"<\"&Voucher_Date_1819),COUNTIF(Voucher_Date_1819,\"<\"&Voucher_Date_1819)+SUM(IF(ISNUMBER(Voucher_Date_1819),1,0))+1)),0))","v":{"$error":"#NUM!"}}]
[{"$f":"INDEX(Voucher_Date_1819,MATCH(ROWS('Bill Register 20-21'!$L$3:'Bill Register 20-21'!L769),COUNTIF(Voucher_Date_1819,\"<=\"&Voucher_Date_1819),0))","v":{"$error":"#N/A"}},{"$f":"INDEX(Voucher_Date_1819,MATCH(SMALL(IF(ISBLANK(Voucher_Date_1819),\"\",IF(ISNUMBER(Voucher_Date_1819),COUNTIF(Voucher_Date_1819,\"<\"&Voucher_Date_1819),COUNTIF(Voucher_Date_1819,\"<\"&Voucher_Date_1819)+SUM(IF(ISNUMBER(Voucher_Date_1819),1,0))+1)),ROW(A768)),IF(ISBLANK(Voucher_Date_1819),\"\",IF(ISNUMBER(Voucher_Date_1819),COUNTIF(Voucher_Date_1819,\"<\"&Voucher_Date_1819),COUNTIF(Voucher_Date_1819,\"<\"&Voucher_Date_1819)+SUM(IF(ISNUMBER(Voucher_Date_1819),1,0))+1)),0))","v":{"$error":"#NUM!"}}]
[{"$f":"INDEX(Voucher_Date_1819,MATCH(ROWS('Bill Register 20-21'!$L$3:'Bill Register 20-21'!L770),COUNTIF(Voucher_Date_1819,\"<=\"&Voucher_Date_1819),0))","v":{"$error":"#N/A"}},{"$f":"INDEX(Voucher_Date_1819,MATCH(SMALL(IF(ISBLANK(Voucher_Date_1819),\"\",IF(ISNUMBER(Voucher_Date_1819),COUNTIF(Voucher_Date_1819,\"<\"&Voucher_Date_1819),COUNTIF(Voucher_Date_1819,\"<\"&Voucher_Date_1819)+SUM(IF(ISNUMBER(Voucher_Date_1819),1,0))+1)),ROW(A769)),IF(ISBLANK(Voucher_Date_1819),\"\",IF(ISNUMBER(Voucher_Date_1819),COUNTIF(Voucher_Date_1819,\"<\"&Voucher_Date_1819),COUNTIF(Voucher_Date_1819,\"<\"&Voucher_Date_1819)+SUM(IF(ISNUMBER(Voucher_Date_1819),1,0))+1)),0))","v":{"$error":"#NUM!"}}]
[{"$f":"INDEX(Voucher_Date_1819,MATCH(ROWS('Bill Register 20-21'!$L$3:'Bill Register 20-21'!L771),COUNTIF(Voucher_Date_1819,\"<=\"&Voucher_Date_1819),0))","v":{"$error":"#N/A"}},{"$f":"INDEX(Voucher_Date_1819,MATCH(SMALL(IF(ISBLANK(Voucher_Date_1819),\"\",IF(ISNUMBER(Voucher_Date_1819),COUNTIF(Voucher_Date_1819,\"<\"&Voucher_Date_1819),COUNTIF(Voucher_Date_1819,\"<\"&Voucher_Date_1819)+SUM(IF(ISNUMBER(Voucher_Date_1819),1,0))+1)),ROW(A770)),IF(ISBLANK(Voucher_Date_1819),\"\",IF(ISNUMBER(Voucher_Date_1819),COUNTIF(Voucher_Date_1819,\"<\"&Voucher_Date_1819),COUNTIF(Voucher_Date_1819,\"<\"&Voucher_Date_1819)+SUM(IF(ISNUMBER(Voucher_Date_1819),1,0))+1)),0))","v":{"$error":"#NUM!"}}]
[{"$f":"INDEX(Voucher_Date_1819,MATCH(ROWS('Bill Register 20-21'!$L$3:'Bill Register 20-21'!L772),COUNTIF(Voucher_Date_1819,\"<=\"&Voucher_Date_1819),0))","v":{"$error":"#N/A"}},{"$f":"INDEX(Voucher_Date_1819,MATCH(SMALL(IF(ISBLANK(Voucher_Date_1819),\"\",IF(ISNUMBER(Voucher_Date_1819),COUNTIF(Voucher_Date_1819,\"<\"&Voucher_Date_1819),COUNTIF(Voucher_Date_1819,\"<\"&Voucher_Date_1819)+SUM(IF(ISNUMBER(Voucher_Date_1819),1,0))+1)),ROW(A771)),IF(ISBLANK(Voucher_Date_1819),\"\",IF(ISNUMBER(Voucher_Date_1819),COUNTIF(Voucher_Date_1819,\"<\"&Voucher_Date_1819),COUNTIF(Voucher_Date_1819,\"<\"&Voucher_Date_1819)+SUM(IF(ISNUMBER(Voucher_Date_1819),1,0))+1)),0))","v":{"$error":"#NUM!"}}]
[{"$f":"INDEX(Voucher_Date_1819,MATCH(ROWS('Bill Register 20-21'!$L$3:'Bill Register 20-21'!L773),COUNTIF(Voucher_Date_1819,\"<=\"&Voucher_Date_1819),0))","v":{"$error":"#N/A"}},{"$f":"INDEX(Voucher_Date_1819,MATCH(SMALL(IF(ISBLANK(Voucher_Date_1819),\"\",IF(ISNUMBER(Voucher_Date_1819),COUNTIF(Voucher_Date_1819,\"<\"&Voucher_Date_1819),COUNTIF(Voucher_Date_1819,\"<\"&Voucher_Date_1819)+SUM(IF(ISNUMBER(Voucher_Date_1819),1,0))+1)),ROW(A772)),IF(ISBLANK(Voucher_Date_1819),\"\",IF(ISNUMBER(Voucher_Date_1819),COUNTIF(Voucher_Date_1819,\"<\"&Voucher_Date_1819),COUNTIF(Voucher_Date_1819,\"<\"&Voucher_Date_1819)+SUM(IF(ISNUMBER(Voucher_Date_1819),1,0))+1)),0))","v":{"$error":"#NUM!"}}]
[{"$f":"INDEX(Voucher_Date_1819,MATCH(ROWS('Bill Register 20-21'!$L$3:'Bill Register 20-21'!L774),COUNTIF(Voucher_Date_1819,\"<=\"&Voucher_Date_1819),0))","v":{"$error":"#N/A"}},{"$f":"INDEX(Voucher_Date_1819,MATCH(SMALL(IF(ISBLANK(Voucher_Date_1819),\"\",IF(ISNUMBER(Voucher_Date_1819),COUNTIF(Voucher_Date_1819,\"<\"&Voucher_Date_1819),COUNTIF(Voucher_Date_1819,\"<\"&Voucher_Date_1819)+SUM(IF(ISNUMBER(Voucher_Date_1819),1,0))+1)),ROW(A773)),IF(ISBLANK(Voucher_Date_1819),\"\",IF(ISNUMBER(Voucher_Date_1819),COUNTIF(Voucher_Date_1819,\"<\"&Voucher_Date_1819),COUNTIF(Voucher_Date_1819,\"<\"&Voucher_Date_1819)+SUM(IF(ISNUMBER(Voucher_Date_1819),1,0))+1)),0))","v":{"$error":"#NUM!"}}]
[{"$f":"INDEX(Voucher_Date_1819,MATCH(ROWS('Bill Register 20-21'!$L$3:'Bill Register 20-21'!L775),COUNTIF(Voucher_Date_1819,\"<=\"&Voucher_Date_1819),0))","v":{"$error":"#N/A"}},{"$f":"INDEX(Voucher_Date_1819,MATCH(SMALL(IF(ISBLANK(Voucher_Date_1819),\"\",IF(ISNUMBER(Voucher_Date_1819),COUNTIF(Voucher_Date_1819,\"<\"&Voucher_Date_1819),COUNTIF(Voucher_Date_1819,\"<\"&Voucher_Date_1819)+SUM(IF(ISNUMBER(Voucher_Date_1819),1,0))+1)),ROW(A774)),IF(ISBLANK(Voucher_Date_1819),\"\",IF(ISNUMBER(Voucher_Date_1819),COUNTIF(Voucher_Date_1819,\"<\"&Voucher_Date_1819),COUNTIF(Voucher_Date_1819,\"<\"&Voucher_Date_1819)+SUM(IF(ISNUMBER(Voucher_Date_1819),1,0))+1)),0))","v":{"$error":"#NUM!"}}]
[{"$f":"INDEX(Voucher_Date_1819,MATCH(ROWS('Bill Register 20-21'!$L$3:'Bill Register 20-21'!L776),COUNTIF(Voucher_Date_1819,\"<=\"&Voucher_Date_1819),0))","v":{"$error":"#N/A"}},{"$f":"INDEX(Voucher_Date_1819,MATCH(SMALL(IF(ISBLANK(Voucher_Date_1819),\"\",IF(ISNUMBER(Voucher_Date_1819),COUNTIF(Voucher_Date_1819,\"<\"&Voucher_Date_1819),COUNTIF(Voucher_Date_1819,\"<\"&Voucher_Date_1819)+SUM(IF(ISNUMBER(Voucher_Date_1819),1,0))+1)),ROW(A775)),IF(ISBLANK(Voucher_Date_1819),\"\",IF(ISNUMBER(Voucher_Date_1819),COUNTIF(Voucher_Date_1819,\"<\"&Voucher_Date_1819),COUNTIF(Voucher_Date_1819,\"<\"&Voucher_Date_1819)+SUM(IF(ISNUMBER(Voucher_Date_1819),1,0))+1)),0))","v":{"$error":"#NUM!"}}]
[{"$f":"INDEX(Voucher_Date_1819,MATCH(ROWS('Bill Register 20-21'!$L$3:'Bill Register 20-21'!L777),COUNTIF(Voucher_Date_1819,\"<=\"&Voucher_Date_1819),0))","v":{"$error":"#N/A"}},{"$f":"INDEX(Voucher_Date_1819,MATCH(SMALL(IF(ISBLANK(Voucher_Date_1819),\"\",IF(ISNUMBER(Voucher_Date_1819),COUNTIF(Voucher_Date_1819,\"<\"&Voucher_Date_1819),COUNTIF(Voucher_Date_1819,\"<\"&Voucher_Date_1819)+SUM(IF(ISNUMBER(Voucher_Date_1819),1,0))+1)),ROW(A776)),IF(ISBLANK(Voucher_Date_1819),\"\",IF(ISNUMBER(Voucher_Date_1819),COUNTIF(Voucher_Date_1819,\"<\"&Voucher_Date_1819),COUNTIF(Voucher_Date_1819,\"<\"&Voucher_Date_1819)+SUM(IF(ISNUMBER(Voucher_Date_1819),1,0))+1)),0))","v":{"$error":"#NUM!"}}]
[{"$f":"INDEX(Voucher_Date_1819,MATCH(ROWS('Bill Register 20-21'!$L$3:'Bill Register 20-21'!L778),COUNTIF(Voucher_Date_1819,\"<=\"&Voucher_Date_1819),0))","v":{"$error":"#N/A"}},{"$f":"INDEX(Voucher_Date_1819,MATCH(SMALL(IF(ISBLANK(Voucher_Date_1819),\"\",IF(ISNUMBER(Voucher_Date_1819),COUNTIF(Voucher_Date_1819,\"<\"&Voucher_Date_1819),COUNTIF(Voucher_Date_1819,\"<\"&Voucher_Date_1819)+SUM(IF(ISNUMBER(Voucher_Date_1819),1,0))+1)),ROW(A777)),IF(ISBLANK(Voucher_Date_1819),\"\",IF(ISNUMBER(Voucher_Date_1819),COUNTIF(Voucher_Date_1819,\"<\"&Voucher_Date_1819),COUNTIF(Voucher_Date_1819,\"<\"&Voucher_Date_1819)+SUM(IF(ISNUMBER(Voucher_Date_1819),1,0))+1)),0))","v":{"$error":"#NUM!"}}]
[{"$f":"INDEX(Voucher_Date_1819,MATCH(ROWS('Bill Register 20-21'!$L$3:'Bill Register 20-21'!L779),COUNTIF(Voucher_Date_1819,\"<=\"&Voucher_Date_1819),0))","v":{"$error":"#N/A"}},{"$f":"INDEX(Voucher_Date_1819,MATCH(SMALL(IF(ISBLANK(Voucher_Date_1819),\"\",IF(ISNUMBER(Voucher_Date_1819),COUNTIF(Voucher_Date_1819,\"<\"&Voucher_Date_1819),COUNTIF(Voucher_Date_1819,\"<\"&Voucher_Date_1819)+SUM(IF(ISNUMBER(Voucher_Date_1819),1,0))+1)),ROW(A778)),IF(ISBLANK(Voucher_Date_1819),\"\",IF(ISNUMBER(Voucher_Date_1819),COUNTIF(Voucher_Date_1819,\"<\"&Voucher_Date_1819),COUNTIF(Voucher_Date_1819,\"<\"&Voucher_Date_1819)+SUM(IF(ISNUMBER(Voucher_Date_1819),1,0))+1)),0))","v":{"$error":"#NUM!"}}]
[{"$f":"INDEX(Voucher_Date_1819,MATCH(ROWS('Bill Register 20-21'!$L$3:'Bill Register 20-21'!L780),COUNTIF(Voucher_Date_1819,\"<=\"&Voucher_Date_1819),0))","v":{"$error":"#N/A"}},{"$f":"INDEX(Voucher_Date_1819,MATCH(SMALL(IF(ISBLANK(Voucher_Date_1819),\"\",IF(ISNUMBER(Voucher_Date_1819),COUNTIF(Voucher_Date_1819,\"<\"&Voucher_Date_1819),COUNTIF(Voucher_Date_1819,\"<\"&Voucher_Date_1819)+SUM(IF(ISNUMBER(Voucher_Date_1819),1,0))+1)),ROW(A779)),IF(ISBLANK(Voucher_Date_1819),\"\",IF(ISNUMBER(Voucher_Date_1819),COUNTIF(Voucher_Date_1819,\"<\"&Voucher_Date_1819),COUNTIF(Voucher_Date_1819,\"<\"&Voucher_Date_1819)+SUM(IF(ISNUMBER(Voucher_Date_1819),1,0))+1)),0))","v":{"$error":"#NUM!"}}]
[{"$f":"INDEX(Voucher_Date_1819,MATCH(ROWS('Bill Register 20-21'!$L$3:'Bill Register 20-21'!L781),COUNTIF(Voucher_Date_1819,\"<=\"&Voucher_Date_1819),0))","v":{"$error":"#N/A"}},{"$f":"INDEX(Voucher_Date_1819,MATCH(SMALL(IF(ISBLANK(Voucher_Date_1819),\"\",IF(ISNUMBER(Voucher_Date_1819),COUNTIF(Voucher_Date_1819,\"<\"&Voucher_Date_1819),COUNTIF(Voucher_Date_1819,\"<\"&Voucher_Date_1819)+SUM(IF(ISNUMBER(Voucher_Date_1819),1,0))+1)),ROW(A780)),IF(ISBLANK(Voucher_Date_1819),\"\",IF(ISNUMBER(Voucher_Date_1819),COUNTIF(Voucher_Date_1819,\"<\"&Voucher_Date_1819),COUNTIF(Voucher_Date_1819,\"<\"&Voucher_Date_1819)+SUM(IF(ISNUMBER(Voucher_Date_1819),1,0))+1)),0))","v":{"$error":"#NUM!"}}]
[{"$f":"INDEX(Voucher_Date_1819,MATCH(ROWS('Bill Register 20-21'!$L$3:'Bill Register 20-21'!L782),COUNTIF(Voucher_Date_1819,\"<=\"&Voucher_Date_1819),0))","v":{"$error":"#N/A"}},{"$f":"INDEX(Voucher_Date_1819,MATCH(SMALL(IF(ISBLANK(Voucher_Date_1819),\"\",IF(ISNUMBER(Voucher_Date_1819),COUNTIF(Voucher_Date_1819,\"<\"&Voucher_Date_1819),COUNTIF(Voucher_Date_1819,\"<\"&Voucher_Date_1819)+SUM(IF(ISNUMBER(Voucher_Date_1819),1,0))+1)),ROW(A781)),IF(ISBLANK(Voucher_Date_1819),\"\",IF(ISNUMBER(Voucher_Date_1819),COUNTIF(Voucher_Date_1819,\"<\"&Voucher_Date_1819),COUNTIF(Voucher_Date_1819,\"<\"&Voucher_Date_1819)+SUM(IF(ISNUMBER(Voucher_Date_1819),1,0))+1)),0))","v":{"$error":"#NUM!"}}]
[{"$f":"INDEX(Voucher_Date_1819,MATCH(ROWS('Bill Register 20-21'!$L$3:'Bill Register 20-21'!L783),COUNTIF(Voucher_Date_1819,\"<=\"&Voucher_Date_1819),0))","v":{"$error":"#N/A"}},{"$f":"INDEX(Voucher_Date_1819,MATCH(SMALL(IF(ISBLANK(Voucher_Date_1819),\"\",IF(ISNUMBER(Voucher_Date_1819),COUNTIF(Voucher_Date_1819,\"<\"&Voucher_Date_1819),COUNTIF(Voucher_Date_1819,\"<\"&Voucher_Date_1819)+SUM(IF(ISNUMBER(Voucher_Date_1819),1,0))+1)),ROW(A782)),IF(ISBLANK(Voucher_Date_1819),\"\",IF(ISNUMBER(Voucher_Date_1819),COUNTIF(Voucher_Date_1819,\"<\"&Voucher_Date_1819),COUNTIF(Voucher_Date_1819,\"<\"&Voucher_Date_1819)+SUM(IF(ISNUMBER(Voucher_Date_1819),1,0))+1)),0))","v":{"$error":"#NUM!"}}]
[{"$f":"INDEX(Voucher_Date_1819,MATCH(ROWS('Bill Register 20-21'!$L$3:'Bill Register 20-21'!L784),COUNTIF(Voucher_Date_1819,\"<=\"&Voucher_Date_1819),0))","v":{"$error":"#N/A"}},{"$f":"INDEX(Voucher_Date_1819,MATCH(SMALL(IF(ISBLANK(Voucher_Date_1819),\"\",IF(ISNUMBER(Voucher_Date_1819),COUNTIF(Voucher_Date_1819,\"<\"&Voucher_Date_1819),COUNTIF(Voucher_Date_1819,\"<\"&Voucher_Date_1819)+SUM(IF(ISNUMBER(Voucher_Date_1819),1,0))+1)),ROW(A783)),IF(ISBLANK(Voucher_Date_1819),\"\",IF(ISNUMBER(Voucher_Date_1819),COUNTIF(Voucher_Date_1819,\"<\"&Voucher_Date_1819),COUNTIF(Voucher_Date_1819,\"<\"&Voucher_Date_1819)+SUM(IF(ISNUMBER(Voucher_Date_1819),1,0))+1)),0))","v":{"$error":"#NUM!"}}]
[{"$f":"INDEX(Voucher_Date_1819,MATCH(ROWS('Bill Register 20-21'!$L$3:'Bill Register 20-21'!L785),COUNTIF(Voucher_Date_1819,\"<=\"&Voucher_Date_1819),0))","v":{"$error":"#N/A"}},{"$f":"INDEX(Voucher_Date_1819,MATCH(SMALL(IF(ISBLANK(Voucher_Date_1819),\"\",IF(ISNUMBER(Voucher_Date_1819),COUNTIF(Voucher_Date_1819,\"<\"&Voucher_Date_1819),COUNTIF(Voucher_Date_1819,\"<\"&Voucher_Date_1819)+SUM(IF(ISNUMBER(Voucher_Date_1819),1,0))+1)),ROW(A784)),IF(ISBLANK(Voucher_Date_1819),\"\",IF(ISNUMBER(Voucher_Date_1819),COUNTIF(Voucher_Date_1819,\"<\"&Voucher_Date_1819),COUNTIF(Voucher_Date_1819,\"<\"&Voucher_Date_1819)+SUM(IF(ISNUMBER(Voucher_Date_1819),1,0))+1)),0))","v":{"$error":"#NUM!"}}]
[{"$f":"INDEX(Voucher_Date_1819,MATCH(ROWS('Bill Register 20-21'!$L$3:'Bill Register 20-21'!L786),COUNTIF(Voucher_Date_1819,\"<=\"&Voucher_Date_1819),0))","v":{"$error":"#N/A"}},{"$f":"INDEX(Voucher_Date_1819,MATCH(SMALL(IF(ISBLANK(Voucher_Date_1819),\"\",IF(ISNUMBER(Voucher_Date_1819),COUNTIF(Voucher_Date_1819,\"<\"&Voucher_Date_1819),COUNTIF(Voucher_Date_1819,\"<\"&Voucher_Date_1819)+SUM(IF(ISNUMBER(Voucher_Date_1819),1,0))+1)),ROW(A785)),IF(ISBLANK(Voucher_Date_1819),\"\",IF(ISNUMBER(Voucher_Date_1819),COUNTIF(Voucher_Date_1819,\"<\"&Voucher_Date_1819),COUNTIF(Voucher_Date_1819,\"<\"&Voucher_Date_1819)+SUM(IF(ISNUMBER(Voucher_Date_1819),1,0))+1)),0))","v":{"$error":"#NUM!"}}]
[{"$f":"INDEX(Voucher_Date_1819,MATCH(ROWS('Bill Register 20-21'!$L$3:'Bill Register 20-21'!L787),COUNTIF(Voucher_Date_1819,\"<=\"&Voucher_Date_1819),0))","v":{"$error":"#N/A"}},{"$f":"INDEX(Voucher_Date_1819,MATCH(SMALL(IF(ISBLANK(Voucher_Date_1819),\"\",IF(ISNUMBER(Voucher_Date_1819),COUNTIF(Voucher_Date_1819,\"<\"&Voucher_Date_1819),COUNTIF(Voucher_Date_1819,\"<\"&Voucher_Date_1819)+SUM(IF(ISNUMBER(Voucher_Date_1819),1,0))+1)),ROW(A786)),IF(ISBLANK(Voucher_Date_1819),\"\",IF(ISNUMBER(Voucher_Date_1819),COUNTIF(Voucher_Date_1819,\"<\"&Voucher_Date_1819),COUNTIF(Voucher_Date_1819,\"<\"&Voucher_Date_1819)+SUM(IF(ISNUMBER(Voucher_Date_1819),1,0))+1)),0))","v":{"$error":"#NUM!"}}]
[{"$f":"INDEX(Voucher_Date_1819,MATCH(ROWS('Bill Register 20-21'!$L$3:'Bill Register 20-21'!L788),COUNTIF(Voucher_Date_1819,\"<=\"&Voucher_Date_1819),0))","v":{"$error":"#N/A"}},{"$f":"INDEX(Voucher_Date_1819,MATCH(SMALL(IF(ISBLANK(Voucher_Date_1819),\"\",IF(ISNUMBER(Voucher_Date_1819),COUNTIF(Voucher_Date_1819,\"<\"&Voucher_Date_1819),COUNTIF(Voucher_Date_1819,\"<\"&Voucher_Date_1819)+SUM(IF(ISNUMBER(Voucher_Date_1819),1,0))+1)),ROW(A787)),IF(ISBLANK(Voucher_Date_1819),\"\",IF(ISNUMBER(Voucher_Date_1819),COUNTIF(Voucher_Date_1819,\"<\"&Voucher_Date_1819),COUNTIF(Voucher_Date_1819,\"<\"&Voucher_Date_1819)+SUM(IF(ISNUMBER(Voucher_Date_1819),1,0))+1)),0))","v":{"$error":"#NUM!"}}]
[{"$f":"INDEX(Voucher_Date_1819,MATCH(ROWS('Bill Register 20-21'!$L$3:'Bill Register 20-21'!L789),COUNTIF(Voucher_Date_1819,\"<=\"&Voucher_Date_1819),0))","v":{"$error":"#N/A"}},{"$f":"INDEX(Voucher_Date_1819,MATCH(SMALL(IF(ISBLANK(Voucher_Date_1819),\"\",IF(ISNUMBER(Voucher_Date_1819),COUNTIF(Voucher_Date_1819,\"<\"&Voucher_Date_1819),COUNTIF(Voucher_Date_1819,\"<\"&Voucher_Date_1819)+SUM(IF(ISNUMBER(Voucher_Date_1819),1,0))+1)),ROW(A788)),IF(ISBLANK(Voucher_Date_1819),\"\",IF(ISNUMBER(Voucher_Date_1819),COUNTIF(Voucher_Date_1819,\"<\"&Voucher_Date_1819),COUNTIF(Voucher_Date_1819,\"<\"&Voucher_Date_1819)+SUM(IF(ISNUMBER(Voucher_Date_1819),1,0))+1)),0))","v":{"$error":"#NUM!"}}]
[{"$f":"INDEX(Voucher_Date_1819,MATCH(ROWS('Bill Register 20-21'!$L$3:'Bill Register 20-21'!L790),COUNTIF(Voucher_Date_1819,\"<=\"&Voucher_Date_1819),0))","v":{"$error":"#N/A"}},{"$f":"INDEX(Voucher_Date_1819,MATCH(SMALL(IF(ISBLANK(Voucher_Date_1819),\"\",IF(ISNUMBER(Voucher_Date_1819),COUNTIF(Voucher_Date_1819,\"<\"&Voucher_Date_1819),COUNTIF(Voucher_Date_1819,\"<\"&Voucher_Date_1819)+SUM(IF(ISNUMBER(Voucher_Date_1819),1,0))+1)),ROW(A789)),IF(ISBLANK(Voucher_Date_1819),\"\",IF(ISNUMBER(Voucher_Date_1819),COUNTIF(Voucher_Date_1819,\"<\"&Voucher_Date_1819),COUNTIF(Voucher_Date_1819,\"<\"&Voucher_Date_1819)+SUM(IF(ISNUMBER(Voucher_Date_1819),1,0))+1)),0))","v":{"$error":"#NUM!"}}]
[{"$f":"INDEX(Voucher_Date_1819,MATCH(ROWS('Bill Register 20-21'!$L$3:'Bill Register 20-21'!L791),COUNTIF(Voucher_Date_1819,\"<=\"&Voucher_Date_1819),0))","v":{"$error":"#N/A"}},{"$f":"INDEX(Voucher_Date_1819,MATCH(SMALL(IF(ISBLANK(Voucher_Date_1819),\"\",IF(ISNUMBER(Voucher_Date_1819),COUNTIF(Voucher_Date_1819,\"<\"&Voucher_Date_1819),COUNTIF(Voucher_Date_1819,\"<\"&Voucher_Date_1819)+SUM(IF(ISNUMBER(Voucher_Date_1819),1,0))+1)),ROW(A790)),IF(ISBLANK(Voucher_Date_1819),\"\",IF(ISNUMBER(Voucher_Date_1819),COUNTIF(Voucher_Date_1819,\"<\"&Voucher_Date_1819),COUNTIF(Voucher_Date_1819,\"<\"&Voucher_Date_1819)+SUM(IF(ISNUMBER(Voucher_Date_1819),1,0))+1)),0))","v":{"$error":"#NUM!"}}]
[{"$f":"INDEX(Voucher_Date_1819,MATCH(ROWS('Bill Register 20-21'!$L$3:'Bill Register 20-21'!L792),COUNTIF(Voucher_Date_1819,\"<=\"&Voucher_Date_1819),0))","v":{"$error":"#N/A"}},{"$f":"INDEX(Voucher_Date_1819,MATCH(SMALL(IF(ISBLANK(Voucher_Date_1819),\"\",IF(ISNUMBER(Voucher_Date_1819),COUNTIF(Voucher_Date_1819,\"<\"&Voucher_Date_1819),COUNTIF(Voucher_Date_1819,\"<\"&Voucher_Date_1819)+SUM(IF(ISNUMBER(Voucher_Date_1819),1,0))+1)),ROW(A791)),IF(ISBLANK(Voucher_Date_1819),\"\",IF(ISNUMBER(Voucher_Date_1819),COUNTIF(Voucher_Date_1819,\"<\"&Voucher_Date_1819),COUNTIF(Voucher_Date_1819,\"<\"&Voucher_Date_1819)+SUM(IF(ISNUMBER(Voucher_Date_1819),1,0))+1)),0))","v":{"$error":"#NUM!"}}]
[{"$f":"INDEX(Voucher_Date_1819,MATCH(ROWS('Bill Register 20-21'!$L$3:'Bill Register 20-21'!L793),COUNTIF(Voucher_Date_1819,\"<=\"&Voucher_Date_1819),0))","v":{"$error":"#N/A"}},{"$f":"INDEX(Voucher_Date_1819,MATCH(SMALL(IF(ISBLANK(Voucher_Date_1819),\"\",IF(ISNUMBER(Voucher_Date_1819),COUNTIF(Voucher_Date_1819,\"<\"&Voucher_Date_1819),COUNTIF(Voucher_Date_1819,\"<\"&Voucher_Date_1819)+SUM(IF(ISNUMBER(Voucher_Date_1819),1,0))+1)),ROW(A792)),IF(ISBLANK(Voucher_Date_1819),\"\",IF(ISNUMBER(Voucher_Date_1819),COUNTIF(Voucher_Date_1819,\"<\"&Voucher_Date_1819),COUNTIF(Voucher_Date_1819,\"<\"&Voucher_Date_1819)+SUM(IF(ISNUMBER(Voucher_Date_1819),1,0))+1)),0))","v":{"$error":"#NUM!"}}]
[{"$f":"INDEX(Voucher_Date_1819,MATCH(ROWS('Bill Register 20-21'!$L$3:'Bill Register 20-21'!L794),COUNTIF(Voucher_Date_1819,\"<=\"&Voucher_Date_1819),0))","v":{"$error":"#N/A"}},{"$f":"INDEX(Voucher_Date_1819,MATCH(SMALL(IF(ISBLANK(Voucher_Date_1819),\"\",IF(ISNUMBER(Voucher_Date_1819),COUNTIF(Voucher_Date_1819,\"<\"&Voucher_Date_1819),COUNTIF(Voucher_Date_1819,\"<\"&Voucher_Date_1819)+SUM(IF(ISNUMBER(Voucher_Date_1819),1,0))+1)),ROW(A793)),IF(ISBLANK(Voucher_Date_1819),\"\",IF(ISNUMBER(Voucher_Date_1819),COUNTIF(Voucher_Date_1819,\"<\"&Voucher_Date_1819),COUNTIF(Voucher_Date_1819,\"<\"&Voucher_Date_1819)+SUM(IF(ISNUMBER(Voucher_Date_1819),1,0))+1)),0))","v":{"$error":"#NUM!"}}]
[{"$f":"INDEX(Voucher_Date_1819,MATCH(ROWS('Bill Register 20-21'!$L$3:'Bill Register 20-21'!L795),COUNTIF(Voucher_Date_1819,\"<=\"&Voucher_Date_1819),0))","v":{"$error":"#N/A"}},{"$f":"INDEX(Voucher_Date_1819,MATCH(SMALL(IF(ISBLANK(Voucher_Date_1819),\"\",IF(ISNUMBER(Voucher_Date_1819),COUNTIF(Voucher_Date_1819,\"<\"&Voucher_Date_1819),COUNTIF(Voucher_Date_1819,\"<\"&Voucher_Date_1819)+SUM(IF(ISNUMBER(Voucher_Date_1819),1,0))+1)),ROW(A794)),IF(ISBLANK(Voucher_Date_1819),\"\",IF(ISNUMBER(Voucher_Date_1819),COUNTIF(Voucher_Date_1819,\"<\"&Voucher_Date_1819),COUNTIF(Voucher_Date_1819,\"<\"&Voucher_Date_1819)+SUM(IF(ISNUMBER(Voucher_Date_1819),1,0))+1)),0))","v":{"$error":"#NUM!"}}]
[{"$f":"INDEX(Voucher_Date_1819,MATCH(ROWS('Bill Register 20-21'!$L$3:'Bill Register 20-21'!L796),COUNTIF(Voucher_Date_1819,\"<=\"&Voucher_Date_1819),0))","v":{"$error":"#N/A"}},{"$f":"INDEX(Voucher_Date_1819,MATCH(SMALL(IF(ISBLANK(Voucher_Date_1819),\"\",IF(ISNUMBER(Voucher_Date_1819),COUNTIF(Voucher_Date_1819,\"<\"&Voucher_Date_1819),COUNTIF(Voucher_Date_1819,\"<\"&Voucher_Date_1819)+SUM(IF(ISNUMBER(Voucher_Date_1819),1,0))+1)),ROW(A795)),IF(ISBLANK(Voucher_Date_1819),\"\",IF(ISNUMBER(Voucher_Date_1819),COUNTIF(Voucher_Date_1819,\"<\"&Voucher_Date_1819),COUNTIF(Voucher_Date_1819,\"<\"&Voucher_Date_1819)+SUM(IF(ISNUMBER(Voucher_Date_1819),1,0))+1)),0))","v":{"$error":"#NUM!"}}]
[{"$f":"INDEX(Voucher_Date_1819,MATCH(ROWS('Bill Register 20-21'!$L$3:'Bill Register 20-21'!L797),COUNTIF(Voucher_Date_1819,\"<=\"&Voucher_Date_1819),0))","v":{"$error":"#N/A"}},{"$f":"INDEX(Voucher_Date_1819,MATCH(SMALL(IF(ISBLANK(Voucher_Date_1819),\"\",IF(ISNUMBER(Voucher_Date_1819),COUNTIF(Voucher_Date_1819,\"<\"&Voucher_Date_1819),COUNTIF(Voucher_Date_1819,\"<\"&Voucher_Date_1819)+SUM(IF(ISNUMBER(Voucher_Date_1819),1,0))+1)),ROW(A796)),IF(ISBLANK(Voucher_Date_1819),\"\",IF(ISNUMBER(Voucher_Date_1819),COUNTIF(Voucher_Date_1819,\"<\"&Voucher_Date_1819),COUNTIF(Voucher_Date_1819,\"<\"&Voucher_Date_1819)+SUM(IF(ISNUMBER(Voucher_Date_1819),1,0))+1)),0))","v":{"$error":"#NUM!"}}]
[{"$f":"INDEX(Voucher_Date_1819,MATCH(ROWS('Bill Register 20-21'!$L$3:'Bill Register 20-21'!L798),COUNTIF(Voucher_Date_1819,\"<=\"&Voucher_Date_1819),0))","v":{"$error":"#N/A"}},{"$f":"INDEX(Voucher_Date_1819,MATCH(SMALL(IF(ISBLANK(Voucher_Date_1819),\"\",IF(ISNUMBER(Voucher_Date_1819),COUNTIF(Voucher_Date_1819,\"<\"&Voucher_Date_1819),COUNTIF(Voucher_Date_1819,\"<\"&Voucher_Date_1819)+SUM(IF(ISNUMBER(Voucher_Date_1819),1,0))+1)),ROW(A797)),IF(ISBLANK(Voucher_Date_1819),\"\",IF(ISNUMBER(Voucher_Date_1819),COUNTIF(Voucher_Date_1819,\"<\"&Voucher_Date_1819),COUNTIF(Voucher_Date_1819,\"<\"&Voucher_Date_1819)+SUM(IF(ISNUMBER(Voucher_Date_1819),1,0))+1)),0))","v":{"$error":"#NUM!"}}]
[{"$f":"INDEX(Voucher_Date_1819,MATCH(ROWS('Bill Register 20-21'!$L$3:'Bill Register 20-21'!L799),COUNTIF(Voucher_Date_1819,\"<=\"&Voucher_Date_1819),0))","v":{"$error":"#N/A"}},{"$f":"INDEX(Voucher_Date_1819,MATCH(SMALL(IF(ISBLANK(Voucher_Date_1819),\"\",IF(ISNUMBER(Voucher_Date_1819),COUNTIF(Voucher_Date_1819,\"<\"&Voucher_Date_1819),COUNTIF(Voucher_Date_1819,\"<\"&Voucher_Date_1819)+SUM(IF(ISNUMBER(Voucher_Date_1819),1,0))+1)),ROW(A798)),IF(ISBLANK(Voucher_Date_1819),\"\",IF(ISNUMBER(Voucher_Date_1819),COUNTIF(Voucher_Date_1819,\"<\"&Voucher_Date_1819),COUNTIF(Voucher_Date_1819,\"<\"&Voucher_Date_1819)+SUM(IF(ISNUMBER(Voucher_Date_1819),1,0))+1)),0))","v":{"$error":"#NUM!"}}]
[{"$f":"INDEX(Voucher_Date_1819,MATCH(ROWS('Bill Register 20-21'!$L$3:'Bill Register 20-21'!L800),COUNTIF(Voucher_Date_1819,\"<=\"&Voucher_Date_1819),0))","v":{"$error":"#N/A"}},{"$f":"INDEX(Voucher_Date_1819,MATCH(SMALL(IF(ISBLANK(Voucher_Date_1819),\"\",IF(ISNUMBER(Voucher_Date_1819),COUNTIF(Voucher_Date_1819,\"<\"&Voucher_Date_1819),COUNTIF(Voucher_Date_1819,\"<\"&Voucher_Date_1819)+SUM(IF(ISNUMBER(Voucher_Date_1819),1,0))+1)),ROW(A799)),IF(ISBLANK(Voucher_Date_1819),\"\",IF(ISNUMBER(Voucher_Date_1819),COUNTIF(Voucher_Date_1819,\"<\"&Voucher_Date_1819),COUNTIF(Voucher_Date_1819,\"<\"&Voucher_Date_1819)+SUM(IF(ISNUMBER(Voucher_Date_1819),1,0))+1)),0))","v":{"$error":"#NUM!"}}]
[{"$f":"INDEX(Voucher_Date_1819,MATCH(ROWS('Bill Register 20-21'!$L$3:'Bill Register 20-21'!L801),COUNTIF(Voucher_Date_1819,\"<=\"&Voucher_Date_1819),0))","v":{"$error":"#N/A"}},{"$f":"INDEX(Voucher_Date_1819,MATCH(SMALL(IF(ISBLANK(Voucher_Date_1819),\"\",IF(ISNUMBER(Voucher_Date_1819),COUNTIF(Voucher_Date_1819,\"<\"&Voucher_Date_1819),COUNTIF(Voucher_Date_1819,\"<\"&Voucher_Date_1819)+SUM(IF(ISNUMBER(Voucher_Date_1819),1,0))+1)),ROW(A800)),IF(ISBLANK(Voucher_Date_1819),\"\",IF(ISNUMBER(Voucher_Date_1819),COUNTIF(Voucher_Date_1819,\"<\"&Voucher_Date_1819),COUNTIF(Voucher_Date_1819,\"<\"&Voucher_Date_1819)+SUM(IF(ISNUMBER(Voucher_Date_1819),1,0))+1)),0))","v":{"$error":"#NUM!"}}]
[{"$f":"INDEX(Voucher_Date_1819,MATCH(ROWS('Bill Register 20-21'!$L$3:'Bill Register 20-21'!L802),COUNTIF(Voucher_Date_1819,\"<=\"&Voucher_Date_1819),0))","v":{"$error":"#N/A"}},{"$f":"INDEX(Voucher_Date_1819,MATCH(SMALL(IF(ISBLANK(Voucher_Date_1819),\"\",IF(ISNUMBER(Voucher_Date_1819),COUNTIF(Voucher_Date_1819,\"<\"&Voucher_Date_1819),COUNTIF(Voucher_Date_1819,\"<\"&Voucher_Date_1819)+SUM(IF(ISNUMBER(Voucher_Date_1819),1,0))+1)),ROW(A801)),IF(ISBLANK(Voucher_Date_1819),\"\",IF(ISNUMBER(Voucher_Date_1819),COUNTIF(Voucher_Date_1819,\"<\"&Voucher_Date_1819),COUNTIF(Voucher_Date_1819,\"<\"&Voucher_Date_1819)+SUM(IF(ISNUMBER(Voucher_Date_1819),1,0))+1)),0))","v":{"$error":"#NUM!"}}]
[{"$f":"INDEX(Voucher_Date_1819,MATCH(ROWS('Bill Register 20-21'!$L$3:'Bill Register 20-21'!L803),COUNTIF(Voucher_Date_1819,\"<=\"&Voucher_Date_1819),0))","v":{"$error":"#N/A"}},{"$f":"INDEX(Voucher_Date_1819,MATCH(SMALL(IF(ISBLANK(Voucher_Date_1819),\"\",IF(ISNUMBER(Voucher_Date_1819),COUNTIF(Voucher_Date_1819,\"<\"&Voucher_Date_1819),COUNTIF(Voucher_Date_1819,\"<\"&Voucher_Date_1819)+SUM(IF(ISNUMBER(Voucher_Date_1819),1,0))+1)),ROW(A802)),IF(ISBLANK(Voucher_Date_1819),\"\",IF(ISNUMBER(Voucher_Date_1819),COUNTIF(Voucher_Date_1819,\"<\"&Voucher_Date_1819),COUNTIF(Voucher_Date_1819,\"<\"&Voucher_Date_1819)+SUM(IF(ISNUMBER(Voucher_Date_1819),1,0))+1)),0))","v":{"$error":"#NUM!"}}]
[{"$f":"INDEX(Voucher_Date_1819,MATCH(ROWS('Bill Register 20-21'!$L$3:'Bill Register 20-21'!L804),COUNTIF(Voucher_Date_1819,\"<=\"&Voucher_Date_1819),0))","v":{"$error":"#N/A"}},{"$f":"INDEX(Voucher_Date_1819,MATCH(SMALL(IF(ISBLANK(Voucher_Date_1819),\"\",IF(ISNUMBER(Voucher_Date_1819),COUNTIF(Voucher_Date_1819,\"<\"&Voucher_Date_1819),COUNTIF(Voucher_Date_1819,\"<\"&Voucher_Date_1819)+SUM(IF(ISNUMBER(Voucher_Date_1819),1,0))+1)),ROW(A803)),IF(ISBLANK(Voucher_Date_1819),\"\",IF(ISNUMBER(Voucher_Date_1819),COUNTIF(Voucher_Date_1819,\"<\"&Voucher_Date_1819),COUNTIF(Voucher_Date_1819,\"<\"&Voucher_Date_1819)+SUM(IF(ISNUMBER(Voucher_Date_1819),1,0))+1)),0))","v":{"$error":"#NUM!"}}]
[{"$f":"INDEX(Voucher_Date_1819,MATCH(ROWS('Bill Register 20-21'!$L$3:'Bill Register 20-21'!L805),COUNTIF(Voucher_Date_1819,\"<=\"&Voucher_Date_1819),0))","v":{"$error":"#N/A"}},{"$f":"INDEX(Voucher_Date_1819,MATCH(SMALL(IF(ISBLANK(Voucher_Date_1819),\"\",IF(ISNUMBER(Voucher_Date_1819),COUNTIF(Voucher_Date_1819,\"<\"&Voucher_Date_1819),COUNTIF(Voucher_Date_1819,\"<\"&Voucher_Date_1819)+SUM(IF(ISNUMBER(Voucher_Date_1819),1,0))+1)),ROW(A804)),IF(ISBLANK(Voucher_Date_1819),\"\",IF(ISNUMBER(Voucher_Date_1819),COUNTIF(Voucher_Date_1819,\"<\"&Voucher_Date_1819),COUNTIF(Voucher_Date_1819,\"<\"&Voucher_Date_1819)+SUM(IF(ISNUMBER(Voucher_Date_1819),1,0))+1)),0))","v":{"$error":"#NUM!"}}]
[{"$f":"INDEX(Voucher_Date_1819,MATCH(ROWS('Bill Register 20-21'!$L$3:'Bill Register 20-21'!L806),COUNTIF(Voucher_Date_1819,\"<=\"&Voucher_Date_1819),0))","v":{"$error":"#N/A"}},{"$f":"INDEX(Voucher_Date_1819,MATCH(SMALL(IF(ISBLANK(Voucher_Date_1819),\"\",IF(ISNUMBER(Voucher_Date_1819),COUNTIF(Voucher_Date_1819,\"<\"&Voucher_Date_1819),COUNTIF(Voucher_Date_1819,\"<\"&Voucher_Date_1819)+SUM(IF(ISNUMBER(Voucher_Date_1819),1,0))+1)),ROW(A805)),IF(ISBLANK(Voucher_Date_1819),\"\",IF(ISNUMBER(Voucher_Date_1819),COUNTIF(Voucher_Date_1819,\"<\"&Voucher_Date_1819),COUNTIF(Voucher_Date_1819,\"<\"&Voucher_Date_1819)+SUM(IF(ISNUMBER(Voucher_Date_1819),1,0))+1)),0))","v":{"$error":"#NUM!"}}]
[{"$f":"INDEX(Voucher_Date_1819,MATCH(ROWS('Bill Register 20-21'!$L$3:'Bill Register 20-21'!L807),COUNTIF(Voucher_Date_1819,\"<=\"&Voucher_Date_1819),0))","v":{"$error":"#N/A"}},{"$f":"INDEX(Voucher_Date_1819,MATCH(SMALL(IF(ISBLANK(Voucher_Date_1819),\"\",IF(ISNUMBER(Voucher_Date_1819),COUNTIF(Voucher_Date_1819,\"<\"&Voucher_Date_1819),COUNTIF(Voucher_Date_1819,\"<\"&Voucher_Date_1819)+SUM(IF(ISNUMBER(Voucher_Date_1819),1,0))+1)),ROW(A806)),IF(ISBLANK(Voucher_Date_1819),\"\",IF(ISNUMBER(Voucher_Date_1819),COUNTIF(Voucher_Date_1819,\"<\"&Voucher_Date_1819),COUNTIF(Voucher_Date_1819,\"<\"&Voucher_Date_1819)+SUM(IF(ISNUMBER(Voucher_Date_1819),1,0))+1)),0))","v":{"$error":"#NUM!"}}]
[{"$f":"INDEX(Voucher_Date_1819,MATCH(ROWS('Bill Register 20-21'!$L$3:'Bill Register 20-21'!L808),COUNTIF(Voucher_Date_1819,\"<=\"&Voucher_Date_1819),0))","v":{"$error":"#N/A"}},{"$f":"INDEX(Voucher_Date_1819,MATCH(SMALL(IF(ISBLANK(Voucher_Date_1819),\"\",IF(ISNUMBER(Voucher_Date_1819),COUNTIF(Voucher_Date_1819,\"<\"&Voucher_Date_1819),COUNTIF(Voucher_Date_1819,\"<\"&Voucher_Date_1819)+SUM(IF(ISNUMBER(Voucher_Date_1819),1,0))+1)),ROW(A807)),IF(ISBLANK(Voucher_Date_1819),\"\",IF(ISNUMBER(Voucher_Date_1819),COUNTIF(Voucher_Date_1819,\"<\"&Voucher_Date_1819),COUNTIF(Voucher_Date_1819,\"<\"&Voucher_Date_1819)+SUM(IF(ISNUMBER(Voucher_Date_1819),1,0))+1)),0))","v":{"$error":"#NUM!"}}]
[{"$f":"INDEX(Voucher_Date_1819,MATCH(ROWS('Bill Register 20-21'!$L$3:'Bill Register 20-21'!L809),COUNTIF(Voucher_Date_1819,\"<=\"&Voucher_Date_1819),0))","v":{"$error":"#N/A"}},{"$f":"INDEX(Voucher_Date_1819,MATCH(SMALL(IF(ISBLANK(Voucher_Date_1819),\"\",IF(ISNUMBER(Voucher_Date_1819),COUNTIF(Voucher_Date_1819,\"<\"&Voucher_Date_1819),COUNTIF(Voucher_Date_1819,\"<\"&Voucher_Date_1819)+SUM(IF(ISNUMBER(Voucher_Date_1819),1,0))+1)),ROW(A808)),IF(ISBLANK(Voucher_Date_1819),\"\",IF(ISNUMBER(Voucher_Date_1819),COUNTIF(Voucher_Date_1819,\"<\"&Voucher_Date_1819),COUNTIF(Voucher_Date_1819,\"<\"&Voucher_Date_1819)+SUM(IF(ISNUMBER(Voucher_Date_1819),1,0))+1)),0))","v":{"$error":"#NUM!"}}]
[{"$f":"INDEX(Voucher_Date_1819,MATCH(ROWS('Bill Register 20-21'!$L$3:'Bill Register 20-21'!L810),COUNTIF(Voucher_Date_1819,\"<=\"&Voucher_Date_1819),0))","v":{"$error":"#N/A"}},{"$f":"INDEX(Voucher_Date_1819,MATCH(SMALL(IF(ISBLANK(Voucher_Date_1819),\"\",IF(ISNUMBER(Voucher_Date_1819),COUNTIF(Voucher_Date_1819,\"<\"&Voucher_Date_1819),COUNTIF(Voucher_Date_1819,\"<\"&Voucher_Date_1819)+SUM(IF(ISNUMBER(Voucher_Date_1819),1,0))+1)),ROW(A809)),IF(ISBLANK(Voucher_Date_1819),\"\",IF(ISNUMBER(Voucher_Date_1819),COUNTIF(Voucher_Date_1819,\"<\"&Voucher_Date_1819),COUNTIF(Voucher_Date_1819,\"<\"&Voucher_Date_1819)+SUM(IF(ISNUMBER(Voucher_Date_1819),1,0))+1)),0))","v":{"$error":"#NUM!"}}]
[{"$f":"INDEX(Voucher_Date_1819,MATCH(ROWS('Bill Register 20-21'!$L$3:'Bill Register 20-21'!L811),COUNTIF(Voucher_Date_1819,\"<=\"&Voucher_Date_1819),0))","v":{"$error":"#N/A"}},{"$f":"INDEX(Voucher_Date_1819,MATCH(SMALL(IF(ISBLANK(Voucher_Date_1819),\"\",IF(ISNUMBER(Voucher_Date_1819),COUNTIF(Voucher_Date_1819,\"<\"&Voucher_Date_1819),COUNTIF(Voucher_Date_1819,\"<\"&Voucher_Date_1819)+SUM(IF(ISNUMBER(Voucher_Date_1819),1,0))+1)),ROW(A810)),IF(ISBLANK(Voucher_Date_1819),\"\",IF(ISNUMBER(Voucher_Date_1819),COUNTIF(Voucher_Date_1819,\"<\"&Voucher_Date_1819),COUNTIF(Voucher_Date_1819,\"<\"&Voucher_Date_1819)+SUM(IF(ISNUMBER(Voucher_Date_1819),1,0))+1)),0))","v":{"$error":"#NUM!"}}]
[{"$f":"INDEX(Voucher_Date_1819,MATCH(ROWS('Bill Register 20-21'!$L$3:'Bill Register 20-21'!L812),COUNTIF(Voucher_Date_1819,\"<=\"&Voucher_Date_1819),0))","v":{"$error":"#N/A"}},{"$f":"INDEX(Voucher_Date_1819,MATCH(SMALL(IF(ISBLANK(Voucher_Date_1819),\"\",IF(ISNUMBER(Voucher_Date_1819),COUNTIF(Voucher_Date_1819,\"<\"&Voucher_Date_1819),COUNTIF(Voucher_Date_1819,\"<\"&Voucher_Date_1819)+SUM(IF(ISNUMBER(Voucher_Date_1819),1,0))+1)),ROW(A811)),IF(ISBLANK(Voucher_Date_1819),\"\",IF(ISNUMBER(Voucher_Date_1819),COUNTIF(Voucher_Date_1819,\"<\"&Voucher_Date_1819),COUNTIF(Voucher_Date_1819,\"<\"&Voucher_Date_1819)+SUM(IF(ISNUMBER(Voucher_Date_1819),1,0))+1)),0))","v":{"$error":"#NUM!"}}]
[{"$f":"INDEX(Voucher_Date_1819,MATCH(ROWS('Bill Register 20-21'!$L$3:'Bill Register 20-21'!L813),COUNTIF(Voucher_Date_1819,\"<=\"&Voucher_Date_1819),0))","v":{"$error":"#N/A"}},{"$f":"INDEX(Voucher_Date_1819,MATCH(SMALL(IF(ISBLANK(Voucher_Date_1819),\"\",IF(ISNUMBER(Voucher_Date_1819),COUNTIF(Voucher_Date_1819,\"<\"&Voucher_Date_1819),COUNTIF(Voucher_Date_1819,\"<\"&Voucher_Date_1819)+SUM(IF(ISNUMBER(Voucher_Date_1819),1,0))+1)),ROW(A812)),IF(ISBLANK(Voucher_Date_1819),\"\",IF(ISNUMBER(Voucher_Date_1819),COUNTIF(Voucher_Date_1819,\"<\"&Voucher_Date_1819),COUNTIF(Voucher_Date_1819,\"<\"&Voucher_Date_1819)+SUM(IF(ISNUMBER(Voucher_Date_1819),1,0))+1)),0))","v":{"$error":"#NUM!"}}]
[{"$f":"INDEX(Voucher_Date_1819,MATCH(ROWS('Bill Register 20-21'!$L$3:'Bill Register 20-21'!L814),COUNTIF(Voucher_Date_1819,\"<=\"&Voucher_Date_1819),0))","v":{"$error":"#N/A"}},{"$f":"INDEX(Voucher_Date_1819,MATCH(SMALL(IF(ISBLANK(Voucher_Date_1819),\"\",IF(ISNUMBER(Voucher_Date_1819),COUNTIF(Voucher_Date_1819,\"<\"&Voucher_Date_1819),COUNTIF(Voucher_Date_1819,\"<\"&Voucher_Date_1819)+SUM(IF(ISNUMBER(Voucher_Date_1819),1,0))+1)),ROW(A813)),IF(ISBLANK(Voucher_Date_1819),\"\",IF(ISNUMBER(Voucher_Date_1819),COUNTIF(Voucher_Date_1819,\"<\"&Voucher_Date_1819),COUNTIF(Voucher_Date_1819,\"<\"&Voucher_Date_1819)+SUM(IF(ISNUMBER(Voucher_Date_1819),1,0))+1)),0))","v":{"$error":"#NUM!"}}]
[{"$f":"INDEX(Voucher_Date_1819,MATCH(ROWS('Bill Register 20-21'!$L$3:'Bill Register 20-21'!L815),COUNTIF(Voucher_Date_1819,\"<=\"&Voucher_Date_1819),0))","v":{"$error":"#N/A"}},{"$f":"INDEX(Voucher_Date_1819,MATCH(SMALL(IF(ISBLANK(Voucher_Date_1819),\"\",IF(ISNUMBER(Voucher_Date_1819),COUNTIF(Voucher_Date_1819,\"<\"&Voucher_Date_1819),COUNTIF(Voucher_Date_1819,\"<\"&Voucher_Date_1819)+SUM(IF(ISNUMBER(Voucher_Date_1819),1,0))+1)),ROW(A814)),IF(ISBLANK(Voucher_Date_1819),\"\",IF(ISNUMBER(Voucher_Date_1819),COUNTIF(Voucher_Date_1819,\"<\"&Voucher_Date_1819),COUNTIF(Voucher_Date_1819,\"<\"&Voucher_Date_1819)+SUM(IF(ISNUMBER(Voucher_Date_1819),1,0))+1)),0))","v":{"$error":"#NUM!"}}]
[{"$f":"INDEX(Voucher_Date_1819,MATCH(ROWS('Bill Register 20-21'!$L$3:'Bill Register 20-21'!L816),COUNTIF(Voucher_Date_1819,\"<=\"&Voucher_Date_1819),0))","v":{"$error":"#N/A"}},{"$f":"INDEX(Voucher_Date_1819,MATCH(SMALL(IF(ISBLANK(Voucher_Date_1819),\"\",IF(ISNUMBER(Voucher_Date_1819),COUNTIF(Voucher_Date_1819,\"<\"&Voucher_Date_1819),COUNTIF(Voucher_Date_1819,\"<\"&Voucher_Date_1819)+SUM(IF(ISNUMBER(Voucher_Date_1819),1,0))+1)),ROW(A815)),IF(ISBLANK(Voucher_Date_1819),\"\",IF(ISNUMBER(Voucher_Date_1819),COUNTIF(Voucher_Date_1819,\"<\"&Voucher_Date_1819),COUNTIF(Voucher_Date_1819,\"<\"&Voucher_Date_1819)+SUM(IF(ISNUMBER(Voucher_Date_1819),1,0))+1)),0))","v":{"$error":"#NUM!"}}]
[{"$f":"INDEX(Voucher_Date_1819,MATCH(ROWS('Bill Register 20-21'!$L$3:'Bill Register 20-21'!L817),COUNTIF(Voucher_Date_1819,\"<=\"&Voucher_Date_1819),0))","v":{"$error":"#N/A"}},{"$f":"INDEX(Voucher_Date_1819,MATCH(SMALL(IF(ISBLANK(Voucher_Date_1819),\"\",IF(ISNUMBER(Voucher_Date_1819),COUNTIF(Voucher_Date_1819,\"<\"&Voucher_Date_1819),COUNTIF(Voucher_Date_1819,\"<\"&Voucher_Date_1819)+SUM(IF(ISNUMBER(Voucher_Date_1819),1,0))+1)),ROW(A816)),IF(ISBLANK(Voucher_Date_1819),\"\",IF(ISNUMBER(Voucher_Date_1819),COUNTIF(Voucher_Date_1819,\"<\"&Voucher_Date_1819),COUNTIF(Voucher_Date_1819,\"<\"&Voucher_Date_1819)+SUM(IF(ISNUMBER(Voucher_Date_1819),1,0))+1)),0))","v":{"$error":"#NUM!"}}]
[{"$f":"INDEX(Voucher_Date_1819,MATCH(ROWS('Bill Register 20-21'!$L$3:'Bill Register 20-21'!L818),COUNTIF(Voucher_Date_1819,\"<=\"&Voucher_Date_1819),0))","v":{"$error":"#N/A"}},{"$f":"INDEX(Voucher_Date_1819,MATCH(SMALL(IF(ISBLANK(Voucher_Date_1819),\"\",IF(ISNUMBER(Voucher_Date_1819),COUNTIF(Voucher_Date_1819,\"<\"&Voucher_Date_1819),COUNTIF(Voucher_Date_1819,\"<\"&Voucher_Date_1819)+SUM(IF(ISNUMBER(Voucher_Date_1819),1,0))+1)),ROW(A817)),IF(ISBLANK(Voucher_Date_1819),\"\",IF(ISNUMBER(Voucher_Date_1819),COUNTIF(Voucher_Date_1819,\"<\"&Voucher_Date_1819),COUNTIF(Voucher_Date_1819,\"<\"&Voucher_Date_1819)+SUM(IF(ISNUMBER(Voucher_Date_1819),1,0))+1)),0))","v":{"$error":"#NUM!"}}]
[{"$f":"INDEX(Voucher_Date_1819,MATCH(ROWS('Bill Register 20-21'!$L$3:'Bill Register 20-21'!L819),COUNTIF(Voucher_Date_1819,\"<=\"&Voucher_Date_1819),0))","v":{"$error":"#N/A"}},{"$f":"INDEX(Voucher_Date_1819,MATCH(SMALL(IF(ISBLANK(Voucher_Date_1819),\"\",IF(ISNUMBER(Voucher_Date_1819),COUNTIF(Voucher_Date_1819,\"<\"&Voucher_Date_1819),COUNTIF(Voucher_Date_1819,\"<\"&Voucher_Date_1819)+SUM(IF(ISNUMBER(Voucher_Date_1819),1,0))+1)),ROW(A818)),IF(ISBLANK(Voucher_Date_1819),\"\",IF(ISNUMBER(Voucher_Date_1819),COUNTIF(Voucher_Date_1819,\"<\"&Voucher_Date_1819),COUNTIF(Voucher_Date_1819,\"<\"&Voucher_Date_1819)+SUM(IF(ISNUMBER(Voucher_Date_1819),1,0))+1)),0))","v":{"$error":"#NUM!"}}]
[{"$f":"INDEX(Voucher_Date_1819,MATCH(ROWS('Bill Register 20-21'!$L$3:'Bill Register 20-21'!L820),COUNTIF(Voucher_Date_1819,\"<=\"&Voucher_Date_1819),0))","v":{"$error":"#N/A"}},{"$f":"INDEX(Voucher_Date_1819,MATCH(SMALL(IF(ISBLANK(Voucher_Date_1819),\"\",IF(ISNUMBER(Voucher_Date_1819),COUNTIF(Voucher_Date_1819,\"<\"&Voucher_Date_1819),COUNTIF(Voucher_Date_1819,\"<\"&Voucher_Date_1819)+SUM(IF(ISNUMBER(Voucher_Date_1819),1,0))+1)),ROW(A819)),IF(ISBLANK(Voucher_Date_1819),\"\",IF(ISNUMBER(Voucher_Date_1819),COUNTIF(Voucher_Date_1819,\"<\"&Voucher_Date_1819),COUNTIF(Voucher_Date_1819,\"<\"&Voucher_Date_1819)+SUM(IF(ISNUMBER(Voucher_Date_1819),1,0))+1)),0))","v":{"$error":"#NUM!"}}]
[{"$f":"INDEX(Voucher_Date_1819,MATCH(ROWS('Bill Register 20-21'!$L$3:'Bill Register 20-21'!L821),COUNTIF(Voucher_Date_1819,\"<=\"&Voucher_Date_1819),0))","v":{"$error":"#N/A"}},{"$f":"INDEX(Voucher_Date_1819,MATCH(SMALL(IF(ISBLANK(Voucher_Date_1819),\"\",IF(ISNUMBER(Voucher_Date_1819),COUNTIF(Voucher_Date_1819,\"<\"&Voucher_Date_1819),COUNTIF(Voucher_Date_1819,\"<\"&Voucher_Date_1819)+SUM(IF(ISNUMBER(Voucher_Date_1819),1,0))+1)),ROW(A820)),IF(ISBLANK(Voucher_Date_1819),\"\",IF(ISNUMBER(Voucher_Date_1819),COUNTIF(Voucher_Date_1819,\"<\"&Voucher_Date_1819),COUNTIF(Voucher_Date_1819,\"<\"&Voucher_Date_1819)+SUM(IF(ISNUMBER(Voucher_Date_1819),1,0))+1)),0))","v":{"$error":"#NUM!"}}]
[{"$f":"INDEX(Voucher_Date_1819,MATCH(ROWS('Bill Register 20-21'!$L$3:'Bill Register 20-21'!L822),COUNTIF(Voucher_Date_1819,\"<=\"&Voucher_Date_1819),0))","v":{"$error":"#N/A"}},{"$f":"INDEX(Voucher_Date_1819,MATCH(SMALL(IF(ISBLANK(Voucher_Date_1819),\"\",IF(ISNUMBER(Voucher_Date_1819),COUNTIF(Voucher_Date_1819,\"<\"&Voucher_Date_1819),COUNTIF(Voucher_Date_1819,\"<\"&Voucher_Date_1819)+SUM(IF(ISNUMBER(Voucher_Date_1819),1,0))+1)),ROW(A821)),IF(ISBLANK(Voucher_Date_1819),\"\",IF(ISNUMBER(Voucher_Date_1819),COUNTIF(Voucher_Date_1819,\"<\"&Voucher_Date_1819),COUNTIF(Voucher_Date_1819,\"<\"&Voucher_Date_1819)+SUM(IF(ISNUMBER(Voucher_Date_1819),1,0))+1)),0))","v":{"$error":"#NUM!"}}]
[{"$f":"INDEX(Voucher_Date_1819,MATCH(ROWS('Bill Register 20-21'!$L$3:'Bill Register 20-21'!L823),COUNTIF(Voucher_Date_1819,\"<=\"&Voucher_Date_1819),0))","v":{"$error":"#N/A"}},{"$f":"INDEX(Voucher_Date_1819,MATCH(SMALL(IF(ISBLANK(Voucher_Date_1819),\"\",IF(ISNUMBER(Voucher_Date_1819),COUNTIF(Voucher_Date_1819,\"<\"&Voucher_Date_1819),COUNTIF(Voucher_Date_1819,\"<\"&Voucher_Date_1819)+SUM(IF(ISNUMBER(Voucher_Date_1819),1,0))+1)),ROW(A822)),IF(ISBLANK(Voucher_Date_1819),\"\",IF(ISNUMBER(Voucher_Date_1819),COUNTIF(Voucher_Date_1819,\"<\"&Voucher_Date_1819),COUNTIF(Voucher_Date_1819,\"<\"&Voucher_Date_1819)+SUM(IF(ISNUMBER(Voucher_Date_1819),1,0))+1)),0))","v":{"$error":"#NUM!"}}]
[{"$f":"INDEX(Voucher_Date_1819,MATCH(ROWS('Bill Register 20-21'!$L$3:'Bill Register 20-21'!L824),COUNTIF(Voucher_Date_1819,\"<=\"&Voucher_Date_1819),0))","v":{"$error":"#N/A"}},{"$f":"INDEX(Voucher_Date_1819,MATCH(SMALL(IF(ISBLANK(Voucher_Date_1819),\"\",IF(ISNUMBER(Voucher_Date_1819),COUNTIF(Voucher_Date_1819,\"<\"&Voucher_Date_1819),COUNTIF(Voucher_Date_1819,\"<\"&Voucher_Date_1819)+SUM(IF(ISNUMBER(Voucher_Date_1819),1,0))+1)),ROW(A823)),IF(ISBLANK(Voucher_Date_1819),\"\",IF(ISNUMBER(Voucher_Date_1819),COUNTIF(Voucher_Date_1819,\"<\"&Voucher_Date_1819),COUNTIF(Voucher_Date_1819,\"<\"&Voucher_Date_1819)+SUM(IF(ISNUMBER(Voucher_Date_1819),1,0))+1)),0))","v":{"$error":"#NUM!"}}]
[{"$f":"INDEX(Voucher_Date_1819,MATCH(ROWS('Bill Register 20-21'!$L$3:'Bill Register 20-21'!L825),COUNTIF(Voucher_Date_1819,\"<=\"&Voucher_Date_1819),0))","v":{"$error":"#N/A"}},{"$f":"INDEX(Voucher_Date_1819,MATCH(SMALL(IF(ISBLANK(Voucher_Date_1819),\"\",IF(ISNUMBER(Voucher_Date_1819),COUNTIF(Voucher_Date_1819,\"<\"&Voucher_Date_1819),COUNTIF(Voucher_Date_1819,\"<\"&Voucher_Date_1819)+SUM(IF(ISNUMBER(Voucher_Date_1819),1,0))+1)),ROW(A824)),IF(ISBLANK(Voucher_Date_1819),\"\",IF(ISNUMBER(Voucher_Date_1819),COUNTIF(Voucher_Date_1819,\"<\"&Voucher_Date_1819),COUNTIF(Voucher_Date_1819,\"<\"&Voucher_Date_1819)+SUM(IF(ISNUMBER(Voucher_Date_1819),1,0))+1)),0))","v":{"$error":"#NUM!"}}]
[{"$f":"INDEX(Voucher_Date_1819,MATCH(ROWS('Bill Register 20-21'!$L$3:'Bill Register 20-21'!L826),COUNTIF(Voucher_Date_1819,\"<=\"&Voucher_Date_1819),0))","v":{"$error":"#N/A"}},{"$f":"INDEX(Voucher_Date_1819,MATCH(SMALL(IF(ISBLANK(Voucher_Date_1819),\"\",IF(ISNUMBER(Voucher_Date_1819),COUNTIF(Voucher_Date_1819,\"<\"&Voucher_Date_1819),COUNTIF(Voucher_Date_1819,\"<\"&Voucher_Date_1819)+SUM(IF(ISNUMBER(Voucher_Date_1819),1,0))+1)),ROW(A825)),IF(ISBLANK(Voucher_Date_1819),\"\",IF(ISNUMBER(Voucher_Date_1819),COUNTIF(Voucher_Date_1819,\"<\"&Voucher_Date_1819),COUNTIF(Voucher_Date_1819,\"<\"&Voucher_Date_1819)+SUM(IF(ISNUMBER(Voucher_Date_1819),1,0))+1)),0))","v":{"$error":"#NUM!"}}]
[{"$f":"INDEX(Voucher_Date_1819,MATCH(ROWS('Bill Register 20-21'!$L$3:'Bill Register 20-21'!L827),COUNTIF(Voucher_Date_1819,\"<=\"&Voucher_Date_1819),0))","v":{"$error":"#N/A"}},{"$f":"INDEX(Voucher_Date_1819,MATCH(SMALL(IF(ISBLANK(Voucher_Date_1819),\"\",IF(ISNUMBER(Voucher_Date_1819),COUNTIF(Voucher_Date_1819,\"<\"&Voucher_Date_1819),COUNTIF(Voucher_Date_1819,\"<\"&Voucher_Date_1819)+SUM(IF(ISNUMBER(Voucher_Date_1819),1,0))+1)),ROW(A826)),IF(ISBLANK(Voucher_Date_1819),\"\",IF(ISNUMBER(Voucher_Date_1819),COUNTIF(Voucher_Date_1819,\"<\"&Voucher_Date_1819),COUNTIF(Voucher_Date_1819,\"<\"&Voucher_Date_1819)+SUM(IF(ISNUMBER(Voucher_Date_1819),1,0))+1)),0))","v":{"$error":"#NUM!"}}]
[{"$f":"INDEX(Voucher_Date_1819,MATCH(ROWS('Bill Register 20-21'!$L$3:'Bill Register 20-21'!L828),COUNTIF(Voucher_Date_1819,\"<=\"&Voucher_Date_1819),0))","v":{"$error":"#N/A"}},{"$f":"INDEX(Voucher_Date_1819,MATCH(SMALL(IF(ISBLANK(Voucher_Date_1819),\"\",IF(ISNUMBER(Voucher_Date_1819),COUNTIF(Voucher_Date_1819,\"<\"&Voucher_Date_1819),COUNTIF(Voucher_Date_1819,\"<\"&Voucher_Date_1819)+SUM(IF(ISNUMBER(Voucher_Date_1819),1,0))+1)),ROW(A827)),IF(ISBLANK(Voucher_Date_1819),\"\",IF(ISNUMBER(Voucher_Date_1819),COUNTIF(Voucher_Date_1819,\"<\"&Voucher_Date_1819),COUNTIF(Voucher_Date_1819,\"<\"&Voucher_Date_1819)+SUM(IF(ISNUMBER(Voucher_Date_1819),1,0))+1)),0))","v":{"$error":"#NUM!"}}]
[{"$f":"INDEX(Voucher_Date_1819,MATCH(ROWS('Bill Register 20-21'!$L$3:'Bill Register 20-21'!L829),COUNTIF(Voucher_Date_1819,\"<=\"&Voucher_Date_1819),0))","v":{"$error":"#N/A"}},{"$f":"INDEX(Voucher_Date_1819,MATCH(SMALL(IF(ISBLANK(Voucher_Date_1819),\"\",IF(ISNUMBER(Voucher_Date_1819),COUNTIF(Voucher_Date_1819,\"<\"&Voucher_Date_1819),COUNTIF(Voucher_Date_1819,\"<\"&Voucher_Date_1819)+SUM(IF(ISNUMBER(Voucher_Date_1819),1,0))+1)),ROW(A828)),IF(ISBLANK(Voucher_Date_1819),\"\",IF(ISNUMBER(Voucher_Date_1819),COUNTIF(Voucher_Date_1819,\"<\"&Voucher_Date_1819),COUNTIF(Voucher_Date_1819,\"<\"&Voucher_Date_1819)+SUM(IF(ISNUMBER(Voucher_Date_1819),1,0))+1)),0))","v":{"$error":"#NUM!"}}]
[{"$f":"INDEX(Voucher_Date_1819,MATCH(ROWS('Bill Register 20-21'!$L$3:'Bill Register 20-21'!L830),COUNTIF(Voucher_Date_1819,\"<=\"&Voucher_Date_1819),0))","v":{"$error":"#N/A"}},{"$f":"INDEX(Voucher_Date_1819,MATCH(SMALL(IF(ISBLANK(Voucher_Date_1819),\"\",IF(ISNUMBER(Voucher_Date_1819),COUNTIF(Voucher_Date_1819,\"<\"&Voucher_Date_1819),COUNTIF(Voucher_Date_1819,\"<\"&Voucher_Date_1819)+SUM(IF(ISNUMBER(Voucher_Date_1819),1,0))+1)),ROW(A829)),IF(ISBLANK(Voucher_Date_1819),\"\",IF(ISNUMBER(Voucher_Date_1819),COUNTIF(Voucher_Date_1819,\"<\"&Voucher_Date_1819),COUNTIF(Voucher_Date_1819,\"<\"&Voucher_Date_1819)+SUM(IF(ISNUMBER(Voucher_Date_1819),1,0))+1)),0))","v":{"$error":"#NUM!"}}]
[{"$f":"INDEX(Voucher_Date_1819,MATCH(ROWS('Bill Register 20-21'!$L$3:'Bill Register 20-21'!L831),COUNTIF(Voucher_Date_1819,\"<=\"&Voucher_Date_1819),0))","v":{"$error":"#N/A"}},{"$f":"INDEX(Voucher_Date_1819,MATCH(SMALL(IF(ISBLANK(Voucher_Date_1819),\"\",IF(ISNUMBER(Voucher_Date_1819),COUNTIF(Voucher_Date_1819,\"<\"&Voucher_Date_1819),COUNTIF(Voucher_Date_1819,\"<\"&Voucher_Date_1819)+SUM(IF(ISNUMBER(Voucher_Date_1819),1,0))+1)),ROW(A830)),IF(ISBLANK(Voucher_Date_1819),\"\",IF(ISNUMBER(Voucher_Date_1819),COUNTIF(Voucher_Date_1819,\"<\"&Voucher_Date_1819),COUNTIF(Voucher_Date_1819,\"<\"&Voucher_Date_1819)+SUM(IF(ISNUMBER(Voucher_Date_1819),1,0))+1)),0))","v":{"$error":"#NUM!"}}]
[{"$f":"INDEX(Voucher_Date_1819,MATCH(ROWS('Bill Register 20-21'!$L$3:'Bill Register 20-21'!L832),COUNTIF(Voucher_Date_1819,\"<=\"&Voucher_Date_1819),0))","v":{"$error":"#N/A"}},{"$f":"INDEX(Voucher_Date_1819,MATCH(SMALL(IF(ISBLANK(Voucher_Date_1819),\"\",IF(ISNUMBER(Voucher_Date_1819),COUNTIF(Voucher_Date_1819,\"<\"&Voucher_Date_1819),COUNTIF(Voucher_Date_1819,\"<\"&Voucher_Date_1819)+SUM(IF(ISNUMBER(Voucher_Date_1819),1,0))+1)),ROW(A831)),IF(ISBLANK(Voucher_Date_1819),\"\",IF(ISNUMBER(Voucher_Date_1819),COUNTIF(Voucher_Date_1819,\"<\"&Voucher_Date_1819),COUNTIF(Voucher_Date_1819,\"<\"&Voucher_Date_1819)+SUM(IF(ISNUMBER(Voucher_Date_1819),1,0))+1)),0))","v":{"$error":"#NUM!"}}]
[{"$f":"INDEX(Voucher_Date_1819,MATCH(ROWS('Bill Register 20-21'!$L$3:'Bill Register 20-21'!L833),COUNTIF(Voucher_Date_1819,\"<=\"&Voucher_Date_1819),0))","v":{"$error":"#N/A"}},{"$f":"INDEX(Voucher_Date_1819,MATCH(SMALL(IF(ISBLANK(Voucher_Date_1819),\"\",IF(ISNUMBER(Voucher_Date_1819),COUNTIF(Voucher_Date_1819,\"<\"&Voucher_Date_1819),COUNTIF(Voucher_Date_1819,\"<\"&Voucher_Date_1819)+SUM(IF(ISNUMBER(Voucher_Date_1819),1,0))+1)),ROW(A832)),IF(ISBLANK(Voucher_Date_1819),\"\",IF(ISNUMBER(Voucher_Date_1819),COUNTIF(Voucher_Date_1819,\"<\"&Voucher_Date_1819),COUNTIF(Voucher_Date_1819,\"<\"&Voucher_Date_1819)+SUM(IF(ISNUMBER(Voucher_Date_1819),1,0))+1)),0))","v":{"$error":"#NUM!"}}]
[{"$f":"INDEX(Voucher_Date_1819,MATCH(ROWS('Bill Register 20-21'!$L$3:'Bill Register 20-21'!L834),COUNTIF(Voucher_Date_1819,\"<=\"&Voucher_Date_1819),0))","v":{"$error":"#N/A"}},{"$f":"INDEX(Voucher_Date_1819,MATCH(SMALL(IF(ISBLANK(Voucher_Date_1819),\"\",IF(ISNUMBER(Voucher_Date_1819),COUNTIF(Voucher_Date_1819,\"<\"&Voucher_Date_1819),COUNTIF(Voucher_Date_1819,\"<\"&Voucher_Date_1819)+SUM(IF(ISNUMBER(Voucher_Date_1819),1,0))+1)),ROW(A833)),IF(ISBLANK(Voucher_Date_1819),\"\",IF(ISNUMBER(Voucher_Date_1819),COUNTIF(Voucher_Date_1819,\"<\"&Voucher_Date_1819),COUNTIF(Voucher_Date_1819,\"<\"&Voucher_Date_1819)+SUM(IF(ISNUMBER(Voucher_Date_1819),1,0))+1)),0))","v":{"$error":"#NUM!"}}]
[{"$f":"INDEX(Voucher_Date_1819,MATCH(ROWS('Bill Register 20-21'!$L$3:'Bill Register 20-21'!L835),COUNTIF(Voucher_Date_1819,\"<=\"&Voucher_Date_1819),0))","v":{"$error":"#N/A"}},{"$f":"INDEX(Voucher_Date_1819,MATCH(SMALL(IF(ISBLANK(Voucher_Date_1819),\"\",IF(ISNUMBER(Voucher_Date_1819),COUNTIF(Voucher_Date_1819,\"<\"&Voucher_Date_1819),COUNTIF(Voucher_Date_1819,\"<\"&Voucher_Date_1819)+SUM(IF(ISNUMBER(Voucher_Date_1819),1,0))+1)),ROW(A834)),IF(ISBLANK(Voucher_Date_1819),\"\",IF(ISNUMBER(Voucher_Date_1819),COUNTIF(Voucher_Date_1819,\"<\"&Voucher_Date_1819),COUNTIF(Voucher_Date_1819,\"<\"&Voucher_Date_1819)+SUM(IF(ISNUMBER(Voucher_Date_1819),1,0))+1)),0))","v":{"$error":"#NUM!"}}]
[{"$f":"INDEX(Voucher_Date_1819,MATCH(ROWS('Bill Register 20-21'!$L$3:'Bill Register 20-21'!L836),COUNTIF(Voucher_Date_1819,\"<=\"&Voucher_Date_1819),0))","v":{"$error":"#N/A"}},{"$f":"INDEX(Voucher_Date_1819,MATCH(SMALL(IF(ISBLANK(Voucher_Date_1819),\"\",IF(ISNUMBER(Voucher_Date_1819),COUNTIF(Voucher_Date_1819,\"<\"&Voucher_Date_1819),COUNTIF(Voucher_Date_1819,\"<\"&Voucher_Date_1819)+SUM(IF(ISNUMBER(Voucher_Date_1819),1,0))+1)),ROW(A835)),IF(ISBLANK(Voucher_Date_1819),\"\",IF(ISNUMBER(Voucher_Date_1819),COUNTIF(Voucher_Date_1819,\"<\"&Voucher_Date_1819),COUNTIF(Voucher_Date_1819,\"<\"&Voucher_Date_1819)+SUM(IF(ISNUMBER(Voucher_Date_1819),1,0))+1)),0))","v":{"$error":"#NUM!"}}]
[{"$f":"INDEX(Voucher_Date_1819,MATCH(ROWS('Bill Register 20-21'!$L$3:'Bill Register 20-21'!L837),COUNTIF(Voucher_Date_1819,\"<=\"&Voucher_Date_1819),0))","v":{"$error":"#N/A"}},{"$f":"INDEX(Voucher_Date_1819,MATCH(SMALL(IF(ISBLANK(Voucher_Date_1819),\"\",IF(ISNUMBER(Voucher_Date_1819),COUNTIF(Voucher_Date_1819,\"<\"&Voucher_Date_1819),COUNTIF(Voucher_Date_1819,\"<\"&Voucher_Date_1819)+SUM(IF(ISNUMBER(Voucher_Date_1819),1,0))+1)),ROW(A836)),IF(ISBLANK(Voucher_Date_1819),\"\",IF(ISNUMBER(Voucher_Date_1819),COUNTIF(Voucher_Date_1819,\"<\"&Voucher_Date_1819),COUNTIF(Voucher_Date_1819,\"<\"&Voucher_Date_1819)+SUM(IF(ISNUMBER(Voucher_Date_1819),1,0))+1)),0))","v":{"$error":"#NUM!"}}]
[{"$f":"INDEX(Voucher_Date_1819,MATCH(ROWS('Bill Register 20-21'!$L$3:'Bill Register 20-21'!L838),COUNTIF(Voucher_Date_1819,\"<=\"&Voucher_Date_1819),0))","v":{"$error":"#N/A"}},{"$f":"INDEX(Voucher_Date_1819,MATCH(SMALL(IF(ISBLANK(Voucher_Date_1819),\"\",IF(ISNUMBER(Voucher_Date_1819),COUNTIF(Voucher_Date_1819,\"<\"&Voucher_Date_1819),COUNTIF(Voucher_Date_1819,\"<\"&Voucher_Date_1819)+SUM(IF(ISNUMBER(Voucher_Date_1819),1,0))+1)),ROW(A837)),IF(ISBLANK(Voucher_Date_1819),\"\",IF(ISNUMBER(Voucher_Date_1819),COUNTIF(Voucher_Date_1819,\"<\"&Voucher_Date_1819),COUNTIF(Voucher_Date_1819,\"<\"&Voucher_Date_1819)+SUM(IF(ISNUMBER(Voucher_Date_1819),1,0))+1)),0))","v":{"$error":"#NUM!"}}]
[{"$f":"INDEX(Voucher_Date_1819,MATCH(ROWS('Bill Register 20-21'!$L$3:'Bill Register 20-21'!L839),COUNTIF(Voucher_Date_1819,\"<=\"&Voucher_Date_1819),0))","v":{"$error":"#N/A"}},{"$f":"INDEX(Voucher_Date_1819,MATCH(SMALL(IF(ISBLANK(Voucher_Date_1819),\"\",IF(ISNUMBER(Voucher_Date_1819),COUNTIF(Voucher_Date_1819,\"<\"&Voucher_Date_1819),COUNTIF(Voucher_Date_1819,\"<\"&Voucher_Date_1819)+SUM(IF(ISNUMBER(Voucher_Date_1819),1,0))+1)),ROW(A838)),IF(ISBLANK(Voucher_Date_1819),\"\",IF(ISNUMBER(Voucher_Date_1819),COUNTIF(Voucher_Date_1819,\"<\"&Voucher_Date_1819),COUNTIF(Voucher_Date_1819,\"<\"&Voucher_Date_1819)+SUM(IF(ISNUMBER(Voucher_Date_1819),1,0))+1)),0))","v":{"$error":"#NUM!"}}]
[{"$f":"INDEX(Voucher_Date_1819,MATCH(ROWS('Bill Register 20-21'!$L$3:'Bill Register 20-21'!L840),COUNTIF(Voucher_Date_1819,\"<=\"&Voucher_Date_1819),0))","v":{"$error":"#N/A"}},{"$f":"INDEX(Voucher_Date_1819,MATCH(SMALL(IF(ISBLANK(Voucher_Date_1819),\"\",IF(ISNUMBER(Voucher_Date_1819),COUNTIF(Voucher_Date_1819,\"<\"&Voucher_Date_1819),COUNTIF(Voucher_Date_1819,\"<\"&Voucher_Date_1819)+SUM(IF(ISNUMBER(Voucher_Date_1819),1,0))+1)),ROW(A839)),IF(ISBLANK(Voucher_Date_1819),\"\",IF(ISNUMBER(Voucher_Date_1819),COUNTIF(Voucher_Date_1819,\"<\"&Voucher_Date_1819),COUNTIF(Voucher_Date_1819,\"<\"&Voucher_Date_1819)+SUM(IF(ISNUMBER(Voucher_Date_1819),1,0))+1)),0))","v":{"$error":"#NUM!"}}]
[{"$f":"INDEX(Voucher_Date_1819,MATCH(ROWS('Bill Register 20-21'!$L$3:'Bill Register 20-21'!L841),COUNTIF(Voucher_Date_1819,\"<=\"&Voucher_Date_1819),0))","v":{"$error":"#N/A"}},{"$f":"INDEX(Voucher_Date_1819,MATCH(SMALL(IF(ISBLANK(Voucher_Date_1819),\"\",IF(ISNUMBER(Voucher_Date_1819),COUNTIF(Voucher_Date_1819,\"<\"&Voucher_Date_1819),COUNTIF(Voucher_Date_1819,\"<\"&Voucher_Date_1819)+SUM(IF(ISNUMBER(Voucher_Date_1819),1,0))+1)),ROW(A840)),IF(ISBLANK(Voucher_Date_1819),\"\",IF(ISNUMBER(Voucher_Date_1819),COUNTIF(Voucher_Date_1819,\"<\"&Voucher_Date_1819),COUNTIF(Voucher_Date_1819,\"<\"&Voucher_Date_1819)+SUM(IF(ISNUMBER(Voucher_Date_1819),1,0))+1)),0))","v":{"$error":"#NUM!"}}]
[{"$f":"INDEX(Voucher_Date_1819,MATCH(ROWS('Bill Register 20-21'!$L$3:'Bill Register 20-21'!L842),COUNTIF(Voucher_Date_1819,\"<=\"&Voucher_Date_1819),0))","v":{"$error":"#N/A"}},{"$f":"INDEX(Voucher_Date_1819,MATCH(SMALL(IF(ISBLANK(Voucher_Date_1819),\"\",IF(ISNUMBER(Voucher_Date_1819),COUNTIF(Voucher_Date_1819,\"<\"&Voucher_Date_1819),COUNTIF(Voucher_Date_1819,\"<\"&Voucher_Date_1819)+SUM(IF(ISNUMBER(Voucher_Date_1819),1,0))+1)),ROW(A841)),IF(ISBLANK(Voucher_Date_1819),\"\",IF(ISNUMBER(Voucher_Date_1819),COUNTIF(Voucher_Date_1819,\"<\"&Voucher_Date_1819),COUNTIF(Voucher_Date_1819,\"<\"&Voucher_Date_1819)+SUM(IF(ISNUMBER(Voucher_Date_1819),1,0))+1)),0))","v":{"$error":"#NUM!"}}]
[{"$f":"INDEX(Voucher_Date_1819,MATCH(ROWS('Bill Register 20-21'!$L$3:'Bill Register 20-21'!L843),COUNTIF(Voucher_Date_1819,\"<=\"&Voucher_Date_1819),0))","v":{"$error":"#N/A"}},{"$f":"INDEX(Voucher_Date_1819,MATCH(SMALL(IF(ISBLANK(Voucher_Date_1819),\"\",IF(ISNUMBER(Voucher_Date_1819),COUNTIF(Voucher_Date_1819,\"<\"&Voucher_Date_1819),COUNTIF(Voucher_Date_1819,\"<\"&Voucher_Date_1819)+SUM(IF(ISNUMBER(Voucher_Date_1819),1,0))+1)),ROW(A842)),IF(ISBLANK(Voucher_Date_1819),\"\",IF(ISNUMBER(Voucher_Date_1819),COUNTIF(Voucher_Date_1819,\"<\"&Voucher_Date_1819),COUNTIF(Voucher_Date_1819,\"<\"&Voucher_Date_1819)+SUM(IF(ISNUMBER(Voucher_Date_1819),1,0))+1)),0))","v":{"$error":"#NUM!"}}]
[{"$f":"INDEX(Voucher_Date_1819,MATCH(ROWS('Bill Register 20-21'!$L$3:'Bill Register 20-21'!L844),COUNTIF(Voucher_Date_1819,\"<=\"&Voucher_Date_1819),0))","v":{"$error":"#N/A"}},{"$f":"INDEX(Voucher_Date_1819,MATCH(SMALL(IF(ISBLANK(Voucher_Date_1819),\"\",IF(ISNUMBER(Voucher_Date_1819),COUNTIF(Voucher_Date_1819,\"<\"&Voucher_Date_1819),COUNTIF(Voucher_Date_1819,\"<\"&Voucher_Date_1819)+SUM(IF(ISNUMBER(Voucher_Date_1819),1,0))+1)),ROW(A843)),IF(ISBLANK(Voucher_Date_1819),\"\",IF(ISNUMBER(Voucher_Date_1819),COUNTIF(Voucher_Date_1819,\"<\"&Voucher_Date_1819),COUNTIF(Voucher_Date_1819,\"<\"&Voucher_Date_1819)+SUM(IF(ISNUMBER(Voucher_Date_1819),1,0))+1)),0))","v":{"$error":"#NUM!"}}]
[{"$f":"INDEX(Voucher_Date_1819,MATCH(ROWS('Bill Register 20-21'!$L$3:'Bill Register 20-21'!L845),COUNTIF(Voucher_Date_1819,\"<=\"&Voucher_Date_1819),0))","v":{"$error":"#N/A"}},{"$f":"INDEX(Voucher_Date_1819,MATCH(SMALL(IF(ISBLANK(Voucher_Date_1819),\"\",IF(ISNUMBER(Voucher_Date_1819),COUNTIF(Voucher_Date_1819,\"<\"&Voucher_Date_1819),COUNTIF(Voucher_Date_1819,\"<\"&Voucher_Date_1819)+SUM(IF(ISNUMBER(Voucher_Date_1819),1,0))+1)),ROW(A844)),IF(ISBLANK(Voucher_Date_1819),\"\",IF(ISNUMBER(Voucher_Date_1819),COUNTIF(Voucher_Date_1819,\"<\"&Voucher_Date_1819),COUNTIF(Voucher_Date_1819,\"<\"&Voucher_Date_1819)+SUM(IF(ISNUMBER(Voucher_Date_1819),1,0))+1)),0))","v":{"$error":"#NUM!"}}]
[{"$f":"INDEX(Voucher_Date_1819,MATCH(ROWS('Bill Register 20-21'!$L$3:'Bill Register 20-21'!L846),COUNTIF(Voucher_Date_1819,\"<=\"&Voucher_Date_1819),0))","v":{"$error":"#N/A"}},{"$f":"INDEX(Voucher_Date_1819,MATCH(SMALL(IF(ISBLANK(Voucher_Date_1819),\"\",IF(ISNUMBER(Voucher_Date_1819),COUNTIF(Voucher_Date_1819,\"<\"&Voucher_Date_1819),COUNTIF(Voucher_Date_1819,\"<\"&Voucher_Date_1819)+SUM(IF(ISNUMBER(Voucher_Date_1819),1,0))+1)),ROW(A845)),IF(ISBLANK(Voucher_Date_1819),\"\",IF(ISNUMBER(Voucher_Date_1819),COUNTIF(Voucher_Date_1819,\"<\"&Voucher_Date_1819),COUNTIF(Voucher_Date_1819,\"<\"&Voucher_Date_1819)+SUM(IF(ISNUMBER(Voucher_Date_1819),1,0))+1)),0))","v":{"$error":"#NUM!"}}]
[{"$f":"INDEX(Voucher_Date_1819,MATCH(ROWS('Bill Register 20-21'!$L$3:'Bill Register 20-21'!L847),COUNTIF(Voucher_Date_1819,\"<=\"&Voucher_Date_1819),0))","v":{"$error":"#N/A"}},{"$f":"INDEX(Voucher_Date_1819,MATCH(SMALL(IF(ISBLANK(Voucher_Date_1819),\"\",IF(ISNUMBER(Voucher_Date_1819),COUNTIF(Voucher_Date_1819,\"<\"&Voucher_Date_1819),COUNTIF(Voucher_Date_1819,\"<\"&Voucher_Date_1819)+SUM(IF(ISNUMBER(Voucher_Date_1819),1,0))+1)),ROW(A846)),IF(ISBLANK(Voucher_Date_1819),\"\",IF(ISNUMBER(Voucher_Date_1819),COUNTIF(Voucher_Date_1819,\"<\"&Voucher_Date_1819),COUNTIF(Voucher_Date_1819,\"<\"&Voucher_Date_1819)+SUM(IF(ISNUMBER(Voucher_Date_1819),1,0))+1)),0))","v":{"$error":"#NUM!"}}]
[{"$f":"INDEX(Voucher_Date_1819,MATCH(ROWS('Bill Register 20-21'!$L$3:'Bill Register 20-21'!L848),COUNTIF(Voucher_Date_1819,\"<=\"&Voucher_Date_1819),0))","v":{"$error":"#N/A"}},{"$f":"INDEX(Voucher_Date_1819,MATCH(SMALL(IF(ISBLANK(Voucher_Date_1819),\"\",IF(ISNUMBER(Voucher_Date_1819),COUNTIF(Voucher_Date_1819,\"<\"&Voucher_Date_1819),COUNTIF(Voucher_Date_1819,\"<\"&Voucher_Date_1819)+SUM(IF(ISNUMBER(Voucher_Date_1819),1,0))+1)),ROW(A847)),IF(ISBLANK(Voucher_Date_1819),\"\",IF(ISNUMBER(Voucher_Date_1819),COUNTIF(Voucher_Date_1819,\"<\"&Voucher_Date_1819),COUNTIF(Voucher_Date_1819,\"<\"&Voucher_Date_1819)+SUM(IF(ISNUMBER(Voucher_Date_1819),1,0))+1)),0))","v":{"$error":"#NUM!"}}]
[{"$f":"INDEX(Voucher_Date_1819,MATCH(ROWS('Bill Register 20-21'!$L$3:'Bill Register 20-21'!L849),COUNTIF(Voucher_Date_1819,\"<=\"&Voucher_Date_1819),0))","v":{"$error":"#N/A"}},{"$f":"INDEX(Voucher_Date_1819,MATCH(SMALL(IF(ISBLANK(Voucher_Date_1819),\"\",IF(ISNUMBER(Voucher_Date_1819),COUNTIF(Voucher_Date_1819,\"<\"&Voucher_Date_1819),COUNTIF(Voucher_Date_1819,\"<\"&Voucher_Date_1819)+SUM(IF(ISNUMBER(Voucher_Date_1819),1,0))+1)),ROW(A848)),IF(ISBLANK(Voucher_Date_1819),\"\",IF(ISNUMBER(Voucher_Date_1819),COUNTIF(Voucher_Date_1819,\"<\"&Voucher_Date_1819),COUNTIF(Voucher_Date_1819,\"<\"&Voucher_Date_1819)+SUM(IF(ISNUMBER(Voucher_Date_1819),1,0))+1)),0))","v":{"$error":"#NUM!"}}]
[{"$f":"INDEX(Voucher_Date_1819,MATCH(ROWS('Bill Register 20-21'!$L$3:'Bill Register 20-21'!L850),COUNTIF(Voucher_Date_1819,\"<=\"&Voucher_Date_1819),0))","v":{"$error":"#N/A"}},{"$f":"INDEX(Voucher_Date_1819,MATCH(SMALL(IF(ISBLANK(Voucher_Date_1819),\"\",IF(ISNUMBER(Voucher_Date_1819),COUNTIF(Voucher_Date_1819,\"<\"&Voucher_Date_1819),COUNTIF(Voucher_Date_1819,\"<\"&Voucher_Date_1819)+SUM(IF(ISNUMBER(Voucher_Date_1819),1,0))+1)),ROW(A849)),IF(ISBLANK(Voucher_Date_1819),\"\",IF(ISNUMBER(Voucher_Date_1819),COUNTIF(Voucher_Date_1819,\"<\"&Voucher_Date_1819),COUNTIF(Voucher_Date_1819,\"<\"&Voucher_Date_1819)+SUM(IF(ISNUMBER(Voucher_Date_1819),1,0))+1)),0))","v":{"$error":"#NUM!"}}]
[{"$f":"INDEX(Voucher_Date_1819,MATCH(ROWS('Bill Register 20-21'!$L$3:'Bill Register 20-21'!L851),COUNTIF(Voucher_Date_1819,\"<=\"&Voucher_Date_1819),0))","v":{"$error":"#N/A"}},{"$f":"INDEX(Voucher_Date_1819,MATCH(SMALL(IF(ISBLANK(Voucher_Date_1819),\"\",IF(ISNUMBER(Voucher_Date_1819),COUNTIF(Voucher_Date_1819,\"<\"&Voucher_Date_1819),COUNTIF(Voucher_Date_1819,\"<\"&Voucher_Date_1819)+SUM(IF(ISNUMBER(Voucher_Date_1819),1,0))+1)),ROW(A850)),IF(ISBLANK(Voucher_Date_1819),\"\",IF(ISNUMBER(Voucher_Date_1819),COUNTIF(Voucher_Date_1819,\"<\"&Voucher_Date_1819),COUNTIF(Voucher_Date_1819,\"<\"&Voucher_Date_1819)+SUM(IF(ISNUMBER(Voucher_Date_1819),1,0))+1)),0))","v":{"$error":"#NUM!"}}]
[{"$f":"INDEX(Voucher_Date_1819,MATCH(ROWS('Bill Register 20-21'!$L$3:'Bill Register 20-21'!L852),COUNTIF(Voucher_Date_1819,\"<=\"&Voucher_Date_1819),0))","v":{"$error":"#N/A"}},{"$f":"INDEX(Voucher_Date_1819,MATCH(SMALL(IF(ISBLANK(Voucher_Date_1819),\"\",IF(ISNUMBER(Voucher_Date_1819),COUNTIF(Voucher_Date_1819,\"<\"&Voucher_Date_1819),COUNTIF(Voucher_Date_1819,\"<\"&Voucher_Date_1819)+SUM(IF(ISNUMBER(Voucher_Date_1819),1,0))+1)),ROW(A851)),IF(ISBLANK(Voucher_Date_1819),\"\",IF(ISNUMBER(Voucher_Date_1819),COUNTIF(Voucher_Date_1819,\"<\"&Voucher_Date_1819),COUNTIF(Voucher_Date_1819,\"<\"&Voucher_Date_1819)+SUM(IF(ISNUMBER(Voucher_Date_1819),1,0))+1)),0))","v":{"$error":"#NUM!"}}]
[{"$f":"INDEX(Voucher_Date_1819,MATCH(ROWS('Bill Register 20-21'!$L$3:'Bill Register 20-21'!L853),COUNTIF(Voucher_Date_1819,\"<=\"&Voucher_Date_1819),0))","v":{"$error":"#N/A"}},{"$f":"INDEX(Voucher_Date_1819,MATCH(SMALL(IF(ISBLANK(Voucher_Date_1819),\"\",IF(ISNUMBER(Voucher_Date_1819),COUNTIF(Voucher_Date_1819,\"<\"&Voucher_Date_1819),COUNTIF(Voucher_Date_1819,\"<\"&Voucher_Date_1819)+SUM(IF(ISNUMBER(Voucher_Date_1819),1,0))+1)),ROW(A852)),IF(ISBLANK(Voucher_Date_1819),\"\",IF(ISNUMBER(Voucher_Date_1819),COUNTIF(Voucher_Date_1819,\"<\"&Voucher_Date_1819),COUNTIF(Voucher_Date_1819,\"<\"&Voucher_Date_1819)+SUM(IF(ISNUMBER(Voucher_Date_1819),1,0))+1)),0))","v":{"$error":"#NUM!"}}]
[{"$f":"INDEX(Voucher_Date_1819,MATCH(ROWS('Bill Register 20-21'!$L$3:'Bill Register 20-21'!L854),COUNTIF(Voucher_Date_1819,\"<=\"&Voucher_Date_1819),0))","v":{"$error":"#N/A"}},{"$f":"INDEX(Voucher_Date_1819,MATCH(SMALL(IF(ISBLANK(Voucher_Date_1819),\"\",IF(ISNUMBER(Voucher_Date_1819),COUNTIF(Voucher_Date_1819,\"<\"&Voucher_Date_1819),COUNTIF(Voucher_Date_1819,\"<\"&Voucher_Date_1819)+SUM(IF(ISNUMBER(Voucher_Date_1819),1,0))+1)),ROW(A853)),IF(ISBLANK(Voucher_Date_1819),\"\",IF(ISNUMBER(Voucher_Date_1819),COUNTIF(Voucher_Date_1819,\"<\"&Voucher_Date_1819),COUNTIF(Voucher_Date_1819,\"<\"&Voucher_Date_1819)+SUM(IF(ISNUMBER(Voucher_Date_1819),1,0))+1)),0))","v":{"$error":"#NUM!"}}]
[{"$f":"INDEX(Voucher_Date_1819,MATCH(ROWS('Bill Register 20-21'!$L$3:'Bill Register 20-21'!L855),COUNTIF(Voucher_Date_1819,\"<=\"&Voucher_Date_1819),0))","v":{"$error":"#N/A"}},{"$f":"INDEX(Voucher_Date_1819,MATCH(SMALL(IF(ISBLANK(Voucher_Date_1819),\"\",IF(ISNUMBER(Voucher_Date_1819),COUNTIF(Voucher_Date_1819,\"<\"&Voucher_Date_1819),COUNTIF(Voucher_Date_1819,\"<\"&Voucher_Date_1819)+SUM(IF(ISNUMBER(Voucher_Date_1819),1,0))+1)),ROW(A854)),IF(ISBLANK(Voucher_Date_1819),\"\",IF(ISNUMBER(Voucher_Date_1819),COUNTIF(Voucher_Date_1819,\"<\"&Voucher_Date_1819),COUNTIF(Voucher_Date_1819,\"<\"&Voucher_Date_1819)+SUM(IF(ISNUMBER(Voucher_Date_1819),1,0))+1)),0))","v":{"$error":"#NUM!"}}]
[{"$f":"INDEX(Voucher_Date_1819,MATCH(ROWS('Bill Register 20-21'!$L$3:'Bill Register 20-21'!L856),COUNTIF(Voucher_Date_1819,\"<=\"&Voucher_Date_1819),0))","v":{"$error":"#N/A"}},{"$f":"INDEX(Voucher_Date_1819,MATCH(SMALL(IF(ISBLANK(Voucher_Date_1819),\"\",IF(ISNUMBER(Voucher_Date_1819),COUNTIF(Voucher_Date_1819,\"<\"&Voucher_Date_1819),COUNTIF(Voucher_Date_1819,\"<\"&Voucher_Date_1819)+SUM(IF(ISNUMBER(Voucher_Date_1819),1,0))+1)),ROW(A855)),IF(ISBLANK(Voucher_Date_1819),\"\",IF(ISNUMBER(Voucher_Date_1819),COUNTIF(Voucher_Date_1819,\"<\"&Voucher_Date_1819),COUNTIF(Voucher_Date_1819,\"<\"&Voucher_Date_1819)+SUM(IF(ISNUMBER(Voucher_Date_1819),1,0))+1)),0))","v":{"$error":"#NUM!"}}]
[{"$f":"INDEX(Voucher_Date_1819,MATCH(ROWS('Bill Register 20-21'!$L$3:'Bill Register 20-21'!L857),COUNTIF(Voucher_Date_1819,\"<=\"&Voucher_Date_1819),0))","v":{"$error":"#N/A"}},{"$f":"INDEX(Voucher_Date_1819,MATCH(SMALL(IF(ISBLANK(Voucher_Date_1819),\"\",IF(ISNUMBER(Voucher_Date_1819),COUNTIF(Voucher_Date_1819,\"<\"&Voucher_Date_1819),COUNTIF(Voucher_Date_1819,\"<\"&Voucher_Date_1819)+SUM(IF(ISNUMBER(Voucher_Date_1819),1,0))+1)),ROW(A856)),IF(ISBLANK(Voucher_Date_1819),\"\",IF(ISNUMBER(Voucher_Date_1819),COUNTIF(Voucher_Date_1819,\"<\"&Voucher_Date_1819),COUNTIF(Voucher_Date_1819,\"<\"&Voucher_Date_1819)+SUM(IF(ISNUMBER(Voucher_Date_1819),1,0))+1)),0))","v":{"$error":"#NUM!"}}]
[{"$f":"INDEX(Voucher_Date_1819,MATCH(ROWS('Bill Register 20-21'!$L$3:'Bill Register 20-21'!L858),COUNTIF(Voucher_Date_1819,\"<=\"&Voucher_Date_1819),0))","v":{"$error":"#N/A"}},{"$f":"INDEX(Voucher_Date_1819,MATCH(SMALL(IF(ISBLANK(Voucher_Date_1819),\"\",IF(ISNUMBER(Voucher_Date_1819),COUNTIF(Voucher_Date_1819,\"<\"&Voucher_Date_1819),COUNTIF(Voucher_Date_1819,\"<\"&Voucher_Date_1819)+SUM(IF(ISNUMBER(Voucher_Date_1819),1,0))+1)),ROW(A857)),IF(ISBLANK(Voucher_Date_1819),\"\",IF(ISNUMBER(Voucher_Date_1819),COUNTIF(Voucher_Date_1819,\"<\"&Voucher_Date_1819),COUNTIF(Voucher_Date_1819,\"<\"&Voucher_Date_1819)+SUM(IF(ISNUMBER(Voucher_Date_1819),1,0))+1)),0))","v":{"$error":"#NUM!"}}]
[{"$f":"INDEX(Voucher_Date_1819,MATCH(ROWS('Bill Register 20-21'!$L$3:'Bill Register 20-21'!L859),COUNTIF(Voucher_Date_1819,\"<=\"&Voucher_Date_1819),0))","v":{"$error":"#N/A"}},{"$f":"INDEX(Voucher_Date_1819,MATCH(SMALL(IF(ISBLANK(Voucher_Date_1819),\"\",IF(ISNUMBER(Voucher_Date_1819),COUNTIF(Voucher_Date_1819,\"<\"&Voucher_Date_1819),COUNTIF(Voucher_Date_1819,\"<\"&Voucher_Date_1819)+SUM(IF(ISNUMBER(Voucher_Date_1819),1,0))+1)),ROW(A858)),IF(ISBLANK(Voucher_Date_1819),\"\",IF(ISNUMBER(Voucher_Date_1819),COUNTIF(Voucher_Date_1819,\"<\"&Voucher_Date_1819),COUNTIF(Voucher_Date_1819,\"<\"&Voucher_Date_1819)+SUM(IF(ISNUMBER(Voucher_Date_1819),1,0))+1)),0))","v":{"$error":"#NUM!"}}]
[{"$f":"INDEX(Voucher_Date_1819,MATCH(ROWS('Bill Register 20-21'!$L$3:'Bill Register 20-21'!L860),COUNTIF(Voucher_Date_1819,\"<=\"&Voucher_Date_1819),0))","v":{"$error":"#N/A"}},{"$f":"INDEX(Voucher_Date_1819,MATCH(SMALL(IF(ISBLANK(Voucher_Date_1819),\"\",IF(ISNUMBER(Voucher_Date_1819),COUNTIF(Voucher_Date_1819,\"<\"&Voucher_Date_1819),COUNTIF(Voucher_Date_1819,\"<\"&Voucher_Date_1819)+SUM(IF(ISNUMBER(Voucher_Date_1819),1,0))+1)),ROW(A859)),IF(ISBLANK(Voucher_Date_1819),\"\",IF(ISNUMBER(Voucher_Date_1819),COUNTIF(Voucher_Date_1819,\"<\"&Voucher_Date_1819),COUNTIF(Voucher_Date_1819,\"<\"&Voucher_Date_1819)+SUM(IF(ISNUMBER(Voucher_Date_1819),1,0))+1)),0))","v":{"$error":"#NUM!"}}]
[{"$f":"INDEX(Voucher_Date_1819,MATCH(ROWS('Bill Register 20-21'!$L$3:'Bill Register 20-21'!L861),COUNTIF(Voucher_Date_1819,\"<=\"&Voucher_Date_1819),0))","v":{"$error":"#N/A"}},{"$f":"INDEX(Voucher_Date_1819,MATCH(SMALL(IF(ISBLANK(Voucher_Date_1819),\"\",IF(ISNUMBER(Voucher_Date_1819),COUNTIF(Voucher_Date_1819,\"<\"&Voucher_Date_1819),COUNTIF(Voucher_Date_1819,\"<\"&Voucher_Date_1819)+SUM(IF(ISNUMBER(Voucher_Date_1819),1,0))+1)),ROW(A860)),IF(ISBLANK(Voucher_Date_1819),\"\",IF(ISNUMBER(Voucher_Date_1819),COUNTIF(Voucher_Date_1819,\"<\"&Voucher_Date_1819),COUNTIF(Voucher_Date_1819,\"<\"&Voucher_Date_1819)+SUM(IF(ISNUMBER(Voucher_Date_1819),1,0))+1)),0))","v":{"$error":"#NUM!"}}]
[{"$f":"INDEX(Voucher_Date_1819,MATCH(ROWS('Bill Register 20-21'!$L$3:'Bill Register 20-21'!L862),COUNTIF(Voucher_Date_1819,\"<=\"&Voucher_Date_1819),0))","v":{"$error":"#N/A"}},{"$f":"INDEX(Voucher_Date_1819,MATCH(SMALL(IF(ISBLANK(Voucher_Date_1819),\"\",IF(ISNUMBER(Voucher_Date_1819),COUNTIF(Voucher_Date_1819,\"<\"&Voucher_Date_1819),COUNTIF(Voucher_Date_1819,\"<\"&Voucher_Date_1819)+SUM(IF(ISNUMBER(Voucher_Date_1819),1,0))+1)),ROW(A861)),IF(ISBLANK(Voucher_Date_1819),\"\",IF(ISNUMBER(Voucher_Date_1819),COUNTIF(Voucher_Date_1819,\"<\"&Voucher_Date_1819),COUNTIF(Voucher_Date_1819,\"<\"&Voucher_Date_1819)+SUM(IF(ISNUMBER(Voucher_Date_1819),1,0))+1)),0))","v":{"$error":"#NUM!"}}]
[{"$f":"INDEX(Voucher_Date_1819,MATCH(ROWS('Bill Register 20-21'!$L$3:'Bill Register 20-21'!L863),COUNTIF(Voucher_Date_1819,\"<=\"&Voucher_Date_1819),0))","v":{"$error":"#N/A"}},{"$f":"INDEX(Voucher_Date_1819,MATCH(SMALL(IF(ISBLANK(Voucher_Date_1819),\"\",IF(ISNUMBER(Voucher_Date_1819),COUNTIF(Voucher_Date_1819,\"<\"&Voucher_Date_1819),COUNTIF(Voucher_Date_1819,\"<\"&Voucher_Date_1819)+SUM(IF(ISNUMBER(Voucher_Date_1819),1,0))+1)),ROW(A862)),IF(ISBLANK(Voucher_Date_1819),\"\",IF(ISNUMBER(Voucher_Date_1819),COUNTIF(Voucher_Date_1819,\"<\"&Voucher_Date_1819),COUNTIF(Voucher_Date_1819,\"<\"&Voucher_Date_1819)+SUM(IF(ISNUMBER(Voucher_Date_1819),1,0))+1)),0))","v":{"$error":"#NUM!"}}]
[{"$f":"INDEX(Voucher_Date_1819,MATCH(ROWS('Bill Register 20-21'!$L$3:'Bill Register 20-21'!L864),COUNTIF(Voucher_Date_1819,\"<=\"&Voucher_Date_1819),0))","v":{"$error":"#N/A"}},{"$f":"INDEX(Voucher_Date_1819,MATCH(SMALL(IF(ISBLANK(Voucher_Date_1819),\"\",IF(ISNUMBER(Voucher_Date_1819),COUNTIF(Voucher_Date_1819,\"<\"&Voucher_Date_1819),COUNTIF(Voucher_Date_1819,\"<\"&Voucher_Date_1819)+SUM(IF(ISNUMBER(Voucher_Date_1819),1,0))+1)),ROW(A863)),IF(ISBLANK(Voucher_Date_1819),\"\",IF(ISNUMBER(Voucher_Date_1819),COUNTIF(Voucher_Date_1819,\"<\"&Voucher_Date_1819),COUNTIF(Voucher_Date_1819,\"<\"&Voucher_Date_1819)+SUM(IF(ISNUMBER(Voucher_Date_1819),1,0))+1)),0))","v":{"$error":"#NUM!"}}]
[{"$f":"INDEX(Voucher_Date_1819,MATCH(ROWS('Bill Register 20-21'!$L$3:'Bill Register 20-21'!L865),COUNTIF(Voucher_Date_1819,\"<=\"&Voucher_Date_1819),0))","v":{"$error":"#N/A"}},{"$f":"INDEX(Voucher_Date_1819,MATCH(SMALL(IF(ISBLANK(Voucher_Date_1819),\"\",IF(ISNUMBER(Voucher_Date_1819),COUNTIF(Voucher_Date_1819,\"<\"&Voucher_Date_1819),COUNTIF(Voucher_Date_1819,\"<\"&Voucher_Date_1819)+SUM(IF(ISNUMBER(Voucher_Date_1819),1,0))+1)),ROW(A864)),IF(ISBLANK(Voucher_Date_1819),\"\",IF(ISNUMBER(Voucher_Date_1819),COUNTIF(Voucher_Date_1819,\"<\"&Voucher_Date_1819),COUNTIF(Voucher_Date_1819,\"<\"&Voucher_Date_1819)+SUM(IF(ISNUMBER(Voucher_Date_1819),1,0))+1)),0))","v":{"$error":"#NUM!"}}]
[{"$f":"INDEX(Voucher_Date_1819,MATCH(ROWS('Bill Register 20-21'!$L$3:'Bill Register 20-21'!L866),COUNTIF(Voucher_Date_1819,\"<=\"&Voucher_Date_1819),0))","v":{"$error":"#N/A"}},{"$f":"INDEX(Voucher_Date_1819,MATCH(SMALL(IF(ISBLANK(Voucher_Date_1819),\"\",IF(ISNUMBER(Voucher_Date_1819),COUNTIF(Voucher_Date_1819,\"<\"&Voucher_Date_1819),COUNTIF(Voucher_Date_1819,\"<\"&Voucher_Date_1819)+SUM(IF(ISNUMBER(Voucher_Date_1819),1,0))+1)),ROW(A865)),IF(ISBLANK(Voucher_Date_1819),\"\",IF(ISNUMBER(Voucher_Date_1819),COUNTIF(Voucher_Date_1819,\"<\"&Voucher_Date_1819),COUNTIF(Voucher_Date_1819,\"<\"&Voucher_Date_1819)+SUM(IF(ISNUMBER(Voucher_Date_1819),1,0))+1)),0))","v":{"$error":"#NUM!"}}]
[{"$f":"INDEX(Voucher_Date_1819,MATCH(ROWS('Bill Register 20-21'!$L$3:'Bill Register 20-21'!L867),COUNTIF(Voucher_Date_1819,\"<=\"&Voucher_Date_1819),0))","v":{"$error":"#N/A"}},{"$f":"INDEX(Voucher_Date_1819,MATCH(SMALL(IF(ISBLANK(Voucher_Date_1819),\"\",IF(ISNUMBER(Voucher_Date_1819),COUNTIF(Voucher_Date_1819,\"<\"&Voucher_Date_1819),COUNTIF(Voucher_Date_1819,\"<\"&Voucher_Date_1819)+SUM(IF(ISNUMBER(Voucher_Date_1819),1,0))+1)),ROW(A866)),IF(ISBLANK(Voucher_Date_1819),\"\",IF(ISNUMBER(Voucher_Date_1819),COUNTIF(Voucher_Date_1819,\"<\"&Voucher_Date_1819),COUNTIF(Voucher_Date_1819,\"<\"&Voucher_Date_1819)+SUM(IF(ISNUMBER(Voucher_Date_1819),1,0))+1)),0))","v":{"$error":"#NUM!"}}]
[{"$f":"INDEX(Voucher_Date_1819,MATCH(ROWS('Bill Register 20-21'!$L$3:'Bill Register 20-21'!L868),COUNTIF(Voucher_Date_1819,\"<=\"&Voucher_Date_1819),0))","v":{"$error":"#N/A"}},{"$f":"INDEX(Voucher_Date_1819,MATCH(SMALL(IF(ISBLANK(Voucher_Date_1819),\"\",IF(ISNUMBER(Voucher_Date_1819),COUNTIF(Voucher_Date_1819,\"<\"&Voucher_Date_1819),COUNTIF(Voucher_Date_1819,\"<\"&Voucher_Date_1819)+SUM(IF(ISNUMBER(Voucher_Date_1819),1,0))+1)),ROW(A867)),IF(ISBLANK(Voucher_Date_1819),\"\",IF(ISNUMBER(Voucher_Date_1819),COUNTIF(Voucher_Date_1819,\"<\"&Voucher_Date_1819),COUNTIF(Voucher_Date_1819,\"<\"&Voucher_Date_1819)+SUM(IF(ISNUMBER(Voucher_Date_1819),1,0))+1)),0))","v":{"$error":"#NUM!"}}]
[{"$f":"INDEX(Voucher_Date_1819,MATCH(ROWS('Bill Register 20-21'!$L$3:'Bill Register 20-21'!L869),COUNTIF(Voucher_Date_1819,\"<=\"&Voucher_Date_1819),0))","v":{"$error":"#N/A"}},{"$f":"INDEX(Voucher_Date_1819,MATCH(SMALL(IF(ISBLANK(Voucher_Date_1819),\"\",IF(ISNUMBER(Voucher_Date_1819),COUNTIF(Voucher_Date_1819,\"<\"&Voucher_Date_1819),COUNTIF(Voucher_Date_1819,\"<\"&Voucher_Date_1819)+SUM(IF(ISNUMBER(Voucher_Date_1819),1,0))+1)),ROW(A868)),IF(ISBLANK(Voucher_Date_1819),\"\",IF(ISNUMBER(Voucher_Date_1819),COUNTIF(Voucher_Date_1819,\"<\"&Voucher_Date_1819),COUNTIF(Voucher_Date_1819,\"<\"&Voucher_Date_1819)+SUM(IF(ISNUMBER(Voucher_Date_1819),1,0))+1)),0))","v":{"$error":"#NUM!"}}]
[{"$f":"INDEX(Voucher_Date_1819,MATCH(ROWS('Bill Register 20-21'!$L$3:'Bill Register 20-21'!L870),COUNTIF(Voucher_Date_1819,\"<=\"&Voucher_Date_1819),0))","v":{"$error":"#N/A"}},{"$f":"INDEX(Voucher_Date_1819,MATCH(SMALL(IF(ISBLANK(Voucher_Date_1819),\"\",IF(ISNUMBER(Voucher_Date_1819),COUNTIF(Voucher_Date_1819,\"<\"&Voucher_Date_1819),COUNTIF(Voucher_Date_1819,\"<\"&Voucher_Date_1819)+SUM(IF(ISNUMBER(Voucher_Date_1819),1,0))+1)),ROW(A869)),IF(ISBLANK(Voucher_Date_1819),\"\",IF(ISNUMBER(Voucher_Date_1819),COUNTIF(Voucher_Date_1819,\"<\"&Voucher_Date_1819),COUNTIF(Voucher_Date_1819,\"<\"&Voucher_Date_1819)+SUM(IF(ISNUMBER(Voucher_Date_1819),1,0))+1)),0))","v":{"$error":"#NUM!"}}]
[{"$f":"INDEX(Voucher_Date_1819,MATCH(ROWS('Bill Register 20-21'!$L$3:'Bill Register 20-21'!L871),COUNTIF(Voucher_Date_1819,\"<=\"&Voucher_Date_1819),0))","v":{"$error":"#N/A"}},{"$f":"INDEX(Voucher_Date_1819,MATCH(SMALL(IF(ISBLANK(Voucher_Date_1819),\"\",IF(ISNUMBER(Voucher_Date_1819),COUNTIF(Voucher_Date_1819,\"<\"&Voucher_Date_1819),COUNTIF(Voucher_Date_1819,\"<\"&Voucher_Date_1819)+SUM(IF(ISNUMBER(Voucher_Date_1819),1,0))+1)),ROW(A870)),IF(ISBLANK(Voucher_Date_1819),\"\",IF(ISNUMBER(Voucher_Date_1819),COUNTIF(Voucher_Date_1819,\"<\"&Voucher_Date_1819),COUNTIF(Voucher_Date_1819,\"<\"&Voucher_Date_1819)+SUM(IF(ISNUMBER(Voucher_Date_1819),1,0))+1)),0))","v":{"$error":"#NUM!"}}]
[{"$f":"INDEX(Voucher_Date_1819,MATCH(ROWS('Bill Register 20-21'!$L$3:'Bill Register 20-21'!L872),COUNTIF(Voucher_Date_1819,\"<=\"&Voucher_Date_1819),0))","v":{"$error":"#N/A"}},{"$f":"INDEX(Voucher_Date_1819,MATCH(SMALL(IF(ISBLANK(Voucher_Date_1819),\"\",IF(ISNUMBER(Voucher_Date_1819),COUNTIF(Voucher_Date_1819,\"<\"&Voucher_Date_1819),COUNTIF(Voucher_Date_1819,\"<\"&Voucher_Date_1819)+SUM(IF(ISNUMBER(Voucher_Date_1819),1,0))+1)),ROW(A871)),IF(ISBLANK(Voucher_Date_1819),\"\",IF(ISNUMBER(Voucher_Date_1819),COUNTIF(Voucher_Date_1819,\"<\"&Voucher_Date_1819),COUNTIF(Voucher_Date_1819,\"<\"&Voucher_Date_1819)+SUM(IF(ISNUMBER(Voucher_Date_1819),1,0))+1)),0))","v":{"$error":"#NUM!"}}]
[{"$f":"INDEX(Voucher_Date_1819,MATCH(ROWS('Bill Register 20-21'!$L$3:'Bill Register 20-21'!L873),COUNTIF(Voucher_Date_1819,\"<=\"&Voucher_Date_1819),0))","v":{"$error":"#N/A"}},{"$f":"INDEX(Voucher_Date_1819,MATCH(SMALL(IF(ISBLANK(Voucher_Date_1819),\"\",IF(ISNUMBER(Voucher_Date_1819),COUNTIF(Voucher_Date_1819,\"<\"&Voucher_Date_1819),COUNTIF(Voucher_Date_1819,\"<\"&Voucher_Date_1819)+SUM(IF(ISNUMBER(Voucher_Date_1819),1,0))+1)),ROW(A872)),IF(ISBLANK(Voucher_Date_1819),\"\",IF(ISNUMBER(Voucher_Date_1819),COUNTIF(Voucher_Date_1819,\"<\"&Voucher_Date_1819),COUNTIF(Voucher_Date_1819,\"<\"&Voucher_Date_1819)+SUM(IF(ISNUMBER(Voucher_Date_1819),1,0))+1)),0))","v":{"$error":"#NUM!"}}]
[{"$f":"INDEX(Voucher_Date_1819,MATCH(ROWS('Bill Register 20-21'!$L$3:'Bill Register 20-21'!L874),COUNTIF(Voucher_Date_1819,\"<=\"&Voucher_Date_1819),0))","v":{"$error":"#N/A"}},{"$f":"INDEX(Voucher_Date_1819,MATCH(SMALL(IF(ISBLANK(Voucher_Date_1819),\"\",IF(ISNUMBER(Voucher_Date_1819),COUNTIF(Voucher_Date_1819,\"<\"&Voucher_Date_1819),COUNTIF(Voucher_Date_1819,\"<\"&Voucher_Date_1819)+SUM(IF(ISNUMBER(Voucher_Date_1819),1,0))+1)),ROW(A873)),IF(ISBLANK(Voucher_Date_1819),\"\",IF(ISNUMBER(Voucher_Date_1819),COUNTIF(Voucher_Date_1819,\"<\"&Voucher_Date_1819),COUNTIF(Voucher_Date_1819,\"<\"&Voucher_Date_1819)+SUM(IF(ISNUMBER(Voucher_Date_1819),1,0))+1)),0))","v":{"$error":"#NUM!"}}]
[{"$f":"INDEX(Voucher_Date_1819,MATCH(ROWS('Bill Register 20-21'!$L$3:'Bill Register 20-21'!L875),COUNTIF(Voucher_Date_1819,\"<=\"&Voucher_Date_1819),0))","v":{"$error":"#N/A"}},{"$f":"INDEX(Voucher_Date_1819,MATCH(SMALL(IF(ISBLANK(Voucher_Date_1819),\"\",IF(ISNUMBER(Voucher_Date_1819),COUNTIF(Voucher_Date_1819,\"<\"&Voucher_Date_1819),COUNTIF(Voucher_Date_1819,\"<\"&Voucher_Date_1819)+SUM(IF(ISNUMBER(Voucher_Date_1819),1,0))+1)),ROW(A874)),IF(ISBLANK(Voucher_Date_1819),\"\",IF(ISNUMBER(Voucher_Date_1819),COUNTIF(Voucher_Date_1819,\"<\"&Voucher_Date_1819),COUNTIF(Voucher_Date_1819,\"<\"&Voucher_Date_1819)+SUM(IF(ISNUMBER(Voucher_Date_1819),1,0))+1)),0))","v":{"$error":"#NUM!"}}]
[{"$f":"INDEX(Voucher_Date_1819,MATCH(ROWS('Bill Register 20-21'!$L$3:'Bill Register 20-21'!L876),COUNTIF(Voucher_Date_1819,\"<=\"&Voucher_Date_1819),0))","v":{"$error":"#N/A"}},{"$f":"INDEX(Voucher_Date_1819,MATCH(SMALL(IF(ISBLANK(Voucher_Date_1819),\"\",IF(ISNUMBER(Voucher_Date_1819),COUNTIF(Voucher_Date_1819,\"<\"&Voucher_Date_1819),COUNTIF(Voucher_Date_1819,\"<\"&Voucher_Date_1819)+SUM(IF(ISNUMBER(Voucher_Date_1819),1,0))+1)),ROW(A875)),IF(ISBLANK(Voucher_Date_1819),\"\",IF(ISNUMBER(Voucher_Date_1819),COUNTIF(Voucher_Date_1819,\"<\"&Voucher_Date_1819),COUNTIF(Voucher_Date_1819,\"<\"&Voucher_Date_1819)+SUM(IF(ISNUMBER(Voucher_Date_1819),1,0))+1)),0))","v":{"$error":"#NUM!"}}]
[{"$f":"INDEX(Voucher_Date_1819,MATCH(ROWS('Bill Register 20-21'!$L$3:'Bill Register 20-21'!L877),COUNTIF(Voucher_Date_1819,\"<=\"&Voucher_Date_1819),0))","v":{"$error":"#N/A"}},{"$f":"INDEX(Voucher_Date_1819,MATCH(SMALL(IF(ISBLANK(Voucher_Date_1819),\"\",IF(ISNUMBER(Voucher_Date_1819),COUNTIF(Voucher_Date_1819,\"<\"&Voucher_Date_1819),COUNTIF(Voucher_Date_1819,\"<\"&Voucher_Date_1819)+SUM(IF(ISNUMBER(Voucher_Date_1819),1,0))+1)),ROW(A876)),IF(ISBLANK(Voucher_Date_1819),\"\",IF(ISNUMBER(Voucher_Date_1819),COUNTIF(Voucher_Date_1819,\"<\"&Voucher_Date_1819),COUNTIF(Voucher_Date_1819,\"<\"&Voucher_Date_1819)+SUM(IF(ISNUMBER(Voucher_Date_1819),1,0))+1)),0))","v":{"$error":"#NUM!"}}]
[{"$f":"INDEX(Voucher_Date_1819,MATCH(ROWS('Bill Register 20-21'!$L$3:'Bill Register 20-21'!L878),COUNTIF(Voucher_Date_1819,\"<=\"&Voucher_Date_1819),0))","v":{"$error":"#N/A"}},{"$f":"INDEX(Voucher_Date_1819,MATCH(SMALL(IF(ISBLANK(Voucher_Date_1819),\"\",IF(ISNUMBER(Voucher_Date_1819),COUNTIF(Voucher_Date_1819,\"<\"&Voucher_Date_1819),COUNTIF(Voucher_Date_1819,\"<\"&Voucher_Date_1819)+SUM(IF(ISNUMBER(Voucher_Date_1819),1,0))+1)),ROW(A877)),IF(ISBLANK(Voucher_Date_1819),\"\",IF(ISNUMBER(Voucher_Date_1819),COUNTIF(Voucher_Date_1819,\"<\"&Voucher_Date_1819),COUNTIF(Voucher_Date_1819,\"<\"&Voucher_Date_1819)+SUM(IF(ISNUMBER(Voucher_Date_1819),1,0))+1)),0))","v":{"$error":"#NUM!"}}]
[{"$f":"INDEX(Voucher_Date_1819,MATCH(ROWS('Bill Register 20-21'!$L$3:'Bill Register 20-21'!L879),COUNTIF(Voucher_Date_1819,\"<=\"&Voucher_Date_1819),0))","v":{"$error":"#N/A"}},{"$f":"INDEX(Voucher_Date_1819,MATCH(SMALL(IF(ISBLANK(Voucher_Date_1819),\"\",IF(ISNUMBER(Voucher_Date_1819),COUNTIF(Voucher_Date_1819,\"<\"&Voucher_Date_1819),COUNTIF(Voucher_Date_1819,\"<\"&Voucher_Date_1819)+SUM(IF(ISNUMBER(Voucher_Date_1819),1,0))+1)),ROW(A878)),IF(ISBLANK(Voucher_Date_1819),\"\",IF(ISNUMBER(Voucher_Date_1819),COUNTIF(Voucher_Date_1819,\"<\"&Voucher_Date_1819),COUNTIF(Voucher_Date_1819,\"<\"&Voucher_Date_1819)+SUM(IF(ISNUMBER(Voucher_Date_1819),1,0))+1)),0))","v":{"$error":"#NUM!"}}]
[{"$f":"INDEX(Voucher_Date_1819,MATCH(ROWS('Bill Register 20-21'!$L$3:'Bill Register 20-21'!L880),COUNTIF(Voucher_Date_1819,\"<=\"&Voucher_Date_1819),0))","v":{"$error":"#N/A"}},{"$f":"INDEX(Voucher_Date_1819,MATCH(SMALL(IF(ISBLANK(Voucher_Date_1819),\"\",IF(ISNUMBER(Voucher_Date_1819),COUNTIF(Voucher_Date_1819,\"<\"&Voucher_Date_1819),COUNTIF(Voucher_Date_1819,\"<\"&Voucher_Date_1819)+SUM(IF(ISNUMBER(Voucher_Date_1819),1,0))+1)),ROW(A879)),IF(ISBLANK(Voucher_Date_1819),\"\",IF(ISNUMBER(Voucher_Date_1819),COUNTIF(Voucher_Date_1819,\"<\"&Voucher_Date_1819),COUNTIF(Voucher_Date_1819,\"<\"&Voucher_Date_1819)+SUM(IF(ISNUMBER(Voucher_Date_1819),1,0))+1)),0))","v":{"$error":"#NUM!"}}]
[{"$f":"INDEX(Voucher_Date_1819,MATCH(ROWS('Bill Register 20-21'!$L$3:'Bill Register 20-21'!L881),COUNTIF(Voucher_Date_1819,\"<=\"&Voucher_Date_1819),0))","v":{"$error":"#N/A"}},{"$f":"INDEX(Voucher_Date_1819,MATCH(SMALL(IF(ISBLANK(Voucher_Date_1819),\"\",IF(ISNUMBER(Voucher_Date_1819),COUNTIF(Voucher_Date_1819,\"<\"&Voucher_Date_1819),COUNTIF(Voucher_Date_1819,\"<\"&Voucher_Date_1819)+SUM(IF(ISNUMBER(Voucher_Date_1819),1,0))+1)),ROW(A880)),IF(ISBLANK(Voucher_Date_1819),\"\",IF(ISNUMBER(Voucher_Date_1819),COUNTIF(Voucher_Date_1819,\"<\"&Voucher_Date_1819),COUNTIF(Voucher_Date_1819,\"<\"&Voucher_Date_1819)+SUM(IF(ISNUMBER(Voucher_Date_1819),1,0))+1)),0))","v":{"$error":"#NUM!"}}]
[{"$f":"INDEX(Voucher_Date_1819,MATCH(ROWS('Bill Register 20-21'!$L$3:'Bill Register 20-21'!L882),COUNTIF(Voucher_Date_1819,\"<=\"&Voucher_Date_1819),0))","v":{"$error":"#N/A"}},{"$f":"INDEX(Voucher_Date_1819,MATCH(SMALL(IF(ISBLANK(Voucher_Date_1819),\"\",IF(ISNUMBER(Voucher_Date_1819),COUNTIF(Voucher_Date_1819,\"<\"&Voucher_Date_1819),COUNTIF(Voucher_Date_1819,\"<\"&Voucher_Date_1819)+SUM(IF(ISNUMBER(Voucher_Date_1819),1,0))+1)),ROW(A881)),IF(ISBLANK(Voucher_Date_1819),\"\",IF(ISNUMBER(Voucher_Date_1819),COUNTIF(Voucher_Date_1819,\"<\"&Voucher_Date_1819),COUNTIF(Voucher_Date_1819,\"<\"&Voucher_Date_1819)+SUM(IF(ISNUMBER(Voucher_Date_1819),1,0))+1)),0))","v":{"$error":"#NUM!"}}]
[{"$f":"INDEX(Voucher_Date_1819,MATCH(ROWS('Bill Register 20-21'!$L$3:'Bill Register 20-21'!L883),COUNTIF(Voucher_Date_1819,\"<=\"&Voucher_Date_1819),0))","v":{"$error":"#N/A"}},{"$f":"INDEX(Voucher_Date_1819,MATCH(SMALL(IF(ISBLANK(Voucher_Date_1819),\"\",IF(ISNUMBER(Voucher_Date_1819),COUNTIF(Voucher_Date_1819,\"<\"&Voucher_Date_1819),COUNTIF(Voucher_Date_1819,\"<\"&Voucher_Date_1819)+SUM(IF(ISNUMBER(Voucher_Date_1819),1,0))+1)),ROW(A882)),IF(ISBLANK(Voucher_Date_1819),\"\",IF(ISNUMBER(Voucher_Date_1819),COUNTIF(Voucher_Date_1819,\"<\"&Voucher_Date_1819),COUNTIF(Voucher_Date_1819,\"<\"&Voucher_Date_1819)+SUM(IF(ISNUMBER(Voucher_Date_1819),1,0))+1)),0))","v":{"$error":"#NUM!"}}]
[{"$f":"INDEX(Voucher_Date_1819,MATCH(ROWS('Bill Register 20-21'!$L$3:'Bill Register 20-21'!L884),COUNTIF(Voucher_Date_1819,\"<=\"&Voucher_Date_1819),0))","v":{"$error":"#N/A"}},{"$f":"INDEX(Voucher_Date_1819,MATCH(SMALL(IF(ISBLANK(Voucher_Date_1819),\"\",IF(ISNUMBER(Voucher_Date_1819),COUNTIF(Voucher_Date_1819,\"<\"&Voucher_Date_1819),COUNTIF(Voucher_Date_1819,\"<\"&Voucher_Date_1819)+SUM(IF(ISNUMBER(Voucher_Date_1819),1,0))+1)),ROW(A883)),IF(ISBLANK(Voucher_Date_1819),\"\",IF(ISNUMBER(Voucher_Date_1819),COUNTIF(Voucher_Date_1819,\"<\"&Voucher_Date_1819),COUNTIF(Voucher_Date_1819,\"<\"&Voucher_Date_1819)+SUM(IF(ISNUMBER(Voucher_Date_1819),1,0))+1)),0))","v":{"$error":"#NUM!"}}]
[{"$f":"INDEX(Voucher_Date_1819,MATCH(ROWS('Bill Register 20-21'!$L$3:'Bill Register 20-21'!L885),COUNTIF(Voucher_Date_1819,\"<=\"&Voucher_Date_1819),0))","v":{"$error":"#N/A"}},{"$f":"INDEX(Voucher_Date_1819,MATCH(SMALL(IF(ISBLANK(Voucher_Date_1819),\"\",IF(ISNUMBER(Voucher_Date_1819),COUNTIF(Voucher_Date_1819,\"<\"&Voucher_Date_1819),COUNTIF(Voucher_Date_1819,\"<\"&Voucher_Date_1819)+SUM(IF(ISNUMBER(Voucher_Date_1819),1,0))+1)),ROW(A884)),IF(ISBLANK(Voucher_Date_1819),\"\",IF(ISNUMBER(Voucher_Date_1819),COUNTIF(Voucher_Date_1819,\"<\"&Voucher_Date_1819),COUNTIF(Voucher_Date_1819,\"<\"&Voucher_Date_1819)+SUM(IF(ISNUMBER(Voucher_Date_1819),1,0))+1)),0))","v":{"$error":"#NUM!"}}]
[{"$f":"INDEX(Voucher_Date_1819,MATCH(ROWS('Bill Register 20-21'!$L$3:'Bill Register 20-21'!L886),COUNTIF(Voucher_Date_1819,\"<=\"&Voucher_Date_1819),0))","v":{"$error":"#N/A"}},{"$f":"INDEX(Voucher_Date_1819,MATCH(SMALL(IF(ISBLANK(Voucher_Date_1819),\"\",IF(ISNUMBER(Voucher_Date_1819),COUNTIF(Voucher_Date_1819,\"<\"&Voucher_Date_1819),COUNTIF(Voucher_Date_1819,\"<\"&Voucher_Date_1819)+SUM(IF(ISNUMBER(Voucher_Date_1819),1,0))+1)),ROW(A885)),IF(ISBLANK(Voucher_Date_1819),\"\",IF(ISNUMBER(Voucher_Date_1819),COUNTIF(Voucher_Date_1819,\"<\"&Voucher_Date_1819),COUNTIF(Voucher_Date_1819,\"<\"&Voucher_Date_1819)+SUM(IF(ISNUMBER(Voucher_Date_1819),1,0))+1)),0))","v":{"$error":"#NUM!"}}]
[{"$f":"INDEX(Voucher_Date_1819,MATCH(ROWS('Bill Register 20-21'!$L$3:'Bill Register 20-21'!L887),COUNTIF(Voucher_Date_1819,\"<=\"&Voucher_Date_1819),0))","v":{"$error":"#N/A"}},{"$f":"INDEX(Voucher_Date_1819,MATCH(SMALL(IF(ISBLANK(Voucher_Date_1819),\"\",IF(ISNUMBER(Voucher_Date_1819),COUNTIF(Voucher_Date_1819,\"<\"&Voucher_Date_1819),COUNTIF(Voucher_Date_1819,\"<\"&Voucher_Date_1819)+SUM(IF(ISNUMBER(Voucher_Date_1819),1,0))+1)),ROW(A886)),IF(ISBLANK(Voucher_Date_1819),\"\",IF(ISNUMBER(Voucher_Date_1819),COUNTIF(Voucher_Date_1819,\"<\"&Voucher_Date_1819),COUNTIF(Voucher_Date_1819,\"<\"&Voucher_Date_1819)+SUM(IF(ISNUMBER(Voucher_Date_1819),1,0))+1)),0))","v":{"$error":"#NUM!"}}]
[{"$f":"INDEX(Voucher_Date_1819,MATCH(ROWS('Bill Register 20-21'!$L$3:'Bill Register 20-21'!L888),COUNTIF(Voucher_Date_1819,\"<=\"&Voucher_Date_1819),0))","v":{"$error":"#N/A"}},{"$f":"INDEX(Voucher_Date_1819,MATCH(SMALL(IF(ISBLANK(Voucher_Date_1819),\"\",IF(ISNUMBER(Voucher_Date_1819),COUNTIF(Voucher_Date_1819,\"<\"&Voucher_Date_1819),COUNTIF(Voucher_Date_1819,\"<\"&Voucher_Date_1819)+SUM(IF(ISNUMBER(Voucher_Date_1819),1,0))+1)),ROW(A887)),IF(ISBLANK(Voucher_Date_1819),\"\",IF(ISNUMBER(Voucher_Date_1819),COUNTIF(Voucher_Date_1819,\"<\"&Voucher_Date_1819),COUNTIF(Voucher_Date_1819,\"<\"&Voucher_Date_1819)+SUM(IF(ISNUMBER(Voucher_Date_1819),1,0))+1)),0))","v":{"$error":"#NUM!"}}]
[{"$f":"INDEX(Voucher_Date_1819,MATCH(ROWS('Bill Register 20-21'!$L$3:'Bill Register 20-21'!L889),COUNTIF(Voucher_Date_1819,\"<=\"&Voucher_Date_1819),0))","v":{"$error":"#N/A"}},{"$f":"INDEX(Voucher_Date_1819,MATCH(SMALL(IF(ISBLANK(Voucher_Date_1819),\"\",IF(ISNUMBER(Voucher_Date_1819),COUNTIF(Voucher_Date_1819,\"<\"&Voucher_Date_1819),COUNTIF(Voucher_Date_1819,\"<\"&Voucher_Date_1819)+SUM(IF(ISNUMBER(Voucher_Date_1819),1,0))+1)),ROW(A888)),IF(ISBLANK(Voucher_Date_1819),\"\",IF(ISNUMBER(Voucher_Date_1819),COUNTIF(Voucher_Date_1819,\"<\"&Voucher_Date_1819),COUNTIF(Voucher_Date_1819,\"<\"&Voucher_Date_1819)+SUM(IF(ISNUMBER(Voucher_Date_1819),1,0))+1)),0))","v":{"$error":"#NUM!"}}]
[{"$f":"INDEX(Voucher_Date_1819,MATCH(ROWS('Bill Register 20-21'!$L$3:'Bill Register 20-21'!L890),COUNTIF(Voucher_Date_1819,\"<=\"&Voucher_Date_1819),0))","v":{"$error":"#N/A"}},{"$f":"INDEX(Voucher_Date_1819,MATCH(SMALL(IF(ISBLANK(Voucher_Date_1819),\"\",IF(ISNUMBER(Voucher_Date_1819),COUNTIF(Voucher_Date_1819,\"<\"&Voucher_Date_1819),COUNTIF(Voucher_Date_1819,\"<\"&Voucher_Date_1819)+SUM(IF(ISNUMBER(Voucher_Date_1819),1,0))+1)),ROW(A889)),IF(ISBLANK(Voucher_Date_1819),\"\",IF(ISNUMBER(Voucher_Date_1819),COUNTIF(Voucher_Date_1819,\"<\"&Voucher_Date_1819),COUNTIF(Voucher_Date_1819,\"<\"&Voucher_Date_1819)+SUM(IF(ISNUMBER(Voucher_Date_1819),1,0))+1)),0))","v":{"$error":"#NUM!"}}]
[{"$f":"INDEX(Voucher_Date_1819,MATCH(ROWS('Bill Register 20-21'!$L$3:'Bill Register 20-21'!L891),COUNTIF(Voucher_Date_1819,\"<=\"&Voucher_Date_1819),0))","v":{"$error":"#N/A"}},{"$f":"INDEX(Voucher_Date_1819,MATCH(SMALL(IF(ISBLANK(Voucher_Date_1819),\"\",IF(ISNUMBER(Voucher_Date_1819),COUNTIF(Voucher_Date_1819,\"<\"&Voucher_Date_1819),COUNTIF(Voucher_Date_1819,\"<\"&Voucher_Date_1819)+SUM(IF(ISNUMBER(Voucher_Date_1819),1,0))+1)),ROW(A890)),IF(ISBLANK(Voucher_Date_1819),\"\",IF(ISNUMBER(Voucher_Date_1819),COUNTIF(Voucher_Date_1819,\"<\"&Voucher_Date_1819),COUNTIF(Voucher_Date_1819,\"<\"&Voucher_Date_1819)+SUM(IF(ISNUMBER(Voucher_Date_1819),1,0))+1)),0))","v":{"$error":"#NUM!"}}]
[{"$f":"INDEX(Voucher_Date_1819,MATCH(ROWS('Bill Register 20-21'!$L$3:'Bill Register 20-21'!L892),COUNTIF(Voucher_Date_1819,\"<=\"&Voucher_Date_1819),0))","v":{"$error":"#N/A"}},{"$f":"INDEX(Voucher_Date_1819,MATCH(SMALL(IF(ISBLANK(Voucher_Date_1819),\"\",IF(ISNUMBER(Voucher_Date_1819),COUNTIF(Voucher_Date_1819,\"<\"&Voucher_Date_1819),COUNTIF(Voucher_Date_1819,\"<\"&Voucher_Date_1819)+SUM(IF(ISNUMBER(Voucher_Date_1819),1,0))+1)),ROW(A891)),IF(ISBLANK(Voucher_Date_1819),\"\",IF(ISNUMBER(Voucher_Date_1819),COUNTIF(Voucher_Date_1819,\"<\"&Voucher_Date_1819),COUNTIF(Voucher_Date_1819,\"<\"&Voucher_Date_1819)+SUM(IF(ISNUMBER(Voucher_Date_1819),1,0))+1)),0))","v":{"$error":"#NUM!"}}]
[{"$f":"INDEX(Voucher_Date_1819,MATCH(ROWS('Bill Register 20-21'!$L$3:'Bill Register 20-21'!L893),COUNTIF(Voucher_Date_1819,\"<=\"&Voucher_Date_1819),0))","v":{"$error":"#N/A"}},{"$f":"INDEX(Voucher_Date_1819,MATCH(SMALL(IF(ISBLANK(Voucher_Date_1819),\"\",IF(ISNUMBER(Voucher_Date_1819),COUNTIF(Voucher_Date_1819,\"<\"&Voucher_Date_1819),COUNTIF(Voucher_Date_1819,\"<\"&Voucher_Date_1819)+SUM(IF(ISNUMBER(Voucher_Date_1819),1,0))+1)),ROW(A892)),IF(ISBLANK(Voucher_Date_1819),\"\",IF(ISNUMBER(Voucher_Date_1819),COUNTIF(Voucher_Date_1819,\"<\"&Voucher_Date_1819),COUNTIF(Voucher_Date_1819,\"<\"&Voucher_Date_1819)+SUM(IF(ISNUMBER(Voucher_Date_1819),1,0))+1)),0))","v":{"$error":"#NUM!"}}]
[{"$f":"INDEX(Voucher_Date_1819,MATCH(ROWS('Bill Register 20-21'!$L$3:'Bill Register 20-21'!L894),COUNTIF(Voucher_Date_1819,\"<=\"&Voucher_Date_1819),0))","v":{"$error":"#N/A"}},{"$f":"INDEX(Voucher_Date_1819,MATCH(SMALL(IF(ISBLANK(Voucher_Date_1819),\"\",IF(ISNUMBER(Voucher_Date_1819),COUNTIF(Voucher_Date_1819,\"<\"&Voucher_Date_1819),COUNTIF(Voucher_Date_1819,\"<\"&Voucher_Date_1819)+SUM(IF(ISNUMBER(Voucher_Date_1819),1,0))+1)),ROW(A893)),IF(ISBLANK(Voucher_Date_1819),\"\",IF(ISNUMBER(Voucher_Date_1819),COUNTIF(Voucher_Date_1819,\"<\"&Voucher_Date_1819),COUNTIF(Voucher_Date_1819,\"<\"&Voucher_Date_1819)+SUM(IF(ISNUMBER(Voucher_Date_1819),1,0))+1)),0))","v":{"$error":"#NUM!"}}]
[{"$f":"INDEX(Voucher_Date_1819,MATCH(ROWS('Bill Register 20-21'!$L$3:'Bill Register 20-21'!L895),COUNTIF(Voucher_Date_1819,\"<=\"&Voucher_Date_1819),0))","v":{"$error":"#N/A"}},{"$f":"INDEX(Voucher_Date_1819,MATCH(SMALL(IF(ISBLANK(Voucher_Date_1819),\"\",IF(ISNUMBER(Voucher_Date_1819),COUNTIF(Voucher_Date_1819,\"<\"&Voucher_Date_1819),COUNTIF(Voucher_Date_1819,\"<\"&Voucher_Date_1819)+SUM(IF(ISNUMBER(Voucher_Date_1819),1,0))+1)),ROW(A894)),IF(ISBLANK(Voucher_Date_1819),\"\",IF(ISNUMBER(Voucher_Date_1819),COUNTIF(Voucher_Date_1819,\"<\"&Voucher_Date_1819),COUNTIF(Voucher_Date_1819,\"<\"&Voucher_Date_1819)+SUM(IF(ISNUMBER(Voucher_Date_1819),1,0))+1)),0))","v":{"$error":"#NUM!"}}]
[{"$f":"INDEX(Voucher_Date_1819,MATCH(ROWS('Bill Register 20-21'!$L$3:'Bill Register 20-21'!L896),COUNTIF(Voucher_Date_1819,\"<=\"&Voucher_Date_1819),0))","v":{"$error":"#N/A"}},{"$f":"INDEX(Voucher_Date_1819,MATCH(SMALL(IF(ISBLANK(Voucher_Date_1819),\"\",IF(ISNUMBER(Voucher_Date_1819),COUNTIF(Voucher_Date_1819,\"<\"&Voucher_Date_1819),COUNTIF(Voucher_Date_1819,\"<\"&Voucher_Date_1819)+SUM(IF(ISNUMBER(Voucher_Date_1819),1,0))+1)),ROW(A895)),IF(ISBLANK(Voucher_Date_1819),\"\",IF(ISNUMBER(Voucher_Date_1819),COUNTIF(Voucher_Date_1819,\"<\"&Voucher_Date_1819),COUNTIF(Voucher_Date_1819,\"<\"&Voucher_Date_1819)+SUM(IF(ISNUMBER(Voucher_Date_1819),1,0))+1)),0))","v":{"$error":"#NUM!"}}]
[{"$f":"INDEX(Voucher_Date_1819,MATCH(ROWS('Bill Register 20-21'!$L$3:'Bill Register 20-21'!L897),COUNTIF(Voucher_Date_1819,\"<=\"&Voucher_Date_1819),0))","v":{"$error":"#N/A"}},{"$f":"INDEX(Voucher_Date_1819,MATCH(SMALL(IF(ISBLANK(Voucher_Date_1819),\"\",IF(ISNUMBER(Voucher_Date_1819),COUNTIF(Voucher_Date_1819,\"<\"&Voucher_Date_1819),COUNTIF(Voucher_Date_1819,\"<\"&Voucher_Date_1819)+SUM(IF(ISNUMBER(Voucher_Date_1819),1,0))+1)),ROW(A896)),IF(ISBLANK(Voucher_Date_1819),\"\",IF(ISNUMBER(Voucher_Date_1819),COUNTIF(Voucher_Date_1819,\"<\"&Voucher_Date_1819),COUNTIF(Voucher_Date_1819,\"<\"&Voucher_Date_1819)+SUM(IF(ISNUMBER(Voucher_Date_1819),1,0))+1)),0))","v":{"$error":"#NUM!"}}]
[{"$f":"INDEX(Voucher_Date_1819,MATCH(ROWS('Bill Register 20-21'!$L$3:'Bill Register 20-21'!L898),COUNTIF(Voucher_Date_1819,\"<=\"&Voucher_Date_1819),0))","v":{"$error":"#N/A"}},{"$f":"INDEX(Voucher_Date_1819,MATCH(SMALL(IF(ISBLANK(Voucher_Date_1819),\"\",IF(ISNUMBER(Voucher_Date_1819),COUNTIF(Voucher_Date_1819,\"<\"&Voucher_Date_1819),COUNTIF(Voucher_Date_1819,\"<\"&Voucher_Date_1819)+SUM(IF(ISNUMBER(Voucher_Date_1819),1,0))+1)),ROW(A897)),IF(ISBLANK(Voucher_Date_1819),\"\",IF(ISNUMBER(Voucher_Date_1819),COUNTIF(Voucher_Date_1819,\"<\"&Voucher_Date_1819),COUNTIF(Voucher_Date_1819,\"<\"&Voucher_Date_1819)+SUM(IF(ISNUMBER(Voucher_Date_1819),1,0))+1)),0))","v":{"$error":"#NUM!"}}]
[{"$f":"INDEX(Voucher_Date_1819,MATCH(ROWS('Bill Register 20-21'!$L$3:'Bill Register 20-21'!L899),COUNTIF(Voucher_Date_1819,\"<=\"&Voucher_Date_1819),0))","v":{"$error":"#N/A"}},{"$f":"INDEX(Voucher_Date_1819,MATCH(SMALL(IF(ISBLANK(Voucher_Date_1819),\"\",IF(ISNUMBER(Voucher_Date_1819),COUNTIF(Voucher_Date_1819,\"<\"&Voucher_Date_1819),COUNTIF(Voucher_Date_1819,\"<\"&Voucher_Date_1819)+SUM(IF(ISNUMBER(Voucher_Date_1819),1,0))+1)),ROW(A898)),IF(ISBLANK(Voucher_Date_1819),\"\",IF(ISNUMBER(Voucher_Date_1819),COUNTIF(Voucher_Date_1819,\"<\"&Voucher_Date_1819),COUNTIF(Voucher_Date_1819,\"<\"&Voucher_Date_1819)+SUM(IF(ISNUMBER(Voucher_Date_1819),1,0))+1)),0))","v":{"$error":"#NUM!"}}]
[{"$f":"INDEX(Voucher_Date_1819,MATCH(ROWS('Bill Register 20-21'!$L$3:'Bill Register 20-21'!L900),COUNTIF(Voucher_Date_1819,\"<=\"&Voucher_Date_1819),0))","v":{"$error":"#N/A"}},{"$f":"INDEX(Voucher_Date_1819,MATCH(SMALL(IF(ISBLANK(Voucher_Date_1819),\"\",IF(ISNUMBER(Voucher_Date_1819),COUNTIF(Voucher_Date_1819,\"<\"&Voucher_Date_1819),COUNTIF(Voucher_Date_1819,\"<\"&Voucher_Date_1819)+SUM(IF(ISNUMBER(Voucher_Date_1819),1,0))+1)),ROW(A899)),IF(ISBLANK(Voucher_Date_1819),\"\",IF(ISNUMBER(Voucher_Date_1819),COUNTIF(Voucher_Date_1819,\"<\"&Voucher_Date_1819),COUNTIF(Voucher_Date_1819,\"<\"&Voucher_Date_1819)+SUM(IF(ISNUMBER(Voucher_Date_1819),1,0))+1)),0))","v":{"$error":"#NUM!"}}]
[{"$f":"INDEX(Voucher_Date_1819,MATCH(ROWS('Bill Register 20-21'!$L$3:'Bill Register 20-21'!L901),COUNTIF(Voucher_Date_1819,\"<=\"&Voucher_Date_1819),0))","v":{"$error":"#N/A"}},{"$f":"INDEX(Voucher_Date_1819,MATCH(SMALL(IF(ISBLANK(Voucher_Date_1819),\"\",IF(ISNUMBER(Voucher_Date_1819),COUNTIF(Voucher_Date_1819,\"<\"&Voucher_Date_1819),COUNTIF(Voucher_Date_1819,\"<\"&Voucher_Date_1819)+SUM(IF(ISNUMBER(Voucher_Date_1819),1,0))+1)),ROW(A900)),IF(ISBLANK(Voucher_Date_1819),\"\",IF(ISNUMBER(Voucher_Date_1819),COUNTIF(Voucher_Date_1819,\"<\"&Voucher_Date_1819),COUNTIF(Voucher_Date_1819,\"<\"&Voucher_Date_1819)+SUM(IF(ISNUMBER(Voucher_Date_1819),1,0))+1)),0))","v":{"$error":"#NUM!"}}]
[{"$f":"INDEX(Voucher_Date_1819,MATCH(ROWS('Bill Register 20-21'!$L$3:'Bill Register 20-21'!L902),COUNTIF(Voucher_Date_1819,\"<=\"&Voucher_Date_1819),0))","v":{"$error":"#N/A"}},{"$f":"INDEX(Voucher_Date_1819,MATCH(SMALL(IF(ISBLANK(Voucher_Date_1819),\"\",IF(ISNUMBER(Voucher_Date_1819),COUNTIF(Voucher_Date_1819,\"<\"&Voucher_Date_1819),COUNTIF(Voucher_Date_1819,\"<\"&Voucher_Date_1819)+SUM(IF(ISNUMBER(Voucher_Date_1819),1,0))+1)),ROW(A901)),IF(ISBLANK(Voucher_Date_1819),\"\",IF(ISNUMBER(Voucher_Date_1819),COUNTIF(Voucher_Date_1819,\"<\"&Voucher_Date_1819),COUNTIF(Voucher_Date_1819,\"<\"&Voucher_Date_1819)+SUM(IF(ISNUMBER(Voucher_Date_1819),1,0))+1)),0))","v":{"$error":"#NUM!"}}]
[{"$f":"INDEX(Voucher_Date_1819,MATCH(ROWS('Bill Register 20-21'!$L$3:'Bill Register 20-21'!L903),COUNTIF(Voucher_Date_1819,\"<=\"&Voucher_Date_1819),0))","v":{"$error":"#N/A"}},{"$f":"INDEX(Voucher_Date_1819,MATCH(SMALL(IF(ISBLANK(Voucher_Date_1819),\"\",IF(ISNUMBER(Voucher_Date_1819),COUNTIF(Voucher_Date_1819,\"<\"&Voucher_Date_1819),COUNTIF(Voucher_Date_1819,\"<\"&Voucher_Date_1819)+SUM(IF(ISNUMBER(Voucher_Date_1819),1,0))+1)),ROW(A902)),IF(ISBLANK(Voucher_Date_1819),\"\",IF(ISNUMBER(Voucher_Date_1819),COUNTIF(Voucher_Date_1819,\"<\"&Voucher_Date_1819),COUNTIF(Voucher_Date_1819,\"<\"&Voucher_Date_1819)+SUM(IF(ISNUMBER(Voucher_Date_1819),1,0))+1)),0))","v":{"$error":"#NUM!"}}]
[{"$f":"INDEX(Voucher_Date_1819,MATCH(ROWS('Bill Register 20-21'!$L$3:'Bill Register 20-21'!L904),COUNTIF(Voucher_Date_1819,\"<=\"&Voucher_Date_1819),0))","v":{"$error":"#N/A"}},{"$f":"INDEX(Voucher_Date_1819,MATCH(SMALL(IF(ISBLANK(Voucher_Date_1819),\"\",IF(ISNUMBER(Voucher_Date_1819),COUNTIF(Voucher_Date_1819,\"<\"&Voucher_Date_1819),COUNTIF(Voucher_Date_1819,\"<\"&Voucher_Date_1819)+SUM(IF(ISNUMBER(Voucher_Date_1819),1,0))+1)),ROW(A903)),IF(ISBLANK(Voucher_Date_1819),\"\",IF(ISNUMBER(Voucher_Date_1819),COUNTIF(Voucher_Date_1819,\"<\"&Voucher_Date_1819),COUNTIF(Voucher_Date_1819,\"<\"&Voucher_Date_1819)+SUM(IF(ISNUMBER(Voucher_Date_1819),1,0))+1)),0))","v":{"$error":"#NUM!"}}]
[{"$f":"INDEX(Voucher_Date_1819,MATCH(ROWS('Bill Register 20-21'!$L$3:'Bill Register 20-21'!L905),COUNTIF(Voucher_Date_1819,\"<=\"&Voucher_Date_1819),0))","v":{"$error":"#N/A"}},{"$f":"INDEX(Voucher_Date_1819,MATCH(SMALL(IF(ISBLANK(Voucher_Date_1819),\"\",IF(ISNUMBER(Voucher_Date_1819),COUNTIF(Voucher_Date_1819,\"<\"&Voucher_Date_1819),COUNTIF(Voucher_Date_1819,\"<\"&Voucher_Date_1819)+SUM(IF(ISNUMBER(Voucher_Date_1819),1,0))+1)),ROW(A904)),IF(ISBLANK(Voucher_Date_1819),\"\",IF(ISNUMBER(Voucher_Date_1819),COUNTIF(Voucher_Date_1819,\"<\"&Voucher_Date_1819),COUNTIF(Voucher_Date_1819,\"<\"&Voucher_Date_1819)+SUM(IF(ISNUMBER(Voucher_Date_1819),1,0))+1)),0))","v":{"$error":"#NUM!"}}]
[{"$f":"INDEX(Voucher_Date_1819,MATCH(ROWS('Bill Register 20-21'!$L$3:'Bill Register 20-21'!L906),COUNTIF(Voucher_Date_1819,\"<=\"&Voucher_Date_1819),0))","v":{"$error":"#N/A"}},{"$f":"INDEX(Voucher_Date_1819,MATCH(SMALL(IF(ISBLANK(Voucher_Date_1819),\"\",IF(ISNUMBER(Voucher_Date_1819),COUNTIF(Voucher_Date_1819,\"<\"&Voucher_Date_1819),COUNTIF(Voucher_Date_1819,\"<\"&Voucher_Date_1819)+SUM(IF(ISNUMBER(Voucher_Date_1819),1,0))+1)),ROW(A905)),IF(ISBLANK(Voucher_Date_1819),\"\",IF(ISNUMBER(Voucher_Date_1819),COUNTIF(Voucher_Date_1819,\"<\"&Voucher_Date_1819),COUNTIF(Voucher_Date_1819,\"<\"&Voucher_Date_1819)+SUM(IF(ISNUMBER(Voucher_Date_1819),1,0))+1)),0))","v":{"$error":"#NUM!"}}]
[{"$f":"INDEX(Voucher_Date_1819,MATCH(ROWS('Bill Register 20-21'!$L$3:'Bill Register 20-21'!L907),COUNTIF(Voucher_Date_1819,\"<=\"&Voucher_Date_1819),0))","v":{"$error":"#N/A"}},{"$f":"INDEX(Voucher_Date_1819,MATCH(SMALL(IF(ISBLANK(Voucher_Date_1819),\"\",IF(ISNUMBER(Voucher_Date_1819),COUNTIF(Voucher_Date_1819,\"<\"&Voucher_Date_1819),COUNTIF(Voucher_Date_1819,\"<\"&Voucher_Date_1819)+SUM(IF(ISNUMBER(Voucher_Date_1819),1,0))+1)),ROW(A906)),IF(ISBLANK(Voucher_Date_1819),\"\",IF(ISNUMBER(Voucher_Date_1819),COUNTIF(Voucher_Date_1819,\"<\"&Voucher_Date_1819),COUNTIF(Voucher_Date_1819,\"<\"&Voucher_Date_1819)+SUM(IF(ISNUMBER(Voucher_Date_1819),1,0))+1)),0))","v":{"$error":"#NUM!"}}]
[{"$f":"INDEX(Voucher_Date_1819,MATCH(ROWS('Bill Register 20-21'!$L$3:'Bill Register 20-21'!L908),COUNTIF(Voucher_Date_1819,\"<=\"&Voucher_Date_1819),0))","v":{"$error":"#N/A"}},{"$f":"INDEX(Voucher_Date_1819,MATCH(SMALL(IF(ISBLANK(Voucher_Date_1819),\"\",IF(ISNUMBER(Voucher_Date_1819),COUNTIF(Voucher_Date_1819,\"<\"&Voucher_Date_1819),COUNTIF(Voucher_Date_1819,\"<\"&Voucher_Date_1819)+SUM(IF(ISNUMBER(Voucher_Date_1819),1,0))+1)),ROW(A907)),IF(ISBLANK(Voucher_Date_1819),\"\",IF(ISNUMBER(Voucher_Date_1819),COUNTIF(Voucher_Date_1819,\"<\"&Voucher_Date_1819),COUNTIF(Voucher_Date_1819,\"<\"&Voucher_Date_1819)+SUM(IF(ISNUMBER(Voucher_Date_1819),1,0))+1)),0))","v":{"$error":"#NUM!"}}]
[{"$f":"INDEX(Voucher_Date_1819,MATCH(ROWS('Bill Register 20-21'!$L$3:'Bill Register 20-21'!L909),COUNTIF(Voucher_Date_1819,\"<=\"&Voucher_Date_1819),0))","v":{"$error":"#N/A"}},{"$f":"INDEX(Voucher_Date_1819,MATCH(SMALL(IF(ISBLANK(Voucher_Date_1819),\"\",IF(ISNUMBER(Voucher_Date_1819),COUNTIF(Voucher_Date_1819,\"<\"&Voucher_Date_1819),COUNTIF(Voucher_Date_1819,\"<\"&Voucher_Date_1819)+SUM(IF(ISNUMBER(Voucher_Date_1819),1,0))+1)),ROW(A908)),IF(ISBLANK(Voucher_Date_1819),\"\",IF(ISNUMBER(Voucher_Date_1819),COUNTIF(Voucher_Date_1819,\"<\"&Voucher_Date_1819),COUNTIF(Voucher_Date_1819,\"<\"&Voucher_Date_1819)+SUM(IF(ISNUMBER(Voucher_Date_1819),1,0))+1)),0))","v":{"$error":"#NUM!"}}]
[{"$f":"INDEX(Voucher_Date_1819,MATCH(ROWS('Bill Register 20-21'!$L$3:'Bill Register 20-21'!L910),COUNTIF(Voucher_Date_1819,\"<=\"&Voucher_Date_1819),0))","v":{"$error":"#N/A"}},{"$f":"INDEX(Voucher_Date_1819,MATCH(SMALL(IF(ISBLANK(Voucher_Date_1819),\"\",IF(ISNUMBER(Voucher_Date_1819),COUNTIF(Voucher_Date_1819,\"<\"&Voucher_Date_1819),COUNTIF(Voucher_Date_1819,\"<\"&Voucher_Date_1819)+SUM(IF(ISNUMBER(Voucher_Date_1819),1,0))+1)),ROW(A909)),IF(ISBLANK(Voucher_Date_1819),\"\",IF(ISNUMBER(Voucher_Date_1819),COUNTIF(Voucher_Date_1819,\"<\"&Voucher_Date_1819),COUNTIF(Voucher_Date_1819,\"<\"&Voucher_Date_1819)+SUM(IF(ISNUMBER(Voucher_Date_1819),1,0))+1)),0))","v":{"$error":"#NUM!"}}]
[{"$f":"INDEX(Voucher_Date_1819,MATCH(ROWS('Bill Register 20-21'!$L$3:'Bill Register 20-21'!L911),COUNTIF(Voucher_Date_1819,\"<=\"&Voucher_Date_1819),0))","v":{"$error":"#N/A"}},{"$f":"INDEX(Voucher_Date_1819,MATCH(SMALL(IF(ISBLANK(Voucher_Date_1819),\"\",IF(ISNUMBER(Voucher_Date_1819),COUNTIF(Voucher_Date_1819,\"<\"&Voucher_Date_1819),COUNTIF(Voucher_Date_1819,\"<\"&Voucher_Date_1819)+SUM(IF(ISNUMBER(Voucher_Date_1819),1,0))+1)),ROW(A910)),IF(ISBLANK(Voucher_Date_1819),\"\",IF(ISNUMBER(Voucher_Date_1819),COUNTIF(Voucher_Date_1819,\"<\"&Voucher_Date_1819),COUNTIF(Voucher_Date_1819,\"<\"&Voucher_Date_1819)+SUM(IF(ISNUMBER(Voucher_Date_1819),1,0))+1)),0))","v":{"$error":"#NUM!"}}]
[{"$f":"INDEX(Voucher_Date_1819,MATCH(ROWS('Bill Register 20-21'!$L$3:'Bill Register 20-21'!L912),COUNTIF(Voucher_Date_1819,\"<=\"&Voucher_Date_1819),0))","v":{"$error":"#N/A"}},{"$f":"INDEX(Voucher_Date_1819,MATCH(SMALL(IF(ISBLANK(Voucher_Date_1819),\"\",IF(ISNUMBER(Voucher_Date_1819),COUNTIF(Voucher_Date_1819,\"<\"&Voucher_Date_1819),COUNTIF(Voucher_Date_1819,\"<\"&Voucher_Date_1819)+SUM(IF(ISNUMBER(Voucher_Date_1819),1,0))+1)),ROW(A911)),IF(ISBLANK(Voucher_Date_1819),\"\",IF(ISNUMBER(Voucher_Date_1819),COUNTIF(Voucher_Date_1819,\"<\"&Voucher_Date_1819),COUNTIF(Voucher_Date_1819,\"<\"&Voucher_Date_1819)+SUM(IF(ISNUMBER(Voucher_Date_1819),1,0))+1)),0))","v":{"$error":"#NUM!"}}]
[{"$f":"INDEX(Voucher_Date_1819,MATCH(ROWS('Bill Register 20-21'!$L$3:'Bill Register 20-21'!L913),COUNTIF(Voucher_Date_1819,\"<=\"&Voucher_Date_1819),0))","v":{"$error":"#N/A"}},{"$f":"INDEX(Voucher_Date_1819,MATCH(SMALL(IF(ISBLANK(Voucher_Date_1819),\"\",IF(ISNUMBER(Voucher_Date_1819),COUNTIF(Voucher_Date_1819,\"<\"&Voucher_Date_1819),COUNTIF(Voucher_Date_1819,\"<\"&Voucher_Date_1819)+SUM(IF(ISNUMBER(Voucher_Date_1819),1,0))+1)),ROW(A912)),IF(ISBLANK(Voucher_Date_1819),\"\",IF(ISNUMBER(Voucher_Date_1819),COUNTIF(Voucher_Date_1819,\"<\"&Voucher_Date_1819),COUNTIF(Voucher_Date_1819,\"<\"&Voucher_Date_1819)+SUM(IF(ISNUMBER(Voucher_Date_1819),1,0))+1)),0))","v":{"$error":"#NUM!"}}]
[{"$f":"INDEX(Voucher_Date_1819,MATCH(ROWS('Bill Register 20-21'!$L$3:'Bill Register 20-21'!L914),COUNTIF(Voucher_Date_1819,\"<=\"&Voucher_Date_1819),0))","v":{"$error":"#N/A"}},{"$f":"INDEX(Voucher_Date_1819,MATCH(SMALL(IF(ISBLANK(Voucher_Date_1819),\"\",IF(ISNUMBER(Voucher_Date_1819),COUNTIF(Voucher_Date_1819,\"<\"&Voucher_Date_1819),COUNTIF(Voucher_Date_1819,\"<\"&Voucher_Date_1819)+SUM(IF(ISNUMBER(Voucher_Date_1819),1,0))+1)),ROW(A913)),IF(ISBLANK(Voucher_Date_1819),\"\",IF(ISNUMBER(Voucher_Date_1819),COUNTIF(Voucher_Date_1819,\"<\"&Voucher_Date_1819),COUNTIF(Voucher_Date_1819,\"<\"&Voucher_Date_1819)+SUM(IF(ISNUMBER(Voucher_Date_1819),1,0))+1)),0))","v":{"$error":"#NUM!"}}]
[{"$f":"INDEX(Voucher_Date_1819,MATCH(ROWS('Bill Register 20-21'!$L$3:'Bill Register 20-21'!L915),COUNTIF(Voucher_Date_1819,\"<=\"&Voucher_Date_1819),0))","v":{"$error":"#N/A"}},{"$f":"INDEX(Voucher_Date_1819,MATCH(SMALL(IF(ISBLANK(Voucher_Date_1819),\"\",IF(ISNUMBER(Voucher_Date_1819),COUNTIF(Voucher_Date_1819,\"<\"&Voucher_Date_1819),COUNTIF(Voucher_Date_1819,\"<\"&Voucher_Date_1819)+SUM(IF(ISNUMBER(Voucher_Date_1819),1,0))+1)),ROW(A914)),IF(ISBLANK(Voucher_Date_1819),\"\",IF(ISNUMBER(Voucher_Date_1819),COUNTIF(Voucher_Date_1819,\"<\"&Voucher_Date_1819),COUNTIF(Voucher_Date_1819,\"<\"&Voucher_Date_1819)+SUM(IF(ISNUMBER(Voucher_Date_1819),1,0))+1)),0))","v":{"$error":"#NUM!"}}]
[{"$f":"INDEX(Voucher_Date_1819,MATCH(ROWS('Bill Register 20-21'!$L$3:'Bill Register 20-21'!L916),COUNTIF(Voucher_Date_1819,\"<=\"&Voucher_Date_1819),0))","v":{"$error":"#N/A"}},{"$f":"INDEX(Voucher_Date_1819,MATCH(SMALL(IF(ISBLANK(Voucher_Date_1819),\"\",IF(ISNUMBER(Voucher_Date_1819),COUNTIF(Voucher_Date_1819,\"<\"&Voucher_Date_1819),COUNTIF(Voucher_Date_1819,\"<\"&Voucher_Date_1819)+SUM(IF(ISNUMBER(Voucher_Date_1819),1,0))+1)),ROW(A915)),IF(ISBLANK(Voucher_Date_1819),\"\",IF(ISNUMBER(Voucher_Date_1819),COUNTIF(Voucher_Date_1819,\"<\"&Voucher_Date_1819),COUNTIF(Voucher_Date_1819,\"<\"&Voucher_Date_1819)+SUM(IF(ISNUMBER(Voucher_Date_1819),1,0))+1)),0))","v":{"$error":"#NUM!"}}]
[{"$f":"INDEX(Voucher_Date_1819,MATCH(ROWS('Bill Register 20-21'!$L$3:'Bill Register 20-21'!L917),COUNTIF(Voucher_Date_1819,\"<=\"&Voucher_Date_1819),0))","v":{"$error":"#N/A"}},{"$f":"INDEX(Voucher_Date_1819,MATCH(SMALL(IF(ISBLANK(Voucher_Date_1819),\"\",IF(ISNUMBER(Voucher_Date_1819),COUNTIF(Voucher_Date_1819,\"<\"&Voucher_Date_1819),COUNTIF(Voucher_Date_1819,\"<\"&Voucher_Date_1819)+SUM(IF(ISNUMBER(Voucher_Date_1819),1,0))+1)),ROW(A916)),IF(ISBLANK(Voucher_Date_1819),\"\",IF(ISNUMBER(Voucher_Date_1819),COUNTIF(Voucher_Date_1819,\"<\"&Voucher_Date_1819),COUNTIF(Voucher_Date_1819,\"<\"&Voucher_Date_1819)+SUM(IF(ISNUMBER(Voucher_Date_1819),1,0))+1)),0))","v":{"$error":"#NUM!"}}]
[{"$f":"INDEX(Voucher_Date_1819,MATCH(ROWS('Bill Register 20-21'!$L$3:'Bill Register 20-21'!L918),COUNTIF(Voucher_Date_1819,\"<=\"&Voucher_Date_1819),0))","v":{"$error":"#N/A"}},{"$f":"INDEX(Voucher_Date_1819,MATCH(SMALL(IF(ISBLANK(Voucher_Date_1819),\"\",IF(ISNUMBER(Voucher_Date_1819),COUNTIF(Voucher_Date_1819,\"<\"&Voucher_Date_1819),COUNTIF(Voucher_Date_1819,\"<\"&Voucher_Date_1819)+SUM(IF(ISNUMBER(Voucher_Date_1819),1,0))+1)),ROW(A917)),IF(ISBLANK(Voucher_Date_1819),\"\",IF(ISNUMBER(Voucher_Date_1819),COUNTIF(Voucher_Date_1819,\"<\"&Voucher_Date_1819),COUNTIF(Voucher_Date_1819,\"<\"&Voucher_Date_1819)+SUM(IF(ISNUMBER(Voucher_Date_1819),1,0))+1)),0))","v":{"$error":"#NUM!"}}]
[{"$f":"INDEX(Voucher_Date_1819,MATCH(ROWS('Bill Register 20-21'!$L$3:'Bill Register 20-21'!L919),COUNTIF(Voucher_Date_1819,\"<=\"&Voucher_Date_1819),0))","v":{"$error":"#N/A"}},{"$f":"INDEX(Voucher_Date_1819,MATCH(SMALL(IF(ISBLANK(Voucher_Date_1819),\"\",IF(ISNUMBER(Voucher_Date_1819),COUNTIF(Voucher_Date_1819,\"<\"&Voucher_Date_1819),COUNTIF(Voucher_Date_1819,\"<\"&Voucher_Date_1819)+SUM(IF(ISNUMBER(Voucher_Date_1819),1,0))+1)),ROW(A918)),IF(ISBLANK(Voucher_Date_1819),\"\",IF(ISNUMBER(Voucher_Date_1819),COUNTIF(Voucher_Date_1819,\"<\"&Voucher_Date_1819),COUNTIF(Voucher_Date_1819,\"<\"&Voucher_Date_1819)+SUM(IF(ISNUMBER(Voucher_Date_1819),1,0))+1)),0))","v":{"$error":"#NUM!"}}]
[{"$f":"INDEX(Voucher_Date_1819,MATCH(ROWS('Bill Register 20-21'!$L$3:'Bill Register 20-21'!L920),COUNTIF(Voucher_Date_1819,\"<=\"&Voucher_Date_1819),0))","v":{"$error":"#N/A"}},{"$f":"INDEX(Voucher_Date_1819,MATCH(SMALL(IF(ISBLANK(Voucher_Date_1819),\"\",IF(ISNUMBER(Voucher_Date_1819),COUNTIF(Voucher_Date_1819,\"<\"&Voucher_Date_1819),COUNTIF(Voucher_Date_1819,\"<\"&Voucher_Date_1819)+SUM(IF(ISNUMBER(Voucher_Date_1819),1,0))+1)),ROW(A919)),IF(ISBLANK(Voucher_Date_1819),\"\",IF(ISNUMBER(Voucher_Date_1819),COUNTIF(Voucher_Date_1819,\"<\"&Voucher_Date_1819),COUNTIF(Voucher_Date_1819,\"<\"&Voucher_Date_1819)+SUM(IF(ISNUMBER(Voucher_Date_1819),1,0))+1)),0))","v":{"$error":"#NUM!"}}]
[{"$f":"INDEX(Voucher_Date_1819,MATCH(ROWS('Bill Register 20-21'!$L$3:'Bill Register 20-21'!L921),COUNTIF(Voucher_Date_1819,\"<=\"&Voucher_Date_1819),0))","v":{"$error":"#N/A"}},{"$f":"INDEX(Voucher_Date_1819,MATCH(SMALL(IF(ISBLANK(Voucher_Date_1819),\"\",IF(ISNUMBER(Voucher_Date_1819),COUNTIF(Voucher_Date_1819,\"<\"&Voucher_Date_1819),COUNTIF(Voucher_Date_1819,\"<\"&Voucher_Date_1819)+SUM(IF(ISNUMBER(Voucher_Date_1819),1,0))+1)),ROW(A920)),IF(ISBLANK(Voucher_Date_1819),\"\",IF(ISNUMBER(Voucher_Date_1819),COUNTIF(Voucher_Date_1819,\"<\"&Voucher_Date_1819),COUNTIF(Voucher_Date_1819,\"<\"&Voucher_Date_1819)+SUM(IF(ISNUMBER(Voucher_Date_1819),1,0))+1)),0))","v":{"$error":"#NUM!"}}]
[{"$f":"INDEX(Voucher_Date_1819,MATCH(ROWS('Bill Register 20-21'!$L$3:'Bill Register 20-21'!L922),COUNTIF(Voucher_Date_1819,\"<=\"&Voucher_Date_1819),0))","v":{"$error":"#N/A"}},{"$f":"INDEX(Voucher_Date_1819,MATCH(SMALL(IF(ISBLANK(Voucher_Date_1819),\"\",IF(ISNUMBER(Voucher_Date_1819),COUNTIF(Voucher_Date_1819,\"<\"&Voucher_Date_1819),COUNTIF(Voucher_Date_1819,\"<\"&Voucher_Date_1819)+SUM(IF(ISNUMBER(Voucher_Date_1819),1,0))+1)),ROW(A921)),IF(ISBLANK(Voucher_Date_1819),\"\",IF(ISNUMBER(Voucher_Date_1819),COUNTIF(Voucher_Date_1819,\"<\"&Voucher_Date_1819),COUNTIF(Voucher_Date_1819,\"<\"&Voucher_Date_1819)+SUM(IF(ISNUMBER(Voucher_Date_1819),1,0))+1)),0))","v":{"$error":"#NUM!"}}]
[{"$f":"INDEX(Voucher_Date_1819,MATCH(ROWS('Bill Register 20-21'!$L$3:'Bill Register 20-21'!L923),COUNTIF(Voucher_Date_1819,\"<=\"&Voucher_Date_1819),0))","v":{"$error":"#N/A"}},{"$f":"INDEX(Voucher_Date_1819,MATCH(SMALL(IF(ISBLANK(Voucher_Date_1819),\"\",IF(ISNUMBER(Voucher_Date_1819),COUNTIF(Voucher_Date_1819,\"<\"&Voucher_Date_1819),COUNTIF(Voucher_Date_1819,\"<\"&Voucher_Date_1819)+SUM(IF(ISNUMBER(Voucher_Date_1819),1,0))+1)),ROW(A922)),IF(ISBLANK(Voucher_Date_1819),\"\",IF(ISNUMBER(Voucher_Date_1819),COUNTIF(Voucher_Date_1819,\"<\"&Voucher_Date_1819),COUNTIF(Voucher_Date_1819,\"<\"&Voucher_Date_1819)+SUM(IF(ISNUMBER(Voucher_Date_1819),1,0))+1)),0))","v":{"$error":"#NUM!"}}]
[{"$f":"INDEX(Voucher_Date_1819,MATCH(ROWS('Bill Register 20-21'!$L$3:'Bill Register 20-21'!L924),COUNTIF(Voucher_Date_1819,\"<=\"&Voucher_Date_1819),0))","v":{"$error":"#N/A"}},{"$f":"INDEX(Voucher_Date_1819,MATCH(SMALL(IF(ISBLANK(Voucher_Date_1819),\"\",IF(ISNUMBER(Voucher_Date_1819),COUNTIF(Voucher_Date_1819,\"<\"&Voucher_Date_1819),COUNTIF(Voucher_Date_1819,\"<\"&Voucher_Date_1819)+SUM(IF(ISNUMBER(Voucher_Date_1819),1,0))+1)),ROW(A923)),IF(ISBLANK(Voucher_Date_1819),\"\",IF(ISNUMBER(Voucher_Date_1819),COUNTIF(Voucher_Date_1819,\"<\"&Voucher_Date_1819),COUNTIF(Voucher_Date_1819,\"<\"&Voucher_Date_1819)+SUM(IF(ISNUMBER(Voucher_Date_1819),1,0))+1)),0))","v":{"$error":"#NUM!"}}]
[{"$f":"INDEX(Voucher_Date_1819,MATCH(ROWS('Bill Register 20-21'!$L$3:'Bill Register 20-21'!L925),COUNTIF(Voucher_Date_1819,\"<=\"&Voucher_Date_1819),0))","v":{"$error":"#N/A"}},{"$f":"INDEX(Voucher_Date_1819,MATCH(SMALL(IF(ISBLANK(Voucher_Date_1819),\"\",IF(ISNUMBER(Voucher_Date_1819),COUNTIF(Voucher_Date_1819,\"<\"&Voucher_Date_1819),COUNTIF(Voucher_Date_1819,\"<\"&Voucher_Date_1819)+SUM(IF(ISNUMBER(Voucher_Date_1819),1,0))+1)),ROW(A924)),IF(ISBLANK(Voucher_Date_1819),\"\",IF(ISNUMBER(Voucher_Date_1819),COUNTIF(Voucher_Date_1819,\"<\"&Voucher_Date_1819),COUNTIF(Voucher_Date_1819,\"<\"&Voucher_Date_1819)+SUM(IF(ISNUMBER(Voucher_Date_1819),1,0))+1)),0))","v":{"$error":"#NUM!"}}]
[{"$f":"INDEX(Voucher_Date_1819,MATCH(ROWS('Bill Register 20-21'!$L$3:'Bill Register 20-21'!L926),COUNTIF(Voucher_Date_1819,\"<=\"&Voucher_Date_1819),0))","v":{"$error":"#N/A"}},{"$f":"INDEX(Voucher_Date_1819,MATCH(SMALL(IF(ISBLANK(Voucher_Date_1819),\"\",IF(ISNUMBER(Voucher_Date_1819),COUNTIF(Voucher_Date_1819,\"<\"&Voucher_Date_1819),COUNTIF(Voucher_Date_1819,\"<\"&Voucher_Date_1819)+SUM(IF(ISNUMBER(Voucher_Date_1819),1,0))+1)),ROW(A925)),IF(ISBLANK(Voucher_Date_1819),\"\",IF(ISNUMBER(Voucher_Date_1819),COUNTIF(Voucher_Date_1819,\"<\"&Voucher_Date_1819),COUNTIF(Voucher_Date_1819,\"<\"&Voucher_Date_1819)+SUM(IF(ISNUMBER(Voucher_Date_1819),1,0))+1)),0))","v":{"$error":"#NUM!"}}]
[{"$f":"INDEX(Voucher_Date_1819,MATCH(ROWS('Bill Register 20-21'!$L$3:'Bill Register 20-21'!L927),COUNTIF(Voucher_Date_1819,\"<=\"&Voucher_Date_1819),0))","v":{"$error":"#N/A"}},{"$f":"INDEX(Voucher_Date_1819,MATCH(SMALL(IF(ISBLANK(Voucher_Date_1819),\"\",IF(ISNUMBER(Voucher_Date_1819),COUNTIF(Voucher_Date_1819,\"<\"&Voucher_Date_1819),COUNTIF(Voucher_Date_1819,\"<\"&Voucher_Date_1819)+SUM(IF(ISNUMBER(Voucher_Date_1819),1,0))+1)),ROW(A926)),IF(ISBLANK(Voucher_Date_1819),\"\",IF(ISNUMBER(Voucher_Date_1819),COUNTIF(Voucher_Date_1819,\"<\"&Voucher_Date_1819),COUNTIF(Voucher_Date_1819,\"<\"&Voucher_Date_1819)+SUM(IF(ISNUMBER(Voucher_Date_1819),1,0))+1)),0))","v":{"$error":"#NUM!"}}]
[{"$f":"INDEX(Voucher_Date_1819,MATCH(ROWS('Bill Register 20-21'!$L$3:'Bill Register 20-21'!L928),COUNTIF(Voucher_Date_1819,\"<=\"&Voucher_Date_1819),0))","v":{"$error":"#N/A"}},{"$f":"INDEX(Voucher_Date_1819,MATCH(SMALL(IF(ISBLANK(Voucher_Date_1819),\"\",IF(ISNUMBER(Voucher_Date_1819),COUNTIF(Voucher_Date_1819,\"<\"&Voucher_Date_1819),COUNTIF(Voucher_Date_1819,\"<\"&Voucher_Date_1819)+SUM(IF(ISNUMBER(Voucher_Date_1819),1,0))+1)),ROW(A927)),IF(ISBLANK(Voucher_Date_1819),\"\",IF(ISNUMBER(Voucher_Date_1819),COUNTIF(Voucher_Date_1819,\"<\"&Voucher_Date_1819),COUNTIF(Voucher_Date_1819,\"<\"&Voucher_Date_1819)+SUM(IF(ISNUMBER(Voucher_Date_1819),1,0))+1)),0))","v":{"$error":"#NUM!"}}]
[{"$f":"INDEX(Voucher_Date_1819,MATCH(ROWS('Bill Register 20-21'!$L$3:'Bill Register 20-21'!L929),COUNTIF(Voucher_Date_1819,\"<=\"&Voucher_Date_1819),0))","v":{"$error":"#N/A"}},{"$f":"INDEX(Voucher_Date_1819,MATCH(SMALL(IF(ISBLANK(Voucher_Date_1819),\"\",IF(ISNUMBER(Voucher_Date_1819),COUNTIF(Voucher_Date_1819,\"<\"&Voucher_Date_1819),COUNTIF(Voucher_Date_1819,\"<\"&Voucher_Date_1819)+SUM(IF(ISNUMBER(Voucher_Date_1819),1,0))+1)),ROW(A928)),IF(ISBLANK(Voucher_Date_1819),\"\",IF(ISNUMBER(Voucher_Date_1819),COUNTIF(Voucher_Date_1819,\"<\"&Voucher_Date_1819),COUNTIF(Voucher_Date_1819,\"<\"&Voucher_Date_1819)+SUM(IF(ISNUMBER(Voucher_Date_1819),1,0))+1)),0))","v":{"$error":"#NUM!"}}]
[{"$f":"INDEX(Voucher_Date_1819,MATCH(ROWS('Bill Register 20-21'!$L$3:'Bill Register 20-21'!L930),COUNTIF(Voucher_Date_1819,\"<=\"&Voucher_Date_1819),0))","v":{"$error":"#N/A"}},{"$f":"INDEX(Voucher_Date_1819,MATCH(SMALL(IF(ISBLANK(Voucher_Date_1819),\"\",IF(ISNUMBER(Voucher_Date_1819),COUNTIF(Voucher_Date_1819,\"<\"&Voucher_Date_1819),COUNTIF(Voucher_Date_1819,\"<\"&Voucher_Date_1819)+SUM(IF(ISNUMBER(Voucher_Date_1819),1,0))+1)),ROW(A929)),IF(ISBLANK(Voucher_Date_1819),\"\",IF(ISNUMBER(Voucher_Date_1819),COUNTIF(Voucher_Date_1819,\"<\"&Voucher_Date_1819),COUNTIF(Voucher_Date_1819,\"<\"&Voucher_Date_1819)+SUM(IF(ISNUMBER(Voucher_Date_1819),1,0))+1)),0))","v":{"$error":"#NUM!"}}]
[{"$f":"INDEX(Voucher_Date_1819,MATCH(ROWS('Bill Register 20-21'!$L$3:'Bill Register 20-21'!L931),COUNTIF(Voucher_Date_1819,\"<=\"&Voucher_Date_1819),0))","v":{"$error":"#N/A"}},{"$f":"INDEX(Voucher_Date_1819,MATCH(SMALL(IF(ISBLANK(Voucher_Date_1819),\"\",IF(ISNUMBER(Voucher_Date_1819),COUNTIF(Voucher_Date_1819,\"<\"&Voucher_Date_1819),COUNTIF(Voucher_Date_1819,\"<\"&Voucher_Date_1819)+SUM(IF(ISNUMBER(Voucher_Date_1819),1,0))+1)),ROW(A930)),IF(ISBLANK(Voucher_Date_1819),\"\",IF(ISNUMBER(Voucher_Date_1819),COUNTIF(Voucher_Date_1819,\"<\"&Voucher_Date_1819),COUNTIF(Voucher_Date_1819,\"<\"&Voucher_Date_1819)+SUM(IF(ISNUMBER(Voucher_Date_1819),1,0))+1)),0))","v":{"$error":"#NUM!"}}]
[{"$f":"INDEX(Voucher_Date_1819,MATCH(ROWS('Bill Register 20-21'!$L$3:'Bill Register 20-21'!L932),COUNTIF(Voucher_Date_1819,\"<=\"&Voucher_Date_1819),0))","v":{"$error":"#N/A"}},{"$f":"INDEX(Voucher_Date_1819,MATCH(SMALL(IF(ISBLANK(Voucher_Date_1819),\"\",IF(ISNUMBER(Voucher_Date_1819),COUNTIF(Voucher_Date_1819,\"<\"&Voucher_Date_1819),COUNTIF(Voucher_Date_1819,\"<\"&Voucher_Date_1819)+SUM(IF(ISNUMBER(Voucher_Date_1819),1,0))+1)),ROW(A931)),IF(ISBLANK(Voucher_Date_1819),\"\",IF(ISNUMBER(Voucher_Date_1819),COUNTIF(Voucher_Date_1819,\"<\"&Voucher_Date_1819),COUNTIF(Voucher_Date_1819,\"<\"&Voucher_Date_1819)+SUM(IF(ISNUMBER(Voucher_Date_1819),1,0))+1)),0))","v":{"$error":"#NUM!"}}]
[{"$f":"INDEX(Voucher_Date_1819,MATCH(ROWS('Bill Register 20-21'!$L$3:'Bill Register 20-21'!L933),COUNTIF(Voucher_Date_1819,\"<=\"&Voucher_Date_1819),0))","v":{"$error":"#N/A"}},{"$f":"INDEX(Voucher_Date_1819,MATCH(SMALL(IF(ISBLANK(Voucher_Date_1819),\"\",IF(ISNUMBER(Voucher_Date_1819),COUNTIF(Voucher_Date_1819,\"<\"&Voucher_Date_1819),COUNTIF(Voucher_Date_1819,\"<\"&Voucher_Date_1819)+SUM(IF(ISNUMBER(Voucher_Date_1819),1,0))+1)),ROW(A932)),IF(ISBLANK(Voucher_Date_1819),\"\",IF(ISNUMBER(Voucher_Date_1819),COUNTIF(Voucher_Date_1819,\"<\"&Voucher_Date_1819),COUNTIF(Voucher_Date_1819,\"<\"&Voucher_Date_1819)+SUM(IF(ISNUMBER(Voucher_Date_1819),1,0))+1)),0))","v":{"$error":"#NUM!"}}]
[{"$f":"INDEX(Voucher_Date_1819,MATCH(ROWS('Bill Register 20-21'!$L$3:'Bill Register 20-21'!L934),COUNTIF(Voucher_Date_1819,\"<=\"&Voucher_Date_1819),0))","v":{"$error":"#N/A"}},{"$f":"INDEX(Voucher_Date_1819,MATCH(SMALL(IF(ISBLANK(Voucher_Date_1819),\"\",IF(ISNUMBER(Voucher_Date_1819),COUNTIF(Voucher_Date_1819,\"<\"&Voucher_Date_1819),COUNTIF(Voucher_Date_1819,\"<\"&Voucher_Date_1819)+SUM(IF(ISNUMBER(Voucher_Date_1819),1,0))+1)),ROW(A933)),IF(ISBLANK(Voucher_Date_1819),\"\",IF(ISNUMBER(Voucher_Date_1819),COUNTIF(Voucher_Date_1819,\"<\"&Voucher_Date_1819),COUNTIF(Voucher_Date_1819,\"<\"&Voucher_Date_1819)+SUM(IF(ISNUMBER(Voucher_Date_1819),1,0))+1)),0))","v":{"$error":"#NUM!"}}]
[{"$f":"INDEX(Voucher_Date_1819,MATCH(ROWS('Bill Register 20-21'!$L$3:'Bill Register 20-21'!L935),COUNTIF(Voucher_Date_1819,\"<=\"&Voucher_Date_1819),0))","v":{"$error":"#N/A"}},{"$f":"INDEX(Voucher_Date_1819,MATCH(SMALL(IF(ISBLANK(Voucher_Date_1819),\"\",IF(ISNUMBER(Voucher_Date_1819),COUNTIF(Voucher_Date_1819,\"<\"&Voucher_Date_1819),COUNTIF(Voucher_Date_1819,\"<\"&Voucher_Date_1819)+SUM(IF(ISNUMBER(Voucher_Date_1819),1,0))+1)),ROW(A934)),IF(ISBLANK(Voucher_Date_1819),\"\",IF(ISNUMBER(Voucher_Date_1819),COUNTIF(Voucher_Date_1819,\"<\"&Voucher_Date_1819),COUNTIF(Voucher_Date_1819,\"<\"&Voucher_Date_1819)+SUM(IF(ISNUMBER(Voucher_Date_1819),1,0))+1)),0))","v":{"$error":"#NUM!"}}]
[{"$f":"INDEX(Voucher_Date_1819,MATCH(ROWS('Bill Register 20-21'!$L$3:'Bill Register 20-21'!L936),COUNTIF(Voucher_Date_1819,\"<=\"&Voucher_Date_1819),0))","v":{"$error":"#N/A"}},{"$f":"INDEX(Voucher_Date_1819,MATCH(SMALL(IF(ISBLANK(Voucher_Date_1819),\"\",IF(ISNUMBER(Voucher_Date_1819),COUNTIF(Voucher_Date_1819,\"<\"&Voucher_Date_1819),COUNTIF(Voucher_Date_1819,\"<\"&Voucher_Date_1819)+SUM(IF(ISNUMBER(Voucher_Date_1819),1,0))+1)),ROW(A935)),IF(ISBLANK(Voucher_Date_1819),\"\",IF(ISNUMBER(Voucher_Date_1819),COUNTIF(Voucher_Date_1819,\"<\"&Voucher_Date_1819),COUNTIF(Voucher_Date_1819,\"<\"&Voucher_Date_1819)+SUM(IF(ISNUMBER(Voucher_Date_1819),1,0))+1)),0))","v":{"$error":"#NUM!"}}]
[{"$f":"INDEX(Voucher_Date_1819,MATCH(ROWS('Bill Register 20-21'!$L$3:'Bill Register 20-21'!L937),COUNTIF(Voucher_Date_1819,\"<=\"&Voucher_Date_1819),0))","v":{"$error":"#N/A"}},{"$f":"INDEX(Voucher_Date_1819,MATCH(SMALL(IF(ISBLANK(Voucher_Date_1819),\"\",IF(ISNUMBER(Voucher_Date_1819),COUNTIF(Voucher_Date_1819,\"<\"&Voucher_Date_1819),COUNTIF(Voucher_Date_1819,\"<\"&Voucher_Date_1819)+SUM(IF(ISNUMBER(Voucher_Date_1819),1,0))+1)),ROW(A936)),IF(ISBLANK(Voucher_Date_1819),\"\",IF(ISNUMBER(Voucher_Date_1819),COUNTIF(Voucher_Date_1819,\"<\"&Voucher_Date_1819),COUNTIF(Voucher_Date_1819,\"<\"&Voucher_Date_1819)+SUM(IF(ISNUMBER(Voucher_Date_1819),1,0))+1)),0))","v":{"$error":"#NUM!"}}]
[{"$f":"INDEX(Voucher_Date_1819,MATCH(ROWS('Bill Register 20-21'!$L$3:'Bill Register 20-21'!L938),COUNTIF(Voucher_Date_1819,\"<=\"&Voucher_Date_1819),0))","v":{"$error":"#N/A"}},{"$f":"INDEX(Voucher_Date_1819,MATCH(SMALL(IF(ISBLANK(Voucher_Date_1819),\"\",IF(ISNUMBER(Voucher_Date_1819),COUNTIF(Voucher_Date_1819,\"<\"&Voucher_Date_1819),COUNTIF(Voucher_Date_1819,\"<\"&Voucher_Date_1819)+SUM(IF(ISNUMBER(Voucher_Date_1819),1,0))+1)),ROW(A937)),IF(ISBLANK(Voucher_Date_1819),\"\",IF(ISNUMBER(Voucher_Date_1819),COUNTIF(Voucher_Date_1819,\"<\"&Voucher_Date_1819),COUNTIF(Voucher_Date_1819,\"<\"&Voucher_Date_1819)+SUM(IF(ISNUMBER(Voucher_Date_1819),1,0))+1)),0))","v":{"$error":"#NUM!"}}]
[{"$f":"INDEX(Voucher_Date_1819,MATCH(ROWS('Bill Register 20-21'!$L$3:'Bill Register 20-21'!L939),COUNTIF(Voucher_Date_1819,\"<=\"&Voucher_Date_1819),0))","v":{"$error":"#N/A"}},{"$f":"INDEX(Voucher_Date_1819,MATCH(SMALL(IF(ISBLANK(Voucher_Date_1819),\"\",IF(ISNUMBER(Voucher_Date_1819),COUNTIF(Voucher_Date_1819,\"<\"&Voucher_Date_1819),COUNTIF(Voucher_Date_1819,\"<\"&Voucher_Date_1819)+SUM(IF(ISNUMBER(Voucher_Date_1819),1,0))+1)),ROW(A938)),IF(ISBLANK(Voucher_Date_1819),\"\",IF(ISNUMBER(Voucher_Date_1819),COUNTIF(Voucher_Date_1819,\"<\"&Voucher_Date_1819),COUNTIF(Voucher_Date_1819,\"<\"&Voucher_Date_1819)+SUM(IF(ISNUMBER(Voucher_Date_1819),1,0))+1)),0))","v":{"$error":"#NUM!"}}]
[{"$f":"INDEX(Voucher_Date_1819,MATCH(ROWS('Bill Register 20-21'!$L$3:'Bill Register 20-21'!L940),COUNTIF(Voucher_Date_1819,\"<=\"&Voucher_Date_1819),0))","v":{"$error":"#N/A"}},{"$f":"INDEX(Voucher_Date_1819,MATCH(SMALL(IF(ISBLANK(Voucher_Date_1819),\"\",IF(ISNUMBER(Voucher_Date_1819),COUNTIF(Voucher_Date_1819,\"<\"&Voucher_Date_1819),COUNTIF(Voucher_Date_1819,\"<\"&Voucher_Date_1819)+SUM(IF(ISNUMBER(Voucher_Date_1819),1,0))+1)),ROW(A939)),IF(ISBLANK(Voucher_Date_1819),\"\",IF(ISNUMBER(Voucher_Date_1819),COUNTIF(Voucher_Date_1819,\"<\"&Voucher_Date_1819),COUNTIF(Voucher_Date_1819,\"<\"&Voucher_Date_1819)+SUM(IF(ISNUMBER(Voucher_Date_1819),1,0))+1)),0))","v":{"$error":"#NUM!"}}]
[{"$f":"INDEX(Voucher_Date_1819,MATCH(ROWS('Bill Register 20-21'!$L$3:'Bill Register 20-21'!L941),COUNTIF(Voucher_Date_1819,\"<=\"&Voucher_Date_1819),0))","v":{"$error":"#N/A"}},{"$f":"INDEX(Voucher_Date_1819,MATCH(SMALL(IF(ISBLANK(Voucher_Date_1819),\"\",IF(ISNUMBER(Voucher_Date_1819),COUNTIF(Voucher_Date_1819,\"<\"&Voucher_Date_1819),COUNTIF(Voucher_Date_1819,\"<\"&Voucher_Date_1819)+SUM(IF(ISNUMBER(Voucher_Date_1819),1,0))+1)),ROW(A940)),IF(ISBLANK(Voucher_Date_1819),\"\",IF(ISNUMBER(Voucher_Date_1819),COUNTIF(Voucher_Date_1819,\"<\"&Voucher_Date_1819),COUNTIF(Voucher_Date_1819,\"<\"&Voucher_Date_1819)+SUM(IF(ISNUMBER(Voucher_Date_1819),1,0))+1)),0))","v":{"$error":"#NUM!"}}]
[{"$f":"INDEX(Voucher_Date_1819,MATCH(ROWS('Bill Register 20-21'!$L$3:'Bill Register 20-21'!L942),COUNTIF(Voucher_Date_1819,\"<=\"&Voucher_Date_1819),0))","v":{"$error":"#N/A"}},{"$f":"INDEX(Voucher_Date_1819,MATCH(SMALL(IF(ISBLANK(Voucher_Date_1819),\"\",IF(ISNUMBER(Voucher_Date_1819),COUNTIF(Voucher_Date_1819,\"<\"&Voucher_Date_1819),COUNTIF(Voucher_Date_1819,\"<\"&Voucher_Date_1819)+SUM(IF(ISNUMBER(Voucher_Date_1819),1,0))+1)),ROW(A941)),IF(ISBLANK(Voucher_Date_1819),\"\",IF(ISNUMBER(Voucher_Date_1819),COUNTIF(Voucher_Date_1819,\"<\"&Voucher_Date_1819),COUNTIF(Voucher_Date_1819,\"<\"&Voucher_Date_1819)+SUM(IF(ISNUMBER(Voucher_Date_1819),1,0))+1)),0))","v":{"$error":"#NUM!"}}]
[{"$f":"INDEX(Voucher_Date_1819,MATCH(ROWS('Bill Register 20-21'!$L$3:'Bill Register 20-21'!L943),COUNTIF(Voucher_Date_1819,\"<=\"&Voucher_Date_1819),0))","v":{"$error":"#N/A"}},{"$f":"INDEX(Voucher_Date_1819,MATCH(SMALL(IF(ISBLANK(Voucher_Date_1819),\"\",IF(ISNUMBER(Voucher_Date_1819),COUNTIF(Voucher_Date_1819,\"<\"&Voucher_Date_1819),COUNTIF(Voucher_Date_1819,\"<\"&Voucher_Date_1819)+SUM(IF(ISNUMBER(Voucher_Date_1819),1,0))+1)),ROW(A942)),IF(ISBLANK(Voucher_Date_1819),\"\",IF(ISNUMBER(Voucher_Date_1819),COUNTIF(Voucher_Date_1819,\"<\"&Voucher_Date_1819),COUNTIF(Voucher_Date_1819,\"<\"&Voucher_Date_1819)+SUM(IF(ISNUMBER(Voucher_Date_1819),1,0))+1)),0))","v":{"$error":"#NUM!"}}]
[{"$f":"INDEX(Voucher_Date_1819,MATCH(ROWS('Bill Register 20-21'!$L$3:'Bill Register 20-21'!L944),COUNTIF(Voucher_Date_1819,\"<=\"&Voucher_Date_1819),0))","v":{"$error":"#N/A"}},{"$f":"INDEX(Voucher_Date_1819,MATCH(SMALL(IF(ISBLANK(Voucher_Date_1819),\"\",IF(ISNUMBER(Voucher_Date_1819),COUNTIF(Voucher_Date_1819,\"<\"&Voucher_Date_1819),COUNTIF(Voucher_Date_1819,\"<\"&Voucher_Date_1819)+SUM(IF(ISNUMBER(Voucher_Date_1819),1,0))+1)),ROW(A943)),IF(ISBLANK(Voucher_Date_1819),\"\",IF(ISNUMBER(Voucher_Date_1819),COUNTIF(Voucher_Date_1819,\"<\"&Voucher_Date_1819),COUNTIF(Voucher_Date_1819,\"<\"&Voucher_Date_1819)+SUM(IF(ISNUMBER(Voucher_Date_1819),1,0))+1)),0))","v":{"$error":"#NUM!"}}]
[{"$f":"INDEX(Voucher_Date_1819,MATCH(ROWS('Bill Register 20-21'!$L$3:'Bill Register 20-21'!L945),COUNTIF(Voucher_Date_1819,\"<=\"&Voucher_Date_1819),0))","v":{"$error":"#N/A"}},{"$f":"INDEX(Voucher_Date_1819,MATCH(SMALL(IF(ISBLANK(Voucher_Date_1819),\"\",IF(ISNUMBER(Voucher_Date_1819),COUNTIF(Voucher_Date_1819,\"<\"&Voucher_Date_1819),COUNTIF(Voucher_Date_1819,\"<\"&Voucher_Date_1819)+SUM(IF(ISNUMBER(Voucher_Date_1819),1,0))+1)),ROW(A944)),IF(ISBLANK(Voucher_Date_1819),\"\",IF(ISNUMBER(Voucher_Date_1819),COUNTIF(Voucher_Date_1819,\"<\"&Voucher_Date_1819),COUNTIF(Voucher_Date_1819,\"<\"&Voucher_Date_1819)+SUM(IF(ISNUMBER(Voucher_Date_1819),1,0))+1)),0))","v":{"$error":"#NUM!"}}]
[{"$f":"INDEX(Voucher_Date_1819,MATCH(ROWS('Bill Register 20-21'!$L$3:'Bill Register 20-21'!L946),COUNTIF(Voucher_Date_1819,\"<=\"&Voucher_Date_1819),0))","v":{"$error":"#N/A"}},{"$f":"INDEX(Voucher_Date_1819,MATCH(SMALL(IF(ISBLANK(Voucher_Date_1819),\"\",IF(ISNUMBER(Voucher_Date_1819),COUNTIF(Voucher_Date_1819,\"<\"&Voucher_Date_1819),COUNTIF(Voucher_Date_1819,\"<\"&Voucher_Date_1819)+SUM(IF(ISNUMBER(Voucher_Date_1819),1,0))+1)),ROW(A945)),IF(ISBLANK(Voucher_Date_1819),\"\",IF(ISNUMBER(Voucher_Date_1819),COUNTIF(Voucher_Date_1819,\"<\"&Voucher_Date_1819),COUNTIF(Voucher_Date_1819,\"<\"&Voucher_Date_1819)+SUM(IF(ISNUMBER(Voucher_Date_1819),1,0))+1)),0))","v":{"$error":"#NUM!"}}]
[{"$f":"INDEX(Voucher_Date_1819,MATCH(ROWS('Bill Register 20-21'!$L$3:'Bill Register 20-21'!L947),COUNTIF(Voucher_Date_1819,\"<=\"&Voucher_Date_1819),0))","v":{"$error":"#N/A"}},{"$f":"INDEX(Voucher_Date_1819,MATCH(SMALL(IF(ISBLANK(Voucher_Date_1819),\"\",IF(ISNUMBER(Voucher_Date_1819),COUNTIF(Voucher_Date_1819,\"<\"&Voucher_Date_1819),COUNTIF(Voucher_Date_1819,\"<\"&Voucher_Date_1819)+SUM(IF(ISNUMBER(Voucher_Date_1819),1,0))+1)),ROW(A946)),IF(ISBLANK(Voucher_Date_1819),\"\",IF(ISNUMBER(Voucher_Date_1819),COUNTIF(Voucher_Date_1819,\"<\"&Voucher_Date_1819),COUNTIF(Voucher_Date_1819,\"<\"&Voucher_Date_1819)+SUM(IF(ISNUMBER(Voucher_Date_1819),1,0))+1)),0))","v":{"$error":"#NUM!"}}]
[{"$f":"INDEX(Voucher_Date_1819,MATCH(ROWS('Bill Register 20-21'!$L$3:'Bill Register 20-21'!L948),COUNTIF(Voucher_Date_1819,\"<=\"&Voucher_Date_1819),0))","v":{"$error":"#N/A"}},{"$f":"INDEX(Voucher_Date_1819,MATCH(SMALL(IF(ISBLANK(Voucher_Date_1819),\"\",IF(ISNUMBER(Voucher_Date_1819),COUNTIF(Voucher_Date_1819,\"<\"&Voucher_Date_1819),COUNTIF(Voucher_Date_1819,\"<\"&Voucher_Date_1819)+SUM(IF(ISNUMBER(Voucher_Date_1819),1,0))+1)),ROW(A947)),IF(ISBLANK(Voucher_Date_1819),\"\",IF(ISNUMBER(Voucher_Date_1819),COUNTIF(Voucher_Date_1819,\"<\"&Voucher_Date_1819),COUNTIF(Voucher_Date_1819,\"<\"&Voucher_Date_1819)+SUM(IF(ISNUMBER(Voucher_Date_1819),1,0))+1)),0))","v":{"$error":"#NUM!"}}]
[{"$f":"INDEX(Voucher_Date_1819,MATCH(ROWS('Bill Register 20-21'!$L$3:'Bill Register 20-21'!L949),COUNTIF(Voucher_Date_1819,\"<=\"&Voucher_Date_1819),0))","v":{"$error":"#N/A"}},{"$f":"INDEX(Voucher_Date_1819,MATCH(SMALL(IF(ISBLANK(Voucher_Date_1819),\"\",IF(ISNUMBER(Voucher_Date_1819),COUNTIF(Voucher_Date_1819,\"<\"&Voucher_Date_1819),COUNTIF(Voucher_Date_1819,\"<\"&Voucher_Date_1819)+SUM(IF(ISNUMBER(Voucher_Date_1819),1,0))+1)),ROW(A948)),IF(ISBLANK(Voucher_Date_1819),\"\",IF(ISNUMBER(Voucher_Date_1819),COUNTIF(Voucher_Date_1819,\"<\"&Voucher_Date_1819),COUNTIF(Voucher_Date_1819,\"<\"&Voucher_Date_1819)+SUM(IF(ISNUMBER(Voucher_Date_1819),1,0))+1)),0))","v":{"$error":"#NUM!"}}]
[{"$f":"INDEX(Voucher_Date_1819,MATCH(ROWS('Bill Register 20-21'!$L$3:'Bill Register 20-21'!L950),COUNTIF(Voucher_Date_1819,\"<=\"&Voucher_Date_1819),0))","v":{"$error":"#N/A"}},{"$f":"INDEX(Voucher_Date_1819,MATCH(SMALL(IF(ISBLANK(Voucher_Date_1819),\"\",IF(ISNUMBER(Voucher_Date_1819),COUNTIF(Voucher_Date_1819,\"<\"&Voucher_Date_1819),COUNTIF(Voucher_Date_1819,\"<\"&Voucher_Date_1819)+SUM(IF(ISNUMBER(Voucher_Date_1819),1,0))+1)),ROW(A949)),IF(ISBLANK(Voucher_Date_1819),\"\",IF(ISNUMBER(Voucher_Date_1819),COUNTIF(Voucher_Date_1819,\"<\"&Voucher_Date_1819),COUNTIF(Voucher_Date_1819,\"<\"&Voucher_Date_1819)+SUM(IF(ISNUMBER(Voucher_Date_1819),1,0))+1)),0))","v":{"$error":"#NUM!"}}]
[{"$f":"INDEX(Voucher_Date_1819,MATCH(ROWS('Bill Register 20-21'!$L$3:'Bill Register 20-21'!L951),COUNTIF(Voucher_Date_1819,\"<=\"&Voucher_Date_1819),0))","v":{"$error":"#N/A"}},{"$f":"INDEX(Voucher_Date_1819,MATCH(SMALL(IF(ISBLANK(Voucher_Date_1819),\"\",IF(ISNUMBER(Voucher_Date_1819),COUNTIF(Voucher_Date_1819,\"<\"&Voucher_Date_1819),COUNTIF(Voucher_Date_1819,\"<\"&Voucher_Date_1819)+SUM(IF(ISNUMBER(Voucher_Date_1819),1,0))+1)),ROW(A950)),IF(ISBLANK(Voucher_Date_1819),\"\",IF(ISNUMBER(Voucher_Date_1819),COUNTIF(Voucher_Date_1819,\"<\"&Voucher_Date_1819),COUNTIF(Voucher_Date_1819,\"<\"&Voucher_Date_1819)+SUM(IF(ISNUMBER(Voucher_Date_1819),1,0))+1)),0))","v":{"$error":"#NUM!"}}]
[{"$f":"INDEX(Voucher_Date_1819,MATCH(ROWS('Bill Register 20-21'!$L$3:'Bill Register 20-21'!L952),COUNTIF(Voucher_Date_1819,\"<=\"&Voucher_Date_1819),0))","v":{"$error":"#N/A"}},{"$f":"INDEX(Voucher_Date_1819,MATCH(SMALL(IF(ISBLANK(Voucher_Date_1819),\"\",IF(ISNUMBER(Voucher_Date_1819),COUNTIF(Voucher_Date_1819,\"<\"&Voucher_Date_1819),COUNTIF(Voucher_Date_1819,\"<\"&Voucher_Date_1819)+SUM(IF(ISNUMBER(Voucher_Date_1819),1,0))+1)),ROW(A951)),IF(ISBLANK(Voucher_Date_1819),\"\",IF(ISNUMBER(Voucher_Date_1819),COUNTIF(Voucher_Date_1819,\"<\"&Voucher_Date_1819),COUNTIF(Voucher_Date_1819,\"<\"&Voucher_Date_1819)+SUM(IF(ISNUMBER(Voucher_Date_1819),1,0))+1)),0))","v":{"$error":"#NUM!"}}]
[{"$f":"INDEX(Voucher_Date_1819,MATCH(ROWS('Bill Register 20-21'!$L$3:'Bill Register 20-21'!L953),COUNTIF(Voucher_Date_1819,\"<=\"&Voucher_Date_1819),0))","v":{"$error":"#N/A"}},{"$f":"INDEX(Voucher_Date_1819,MATCH(SMALL(IF(ISBLANK(Voucher_Date_1819),\"\",IF(ISNUMBER(Voucher_Date_1819),COUNTIF(Voucher_Date_1819,\"<\"&Voucher_Date_1819),COUNTIF(Voucher_Date_1819,\"<\"&Voucher_Date_1819)+SUM(IF(ISNUMBER(Voucher_Date_1819),1,0))+1)),ROW(A952)),IF(ISBLANK(Voucher_Date_1819),\"\",IF(ISNUMBER(Voucher_Date_1819),COUNTIF(Voucher_Date_1819,\"<\"&Voucher_Date_1819),COUNTIF(Voucher_Date_1819,\"<\"&Voucher_Date_1819)+SUM(IF(ISNUMBER(Voucher_Date_1819),1,0))+1)),0))","v":{"$error":"#NUM!"}}]
[{"$f":"INDEX(Voucher_Date_1819,MATCH(ROWS('Bill Register 20-21'!$L$3:'Bill Register 20-21'!L954),COUNTIF(Voucher_Date_1819,\"<=\"&Voucher_Date_1819),0))","v":{"$error":"#N/A"}},{"$f":"INDEX(Voucher_Date_1819,MATCH(SMALL(IF(ISBLANK(Voucher_Date_1819),\"\",IF(ISNUMBER(Voucher_Date_1819),COUNTIF(Voucher_Date_1819,\"<\"&Voucher_Date_1819),COUNTIF(Voucher_Date_1819,\"<\"&Voucher_Date_1819)+SUM(IF(ISNUMBER(Voucher_Date_1819),1,0))+1)),ROW(A953)),IF(ISBLANK(Voucher_Date_1819),\"\",IF(ISNUMBER(Voucher_Date_1819),COUNTIF(Voucher_Date_1819,\"<\"&Voucher_Date_1819),COUNTIF(Voucher_Date_1819,\"<\"&Voucher_Date_1819)+SUM(IF(ISNUMBER(Voucher_Date_1819),1,0))+1)),0))","v":{"$error":"#NUM!"}}]
[{"$f":"INDEX(Voucher_Date_1819,MATCH(ROWS('Bill Register 20-21'!$L$3:'Bill Register 20-21'!L955),COUNTIF(Voucher_Date_1819,\"<=\"&Voucher_Date_1819),0))","v":{"$error":"#N/A"}},{"$f":"INDEX(Voucher_Date_1819,MATCH(SMALL(IF(ISBLANK(Voucher_Date_1819),\"\",IF(ISNUMBER(Voucher_Date_1819),COUNTIF(Voucher_Date_1819,\"<\"&Voucher_Date_1819),COUNTIF(Voucher_Date_1819,\"<\"&Voucher_Date_1819)+SUM(IF(ISNUMBER(Voucher_Date_1819),1,0))+1)),ROW(A954)),IF(ISBLANK(Voucher_Date_1819),\"\",IF(ISNUMBER(Voucher_Date_1819),COUNTIF(Voucher_Date_1819,\"<\"&Voucher_Date_1819),COUNTIF(Voucher_Date_1819,\"<\"&Voucher_Date_1819)+SUM(IF(ISNUMBER(Voucher_Date_1819),1,0))+1)),0))","v":{"$error":"#NUM!"}}]
[{"$f":"INDEX(Voucher_Date_1819,MATCH(ROWS('Bill Register 20-21'!$L$3:'Bill Register 20-21'!L956),COUNTIF(Voucher_Date_1819,\"<=\"&Voucher_Date_1819),0))","v":{"$error":"#N/A"}},{"$f":"INDEX(Voucher_Date_1819,MATCH(SMALL(IF(ISBLANK(Voucher_Date_1819),\"\",IF(ISNUMBER(Voucher_Date_1819),COUNTIF(Voucher_Date_1819,\"<\"&Voucher_Date_1819),COUNTIF(Voucher_Date_1819,\"<\"&Voucher_Date_1819)+SUM(IF(ISNUMBER(Voucher_Date_1819),1,0))+1)),ROW(A955)),IF(ISBLANK(Voucher_Date_1819),\"\",IF(ISNUMBER(Voucher_Date_1819),COUNTIF(Voucher_Date_1819,\"<\"&Voucher_Date_1819),COUNTIF(Voucher_Date_1819,\"<\"&Voucher_Date_1819)+SUM(IF(ISNUMBER(Voucher_Date_1819),1,0))+1)),0))","v":{"$error":"#NUM!"}}]
[{"$f":"INDEX(Voucher_Date_1819,MATCH(ROWS('Bill Register 20-21'!$L$3:'Bill Register 20-21'!L957),COUNTIF(Voucher_Date_1819,\"<=\"&Voucher_Date_1819),0))","v":{"$error":"#N/A"}},{"$f":"INDEX(Voucher_Date_1819,MATCH(SMALL(IF(ISBLANK(Voucher_Date_1819),\"\",IF(ISNUMBER(Voucher_Date_1819),COUNTIF(Voucher_Date_1819,\"<\"&Voucher_Date_1819),COUNTIF(Voucher_Date_1819,\"<\"&Voucher_Date_1819)+SUM(IF(ISNUMBER(Voucher_Date_1819),1,0))+1)),ROW(A956)),IF(ISBLANK(Voucher_Date_1819),\"\",IF(ISNUMBER(Voucher_Date_1819),COUNTIF(Voucher_Date_1819,\"<\"&Voucher_Date_1819),COUNTIF(Voucher_Date_1819,\"<\"&Voucher_Date_1819)+SUM(IF(ISNUMBER(Voucher_Date_1819),1,0))+1)),0))","v":{"$error":"#NUM!"}}]
[{"$f":"INDEX(Voucher_Date_1819,MATCH(ROWS('Bill Register 20-21'!$L$3:'Bill Register 20-21'!L958),COUNTIF(Voucher_Date_1819,\"<=\"&Voucher_Date_1819),0))","v":{"$error":"#N/A"}},{"$f":"INDEX(Voucher_Date_1819,MATCH(SMALL(IF(ISBLANK(Voucher_Date_1819),\"\",IF(ISNUMBER(Voucher_Date_1819),COUNTIF(Voucher_Date_1819,\"<\"&Voucher_Date_1819),COUNTIF(Voucher_Date_1819,\"<\"&Voucher_Date_1819)+SUM(IF(ISNUMBER(Voucher_Date_1819),1,0))+1)),ROW(A957)),IF(ISBLANK(Voucher_Date_1819),\"\",IF(ISNUMBER(Voucher_Date_1819),COUNTIF(Voucher_Date_1819,\"<\"&Voucher_Date_1819),COUNTIF(Voucher_Date_1819,\"<\"&Voucher_Date_1819)+SUM(IF(ISNUMBER(Voucher_Date_1819),1,0))+1)),0))","v":{"$error":"#NUM!"}}]
[{"$f":"INDEX(Voucher_Date_1819,MATCH(ROWS('Bill Register 20-21'!$L$3:'Bill Register 20-21'!L959),COUNTIF(Voucher_Date_1819,\"<=\"&Voucher_Date_1819),0))","v":{"$error":"#N/A"}},{"$f":"INDEX(Voucher_Date_1819,MATCH(SMALL(IF(ISBLANK(Voucher_Date_1819),\"\",IF(ISNUMBER(Voucher_Date_1819),COUNTIF(Voucher_Date_1819,\"<\"&Voucher_Date_1819),COUNTIF(Voucher_Date_1819,\"<\"&Voucher_Date_1819)+SUM(IF(ISNUMBER(Voucher_Date_1819),1,0))+1)),ROW(A958)),IF(ISBLANK(Voucher_Date_1819),\"\",IF(ISNUMBER(Voucher_Date_1819),COUNTIF(Voucher_Date_1819,\"<\"&Voucher_Date_1819),COUNTIF(Voucher_Date_1819,\"<\"&Voucher_Date_1819)+SUM(IF(ISNUMBER(Voucher_Date_1819),1,0))+1)),0))","v":{"$error":"#NUM!"}}]
[{"$f":"INDEX(Voucher_Date_1819,MATCH(ROWS('Bill Register 20-21'!$L$3:'Bill Register 20-21'!L960),COUNTIF(Voucher_Date_1819,\"<=\"&Voucher_Date_1819),0))","v":{"$error":"#N/A"}},{"$f":"INDEX(Voucher_Date_1819,MATCH(SMALL(IF(ISBLANK(Voucher_Date_1819),\"\",IF(ISNUMBER(Voucher_Date_1819),COUNTIF(Voucher_Date_1819,\"<\"&Voucher_Date_1819),COUNTIF(Voucher_Date_1819,\"<\"&Voucher_Date_1819)+SUM(IF(ISNUMBER(Voucher_Date_1819),1,0))+1)),ROW(A959)),IF(ISBLANK(Voucher_Date_1819),\"\",IF(ISNUMBER(Voucher_Date_1819),COUNTIF(Voucher_Date_1819,\"<\"&Voucher_Date_1819),COUNTIF(Voucher_Date_1819,\"<\"&Voucher_Date_1819)+SUM(IF(ISNUMBER(Voucher_Date_1819),1,0))+1)),0))","v":{"$error":"#NUM!"}}]
[{"$f":"INDEX(Voucher_Date_1819,MATCH(ROWS('Bill Register 20-21'!$L$3:'Bill Register 20-21'!L961),COUNTIF(Voucher_Date_1819,\"<=\"&Voucher_Date_1819),0))","v":{"$error":"#N/A"}},{"$f":"INDEX(Voucher_Date_1819,MATCH(SMALL(IF(ISBLANK(Voucher_Date_1819),\"\",IF(ISNUMBER(Voucher_Date_1819),COUNTIF(Voucher_Date_1819,\"<\"&Voucher_Date_1819),COUNTIF(Voucher_Date_1819,\"<\"&Voucher_Date_1819)+SUM(IF(ISNUMBER(Voucher_Date_1819),1,0))+1)),ROW(A960)),IF(ISBLANK(Voucher_Date_1819),\"\",IF(ISNUMBER(Voucher_Date_1819),COUNTIF(Voucher_Date_1819,\"<\"&Voucher_Date_1819),COUNTIF(Voucher_Date_1819,\"<\"&Voucher_Date_1819)+SUM(IF(ISNUMBER(Voucher_Date_1819),1,0))+1)),0))","v":{"$error":"#NUM!"}}]
[{"$f":"INDEX(Voucher_Date_1819,MATCH(ROWS('Bill Register 20-21'!$L$3:'Bill Register 20-21'!L962),COUNTIF(Voucher_Date_1819,\"<=\"&Voucher_Date_1819),0))","v":{"$error":"#N/A"}},{"$f":"INDEX(Voucher_Date_1819,MATCH(SMALL(IF(ISBLANK(Voucher_Date_1819),\"\",IF(ISNUMBER(Voucher_Date_1819),COUNTIF(Voucher_Date_1819,\"<\"&Voucher_Date_1819),COUNTIF(Voucher_Date_1819,\"<\"&Voucher_Date_1819)+SUM(IF(ISNUMBER(Voucher_Date_1819),1,0))+1)),ROW(A961)),IF(ISBLANK(Voucher_Date_1819),\"\",IF(ISNUMBER(Voucher_Date_1819),COUNTIF(Voucher_Date_1819,\"<\"&Voucher_Date_1819),COUNTIF(Voucher_Date_1819,\"<\"&Voucher_Date_1819)+SUM(IF(ISNUMBER(Voucher_Date_1819),1,0))+1)),0))","v":{"$error":"#NUM!"}}]
[{"$f":"INDEX(Voucher_Date_1819,MATCH(ROWS('Bill Register 20-21'!$L$3:'Bill Register 20-21'!L963),COUNTIF(Voucher_Date_1819,\"<=\"&Voucher_Date_1819),0))","v":{"$error":"#N/A"}},{"$f":"INDEX(Voucher_Date_1819,MATCH(SMALL(IF(ISBLANK(Voucher_Date_1819),\"\",IF(ISNUMBER(Voucher_Date_1819),COUNTIF(Voucher_Date_1819,\"<\"&Voucher_Date_1819),COUNTIF(Voucher_Date_1819,\"<\"&Voucher_Date_1819)+SUM(IF(ISNUMBER(Voucher_Date_1819),1,0))+1)),ROW(A962)),IF(ISBLANK(Voucher_Date_1819),\"\",IF(ISNUMBER(Voucher_Date_1819),COUNTIF(Voucher_Date_1819,\"<\"&Voucher_Date_1819),COUNTIF(Voucher_Date_1819,\"<\"&Voucher_Date_1819)+SUM(IF(ISNUMBER(Voucher_Date_1819),1,0))+1)),0))","v":{"$error":"#NUM!"}}]
[{"$f":"INDEX(Voucher_Date_1819,MATCH(ROWS('Bill Register 20-21'!$L$3:'Bill Register 20-21'!L964),COUNTIF(Voucher_Date_1819,\"<=\"&Voucher_Date_1819),0))","v":{"$error":"#N/A"}},{"$f":"INDEX(Voucher_Date_1819,MATCH(SMALL(IF(ISBLANK(Voucher_Date_1819),\"\",IF(ISNUMBER(Voucher_Date_1819),COUNTIF(Voucher_Date_1819,\"<\"&Voucher_Date_1819),COUNTIF(Voucher_Date_1819,\"<\"&Voucher_Date_1819)+SUM(IF(ISNUMBER(Voucher_Date_1819),1,0))+1)),ROW(A963)),IF(ISBLANK(Voucher_Date_1819),\"\",IF(ISNUMBER(Voucher_Date_1819),COUNTIF(Voucher_Date_1819,\"<\"&Voucher_Date_1819),COUNTIF(Voucher_Date_1819,\"<\"&Voucher_Date_1819)+SUM(IF(ISNUMBER(Voucher_Date_1819),1,0))+1)),0))","v":{"$error":"#NUM!"}}]
[{"$f":"INDEX(Voucher_Date_1819,MATCH(ROWS('Bill Register 20-21'!$L$3:'Bill Register 20-21'!L965),COUNTIF(Voucher_Date_1819,\"<=\"&Voucher_Date_1819),0))","v":{"$error":"#N/A"}},{"$f":"INDEX(Voucher_Date_1819,MATCH(SMALL(IF(ISBLANK(Voucher_Date_1819),\"\",IF(ISNUMBER(Voucher_Date_1819),COUNTIF(Voucher_Date_1819,\"<\"&Voucher_Date_1819),COUNTIF(Voucher_Date_1819,\"<\"&Voucher_Date_1819)+SUM(IF(ISNUMBER(Voucher_Date_1819),1,0))+1)),ROW(A964)),IF(ISBLANK(Voucher_Date_1819),\"\",IF(ISNUMBER(Voucher_Date_1819),COUNTIF(Voucher_Date_1819,\"<\"&Voucher_Date_1819),COUNTIF(Voucher_Date_1819,\"<\"&Voucher_Date_1819)+SUM(IF(ISNUMBER(Voucher_Date_1819),1,0))+1)),0))","v":{"$error":"#NUM!"}}]
[{"$f":"INDEX(Voucher_Date_1819,MATCH(ROWS('Bill Register 20-21'!$L$3:'Bill Register 20-21'!L966),COUNTIF(Voucher_Date_1819,\"<=\"&Voucher_Date_1819),0))","v":{"$error":"#N/A"}},{"$f":"INDEX(Voucher_Date_1819,MATCH(SMALL(IF(ISBLANK(Voucher_Date_1819),\"\",IF(ISNUMBER(Voucher_Date_1819),COUNTIF(Voucher_Date_1819,\"<\"&Voucher_Date_1819),COUNTIF(Voucher_Date_1819,\"<\"&Voucher_Date_1819)+SUM(IF(ISNUMBER(Voucher_Date_1819),1,0))+1)),ROW(A965)),IF(ISBLANK(Voucher_Date_1819),\"\",IF(ISNUMBER(Voucher_Date_1819),COUNTIF(Voucher_Date_1819,\"<\"&Voucher_Date_1819),COUNTIF(Voucher_Date_1819,\"<\"&Voucher_Date_1819)+SUM(IF(ISNUMBER(Voucher_Date_1819),1,0))+1)),0))","v":{"$error":"#NUM!"}}]
[{"$f":"INDEX(Voucher_Date_1819,MATCH(ROWS('Bill Register 20-21'!$L$3:'Bill Register 20-21'!L967),COUNTIF(Voucher_Date_1819,\"<=\"&Voucher_Date_1819),0))","v":{"$error":"#N/A"}},{"$f":"INDEX(Voucher_Date_1819,MATCH(SMALL(IF(ISBLANK(Voucher_Date_1819),\"\",IF(ISNUMBER(Voucher_Date_1819),COUNTIF(Voucher_Date_1819,\"<\"&Voucher_Date_1819),COUNTIF(Voucher_Date_1819,\"<\"&Voucher_Date_1819)+SUM(IF(ISNUMBER(Voucher_Date_1819),1,0))+1)),ROW(A966)),IF(ISBLANK(Voucher_Date_1819),\"\",IF(ISNUMBER(Voucher_Date_1819),COUNTIF(Voucher_Date_1819,\"<\"&Voucher_Date_1819),COUNTIF(Voucher_Date_1819,\"<\"&Voucher_Date_1819)+SUM(IF(ISNUMBER(Voucher_Date_1819),1,0))+1)),0))","v":{"$error":"#NUM!"}}]
[{"$f":"INDEX(Voucher_Date_1819,MATCH(ROWS('Bill Register 20-21'!$L$3:'Bill Register 20-21'!L968),COUNTIF(Voucher_Date_1819,\"<=\"&Voucher_Date_1819),0))","v":{"$error":"#N/A"}},{"$f":"INDEX(Voucher_Date_1819,MATCH(SMALL(IF(ISBLANK(Voucher_Date_1819),\"\",IF(ISNUMBER(Voucher_Date_1819),COUNTIF(Voucher_Date_1819,\"<\"&Voucher_Date_1819),COUNTIF(Voucher_Date_1819,\"<\"&Voucher_Date_1819)+SUM(IF(ISNUMBER(Voucher_Date_1819),1,0))+1)),ROW(A967)),IF(ISBLANK(Voucher_Date_1819),\"\",IF(ISNUMBER(Voucher_Date_1819),COUNTIF(Voucher_Date_1819,\"<\"&Voucher_Date_1819),COUNTIF(Voucher_Date_1819,\"<\"&Voucher_Date_1819)+SUM(IF(ISNUMBER(Voucher_Date_1819),1,0))+1)),0))","v":{"$error":"#NUM!"}}]
[{"$f":"INDEX(Voucher_Date_1819,MATCH(ROWS('Bill Register 20-21'!$L$3:'Bill Register 20-21'!L969),COUNTIF(Voucher_Date_1819,\"<=\"&Voucher_Date_1819),0))","v":{"$error":"#N/A"}},{"$f":"INDEX(Voucher_Date_1819,MATCH(SMALL(IF(ISBLANK(Voucher_Date_1819),\"\",IF(ISNUMBER(Voucher_Date_1819),COUNTIF(Voucher_Date_1819,\"<\"&Voucher_Date_1819),COUNTIF(Voucher_Date_1819,\"<\"&Voucher_Date_1819)+SUM(IF(ISNUMBER(Voucher_Date_1819),1,0))+1)),ROW(A968)),IF(ISBLANK(Voucher_Date_1819),\"\",IF(ISNUMBER(Voucher_Date_1819),COUNTIF(Voucher_Date_1819,\"<\"&Voucher_Date_1819),COUNTIF(Voucher_Date_1819,\"<\"&Voucher_Date_1819)+SUM(IF(ISNUMBER(Voucher_Date_1819),1,0))+1)),0))","v":{"$error":"#NUM!"}}]
[{"$f":"INDEX(Voucher_Date_1819,MATCH(ROWS('Bill Register 20-21'!$L$3:'Bill Register 20-21'!L970),COUNTIF(Voucher_Date_1819,\"<=\"&Voucher_Date_1819),0))","v":{"$error":"#N/A"}},{"$f":"INDEX(Voucher_Date_1819,MATCH(SMALL(IF(ISBLANK(Voucher_Date_1819),\"\",IF(ISNUMBER(Voucher_Date_1819),COUNTIF(Voucher_Date_1819,\"<\"&Voucher_Date_1819),COUNTIF(Voucher_Date_1819,\"<\"&Voucher_Date_1819)+SUM(IF(ISNUMBER(Voucher_Date_1819),1,0))+1)),ROW(A969)),IF(ISBLANK(Voucher_Date_1819),\"\",IF(ISNUMBER(Voucher_Date_1819),COUNTIF(Voucher_Date_1819,\"<\"&Voucher_Date_1819),COUNTIF(Voucher_Date_1819,\"<\"&Voucher_Date_1819)+SUM(IF(ISNUMBER(Voucher_Date_1819),1,0))+1)),0))","v":{"$error":"#NUM!"}}]
[{"$f":"INDEX(Voucher_Date_1819,MATCH(ROWS('Bill Register 20-21'!$L$3:'Bill Register 20-21'!L971),COUNTIF(Voucher_Date_1819,\"<=\"&Voucher_Date_1819),0))","v":{"$error":"#N/A"}},{"$f":"INDEX(Voucher_Date_1819,MATCH(SMALL(IF(ISBLANK(Voucher_Date_1819),\"\",IF(ISNUMBER(Voucher_Date_1819),COUNTIF(Voucher_Date_1819,\"<\"&Voucher_Date_1819),COUNTIF(Voucher_Date_1819,\"<\"&Voucher_Date_1819)+SUM(IF(ISNUMBER(Voucher_Date_1819),1,0))+1)),ROW(A970)),IF(ISBLANK(Voucher_Date_1819),\"\",IF(ISNUMBER(Voucher_Date_1819),COUNTIF(Voucher_Date_1819,\"<\"&Voucher_Date_1819),COUNTIF(Voucher_Date_1819,\"<\"&Voucher_Date_1819)+SUM(IF(ISNUMBER(Voucher_Date_1819),1,0))+1)),0))","v":{"$error":"#NUM!"}}]
[{"$f":"INDEX(Voucher_Date_1819,MATCH(ROWS('Bill Register 20-21'!$L$3:'Bill Register 20-21'!L972),COUNTIF(Voucher_Date_1819,\"<=\"&Voucher_Date_1819),0))","v":{"$error":"#N/A"}},{"$f":"INDEX(Voucher_Date_1819,MATCH(SMALL(IF(ISBLANK(Voucher_Date_1819),\"\",IF(ISNUMBER(Voucher_Date_1819),COUNTIF(Voucher_Date_1819,\"<\"&Voucher_Date_1819),COUNTIF(Voucher_Date_1819,\"<\"&Voucher_Date_1819)+SUM(IF(ISNUMBER(Voucher_Date_1819),1,0))+1)),ROW(A971)),IF(ISBLANK(Voucher_Date_1819),\"\",IF(ISNUMBER(Voucher_Date_1819),COUNTIF(Voucher_Date_1819,\"<\"&Voucher_Date_1819),COUNTIF(Voucher_Date_1819,\"<\"&Voucher_Date_1819)+SUM(IF(ISNUMBER(Voucher_Date_1819),1,0))+1)),0))","v":{"$error":"#NUM!"}}]
[{"$f":"INDEX(Voucher_Date_1819,MATCH(ROWS('Bill Register 20-21'!$L$3:'Bill Register 20-21'!L973),COUNTIF(Voucher_Date_1819,\"<=\"&Voucher_Date_1819),0))","v":{"$error":"#N/A"}},{"$f":"INDEX(Voucher_Date_1819,MATCH(SMALL(IF(ISBLANK(Voucher_Date_1819),\"\",IF(ISNUMBER(Voucher_Date_1819),COUNTIF(Voucher_Date_1819,\"<\"&Voucher_Date_1819),COUNTIF(Voucher_Date_1819,\"<\"&Voucher_Date_1819)+SUM(IF(ISNUMBER(Voucher_Date_1819),1,0))+1)),ROW(A972)),IF(ISBLANK(Voucher_Date_1819),\"\",IF(ISNUMBER(Voucher_Date_1819),COUNTIF(Voucher_Date_1819,\"<\"&Voucher_Date_1819),COUNTIF(Voucher_Date_1819,\"<\"&Voucher_Date_1819)+SUM(IF(ISNUMBER(Voucher_Date_1819),1,0))+1)),0))","v":{"$error":"#NUM!"}}]
[{"$f":"INDEX(Voucher_Date_1819,MATCH(ROWS('Bill Register 20-21'!$L$3:'Bill Register 20-21'!L974),COUNTIF(Voucher_Date_1819,\"<=\"&Voucher_Date_1819),0))","v":{"$error":"#N/A"}},{"$f":"INDEX(Voucher_Date_1819,MATCH(SMALL(IF(ISBLANK(Voucher_Date_1819),\"\",IF(ISNUMBER(Voucher_Date_1819),COUNTIF(Voucher_Date_1819,\"<\"&Voucher_Date_1819),COUNTIF(Voucher_Date_1819,\"<\"&Voucher_Date_1819)+SUM(IF(ISNUMBER(Voucher_Date_1819),1,0))+1)),ROW(A973)),IF(ISBLANK(Voucher_Date_1819),\"\",IF(ISNUMBER(Voucher_Date_1819),COUNTIF(Voucher_Date_1819,\"<\"&Voucher_Date_1819),COUNTIF(Voucher_Date_1819,\"<\"&Voucher_Date_1819)+SUM(IF(ISNUMBER(Voucher_Date_1819),1,0))+1)),0))","v":{"$error":"#NUM!"}}]
[{"$f":"INDEX(Voucher_Date_1819,MATCH(ROWS('Bill Register 20-21'!$L$3:'Bill Register 20-21'!L975),COUNTIF(Voucher_Date_1819,\"<=\"&Voucher_Date_1819),0))","v":{"$error":"#N/A"}},{"$f":"INDEX(Voucher_Date_1819,MATCH(SMALL(IF(ISBLANK(Voucher_Date_1819),\"\",IF(ISNUMBER(Voucher_Date_1819),COUNTIF(Voucher_Date_1819,\"<\"&Voucher_Date_1819),COUNTIF(Voucher_Date_1819,\"<\"&Voucher_Date_1819)+SUM(IF(ISNUMBER(Voucher_Date_1819),1,0))+1)),ROW(A974)),IF(ISBLANK(Voucher_Date_1819),\"\",IF(ISNUMBER(Voucher_Date_1819),COUNTIF(Voucher_Date_1819,\"<\"&Voucher_Date_1819),COUNTIF(Voucher_Date_1819,\"<\"&Voucher_Date_1819)+SUM(IF(ISNUMBER(Voucher_Date_1819),1,0))+1)),0))","v":{"$error":"#NUM!"}}]
[{"$f":"INDEX(Voucher_Date_1819,MATCH(ROWS('Bill Register 20-21'!$L$3:'Bill Register 20-21'!L976),COUNTIF(Voucher_Date_1819,\"<=\"&Voucher_Date_1819),0))","v":{"$error":"#N/A"}},{"$f":"INDEX(Voucher_Date_1819,MATCH(SMALL(IF(ISBLANK(Voucher_Date_1819),\"\",IF(ISNUMBER(Voucher_Date_1819),COUNTIF(Voucher_Date_1819,\"<\"&Voucher_Date_1819),COUNTIF(Voucher_Date_1819,\"<\"&Voucher_Date_1819)+SUM(IF(ISNUMBER(Voucher_Date_1819),1,0))+1)),ROW(A975)),IF(ISBLANK(Voucher_Date_1819),\"\",IF(ISNUMBER(Voucher_Date_1819),COUNTIF(Voucher_Date_1819,\"<\"&Voucher_Date_1819),COUNTIF(Voucher_Date_1819,\"<\"&Voucher_Date_1819)+SUM(IF(ISNUMBER(Voucher_Date_1819),1,0))+1)),0))","v":{"$error":"#NUM!"}}]
[{"$f":"INDEX(Voucher_Date_1819,MATCH(ROWS('Bill Register 20-21'!$L$3:'Bill Register 20-21'!L977),COUNTIF(Voucher_Date_1819,\"<=\"&Voucher_Date_1819),0))","v":{"$error":"#N/A"}},{"$f":"INDEX(Voucher_Date_1819,MATCH(SMALL(IF(ISBLANK(Voucher_Date_1819),\"\",IF(ISNUMBER(Voucher_Date_1819),COUNTIF(Voucher_Date_1819,\"<\"&Voucher_Date_1819),COUNTIF(Voucher_Date_1819,\"<\"&Voucher_Date_1819)+SUM(IF(ISNUMBER(Voucher_Date_1819),1,0))+1)),ROW(A976)),IF(ISBLANK(Voucher_Date_1819),\"\",IF(ISNUMBER(Voucher_Date_1819),COUNTIF(Voucher_Date_1819,\"<\"&Voucher_Date_1819),COUNTIF(Voucher_Date_1819,\"<\"&Voucher_Date_1819)+SUM(IF(ISNUMBER(Voucher_Date_1819),1,0))+1)),0))","v":{"$error":"#NUM!"}}]
[{"$f":"INDEX(Voucher_Date_1819,MATCH(ROWS('Bill Register 20-21'!$L$3:'Bill Register 20-21'!L978),COUNTIF(Voucher_Date_1819,\"<=\"&Voucher_Date_1819),0))","v":{"$error":"#N/A"}},{"$f":"INDEX(Voucher_Date_1819,MATCH(SMALL(IF(ISBLANK(Voucher_Date_1819),\"\",IF(ISNUMBER(Voucher_Date_1819),COUNTIF(Voucher_Date_1819,\"<\"&Voucher_Date_1819),COUNTIF(Voucher_Date_1819,\"<\"&Voucher_Date_1819)+SUM(IF(ISNUMBER(Voucher_Date_1819),1,0))+1)),ROW(A977)),IF(ISBLANK(Voucher_Date_1819),\"\",IF(ISNUMBER(Voucher_Date_1819),COUNTIF(Voucher_Date_1819,\"<\"&Voucher_Date_1819),COUNTIF(Voucher_Date_1819,\"<\"&Voucher_Date_1819)+SUM(IF(ISNUMBER(Voucher_Date_1819),1,0))+1)),0))","v":{"$error":"#NUM!"}}]
[{"$f":"INDEX(Voucher_Date_1819,MATCH(ROWS('Bill Register 20-21'!$L$3:'Bill Register 20-21'!L979),COUNTIF(Voucher_Date_1819,\"<=\"&Voucher_Date_1819),0))","v":{"$error":"#N/A"}},{"$f":"INDEX(Voucher_Date_1819,MATCH(SMALL(IF(ISBLANK(Voucher_Date_1819),\"\",IF(ISNUMBER(Voucher_Date_1819),COUNTIF(Voucher_Date_1819,\"<\"&Voucher_Date_1819),COUNTIF(Voucher_Date_1819,\"<\"&Voucher_Date_1819)+SUM(IF(ISNUMBER(Voucher_Date_1819),1,0))+1)),ROW(A978)),IF(ISBLANK(Voucher_Date_1819),\"\",IF(ISNUMBER(Voucher_Date_1819),COUNTIF(Voucher_Date_1819,\"<\"&Voucher_Date_1819),COUNTIF(Voucher_Date_1819,\"<\"&Voucher_Date_1819)+SUM(IF(ISNUMBER(Voucher_Date_1819),1,0))+1)),0))","v":{"$error":"#NUM!"}}]
[{"$f":"INDEX(Voucher_Date_1819,MATCH(ROWS('Bill Register 20-21'!$L$3:'Bill Register 20-21'!L980),COUNTIF(Voucher_Date_1819,\"<=\"&Voucher_Date_1819),0))","v":{"$error":"#N/A"}},{"$f":"INDEX(Voucher_Date_1819,MATCH(SMALL(IF(ISBLANK(Voucher_Date_1819),\"\",IF(ISNUMBER(Voucher_Date_1819),COUNTIF(Voucher_Date_1819,\"<\"&Voucher_Date_1819),COUNTIF(Voucher_Date_1819,\"<\"&Voucher_Date_1819)+SUM(IF(ISNUMBER(Voucher_Date_1819),1,0))+1)),ROW(A979)),IF(ISBLANK(Voucher_Date_1819),\"\",IF(ISNUMBER(Voucher_Date_1819),COUNTIF(Voucher_Date_1819,\"<\"&Voucher_Date_1819),COUNTIF(Voucher_Date_1819,\"<\"&Voucher_Date_1819)+SUM(IF(ISNUMBER(Voucher_Date_1819),1,0))+1)),0))","v":{"$error":"#NUM!"}}]
[{"$f":"INDEX(Voucher_Date_1819,MATCH(ROWS('Bill Register 20-21'!$L$3:'Bill Register 20-21'!L981),COUNTIF(Voucher_Date_1819,\"<=\"&Voucher_Date_1819),0))","v":{"$error":"#N/A"}},{"$f":"INDEX(Voucher_Date_1819,MATCH(SMALL(IF(ISBLANK(Voucher_Date_1819),\"\",IF(ISNUMBER(Voucher_Date_1819),COUNTIF(Voucher_Date_1819,\"<\"&Voucher_Date_1819),COUNTIF(Voucher_Date_1819,\"<\"&Voucher_Date_1819)+SUM(IF(ISNUMBER(Voucher_Date_1819),1,0))+1)),ROW(A980)),IF(ISBLANK(Voucher_Date_1819),\"\",IF(ISNUMBER(Voucher_Date_1819),COUNTIF(Voucher_Date_1819,\"<\"&Voucher_Date_1819),COUNTIF(Voucher_Date_1819,\"<\"&Voucher_Date_1819)+SUM(IF(ISNUMBER(Voucher_Date_1819),1,0))+1)),0))","v":{"$error":"#NUM!"}}]
[{"$f":"INDEX(Voucher_Date_1819,MATCH(ROWS('Bill Register 20-21'!$L$3:'Bill Register 20-21'!L982),COUNTIF(Voucher_Date_1819,\"<=\"&Voucher_Date_1819),0))","v":{"$error":"#N/A"}},{"$f":"INDEX(Voucher_Date_1819,MATCH(SMALL(IF(ISBLANK(Voucher_Date_1819),\"\",IF(ISNUMBER(Voucher_Date_1819),COUNTIF(Voucher_Date_1819,\"<\"&Voucher_Date_1819),COUNTIF(Voucher_Date_1819,\"<\"&Voucher_Date_1819)+SUM(IF(ISNUMBER(Voucher_Date_1819),1,0))+1)),ROW(A981)),IF(ISBLANK(Voucher_Date_1819),\"\",IF(ISNUMBER(Voucher_Date_1819),COUNTIF(Voucher_Date_1819,\"<\"&Voucher_Date_1819),COUNTIF(Voucher_Date_1819,\"<\"&Voucher_Date_1819)+SUM(IF(ISNUMBER(Voucher_Date_1819),1,0))+1)),0))","v":{"$error":"#NUM!"}}]
[{"$f":"INDEX(Voucher_Date_1819,MATCH(ROWS('Bill Register 20-21'!$L$3:'Bill Register 20-21'!L983),COUNTIF(Voucher_Date_1819,\"<=\"&Voucher_Date_1819),0))","v":{"$error":"#N/A"}},{"$f":"INDEX(Voucher_Date_1819,MATCH(SMALL(IF(ISBLANK(Voucher_Date_1819),\"\",IF(ISNUMBER(Voucher_Date_1819),COUNTIF(Voucher_Date_1819,\"<\"&Voucher_Date_1819),COUNTIF(Voucher_Date_1819,\"<\"&Voucher_Date_1819)+SUM(IF(ISNUMBER(Voucher_Date_1819),1,0))+1)),ROW(A982)),IF(ISBLANK(Voucher_Date_1819),\"\",IF(ISNUMBER(Voucher_Date_1819),COUNTIF(Voucher_Date_1819,\"<\"&Voucher_Date_1819),COUNTIF(Voucher_Date_1819,\"<\"&Voucher_Date_1819)+SUM(IF(ISNUMBER(Voucher_Date_1819),1,0))+1)),0))","v":{"$error":"#NUM!"}}]
[{"$f":"INDEX(Voucher_Date_1819,MATCH(ROWS('Bill Register 20-21'!$L$3:'Bill Register 20-21'!L984),COUNTIF(Voucher_Date_1819,\"<=\"&Voucher_Date_1819),0))","v":{"$error":"#N/A"}},{"$f":"INDEX(Voucher_Date_1819,MATCH(SMALL(IF(ISBLANK(Voucher_Date_1819),\"\",IF(ISNUMBER(Voucher_Date_1819),COUNTIF(Voucher_Date_1819,\"<\"&Voucher_Date_1819),COUNTIF(Voucher_Date_1819,\"<\"&Voucher_Date_1819)+SUM(IF(ISNUMBER(Voucher_Date_1819),1,0))+1)),ROW(A983)),IF(ISBLANK(Voucher_Date_1819),\"\",IF(ISNUMBER(Voucher_Date_1819),COUNTIF(Voucher_Date_1819,\"<\"&Voucher_Date_1819),COUNTIF(Voucher_Date_1819,\"<\"&Voucher_Date_1819)+SUM(IF(ISNUMBER(Voucher_Date_1819),1,0))+1)),0))","v":{"$error":"#NUM!"}}]
[{"$f":"INDEX(Voucher_Date_1819,MATCH(ROWS('Bill Register 20-21'!$L$3:'Bill Register 20-21'!L985),COUNTIF(Voucher_Date_1819,\"<=\"&Voucher_Date_1819),0))","v":{"$error":"#N/A"}},{"$f":"INDEX(Voucher_Date_1819,MATCH(SMALL(IF(ISBLANK(Voucher_Date_1819),\"\",IF(ISNUMBER(Voucher_Date_1819),COUNTIF(Voucher_Date_1819,\"<\"&Voucher_Date_1819),COUNTIF(Voucher_Date_1819,\"<\"&Voucher_Date_1819)+SUM(IF(ISNUMBER(Voucher_Date_1819),1,0))+1)),ROW(A984)),IF(ISBLANK(Voucher_Date_1819),\"\",IF(ISNUMBER(Voucher_Date_1819),COUNTIF(Voucher_Date_1819,\"<\"&Voucher_Date_1819),COUNTIF(Voucher_Date_1819,\"<\"&Voucher_Date_1819)+SUM(IF(ISNUMBER(Voucher_Date_1819),1,0))+1)),0))","v":{"$error":"#NUM!"}}]
[{"$f":"INDEX(Voucher_Date_1819,MATCH(ROWS('Bill Register 20-21'!$L$3:'Bill Register 20-21'!L986),COUNTIF(Voucher_Date_1819,\"<=\"&Voucher_Date_1819),0))","v":{"$error":"#N/A"}},{"$f":"INDEX(Voucher_Date_1819,MATCH(SMALL(IF(ISBLANK(Voucher_Date_1819),\"\",IF(ISNUMBER(Voucher_Date_1819),COUNTIF(Voucher_Date_1819,\"<\"&Voucher_Date_1819),COUNTIF(Voucher_Date_1819,\"<\"&Voucher_Date_1819)+SUM(IF(ISNUMBER(Voucher_Date_1819),1,0))+1)),ROW(A985)),IF(ISBLANK(Voucher_Date_1819),\"\",IF(ISNUMBER(Voucher_Date_1819),COUNTIF(Voucher_Date_1819,\"<\"&Voucher_Date_1819),COUNTIF(Voucher_Date_1819,\"<\"&Voucher_Date_1819)+SUM(IF(ISNUMBER(Voucher_Date_1819),1,0))+1)),0))","v":{"$error":"#NUM!"}}]
[{"$f":"INDEX(Voucher_Date_1819,MATCH(ROWS('Bill Register 20-21'!$L$3:'Bill Register 20-21'!L987),COUNTIF(Voucher_Date_1819,\"<=\"&Voucher_Date_1819),0))","v":{"$error":"#N/A"}},{"$f":"INDEX(Voucher_Date_1819,MATCH(SMALL(IF(ISBLANK(Voucher_Date_1819),\"\",IF(ISNUMBER(Voucher_Date_1819),COUNTIF(Voucher_Date_1819,\"<\"&Voucher_Date_1819),COUNTIF(Voucher_Date_1819,\"<\"&Voucher_Date_1819)+SUM(IF(ISNUMBER(Voucher_Date_1819),1,0))+1)),ROW(A986)),IF(ISBLANK(Voucher_Date_1819),\"\",IF(ISNUMBER(Voucher_Date_1819),COUNTIF(Voucher_Date_1819,\"<\"&Voucher_Date_1819),COUNTIF(Voucher_Date_1819,\"<\"&Voucher_Date_1819)+SUM(IF(ISNUMBER(Voucher_Date_1819),1,0))+1)),0))","v":{"$error":"#NUM!"}}]
[{"$f":"INDEX(Voucher_Date_1819,MATCH(ROWS('Bill Register 20-21'!$L$3:'Bill Register 20-21'!L988),COUNTIF(Voucher_Date_1819,\"<=\"&Voucher_Date_1819),0))","v":{"$error":"#N/A"}},{"$f":"INDEX(Voucher_Date_1819,MATCH(SMALL(IF(ISBLANK(Voucher_Date_1819),\"\",IF(ISNUMBER(Voucher_Date_1819),COUNTIF(Voucher_Date_1819,\"<\"&Voucher_Date_1819),COUNTIF(Voucher_Date_1819,\"<\"&Voucher_Date_1819)+SUM(IF(ISNUMBER(Voucher_Date_1819),1,0))+1)),ROW(A987)),IF(ISBLANK(Voucher_Date_1819),\"\",IF(ISNUMBER(Voucher_Date_1819),COUNTIF(Voucher_Date_1819,\"<\"&Voucher_Date_1819),COUNTIF(Voucher_Date_1819,\"<\"&Voucher_Date_1819)+SUM(IF(ISNUMBER(Voucher_Date_1819),1,0))+1)),0))","v":{"$error":"#NUM!"}}]
[{"$f":"INDEX(Voucher_Date_1819,MATCH(ROWS('Bill Register 20-21'!$L$3:'Bill Register 20-21'!L989),COUNTIF(Voucher_Date_1819,\"<=\"&Voucher_Date_1819),0))","v":{"$error":"#N/A"}},{"$f":"INDEX(Voucher_Date_1819,MATCH(SMALL(IF(ISBLANK(Voucher_Date_1819),\"\",IF(ISNUMBER(Voucher_Date_1819),COUNTIF(Voucher_Date_1819,\"<\"&Voucher_Date_1819),COUNTIF(Voucher_Date_1819,\"<\"&Voucher_Date_1819)+SUM(IF(ISNUMBER(Voucher_Date_1819),1,0))+1)),ROW(A988)),IF(ISBLANK(Voucher_Date_1819),\"\",IF(ISNUMBER(Voucher_Date_1819),COUNTIF(Voucher_Date_1819,\"<\"&Voucher_Date_1819),COUNTIF(Voucher_Date_1819,\"<\"&Voucher_Date_1819)+SUM(IF(ISNUMBER(Voucher_Date_1819),1,0))+1)),0))","v":{"$error":"#NUM!"}}]
[{"$f":"INDEX(Voucher_Date_1819,MATCH(ROWS('Bill Register 20-21'!$L$3:'Bill Register 20-21'!L990),COUNTIF(Voucher_Date_1819,\"<=\"&Voucher_Date_1819),0))","v":{"$error":"#N/A"}},{"$f":"INDEX(Voucher_Date_1819,MATCH(SMALL(IF(ISBLANK(Voucher_Date_1819),\"\",IF(ISNUMBER(Voucher_Date_1819),COUNTIF(Voucher_Date_1819,\"<\"&Voucher_Date_1819),COUNTIF(Voucher_Date_1819,\"<\"&Voucher_Date_1819)+SUM(IF(ISNUMBER(Voucher_Date_1819),1,0))+1)),ROW(A989)),IF(ISBLANK(Voucher_Date_1819),\"\",IF(ISNUMBER(Voucher_Date_1819),COUNTIF(Voucher_Date_1819,\"<\"&Voucher_Date_1819),COUNTIF(Voucher_Date_1819,\"<\"&Voucher_Date_1819)+SUM(IF(ISNUMBER(Voucher_Date_1819),1,0))+1)),0))","v":{"$error":"#NUM!"}}]
[{"$f":"INDEX(Voucher_Date_1819,MATCH(ROWS('Bill Register 20-21'!$L$3:'Bill Register 20-21'!L991),COUNTIF(Voucher_Date_1819,\"<=\"&Voucher_Date_1819),0))","v":{"$error":"#N/A"}},{"$f":"INDEX(Voucher_Date_1819,MATCH(SMALL(IF(ISBLANK(Voucher_Date_1819),\"\",IF(ISNUMBER(Voucher_Date_1819),COUNTIF(Voucher_Date_1819,\"<\"&Voucher_Date_1819),COUNTIF(Voucher_Date_1819,\"<\"&Voucher_Date_1819)+SUM(IF(ISNUMBER(Voucher_Date_1819),1,0))+1)),ROW(A990)),IF(ISBLANK(Voucher_Date_1819),\"\",IF(ISNUMBER(Voucher_Date_1819),COUNTIF(Voucher_Date_1819,\"<\"&Voucher_Date_1819),COUNTIF(Voucher_Date_1819,\"<\"&Voucher_Date_1819)+SUM(IF(ISNUMBER(Voucher_Date_1819),1,0))+1)),0))","v":{"$error":"#NUM!"}}]
[{"$f":"INDEX(Voucher_Date_1819,MATCH(ROWS('Bill Register 20-21'!$L$3:'Bill Register 20-21'!L992),COUNTIF(Voucher_Date_1819,\"<=\"&Voucher_Date_1819),0))","v":{"$error":"#N/A"}},{"$f":"INDEX(Voucher_Date_1819,MATCH(SMALL(IF(ISBLANK(Voucher_Date_1819),\"\",IF(ISNUMBER(Voucher_Date_1819),COUNTIF(Voucher_Date_1819,\"<\"&Voucher_Date_1819),COUNTIF(Voucher_Date_1819,\"<\"&Voucher_Date_1819)+SUM(IF(ISNUMBER(Voucher_Date_1819),1,0))+1)),ROW(A991)),IF(ISBLANK(Voucher_Date_1819),\"\",IF(ISNUMBER(Voucher_Date_1819),COUNTIF(Voucher_Date_1819,\"<\"&Voucher_Date_1819),COUNTIF(Voucher_Date_1819,\"<\"&Voucher_Date_1819)+SUM(IF(ISNUMBER(Voucher_Date_1819),1,0))+1)),0))","v":{"$error":"#NUM!"}}]
[{"$f":"INDEX(Voucher_Date_1819,MATCH(ROWS('Bill Register 20-21'!$L$3:'Bill Register 20-21'!L993),COUNTIF(Voucher_Date_1819,\"<=\"&Voucher_Date_1819),0))","v":{"$error":"#N/A"}},{"$f":"INDEX(Voucher_Date_1819,MATCH(SMALL(IF(ISBLANK(Voucher_Date_1819),\"\",IF(ISNUMBER(Voucher_Date_1819),COUNTIF(Voucher_Date_1819,\"<\"&Voucher_Date_1819),COUNTIF(Voucher_Date_1819,\"<\"&Voucher_Date_1819)+SUM(IF(ISNUMBER(Voucher_Date_1819),1,0))+1)),ROW(A992)),IF(ISBLANK(Voucher_Date_1819),\"\",IF(ISNUMBER(Voucher_Date_1819),COUNTIF(Voucher_Date_1819,\"<\"&Voucher_Date_1819),COUNTIF(Voucher_Date_1819,\"<\"&Voucher_Date_1819)+SUM(IF(ISNUMBER(Voucher_Date_1819),1,0))+1)),0))","v":{"$error":"#NUM!"}}]
[{"$f":"INDEX(Voucher_Date_1819,MATCH(ROWS('Bill Register 20-21'!$L$3:'Bill Register 20-21'!L994),COUNTIF(Voucher_Date_1819,\"<=\"&Voucher_Date_1819),0))","v":{"$error":"#N/A"}},{"$f":"INDEX(Voucher_Date_1819,MATCH(SMALL(IF(ISBLANK(Voucher_Date_1819),\"\",IF(ISNUMBER(Voucher_Date_1819),COUNTIF(Voucher_Date_1819,\"<\"&Voucher_Date_1819),COUNTIF(Voucher_Date_1819,\"<\"&Voucher_Date_1819)+SUM(IF(ISNUMBER(Voucher_Date_1819),1,0))+1)),ROW(A993)),IF(ISBLANK(Voucher_Date_1819),\"\",IF(ISNUMBER(Voucher_Date_1819),COUNTIF(Voucher_Date_1819,\"<\"&Voucher_Date_1819),COUNTIF(Voucher_Date_1819,\"<\"&Voucher_Date_1819)+SUM(IF(ISNUMBER(Voucher_Date_1819),1,0))+1)),0))","v":{"$error":"#NUM!"}}]
[{"$f":"INDEX(Voucher_Date_1819,MATCH(ROWS('Bill Register 20-21'!$L$3:'Bill Register 20-21'!L995),COUNTIF(Voucher_Date_1819,\"<=\"&Voucher_Date_1819),0))","v":{"$error":"#N/A"}},{"$f":"INDEX(Voucher_Date_1819,MATCH(SMALL(IF(ISBLANK(Voucher_Date_1819),\"\",IF(ISNUMBER(Voucher_Date_1819),COUNTIF(Voucher_Date_1819,\"<\"&Voucher_Date_1819),COUNTIF(Voucher_Date_1819,\"<\"&Voucher_Date_1819)+SUM(IF(ISNUMBER(Voucher_Date_1819),1,0))+1)),ROW(A994)),IF(ISBLANK(Voucher_Date_1819),\"\",IF(ISNUMBER(Voucher_Date_1819),COUNTIF(Voucher_Date_1819,\"<\"&Voucher_Date_1819),COUNTIF(Voucher_Date_1819,\"<\"&Voucher_Date_1819)+SUM(IF(ISNUMBER(Voucher_Date_1819),1,0))+1)),0))","v":{"$error":"#NUM!"}}]
[{"$f":"INDEX(Voucher_Date_1819,MATCH(ROWS('Bill Register 20-21'!$L$3:'Bill Register 20-21'!L996),COUNTIF(Voucher_Date_1819,\"<=\"&Voucher_Date_1819),0))","v":{"$error":"#N/A"}},{"$f":"INDEX(Voucher_Date_1819,MATCH(SMALL(IF(ISBLANK(Voucher_Date_1819),\"\",IF(ISNUMBER(Voucher_Date_1819),COUNTIF(Voucher_Date_1819,\"<\"&Voucher_Date_1819),COUNTIF(Voucher_Date_1819,\"<\"&Voucher_Date_1819)+SUM(IF(ISNUMBER(Voucher_Date_1819),1,0))+1)),ROW(A995)),IF(ISBLANK(Voucher_Date_1819),\"\",IF(ISNUMBER(Voucher_Date_1819),COUNTIF(Voucher_Date_1819,\"<\"&Voucher_Date_1819),COUNTIF(Voucher_Date_1819,\"<\"&Voucher_Date_1819)+SUM(IF(ISNUMBER(Voucher_Date_1819),1,0))+1)),0))","v":{"$error":"#NUM!"}}]
[{"$f":"INDEX(Voucher_Date_1819,MATCH(ROWS('Bill Register 20-21'!$L$3:'Bill Register 20-21'!L997),COUNTIF(Voucher_Date_1819,\"<=\"&Voucher_Date_1819),0))","v":{"$error":"#N/A"}},{"$f":"INDEX(Voucher_Date_1819,MATCH(SMALL(IF(ISBLANK(Voucher_Date_1819),\"\",IF(ISNUMBER(Voucher_Date_1819),COUNTIF(Voucher_Date_1819,\"<\"&Voucher_Date_1819),COUNTIF(Voucher_Date_1819,\"<\"&Voucher_Date_1819)+SUM(IF(ISNUMBER(Voucher_Date_1819),1,0))+1)),ROW(A996)),IF(ISBLANK(Voucher_Date_1819),\"\",IF(ISNUMBER(Voucher_Date_1819),COUNTIF(Voucher_Date_1819,\"<\"&Voucher_Date_1819),COUNTIF(Voucher_Date_1819,\"<\"&Voucher_Date_1819)+SUM(IF(ISNUMBER(Voucher_Date_1819),1,0))+1)),0))","v":{"$error":"#NUM!"}}]
[{"$f":"INDEX(Voucher_Date_1819,MATCH(ROWS('Bill Register 20-21'!$L$3:'Bill Register 20-21'!L998),COUNTIF(Voucher_Date_1819,\"<=\"&Voucher_Date_1819),0))","v":{"$error":"#N/A"}},{"$f":"INDEX(Voucher_Date_1819,MATCH(SMALL(IF(ISBLANK(Voucher_Date_1819),\"\",IF(ISNUMBER(Voucher_Date_1819),COUNTIF(Voucher_Date_1819,\"<\"&Voucher_Date_1819),COUNTIF(Voucher_Date_1819,\"<\"&Voucher_Date_1819)+SUM(IF(ISNUMBER(Voucher_Date_1819),1,0))+1)),ROW(A997)),IF(ISBLANK(Voucher_Date_1819),\"\",IF(ISNUMBER(Voucher_Date_1819),COUNTIF(Voucher_Date_1819,\"<\"&Voucher_Date_1819),COUNTIF(Voucher_Date_1819,\"<\"&Voucher_Date_1819)+SUM(IF(ISNUMBER(Voucher_Date_1819),1,0))+1)),0))","v":{"$error":"#NUM!"}}]
[{"$f":"INDEX(Voucher_Date_1819,MATCH(ROWS('Bill Register 20-21'!$L$3:'Bill Register 20-21'!L999),COUNTIF(Voucher_Date_1819,\"<=\"&Voucher_Date_1819),0))","v":{"$error":"#N/A"}},{"$f":"INDEX(Voucher_Date_1819,MATCH(SMALL(IF(ISBLANK(Voucher_Date_1819),\"\",IF(ISNUMBER(Voucher_Date_1819),COUNTIF(Voucher_Date_1819,\"<\"&Voucher_Date_1819),COUNTIF(Voucher_Date_1819,\"<\"&Voucher_Date_1819)+SUM(IF(ISNUMBER(Voucher_Date_1819),1,0))+1)),ROW(A998)),IF(ISBLANK(Voucher_Date_1819),\"\",IF(ISNUMBER(Voucher_Date_1819),COUNTIF(Voucher_Date_1819,\"<\"&Voucher_Date_1819),COUNTIF(Voucher_Date_1819,\"<\"&Voucher_Date_1819)+SUM(IF(ISNUMBER(Voucher_Date_1819),1,0))+1)),0))","v":{"$error":"#NUM!"}}]
[{"$f":"INDEX(Voucher_Date_1819,MATCH(ROWS('Bill Register 20-21'!$L$3:'Bill Register 20-21'!L1000),COUNTIF(Voucher_Date_1819,\"<=\"&Voucher_Date_1819),0))","v":{"$error":"#N/A"}},{"$f":"INDEX(Voucher_Date_1819,MATCH(SMALL(IF(ISBLANK(Voucher_Date_1819),\"\",IF(ISNUMBER(Voucher_Date_1819),COUNTIF(Voucher_Date_1819,\"<\"&Voucher_Date_1819),COUNTIF(Voucher_Date_1819,\"<\"&Voucher_Date_1819)+SUM(IF(ISNUMBER(Voucher_Date_1819),1,0))+1)),ROW(A999)),IF(ISBLANK(Voucher_Date_1819),\"\",IF(ISNUMBER(Voucher_Date_1819),COUNTIF(Voucher_Date_1819,\"<\"&Voucher_Date_1819),COUNTIF(Voucher_Date_1819,\"<\"&Voucher_Date_1819)+SUM(IF(ISNUMBER(Voucher_Date_1819),1,0))+1)),0))","v":{"$error":"#NUM!"}}]
[{"$f":"INDEX(Voucher_Date_1819,MATCH(ROWS('Bill Register 20-21'!$L$3:'Bill Register 20-21'!L1001),COUNTIF(Voucher_Date_1819,\"<=\"&Voucher_Date_1819),0))","v":{"$error":"#N/A"}},{"$f":"INDEX(Voucher_Date_1819,MATCH(SMALL(IF(ISBLANK(Voucher_Date_1819),\"\",IF(ISNUMBER(Voucher_Date_1819),COUNTIF(Voucher_Date_1819,\"<\"&Voucher_Date_1819),COUNTIF(Voucher_Date_1819,\"<\"&Voucher_Date_1819)+SUM(IF(ISNUMBER(Voucher_Date_1819),1,0))+1)),ROW(A1000)),IF(ISBLANK(Voucher_Date_1819),\"\",IF(ISNUMBER(Voucher_Date_1819),COUNTIF(Voucher_Date_1819,\"<\"&Voucher_Date_1819),COUNTIF(Voucher_Date_1819,\"<\"&Voucher_Date_1819)+SUM(IF(ISNUMBER(Voucher_Date_1819),1,0))+1)),0))","v":{"$error":"#NUM!"}}]
[{"$f":"INDEX(Voucher_Date_1819,MATCH(ROWS('Bill Register 20-21'!$L$3:'Bill Register 20-21'!L1002),COUNTIF(Voucher_Date_1819,\"<=\"&Voucher_Date_1819),0))","v":{"$error":"#N/A"}},{"$f":"INDEX(Voucher_Date_1819,MATCH(SMALL(IF(ISBLANK(Voucher_Date_1819),\"\",IF(ISNUMBER(Voucher_Date_1819),COUNTIF(Voucher_Date_1819,\"<\"&Voucher_Date_1819),COUNTIF(Voucher_Date_1819,\"<\"&Voucher_Date_1819)+SUM(IF(ISNUMBER(Voucher_Date_1819),1,0))+1)),ROW(A1001)),IF(ISBLANK(Voucher_Date_1819),\"\",IF(ISNUMBER(Voucher_Date_1819),COUNTIF(Voucher_Date_1819,\"<\"&Voucher_Date_1819),COUNTIF(Voucher_Date_1819,\"<\"&Voucher_Date_1819)+SUM(IF(ISNUMBER(Voucher_Date_1819),1,0))+1)),0))","v":{"$error":"#NUM!"}}]
[{"$f":"INDEX(Voucher_Date_1819,MATCH(ROWS('Bill Register 20-21'!$L$3:'Bill Register 20-21'!L1003),COUNTIF(Voucher_Date_1819,\"<=\"&Voucher_Date_1819),0))","v":{"$error":"#N/A"}},{"$f":"INDEX(Voucher_Date_1819,MATCH(SMALL(IF(ISBLANK(Voucher_Date_1819),\"\",IF(ISNUMBER(Voucher_Date_1819),COUNTIF(Voucher_Date_1819,\"<\"&Voucher_Date_1819),COUNTIF(Voucher_Date_1819,\"<\"&Voucher_Date_1819)+SUM(IF(ISNUMBER(Voucher_Date_1819),1,0))+1)),ROW(A1002)),IF(ISBLANK(Voucher_Date_1819),\"\",IF(ISNUMBER(Voucher_Date_1819),COUNTIF(Voucher_Date_1819,\"<\"&Voucher_Date_1819),COUNTIF(Voucher_Date_1819,\"<\"&Voucher_Date_1819)+SUM(IF(ISNUMBER(Voucher_Date_1819),1,0))+1)),0))","v":{"$error":"#NUM!"}}]
[{"$f":"INDEX(Voucher_Date_1819,MATCH(ROWS('Bill Register 20-21'!$L$3:'Bill Register 20-21'!L1004),COUNTIF(Voucher_Date_1819,\"<=\"&Voucher_Date_1819),0))","v":{"$error":"#N/A"}},{"$f":"INDEX(Voucher_Date_1819,MATCH(SMALL(IF(ISBLANK(Voucher_Date_1819),\"\",IF(ISNUMBER(Voucher_Date_1819),COUNTIF(Voucher_Date_1819,\"<\"&Voucher_Date_1819),COUNTIF(Voucher_Date_1819,\"<\"&Voucher_Date_1819)+SUM(IF(ISNUMBER(Voucher_Date_1819),1,0))+1)),ROW(A1003)),IF(ISBLANK(Voucher_Date_1819),\"\",IF(ISNUMBER(Voucher_Date_1819),COUNTIF(Voucher_Date_1819,\"<\"&Voucher_Date_1819),COUNTIF(Voucher_Date_1819,\"<\"&Voucher_Date_1819)+SUM(IF(ISNUMBER(Voucher_Date_1819),1,0))+1)),0))","v":{"$error":"#NUM!"}}]
[{"$f":"INDEX(Voucher_Date_1819,MATCH(ROWS('Bill Register 20-21'!$L$3:'Bill Register 20-21'!L1005),COUNTIF(Voucher_Date_1819,\"<=\"&Voucher_Date_1819),0))","v":{"$error":"#N/A"}},{"$f":"INDEX(Voucher_Date_1819,MATCH(SMALL(IF(ISBLANK(Voucher_Date_1819),\"\",IF(ISNUMBER(Voucher_Date_1819),COUNTIF(Voucher_Date_1819,\"<\"&Voucher_Date_1819),COUNTIF(Voucher_Date_1819,\"<\"&Voucher_Date_1819)+SUM(IF(ISNUMBER(Voucher_Date_1819),1,0))+1)),ROW(A1004)),IF(ISBLANK(Voucher_Date_1819),\"\",IF(ISNUMBER(Voucher_Date_1819),COUNTIF(Voucher_Date_1819,\"<\"&Voucher_Date_1819),COUNTIF(Voucher_Date_1819,\"<\"&Voucher_Date_1819)+SUM(IF(ISNUMBER(Voucher_Date_1819),1,0))+1)),0))","v":{"$error":"#NUM!"}}]
[{"$f":"INDEX(Voucher_Date_1819,MATCH(ROWS('Bill Register 20-21'!$L$3:'Bill Register 20-21'!L1006),COUNTIF(Voucher_Date_1819,\"<=\"&Voucher_Date_1819),0))","v":{"$error":"#N/A"}},{"$f":"INDEX(Voucher_Date_1819,MATCH(SMALL(IF(ISBLANK(Voucher_Date_1819),\"\",IF(ISNUMBER(Voucher_Date_1819),COUNTIF(Voucher_Date_1819,\"<\"&Voucher_Date_1819),COUNTIF(Voucher_Date_1819,\"<\"&Voucher_Date_1819)+SUM(IF(ISNUMBER(Voucher_Date_1819),1,0))+1)),ROW(A1005)),IF(ISBLANK(Voucher_Date_1819),\"\",IF(ISNUMBER(Voucher_Date_1819),COUNTIF(Voucher_Date_1819,\"<\"&Voucher_Date_1819),COUNTIF(Voucher_Date_1819,\"<\"&Voucher_Date_1819)+SUM(IF(ISNUMBER(Voucher_Date_1819),1,0))+1)),0))","v":{"$error":"#NUM!"}}]
[{"$f":"INDEX(Voucher_Date_1819,MATCH(ROWS('Bill Register 20-21'!$L$3:'Bill Register 20-21'!L1007),COUNTIF(Voucher_Date_1819,\"<=\"&Voucher_Date_1819),0))","v":{"$error":"#N/A"}},{"$f":"INDEX(Voucher_Date_1819,MATCH(SMALL(IF(ISBLANK(Voucher_Date_1819),\"\",IF(ISNUMBER(Voucher_Date_1819),COUNTIF(Voucher_Date_1819,\"<\"&Voucher_Date_1819),COUNTIF(Voucher_Date_1819,\"<\"&Voucher_Date_1819)+SUM(IF(ISNUMBER(Voucher_Date_1819),1,0))+1)),ROW(A1006)),IF(ISBLANK(Voucher_Date_1819),\"\",IF(ISNUMBER(Voucher_Date_1819),COUNTIF(Voucher_Date_1819,\"<\"&Voucher_Date_1819),COUNTIF(Voucher_Date_1819,\"<\"&Voucher_Date_1819)+SUM(IF(ISNUMBER(Voucher_Date_1819),1,0))+1)),0))","v":{"$error":"#NUM!"}}]
[{"$f":"INDEX(Voucher_Date_1819,MATCH(ROWS('Bill Register 20-21'!$L$3:'Bill Register 20-21'!L1008),COUNTIF(Voucher_Date_1819,\"<=\"&Voucher_Date_1819),0))","v":{"$error":"#N/A"}},{"$f":"INDEX(Voucher_Date_1819,MATCH(SMALL(IF(ISBLANK(Voucher_Date_1819),\"\",IF(ISNUMBER(Voucher_Date_1819),COUNTIF(Voucher_Date_1819,\"<\"&Voucher_Date_1819),COUNTIF(Voucher_Date_1819,\"<\"&Voucher_Date_1819)+SUM(IF(ISNUMBER(Voucher_Date_1819),1,0))+1)),ROW(A1007)),IF(ISBLANK(Voucher_Date_1819),\"\",IF(ISNUMBER(Voucher_Date_1819),COUNTIF(Voucher_Date_1819,\"<\"&Voucher_Date_1819),COUNTIF(Voucher_Date_1819,\"<\"&Voucher_Date_1819)+SUM(IF(ISNUMBER(Voucher_Date_1819),1,0))+1)),0))","v":{"$error":"#NUM!"}}]
[{"$f":"INDEX(Voucher_Date_1819,MATCH(ROWS('Bill Register 20-21'!$L$3:'Bill Register 20-21'!L1009),COUNTIF(Voucher_Date_1819,\"<=\"&Voucher_Date_1819),0))","v":{"$error":"#N/A"}},{"$f":"INDEX(Voucher_Date_1819,MATCH(SMALL(IF(ISBLANK(Voucher_Date_1819),\"\",IF(ISNUMBER(Voucher_Date_1819),COUNTIF(Voucher_Date_1819,\"<\"&Voucher_Date_1819),COUNTIF(Voucher_Date_1819,\"<\"&Voucher_Date_1819)+SUM(IF(ISNUMBER(Voucher_Date_1819),1,0))+1)),ROW(A1008)),IF(ISBLANK(Voucher_Date_1819),\"\",IF(ISNUMBER(Voucher_Date_1819),COUNTIF(Voucher_Date_1819,\"<\"&Voucher_Date_1819),COUNTIF(Voucher_Date_1819,\"<\"&Voucher_Date_1819)+SUM(IF(ISNUMBER(Voucher_Date_1819),1,0))+1)),0))","v":{"$error":"#NUM!"}}]
[{"$f":"INDEX(Voucher_Date_1819,MATCH(ROWS('Bill Register 20-21'!$L$3:'Bill Register 20-21'!L1010),COUNTIF(Voucher_Date_1819,\"<=\"&Voucher_Date_1819),0))","v":{"$error":"#N/A"}},{"$f":"INDEX(Voucher_Date_1819,MATCH(SMALL(IF(ISBLANK(Voucher_Date_1819),\"\",IF(ISNUMBER(Voucher_Date_1819),COUNTIF(Voucher_Date_1819,\"<\"&Voucher_Date_1819),COUNTIF(Voucher_Date_1819,\"<\"&Voucher_Date_1819)+SUM(IF(ISNUMBER(Voucher_Date_1819),1,0))+1)),ROW(A1009)),IF(ISBLANK(Voucher_Date_1819),\"\",IF(ISNUMBER(Voucher_Date_1819),COUNTIF(Voucher_Date_1819,\"<\"&Voucher_Date_1819),COUNTIF(Voucher_Date_1819,\"<\"&Voucher_Date_1819)+SUM(IF(ISNUMBER(Voucher_Date_1819),1,0))+1)),0))","v":{"$error":"#NUM!"}}]
[{"$f":"INDEX(Voucher_Date_1819,MATCH(ROWS('Bill Register 20-21'!$L$3:'Bill Register 20-21'!L1011),COUNTIF(Voucher_Date_1819,\"<=\"&Voucher_Date_1819),0))","v":{"$error":"#N/A"}},{"$f":"INDEX(Voucher_Date_1819,MATCH(SMALL(IF(ISBLANK(Voucher_Date_1819),\"\",IF(ISNUMBER(Voucher_Date_1819),COUNTIF(Voucher_Date_1819,\"<\"&Voucher_Date_1819),COUNTIF(Voucher_Date_1819,\"<\"&Voucher_Date_1819)+SUM(IF(ISNUMBER(Voucher_Date_1819),1,0))+1)),ROW(A1010)),IF(ISBLANK(Voucher_Date_1819),\"\",IF(ISNUMBER(Voucher_Date_1819),COUNTIF(Voucher_Date_1819,\"<\"&Voucher_Date_1819),COUNTIF(Voucher_Date_1819,\"<\"&Voucher_Date_1819)+SUM(IF(ISNUMBER(Voucher_Date_1819),1,0))+1)),0))","v":{"$error":"#NUM!"}}]
[{"$f":"INDEX(Voucher_Date_1819,MATCH(ROWS('Bill Register 20-21'!$L$3:'Bill Register 20-21'!L1012),COUNTIF(Voucher_Date_1819,\"<=\"&Voucher_Date_1819),0))","v":{"$error":"#N/A"}},{"$f":"INDEX(Voucher_Date_1819,MATCH(SMALL(IF(ISBLANK(Voucher_Date_1819),\"\",IF(ISNUMBER(Voucher_Date_1819),COUNTIF(Voucher_Date_1819,\"<\"&Voucher_Date_1819),COUNTIF(Voucher_Date_1819,\"<\"&Voucher_Date_1819)+SUM(IF(ISNUMBER(Voucher_Date_1819),1,0))+1)),ROW(A1011)),IF(ISBLANK(Voucher_Date_1819),\"\",IF(ISNUMBER(Voucher_Date_1819),COUNTIF(Voucher_Date_1819,\"<\"&Voucher_Date_1819),COUNTIF(Voucher_Date_1819,\"<\"&Voucher_Date_1819)+SUM(IF(ISNUMBER(Voucher_Date_1819),1,0))+1)),0))","v":{"$error":"#NUM!"}}]
[{"$f":"INDEX(Voucher_Date_1819,MATCH(ROWS('Bill Register 20-21'!$L$3:'Bill Register 20-21'!L1013),COUNTIF(Voucher_Date_1819,\"<=\"&Voucher_Date_1819),0))","v":{"$error":"#N/A"}},{"$f":"INDEX(Voucher_Date_1819,MATCH(SMALL(IF(ISBLANK(Voucher_Date_1819),\"\",IF(ISNUMBER(Voucher_Date_1819),COUNTIF(Voucher_Date_1819,\"<\"&Voucher_Date_1819),COUNTIF(Voucher_Date_1819,\"<\"&Voucher_Date_1819)+SUM(IF(ISNUMBER(Voucher_Date_1819),1,0))+1)),ROW(A1012)),IF(ISBLANK(Voucher_Date_1819),\"\",IF(ISNUMBER(Voucher_Date_1819),COUNTIF(Voucher_Date_1819,\"<\"&Voucher_Date_1819),COUNTIF(Voucher_Date_1819,\"<\"&Voucher_Date_1819)+SUM(IF(ISNUMBER(Voucher_Date_1819),1,0))+1)),0))","v":{"$error":"#NUM!"}}]
[{"$f":"INDEX(Voucher_Date_1819,MATCH(ROWS('Bill Register 20-21'!$L$3:'Bill Register 20-21'!L1014),COUNTIF(Voucher_Date_1819,\"<=\"&Voucher_Date_1819),0))","v":{"$error":"#N/A"}},{"$f":"INDEX(Voucher_Date_1819,MATCH(SMALL(IF(ISBLANK(Voucher_Date_1819),\"\",IF(ISNUMBER(Voucher_Date_1819),COUNTIF(Voucher_Date_1819,\"<\"&Voucher_Date_1819),COUNTIF(Voucher_Date_1819,\"<\"&Voucher_Date_1819)+SUM(IF(ISNUMBER(Voucher_Date_1819),1,0))+1)),ROW(A1013)),IF(ISBLANK(Voucher_Date_1819),\"\",IF(ISNUMBER(Voucher_Date_1819),COUNTIF(Voucher_Date_1819,\"<\"&Voucher_Date_1819),COUNTIF(Voucher_Date_1819,\"<\"&Voucher_Date_1819)+SUM(IF(ISNUMBER(Voucher_Date_1819),1,0))+1)),0))","v":{"$error":"#NUM!"}}]
[{"$f":"INDEX(Voucher_Date_1819,MATCH(ROWS('Bill Register 20-21'!$L$3:'Bill Register 20-21'!L1015),COUNTIF(Voucher_Date_1819,\"<=\"&Voucher_Date_1819),0))","v":{"$error":"#N/A"}},{"$f":"INDEX(Voucher_Date_1819,MATCH(SMALL(IF(ISBLANK(Voucher_Date_1819),\"\",IF(ISNUMBER(Voucher_Date_1819),COUNTIF(Voucher_Date_1819,\"<\"&Voucher_Date_1819),COUNTIF(Voucher_Date_1819,\"<\"&Voucher_Date_1819)+SUM(IF(ISNUMBER(Voucher_Date_1819),1,0))+1)),ROW(A1014)),IF(ISBLANK(Voucher_Date_1819),\"\",IF(ISNUMBER(Voucher_Date_1819),COUNTIF(Voucher_Date_1819,\"<\"&Voucher_Date_1819),COUNTIF(Voucher_Date_1819,\"<\"&Voucher_Date_1819)+SUM(IF(ISNUMBER(Voucher_Date_1819),1,0))+1)),0))","v":{"$error":"#NUM!"}}]
[{"$f":"INDEX(Voucher_Date_1819,MATCH(ROWS('Bill Register 20-21'!$L$3:'Bill Register 20-21'!L1016),COUNTIF(Voucher_Date_1819,\"<=\"&Voucher_Date_1819),0))","v":{"$error":"#N/A"}},{"$f":"INDEX(Voucher_Date_1819,MATCH(SMALL(IF(ISBLANK(Voucher_Date_1819),\"\",IF(ISNUMBER(Voucher_Date_1819),COUNTIF(Voucher_Date_1819,\"<\"&Voucher_Date_1819),COUNTIF(Voucher_Date_1819,\"<\"&Voucher_Date_1819)+SUM(IF(ISNUMBER(Voucher_Date_1819),1,0))+1)),ROW(A1015)),IF(ISBLANK(Voucher_Date_1819),\"\",IF(ISNUMBER(Voucher_Date_1819),COUNTIF(Voucher_Date_1819,\"<\"&Voucher_Date_1819),COUNTIF(Voucher_Date_1819,\"<\"&Voucher_Date_1819)+SUM(IF(ISNUMBER(Voucher_Date_1819),1,0))+1)),0))","v":{"$error":"#NUM!"}}]
[{"$f":"INDEX(Voucher_Date_1819,MATCH(ROWS('Bill Register 20-21'!$L$3:'Bill Register 20-21'!L1017),COUNTIF(Voucher_Date_1819,\"<=\"&Voucher_Date_1819),0))","v":{"$error":"#N/A"}},{"$f":"INDEX(Voucher_Date_1819,MATCH(SMALL(IF(ISBLANK(Voucher_Date_1819),\"\",IF(ISNUMBER(Voucher_Date_1819),COUNTIF(Voucher_Date_1819,\"<\"&Voucher_Date_1819),COUNTIF(Voucher_Date_1819,\"<\"&Voucher_Date_1819)+SUM(IF(ISNUMBER(Voucher_Date_1819),1,0))+1)),ROW(A1016)),IF(ISBLANK(Voucher_Date_1819),\"\",IF(ISNUMBER(Voucher_Date_1819),COUNTIF(Voucher_Date_1819,\"<\"&Voucher_Date_1819),COUNTIF(Voucher_Date_1819,\"<\"&Voucher_Date_1819)+SUM(IF(ISNUMBER(Voucher_Date_1819),1,0))+1)),0))","v":{"$error":"#NUM!"}}]
[{"$f":"INDEX(Voucher_Date_1819,MATCH(ROWS('Bill Register 20-21'!$L$3:'Bill Register 20-21'!L1018),COUNTIF(Voucher_Date_1819,\"<=\"&Voucher_Date_1819),0))","v":{"$error":"#N/A"}},{"$f":"INDEX(Voucher_Date_1819,MATCH(SMALL(IF(ISBLANK(Voucher_Date_1819),\"\",IF(ISNUMBER(Voucher_Date_1819),COUNTIF(Voucher_Date_1819,\"<\"&Voucher_Date_1819),COUNTIF(Voucher_Date_1819,\"<\"&Voucher_Date_1819)+SUM(IF(ISNUMBER(Voucher_Date_1819),1,0))+1)),ROW(A1017)),IF(ISBLANK(Voucher_Date_1819),\"\",IF(ISNUMBER(Voucher_Date_1819),COUNTIF(Voucher_Date_1819,\"<\"&Voucher_Date_1819),COUNTIF(Voucher_Date_1819,\"<\"&Voucher_Date_1819)+SUM(IF(ISNUMBER(Voucher_Date_1819),1,0))+1)),0))","v":{"$error":"#NUM!"}}]
[{"$f":"INDEX(Voucher_Date_1819,MATCH(ROWS('Bill Register 20-21'!$L$3:'Bill Register 20-21'!L1019),COUNTIF(Voucher_Date_1819,\"<=\"&Voucher_Date_1819),0))","v":{"$error":"#N/A"}},{"$f":"INDEX(Voucher_Date_1819,MATCH(SMALL(IF(ISBLANK(Voucher_Date_1819),\"\",IF(ISNUMBER(Voucher_Date_1819),COUNTIF(Voucher_Date_1819,\"<\"&Voucher_Date_1819),COUNTIF(Voucher_Date_1819,\"<\"&Voucher_Date_1819)+SUM(IF(ISNUMBER(Voucher_Date_1819),1,0))+1)),ROW(A1018)),IF(ISBLANK(Voucher_Date_1819),\"\",IF(ISNUMBER(Voucher_Date_1819),COUNTIF(Voucher_Date_1819,\"<\"&Voucher_Date_1819),COUNTIF(Voucher_Date_1819,\"<\"&Voucher_Date_1819)+SUM(IF(ISNUMBER(Voucher_Date_1819),1,0))+1)),0))","v":{"$error":"#NUM!"}}]
[{"$f":"INDEX(Voucher_Date_1819,MATCH(ROWS('Bill Register 20-21'!$L$3:'Bill Register 20-21'!L1020),COUNTIF(Voucher_Date_1819,\"<=\"&Voucher_Date_1819),0))","v":{"$error":"#N/A"}},{"$f":"INDEX(Voucher_Date_1819,MATCH(SMALL(IF(ISBLANK(Voucher_Date_1819),\"\",IF(ISNUMBER(Voucher_Date_1819),COUNTIF(Voucher_Date_1819,\"<\"&Voucher_Date_1819),COUNTIF(Voucher_Date_1819,\"<\"&Voucher_Date_1819)+SUM(IF(ISNUMBER(Voucher_Date_1819),1,0))+1)),ROW(A1019)),IF(ISBLANK(Voucher_Date_1819),\"\",IF(ISNUMBER(Voucher_Date_1819),COUNTIF(Voucher_Date_1819,\"<\"&Voucher_Date_1819),COUNTIF(Voucher_Date_1819,\"<\"&Voucher_Date_1819)+SUM(IF(ISNUMBER(Voucher_Date_1819),1,0))+1)),0))","v":{"$error":"#NUM!"}}]
[{"$f":"INDEX(Voucher_Date_1819,MATCH(ROWS('Bill Register 20-21'!$L$3:'Bill Register 20-21'!L1021),COUNTIF(Voucher_Date_1819,\"<=\"&Voucher_Date_1819),0))","v":{"$error":"#N/A"}},{"$f":"INDEX(Voucher_Date_1819,MATCH(SMALL(IF(ISBLANK(Voucher_Date_1819),\"\",IF(ISNUMBER(Voucher_Date_1819),COUNTIF(Voucher_Date_1819,\"<\"&Voucher_Date_1819),COUNTIF(Voucher_Date_1819,\"<\"&Voucher_Date_1819)+SUM(IF(ISNUMBER(Voucher_Date_1819),1,0))+1)),ROW(A1020)),IF(ISBLANK(Voucher_Date_1819),\"\",IF(ISNUMBER(Voucher_Date_1819),COUNTIF(Voucher_Date_1819,\"<\"&Voucher_Date_1819),COUNTIF(Voucher_Date_1819,\"<\"&Voucher_Date_1819)+SUM(IF(ISNUMBER(Voucher_Date_1819),1,0))+1)),0))","v":{"$error":"#NUM!"}}]
[{"$f":"INDEX(Voucher_Date_1819,MATCH(ROWS('Bill Register 20-21'!$L$3:'Bill Register 20-21'!L1022),COUNTIF(Voucher_Date_1819,\"<=\"&Voucher_Date_1819),0))","v":{"$error":"#N/A"}},{"$f":"INDEX(Voucher_Date_1819,MATCH(SMALL(IF(ISBLANK(Voucher_Date_1819),\"\",IF(ISNUMBER(Voucher_Date_1819),COUNTIF(Voucher_Date_1819,\"<\"&Voucher_Date_1819),COUNTIF(Voucher_Date_1819,\"<\"&Voucher_Date_1819)+SUM(IF(ISNUMBER(Voucher_Date_1819),1,0))+1)),ROW(A1021)),IF(ISBLANK(Voucher_Date_1819),\"\",IF(ISNUMBER(Voucher_Date_1819),COUNTIF(Voucher_Date_1819,\"<\"&Voucher_Date_1819),COUNTIF(Voucher_Date_1819,\"<\"&Voucher_Date_1819)+SUM(IF(ISNUMBER(Voucher_Date_1819),1,0))+1)),0))","v":{"$error":"#NUM!"}}]
[{"$f":"INDEX(Voucher_Date_1819,MATCH(ROWS('Bill Register 20-21'!$L$3:'Bill Register 20-21'!L1023),COUNTIF(Voucher_Date_1819,\"<=\"&Voucher_Date_1819),0))","v":{"$error":"#N/A"}},{"$f":"INDEX(Voucher_Date_1819,MATCH(SMALL(IF(ISBLANK(Voucher_Date_1819),\"\",IF(ISNUMBER(Voucher_Date_1819),COUNTIF(Voucher_Date_1819,\"<\"&Voucher_Date_1819),COUNTIF(Voucher_Date_1819,\"<\"&Voucher_Date_1819)+SUM(IF(ISNUMBER(Voucher_Date_1819),1,0))+1)),ROW(A1022)),IF(ISBLANK(Voucher_Date_1819),\"\",IF(ISNUMBER(Voucher_Date_1819),COUNTIF(Voucher_Date_1819,\"<\"&Voucher_Date_1819),COUNTIF(Voucher_Date_1819,\"<\"&Voucher_Date_1819)+SUM(IF(ISNUMBER(Voucher_Date_1819),1,0))+1)),0))","v":{"$error":"#NUM!"}}]
[{"$f":"INDEX(Voucher_Date_1819,MATCH(ROWS('Bill Register 20-21'!$L$3:'Bill Register 20-21'!L1024),COUNTIF(Voucher_Date_1819,\"<=\"&Voucher_Date_1819),0))","v":{"$error":"#N/A"}},{"$f":"INDEX(Voucher_Date_1819,MATCH(SMALL(IF(ISBLANK(Voucher_Date_1819),\"\",IF(ISNUMBER(Voucher_Date_1819),COUNTIF(Voucher_Date_1819,\"<\"&Voucher_Date_1819),COUNTIF(Voucher_Date_1819,\"<\"&Voucher_Date_1819)+SUM(IF(ISNUMBER(Voucher_Date_1819),1,0))+1)),ROW(A1023)),IF(ISBLANK(Voucher_Date_1819),\"\",IF(ISNUMBER(Voucher_Date_1819),COUNTIF(Voucher_Date_1819,\"<\"&Voucher_Date_1819),COUNTIF(Voucher_Date_1819,\"<\"&Voucher_Date_1819)+SUM(IF(ISNUMBER(Voucher_Date_1819),1,0))+1)),0))","v":{"$error":"#NUM!"}}]
[{"$f":"INDEX(Voucher_Date_1819,MATCH(ROWS('Bill Register 20-21'!$L$3:'Bill Register 20-21'!L1025),COUNTIF(Voucher_Date_1819,\"<=\"&Voucher_Date_1819),0))","v":{"$error":"#N/A"}},{"$f":"INDEX(Voucher_Date_1819,MATCH(SMALL(IF(ISBLANK(Voucher_Date_1819),\"\",IF(ISNUMBER(Voucher_Date_1819),COUNTIF(Voucher_Date_1819,\"<\"&Voucher_Date_1819),COUNTIF(Voucher_Date_1819,\"<\"&Voucher_Date_1819)+SUM(IF(ISNUMBER(Voucher_Date_1819),1,0))+1)),ROW(A1024)),IF(ISBLANK(Voucher_Date_1819),\"\",IF(ISNUMBER(Voucher_Date_1819),COUNTIF(Voucher_Date_1819,\"<\"&Voucher_Date_1819),COUNTIF(Voucher_Date_1819,\"<\"&Voucher_Date_1819)+SUM(IF(ISNUMBER(Voucher_Date_1819),1,0))+1)),0))","v":{"$error":"#NUM!"}}]
[{"$f":"INDEX(Voucher_Date_1819,MATCH(ROWS('Bill Register 20-21'!$L$3:'Bill Register 20-21'!L1026),COUNTIF(Voucher_Date_1819,\"<=\"&Voucher_Date_1819),0))","v":{"$error":"#N/A"}},{"$f":"INDEX(Voucher_Date_1819,MATCH(SMALL(IF(ISBLANK(Voucher_Date_1819),\"\",IF(ISNUMBER(Voucher_Date_1819),COUNTIF(Voucher_Date_1819,\"<\"&Voucher_Date_1819),COUNTIF(Voucher_Date_1819,\"<\"&Voucher_Date_1819)+SUM(IF(ISNUMBER(Voucher_Date_1819),1,0))+1)),ROW(A1025)),IF(ISBLANK(Voucher_Date_1819),\"\",IF(ISNUMBER(Voucher_Date_1819),COUNTIF(Voucher_Date_1819,\"<\"&Voucher_Date_1819),COUNTIF(Voucher_Date_1819,\"<\"&Voucher_Date_1819)+SUM(IF(ISNUMBER(Voucher_Date_1819),1,0))+1)),0))","v":{"$error":"#NUM!"}}]
[{"$f":"INDEX(Voucher_Date_1819,MATCH(ROWS('Bill Register 20-21'!$L$3:'Bill Register 20-21'!L1027),COUNTIF(Voucher_Date_1819,\"<=\"&Voucher_Date_1819),0))","v":{"$error":"#N/A"}},{"$f":"INDEX(Voucher_Date_1819,MATCH(SMALL(IF(ISBLANK(Voucher_Date_1819),\"\",IF(ISNUMBER(Voucher_Date_1819),COUNTIF(Voucher_Date_1819,\"<\"&Voucher_Date_1819),COUNTIF(Voucher_Date_1819,\"<\"&Voucher_Date_1819)+SUM(IF(ISNUMBER(Voucher_Date_1819),1,0))+1)),ROW(A1026)),IF(ISBLANK(Voucher_Date_1819),\"\",IF(ISNUMBER(Voucher_Date_1819),COUNTIF(Voucher_Date_1819,\"<\"&Voucher_Date_1819),COUNTIF(Voucher_Date_1819,\"<\"&Voucher_Date_1819)+SUM(IF(ISNUMBER(Voucher_Date_1819),1,0))+1)),0))","v":{"$error":"#NUM!"}}]
[{"$f":"INDEX(Voucher_Date_1819,MATCH(ROWS('Bill Register 20-21'!$L$3:'Bill Register 20-21'!L1028),COUNTIF(Voucher_Date_1819,\"<=\"&Voucher_Date_1819),0))","v":{"$error":"#N/A"}},{"$f":"INDEX(Voucher_Date_1819,MATCH(SMALL(IF(ISBLANK(Voucher_Date_1819),\"\",IF(ISNUMBER(Voucher_Date_1819),COUNTIF(Voucher_Date_1819,\"<\"&Voucher_Date_1819),COUNTIF(Voucher_Date_1819,\"<\"&Voucher_Date_1819)+SUM(IF(ISNUMBER(Voucher_Date_1819),1,0))+1)),ROW(A1027)),IF(ISBLANK(Voucher_Date_1819),\"\",IF(ISNUMBER(Voucher_Date_1819),COUNTIF(Voucher_Date_1819,\"<\"&Voucher_Date_1819),COUNTIF(Voucher_Date_1819,\"<\"&Voucher_Date_1819)+SUM(IF(ISNUMBER(Voucher_Date_1819),1,0))+1)),0))","v":{"$error":"#NUM!"}}]
[{"$f":"INDEX(Voucher_Date_1819,MATCH(ROWS('Bill Register 20-21'!$L$3:'Bill Register 20-21'!L1029),COUNTIF(Voucher_Date_1819,\"<=\"&Voucher_Date_1819),0))","v":{"$error":"#N/A"}},{"$f":"INDEX(Voucher_Date_1819,MATCH(SMALL(IF(ISBLANK(Voucher_Date_1819),\"\",IF(ISNUMBER(Voucher_Date_1819),COUNTIF(Voucher_Date_1819,\"<\"&Voucher_Date_1819),COUNTIF(Voucher_Date_1819,\"<\"&Voucher_Date_1819)+SUM(IF(ISNUMBER(Voucher_Date_1819),1,0))+1)),ROW(A1028)),IF(ISBLANK(Voucher_Date_1819),\"\",IF(ISNUMBER(Voucher_Date_1819),COUNTIF(Voucher_Date_1819,\"<\"&Voucher_Date_1819),COUNTIF(Voucher_Date_1819,\"<\"&Voucher_Date_1819)+SUM(IF(ISNUMBER(Voucher_Date_1819),1,0))+1)),0))","v":{"$error":"#NUM!"}}]
[{"$f":"INDEX(Voucher_Date_1819,MATCH(ROWS('Bill Register 20-21'!$L$3:'Bill Register 20-21'!L1030),COUNTIF(Voucher_Date_1819,\"<=\"&Voucher_Date_1819),0))","v":{"$error":"#N/A"}},{"$f":"INDEX(Voucher_Date_1819,MATCH(SMALL(IF(ISBLANK(Voucher_Date_1819),\"\",IF(ISNUMBER(Voucher_Date_1819),COUNTIF(Voucher_Date_1819,\"<\"&Voucher_Date_1819),COUNTIF(Voucher_Date_1819,\"<\"&Voucher_Date_1819)+SUM(IF(ISNUMBER(Voucher_Date_1819),1,0))+1)),ROW(A1029)),IF(ISBLANK(Voucher_Date_1819),\"\",IF(ISNUMBER(Voucher_Date_1819),COUNTIF(Voucher_Date_1819,\"<\"&Voucher_Date_1819),COUNTIF(Voucher_Date_1819,\"<\"&Voucher_Date_1819)+SUM(IF(ISNUMBER(Voucher_Date_1819),1,0))+1)),0))","v":{"$error":"#NUM!"}}]
[{"$f":"INDEX(Voucher_Date_1819,MATCH(ROWS('Bill Register 20-21'!$L$3:'Bill Register 20-21'!L1031),COUNTIF(Voucher_Date_1819,\"<=\"&Voucher_Date_1819),0))","v":{"$error":"#N/A"}},{"$f":"INDEX(Voucher_Date_1819,MATCH(SMALL(IF(ISBLANK(Voucher_Date_1819),\"\",IF(ISNUMBER(Voucher_Date_1819),COUNTIF(Voucher_Date_1819,\"<\"&Voucher_Date_1819),COUNTIF(Voucher_Date_1819,\"<\"&Voucher_Date_1819)+SUM(IF(ISNUMBER(Voucher_Date_1819),1,0))+1)),ROW(A1030)),IF(ISBLANK(Voucher_Date_1819),\"\",IF(ISNUMBER(Voucher_Date_1819),COUNTIF(Voucher_Date_1819,\"<\"&Voucher_Date_1819),COUNTIF(Voucher_Date_1819,\"<\"&Voucher_Date_1819)+SUM(IF(ISNUMBER(Voucher_Date_1819),1,0))+1)),0))","v":{"$error":"#NUM!"}}]
[{"$f":"INDEX(Voucher_Date_1819,MATCH(ROWS('Bill Register 20-21'!$L$3:'Bill Register 20-21'!L1032),COUNTIF(Voucher_Date_1819,\"<=\"&Voucher_Date_1819),0))","v":{"$error":"#N/A"}},{"$f":"INDEX(Voucher_Date_1819,MATCH(SMALL(IF(ISBLANK(Voucher_Date_1819),\"\",IF(ISNUMBER(Voucher_Date_1819),COUNTIF(Voucher_Date_1819,\"<\"&Voucher_Date_1819),COUNTIF(Voucher_Date_1819,\"<\"&Voucher_Date_1819)+SUM(IF(ISNUMBER(Voucher_Date_1819),1,0))+1)),ROW(A1031)),IF(ISBLANK(Voucher_Date_1819),\"\",IF(ISNUMBER(Voucher_Date_1819),COUNTIF(Voucher_Date_1819,\"<\"&Voucher_Date_1819),COUNTIF(Voucher_Date_1819,\"<\"&Voucher_Date_1819)+SUM(IF(ISNUMBER(Voucher_Date_1819),1,0))+1)),0))","v":{"$error":"#NUM!"}}]
[{"$f":"INDEX(Voucher_Date_1819,MATCH(ROWS('Bill Register 20-21'!$L$3:'Bill Register 20-21'!L1033),COUNTIF(Voucher_Date_1819,\"<=\"&Voucher_Date_1819),0))","v":{"$error":"#N/A"}},{"$f":"INDEX(Voucher_Date_1819,MATCH(SMALL(IF(ISBLANK(Voucher_Date_1819),\"\",IF(ISNUMBER(Voucher_Date_1819),COUNTIF(Voucher_Date_1819,\"<\"&Voucher_Date_1819),COUNTIF(Voucher_Date_1819,\"<\"&Voucher_Date_1819)+SUM(IF(ISNUMBER(Voucher_Date_1819),1,0))+1)),ROW(A1032)),IF(ISBLANK(Voucher_Date_1819),\"\",IF(ISNUMBER(Voucher_Date_1819),COUNTIF(Voucher_Date_1819,\"<\"&Voucher_Date_1819),COUNTIF(Voucher_Date_1819,\"<\"&Voucher_Date_1819)+SUM(IF(ISNUMBER(Voucher_Date_1819),1,0))+1)),0))","v":{"$error":"#NUM!"}}]
[{"$f":"INDEX(Voucher_Date_1819,MATCH(ROWS('Bill Register 20-21'!$L$3:'Bill Register 20-21'!L1034),COUNTIF(Voucher_Date_1819,\"<=\"&Voucher_Date_1819),0))","v":{"$error":"#N/A"}},{"$f":"INDEX(Voucher_Date_1819,MATCH(SMALL(IF(ISBLANK(Voucher_Date_1819),\"\",IF(ISNUMBER(Voucher_Date_1819),COUNTIF(Voucher_Date_1819,\"<\"&Voucher_Date_1819),COUNTIF(Voucher_Date_1819,\"<\"&Voucher_Date_1819)+SUM(IF(ISNUMBER(Voucher_Date_1819),1,0))+1)),ROW(A1033)),IF(ISBLANK(Voucher_Date_1819),\"\",IF(ISNUMBER(Voucher_Date_1819),COUNTIF(Voucher_Date_1819,\"<\"&Voucher_Date_1819),COUNTIF(Voucher_Date_1819,\"<\"&Voucher_Date_1819)+SUM(IF(ISNUMBER(Voucher_Date_1819),1,0))+1)),0))","v":{"$error":"#NUM!"}}]
[{"$f":"INDEX(Voucher_Date_1819,MATCH(ROWS('Bill Register 20-21'!$L$3:'Bill Register 20-21'!L1035),COUNTIF(Voucher_Date_1819,\"<=\"&Voucher_Date_1819),0))","v":{"$error":"#N/A"}},{"$f":"INDEX(Voucher_Date_1819,MATCH(SMALL(IF(ISBLANK(Voucher_Date_1819),\"\",IF(ISNUMBER(Voucher_Date_1819),COUNTIF(Voucher_Date_1819,\"<\"&Voucher_Date_1819),COUNTIF(Voucher_Date_1819,\"<\"&Voucher_Date_1819)+SUM(IF(ISNUMBER(Voucher_Date_1819),1,0))+1)),ROW(A1034)),IF(ISBLANK(Voucher_Date_1819),\"\",IF(ISNUMBER(Voucher_Date_1819),COUNTIF(Voucher_Date_1819,\"<\"&Voucher_Date_1819),COUNTIF(Voucher_Date_1819,\"<\"&Voucher_Date_1819)+SUM(IF(ISNUMBER(Voucher_Date_1819),1,0))+1)),0))","v":{"$error":"#NUM!"}}]
[{"$f":"INDEX(Voucher_Date_1819,MATCH(ROWS('Bill Register 20-21'!$L$3:'Bill Register 20-21'!L1036),COUNTIF(Voucher_Date_1819,\"<=\"&Voucher_Date_1819),0))","v":{"$error":"#N/A"}},{"$f":"INDEX(Voucher_Date_1819,MATCH(SMALL(IF(ISBLANK(Voucher_Date_1819),\"\",IF(ISNUMBER(Voucher_Date_1819),COUNTIF(Voucher_Date_1819,\"<\"&Voucher_Date_1819),COUNTIF(Voucher_Date_1819,\"<\"&Voucher_Date_1819)+SUM(IF(ISNUMBER(Voucher_Date_1819),1,0))+1)),ROW(A1035)),IF(ISBLANK(Voucher_Date_1819),\"\",IF(ISNUMBER(Voucher_Date_1819),COUNTIF(Voucher_Date_1819,\"<\"&Voucher_Date_1819),COUNTIF(Voucher_Date_1819,\"<\"&Voucher_Date_1819)+SUM(IF(ISNUMBER(Voucher_Date_1819),1,0))+1)),0))","v":{"$error":"#NUM!"}}]
[{"$f":"INDEX(Voucher_Date_1819,MATCH(ROWS('Bill Register 20-21'!$L$3:'Bill Register 20-21'!L1037),COUNTIF(Voucher_Date_1819,\"<=\"&Voucher_Date_1819),0))","v":{"$error":"#N/A"}},{"$f":"INDEX(Voucher_Date_1819,MATCH(SMALL(IF(ISBLANK(Voucher_Date_1819),\"\",IF(ISNUMBER(Voucher_Date_1819),COUNTIF(Voucher_Date_1819,\"<\"&Voucher_Date_1819),COUNTIF(Voucher_Date_1819,\"<\"&Voucher_Date_1819)+SUM(IF(ISNUMBER(Voucher_Date_1819),1,0))+1)),ROW(A1036)),IF(ISBLANK(Voucher_Date_1819),\"\",IF(ISNUMBER(Voucher_Date_1819),COUNTIF(Voucher_Date_1819,\"<\"&Voucher_Date_1819),COUNTIF(Voucher_Date_1819,\"<\"&Voucher_Date_1819)+SUM(IF(ISNUMBER(Voucher_Date_1819),1,0))+1)),0))","v":{"$error":"#NUM!"}}]
[{"$f":"INDEX(Voucher_Date_1819,MATCH(ROWS('Bill Register 20-21'!$L$3:'Bill Register 20-21'!L1038),COUNTIF(Voucher_Date_1819,\"<=\"&Voucher_Date_1819),0))","v":{"$error":"#N/A"}},{"$f":"INDEX(Voucher_Date_1819,MATCH(SMALL(IF(ISBLANK(Voucher_Date_1819),\"\",IF(ISNUMBER(Voucher_Date_1819),COUNTIF(Voucher_Date_1819,\"<\"&Voucher_Date_1819),COUNTIF(Voucher_Date_1819,\"<\"&Voucher_Date_1819)+SUM(IF(ISNUMBER(Voucher_Date_1819),1,0))+1)),ROW(A1037)),IF(ISBLANK(Voucher_Date_1819),\"\",IF(ISNUMBER(Voucher_Date_1819),COUNTIF(Voucher_Date_1819,\"<\"&Voucher_Date_1819),COUNTIF(Voucher_Date_1819,\"<\"&Voucher_Date_1819)+SUM(IF(ISNUMBER(Voucher_Date_1819),1,0))+1)),0))","v":{"$error":"#NUM!"}}]
[{"$f":"INDEX(Voucher_Date_1819,MATCH(ROWS('Bill Register 20-21'!$L$3:'Bill Register 20-21'!L1039),COUNTIF(Voucher_Date_1819,\"<=\"&Voucher_Date_1819),0))","v":{"$error":"#N/A"}},{"$f":"INDEX(Voucher_Date_1819,MATCH(SMALL(IF(ISBLANK(Voucher_Date_1819),\"\",IF(ISNUMBER(Voucher_Date_1819),COUNTIF(Voucher_Date_1819,\"<\"&Voucher_Date_1819),COUNTIF(Voucher_Date_1819,\"<\"&Voucher_Date_1819)+SUM(IF(ISNUMBER(Voucher_Date_1819),1,0))+1)),ROW(A1038)),IF(ISBLANK(Voucher_Date_1819),\"\",IF(ISNUMBER(Voucher_Date_1819),COUNTIF(Voucher_Date_1819,\"<\"&Voucher_Date_1819),COUNTIF(Voucher_Date_1819,\"<\"&Voucher_Date_1819)+SUM(IF(ISNUMBER(Voucher_Date_1819),1,0))+1)),0))","v":{"$error":"#NUM!"}}]
[{"$f":"INDEX(Voucher_Date_1819,MATCH(ROWS('Bill Register 20-21'!$L$3:'Bill Register 20-21'!L1040),COUNTIF(Voucher_Date_1819,\"<=\"&Voucher_Date_1819),0))","v":{"$error":"#N/A"}},{"$f":"INDEX(Voucher_Date_1819,MATCH(SMALL(IF(ISBLANK(Voucher_Date_1819),\"\",IF(ISNUMBER(Voucher_Date_1819),COUNTIF(Voucher_Date_1819,\"<\"&Voucher_Date_1819),COUNTIF(Voucher_Date_1819,\"<\"&Voucher_Date_1819)+SUM(IF(ISNUMBER(Voucher_Date_1819),1,0))+1)),ROW(A1039)),IF(ISBLANK(Voucher_Date_1819),\"\",IF(ISNUMBER(Voucher_Date_1819),COUNTIF(Voucher_Date_1819,\"<\"&Voucher_Date_1819),COUNTIF(Voucher_Date_1819,\"<\"&Voucher_Date_1819)+SUM(IF(ISNUMBER(Voucher_Date_1819),1,0))+1)),0))","v":{"$error":"#NUM!"}}]
[{"$f":"INDEX(Voucher_Date_1819,MATCH(ROWS('Bill Register 20-21'!$L$3:'Bill Register 20-21'!L1041),COUNTIF(Voucher_Date_1819,\"<=\"&Voucher_Date_1819),0))","v":{"$error":"#N/A"}},{"$f":"INDEX(Voucher_Date_1819,MATCH(SMALL(IF(ISBLANK(Voucher_Date_1819),\"\",IF(ISNUMBER(Voucher_Date_1819),COUNTIF(Voucher_Date_1819,\"<\"&Voucher_Date_1819),COUNTIF(Voucher_Date_1819,\"<\"&Voucher_Date_1819)+SUM(IF(ISNUMBER(Voucher_Date_1819),1,0))+1)),ROW(A1040)),IF(ISBLANK(Voucher_Date_1819),\"\",IF(ISNUMBER(Voucher_Date_1819),COUNTIF(Voucher_Date_1819,\"<\"&Voucher_Date_1819),COUNTIF(Voucher_Date_1819,\"<\"&Voucher_Date_1819)+SUM(IF(ISNUMBER(Voucher_Date_1819),1,0))+1)),0))","v":{"$error":"#NUM!"}}]
[{"$f":"INDEX(Voucher_Date_1819,MATCH(ROWS('Bill Register 20-21'!$L$3:'Bill Register 20-21'!L1042),COUNTIF(Voucher_Date_1819,\"<=\"&Voucher_Date_1819),0))","v":{"$error":"#N/A"}},{"$f":"INDEX(Voucher_Date_1819,MATCH(SMALL(IF(ISBLANK(Voucher_Date_1819),\"\",IF(ISNUMBER(Voucher_Date_1819),COUNTIF(Voucher_Date_1819,\"<\"&Voucher_Date_1819),COUNTIF(Voucher_Date_1819,\"<\"&Voucher_Date_1819)+SUM(IF(ISNUMBER(Voucher_Date_1819),1,0))+1)),ROW(A1041)),IF(ISBLANK(Voucher_Date_1819),\"\",IF(ISNUMBER(Voucher_Date_1819),COUNTIF(Voucher_Date_1819,\"<\"&Voucher_Date_1819),COUNTIF(Voucher_Date_1819,\"<\"&Voucher_Date_1819)+SUM(IF(ISNUMBER(Voucher_Date_1819),1,0))+1)),0))","v":{"$error":"#NUM!"}}]
[{"$f":"INDEX(Voucher_Date_1819,MATCH(ROWS('Bill Register 20-21'!$L$3:'Bill Register 20-21'!L1043),COUNTIF(Voucher_Date_1819,\"<=\"&Voucher_Date_1819),0))","v":{"$error":"#N/A"}},{"$f":"INDEX(Voucher_Date_1819,MATCH(SMALL(IF(ISBLANK(Voucher_Date_1819),\"\",IF(ISNUMBER(Voucher_Date_1819),COUNTIF(Voucher_Date_1819,\"<\"&Voucher_Date_1819),COUNTIF(Voucher_Date_1819,\"<\"&Voucher_Date_1819)+SUM(IF(ISNUMBER(Voucher_Date_1819),1,0))+1)),ROW(A1042)),IF(ISBLANK(Voucher_Date_1819),\"\",IF(ISNUMBER(Voucher_Date_1819),COUNTIF(Voucher_Date_1819,\"<\"&Voucher_Date_1819),COUNTIF(Voucher_Date_1819,\"<\"&Voucher_Date_1819)+SUM(IF(ISNUMBER(Voucher_Date_1819),1,0))+1)),0))","v":{"$error":"#NUM!"}}]
[{"$f":"INDEX(Voucher_Date_1819,MATCH(ROWS('Bill Register 20-21'!$L$3:'Bill Register 20-21'!L1044),COUNTIF(Voucher_Date_1819,\"<=\"&Voucher_Date_1819),0))","v":{"$error":"#N/A"}},{"$f":"INDEX(Voucher_Date_1819,MATCH(SMALL(IF(ISBLANK(Voucher_Date_1819),\"\",IF(ISNUMBER(Voucher_Date_1819),COUNTIF(Voucher_Date_1819,\"<\"&Voucher_Date_1819),COUNTIF(Voucher_Date_1819,\"<\"&Voucher_Date_1819)+SUM(IF(ISNUMBER(Voucher_Date_1819),1,0))+1)),ROW(A1043)),IF(ISBLANK(Voucher_Date_1819),\"\",IF(ISNUMBER(Voucher_Date_1819),COUNTIF(Voucher_Date_1819,\"<\"&Voucher_Date_1819),COUNTIF(Voucher_Date_1819,\"<\"&Voucher_Date_1819)+SUM(IF(ISNUMBER(Voucher_Date_1819),1,0))+1)),0))","v":{"$error":"#NUM!"}}]
[{"$f":"INDEX(Voucher_Date_1819,MATCH(ROWS('Bill Register 20-21'!$L$3:'Bill Register 20-21'!L1045),COUNTIF(Voucher_Date_1819,\"<=\"&Voucher_Date_1819),0))","v":{"$error":"#N/A"}},{"$f":"INDEX(Voucher_Date_1819,MATCH(SMALL(IF(ISBLANK(Voucher_Date_1819),\"\",IF(ISNUMBER(Voucher_Date_1819),COUNTIF(Voucher_Date_1819,\"<\"&Voucher_Date_1819),COUNTIF(Voucher_Date_1819,\"<\"&Voucher_Date_1819)+SUM(IF(ISNUMBER(Voucher_Date_1819),1,0))+1)),ROW(A1044)),IF(ISBLANK(Voucher_Date_1819),\"\",IF(ISNUMBER(Voucher_Date_1819),COUNTIF(Voucher_Date_1819,\"<\"&Voucher_Date_1819),COUNTIF(Voucher_Date_1819,\"<\"&Voucher_Date_1819)+SUM(IF(ISNUMBER(Voucher_Date_1819),1,0))+1)),0))","v":{"$error":"#NUM!"}}]
[{"$f":"INDEX(Voucher_Date_1819,MATCH(ROWS('Bill Register 20-21'!$L$3:'Bill Register 20-21'!L1046),COUNTIF(Voucher_Date_1819,\"<=\"&Voucher_Date_1819),0))","v":{"$error":"#N/A"}},{"$f":"INDEX(Voucher_Date_1819,MATCH(SMALL(IF(ISBLANK(Voucher_Date_1819),\"\",IF(ISNUMBER(Voucher_Date_1819),COUNTIF(Voucher_Date_1819,\"<\"&Voucher_Date_1819),COUNTIF(Voucher_Date_1819,\"<\"&Voucher_Date_1819)+SUM(IF(ISNUMBER(Voucher_Date_1819),1,0))+1)),ROW(A1045)),IF(ISBLANK(Voucher_Date_1819),\"\",IF(ISNUMBER(Voucher_Date_1819),COUNTIF(Voucher_Date_1819,\"<\"&Voucher_Date_1819),COUNTIF(Voucher_Date_1819,\"<\"&Voucher_Date_1819)+SUM(IF(ISNUMBER(Voucher_Date_1819),1,0))+1)),0))","v":{"$error":"#NUM!"}}]
[{"$f":"INDEX(Voucher_Date_1819,MATCH(ROWS('Bill Register 20-21'!$L$3:'Bill Register 20-21'!L1047),COUNTIF(Voucher_Date_1819,\"<=\"&Voucher_Date_1819),0))","v":{"$error":"#N/A"}},{"$f":"INDEX(Voucher_Date_1819,MATCH(SMALL(IF(ISBLANK(Voucher_Date_1819),\"\",IF(ISNUMBER(Voucher_Date_1819),COUNTIF(Voucher_Date_1819,\"<\"&Voucher_Date_1819),COUNTIF(Voucher_Date_1819,\"<\"&Voucher_Date_1819)+SUM(IF(ISNUMBER(Voucher_Date_1819),1,0))+1)),ROW(A1046)),IF(ISBLANK(Voucher_Date_1819),\"\",IF(ISNUMBER(Voucher_Date_1819),COUNTIF(Voucher_Date_1819,\"<\"&Voucher_Date_1819),COUNTIF(Voucher_Date_1819,\"<\"&Voucher_Date_1819)+SUM(IF(ISNUMBER(Voucher_Date_1819),1,0))+1)),0))","v":{"$error":"#NUM!"}}]
[{"$f":"INDEX(Voucher_Date_1819,MATCH(ROWS('Bill Register 20-21'!$L$3:'Bill Register 20-21'!L1048),COUNTIF(Voucher_Date_1819,\"<=\"&Voucher_Date_1819),0))","v":{"$error":"#N/A"}},{"$f":"INDEX(Voucher_Date_1819,MATCH(SMALL(IF(ISBLANK(Voucher_Date_1819),\"\",IF(ISNUMBER(Voucher_Date_1819),COUNTIF(Voucher_Date_1819,\"<\"&Voucher_Date_1819),COUNTIF(Voucher_Date_1819,\"<\"&Voucher_Date_1819)+SUM(IF(ISNUMBER(Voucher_Date_1819),1,0))+1)),ROW(A1047)),IF(ISBLANK(Voucher_Date_1819),\"\",IF(ISNUMBER(Voucher_Date_1819),COUNTIF(Voucher_Date_1819,\"<\"&Voucher_Date_1819),COUNTIF(Voucher_Date_1819,\"<\"&Voucher_Date_1819)+SUM(IF(ISNUMBER(Voucher_Date_1819),1,0))+1)),0))","v":{"$error":"#NUM!"}}]
[{"$f":"INDEX(Voucher_Date_1819,MATCH(ROWS('Bill Register 20-21'!$L$3:'Bill Register 20-21'!L1049),COUNTIF(Voucher_Date_1819,\"<=\"&Voucher_Date_1819),0))","v":{"$error":"#N/A"}},{"$f":"INDEX(Voucher_Date_1819,MATCH(SMALL(IF(ISBLANK(Voucher_Date_1819),\"\",IF(ISNUMBER(Voucher_Date_1819),COUNTIF(Voucher_Date_1819,\"<\"&Voucher_Date_1819),COUNTIF(Voucher_Date_1819,\"<\"&Voucher_Date_1819)+SUM(IF(ISNUMBER(Voucher_Date_1819),1,0))+1)),ROW(A1048)),IF(ISBLANK(Voucher_Date_1819),\"\",IF(ISNUMBER(Voucher_Date_1819),COUNTIF(Voucher_Date_1819,\"<\"&Voucher_Date_1819),COUNTIF(Voucher_Date_1819,\"<\"&Voucher_Date_1819)+SUM(IF(ISNUMBER(Voucher_Date_1819),1,0))+1)),0))","v":{"$error":"#NUM!"}}]
[{"$f":"INDEX(Voucher_Date_1819,MATCH(ROWS('Bill Register 20-21'!$L$3:'Bill Register 20-21'!L1050),COUNTIF(Voucher_Date_1819,\"<=\"&Voucher_Date_1819),0))","v":{"$error":"#N/A"}},{"$f":"INDEX(Voucher_Date_1819,MATCH(SMALL(IF(ISBLANK(Voucher_Date_1819),\"\",IF(ISNUMBER(Voucher_Date_1819),COUNTIF(Voucher_Date_1819,\"<\"&Voucher_Date_1819),COUNTIF(Voucher_Date_1819,\"<\"&Voucher_Date_1819)+SUM(IF(ISNUMBER(Voucher_Date_1819),1,0))+1)),ROW(A1049)),IF(ISBLANK(Voucher_Date_1819),\"\",IF(ISNUMBER(Voucher_Date_1819),COUNTIF(Voucher_Date_1819,\"<\"&Voucher_Date_1819),COUNTIF(Voucher_Date_1819,\"<\"&Voucher_Date_1819)+SUM(IF(ISNUMBER(Voucher_Date_1819),1,0))+1)),0))","v":{"$error":"#NUM!"}}]
[{"$f":"INDEX(Voucher_Date_1819,MATCH(ROWS('Bill Register 20-21'!$L$3:'Bill Register 20-21'!L1051),COUNTIF(Voucher_Date_1819,\"<=\"&Voucher_Date_1819),0))","v":{"$error":"#N/A"}},{"$f":"INDEX(Voucher_Date_1819,MATCH(SMALL(IF(ISBLANK(Voucher_Date_1819),\"\",IF(ISNUMBER(Voucher_Date_1819),COUNTIF(Voucher_Date_1819,\"<\"&Voucher_Date_1819),COUNTIF(Voucher_Date_1819,\"<\"&Voucher_Date_1819)+SUM(IF(ISNUMBER(Voucher_Date_1819),1,0))+1)),ROW(A1050)),IF(ISBLANK(Voucher_Date_1819),\"\",IF(ISNUMBER(Voucher_Date_1819),COUNTIF(Voucher_Date_1819,\"<\"&Voucher_Date_1819),COUNTIF(Voucher_Date_1819,\"<\"&Voucher_Date_1819)+SUM(IF(ISNUMBER(Voucher_Date_1819),1,0))+1)),0))","v":{"$error":"#NUM!"}}]
[{"$f":"INDEX(Voucher_Date_1819,MATCH(ROWS('Bill Register 20-21'!$L$3:'Bill Register 20-21'!L1052),COUNTIF(Voucher_Date_1819,\"<=\"&Voucher_Date_1819),0))","v":{"$error":"#N/A"}},{"$f":"INDEX(Voucher_Date_1819,MATCH(SMALL(IF(ISBLANK(Voucher_Date_1819),\"\",IF(ISNUMBER(Voucher_Date_1819),COUNTIF(Voucher_Date_1819,\"<\"&Voucher_Date_1819),COUNTIF(Voucher_Date_1819,\"<\"&Voucher_Date_1819)+SUM(IF(ISNUMBER(Voucher_Date_1819),1,0))+1)),ROW(A1051)),IF(ISBLANK(Voucher_Date_1819),\"\",IF(ISNUMBER(Voucher_Date_1819),COUNTIF(Voucher_Date_1819,\"<\"&Voucher_Date_1819),COUNTIF(Voucher_Date_1819,\"<\"&Voucher_Date_1819)+SUM(IF(ISNUMBER(Voucher_Date_1819),1,0))+1)),0))","v":{"$error":"#NUM!"}}]
[{"$f":"INDEX(Voucher_Date_1819,MATCH(ROWS('Bill Register 20-21'!$L$3:'Bill Register 20-21'!L1053),COUNTIF(Voucher_Date_1819,\"<=\"&Voucher_Date_1819),0))","v":{"$error":"#N/A"}},{"$f":"INDEX(Voucher_Date_1819,MATCH(SMALL(IF(ISBLANK(Voucher_Date_1819),\"\",IF(ISNUMBER(Voucher_Date_1819),COUNTIF(Voucher_Date_1819,\"<\"&Voucher_Date_1819),COUNTIF(Voucher_Date_1819,\"<\"&Voucher_Date_1819)+SUM(IF(ISNUMBER(Voucher_Date_1819),1,0))+1)),ROW(A1052)),IF(ISBLANK(Voucher_Date_1819),\"\",IF(ISNUMBER(Voucher_Date_1819),COUNTIF(Voucher_Date_1819,\"<\"&Voucher_Date_1819),COUNTIF(Voucher_Date_1819,\"<\"&Voucher_Date_1819)+SUM(IF(ISNUMBER(Voucher_Date_1819),1,0))+1)),0))","v":{"$error":"#NUM!"}}]
[{"$f":"INDEX(Voucher_Date_1819,MATCH(ROWS('Bill Register 20-21'!$L$3:'Bill Register 20-21'!L1054),COUNTIF(Voucher_Date_1819,\"<=\"&Voucher_Date_1819),0))","v":{"$error":"#N/A"}},{"$f":"INDEX(Voucher_Date_1819,MATCH(SMALL(IF(ISBLANK(Voucher_Date_1819),\"\",IF(ISNUMBER(Voucher_Date_1819),COUNTIF(Voucher_Date_1819,\"<\"&Voucher_Date_1819),COUNTIF(Voucher_Date_1819,\"<\"&Voucher_Date_1819)+SUM(IF(ISNUMBER(Voucher_Date_1819),1,0))+1)),ROW(A1053)),IF(ISBLANK(Voucher_Date_1819),\"\",IF(ISNUMBER(Voucher_Date_1819),COUNTIF(Voucher_Date_1819,\"<\"&Voucher_Date_1819),COUNTIF(Voucher_Date_1819,\"<\"&Voucher_Date_1819)+SUM(IF(ISNUMBER(Voucher_Date_1819),1,0))+1)),0))","v":{"$error":"#NUM!"}}]
[{"$f":"INDEX(Voucher_Date_1819,MATCH(ROWS('Bill Register 20-21'!$L$3:'Bill Register 20-21'!L1055),COUNTIF(Voucher_Date_1819,\"<=\"&Voucher_Date_1819),0))","v":{"$error":"#N/A"}},{"$f":"INDEX(Voucher_Date_1819,MATCH(SMALL(IF(ISBLANK(Voucher_Date_1819),\"\",IF(ISNUMBER(Voucher_Date_1819),COUNTIF(Voucher_Date_1819,\"<\"&Voucher_Date_1819),COUNTIF(Voucher_Date_1819,\"<\"&Voucher_Date_1819)+SUM(IF(ISNUMBER(Voucher_Date_1819),1,0))+1)),ROW(A1054)),IF(ISBLANK(Voucher_Date_1819),\"\",IF(ISNUMBER(Voucher_Date_1819),COUNTIF(Voucher_Date_1819,\"<\"&Voucher_Date_1819),COUNTIF(Voucher_Date_1819,\"<\"&Voucher_Date_1819)+SUM(IF(ISNUMBER(Voucher_Date_1819),1,0))+1)),0))","v":{"$error":"#NUM!"}}]
[{"$f":"INDEX(Voucher_Date_1819,MATCH(ROWS('Bill Register 20-21'!$L$3:'Bill Register 20-21'!L1056),COUNTIF(Voucher_Date_1819,\"<=\"&Voucher_Date_1819),0))","v":{"$error":"#N/A"}},{"$f":"INDEX(Voucher_Date_1819,MATCH(SMALL(IF(ISBLANK(Voucher_Date_1819),\"\",IF(ISNUMBER(Voucher_Date_1819),COUNTIF(Voucher_Date_1819,\"<\"&Voucher_Date_1819),COUNTIF(Voucher_Date_1819,\"<\"&Voucher_Date_1819)+SUM(IF(ISNUMBER(Voucher_Date_1819),1,0))+1)),ROW(A1055)),IF(ISBLANK(Voucher_Date_1819),\"\",IF(ISNUMBER(Voucher_Date_1819),COUNTIF(Voucher_Date_1819,\"<\"&Voucher_Date_1819),COUNTIF(Voucher_Date_1819,\"<\"&Voucher_Date_1819)+SUM(IF(ISNUMBER(Voucher_Date_1819),1,0))+1)),0))","v":{"$error":"#NUM!"}}]
[{"$f":"INDEX(Voucher_Date_1819,MATCH(ROWS('Bill Register 20-21'!$L$3:'Bill Register 20-21'!L1057),COUNTIF(Voucher_Date_1819,\"<=\"&Voucher_Date_1819),0))","v":{"$error":"#N/A"}},{"$f":"INDEX(Voucher_Date_1819,MATCH(SMALL(IF(ISBLANK(Voucher_Date_1819),\"\",IF(ISNUMBER(Voucher_Date_1819),COUNTIF(Voucher_Date_1819,\"<\"&Voucher_Date_1819),COUNTIF(Voucher_Date_1819,\"<\"&Voucher_Date_1819)+SUM(IF(ISNUMBER(Voucher_Date_1819),1,0))+1)),ROW(A1056)),IF(ISBLANK(Voucher_Date_1819),\"\",IF(ISNUMBER(Voucher_Date_1819),COUNTIF(Voucher_Date_1819,\"<\"&Voucher_Date_1819),COUNTIF(Voucher_Date_1819,\"<\"&Voucher_Date_1819)+SUM(IF(ISNUMBER(Voucher_Date_1819),1,0))+1)),0))","v":{"$error":"#NUM!"}}]
[{"$f":"INDEX(Voucher_Date_1819,MATCH(ROWS('Bill Register 20-21'!$L$3:'Bill Register 20-21'!L1058),COUNTIF(Voucher_Date_1819,\"<=\"&Voucher_Date_1819),0))","v":{"$error":"#N/A"}},{"$f":"INDEX(Voucher_Date_1819,MATCH(SMALL(IF(ISBLANK(Voucher_Date_1819),\"\",IF(ISNUMBER(Voucher_Date_1819),COUNTIF(Voucher_Date_1819,\"<\"&Voucher_Date_1819),COUNTIF(Voucher_Date_1819,\"<\"&Voucher_Date_1819)+SUM(IF(ISNUMBER(Voucher_Date_1819),1,0))+1)),ROW(A1057)),IF(ISBLANK(Voucher_Date_1819),\"\",IF(ISNUMBER(Voucher_Date_1819),COUNTIF(Voucher_Date_1819,\"<\"&Voucher_Date_1819),COUNTIF(Voucher_Date_1819,\"<\"&Voucher_Date_1819)+SUM(IF(ISNUMBER(Voucher_Date_1819),1,0))+1)),0))","v":{"$error":"#NUM!"}}]
[{"$f":"INDEX(Voucher_Date_1819,MATCH(ROWS('Bill Register 20-21'!$L$3:'Bill Register 20-21'!L1059),COUNTIF(Voucher_Date_1819,\"<=\"&Voucher_Date_1819),0))","v":{"$error":"#N/A"}},{"$f":"INDEX(Voucher_Date_1819,MATCH(SMALL(IF(ISBLANK(Voucher_Date_1819),\"\",IF(ISNUMBER(Voucher_Date_1819),COUNTIF(Voucher_Date_1819,\"<\"&Voucher_Date_1819),COUNTIF(Voucher_Date_1819,\"<\"&Voucher_Date_1819)+SUM(IF(ISNUMBER(Voucher_Date_1819),1,0))+1)),ROW(A1058)),IF(ISBLANK(Voucher_Date_1819),\"\",IF(ISNUMBER(Voucher_Date_1819),COUNTIF(Voucher_Date_1819,\"<\"&Voucher_Date_1819),COUNTIF(Voucher_Date_1819,\"<\"&Voucher_Date_1819)+SUM(IF(ISNUMBER(Voucher_Date_1819),1,0))+1)),0))","v":{"$error":"#NUM!"}}]
[{"$f":"INDEX(Voucher_Date_1819,MATCH(ROWS('Bill Register 20-21'!$L$3:'Bill Register 20-21'!L1060),COUNTIF(Voucher_Date_1819,\"<=\"&Voucher_Date_1819),0))","v":{"$error":"#N/A"}},{"$f":"INDEX(Voucher_Date_1819,MATCH(SMALL(IF(ISBLANK(Voucher_Date_1819),\"\",IF(ISNUMBER(Voucher_Date_1819),COUNTIF(Voucher_Date_1819,\"<\"&Voucher_Date_1819),COUNTIF(Voucher_Date_1819,\"<\"&Voucher_Date_1819)+SUM(IF(ISNUMBER(Voucher_Date_1819),1,0))+1)),ROW(A1059)),IF(ISBLANK(Voucher_Date_1819),\"\",IF(ISNUMBER(Voucher_Date_1819),COUNTIF(Voucher_Date_1819,\"<\"&Voucher_Date_1819),COUNTIF(Voucher_Date_1819,\"<\"&Voucher_Date_1819)+SUM(IF(ISNUMBER(Voucher_Date_1819),1,0))+1)),0))","v":{"$error":"#NUM!"}}]
[{"$f":"INDEX(Voucher_Date_1819,MATCH(ROWS('Bill Register 20-21'!$L$3:'Bill Register 20-21'!L1061),COUNTIF(Voucher_Date_1819,\"<=\"&Voucher_Date_1819),0))","v":{"$error":"#N/A"}},{"$f":"INDEX(Voucher_Date_1819,MATCH(SMALL(IF(ISBLANK(Voucher_Date_1819),\"\",IF(ISNUMBER(Voucher_Date_1819),COUNTIF(Voucher_Date_1819,\"<\"&Voucher_Date_1819),COUNTIF(Voucher_Date_1819,\"<\"&Voucher_Date_1819)+SUM(IF(ISNUMBER(Voucher_Date_1819),1,0))+1)),ROW(A1060)),IF(ISBLANK(Voucher_Date_1819),\"\",IF(ISNUMBER(Voucher_Date_1819),COUNTIF(Voucher_Date_1819,\"<\"&Voucher_Date_1819),COUNTIF(Voucher_Date_1819,\"<\"&Voucher_Date_1819)+SUM(IF(ISNUMBER(Voucher_Date_1819),1,0))+1)),0))","v":{"$error":"#NUM!"}}]
[{"$f":"INDEX(Voucher_Date_1819,MATCH(ROWS('Bill Register 20-21'!$L$3:'Bill Register 20-21'!L1062),COUNTIF(Voucher_Date_1819,\"<=\"&Voucher_Date_1819),0))","v":{"$error":"#N/A"}},{"$f":"INDEX(Voucher_Date_1819,MATCH(SMALL(IF(ISBLANK(Voucher_Date_1819),\"\",IF(ISNUMBER(Voucher_Date_1819),COUNTIF(Voucher_Date_1819,\"<\"&Voucher_Date_1819),COUNTIF(Voucher_Date_1819,\"<\"&Voucher_Date_1819)+SUM(IF(ISNUMBER(Voucher_Date_1819),1,0))+1)),ROW(A1061)),IF(ISBLANK(Voucher_Date_1819),\"\",IF(ISNUMBER(Voucher_Date_1819),COUNTIF(Voucher_Date_1819,\"<\"&Voucher_Date_1819),COUNTIF(Voucher_Date_1819,\"<\"&Voucher_Date_1819)+SUM(IF(ISNUMBER(Voucher_Date_1819),1,0))+1)),0))","v":{"$error":"#NUM!"}}]
[{"$f":"INDEX(Voucher_Date_1819,MATCH(ROWS('Bill Register 20-21'!$L$3:'Bill Register 20-21'!L1063),COUNTIF(Voucher_Date_1819,\"<=\"&Voucher_Date_1819),0))","v":{"$error":"#N/A"}},{"$f":"INDEX(Voucher_Date_1819,MATCH(SMALL(IF(ISBLANK(Voucher_Date_1819),\"\",IF(ISNUMBER(Voucher_Date_1819),COUNTIF(Voucher_Date_1819,\"<\"&Voucher_Date_1819),COUNTIF(Voucher_Date_1819,\"<\"&Voucher_Date_1819)+SUM(IF(ISNUMBER(Voucher_Date_1819),1,0))+1)),ROW(A1062)),IF(ISBLANK(Voucher_Date_1819),\"\",IF(ISNUMBER(Voucher_Date_1819),COUNTIF(Voucher_Date_1819,\"<\"&Voucher_Date_1819),COUNTIF(Voucher_Date_1819,\"<\"&Voucher_Date_1819)+SUM(IF(ISNUMBER(Voucher_Date_1819),1,0))+1)),0))","v":{"$error":"#NUM!"}}]
[{"$f":"INDEX(Voucher_Date_1819,MATCH(ROWS('Bill Register 20-21'!$L$3:'Bill Register 20-21'!L1064),COUNTIF(Voucher_Date_1819,\"<=\"&Voucher_Date_1819),0))","v":{"$error":"#N/A"}},{"$f":"INDEX(Voucher_Date_1819,MATCH(SMALL(IF(ISBLANK(Voucher_Date_1819),\"\",IF(ISNUMBER(Voucher_Date_1819),COUNTIF(Voucher_Date_1819,\"<\"&Voucher_Date_1819),COUNTIF(Voucher_Date_1819,\"<\"&Voucher_Date_1819)+SUM(IF(ISNUMBER(Voucher_Date_1819),1,0))+1)),ROW(A1063)),IF(ISBLANK(Voucher_Date_1819),\"\",IF(ISNUMBER(Voucher_Date_1819),COUNTIF(Voucher_Date_1819,\"<\"&Voucher_Date_1819),COUNTIF(Voucher_Date_1819,\"<\"&Voucher_Date_1819)+SUM(IF(ISNUMBER(Voucher_Date_1819),1,0))+1)),0))","v":{"$error":"#NUM!"}}]
[{"$f":"INDEX(Voucher_Date_1819,MATCH(ROWS('Bill Register 20-21'!$L$3:'Bill Register 20-21'!L1065),COUNTIF(Voucher_Date_1819,\"<=\"&Voucher_Date_1819),0))","v":{"$error":"#N/A"}},{"$f":"INDEX(Voucher_Date_1819,MATCH(SMALL(IF(ISBLANK(Voucher_Date_1819),\"\",IF(ISNUMBER(Voucher_Date_1819),COUNTIF(Voucher_Date_1819,\"<\"&Voucher_Date_1819),COUNTIF(Voucher_Date_1819,\"<\"&Voucher_Date_1819)+SUM(IF(ISNUMBER(Voucher_Date_1819),1,0))+1)),ROW(A1064)),IF(ISBLANK(Voucher_Date_1819),\"\",IF(ISNUMBER(Voucher_Date_1819),COUNTIF(Voucher_Date_1819,\"<\"&Voucher_Date_1819),COUNTIF(Voucher_Date_1819,\"<\"&Voucher_Date_1819)+SUM(IF(ISNUMBER(Voucher_Date_1819),1,0))+1)),0))","v":{"$error":"#NUM!"}}]
[{"$f":"INDEX(Voucher_Date_1819,MATCH(ROWS('Bill Register 20-21'!$L$3:'Bill Register 20-21'!L1066),COUNTIF(Voucher_Date_1819,\"<=\"&Voucher_Date_1819),0))","v":{"$error":"#N/A"}},{"$f":"INDEX(Voucher_Date_1819,MATCH(SMALL(IF(ISBLANK(Voucher_Date_1819),\"\",IF(ISNUMBER(Voucher_Date_1819),COUNTIF(Voucher_Date_1819,\"<\"&Voucher_Date_1819),COUNTIF(Voucher_Date_1819,\"<\"&Voucher_Date_1819)+SUM(IF(ISNUMBER(Voucher_Date_1819),1,0))+1)),ROW(A1065)),IF(ISBLANK(Voucher_Date_1819),\"\",IF(ISNUMBER(Voucher_Date_1819),COUNTIF(Voucher_Date_1819,\"<\"&Voucher_Date_1819),COUNTIF(Voucher_Date_1819,\"<\"&Voucher_Date_1819)+SUM(IF(ISNUMBER(Voucher_Date_1819),1,0))+1)),0))","v":{"$error":"#NUM!"}}]
[{"$f":"INDEX(Voucher_Date_1819,MATCH(ROWS('Bill Register 20-21'!$L$3:'Bill Register 20-21'!L1067),COUNTIF(Voucher_Date_1819,\"<=\"&Voucher_Date_1819),0))","v":{"$error":"#N/A"}},{"$f":"INDEX(Voucher_Date_1819,MATCH(SMALL(IF(ISBLANK(Voucher_Date_1819),\"\",IF(ISNUMBER(Voucher_Date_1819),COUNTIF(Voucher_Date_1819,\"<\"&Voucher_Date_1819),COUNTIF(Voucher_Date_1819,\"<\"&Voucher_Date_1819)+SUM(IF(ISNUMBER(Voucher_Date_1819),1,0))+1)),ROW(A1066)),IF(ISBLANK(Voucher_Date_1819),\"\",IF(ISNUMBER(Voucher_Date_1819),COUNTIF(Voucher_Date_1819,\"<\"&Voucher_Date_1819),COUNTIF(Voucher_Date_1819,\"<\"&Voucher_Date_1819)+SUM(IF(ISNUMBER(Voucher_Date_1819),1,0))+1)),0))","v":{"$error":"#NUM!"}}]
[{"$f":"INDEX(Voucher_Date_1819,MATCH(ROWS('Bill Register 20-21'!$L$3:'Bill Register 20-21'!L1068),COUNTIF(Voucher_Date_1819,\"<=\"&Voucher_Date_1819),0))","v":{"$error":"#N/A"}},{"$f":"INDEX(Voucher_Date_1819,MATCH(SMALL(IF(ISBLANK(Voucher_Date_1819),\"\",IF(ISNUMBER(Voucher_Date_1819),COUNTIF(Voucher_Date_1819,\"<\"&Voucher_Date_1819),COUNTIF(Voucher_Date_1819,\"<\"&Voucher_Date_1819)+SUM(IF(ISNUMBER(Voucher_Date_1819),1,0))+1)),ROW(A1067)),IF(ISBLANK(Voucher_Date_1819),\"\",IF(ISNUMBER(Voucher_Date_1819),COUNTIF(Voucher_Date_1819,\"<\"&Voucher_Date_1819),COUNTIF(Voucher_Date_1819,\"<\"&Voucher_Date_1819)+SUM(IF(ISNUMBER(Voucher_Date_1819),1,0))+1)),0))","v":{"$error":"#NUM!"}}]
[{"$f":"INDEX(Voucher_Date_1819,MATCH(ROWS('Bill Register 20-21'!$L$3:'Bill Register 20-21'!L1069),COUNTIF(Voucher_Date_1819,\"<=\"&Voucher_Date_1819),0))","v":{"$error":"#N/A"}},{"$f":"INDEX(Voucher_Date_1819,MATCH(SMALL(IF(ISBLANK(Voucher_Date_1819),\"\",IF(ISNUMBER(Voucher_Date_1819),COUNTIF(Voucher_Date_1819,\"<\"&Voucher_Date_1819),COUNTIF(Voucher_Date_1819,\"<\"&Voucher_Date_1819)+SUM(IF(ISNUMBER(Voucher_Date_1819),1,0))+1)),ROW(A1068)),IF(ISBLANK(Voucher_Date_1819),\"\",IF(ISNUMBER(Voucher_Date_1819),COUNTIF(Voucher_Date_1819,\"<\"&Voucher_Date_1819),COUNTIF(Voucher_Date_1819,\"<\"&Voucher_Date_1819)+SUM(IF(ISNUMBER(Voucher_Date_1819),1,0))+1)),0))","v":{"$error":"#NUM!"}}]
[{"$f":"INDEX(Voucher_Date_1819,MATCH(ROWS('Bill Register 20-21'!$L$3:'Bill Register 20-21'!L1070),COUNTIF(Voucher_Date_1819,\"<=\"&Voucher_Date_1819),0))","v":{"$error":"#N/A"}},{"$f":"INDEX(Voucher_Date_1819,MATCH(SMALL(IF(ISBLANK(Voucher_Date_1819),\"\",IF(ISNUMBER(Voucher_Date_1819),COUNTIF(Voucher_Date_1819,\"<\"&Voucher_Date_1819),COUNTIF(Voucher_Date_1819,\"<\"&Voucher_Date_1819)+SUM(IF(ISNUMBER(Voucher_Date_1819),1,0))+1)),ROW(A1069)),IF(ISBLANK(Voucher_Date_1819),\"\",IF(ISNUMBER(Voucher_Date_1819),COUNTIF(Voucher_Date_1819,\"<\"&Voucher_Date_1819),COUNTIF(Voucher_Date_1819,\"<\"&Voucher_Date_1819)+SUM(IF(ISNUMBER(Voucher_Date_1819),1,0))+1)),0))","v":{"$error":"#NUM!"}}]
[{"$f":"INDEX(Voucher_Date_1819,MATCH(ROWS('Bill Register 20-21'!$L$3:'Bill Register 20-21'!L1071),COUNTIF(Voucher_Date_1819,\"<=\"&Voucher_Date_1819),0))","v":{"$error":"#N/A"}},{"$f":"INDEX(Voucher_Date_1819,MATCH(SMALL(IF(ISBLANK(Voucher_Date_1819),\"\",IF(ISNUMBER(Voucher_Date_1819),COUNTIF(Voucher_Date_1819,\"<\"&Voucher_Date_1819),COUNTIF(Voucher_Date_1819,\"<\"&Voucher_Date_1819)+SUM(IF(ISNUMBER(Voucher_Date_1819),1,0))+1)),ROW(A1070)),IF(ISBLANK(Voucher_Date_1819),\"\",IF(ISNUMBER(Voucher_Date_1819),COUNTIF(Voucher_Date_1819,\"<\"&Voucher_Date_1819),COUNTIF(Voucher_Date_1819,\"<\"&Voucher_Date_1819)+SUM(IF(ISNUMBER(Voucher_Date_1819),1,0))+1)),0))","v":{"$error":"#NUM!"}}]
[{"$f":"INDEX(Voucher_Date_1819,MATCH(ROWS('Bill Register 20-21'!$L$3:'Bill Register 20-21'!L1072),COUNTIF(Voucher_Date_1819,\"<=\"&Voucher_Date_1819),0))","v":{"$error":"#N/A"}},{"$f":"INDEX(Voucher_Date_1819,MATCH(SMALL(IF(ISBLANK(Voucher_Date_1819),\"\",IF(ISNUMBER(Voucher_Date_1819),COUNTIF(Voucher_Date_1819,\"<\"&Voucher_Date_1819),COUNTIF(Voucher_Date_1819,\"<\"&Voucher_Date_1819)+SUM(IF(ISNUMBER(Voucher_Date_1819),1,0))+1)),ROW(A1071)),IF(ISBLANK(Voucher_Date_1819),\"\",IF(ISNUMBER(Voucher_Date_1819),COUNTIF(Voucher_Date_1819,\"<\"&Voucher_Date_1819),COUNTIF(Voucher_Date_1819,\"<\"&Voucher_Date_1819)+SUM(IF(ISNUMBER(Voucher_Date_1819),1,0))+1)),0))","v":{"$error":"#NUM!"}}]
[{"$f":"INDEX(Voucher_Date_1819,MATCH(ROWS('Bill Register 20-21'!$L$3:'Bill Register 20-21'!L1073),COUNTIF(Voucher_Date_1819,\"<=\"&Voucher_Date_1819),0))","v":{"$error":"#N/A"}},{"$f":"INDEX(Voucher_Date_1819,MATCH(SMALL(IF(ISBLANK(Voucher_Date_1819),\"\",IF(ISNUMBER(Voucher_Date_1819),COUNTIF(Voucher_Date_1819,\"<\"&Voucher_Date_1819),COUNTIF(Voucher_Date_1819,\"<\"&Voucher_Date_1819)+SUM(IF(ISNUMBER(Voucher_Date_1819),1,0))+1)),ROW(A1072)),IF(ISBLANK(Voucher_Date_1819),\"\",IF(ISNUMBER(Voucher_Date_1819),COUNTIF(Voucher_Date_1819,\"<\"&Voucher_Date_1819),COUNTIF(Voucher_Date_1819,\"<\"&Voucher_Date_1819)+SUM(IF(ISNUMBER(Voucher_Date_1819),1,0))+1)),0))","v":{"$error":"#NUM!"}}]
[{"$f":"INDEX(Voucher_Date_1819,MATCH(ROWS('Bill Register 20-21'!$L$3:'Bill Register 20-21'!L1074),COUNTIF(Voucher_Date_1819,\"<=\"&Voucher_Date_1819),0))","v":{"$error":"#N/A"}},{"$f":"INDEX(Voucher_Date_1819,MATCH(SMALL(IF(ISBLANK(Voucher_Date_1819),\"\",IF(ISNUMBER(Voucher_Date_1819),COUNTIF(Voucher_Date_1819,\"<\"&Voucher_Date_1819),COUNTIF(Voucher_Date_1819,\"<\"&Voucher_Date_1819)+SUM(IF(ISNUMBER(Voucher_Date_1819),1,0))+1)),ROW(A1073)),IF(ISBLANK(Voucher_Date_1819),\"\",IF(ISNUMBER(Voucher_Date_1819),COUNTIF(Voucher_Date_1819,\"<\"&Voucher_Date_1819),COUNTIF(Voucher_Date_1819,\"<\"&Voucher_Date_1819)+SUM(IF(ISNUMBER(Voucher_Date_1819),1,0))+1)),0))","v":{"$error":"#NUM!"}}]
[{"$f":"INDEX(Voucher_Date_1819,MATCH(ROWS('Bill Register 20-21'!$L$3:'Bill Register 20-21'!L1075),COUNTIF(Voucher_Date_1819,\"<=\"&Voucher_Date_1819),0))","v":{"$error":"#N/A"}},{"$f":"INDEX(Voucher_Date_1819,MATCH(SMALL(IF(ISBLANK(Voucher_Date_1819),\"\",IF(ISNUMBER(Voucher_Date_1819),COUNTIF(Voucher_Date_1819,\"<\"&Voucher_Date_1819),COUNTIF(Voucher_Date_1819,\"<\"&Voucher_Date_1819)+SUM(IF(ISNUMBER(Voucher_Date_1819),1,0))+1)),ROW(A1074)),IF(ISBLANK(Voucher_Date_1819),\"\",IF(ISNUMBER(Voucher_Date_1819),COUNTIF(Voucher_Date_1819,\"<\"&Voucher_Date_1819),COUNTIF(Voucher_Date_1819,\"<\"&Voucher_Date_1819)+SUM(IF(ISNUMBER(Voucher_Date_1819),1,0))+1)),0))","v":{"$error":"#NUM!"}}]
[{"$f":"INDEX(Voucher_Date_1819,MATCH(ROWS('Bill Register 20-21'!$L$3:'Bill Register 20-21'!L1076),COUNTIF(Voucher_Date_1819,\"<=\"&Voucher_Date_1819),0))","v":{"$error":"#N/A"}},{"$f":"INDEX(Voucher_Date_1819,MATCH(SMALL(IF(ISBLANK(Voucher_Date_1819),\"\",IF(ISNUMBER(Voucher_Date_1819),COUNTIF(Voucher_Date_1819,\"<\"&Voucher_Date_1819),COUNTIF(Voucher_Date_1819,\"<\"&Voucher_Date_1819)+SUM(IF(ISNUMBER(Voucher_Date_1819),1,0))+1)),ROW(A1075)),IF(ISBLANK(Voucher_Date_1819),\"\",IF(ISNUMBER(Voucher_Date_1819),COUNTIF(Voucher_Date_1819,\"<\"&Voucher_Date_1819),COUNTIF(Voucher_Date_1819,\"<\"&Voucher_Date_1819)+SUM(IF(ISNUMBER(Voucher_Date_1819),1,0))+1)),0))","v":{"$error":"#NUM!"}}]
[{"$f":"INDEX(Voucher_Date_1819,MATCH(ROWS('Bill Register 20-21'!$L$3:'Bill Register 20-21'!L1077),COUNTIF(Voucher_Date_1819,\"<=\"&Voucher_Date_1819),0))","v":{"$error":"#N/A"}},{"$f":"INDEX(Voucher_Date_1819,MATCH(SMALL(IF(ISBLANK(Voucher_Date_1819),\"\",IF(ISNUMBER(Voucher_Date_1819),COUNTIF(Voucher_Date_1819,\"<\"&Voucher_Date_1819),COUNTIF(Voucher_Date_1819,\"<\"&Voucher_Date_1819)+SUM(IF(ISNUMBER(Voucher_Date_1819),1,0))+1)),ROW(A1076)),IF(ISBLANK(Voucher_Date_1819),\"\",IF(ISNUMBER(Voucher_Date_1819),COUNTIF(Voucher_Date_1819,\"<\"&Voucher_Date_1819),COUNTIF(Voucher_Date_1819,\"<\"&Voucher_Date_1819)+SUM(IF(ISNUMBER(Voucher_Date_1819),1,0))+1)),0))","v":{"$error":"#NUM!"}}]
[{"$f":"INDEX(Voucher_Date_1819,MATCH(ROWS('Bill Register 20-21'!$L$3:'Bill Register 20-21'!L1078),COUNTIF(Voucher_Date_1819,\"<=\"&Voucher_Date_1819),0))","v":{"$error":"#N/A"}},{"$f":"INDEX(Voucher_Date_1819,MATCH(SMALL(IF(ISBLANK(Voucher_Date_1819),\"\",IF(ISNUMBER(Voucher_Date_1819),COUNTIF(Voucher_Date_1819,\"<\"&Voucher_Date_1819),COUNTIF(Voucher_Date_1819,\"<\"&Voucher_Date_1819)+SUM(IF(ISNUMBER(Voucher_Date_1819),1,0))+1)),ROW(A1077)),IF(ISBLANK(Voucher_Date_1819),\"\",IF(ISNUMBER(Voucher_Date_1819),COUNTIF(Voucher_Date_1819,\"<\"&Voucher_Date_1819),COUNTIF(Voucher_Date_1819,\"<\"&Voucher_Date_1819)+SUM(IF(ISNUMBER(Voucher_Date_1819),1,0))+1)),0))","v":{"$error":"#NUM!"}}]
[{"$f":"INDEX(Voucher_Date_1819,MATCH(ROWS('Bill Register 20-21'!$L$3:'Bill Register 20-21'!L1079),COUNTIF(Voucher_Date_1819,\"<=\"&Voucher_Date_1819),0))","v":{"$error":"#N/A"}},{"$f":"INDEX(Voucher_Date_1819,MATCH(SMALL(IF(ISBLANK(Voucher_Date_1819),\"\",IF(ISNUMBER(Voucher_Date_1819),COUNTIF(Voucher_Date_1819,\"<\"&Voucher_Date_1819),COUNTIF(Voucher_Date_1819,\"<\"&Voucher_Date_1819)+SUM(IF(ISNUMBER(Voucher_Date_1819),1,0))+1)),ROW(A1078)),IF(ISBLANK(Voucher_Date_1819),\"\",IF(ISNUMBER(Voucher_Date_1819),COUNTIF(Voucher_Date_1819,\"<\"&Voucher_Date_1819),COUNTIF(Voucher_Date_1819,\"<\"&Voucher_Date_1819)+SUM(IF(ISNUMBER(Voucher_Date_1819),1,0))+1)),0))","v":{"$error":"#NUM!"}}]
[{"$f":"INDEX(Voucher_Date_1819,MATCH(ROWS('Bill Register 20-21'!$L$3:'Bill Register 20-21'!L1080),COUNTIF(Voucher_Date_1819,\"<=\"&Voucher_Date_1819),0))","v":{"$error":"#N/A"}},{"$f":"INDEX(Voucher_Date_1819,MATCH(SMALL(IF(ISBLANK(Voucher_Date_1819),\"\",IF(ISNUMBER(Voucher_Date_1819),COUNTIF(Voucher_Date_1819,\"<\"&Voucher_Date_1819),COUNTIF(Voucher_Date_1819,\"<\"&Voucher_Date_1819)+SUM(IF(ISNUMBER(Voucher_Date_1819),1,0))+1)),ROW(A1079)),IF(ISBLANK(Voucher_Date_1819),\"\",IF(ISNUMBER(Voucher_Date_1819),COUNTIF(Voucher_Date_1819,\"<\"&Voucher_Date_1819),COUNTIF(Voucher_Date_1819,\"<\"&Voucher_Date_1819)+SUM(IF(ISNUMBER(Voucher_Date_1819),1,0))+1)),0))","v":{"$error":"#NUM!"}}]
[{"$f":"INDEX(Voucher_Date_1819,MATCH(ROWS('Bill Register 20-21'!$L$3:'Bill Register 20-21'!L1081),COUNTIF(Voucher_Date_1819,\"<=\"&Voucher_Date_1819),0))","v":{"$error":"#N/A"}},{"$f":"INDEX(Voucher_Date_1819,MATCH(SMALL(IF(ISBLANK(Voucher_Date_1819),\"\",IF(ISNUMBER(Voucher_Date_1819),COUNTIF(Voucher_Date_1819,\"<\"&Voucher_Date_1819),COUNTIF(Voucher_Date_1819,\"<\"&Voucher_Date_1819)+SUM(IF(ISNUMBER(Voucher_Date_1819),1,0))+1)),ROW(A1080)),IF(ISBLANK(Voucher_Date_1819),\"\",IF(ISNUMBER(Voucher_Date_1819),COUNTIF(Voucher_Date_1819,\"<\"&Voucher_Date_1819),COUNTIF(Voucher_Date_1819,\"<\"&Voucher_Date_1819)+SUM(IF(ISNUMBER(Voucher_Date_1819),1,0))+1)),0))","v":{"$error":"#NUM!"}}]
[{"$f":"INDEX(Voucher_Date_1819,MATCH(ROWS('Bill Register 20-21'!$L$3:'Bill Register 20-21'!L1082),COUNTIF(Voucher_Date_1819,\"<=\"&Voucher_Date_1819),0))","v":{"$error":"#N/A"}},{"$f":"INDEX(Voucher_Date_1819,MATCH(SMALL(IF(ISBLANK(Voucher_Date_1819),\"\",IF(ISNUMBER(Voucher_Date_1819),COUNTIF(Voucher_Date_1819,\"<\"&Voucher_Date_1819),COUNTIF(Voucher_Date_1819,\"<\"&Voucher_Date_1819)+SUM(IF(ISNUMBER(Voucher_Date_1819),1,0))+1)),ROW(A1081)),IF(ISBLANK(Voucher_Date_1819),\"\",IF(ISNUMBER(Voucher_Date_1819),COUNTIF(Voucher_Date_1819,\"<\"&Voucher_Date_1819),COUNTIF(Voucher_Date_1819,\"<\"&Voucher_Date_1819)+SUM(IF(ISNUMBER(Voucher_Date_1819),1,0))+1)),0))","v":{"$error":"#NUM!"}}]
[{"$f":"INDEX(Voucher_Date_1819,MATCH(ROWS('Bill Register 20-21'!$L$3:'Bill Register 20-21'!L1083),COUNTIF(Voucher_Date_1819,\"<=\"&Voucher_Date_1819),0))","v":{"$error":"#N/A"}},{"$f":"INDEX(Voucher_Date_1819,MATCH(SMALL(IF(ISBLANK(Voucher_Date_1819),\"\",IF(ISNUMBER(Voucher_Date_1819),COUNTIF(Voucher_Date_1819,\"<\"&Voucher_Date_1819),COUNTIF(Voucher_Date_1819,\"<\"&Voucher_Date_1819)+SUM(IF(ISNUMBER(Voucher_Date_1819),1,0))+1)),ROW(A1082)),IF(ISBLANK(Voucher_Date_1819),\"\",IF(ISNUMBER(Voucher_Date_1819),COUNTIF(Voucher_Date_1819,\"<\"&Voucher_Date_1819),COUNTIF(Voucher_Date_1819,\"<\"&Voucher_Date_1819)+SUM(IF(ISNUMBER(Voucher_Date_1819),1,0))+1)),0))","v":{"$error":"#NUM!"}}]
[{"$f":"INDEX(Voucher_Date_1819,MATCH(ROWS('Bill Register 20-21'!$L$3:'Bill Register 20-21'!L1084),COUNTIF(Voucher_Date_1819,\"<=\"&Voucher_Date_1819),0))","v":{"$error":"#N/A"}},{"$f":"INDEX(Voucher_Date_1819,MATCH(SMALL(IF(ISBLANK(Voucher_Date_1819),\"\",IF(ISNUMBER(Voucher_Date_1819),COUNTIF(Voucher_Date_1819,\"<\"&Voucher_Date_1819),COUNTIF(Voucher_Date_1819,\"<\"&Voucher_Date_1819)+SUM(IF(ISNUMBER(Voucher_Date_1819),1,0))+1)),ROW(A1083)),IF(ISBLANK(Voucher_Date_1819),\"\",IF(ISNUMBER(Voucher_Date_1819),COUNTIF(Voucher_Date_1819,\"<\"&Voucher_Date_1819),COUNTIF(Voucher_Date_1819,\"<\"&Voucher_Date_1819)+SUM(IF(ISNUMBER(Voucher_Date_1819),1,0))+1)),0))","v":{"$error":"#NUM!"}}]
[{"$f":"INDEX(Voucher_Date_1819,MATCH(ROWS('Bill Register 20-21'!$L$3:'Bill Register 20-21'!L1085),COUNTIF(Voucher_Date_1819,\"<=\"&Voucher_Date_1819),0))","v":{"$error":"#N/A"}},{"$f":"INDEX(Voucher_Date_1819,MATCH(SMALL(IF(ISBLANK(Voucher_Date_1819),\"\",IF(ISNUMBER(Voucher_Date_1819),COUNTIF(Voucher_Date_1819,\"<\"&Voucher_Date_1819),COUNTIF(Voucher_Date_1819,\"<\"&Voucher_Date_1819)+SUM(IF(ISNUMBER(Voucher_Date_1819),1,0))+1)),ROW(A1084)),IF(ISBLANK(Voucher_Date_1819),\"\",IF(ISNUMBER(Voucher_Date_1819),COUNTIF(Voucher_Date_1819,\"<\"&Voucher_Date_1819),COUNTIF(Voucher_Date_1819,\"<\"&Voucher_Date_1819)+SUM(IF(ISNUMBER(Voucher_Date_1819),1,0))+1)),0))","v":{"$error":"#NUM!"}}]
[{"$f":"INDEX(Voucher_Date_1819,MATCH(ROWS('Bill Register 20-21'!$L$3:'Bill Register 20-21'!L1086),COUNTIF(Voucher_Date_1819,\"<=\"&Voucher_Date_1819),0))","v":{"$error":"#N/A"}},{"$f":"INDEX(Voucher_Date_1819,MATCH(SMALL(IF(ISBLANK(Voucher_Date_1819),\"\",IF(ISNUMBER(Voucher_Date_1819),COUNTIF(Voucher_Date_1819,\"<\"&Voucher_Date_1819),COUNTIF(Voucher_Date_1819,\"<\"&Voucher_Date_1819)+SUM(IF(ISNUMBER(Voucher_Date_1819),1,0))+1)),ROW(A1085)),IF(ISBLANK(Voucher_Date_1819),\"\",IF(ISNUMBER(Voucher_Date_1819),COUNTIF(Voucher_Date_1819,\"<\"&Voucher_Date_1819),COUNTIF(Voucher_Date_1819,\"<\"&Voucher_Date_1819)+SUM(IF(ISNUMBER(Voucher_Date_1819),1,0))+1)),0))","v":{"$error":"#NUM!"}}]
[{"$f":"INDEX(Voucher_Date_1819,MATCH(ROWS('Bill Register 20-21'!$L$3:'Bill Register 20-21'!L1087),COUNTIF(Voucher_Date_1819,\"<=\"&Voucher_Date_1819),0))","v":{"$error":"#N/A"}},{"$f":"INDEX(Voucher_Date_1819,MATCH(SMALL(IF(ISBLANK(Voucher_Date_1819),\"\",IF(ISNUMBER(Voucher_Date_1819),COUNTIF(Voucher_Date_1819,\"<\"&Voucher_Date_1819),COUNTIF(Voucher_Date_1819,\"<\"&Voucher_Date_1819)+SUM(IF(ISNUMBER(Voucher_Date_1819),1,0))+1)),ROW(A1086)),IF(ISBLANK(Voucher_Date_1819),\"\",IF(ISNUMBER(Voucher_Date_1819),COUNTIF(Voucher_Date_1819,\"<\"&Voucher_Date_1819),COUNTIF(Voucher_Date_1819,\"<\"&Voucher_Date_1819)+SUM(IF(ISNUMBER(Voucher_Date_1819),1,0))+1)),0))","v":{"$error":"#NUM!"}}]
[{"$f":"INDEX(Voucher_Date_1819,MATCH(ROWS('Bill Register 20-21'!$L$3:'Bill Register 20-21'!L1088),COUNTIF(Voucher_Date_1819,\"<=\"&Voucher_Date_1819),0))","v":{"$error":"#N/A"}},{"$f":"INDEX(Voucher_Date_1819,MATCH(SMALL(IF(ISBLANK(Voucher_Date_1819),\"\",IF(ISNUMBER(Voucher_Date_1819),COUNTIF(Voucher_Date_1819,\"<\"&Voucher_Date_1819),COUNTIF(Voucher_Date_1819,\"<\"&Voucher_Date_1819)+SUM(IF(ISNUMBER(Voucher_Date_1819),1,0))+1)),ROW(A1087)),IF(ISBLANK(Voucher_Date_1819),\"\",IF(ISNUMBER(Voucher_Date_1819),COUNTIF(Voucher_Date_1819,\"<\"&Voucher_Date_1819),COUNTIF(Voucher_Date_1819,\"<\"&Voucher_Date_1819)+SUM(IF(ISNUMBER(Voucher_Date_1819),1,0))+1)),0))","v":{"$error":"#NUM!"}}]
[{"$f":"INDEX(Voucher_Date_1819,MATCH(ROWS('Bill Register 20-21'!$L$3:'Bill Register 20-21'!L1089),COUNTIF(Voucher_Date_1819,\"<=\"&Voucher_Date_1819),0))","v":{"$error":"#N/A"}},{"$f":"INDEX(Voucher_Date_1819,MATCH(SMALL(IF(ISBLANK(Voucher_Date_1819),\"\",IF(ISNUMBER(Voucher_Date_1819),COUNTIF(Voucher_Date_1819,\"<\"&Voucher_Date_1819),COUNTIF(Voucher_Date_1819,\"<\"&Voucher_Date_1819)+SUM(IF(ISNUMBER(Voucher_Date_1819),1,0))+1)),ROW(A1088)),IF(ISBLANK(Voucher_Date_1819),\"\",IF(ISNUMBER(Voucher_Date_1819),COUNTIF(Voucher_Date_1819,\"<\"&Voucher_Date_1819),COUNTIF(Voucher_Date_1819,\"<\"&Voucher_Date_1819)+SUM(IF(ISNUMBER(Voucher_Date_1819),1,0))+1)),0))","v":{"$error":"#NUM!"}}]
[{"$f":"INDEX(Voucher_Date_1819,MATCH(ROWS('Bill Register 20-21'!$L$3:'Bill Register 20-21'!L1090),COUNTIF(Voucher_Date_1819,\"<=\"&Voucher_Date_1819),0))","v":{"$error":"#N/A"}},{"$f":"INDEX(Voucher_Date_1819,MATCH(SMALL(IF(ISBLANK(Voucher_Date_1819),\"\",IF(ISNUMBER(Voucher_Date_1819),COUNTIF(Voucher_Date_1819,\"<\"&Voucher_Date_1819),COUNTIF(Voucher_Date_1819,\"<\"&Voucher_Date_1819)+SUM(IF(ISNUMBER(Voucher_Date_1819),1,0))+1)),ROW(A1089)),IF(ISBLANK(Voucher_Date_1819),\"\",IF(ISNUMBER(Voucher_Date_1819),COUNTIF(Voucher_Date_1819,\"<\"&Voucher_Date_1819),COUNTIF(Voucher_Date_1819,\"<\"&Voucher_Date_1819)+SUM(IF(ISNUMBER(Voucher_Date_1819),1,0))+1)),0))","v":{"$error":"#NUM!"}}]
[{"$f":"INDEX(Voucher_Date_1819,MATCH(ROWS('Bill Register 20-21'!$L$3:'Bill Register 20-21'!L1091),COUNTIF(Voucher_Date_1819,\"<=\"&Voucher_Date_1819),0))","v":{"$error":"#N/A"}},{"$f":"INDEX(Voucher_Date_1819,MATCH(SMALL(IF(ISBLANK(Voucher_Date_1819),\"\",IF(ISNUMBER(Voucher_Date_1819),COUNTIF(Voucher_Date_1819,\"<\"&Voucher_Date_1819),COUNTIF(Voucher_Date_1819,\"<\"&Voucher_Date_1819)+SUM(IF(ISNUMBER(Voucher_Date_1819),1,0))+1)),ROW(A1090)),IF(ISBLANK(Voucher_Date_1819),\"\",IF(ISNUMBER(Voucher_Date_1819),COUNTIF(Voucher_Date_1819,\"<\"&Voucher_Date_1819),COUNTIF(Voucher_Date_1819,\"<\"&Voucher_Date_1819)+SUM(IF(ISNUMBER(Voucher_Date_1819),1,0))+1)),0))","v":{"$error":"#NUM!"}}]
[{"$f":"INDEX(Voucher_Date_1819,MATCH(ROWS('Bill Register 20-21'!$L$3:'Bill Register 20-21'!L1092),COUNTIF(Voucher_Date_1819,\"<=\"&Voucher_Date_1819),0))","v":{"$error":"#N/A"}},{"$f":"INDEX(Voucher_Date_1819,MATCH(SMALL(IF(ISBLANK(Voucher_Date_1819),\"\",IF(ISNUMBER(Voucher_Date_1819),COUNTIF(Voucher_Date_1819,\"<\"&Voucher_Date_1819),COUNTIF(Voucher_Date_1819,\"<\"&Voucher_Date_1819)+SUM(IF(ISNUMBER(Voucher_Date_1819),1,0))+1)),ROW(A1091)),IF(ISBLANK(Voucher_Date_1819),\"\",IF(ISNUMBER(Voucher_Date_1819),COUNTIF(Voucher_Date_1819,\"<\"&Voucher_Date_1819),COUNTIF(Voucher_Date_1819,\"<\"&Voucher_Date_1819)+SUM(IF(ISNUMBER(Voucher_Date_1819),1,0))+1)),0))","v":{"$error":"#NUM!"}}]
[{"$f":"INDEX(Voucher_Date_1819,MATCH(ROWS('Bill Register 20-21'!$L$3:'Bill Register 20-21'!L1093),COUNTIF(Voucher_Date_1819,\"<=\"&Voucher_Date_1819),0))","v":{"$error":"#N/A"}},{"$f":"INDEX(Voucher_Date_1819,MATCH(SMALL(IF(ISBLANK(Voucher_Date_1819),\"\",IF(ISNUMBER(Voucher_Date_1819),COUNTIF(Voucher_Date_1819,\"<\"&Voucher_Date_1819),COUNTIF(Voucher_Date_1819,\"<\"&Voucher_Date_1819)+SUM(IF(ISNUMBER(Voucher_Date_1819),1,0))+1)),ROW(A1092)),IF(ISBLANK(Voucher_Date_1819),\"\",IF(ISNUMBER(Voucher_Date_1819),COUNTIF(Voucher_Date_1819,\"<\"&Voucher_Date_1819),COUNTIF(Voucher_Date_1819,\"<\"&Voucher_Date_1819)+SUM(IF(ISNUMBER(Voucher_Date_1819),1,0))+1)),0))","v":{"$error":"#NUM!"}}]
[{"$f":"INDEX(Voucher_Date_1819,MATCH(ROWS('Bill Register 20-21'!$L$3:'Bill Register 20-21'!L1094),COUNTIF(Voucher_Date_1819,\"<=\"&Voucher_Date_1819),0))","v":{"$error":"#N/A"}},{"$f":"INDEX(Voucher_Date_1819,MATCH(SMALL(IF(ISBLANK(Voucher_Date_1819),\"\",IF(ISNUMBER(Voucher_Date_1819),COUNTIF(Voucher_Date_1819,\"<\"&Voucher_Date_1819),COUNTIF(Voucher_Date_1819,\"<\"&Voucher_Date_1819)+SUM(IF(ISNUMBER(Voucher_Date_1819),1,0))+1)),ROW(A1093)),IF(ISBLANK(Voucher_Date_1819),\"\",IF(ISNUMBER(Voucher_Date_1819),COUNTIF(Voucher_Date_1819,\"<\"&Voucher_Date_1819),COUNTIF(Voucher_Date_1819,\"<\"&Voucher_Date_1819)+SUM(IF(ISNUMBER(Voucher_Date_1819),1,0))+1)),0))","v":{"$error":"#NUM!"}}]
[{"$f":"INDEX(Voucher_Date_1819,MATCH(ROWS('Bill Register 20-21'!$L$3:'Bill Register 20-21'!L1095),COUNTIF(Voucher_Date_1819,\"<=\"&Voucher_Date_1819),0))","v":{"$error":"#N/A"}},{"$f":"INDEX(Voucher_Date_1819,MATCH(SMALL(IF(ISBLANK(Voucher_Date_1819),\"\",IF(ISNUMBER(Voucher_Date_1819),COUNTIF(Voucher_Date_1819,\"<\"&Voucher_Date_1819),COUNTIF(Voucher_Date_1819,\"<\"&Voucher_Date_1819)+SUM(IF(ISNUMBER(Voucher_Date_1819),1,0))+1)),ROW(A1094)),IF(ISBLANK(Voucher_Date_1819),\"\",IF(ISNUMBER(Voucher_Date_1819),COUNTIF(Voucher_Date_1819,\"<\"&Voucher_Date_1819),COUNTIF(Voucher_Date_1819,\"<\"&Voucher_Date_1819)+SUM(IF(ISNUMBER(Voucher_Date_1819),1,0))+1)),0))","v":{"$error":"#NUM!"}}]
[{"$f":"INDEX(Voucher_Date_1819,MATCH(ROWS('Bill Register 20-21'!$L$3:'Bill Register 20-21'!L1096),COUNTIF(Voucher_Date_1819,\"<=\"&Voucher_Date_1819),0))","v":{"$error":"#N/A"}},{"$f":"INDEX(Voucher_Date_1819,MATCH(SMALL(IF(ISBLANK(Voucher_Date_1819),\"\",IF(ISNUMBER(Voucher_Date_1819),COUNTIF(Voucher_Date_1819,\"<\"&Voucher_Date_1819),COUNTIF(Voucher_Date_1819,\"<\"&Voucher_Date_1819)+SUM(IF(ISNUMBER(Voucher_Date_1819),1,0))+1)),ROW(A1095)),IF(ISBLANK(Voucher_Date_1819),\"\",IF(ISNUMBER(Voucher_Date_1819),COUNTIF(Voucher_Date_1819,\"<\"&Voucher_Date_1819),COUNTIF(Voucher_Date_1819,\"<\"&Voucher_Date_1819)+SUM(IF(ISNUMBER(Voucher_Date_1819),1,0))+1)),0))","v":{"$error":"#NUM!"}}]
[{"$f":"INDEX(Voucher_Date_1819,MATCH(ROWS('Bill Register 20-21'!$L$3:'Bill Register 20-21'!L1097),COUNTIF(Voucher_Date_1819,\"<=\"&Voucher_Date_1819),0))","v":{"$error":"#N/A"}},{"$f":"INDEX(Voucher_Date_1819,MATCH(SMALL(IF(ISBLANK(Voucher_Date_1819),\"\",IF(ISNUMBER(Voucher_Date_1819),COUNTIF(Voucher_Date_1819,\"<\"&Voucher_Date_1819),COUNTIF(Voucher_Date_1819,\"<\"&Voucher_Date_1819)+SUM(IF(ISNUMBER(Voucher_Date_1819),1,0))+1)),ROW(A1096)),IF(ISBLANK(Voucher_Date_1819),\"\",IF(ISNUMBER(Voucher_Date_1819),COUNTIF(Voucher_Date_1819,\"<\"&Voucher_Date_1819),COUNTIF(Voucher_Date_1819,\"<\"&Voucher_Date_1819)+SUM(IF(ISNUMBER(Voucher_Date_1819),1,0))+1)),0))","v":{"$error":"#NUM!"}}]
[{"$f":"INDEX(Voucher_Date_1819,MATCH(ROWS('Bill Register 20-21'!$L$3:'Bill Register 20-21'!L1098),COUNTIF(Voucher_Date_1819,\"<=\"&Voucher_Date_1819),0))","v":{"$error":"#N/A"}},{"$f":"INDEX(Voucher_Date_1819,MATCH(SMALL(IF(ISBLANK(Voucher_Date_1819),\"\",IF(ISNUMBER(Voucher_Date_1819),COUNTIF(Voucher_Date_1819,\"<\"&Voucher_Date_1819),COUNTIF(Voucher_Date_1819,\"<\"&Voucher_Date_1819)+SUM(IF(ISNUMBER(Voucher_Date_1819),1,0))+1)),ROW(A1097)),IF(ISBLANK(Voucher_Date_1819),\"\",IF(ISNUMBER(Voucher_Date_1819),COUNTIF(Voucher_Date_1819,\"<\"&Voucher_Date_1819),COUNTIF(Voucher_Date_1819,\"<\"&Voucher_Date_1819)+SUM(IF(ISNUMBER(Voucher_Date_1819),1,0))+1)),0))","v":{"$error":"#NUM!"}}]
[{"$f":"INDEX(Voucher_Date_1819,MATCH(ROWS('Bill Register 20-21'!$L$3:'Bill Register 20-21'!L1099),COUNTIF(Voucher_Date_1819,\"<=\"&Voucher_Date_1819),0))","v":{"$error":"#N/A"}},{"$f":"INDEX(Voucher_Date_1819,MATCH(SMALL(IF(ISBLANK(Voucher_Date_1819),\"\",IF(ISNUMBER(Voucher_Date_1819),COUNTIF(Voucher_Date_1819,\"<\"&Voucher_Date_1819),COUNTIF(Voucher_Date_1819,\"<\"&Voucher_Date_1819)+SUM(IF(ISNUMBER(Voucher_Date_1819),1,0))+1)),ROW(A1098)),IF(ISBLANK(Voucher_Date_1819),\"\",IF(ISNUMBER(Voucher_Date_1819),COUNTIF(Voucher_Date_1819,\"<\"&Voucher_Date_1819),COUNTIF(Voucher_Date_1819,\"<\"&Voucher_Date_1819)+SUM(IF(ISNUMBER(Voucher_Date_1819),1,0))+1)),0))","v":{"$error":"#NUM!"}}]
[{"$f":"INDEX(Voucher_Date_1819,MATCH(ROWS('Bill Register 20-21'!$L$3:'Bill Register 20-21'!L1100),COUNTIF(Voucher_Date_1819,\"<=\"&Voucher_Date_1819),0))","v":{"$error":"#N/A"}},{"$f":"INDEX(Voucher_Date_1819,MATCH(SMALL(IF(ISBLANK(Voucher_Date_1819),\"\",IF(ISNUMBER(Voucher_Date_1819),COUNTIF(Voucher_Date_1819,\"<\"&Voucher_Date_1819),COUNTIF(Voucher_Date_1819,\"<\"&Voucher_Date_1819)+SUM(IF(ISNUMBER(Voucher_Date_1819),1,0))+1)),ROW(A1099)),IF(ISBLANK(Voucher_Date_1819),\"\",IF(ISNUMBER(Voucher_Date_1819),COUNTIF(Voucher_Date_1819,\"<\"&Voucher_Date_1819),COUNTIF(Voucher_Date_1819,\"<\"&Voucher_Date_1819)+SUM(IF(ISNUMBER(Voucher_Date_1819),1,0))+1)),0))","v":{"$error":"#NUM!"}}]
[{"$f":"INDEX(Voucher_Date_1819,MATCH(ROWS('Bill Register 20-21'!$L$3:'Bill Register 20-21'!L1101),COUNTIF(Voucher_Date_1819,\"<=\"&Voucher_Date_1819),0))","v":{"$error":"#N/A"}},{"$f":"INDEX(Voucher_Date_1819,MATCH(SMALL(IF(ISBLANK(Voucher_Date_1819),\"\",IF(ISNUMBER(Voucher_Date_1819),COUNTIF(Voucher_Date_1819,\"<\"&Voucher_Date_1819),COUNTIF(Voucher_Date_1819,\"<\"&Voucher_Date_1819)+SUM(IF(ISNUMBER(Voucher_Date_1819),1,0))+1)),ROW(A1100)),IF(ISBLANK(Voucher_Date_1819),\"\",IF(ISNUMBER(Voucher_Date_1819),COUNTIF(Voucher_Date_1819,\"<\"&Voucher_Date_1819),COUNTIF(Voucher_Date_1819,\"<\"&Voucher_Date_1819)+SUM(IF(ISNUMBER(Voucher_Date_1819),1,0))+1)),0))","v":{"$error":"#NUM!"}}]
[{"$f":"INDEX(Voucher_Date_1819,MATCH(ROWS('Bill Register 20-21'!$L$3:'Bill Register 20-21'!L1102),COUNTIF(Voucher_Date_1819,\"<=\"&Voucher_Date_1819),0))","v":{"$error":"#N/A"}},{"$f":"INDEX(Voucher_Date_1819,MATCH(SMALL(IF(ISBLANK(Voucher_Date_1819),\"\",IF(ISNUMBER(Voucher_Date_1819),COUNTIF(Voucher_Date_1819,\"<\"&Voucher_Date_1819),COUNTIF(Voucher_Date_1819,\"<\"&Voucher_Date_1819)+SUM(IF(ISNUMBER(Voucher_Date_1819),1,0))+1)),ROW(A1101)),IF(ISBLANK(Voucher_Date_1819),\"\",IF(ISNUMBER(Voucher_Date_1819),COUNTIF(Voucher_Date_1819,\"<\"&Voucher_Date_1819),COUNTIF(Voucher_Date_1819,\"<\"&Voucher_Date_1819)+SUM(IF(ISNUMBER(Voucher_Date_1819),1,0))+1)),0))","v":{"$error":"#NUM!"}}]
[{"$f":"INDEX(Voucher_Date_1819,MATCH(ROWS('Bill Register 20-21'!$L$3:'Bill Register 20-21'!L1103),COUNTIF(Voucher_Date_1819,\"<=\"&Voucher_Date_1819),0))","v":{"$error":"#N/A"}},{"$f":"INDEX(Voucher_Date_1819,MATCH(SMALL(IF(ISBLANK(Voucher_Date_1819),\"\",IF(ISNUMBER(Voucher_Date_1819),COUNTIF(Voucher_Date_1819,\"<\"&Voucher_Date_1819),COUNTIF(Voucher_Date_1819,\"<\"&Voucher_Date_1819)+SUM(IF(ISNUMBER(Voucher_Date_1819),1,0))+1)),ROW(A1102)),IF(ISBLANK(Voucher_Date_1819),\"\",IF(ISNUMBER(Voucher_Date_1819),COUNTIF(Voucher_Date_1819,\"<\"&Voucher_Date_1819),COUNTIF(Voucher_Date_1819,\"<\"&Voucher_Date_1819)+SUM(IF(ISNUMBER(Voucher_Date_1819),1,0))+1)),0))","v":{"$error":"#NUM!"}}]
[{"$f":"INDEX(Voucher_Date_1819,MATCH(ROWS('Bill Register 20-21'!$L$3:'Bill Register 20-21'!L1104),COUNTIF(Voucher_Date_1819,\"<=\"&Voucher_Date_1819),0))","v":{"$error":"#N/A"}},{"$f":"INDEX(Voucher_Date_1819,MATCH(SMALL(IF(ISBLANK(Voucher_Date_1819),\"\",IF(ISNUMBER(Voucher_Date_1819),COUNTIF(Voucher_Date_1819,\"<\"&Voucher_Date_1819),COUNTIF(Voucher_Date_1819,\"<\"&Voucher_Date_1819)+SUM(IF(ISNUMBER(Voucher_Date_1819),1,0))+1)),ROW(A1103)),IF(ISBLANK(Voucher_Date_1819),\"\",IF(ISNUMBER(Voucher_Date_1819),COUNTIF(Voucher_Date_1819,\"<\"&Voucher_Date_1819),COUNTIF(Voucher_Date_1819,\"<\"&Voucher_Date_1819)+SUM(IF(ISNUMBER(Voucher_Date_1819),1,0))+1)),0))","v":{"$error":"#NUM!"}}]
[{"$f":"INDEX(Voucher_Date_1819,MATCH(ROWS('Bill Register 20-21'!$L$3:'Bill Register 20-21'!L1105),COUNTIF(Voucher_Date_1819,\"<=\"&Voucher_Date_1819),0))","v":{"$error":"#N/A"}},{"$f":"INDEX(Voucher_Date_1819,MATCH(SMALL(IF(ISBLANK(Voucher_Date_1819),\"\",IF(ISNUMBER(Voucher_Date_1819),COUNTIF(Voucher_Date_1819,\"<\"&Voucher_Date_1819),COUNTIF(Voucher_Date_1819,\"<\"&Voucher_Date_1819)+SUM(IF(ISNUMBER(Voucher_Date_1819),1,0))+1)),ROW(A1104)),IF(ISBLANK(Voucher_Date_1819),\"\",IF(ISNUMBER(Voucher_Date_1819),COUNTIF(Voucher_Date_1819,\"<\"&Voucher_Date_1819),COUNTIF(Voucher_Date_1819,\"<\"&Voucher_Date_1819)+SUM(IF(ISNUMBER(Voucher_Date_1819),1,0))+1)),0))","v":{"$error":"#NUM!"}}]
[{"$f":"INDEX(Voucher_Date_1819,MATCH(ROWS('Bill Register 20-21'!$L$3:'Bill Register 20-21'!L1106),COUNTIF(Voucher_Date_1819,\"<=\"&Voucher_Date_1819),0))","v":{"$error":"#N/A"}},{"$f":"INDEX(Voucher_Date_1819,MATCH(SMALL(IF(ISBLANK(Voucher_Date_1819),\"\",IF(ISNUMBER(Voucher_Date_1819),COUNTIF(Voucher_Date_1819,\"<\"&Voucher_Date_1819),COUNTIF(Voucher_Date_1819,\"<\"&Voucher_Date_1819)+SUM(IF(ISNUMBER(Voucher_Date_1819),1,0))+1)),ROW(A1105)),IF(ISBLANK(Voucher_Date_1819),\"\",IF(ISNUMBER(Voucher_Date_1819),COUNTIF(Voucher_Date_1819,\"<\"&Voucher_Date_1819),COUNTIF(Voucher_Date_1819,\"<\"&Voucher_Date_1819)+SUM(IF(ISNUMBER(Voucher_Date_1819),1,0))+1)),0))","v":{"$error":"#NUM!"}}]
[{"$f":"INDEX(Voucher_Date_1819,MATCH(ROWS('Bill Register 20-21'!$L$3:'Bill Register 20-21'!L1107),COUNTIF(Voucher_Date_1819,\"<=\"&Voucher_Date_1819),0))","v":{"$error":"#N/A"}},{"$f":"INDEX(Voucher_Date_1819,MATCH(SMALL(IF(ISBLANK(Voucher_Date_1819),\"\",IF(ISNUMBER(Voucher_Date_1819),COUNTIF(Voucher_Date_1819,\"<\"&Voucher_Date_1819),COUNTIF(Voucher_Date_1819,\"<\"&Voucher_Date_1819)+SUM(IF(ISNUMBER(Voucher_Date_1819),1,0))+1)),ROW(A1106)),IF(ISBLANK(Voucher_Date_1819),\"\",IF(ISNUMBER(Voucher_Date_1819),COUNTIF(Voucher_Date_1819,\"<\"&Voucher_Date_1819),COUNTIF(Voucher_Date_1819,\"<\"&Voucher_Date_1819)+SUM(IF(ISNUMBER(Voucher_Date_1819),1,0))+1)),0))","v":{"$error":"#NUM!"}}]
[{"$f":"INDEX(Voucher_Date_1819,MATCH(ROWS('Bill Register 20-21'!$L$3:'Bill Register 20-21'!L1108),COUNTIF(Voucher_Date_1819,\"<=\"&Voucher_Date_1819),0))","v":{"$error":"#N/A"}},{"$f":"INDEX(Voucher_Date_1819,MATCH(SMALL(IF(ISBLANK(Voucher_Date_1819),\"\",IF(ISNUMBER(Voucher_Date_1819),COUNTIF(Voucher_Date_1819,\"<\"&Voucher_Date_1819),COUNTIF(Voucher_Date_1819,\"<\"&Voucher_Date_1819)+SUM(IF(ISNUMBER(Voucher_Date_1819),1,0))+1)),ROW(A1107)),IF(ISBLANK(Voucher_Date_1819),\"\",IF(ISNUMBER(Voucher_Date_1819),COUNTIF(Voucher_Date_1819,\"<\"&Voucher_Date_1819),COUNTIF(Voucher_Date_1819,\"<\"&Voucher_Date_1819)+SUM(IF(ISNUMBER(Voucher_Date_1819),1,0))+1)),0))","v":{"$error":"#NUM!"}}]
[{"$f":"INDEX(Voucher_Date_1819,MATCH(ROWS('Bill Register 20-21'!$L$3:'Bill Register 20-21'!L1109),COUNTIF(Voucher_Date_1819,\"<=\"&Voucher_Date_1819),0))","v":{"$error":"#N/A"}},{"$f":"INDEX(Voucher_Date_1819,MATCH(SMALL(IF(ISBLANK(Voucher_Date_1819),\"\",IF(ISNUMBER(Voucher_Date_1819),COUNTIF(Voucher_Date_1819,\"<\"&Voucher_Date_1819),COUNTIF(Voucher_Date_1819,\"<\"&Voucher_Date_1819)+SUM(IF(ISNUMBER(Voucher_Date_1819),1,0))+1)),ROW(A1108)),IF(ISBLANK(Voucher_Date_1819),\"\",IF(ISNUMBER(Voucher_Date_1819),COUNTIF(Voucher_Date_1819,\"<\"&Voucher_Date_1819),COUNTIF(Voucher_Date_1819,\"<\"&Voucher_Date_1819)+SUM(IF(ISNUMBER(Voucher_Date_1819),1,0))+1)),0))","v":{"$error":"#NUM!"}}]
[{"$f":"INDEX(Voucher_Date_1819,MATCH(ROWS('Bill Register 20-21'!$L$3:'Bill Register 20-21'!L1110),COUNTIF(Voucher_Date_1819,\"<=\"&Voucher_Date_1819),0))","v":{"$error":"#N/A"}},{"$f":"INDEX(Voucher_Date_1819,MATCH(SMALL(IF(ISBLANK(Voucher_Date_1819),\"\",IF(ISNUMBER(Voucher_Date_1819),COUNTIF(Voucher_Date_1819,\"<\"&Voucher_Date_1819),COUNTIF(Voucher_Date_1819,\"<\"&Voucher_Date_1819)+SUM(IF(ISNUMBER(Voucher_Date_1819),1,0))+1)),ROW(A1109)),IF(ISBLANK(Voucher_Date_1819),\"\",IF(ISNUMBER(Voucher_Date_1819),COUNTIF(Voucher_Date_1819,\"<\"&Voucher_Date_1819),COUNTIF(Voucher_Date_1819,\"<\"&Voucher_Date_1819)+SUM(IF(ISNUMBER(Voucher_Date_1819),1,0))+1)),0))","v":{"$error":"#NUM!"}}]
[{"$f":"INDEX(Voucher_Date_1819,MATCH(ROWS('Bill Register 20-21'!$L$3:'Bill Register 20-21'!L1111),COUNTIF(Voucher_Date_1819,\"<=\"&Voucher_Date_1819),0))","v":{"$error":"#N/A"}},{"$f":"INDEX(Voucher_Date_1819,MATCH(SMALL(IF(ISBLANK(Voucher_Date_1819),\"\",IF(ISNUMBER(Voucher_Date_1819),COUNTIF(Voucher_Date_1819,\"<\"&Voucher_Date_1819),COUNTIF(Voucher_Date_1819,\"<\"&Voucher_Date_1819)+SUM(IF(ISNUMBER(Voucher_Date_1819),1,0))+1)),ROW(A1110)),IF(ISBLANK(Voucher_Date_1819),\"\",IF(ISNUMBER(Voucher_Date_1819),COUNTIF(Voucher_Date_1819,\"<\"&Voucher_Date_1819),COUNTIF(Voucher_Date_1819,\"<\"&Voucher_Date_1819)+SUM(IF(ISNUMBER(Voucher_Date_1819),1,0))+1)),0))","v":{"$error":"#NUM!"}}]
[{"$f":"INDEX(Voucher_Date_1819,MATCH(ROWS('Bill Register 20-21'!$L$3:'Bill Register 20-21'!L1112),COUNTIF(Voucher_Date_1819,\"<=\"&Voucher_Date_1819),0))","v":{"$error":"#N/A"}},{"$f":"INDEX(Voucher_Date_1819,MATCH(SMALL(IF(ISBLANK(Voucher_Date_1819),\"\",IF(ISNUMBER(Voucher_Date_1819),COUNTIF(Voucher_Date_1819,\"<\"&Voucher_Date_1819),COUNTIF(Voucher_Date_1819,\"<\"&Voucher_Date_1819)+SUM(IF(ISNUMBER(Voucher_Date_1819),1,0))+1)),ROW(A1111)),IF(ISBLANK(Voucher_Date_1819),\"\",IF(ISNUMBER(Voucher_Date_1819),COUNTIF(Voucher_Date_1819,\"<\"&Voucher_Date_1819),COUNTIF(Voucher_Date_1819,\"<\"&Voucher_Date_1819)+SUM(IF(ISNUMBER(Voucher_Date_1819),1,0))+1)),0))","v":{"$error":"#NUM!"}}]
[{"$f":"INDEX(Voucher_Date_1819,MATCH(ROWS('Bill Register 20-21'!$L$3:'Bill Register 20-21'!L1113),COUNTIF(Voucher_Date_1819,\"<=\"&Voucher_Date_1819),0))","v":{"$error":"#N/A"}},{"$f":"INDEX(Voucher_Date_1819,MATCH(SMALL(IF(ISBLANK(Voucher_Date_1819),\"\",IF(ISNUMBER(Voucher_Date_1819),COUNTIF(Voucher_Date_1819,\"<\"&Voucher_Date_1819),COUNTIF(Voucher_Date_1819,\"<\"&Voucher_Date_1819)+SUM(IF(ISNUMBER(Voucher_Date_1819),1,0))+1)),ROW(A1112)),IF(ISBLANK(Voucher_Date_1819),\"\",IF(ISNUMBER(Voucher_Date_1819),COUNTIF(Voucher_Date_1819,\"<\"&Voucher_Date_1819),COUNTIF(Voucher_Date_1819,\"<\"&Voucher_Date_1819)+SUM(IF(ISNUMBER(Voucher_Date_1819),1,0))+1)),0))","v":{"$error":"#NUM!"}}]
[{"$f":"INDEX(Voucher_Date_1819,MATCH(ROWS('Bill Register 20-21'!$L$3:'Bill Register 20-21'!L1114),COUNTIF(Voucher_Date_1819,\"<=\"&Voucher_Date_1819),0))","v":{"$error":"#N/A"}},{"$f":"INDEX(Voucher_Date_1819,MATCH(SMALL(IF(ISBLANK(Voucher_Date_1819),\"\",IF(ISNUMBER(Voucher_Date_1819),COUNTIF(Voucher_Date_1819,\"<\"&Voucher_Date_1819),COUNTIF(Voucher_Date_1819,\"<\"&Voucher_Date_1819)+SUM(IF(ISNUMBER(Voucher_Date_1819),1,0))+1)),ROW(A1113)),IF(ISBLANK(Voucher_Date_1819),\"\",IF(ISNUMBER(Voucher_Date_1819),COUNTIF(Voucher_Date_1819,\"<\"&Voucher_Date_1819),COUNTIF(Voucher_Date_1819,\"<\"&Voucher_Date_1819)+SUM(IF(ISNUMBER(Voucher_Date_1819),1,0))+1)),0))","v":{"$error":"#NUM!"}}]
[{"$f":"INDEX(Voucher_Date_1819,MATCH(ROWS('Bill Register 20-21'!$L$3:'Bill Register 20-21'!L1115),COUNTIF(Voucher_Date_1819,\"<=\"&Voucher_Date_1819),0))","v":{"$error":"#N/A"}},{"$f":"INDEX(Voucher_Date_1819,MATCH(SMALL(IF(ISBLANK(Voucher_Date_1819),\"\",IF(ISNUMBER(Voucher_Date_1819),COUNTIF(Voucher_Date_1819,\"<\"&Voucher_Date_1819),COUNTIF(Voucher_Date_1819,\"<\"&Voucher_Date_1819)+SUM(IF(ISNUMBER(Voucher_Date_1819),1,0))+1)),ROW(A1114)),IF(ISBLANK(Voucher_Date_1819),\"\",IF(ISNUMBER(Voucher_Date_1819),COUNTIF(Voucher_Date_1819,\"<\"&Voucher_Date_1819),COUNTIF(Voucher_Date_1819,\"<\"&Voucher_Date_1819)+SUM(IF(ISNUMBER(Voucher_Date_1819),1,0))+1)),0))","v":{"$error":"#NUM!"}}]
[{"$f":"INDEX(Voucher_Date_1819,MATCH(ROWS('Bill Register 20-21'!$L$3:'Bill Register 20-21'!L1116),COUNTIF(Voucher_Date_1819,\"<=\"&Voucher_Date_1819),0))","v":{"$error":"#N/A"}},{"$f":"INDEX(Voucher_Date_1819,MATCH(SMALL(IF(ISBLANK(Voucher_Date_1819),\"\",IF(ISNUMBER(Voucher_Date_1819),COUNTIF(Voucher_Date_1819,\"<\"&Voucher_Date_1819),COUNTIF(Voucher_Date_1819,\"<\"&Voucher_Date_1819)+SUM(IF(ISNUMBER(Voucher_Date_1819),1,0))+1)),ROW(A1115)),IF(ISBLANK(Voucher_Date_1819),\"\",IF(ISNUMBER(Voucher_Date_1819),COUNTIF(Voucher_Date_1819,\"<\"&Voucher_Date_1819),COUNTIF(Voucher_Date_1819,\"<\"&Voucher_Date_1819)+SUM(IF(ISNUMBER(Voucher_Date_1819),1,0))+1)),0))","v":{"$error":"#NUM!"}}]
[{"$f":"INDEX(Voucher_Date_1819,MATCH(ROWS('Bill Register 20-21'!$L$3:'Bill Register 20-21'!L1117),COUNTIF(Voucher_Date_1819,\"<=\"&Voucher_Date_1819),0))","v":{"$error":"#N/A"}},{"$f":"INDEX(Voucher_Date_1819,MATCH(SMALL(IF(ISBLANK(Voucher_Date_1819),\"\",IF(ISNUMBER(Voucher_Date_1819),COUNTIF(Voucher_Date_1819,\"<\"&Voucher_Date_1819),COUNTIF(Voucher_Date_1819,\"<\"&Voucher_Date_1819)+SUM(IF(ISNUMBER(Voucher_Date_1819),1,0))+1)),ROW(A1116)),IF(ISBLANK(Voucher_Date_1819),\"\",IF(ISNUMBER(Voucher_Date_1819),COUNTIF(Voucher_Date_1819,\"<\"&Voucher_Date_1819),COUNTIF(Voucher_Date_1819,\"<\"&Voucher_Date_1819)+SUM(IF(ISNUMBER(Voucher_Date_1819),1,0))+1)),0))","v":{"$error":"#NUM!"}}]
[{"$f":"INDEX(Voucher_Date_1819,MATCH(ROWS('Bill Register 20-21'!$L$3:'Bill Register 20-21'!L1118),COUNTIF(Voucher_Date_1819,\"<=\"&Voucher_Date_1819),0))","v":{"$error":"#N/A"}},{"$f":"INDEX(Voucher_Date_1819,MATCH(SMALL(IF(ISBLANK(Voucher_Date_1819),\"\",IF(ISNUMBER(Voucher_Date_1819),COUNTIF(Voucher_Date_1819,\"<\"&Voucher_Date_1819),COUNTIF(Voucher_Date_1819,\"<\"&Voucher_Date_1819)+SUM(IF(ISNUMBER(Voucher_Date_1819),1,0))+1)),ROW(A1117)),IF(ISBLANK(Voucher_Date_1819),\"\",IF(ISNUMBER(Voucher_Date_1819),COUNTIF(Voucher_Date_1819,\"<\"&Voucher_Date_1819),COUNTIF(Voucher_Date_1819,\"<\"&Voucher_Date_1819)+SUM(IF(ISNUMBER(Voucher_Date_1819),1,0))+1)),0))","v":{"$error":"#NUM!"}}]
[{"$f":"INDEX(Voucher_Date_1819,MATCH(ROWS('Bill Register 20-21'!$L$3:'Bill Register 20-21'!L1119),COUNTIF(Voucher_Date_1819,\"<=\"&Voucher_Date_1819),0))","v":{"$error":"#N/A"}},{"$f":"INDEX(Voucher_Date_1819,MATCH(SMALL(IF(ISBLANK(Voucher_Date_1819),\"\",IF(ISNUMBER(Voucher_Date_1819),COUNTIF(Voucher_Date_1819,\"<\"&Voucher_Date_1819),COUNTIF(Voucher_Date_1819,\"<\"&Voucher_Date_1819)+SUM(IF(ISNUMBER(Voucher_Date_1819),1,0))+1)),ROW(A1118)),IF(ISBLANK(Voucher_Date_1819),\"\",IF(ISNUMBER(Voucher_Date_1819),COUNTIF(Voucher_Date_1819,\"<\"&Voucher_Date_1819),COUNTIF(Voucher_Date_1819,\"<\"&Voucher_Date_1819)+SUM(IF(ISNUMBER(Voucher_Date_1819),1,0))+1)),0))","v":{"$error":"#NUM!"}}]
[{"$f":"INDEX(Voucher_Date_1819,MATCH(ROWS('Bill Register 20-21'!$L$3:'Bill Register 20-21'!L1120),COUNTIF(Voucher_Date_1819,\"<=\"&Voucher_Date_1819),0))","v":{"$error":"#N/A"}},{"$f":"INDEX(Voucher_Date_1819,MATCH(SMALL(IF(ISBLANK(Voucher_Date_1819),\"\",IF(ISNUMBER(Voucher_Date_1819),COUNTIF(Voucher_Date_1819,\"<\"&Voucher_Date_1819),COUNTIF(Voucher_Date_1819,\"<\"&Voucher_Date_1819)+SUM(IF(ISNUMBER(Voucher_Date_1819),1,0))+1)),ROW(A1119)),IF(ISBLANK(Voucher_Date_1819),\"\",IF(ISNUMBER(Voucher_Date_1819),COUNTIF(Voucher_Date_1819,\"<\"&Voucher_Date_1819),COUNTIF(Voucher_Date_1819,\"<\"&Voucher_Date_1819)+SUM(IF(ISNUMBER(Voucher_Date_1819),1,0))+1)),0))","v":{"$error":"#NUM!"}}]
[{"$f":"INDEX(Voucher_Date_1819,MATCH(ROWS('Bill Register 20-21'!$L$3:'Bill Register 20-21'!L1121),COUNTIF(Voucher_Date_1819,\"<=\"&Voucher_Date_1819),0))","v":{"$error":"#N/A"}},{"$f":"INDEX(Voucher_Date_1819,MATCH(SMALL(IF(ISBLANK(Voucher_Date_1819),\"\",IF(ISNUMBER(Voucher_Date_1819),COUNTIF(Voucher_Date_1819,\"<\"&Voucher_Date_1819),COUNTIF(Voucher_Date_1819,\"<\"&Voucher_Date_1819)+SUM(IF(ISNUMBER(Voucher_Date_1819),1,0))+1)),ROW(A1120)),IF(ISBLANK(Voucher_Date_1819),\"\",IF(ISNUMBER(Voucher_Date_1819),COUNTIF(Voucher_Date_1819,\"<\"&Voucher_Date_1819),COUNTIF(Voucher_Date_1819,\"<\"&Voucher_Date_1819)+SUM(IF(ISNUMBER(Voucher_Date_1819),1,0))+1)),0))","v":{"$error":"#NUM!"}}]
[{"$f":"INDEX(Voucher_Date_1819,MATCH(ROWS('Bill Register 20-21'!$L$3:'Bill Register 20-21'!L1122),COUNTIF(Voucher_Date_1819,\"<=\"&Voucher_Date_1819),0))","v":{"$error":"#N/A"}},{"$f":"INDEX(Voucher_Date_1819,MATCH(SMALL(IF(ISBLANK(Voucher_Date_1819),\"\",IF(ISNUMBER(Voucher_Date_1819),COUNTIF(Voucher_Date_1819,\"<\"&Voucher_Date_1819),COUNTIF(Voucher_Date_1819,\"<\"&Voucher_Date_1819)+SUM(IF(ISNUMBER(Voucher_Date_1819),1,0))+1)),ROW(A1121)),IF(ISBLANK(Voucher_Date_1819),\"\",IF(ISNUMBER(Voucher_Date_1819),COUNTIF(Voucher_Date_1819,\"<\"&Voucher_Date_1819),COUNTIF(Voucher_Date_1819,\"<\"&Voucher_Date_1819)+SUM(IF(ISNUMBER(Voucher_Date_1819),1,0))+1)),0))","v":{"$error":"#NUM!"}}]
[{"$f":"INDEX(Voucher_Date_1819,MATCH(ROWS('Bill Register 20-21'!$L$3:'Bill Register 20-21'!L1123),COUNTIF(Voucher_Date_1819,\"<=\"&Voucher_Date_1819),0))","v":{"$error":"#N/A"}},{"$f":"INDEX(Voucher_Date_1819,MATCH(SMALL(IF(ISBLANK(Voucher_Date_1819),\"\",IF(ISNUMBER(Voucher_Date_1819),COUNTIF(Voucher_Date_1819,\"<\"&Voucher_Date_1819),COUNTIF(Voucher_Date_1819,\"<\"&Voucher_Date_1819)+SUM(IF(ISNUMBER(Voucher_Date_1819),1,0))+1)),ROW(A1122)),IF(ISBLANK(Voucher_Date_1819),\"\",IF(ISNUMBER(Voucher_Date_1819),COUNTIF(Voucher_Date_1819,\"<\"&Voucher_Date_1819),COUNTIF(Voucher_Date_1819,\"<\"&Voucher_Date_1819)+SUM(IF(ISNUMBER(Voucher_Date_1819),1,0))+1)),0))","v":{"$error":"#NUM!"}}]
[{"$f":"INDEX(Voucher_Date_1819,MATCH(ROWS('Bill Register 20-21'!$L$3:'Bill Register 20-21'!L1124),COUNTIF(Voucher_Date_1819,\"<=\"&Voucher_Date_1819),0))","v":{"$error":"#N/A"}},{"$f":"INDEX(Voucher_Date_1819,MATCH(SMALL(IF(ISBLANK(Voucher_Date_1819),\"\",IF(ISNUMBER(Voucher_Date_1819),COUNTIF(Voucher_Date_1819,\"<\"&Voucher_Date_1819),COUNTIF(Voucher_Date_1819,\"<\"&Voucher_Date_1819)+SUM(IF(ISNUMBER(Voucher_Date_1819),1,0))+1)),ROW(A1123)),IF(ISBLANK(Voucher_Date_1819),\"\",IF(ISNUMBER(Voucher_Date_1819),COUNTIF(Voucher_Date_1819,\"<\"&Voucher_Date_1819),COUNTIF(Voucher_Date_1819,\"<\"&Voucher_Date_1819)+SUM(IF(ISNUMBER(Voucher_Date_1819),1,0))+1)),0))","v":{"$error":"#NUM!"}}]
[{"$f":"INDEX(Voucher_Date_1819,MATCH(ROWS('Bill Register 20-21'!$L$3:'Bill Register 20-21'!L1125),COUNTIF(Voucher_Date_1819,\"<=\"&Voucher_Date_1819),0))","v":{"$error":"#N/A"}},{"$f":"INDEX(Voucher_Date_1819,MATCH(SMALL(IF(ISBLANK(Voucher_Date_1819),\"\",IF(ISNUMBER(Voucher_Date_1819),COUNTIF(Voucher_Date_1819,\"<\"&Voucher_Date_1819),COUNTIF(Voucher_Date_1819,\"<\"&Voucher_Date_1819)+SUM(IF(ISNUMBER(Voucher_Date_1819),1,0))+1)),ROW(A1124)),IF(ISBLANK(Voucher_Date_1819),\"\",IF(ISNUMBER(Voucher_Date_1819),COUNTIF(Voucher_Date_1819,\"<\"&Voucher_Date_1819),COUNTIF(Voucher_Date_1819,\"<\"&Voucher_Date_1819)+SUM(IF(ISNUMBER(Voucher_Date_1819),1,0))+1)),0))","v":{"$error":"#NUM!"}}]
[{"$f":"INDEX(Voucher_Date_1819,MATCH(ROWS('Bill Register 20-21'!$L$3:'Bill Register 20-21'!L1126),COUNTIF(Voucher_Date_1819,\"<=\"&Voucher_Date_1819),0))","v":{"$error":"#N/A"}},{"$f":"INDEX(Voucher_Date_1819,MATCH(SMALL(IF(ISBLANK(Voucher_Date_1819),\"\",IF(ISNUMBER(Voucher_Date_1819),COUNTIF(Voucher_Date_1819,\"<\"&Voucher_Date_1819),COUNTIF(Voucher_Date_1819,\"<\"&Voucher_Date_1819)+SUM(IF(ISNUMBER(Voucher_Date_1819),1,0))+1)),ROW(A1125)),IF(ISBLANK(Voucher_Date_1819),\"\",IF(ISNUMBER(Voucher_Date_1819),COUNTIF(Voucher_Date_1819,\"<\"&Voucher_Date_1819),COUNTIF(Voucher_Date_1819,\"<\"&Voucher_Date_1819)+SUM(IF(ISNUMBER(Voucher_Date_1819),1,0))+1)),0))","v":{"$error":"#NUM!"}}]
[{"$f":"INDEX(Voucher_Date_1819,MATCH(ROWS('Bill Register 20-21'!$L$3:'Bill Register 20-21'!L1127),COUNTIF(Voucher_Date_1819,\"<=\"&Voucher_Date_1819),0))","v":{"$error":"#N/A"}},{"$f":"INDEX(Voucher_Date_1819,MATCH(SMALL(IF(ISBLANK(Voucher_Date_1819),\"\",IF(ISNUMBER(Voucher_Date_1819),COUNTIF(Voucher_Date_1819,\"<\"&Voucher_Date_1819),COUNTIF(Voucher_Date_1819,\"<\"&Voucher_Date_1819)+SUM(IF(ISNUMBER(Voucher_Date_1819),1,0))+1)),ROW(A1126)),IF(ISBLANK(Voucher_Date_1819),\"\",IF(ISNUMBER(Voucher_Date_1819),COUNTIF(Voucher_Date_1819,\"<\"&Voucher_Date_1819),COUNTIF(Voucher_Date_1819,\"<\"&Voucher_Date_1819)+SUM(IF(ISNUMBER(Voucher_Date_1819),1,0))+1)),0))","v":{"$error":"#NUM!"}}]
[{"$f":"INDEX(Voucher_Date_1819,MATCH(ROWS('Bill Register 20-21'!$L$3:'Bill Register 20-21'!L1128),COUNTIF(Voucher_Date_1819,\"<=\"&Voucher_Date_1819),0))","v":{"$error":"#N/A"}},{"$f":"INDEX(Voucher_Date_1819,MATCH(SMALL(IF(ISBLANK(Voucher_Date_1819),\"\",IF(ISNUMBER(Voucher_Date_1819),COUNTIF(Voucher_Date_1819,\"<\"&Voucher_Date_1819),COUNTIF(Voucher_Date_1819,\"<\"&Voucher_Date_1819)+SUM(IF(ISNUMBER(Voucher_Date_1819),1,0))+1)),ROW(A1127)),IF(ISBLANK(Voucher_Date_1819),\"\",IF(ISNUMBER(Voucher_Date_1819),COUNTIF(Voucher_Date_1819,\"<\"&Voucher_Date_1819),COUNTIF(Voucher_Date_1819,\"<\"&Voucher_Date_1819)+SUM(IF(ISNUMBER(Voucher_Date_1819),1,0))+1)),0))","v":{"$error":"#NUM!"}}]
[{"$f":"INDEX(Voucher_Date_1819,MATCH(ROWS('Bill Register 20-21'!$L$3:'Bill Register 20-21'!L1129),COUNTIF(Voucher_Date_1819,\"<=\"&Voucher_Date_1819),0))","v":{"$error":"#N/A"}},{"$f":"INDEX(Voucher_Date_1819,MATCH(SMALL(IF(ISBLANK(Voucher_Date_1819),\"\",IF(ISNUMBER(Voucher_Date_1819),COUNTIF(Voucher_Date_1819,\"<\"&Voucher_Date_1819),COUNTIF(Voucher_Date_1819,\"<\"&Voucher_Date_1819)+SUM(IF(ISNUMBER(Voucher_Date_1819),1,0))+1)),ROW(A1128)),IF(ISBLANK(Voucher_Date_1819),\"\",IF(ISNUMBER(Voucher_Date_1819),COUNTIF(Voucher_Date_1819,\"<\"&Voucher_Date_1819),COUNTIF(Voucher_Date_1819,\"<\"&Voucher_Date_1819)+SUM(IF(ISNUMBER(Voucher_Date_1819),1,0))+1)),0))","v":{"$error":"#NUM!"}}]
[{"$f":"INDEX(Voucher_Date_1819,MATCH(ROWS('Bill Register 20-21'!$L$3:'Bill Register 20-21'!L1130),COUNTIF(Voucher_Date_1819,\"<=\"&Voucher_Date_1819),0))","v":{"$error":"#N/A"}},{"$f":"INDEX(Voucher_Date_1819,MATCH(SMALL(IF(ISBLANK(Voucher_Date_1819),\"\",IF(ISNUMBER(Voucher_Date_1819),COUNTIF(Voucher_Date_1819,\"<\"&Voucher_Date_1819),COUNTIF(Voucher_Date_1819,\"<\"&Voucher_Date_1819)+SUM(IF(ISNUMBER(Voucher_Date_1819),1,0))+1)),ROW(A1129)),IF(ISBLANK(Voucher_Date_1819),\"\",IF(ISNUMBER(Voucher_Date_1819),COUNTIF(Voucher_Date_1819,\"<\"&Voucher_Date_1819),COUNTIF(Voucher_Date_1819,\"<\"&Voucher_Date_1819)+SUM(IF(ISNUMBER(Voucher_Date_1819),1,0))+1)),0))","v":{"$error":"#NUM!"}}]
[{"$f":"INDEX(Voucher_Date_1819,MATCH(ROWS('Bill Register 20-21'!$L$3:'Bill Register 20-21'!L1131),COUNTIF(Voucher_Date_1819,\"<=\"&Voucher_Date_1819),0))","v":{"$error":"#N/A"}},{"$f":"INDEX(Voucher_Date_1819,MATCH(SMALL(IF(ISBLANK(Voucher_Date_1819),\"\",IF(ISNUMBER(Voucher_Date_1819),COUNTIF(Voucher_Date_1819,\"<\"&Voucher_Date_1819),COUNTIF(Voucher_Date_1819,\"<\"&Voucher_Date_1819)+SUM(IF(ISNUMBER(Voucher_Date_1819),1,0))+1)),ROW(A1130)),IF(ISBLANK(Voucher_Date_1819),\"\",IF(ISNUMBER(Voucher_Date_1819),COUNTIF(Voucher_Date_1819,\"<\"&Voucher_Date_1819),COUNTIF(Voucher_Date_1819,\"<\"&Voucher_Date_1819)+SUM(IF(ISNUMBER(Voucher_Date_1819),1,0))+1)),0))","v":{"$error":"#NUM!"}}]
[{"$f":"INDEX(Voucher_Date_1819,MATCH(ROWS('Bill Register 20-21'!$L$3:'Bill Register 20-21'!L1132),COUNTIF(Voucher_Date_1819,\"<=\"&Voucher_Date_1819),0))","v":{"$error":"#N/A"}},{"$f":"INDEX(Voucher_Date_1819,MATCH(SMALL(IF(ISBLANK(Voucher_Date_1819),\"\",IF(ISNUMBER(Voucher_Date_1819),COUNTIF(Voucher_Date_1819,\"<\"&Voucher_Date_1819),COUNTIF(Voucher_Date_1819,\"<\"&Voucher_Date_1819)+SUM(IF(ISNUMBER(Voucher_Date_1819),1,0))+1)),ROW(A1131)),IF(ISBLANK(Voucher_Date_1819),\"\",IF(ISNUMBER(Voucher_Date_1819),COUNTIF(Voucher_Date_1819,\"<\"&Voucher_Date_1819),COUNTIF(Voucher_Date_1819,\"<\"&Voucher_Date_1819)+SUM(IF(ISNUMBER(Voucher_Date_1819),1,0))+1)),0))","v":{"$error":"#NUM!"}}]
[{"$f":"INDEX(Voucher_Date_1819,MATCH(ROWS('Bill Register 20-21'!$L$3:'Bill Register 20-21'!L1133),COUNTIF(Voucher_Date_1819,\"<=\"&Voucher_Date_1819),0))","v":{"$error":"#N/A"}},{"$f":"INDEX(Voucher_Date_1819,MATCH(SMALL(IF(ISBLANK(Voucher_Date_1819),\"\",IF(ISNUMBER(Voucher_Date_1819),COUNTIF(Voucher_Date_1819,\"<\"&Voucher_Date_1819),COUNTIF(Voucher_Date_1819,\"<\"&Voucher_Date_1819)+SUM(IF(ISNUMBER(Voucher_Date_1819),1,0))+1)),ROW(A1132)),IF(ISBLANK(Voucher_Date_1819),\"\",IF(ISNUMBER(Voucher_Date_1819),COUNTIF(Voucher_Date_1819,\"<\"&Voucher_Date_1819),COUNTIF(Voucher_Date_1819,\"<\"&Voucher_Date_1819)+SUM(IF(ISNUMBER(Voucher_Date_1819),1,0))+1)),0))","v":{"$error":"#NUM!"}}]
[{"$f":"INDEX(Voucher_Date_1819,MATCH(ROWS('Bill Register 20-21'!$L$3:'Bill Register 20-21'!L1134),COUNTIF(Voucher_Date_1819,\"<=\"&Voucher_Date_1819),0))","v":{"$error":"#N/A"}},{"$f":"INDEX(Voucher_Date_1819,MATCH(SMALL(IF(ISBLANK(Voucher_Date_1819),\"\",IF(ISNUMBER(Voucher_Date_1819),COUNTIF(Voucher_Date_1819,\"<\"&Voucher_Date_1819),COUNTIF(Voucher_Date_1819,\"<\"&Voucher_Date_1819)+SUM(IF(ISNUMBER(Voucher_Date_1819),1,0))+1)),ROW(A1133)),IF(ISBLANK(Voucher_Date_1819),\"\",IF(ISNUMBER(Voucher_Date_1819),COUNTIF(Voucher_Date_1819,\"<\"&Voucher_Date_1819),COUNTIF(Voucher_Date_1819,\"<\"&Voucher_Date_1819)+SUM(IF(ISNUMBER(Voucher_Date_1819),1,0))+1)),0))","v":{"$error":"#NUM!"}}]
[{"$f":"INDEX(Voucher_Date_1819,MATCH(ROWS('Bill Register 20-21'!$L$3:'Bill Register 20-21'!L1135),COUNTIF(Voucher_Date_1819,\"<=\"&Voucher_Date_1819),0))","v":{"$error":"#N/A"}},{"$f":"INDEX(Voucher_Date_1819,MATCH(SMALL(IF(ISBLANK(Voucher_Date_1819),\"\",IF(ISNUMBER(Voucher_Date_1819),COUNTIF(Voucher_Date_1819,\"<\"&Voucher_Date_1819),COUNTIF(Voucher_Date_1819,\"<\"&Voucher_Date_1819)+SUM(IF(ISNUMBER(Voucher_Date_1819),1,0))+1)),ROW(A1134)),IF(ISBLANK(Voucher_Date_1819),\"\",IF(ISNUMBER(Voucher_Date_1819),COUNTIF(Voucher_Date_1819,\"<\"&Voucher_Date_1819),COUNTIF(Voucher_Date_1819,\"<\"&Voucher_Date_1819)+SUM(IF(ISNUMBER(Voucher_Date_1819),1,0))+1)),0))","v":{"$error":"#NUM!"}}]
[{"$f":"INDEX(Voucher_Date_1819,MATCH(ROWS('Bill Register 20-21'!$L$3:'Bill Register 20-21'!L1136),COUNTIF(Voucher_Date_1819,\"<=\"&Voucher_Date_1819),0))","v":{"$error":"#N/A"}},{"$f":"INDEX(Voucher_Date_1819,MATCH(SMALL(IF(ISBLANK(Voucher_Date_1819),\"\",IF(ISNUMBER(Voucher_Date_1819),COUNTIF(Voucher_Date_1819,\"<\"&Voucher_Date_1819),COUNTIF(Voucher_Date_1819,\"<\"&Voucher_Date_1819)+SUM(IF(ISNUMBER(Voucher_Date_1819),1,0))+1)),ROW(A1135)),IF(ISBLANK(Voucher_Date_1819),\"\",IF(ISNUMBER(Voucher_Date_1819),COUNTIF(Voucher_Date_1819,\"<\"&Voucher_Date_1819),COUNTIF(Voucher_Date_1819,\"<\"&Voucher_Date_1819)+SUM(IF(ISNUMBER(Voucher_Date_1819),1,0))+1)),0))","v":{"$error":"#NUM!"}}]
[{"$f":"INDEX(Voucher_Date_1819,MATCH(ROWS('Bill Register 20-21'!$L$3:'Bill Register 20-21'!L1137),COUNTIF(Voucher_Date_1819,\"<=\"&Voucher_Date_1819),0))","v":{"$error":"#N/A"}},{"$f":"INDEX(Voucher_Date_1819,MATCH(SMALL(IF(ISBLANK(Voucher_Date_1819),\"\",IF(ISNUMBER(Voucher_Date_1819),COUNTIF(Voucher_Date_1819,\"<\"&Voucher_Date_1819),COUNTIF(Voucher_Date_1819,\"<\"&Voucher_Date_1819)+SUM(IF(ISNUMBER(Voucher_Date_1819),1,0))+1)),ROW(A1136)),IF(ISBLANK(Voucher_Date_1819),\"\",IF(ISNUMBER(Voucher_Date_1819),COUNTIF(Voucher_Date_1819,\"<\"&Voucher_Date_1819),COUNTIF(Voucher_Date_1819,\"<\"&Voucher_Date_1819)+SUM(IF(ISNUMBER(Voucher_Date_1819),1,0))+1)),0))","v":{"$error":"#NUM!"}}]
[{"$f":"INDEX(Voucher_Date_1819,MATCH(ROWS('Bill Register 20-21'!$L$3:'Bill Register 20-21'!L1138),COUNTIF(Voucher_Date_1819,\"<=\"&Voucher_Date_1819),0))","v":{"$error":"#N/A"}},{"$f":"INDEX(Voucher_Date_1819,MATCH(SMALL(IF(ISBLANK(Voucher_Date_1819),\"\",IF(ISNUMBER(Voucher_Date_1819),COUNTIF(Voucher_Date_1819,\"<\"&Voucher_Date_1819),COUNTIF(Voucher_Date_1819,\"<\"&Voucher_Date_1819)+SUM(IF(ISNUMBER(Voucher_Date_1819),1,0))+1)),ROW(A1137)),IF(ISBLANK(Voucher_Date_1819),\"\",IF(ISNUMBER(Voucher_Date_1819),COUNTIF(Voucher_Date_1819,\"<\"&Voucher_Date_1819),COUNTIF(Voucher_Date_1819,\"<\"&Voucher_Date_1819)+SUM(IF(ISNUMBER(Voucher_Date_1819),1,0))+1)),0))","v":{"$error":"#NUM!"}}]
[{"$f":"INDEX(Voucher_Date_1819,MATCH(ROWS('Bill Register 20-21'!$L$3:'Bill Register 20-21'!L1139),COUNTIF(Voucher_Date_1819,\"<=\"&Voucher_Date_1819),0))","v":{"$error":"#N/A"}},{"$f":"INDEX(Voucher_Date_1819,MATCH(SMALL(IF(ISBLANK(Voucher_Date_1819),\"\",IF(ISNUMBER(Voucher_Date_1819),COUNTIF(Voucher_Date_1819,\"<\"&Voucher_Date_1819),COUNTIF(Voucher_Date_1819,\"<\"&Voucher_Date_1819)+SUM(IF(ISNUMBER(Voucher_Date_1819),1,0))+1)),ROW(A1138)),IF(ISBLANK(Voucher_Date_1819),\"\",IF(ISNUMBER(Voucher_Date_1819),COUNTIF(Voucher_Date_1819,\"<\"&Voucher_Date_1819),COUNTIF(Voucher_Date_1819,\"<\"&Voucher_Date_1819)+SUM(IF(ISNUMBER(Voucher_Date_1819),1,0))+1)),0))","v":{"$error":"#NUM!"}}]
[{"$f":"INDEX(Voucher_Date_1819,MATCH(ROWS('Bill Register 20-21'!$L$3:'Bill Register 20-21'!L1140),COUNTIF(Voucher_Date_1819,\"<=\"&Voucher_Date_1819),0))","v":{"$error":"#N/A"}},{"$f":"INDEX(Voucher_Date_1819,MATCH(SMALL(IF(ISBLANK(Voucher_Date_1819),\"\",IF(ISNUMBER(Voucher_Date_1819),COUNTIF(Voucher_Date_1819,\"<\"&Voucher_Date_1819),COUNTIF(Voucher_Date_1819,\"<\"&Voucher_Date_1819)+SUM(IF(ISNUMBER(Voucher_Date_1819),1,0))+1)),ROW(A1139)),IF(ISBLANK(Voucher_Date_1819),\"\",IF(ISNUMBER(Voucher_Date_1819),COUNTIF(Voucher_Date_1819,\"<\"&Voucher_Date_1819),COUNTIF(Voucher_Date_1819,\"<\"&Voucher_Date_1819)+SUM(IF(ISNUMBER(Voucher_Date_1819),1,0))+1)),0))","v":{"$error":"#NUM!"}}]
[{"$f":"INDEX(Voucher_Date_1819,MATCH(ROWS('Bill Register 20-21'!$L$3:'Bill Register 20-21'!L1141),COUNTIF(Voucher_Date_1819,\"<=\"&Voucher_Date_1819),0))","v":{"$error":"#N/A"}},{"$f":"INDEX(Voucher_Date_1819,MATCH(SMALL(IF(ISBLANK(Voucher_Date_1819),\"\",IF(ISNUMBER(Voucher_Date_1819),COUNTIF(Voucher_Date_1819,\"<\"&Voucher_Date_1819),COUNTIF(Voucher_Date_1819,\"<\"&Voucher_Date_1819)+SUM(IF(ISNUMBER(Voucher_Date_1819),1,0))+1)),ROW(A1140)),IF(ISBLANK(Voucher_Date_1819),\"\",IF(ISNUMBER(Voucher_Date_1819),COUNTIF(Voucher_Date_1819,\"<\"&Voucher_Date_1819),COUNTIF(Voucher_Date_1819,\"<\"&Voucher_Date_1819)+SUM(IF(ISNUMBER(Voucher_Date_1819),1,0))+1)),0))","v":{"$error":"#NUM!"}}]
[{"$f":"INDEX(Voucher_Date_1819,MATCH(ROWS('Bill Register 20-21'!$L$3:'Bill Register 20-21'!L1142),COUNTIF(Voucher_Date_1819,\"<=\"&Voucher_Date_1819),0))","v":{"$error":"#N/A"}},{"$f":"INDEX(Voucher_Date_1819,MATCH(SMALL(IF(ISBLANK(Voucher_Date_1819),\"\",IF(ISNUMBER(Voucher_Date_1819),COUNTIF(Voucher_Date_1819,\"<\"&Voucher_Date_1819),COUNTIF(Voucher_Date_1819,\"<\"&Voucher_Date_1819)+SUM(IF(ISNUMBER(Voucher_Date_1819),1,0))+1)),ROW(A1141)),IF(ISBLANK(Voucher_Date_1819),\"\",IF(ISNUMBER(Voucher_Date_1819),COUNTIF(Voucher_Date_1819,\"<\"&Voucher_Date_1819),COUNTIF(Voucher_Date_1819,\"<\"&Voucher_Date_1819)+SUM(IF(ISNUMBER(Voucher_Date_1819),1,0))+1)),0))","v":{"$error":"#NUM!"}}]
[{"$f":"INDEX(Voucher_Date_1819,MATCH(ROWS('Bill Register 20-21'!$L$3:'Bill Register 20-21'!L1143),COUNTIF(Voucher_Date_1819,\"<=\"&Voucher_Date_1819),0))","v":{"$error":"#N/A"}},{"$f":"INDEX(Voucher_Date_1819,MATCH(SMALL(IF(ISBLANK(Voucher_Date_1819),\"\",IF(ISNUMBER(Voucher_Date_1819),COUNTIF(Voucher_Date_1819,\"<\"&Voucher_Date_1819),COUNTIF(Voucher_Date_1819,\"<\"&Voucher_Date_1819)+SUM(IF(ISNUMBER(Voucher_Date_1819),1,0))+1)),ROW(A1142)),IF(ISBLANK(Voucher_Date_1819),\"\",IF(ISNUMBER(Voucher_Date_1819),COUNTIF(Voucher_Date_1819,\"<\"&Voucher_Date_1819),COUNTIF(Voucher_Date_1819,\"<\"&Voucher_Date_1819)+SUM(IF(ISNUMBER(Voucher_Date_1819),1,0))+1)),0))","v":{"$error":"#NUM!"}}]
[{"$f":"INDEX(Voucher_Date_1819,MATCH(ROWS('Bill Register 20-21'!$L$3:'Bill Register 20-21'!L1144),COUNTIF(Voucher_Date_1819,\"<=\"&Voucher_Date_1819),0))","v":{"$error":"#N/A"}},{"$f":"INDEX(Voucher_Date_1819,MATCH(SMALL(IF(ISBLANK(Voucher_Date_1819),\"\",IF(ISNUMBER(Voucher_Date_1819),COUNTIF(Voucher_Date_1819,\"<\"&Voucher_Date_1819),COUNTIF(Voucher_Date_1819,\"<\"&Voucher_Date_1819)+SUM(IF(ISNUMBER(Voucher_Date_1819),1,0))+1)),ROW(A1143)),IF(ISBLANK(Voucher_Date_1819),\"\",IF(ISNUMBER(Voucher_Date_1819),COUNTIF(Voucher_Date_1819,\"<\"&Voucher_Date_1819),COUNTIF(Voucher_Date_1819,\"<\"&Voucher_Date_1819)+SUM(IF(ISNUMBER(Voucher_Date_1819),1,0))+1)),0))","v":{"$error":"#NUM!"}}]
[{"$f":"INDEX(Voucher_Date_1819,MATCH(ROWS('Bill Register 20-21'!$L$3:'Bill Register 20-21'!L1145),COUNTIF(Voucher_Date_1819,\"<=\"&Voucher_Date_1819),0))","v":{"$error":"#N/A"}},{"$f":"INDEX(Voucher_Date_1819,MATCH(SMALL(IF(ISBLANK(Voucher_Date_1819),\"\",IF(ISNUMBER(Voucher_Date_1819),COUNTIF(Voucher_Date_1819,\"<\"&Voucher_Date_1819),COUNTIF(Voucher_Date_1819,\"<\"&Voucher_Date_1819)+SUM(IF(ISNUMBER(Voucher_Date_1819),1,0))+1)),ROW(A1144)),IF(ISBLANK(Voucher_Date_1819),\"\",IF(ISNUMBER(Voucher_Date_1819),COUNTIF(Voucher_Date_1819,\"<\"&Voucher_Date_1819),COUNTIF(Voucher_Date_1819,\"<\"&Voucher_Date_1819)+SUM(IF(ISNUMBER(Voucher_Date_1819),1,0))+1)),0))","v":{"$error":"#NUM!"}}]
[{"$f":"INDEX(Voucher_Date_1819,MATCH(ROWS('Bill Register 20-21'!$L$3:'Bill Register 20-21'!L1146),COUNTIF(Voucher_Date_1819,\"<=\"&Voucher_Date_1819),0))","v":{"$error":"#N/A"}},{"$f":"INDEX(Voucher_Date_1819,MATCH(SMALL(IF(ISBLANK(Voucher_Date_1819),\"\",IF(ISNUMBER(Voucher_Date_1819),COUNTIF(Voucher_Date_1819,\"<\"&Voucher_Date_1819),COUNTIF(Voucher_Date_1819,\"<\"&Voucher_Date_1819)+SUM(IF(ISNUMBER(Voucher_Date_1819),1,0))+1)),ROW(A1145)),IF(ISBLANK(Voucher_Date_1819),\"\",IF(ISNUMBER(Voucher_Date_1819),COUNTIF(Voucher_Date_1819,\"<\"&Voucher_Date_1819),COUNTIF(Voucher_Date_1819,\"<\"&Voucher_Date_1819)+SUM(IF(ISNUMBER(Voucher_Date_1819),1,0))+1)),0))","v":{"$error":"#NUM!"}}]
[{"$f":"INDEX(Voucher_Date_1819,MATCH(ROWS('Bill Register 20-21'!$L$3:'Bill Register 20-21'!L1147),COUNTIF(Voucher_Date_1819,\"<=\"&Voucher_Date_1819),0))","v":{"$error":"#N/A"}},{"$f":"INDEX(Voucher_Date_1819,MATCH(SMALL(IF(ISBLANK(Voucher_Date_1819),\"\",IF(ISNUMBER(Voucher_Date_1819),COUNTIF(Voucher_Date_1819,\"<\"&Voucher_Date_1819),COUNTIF(Voucher_Date_1819,\"<\"&Voucher_Date_1819)+SUM(IF(ISNUMBER(Voucher_Date_1819),1,0))+1)),ROW(A1146)),IF(ISBLANK(Voucher_Date_1819),\"\",IF(ISNUMBER(Voucher_Date_1819),COUNTIF(Voucher_Date_1819,\"<\"&Voucher_Date_1819),COUNTIF(Voucher_Date_1819,\"<\"&Voucher_Date_1819)+SUM(IF(ISNUMBER(Voucher_Date_1819),1,0))+1)),0))","v":{"$error":"#NUM!"}}]
[{"$f":"INDEX(Voucher_Date_1819,MATCH(ROWS('Bill Register 20-21'!$L$3:'Bill Register 20-21'!L1148),COUNTIF(Voucher_Date_1819,\"<=\"&Voucher_Date_1819),0))","v":{"$error":"#N/A"}},{"$f":"INDEX(Voucher_Date_1819,MATCH(SMALL(IF(ISBLANK(Voucher_Date_1819),\"\",IF(ISNUMBER(Voucher_Date_1819),COUNTIF(Voucher_Date_1819,\"<\"&Voucher_Date_1819),COUNTIF(Voucher_Date_1819,\"<\"&Voucher_Date_1819)+SUM(IF(ISNUMBER(Voucher_Date_1819),1,0))+1)),ROW(A1147)),IF(ISBLANK(Voucher_Date_1819),\"\",IF(ISNUMBER(Voucher_Date_1819),COUNTIF(Voucher_Date_1819,\"<\"&Voucher_Date_1819),COUNTIF(Voucher_Date_1819,\"<\"&Voucher_Date_1819)+SUM(IF(ISNUMBER(Voucher_Date_1819),1,0))+1)),0))","v":{"$error":"#NUM!"}}]
[{"$f":"INDEX(Voucher_Date_1819,MATCH(ROWS('Bill Register 20-21'!$L$3:'Bill Register 20-21'!L1149),COUNTIF(Voucher_Date_1819,\"<=\"&Voucher_Date_1819),0))","v":{"$error":"#N/A"}},{"$f":"INDEX(Voucher_Date_1819,MATCH(SMALL(IF(ISBLANK(Voucher_Date_1819),\"\",IF(ISNUMBER(Voucher_Date_1819),COUNTIF(Voucher_Date_1819,\"<\"&Voucher_Date_1819),COUNTIF(Voucher_Date_1819,\"<\"&Voucher_Date_1819)+SUM(IF(ISNUMBER(Voucher_Date_1819),1,0))+1)),ROW(A1148)),IF(ISBLANK(Voucher_Date_1819),\"\",IF(ISNUMBER(Voucher_Date_1819),COUNTIF(Voucher_Date_1819,\"<\"&Voucher_Date_1819),COUNTIF(Voucher_Date_1819,\"<\"&Voucher_Date_1819)+SUM(IF(ISNUMBER(Voucher_Date_1819),1,0))+1)),0))","v":{"$error":"#NUM!"}}]
[{"$f":"INDEX(Voucher_Date_1819,MATCH(ROWS('Bill Register 20-21'!$L$3:'Bill Register 20-21'!L1150),COUNTIF(Voucher_Date_1819,\"<=\"&Voucher_Date_1819),0))","v":{"$error":"#N/A"}},{"$f":"INDEX(Voucher_Date_1819,MATCH(SMALL(IF(ISBLANK(Voucher_Date_1819),\"\",IF(ISNUMBER(Voucher_Date_1819),COUNTIF(Voucher_Date_1819,\"<\"&Voucher_Date_1819),COUNTIF(Voucher_Date_1819,\"<\"&Voucher_Date_1819)+SUM(IF(ISNUMBER(Voucher_Date_1819),1,0))+1)),ROW(A1149)),IF(ISBLANK(Voucher_Date_1819),\"\",IF(ISNUMBER(Voucher_Date_1819),COUNTIF(Voucher_Date_1819,\"<\"&Voucher_Date_1819),COUNTIF(Voucher_Date_1819,\"<\"&Voucher_Date_1819)+SUM(IF(ISNUMBER(Voucher_Date_1819),1,0))+1)),0))","v":{"$error":"#NUM!"}}]
[{"$f":"INDEX(Voucher_Date_1819,MATCH(ROWS('Bill Register 20-21'!$L$3:'Bill Register 20-21'!L1151),COUNTIF(Voucher_Date_1819,\"<=\"&Voucher_Date_1819),0))","v":{"$error":"#N/A"}},{"$f":"INDEX(Voucher_Date_1819,MATCH(SMALL(IF(ISBLANK(Voucher_Date_1819),\"\",IF(ISNUMBER(Voucher_Date_1819),COUNTIF(Voucher_Date_1819,\"<\"&Voucher_Date_1819),COUNTIF(Voucher_Date_1819,\"<\"&Voucher_Date_1819)+SUM(IF(ISNUMBER(Voucher_Date_1819),1,0))+1)),ROW(A1150)),IF(ISBLANK(Voucher_Date_1819),\"\",IF(ISNUMBER(Voucher_Date_1819),COUNTIF(Voucher_Date_1819,\"<\"&Voucher_Date_1819),COUNTIF(Voucher_Date_1819,\"<\"&Voucher_Date_1819)+SUM(IF(ISNUMBER(Voucher_Date_1819),1,0))+1)),0))","v":{"$error":"#NUM!"}}]
[{"$f":"INDEX(Voucher_Date_1819,MATCH(ROWS('Bill Register 20-21'!$L$3:'Bill Register 20-21'!L1152),COUNTIF(Voucher_Date_1819,\"<=\"&Voucher_Date_1819),0))","v":{"$error":"#N/A"}},{"$f":"INDEX(Voucher_Date_1819,MATCH(SMALL(IF(ISBLANK(Voucher_Date_1819),\"\",IF(ISNUMBER(Voucher_Date_1819),COUNTIF(Voucher_Date_1819,\"<\"&Voucher_Date_1819),COUNTIF(Voucher_Date_1819,\"<\"&Voucher_Date_1819)+SUM(IF(ISNUMBER(Voucher_Date_1819),1,0))+1)),ROW(A1151)),IF(ISBLANK(Voucher_Date_1819),\"\",IF(ISNUMBER(Voucher_Date_1819),COUNTIF(Voucher_Date_1819,\"<\"&Voucher_Date_1819),COUNTIF(Voucher_Date_1819,\"<\"&Voucher_Date_1819)+SUM(IF(ISNUMBER(Voucher_Date_1819),1,0))+1)),0))","v":{"$error":"#NUM!"}}]
[{"$f":"INDEX(Voucher_Date_1819,MATCH(ROWS('Bill Register 20-21'!$L$3:'Bill Register 20-21'!L1153),COUNTIF(Voucher_Date_1819,\"<=\"&Voucher_Date_1819),0))","v":{"$error":"#N/A"}},{"$f":"INDEX(Voucher_Date_1819,MATCH(SMALL(IF(ISBLANK(Voucher_Date_1819),\"\",IF(ISNUMBER(Voucher_Date_1819),COUNTIF(Voucher_Date_1819,\"<\"&Voucher_Date_1819),COUNTIF(Voucher_Date_1819,\"<\"&Voucher_Date_1819)+SUM(IF(ISNUMBER(Voucher_Date_1819),1,0))+1)),ROW(A1152)),IF(ISBLANK(Voucher_Date_1819),\"\",IF(ISNUMBER(Voucher_Date_1819),COUNTIF(Voucher_Date_1819,\"<\"&Voucher_Date_1819),COUNTIF(Voucher_Date_1819,\"<\"&Voucher_Date_1819)+SUM(IF(ISNUMBER(Voucher_Date_1819),1,0))+1)),0))","v":{"$error":"#NUM!"}}]
[{"$f":"INDEX(Voucher_Date_1819,MATCH(ROWS('Bill Register 20-21'!$L$3:'Bill Register 20-21'!L1154),COUNTIF(Voucher_Date_1819,\"<=\"&Voucher_Date_1819),0))","v":{"$error":"#N/A"}},{"$f":"INDEX(Voucher_Date_1819,MATCH(SMALL(IF(ISBLANK(Voucher_Date_1819),\"\",IF(ISNUMBER(Voucher_Date_1819),COUNTIF(Voucher_Date_1819,\"<\"&Voucher_Date_1819),COUNTIF(Voucher_Date_1819,\"<\"&Voucher_Date_1819)+SUM(IF(ISNUMBER(Voucher_Date_1819),1,0))+1)),ROW(A1153)),IF(ISBLANK(Voucher_Date_1819),\"\",IF(ISNUMBER(Voucher_Date_1819),COUNTIF(Voucher_Date_1819,\"<\"&Voucher_Date_1819),COUNTIF(Voucher_Date_1819,\"<\"&Voucher_Date_1819)+SUM(IF(ISNUMBER(Voucher_Date_1819),1,0))+1)),0))","v":{"$error":"#NUM!"}}]
[{"$f":"INDEX(Voucher_Date_1819,MATCH(ROWS('Bill Register 20-21'!$L$3:'Bill Register 20-21'!L1155),COUNTIF(Voucher_Date_1819,\"<=\"&Voucher_Date_1819),0))","v":{"$error":"#N/A"}},{"$f":"INDEX(Voucher_Date_1819,MATCH(SMALL(IF(ISBLANK(Voucher_Date_1819),\"\",IF(ISNUMBER(Voucher_Date_1819),COUNTIF(Voucher_Date_1819,\"<\"&Voucher_Date_1819),COUNTIF(Voucher_Date_1819,\"<\"&Voucher_Date_1819)+SUM(IF(ISNUMBER(Voucher_Date_1819),1,0))+1)),ROW(A1154)),IF(ISBLANK(Voucher_Date_1819),\"\",IF(ISNUMBER(Voucher_Date_1819),COUNTIF(Voucher_Date_1819,\"<\"&Voucher_Date_1819),COUNTIF(Voucher_Date_1819,\"<\"&Voucher_Date_1819)+SUM(IF(ISNUMBER(Voucher_Date_1819),1,0))+1)),0))","v":{"$error":"#NUM!"}}]
[{"$f":"INDEX(Voucher_Date_1819,MATCH(ROWS('Bill Register 20-21'!$L$3:'Bill Register 20-21'!L1156),COUNTIF(Voucher_Date_1819,\"<=\"&Voucher_Date_1819),0))","v":{"$error":"#N/A"}},{"$f":"INDEX(Voucher_Date_1819,MATCH(SMALL(IF(ISBLANK(Voucher_Date_1819),\"\",IF(ISNUMBER(Voucher_Date_1819),COUNTIF(Voucher_Date_1819,\"<\"&Voucher_Date_1819),COUNTIF(Voucher_Date_1819,\"<\"&Voucher_Date_1819)+SUM(IF(ISNUMBER(Voucher_Date_1819),1,0))+1)),ROW(A1155)),IF(ISBLANK(Voucher_Date_1819),\"\",IF(ISNUMBER(Voucher_Date_1819),COUNTIF(Voucher_Date_1819,\"<\"&Voucher_Date_1819),COUNTIF(Voucher_Date_1819,\"<\"&Voucher_Date_1819)+SUM(IF(ISNUMBER(Voucher_Date_1819),1,0))+1)),0))","v":{"$error":"#NUM!"}}]
[{"$f":"INDEX(Voucher_Date_1819,MATCH(ROWS('Bill Register 20-21'!$L$3:'Bill Register 20-21'!L1157),COUNTIF(Voucher_Date_1819,\"<=\"&Voucher_Date_1819),0))","v":{"$error":"#N/A"}},{"$f":"INDEX(Voucher_Date_1819,MATCH(SMALL(IF(ISBLANK(Voucher_Date_1819),\"\",IF(ISNUMBER(Voucher_Date_1819),COUNTIF(Voucher_Date_1819,\"<\"&Voucher_Date_1819),COUNTIF(Voucher_Date_1819,\"<\"&Voucher_Date_1819)+SUM(IF(ISNUMBER(Voucher_Date_1819),1,0))+1)),ROW(A1156)),IF(ISBLANK(Voucher_Date_1819),\"\",IF(ISNUMBER(Voucher_Date_1819),COUNTIF(Voucher_Date_1819,\"<\"&Voucher_Date_1819),COUNTIF(Voucher_Date_1819,\"<\"&Voucher_Date_1819)+SUM(IF(ISNUMBER(Voucher_Date_1819),1,0))+1)),0))","v":{"$error":"#NUM!"}}]
[{"$f":"INDEX(Voucher_Date_1819,MATCH(ROWS('Bill Register 20-21'!$L$3:'Bill Register 20-21'!L1158),COUNTIF(Voucher_Date_1819,\"<=\"&Voucher_Date_1819),0))","v":{"$error":"#N/A"}},{"$f":"INDEX(Voucher_Date_1819,MATCH(SMALL(IF(ISBLANK(Voucher_Date_1819),\"\",IF(ISNUMBER(Voucher_Date_1819),COUNTIF(Voucher_Date_1819,\"<\"&Voucher_Date_1819),COUNTIF(Voucher_Date_1819,\"<\"&Voucher_Date_1819)+SUM(IF(ISNUMBER(Voucher_Date_1819),1,0))+1)),ROW(A1157)),IF(ISBLANK(Voucher_Date_1819),\"\",IF(ISNUMBER(Voucher_Date_1819),COUNTIF(Voucher_Date_1819,\"<\"&Voucher_Date_1819),COUNTIF(Voucher_Date_1819,\"<\"&Voucher_Date_1819)+SUM(IF(ISNUMBER(Voucher_Date_1819),1,0))+1)),0))","v":{"$error":"#NUM!"}}]
[{"$f":"INDEX(Voucher_Date_1819,MATCH(ROWS('Bill Register 20-21'!$L$3:'Bill Register 20-21'!L1159),COUNTIF(Voucher_Date_1819,\"<=\"&Voucher_Date_1819),0))","v":{"$error":"#N/A"}},{"$f":"INDEX(Voucher_Date_1819,MATCH(SMALL(IF(ISBLANK(Voucher_Date_1819),\"\",IF(ISNUMBER(Voucher_Date_1819),COUNTIF(Voucher_Date_1819,\"<\"&Voucher_Date_1819),COUNTIF(Voucher_Date_1819,\"<\"&Voucher_Date_1819)+SUM(IF(ISNUMBER(Voucher_Date_1819),1,0))+1)),ROW(A1158)),IF(ISBLANK(Voucher_Date_1819),\"\",IF(ISNUMBER(Voucher_Date_1819),COUNTIF(Voucher_Date_1819,\"<\"&Voucher_Date_1819),COUNTIF(Voucher_Date_1819,\"<\"&Voucher_Date_1819)+SUM(IF(ISNUMBER(Voucher_Date_1819),1,0))+1)),0))","v":{"$error":"#NUM!"}}]
[{"$f":"INDEX(Voucher_Date_1819,MATCH(ROWS('Bill Register 20-21'!$L$3:'Bill Register 20-21'!L1160),COUNTIF(Voucher_Date_1819,\"<=\"&Voucher_Date_1819),0))","v":{"$error":"#N/A"}},{"$f":"INDEX(Voucher_Date_1819,MATCH(SMALL(IF(ISBLANK(Voucher_Date_1819),\"\",IF(ISNUMBER(Voucher_Date_1819),COUNTIF(Voucher_Date_1819,\"<\"&Voucher_Date_1819),COUNTIF(Voucher_Date_1819,\"<\"&Voucher_Date_1819)+SUM(IF(ISNUMBER(Voucher_Date_1819),1,0))+1)),ROW(A1159)),IF(ISBLANK(Voucher_Date_1819),\"\",IF(ISNUMBER(Voucher_Date_1819),COUNTIF(Voucher_Date_1819,\"<\"&Voucher_Date_1819),COUNTIF(Voucher_Date_1819,\"<\"&Voucher_Date_1819)+SUM(IF(ISNUMBER(Voucher_Date_1819),1,0))+1)),0))","v":{"$error":"#NUM!"}}]
[{"$f":"INDEX(Voucher_Date_1819,MATCH(ROWS('Bill Register 20-21'!$L$3:'Bill Register 20-21'!L1161),COUNTIF(Voucher_Date_1819,\"<=\"&Voucher_Date_1819),0))","v":{"$error":"#N/A"}},{"$f":"INDEX(Voucher_Date_1819,MATCH(SMALL(IF(ISBLANK(Voucher_Date_1819),\"\",IF(ISNUMBER(Voucher_Date_1819),COUNTIF(Voucher_Date_1819,\"<\"&Voucher_Date_1819),COUNTIF(Voucher_Date_1819,\"<\"&Voucher_Date_1819)+SUM(IF(ISNUMBER(Voucher_Date_1819),1,0))+1)),ROW(A1160)),IF(ISBLANK(Voucher_Date_1819),\"\",IF(ISNUMBER(Voucher_Date_1819),COUNTIF(Voucher_Date_1819,\"<\"&Voucher_Date_1819),COUNTIF(Voucher_Date_1819,\"<\"&Voucher_Date_1819)+SUM(IF(ISNUMBER(Voucher_Date_1819),1,0))+1)),0))","v":{"$error":"#NUM!"}}]
[{"$f":"INDEX(Voucher_Date_1819,MATCH(ROWS('Bill Register 20-21'!$L$3:'Bill Register 20-21'!L1162),COUNTIF(Voucher_Date_1819,\"<=\"&Voucher_Date_1819),0))","v":{"$error":"#N/A"}},{"$f":"INDEX(Voucher_Date_1819,MATCH(SMALL(IF(ISBLANK(Voucher_Date_1819),\"\",IF(ISNUMBER(Voucher_Date_1819),COUNTIF(Voucher_Date_1819,\"<\"&Voucher_Date_1819),COUNTIF(Voucher_Date_1819,\"<\"&Voucher_Date_1819)+SUM(IF(ISNUMBER(Voucher_Date_1819),1,0))+1)),ROW(A1161)),IF(ISBLANK(Voucher_Date_1819),\"\",IF(ISNUMBER(Voucher_Date_1819),COUNTIF(Voucher_Date_1819,\"<\"&Voucher_Date_1819),COUNTIF(Voucher_Date_1819,\"<\"&Voucher_Date_1819)+SUM(IF(ISNUMBER(Voucher_Date_1819),1,0))+1)),0))","v":{"$error":"#NUM!"}}]
[{"$f":"INDEX(Voucher_Date_1819,MATCH(ROWS('Bill Register 20-21'!$L$3:'Bill Register 20-21'!L1163),COUNTIF(Voucher_Date_1819,\"<=\"&Voucher_Date_1819),0))","v":{"$error":"#N/A"}},{"$f":"INDEX(Voucher_Date_1819,MATCH(SMALL(IF(ISBLANK(Voucher_Date_1819),\"\",IF(ISNUMBER(Voucher_Date_1819),COUNTIF(Voucher_Date_1819,\"<\"&Voucher_Date_1819),COUNTIF(Voucher_Date_1819,\"<\"&Voucher_Date_1819)+SUM(IF(ISNUMBER(Voucher_Date_1819),1,0))+1)),ROW(A1162)),IF(ISBLANK(Voucher_Date_1819),\"\",IF(ISNUMBER(Voucher_Date_1819),COUNTIF(Voucher_Date_1819,\"<\"&Voucher_Date_1819),COUNTIF(Voucher_Date_1819,\"<\"&Voucher_Date_1819)+SUM(IF(ISNUMBER(Voucher_Date_1819),1,0))+1)),0))","v":{"$error":"#NUM!"}}]
[{"$f":"INDEX(Voucher_Date_1819,MATCH(ROWS('Bill Register 20-21'!$L$3:'Bill Register 20-21'!L1164),COUNTIF(Voucher_Date_1819,\"<=\"&Voucher_Date_1819),0))","v":{"$error":"#N/A"}},{"$f":"INDEX(Voucher_Date_1819,MATCH(SMALL(IF(ISBLANK(Voucher_Date_1819),\"\",IF(ISNUMBER(Voucher_Date_1819),COUNTIF(Voucher_Date_1819,\"<\"&Voucher_Date_1819),COUNTIF(Voucher_Date_1819,\"<\"&Voucher_Date_1819)+SUM(IF(ISNUMBER(Voucher_Date_1819),1,0))+1)),ROW(A1163)),IF(ISBLANK(Voucher_Date_1819),\"\",IF(ISNUMBER(Voucher_Date_1819),COUNTIF(Voucher_Date_1819,\"<\"&Voucher_Date_1819),COUNTIF(Voucher_Date_1819,\"<\"&Voucher_Date_1819)+SUM(IF(ISNUMBER(Voucher_Date_1819),1,0))+1)),0))","v":{"$error":"#NUM!"}}]
[{"$f":"INDEX(Voucher_Date_1819,MATCH(ROWS('Bill Register 20-21'!$L$3:'Bill Register 20-21'!L1165),COUNTIF(Voucher_Date_1819,\"<=\"&Voucher_Date_1819),0))","v":{"$error":"#N/A"}},{"$f":"INDEX(Voucher_Date_1819,MATCH(SMALL(IF(ISBLANK(Voucher_Date_1819),\"\",IF(ISNUMBER(Voucher_Date_1819),COUNTIF(Voucher_Date_1819,\"<\"&Voucher_Date_1819),COUNTIF(Voucher_Date_1819,\"<\"&Voucher_Date_1819)+SUM(IF(ISNUMBER(Voucher_Date_1819),1,0))+1)),ROW(A1164)),IF(ISBLANK(Voucher_Date_1819),\"\",IF(ISNUMBER(Voucher_Date_1819),COUNTIF(Voucher_Date_1819,\"<\"&Voucher_Date_1819),COUNTIF(Voucher_Date_1819,\"<\"&Voucher_Date_1819)+SUM(IF(ISNUMBER(Voucher_Date_1819),1,0))+1)),0))","v":{"$error":"#NUM!"}}]
[{"$f":"INDEX(Voucher_Date_1819,MATCH(ROWS('Bill Register 20-21'!$L$3:'Bill Register 20-21'!L1166),COUNTIF(Voucher_Date_1819,\"<=\"&Voucher_Date_1819),0))","v":{"$error":"#N/A"}},{"$f":"INDEX(Voucher_Date_1819,MATCH(SMALL(IF(ISBLANK(Voucher_Date_1819),\"\",IF(ISNUMBER(Voucher_Date_1819),COUNTIF(Voucher_Date_1819,\"<\"&Voucher_Date_1819),COUNTIF(Voucher_Date_1819,\"<\"&Voucher_Date_1819)+SUM(IF(ISNUMBER(Voucher_Date_1819),1,0))+1)),ROW(A1165)),IF(ISBLANK(Voucher_Date_1819),\"\",IF(ISNUMBER(Voucher_Date_1819),COUNTIF(Voucher_Date_1819,\"<\"&Voucher_Date_1819),COUNTIF(Voucher_Date_1819,\"<\"&Voucher_Date_1819)+SUM(IF(ISNUMBER(Voucher_Date_1819),1,0))+1)),0))","v":{"$error":"#NUM!"}}]
[{"$f":"INDEX(Voucher_Date_1819,MATCH(ROWS('Bill Register 20-21'!$L$3:'Bill Register 20-21'!L1167),COUNTIF(Voucher_Date_1819,\"<=\"&Voucher_Date_1819),0))","v":{"$error":"#N/A"}},{"$f":"INDEX(Voucher_Date_1819,MATCH(SMALL(IF(ISBLANK(Voucher_Date_1819),\"\",IF(ISNUMBER(Voucher_Date_1819),COUNTIF(Voucher_Date_1819,\"<\"&Voucher_Date_1819),COUNTIF(Voucher_Date_1819,\"<\"&Voucher_Date_1819)+SUM(IF(ISNUMBER(Voucher_Date_1819),1,0))+1)),ROW(A1166)),IF(ISBLANK(Voucher_Date_1819),\"\",IF(ISNUMBER(Voucher_Date_1819),COUNTIF(Voucher_Date_1819,\"<\"&Voucher_Date_1819),COUNTIF(Voucher_Date_1819,\"<\"&Voucher_Date_1819)+SUM(IF(ISNUMBER(Voucher_Date_1819),1,0))+1)),0))","v":{"$error":"#NUM!"}}]
[{"$f":"INDEX(Voucher_Date_1819,MATCH(ROWS('Bill Register 20-21'!$L$3:'Bill Register 20-21'!L1168),COUNTIF(Voucher_Date_1819,\"<=\"&Voucher_Date_1819),0))","v":{"$error":"#N/A"}},{"$f":"INDEX(Voucher_Date_1819,MATCH(SMALL(IF(ISBLANK(Voucher_Date_1819),\"\",IF(ISNUMBER(Voucher_Date_1819),COUNTIF(Voucher_Date_1819,\"<\"&Voucher_Date_1819),COUNTIF(Voucher_Date_1819,\"<\"&Voucher_Date_1819)+SUM(IF(ISNUMBER(Voucher_Date_1819),1,0))+1)),ROW(A1167)),IF(ISBLANK(Voucher_Date_1819),\"\",IF(ISNUMBER(Voucher_Date_1819),COUNTIF(Voucher_Date_1819,\"<\"&Voucher_Date_1819),COUNTIF(Voucher_Date_1819,\"<\"&Voucher_Date_1819)+SUM(IF(ISNUMBER(Voucher_Date_1819),1,0))+1)),0))","v":{"$error":"#NUM!"}}]
[{"$f":"INDEX(Voucher_Date_1819,MATCH(ROWS('Bill Register 20-21'!$L$3:'Bill Register 20-21'!L1169),COUNTIF(Voucher_Date_1819,\"<=\"&Voucher_Date_1819),0))","v":{"$error":"#N/A"}},{"$f":"INDEX(Voucher_Date_1819,MATCH(SMALL(IF(ISBLANK(Voucher_Date_1819),\"\",IF(ISNUMBER(Voucher_Date_1819),COUNTIF(Voucher_Date_1819,\"<\"&Voucher_Date_1819),COUNTIF(Voucher_Date_1819,\"<\"&Voucher_Date_1819)+SUM(IF(ISNUMBER(Voucher_Date_1819),1,0))+1)),ROW(A1168)),IF(ISBLANK(Voucher_Date_1819),\"\",IF(ISNUMBER(Voucher_Date_1819),COUNTIF(Voucher_Date_1819,\"<\"&Voucher_Date_1819),COUNTIF(Voucher_Date_1819,\"<\"&Voucher_Date_1819)+SUM(IF(ISNUMBER(Voucher_Date_1819),1,0))+1)),0))","v":{"$error":"#NUM!"}}]
[{"$f":"INDEX(Voucher_Date_1819,MATCH(ROWS('Bill Register 20-21'!$L$3:'Bill Register 20-21'!L1170),COUNTIF(Voucher_Date_1819,\"<=\"&Voucher_Date_1819),0))","v":{"$error":"#N/A"}},{"$f":"INDEX(Voucher_Date_1819,MATCH(SMALL(IF(ISBLANK(Voucher_Date_1819),\"\",IF(ISNUMBER(Voucher_Date_1819),COUNTIF(Voucher_Date_1819,\"<\"&Voucher_Date_1819),COUNTIF(Voucher_Date_1819,\"<\"&Voucher_Date_1819)+SUM(IF(ISNUMBER(Voucher_Date_1819),1,0))+1)),ROW(A1169)),IF(ISBLANK(Voucher_Date_1819),\"\",IF(ISNUMBER(Voucher_Date_1819),COUNTIF(Voucher_Date_1819,\"<\"&Voucher_Date_1819),COUNTIF(Voucher_Date_1819,\"<\"&Voucher_Date_1819)+SUM(IF(ISNUMBER(Voucher_Date_1819),1,0))+1)),0))","v":{"$error":"#NUM!"}}]
[{"$f":"INDEX(Voucher_Date_1819,MATCH(ROWS('Bill Register 20-21'!$L$3:'Bill Register 20-21'!L1171),COUNTIF(Voucher_Date_1819,\"<=\"&Voucher_Date_1819),0))","v":{"$error":"#N/A"}},{"$f":"INDEX(Voucher_Date_1819,MATCH(SMALL(IF(ISBLANK(Voucher_Date_1819),\"\",IF(ISNUMBER(Voucher_Date_1819),COUNTIF(Voucher_Date_1819,\"<\"&Voucher_Date_1819),COUNTIF(Voucher_Date_1819,\"<\"&Voucher_Date_1819)+SUM(IF(ISNUMBER(Voucher_Date_1819),1,0))+1)),ROW(A1170)),IF(ISBLANK(Voucher_Date_1819),\"\",IF(ISNUMBER(Voucher_Date_1819),COUNTIF(Voucher_Date_1819,\"<\"&Voucher_Date_1819),COUNTIF(Voucher_Date_1819,\"<\"&Voucher_Date_1819)+SUM(IF(ISNUMBER(Voucher_Date_1819),1,0))+1)),0))","v":{"$error":"#NUM!"}}]
[{"$f":"INDEX(Voucher_Date_1819,MATCH(ROWS('Bill Register 20-21'!$L$3:'Bill Register 20-21'!L1172),COUNTIF(Voucher_Date_1819,\"<=\"&Voucher_Date_1819),0))","v":{"$error":"#N/A"}},{"$f":"INDEX(Voucher_Date_1819,MATCH(SMALL(IF(ISBLANK(Voucher_Date_1819),\"\",IF(ISNUMBER(Voucher_Date_1819),COUNTIF(Voucher_Date_1819,\"<\"&Voucher_Date_1819),COUNTIF(Voucher_Date_1819,\"<\"&Voucher_Date_1819)+SUM(IF(ISNUMBER(Voucher_Date_1819),1,0))+1)),ROW(A1171)),IF(ISBLANK(Voucher_Date_1819),\"\",IF(ISNUMBER(Voucher_Date_1819),COUNTIF(Voucher_Date_1819,\"<\"&Voucher_Date_1819),COUNTIF(Voucher_Date_1819,\"<\"&Voucher_Date_1819)+SUM(IF(ISNUMBER(Voucher_Date_1819),1,0))+1)),0))","v":{"$error":"#NUM!"}}]
[{"$f":"INDEX(Voucher_Date_1819,MATCH(ROWS('Bill Register 20-21'!$L$3:'Bill Register 20-21'!L1173),COUNTIF(Voucher_Date_1819,\"<=\"&Voucher_Date_1819),0))","v":{"$error":"#N/A"}},{"$f":"INDEX(Voucher_Date_1819,MATCH(SMALL(IF(ISBLANK(Voucher_Date_1819),\"\",IF(ISNUMBER(Voucher_Date_1819),COUNTIF(Voucher_Date_1819,\"<\"&Voucher_Date_1819),COUNTIF(Voucher_Date_1819,\"<\"&Voucher_Date_1819)+SUM(IF(ISNUMBER(Voucher_Date_1819),1,0))+1)),ROW(A1172)),IF(ISBLANK(Voucher_Date_1819),\"\",IF(ISNUMBER(Voucher_Date_1819),COUNTIF(Voucher_Date_1819,\"<\"&Voucher_Date_1819),COUNTIF(Voucher_Date_1819,\"<\"&Voucher_Date_1819)+SUM(IF(ISNUMBER(Voucher_Date_1819),1,0))+1)),0))","v":{"$error":"#NUM!"}}]
[{"$f":"INDEX(Voucher_Date_1819,MATCH(ROWS('Bill Register 20-21'!$L$3:'Bill Register 20-21'!L1174),COUNTIF(Voucher_Date_1819,\"<=\"&Voucher_Date_1819),0))","v":{"$error":"#N/A"}},{"$f":"INDEX(Voucher_Date_1819,MATCH(SMALL(IF(ISBLANK(Voucher_Date_1819),\"\",IF(ISNUMBER(Voucher_Date_1819),COUNTIF(Voucher_Date_1819,\"<\"&Voucher_Date_1819),COUNTIF(Voucher_Date_1819,\"<\"&Voucher_Date_1819)+SUM(IF(ISNUMBER(Voucher_Date_1819),1,0))+1)),ROW(A1173)),IF(ISBLANK(Voucher_Date_1819),\"\",IF(ISNUMBER(Voucher_Date_1819),COUNTIF(Voucher_Date_1819,\"<\"&Voucher_Date_1819),COUNTIF(Voucher_Date_1819,\"<\"&Voucher_Date_1819)+SUM(IF(ISNUMBER(Voucher_Date_1819),1,0))+1)),0))","v":{"$error":"#NUM!"}}]
[{"$f":"INDEX(Voucher_Date_1819,MATCH(ROWS('Bill Register 20-21'!$L$3:'Bill Register 20-21'!L1175),COUNTIF(Voucher_Date_1819,\"<=\"&Voucher_Date_1819),0))","v":{"$error":"#N/A"}},{"$f":"INDEX(Voucher_Date_1819,MATCH(SMALL(IF(ISBLANK(Voucher_Date_1819),\"\",IF(ISNUMBER(Voucher_Date_1819),COUNTIF(Voucher_Date_1819,\"<\"&Voucher_Date_1819),COUNTIF(Voucher_Date_1819,\"<\"&Voucher_Date_1819)+SUM(IF(ISNUMBER(Voucher_Date_1819),1,0))+1)),ROW(A1174)),IF(ISBLANK(Voucher_Date_1819),\"\",IF(ISNUMBER(Voucher_Date_1819),COUNTIF(Voucher_Date_1819,\"<\"&Voucher_Date_1819),COUNTIF(Voucher_Date_1819,\"<\"&Voucher_Date_1819)+SUM(IF(ISNUMBER(Voucher_Date_1819),1,0))+1)),0))","v":{"$error":"#NUM!"}}]
[{"$f":"INDEX(Voucher_Date_1819,MATCH(ROWS('Bill Register 20-21'!$L$3:'Bill Register 20-21'!L1176),COUNTIF(Voucher_Date_1819,\"<=\"&Voucher_Date_1819),0))","v":{"$error":"#N/A"}},{"$f":"INDEX(Voucher_Date_1819,MATCH(SMALL(IF(ISBLANK(Voucher_Date_1819),\"\",IF(ISNUMBER(Voucher_Date_1819),COUNTIF(Voucher_Date_1819,\"<\"&Voucher_Date_1819),COUNTIF(Voucher_Date_1819,\"<\"&Voucher_Date_1819)+SUM(IF(ISNUMBER(Voucher_Date_1819),1,0))+1)),ROW(A1175)),IF(ISBLANK(Voucher_Date_1819),\"\",IF(ISNUMBER(Voucher_Date_1819),COUNTIF(Voucher_Date_1819,\"<\"&Voucher_Date_1819),COUNTIF(Voucher_Date_1819,\"<\"&Voucher_Date_1819)+SUM(IF(ISNUMBER(Voucher_Date_1819),1,0))+1)),0))","v":{"$error":"#NUM!"}}]
[{"$f":"INDEX(Voucher_Date_1819,MATCH(ROWS('Bill Register 20-21'!$L$3:'Bill Register 20-21'!L1177),COUNTIF(Voucher_Date_1819,\"<=\"&Voucher_Date_1819),0))","v":{"$error":"#N/A"}},{"$f":"INDEX(Voucher_Date_1819,MATCH(SMALL(IF(ISBLANK(Voucher_Date_1819),\"\",IF(ISNUMBER(Voucher_Date_1819),COUNTIF(Voucher_Date_1819,\"<\"&Voucher_Date_1819),COUNTIF(Voucher_Date_1819,\"<\"&Voucher_Date_1819)+SUM(IF(ISNUMBER(Voucher_Date_1819),1,0))+1)),ROW(A1176)),IF(ISBLANK(Voucher_Date_1819),\"\",IF(ISNUMBER(Voucher_Date_1819),COUNTIF(Voucher_Date_1819,\"<\"&Voucher_Date_1819),COUNTIF(Voucher_Date_1819,\"<\"&Voucher_Date_1819)+SUM(IF(ISNUMBER(Voucher_Date_1819),1,0))+1)),0))","v":{"$error":"#NUM!"}}]
[{"$f":"INDEX(Voucher_Date_1819,MATCH(ROWS('Bill Register 20-21'!$L$3:'Bill Register 20-21'!L1178),COUNTIF(Voucher_Date_1819,\"<=\"&Voucher_Date_1819),0))","v":{"$error":"#N/A"}},{"$f":"INDEX(Voucher_Date_1819,MATCH(SMALL(IF(ISBLANK(Voucher_Date_1819),\"\",IF(ISNUMBER(Voucher_Date_1819),COUNTIF(Voucher_Date_1819,\"<\"&Voucher_Date_1819),COUNTIF(Voucher_Date_1819,\"<\"&Voucher_Date_1819)+SUM(IF(ISNUMBER(Voucher_Date_1819),1,0))+1)),ROW(A1177)),IF(ISBLANK(Voucher_Date_1819),\"\",IF(ISNUMBER(Voucher_Date_1819),COUNTIF(Voucher_Date_1819,\"<\"&Voucher_Date_1819),COUNTIF(Voucher_Date_1819,\"<\"&Voucher_Date_1819)+SUM(IF(ISNUMBER(Voucher_Date_1819),1,0))+1)),0))","v":{"$error":"#NUM!"}}]
[{"$f":"INDEX(Voucher_Date_1819,MATCH(ROWS('Bill Register 20-21'!$L$3:'Bill Register 20-21'!L1179),COUNTIF(Voucher_Date_1819,\"<=\"&Voucher_Date_1819),0))","v":{"$error":"#N/A"}},{"$f":"INDEX(Voucher_Date_1819,MATCH(SMALL(IF(ISBLANK(Voucher_Date_1819),\"\",IF(ISNUMBER(Voucher_Date_1819),COUNTIF(Voucher_Date_1819,\"<\"&Voucher_Date_1819),COUNTIF(Voucher_Date_1819,\"<\"&Voucher_Date_1819)+SUM(IF(ISNUMBER(Voucher_Date_1819),1,0))+1)),ROW(A1178)),IF(ISBLANK(Voucher_Date_1819),\"\",IF(ISNUMBER(Voucher_Date_1819),COUNTIF(Voucher_Date_1819,\"<\"&Voucher_Date_1819),COUNTIF(Voucher_Date_1819,\"<\"&Voucher_Date_1819)+SUM(IF(ISNUMBER(Voucher_Date_1819),1,0))+1)),0))","v":{"$error":"#NUM!"}}]
[{"$f":"INDEX(Voucher_Date_1819,MATCH(ROWS('Bill Register 20-21'!$L$3:'Bill Register 20-21'!L1180),COUNTIF(Voucher_Date_1819,\"<=\"&Voucher_Date_1819),0))","v":{"$error":"#N/A"}},{"$f":"INDEX(Voucher_Date_1819,MATCH(SMALL(IF(ISBLANK(Voucher_Date_1819),\"\",IF(ISNUMBER(Voucher_Date_1819),COUNTIF(Voucher_Date_1819,\"<\"&Voucher_Date_1819),COUNTIF(Voucher_Date_1819,\"<\"&Voucher_Date_1819)+SUM(IF(ISNUMBER(Voucher_Date_1819),1,0))+1)),ROW(A1179)),IF(ISBLANK(Voucher_Date_1819),\"\",IF(ISNUMBER(Voucher_Date_1819),COUNTIF(Voucher_Date_1819,\"<\"&Voucher_Date_1819),COUNTIF(Voucher_Date_1819,\"<\"&Voucher_Date_1819)+SUM(IF(ISNUMBER(Voucher_Date_1819),1,0))+1)),0))","v":{"$error":"#NUM!"}}]
[{"$f":"INDEX(Voucher_Date_1819,MATCH(ROWS('Bill Register 20-21'!$L$3:'Bill Register 20-21'!L1181),COUNTIF(Voucher_Date_1819,\"<=\"&Voucher_Date_1819),0))","v":{"$error":"#N/A"}},{"$f":"INDEX(Voucher_Date_1819,MATCH(SMALL(IF(ISBLANK(Voucher_Date_1819),\"\",IF(ISNUMBER(Voucher_Date_1819),COUNTIF(Voucher_Date_1819,\"<\"&Voucher_Date_1819),COUNTIF(Voucher_Date_1819,\"<\"&Voucher_Date_1819)+SUM(IF(ISNUMBER(Voucher_Date_1819),1,0))+1)),ROW(A1180)),IF(ISBLANK(Voucher_Date_1819),\"\",IF(ISNUMBER(Voucher_Date_1819),COUNTIF(Voucher_Date_1819,\"<\"&Voucher_Date_1819),COUNTIF(Voucher_Date_1819,\"<\"&Voucher_Date_1819)+SUM(IF(ISNUMBER(Voucher_Date_1819),1,0))+1)),0))","v":{"$error":"#NUM!"}}]
[{"$f":"INDEX(Voucher_Date_1819,MATCH(ROWS('Bill Register 20-21'!$L$3:'Bill Register 20-21'!L1182),COUNTIF(Voucher_Date_1819,\"<=\"&Voucher_Date_1819),0))","v":{"$error":"#N/A"}},{"$f":"INDEX(Voucher_Date_1819,MATCH(SMALL(IF(ISBLANK(Voucher_Date_1819),\"\",IF(ISNUMBER(Voucher_Date_1819),COUNTIF(Voucher_Date_1819,\"<\"&Voucher_Date_1819),COUNTIF(Voucher_Date_1819,\"<\"&Voucher_Date_1819)+SUM(IF(ISNUMBER(Voucher_Date_1819),1,0))+1)),ROW(A1181)),IF(ISBLANK(Voucher_Date_1819),\"\",IF(ISNUMBER(Voucher_Date_1819),COUNTIF(Voucher_Date_1819,\"<\"&Voucher_Date_1819),COUNTIF(Voucher_Date_1819,\"<\"&Voucher_Date_1819)+SUM(IF(ISNUMBER(Voucher_Date_1819),1,0))+1)),0))","v":{"$error":"#NUM!"}}]
[{"$f":"INDEX(Voucher_Date_1819,MATCH(ROWS('Bill Register 20-21'!$L$3:'Bill Register 20-21'!L1183),COUNTIF(Voucher_Date_1819,\"<=\"&Voucher_Date_1819),0))","v":{"$error":"#N/A"}},{"$f":"INDEX(Voucher_Date_1819,MATCH(SMALL(IF(ISBLANK(Voucher_Date_1819),\"\",IF(ISNUMBER(Voucher_Date_1819),COUNTIF(Voucher_Date_1819,\"<\"&Voucher_Date_1819),COUNTIF(Voucher_Date_1819,\"<\"&Voucher_Date_1819)+SUM(IF(ISNUMBER(Voucher_Date_1819),1,0))+1)),ROW(A1182)),IF(ISBLANK(Voucher_Date_1819),\"\",IF(ISNUMBER(Voucher_Date_1819),COUNTIF(Voucher_Date_1819,\"<\"&Voucher_Date_1819),COUNTIF(Voucher_Date_1819,\"<\"&Voucher_Date_1819)+SUM(IF(ISNUMBER(Voucher_Date_1819),1,0))+1)),0))","v":{"$error":"#NUM!"}}]
[{"$f":"INDEX(Voucher_Date_1819,MATCH(ROWS('Bill Register 20-21'!$L$3:'Bill Register 20-21'!L1184),COUNTIF(Voucher_Date_1819,\"<=\"&Voucher_Date_1819),0))","v":{"$error":"#N/A"}},{"$f":"INDEX(Voucher_Date_1819,MATCH(SMALL(IF(ISBLANK(Voucher_Date_1819),\"\",IF(ISNUMBER(Voucher_Date_1819),COUNTIF(Voucher_Date_1819,\"<\"&Voucher_Date_1819),COUNTIF(Voucher_Date_1819,\"<\"&Voucher_Date_1819)+SUM(IF(ISNUMBER(Voucher_Date_1819),1,0))+1)),ROW(A1183)),IF(ISBLANK(Voucher_Date_1819),\"\",IF(ISNUMBER(Voucher_Date_1819),COUNTIF(Voucher_Date_1819,\"<\"&Voucher_Date_1819),COUNTIF(Voucher_Date_1819,\"<\"&Voucher_Date_1819)+SUM(IF(ISNUMBER(Voucher_Date_1819),1,0))+1)),0))","v":{"$error":"#NUM!"}}]
[{"$f":"INDEX(Voucher_Date_1819,MATCH(ROWS('Bill Register 20-21'!$L$3:'Bill Register 20-21'!L1185),COUNTIF(Voucher_Date_1819,\"<=\"&Voucher_Date_1819),0))","v":{"$error":"#N/A"}},{"$f":"INDEX(Voucher_Date_1819,MATCH(SMALL(IF(ISBLANK(Voucher_Date_1819),\"\",IF(ISNUMBER(Voucher_Date_1819),COUNTIF(Voucher_Date_1819,\"<\"&Voucher_Date_1819),COUNTIF(Voucher_Date_1819,\"<\"&Voucher_Date_1819)+SUM(IF(ISNUMBER(Voucher_Date_1819),1,0))+1)),ROW(A1184)),IF(ISBLANK(Voucher_Date_1819),\"\",IF(ISNUMBER(Voucher_Date_1819),COUNTIF(Voucher_Date_1819,\"<\"&Voucher_Date_1819),COUNTIF(Voucher_Date_1819,\"<\"&Voucher_Date_1819)+SUM(IF(ISNUMBER(Voucher_Date_1819),1,0))+1)),0))","v":{"$error":"#NUM!"}}]
[{"$f":"INDEX(Voucher_Date_1819,MATCH(ROWS('Bill Register 20-21'!$L$3:'Bill Register 20-21'!L1186),COUNTIF(Voucher_Date_1819,\"<=\"&Voucher_Date_1819),0))","v":{"$error":"#N/A"}},{"$f":"INDEX(Voucher_Date_1819,MATCH(SMALL(IF(ISBLANK(Voucher_Date_1819),\"\",IF(ISNUMBER(Voucher_Date_1819),COUNTIF(Voucher_Date_1819,\"<\"&Voucher_Date_1819),COUNTIF(Voucher_Date_1819,\"<\"&Voucher_Date_1819)+SUM(IF(ISNUMBER(Voucher_Date_1819),1,0))+1)),ROW(A1185)),IF(ISBLANK(Voucher_Date_1819),\"\",IF(ISNUMBER(Voucher_Date_1819),COUNTIF(Voucher_Date_1819,\"<\"&Voucher_Date_1819),COUNTIF(Voucher_Date_1819,\"<\"&Voucher_Date_1819)+SUM(IF(ISNUMBER(Voucher_Date_1819),1,0))+1)),0))","v":{"$error":"#NUM!"}}]
[{"$f":"INDEX(Voucher_Date_1819,MATCH(ROWS('Bill Register 20-21'!$L$3:'Bill Register 20-21'!L1187),COUNTIF(Voucher_Date_1819,\"<=\"&Voucher_Date_1819),0))","v":{"$error":"#N/A"}},{"$f":"INDEX(Voucher_Date_1819,MATCH(SMALL(IF(ISBLANK(Voucher_Date_1819),\"\",IF(ISNUMBER(Voucher_Date_1819),COUNTIF(Voucher_Date_1819,\"<\"&Voucher_Date_1819),COUNTIF(Voucher_Date_1819,\"<\"&Voucher_Date_1819)+SUM(IF(ISNUMBER(Voucher_Date_1819),1,0))+1)),ROW(A1186)),IF(ISBLANK(Voucher_Date_1819),\"\",IF(ISNUMBER(Voucher_Date_1819),COUNTIF(Voucher_Date_1819,\"<\"&Voucher_Date_1819),COUNTIF(Voucher_Date_1819,\"<\"&Voucher_Date_1819)+SUM(IF(ISNUMBER(Voucher_Date_1819),1,0))+1)),0))","v":{"$error":"#NUM!"}}]
[{"$f":"INDEX(Voucher_Date_1819,MATCH(ROWS('Bill Register 20-21'!$L$3:'Bill Register 20-21'!L1188),COUNTIF(Voucher_Date_1819,\"<=\"&Voucher_Date_1819),0))","v":{"$error":"#N/A"}},{"$f":"INDEX(Voucher_Date_1819,MATCH(SMALL(IF(ISBLANK(Voucher_Date_1819),\"\",IF(ISNUMBER(Voucher_Date_1819),COUNTIF(Voucher_Date_1819,\"<\"&Voucher_Date_1819),COUNTIF(Voucher_Date_1819,\"<\"&Voucher_Date_1819)+SUM(IF(ISNUMBER(Voucher_Date_1819),1,0))+1)),ROW(A1187)),IF(ISBLANK(Voucher_Date_1819),\"\",IF(ISNUMBER(Voucher_Date_1819),COUNTIF(Voucher_Date_1819,\"<\"&Voucher_Date_1819),COUNTIF(Voucher_Date_1819,\"<\"&Voucher_Date_1819)+SUM(IF(ISNUMBER(Voucher_Date_1819),1,0))+1)),0))","v":{"$error":"#NUM!"}}]
[{"$f":"INDEX(Voucher_Date_1819,MATCH(ROWS('Bill Register 20-21'!$L$3:'Bill Register 20-21'!L1189),COUNTIF(Voucher_Date_1819,\"<=\"&Voucher_Date_1819),0))","v":{"$error":"#N/A"}},{"$f":"INDEX(Voucher_Date_1819,MATCH(SMALL(IF(ISBLANK(Voucher_Date_1819),\"\",IF(ISNUMBER(Voucher_Date_1819),COUNTIF(Voucher_Date_1819,\"<\"&Voucher_Date_1819),COUNTIF(Voucher_Date_1819,\"<\"&Voucher_Date_1819)+SUM(IF(ISNUMBER(Voucher_Date_1819),1,0))+1)),ROW(A1188)),IF(ISBLANK(Voucher_Date_1819),\"\",IF(ISNUMBER(Voucher_Date_1819),COUNTIF(Voucher_Date_1819,\"<\"&Voucher_Date_1819),COUNTIF(Voucher_Date_1819,\"<\"&Voucher_Date_1819)+SUM(IF(ISNUMBER(Voucher_Date_1819),1,0))+1)),0))","v":{"$error":"#NUM!"}}]
[{"$f":"INDEX(Voucher_Date_1819,MATCH(ROWS('Bill Register 20-21'!$L$3:'Bill Register 20-21'!L1190),COUNTIF(Voucher_Date_1819,\"<=\"&Voucher_Date_1819),0))","v":{"$error":"#N/A"}},{"$f":"INDEX(Voucher_Date_1819,MATCH(SMALL(IF(ISBLANK(Voucher_Date_1819),\"\",IF(ISNUMBER(Voucher_Date_1819),COUNTIF(Voucher_Date_1819,\"<\"&Voucher_Date_1819),COUNTIF(Voucher_Date_1819,\"<\"&Voucher_Date_1819)+SUM(IF(ISNUMBER(Voucher_Date_1819),1,0))+1)),ROW(A1189)),IF(ISBLANK(Voucher_Date_1819),\"\",IF(ISNUMBER(Voucher_Date_1819),COUNTIF(Voucher_Date_1819,\"<\"&Voucher_Date_1819),COUNTIF(Voucher_Date_1819,\"<\"&Voucher_Date_1819)+SUM(IF(ISNUMBER(Voucher_Date_1819),1,0))+1)),0))","v":{"$error":"#NUM!"}}]
[{"$f":"INDEX(Voucher_Date_1819,MATCH(ROWS('Bill Register 20-21'!$L$3:'Bill Register 20-21'!L1191),COUNTIF(Voucher_Date_1819,\"<=\"&Voucher_Date_1819),0))","v":{"$error":"#N/A"}},{"$f":"INDEX(Voucher_Date_1819,MATCH(SMALL(IF(ISBLANK(Voucher_Date_1819),\"\",IF(ISNUMBER(Voucher_Date_1819),COUNTIF(Voucher_Date_1819,\"<\"&Voucher_Date_1819),COUNTIF(Voucher_Date_1819,\"<\"&Voucher_Date_1819)+SUM(IF(ISNUMBER(Voucher_Date_1819),1,0))+1)),ROW(A1190)),IF(ISBLANK(Voucher_Date_1819),\"\",IF(ISNUMBER(Voucher_Date_1819),COUNTIF(Voucher_Date_1819,\"<\"&Voucher_Date_1819),COUNTIF(Voucher_Date_1819,\"<\"&Voucher_Date_1819)+SUM(IF(ISNUMBER(Voucher_Date_1819),1,0))+1)),0))","v":{"$error":"#NUM!"}}]
[{"$f":"INDEX(Voucher_Date_1819,MATCH(ROWS('Bill Register 20-21'!$L$3:'Bill Register 20-21'!L1192),COUNTIF(Voucher_Date_1819,\"<=\"&Voucher_Date_1819),0))","v":{"$error":"#N/A"}},{"$f":"INDEX(Voucher_Date_1819,MATCH(SMALL(IF(ISBLANK(Voucher_Date_1819),\"\",IF(ISNUMBER(Voucher_Date_1819),COUNTIF(Voucher_Date_1819,\"<\"&Voucher_Date_1819),COUNTIF(Voucher_Date_1819,\"<\"&Voucher_Date_1819)+SUM(IF(ISNUMBER(Voucher_Date_1819),1,0))+1)),ROW(A1191)),IF(ISBLANK(Voucher_Date_1819),\"\",IF(ISNUMBER(Voucher_Date_1819),COUNTIF(Voucher_Date_1819,\"<\"&Voucher_Date_1819),COUNTIF(Voucher_Date_1819,\"<\"&Voucher_Date_1819)+SUM(IF(ISNUMBER(Voucher_Date_1819),1,0))+1)),0))","v":{"$error":"#NUM!"}}]
[{"$f":"INDEX(Voucher_Date_1819,MATCH(ROWS('Bill Register 20-21'!$L$3:'Bill Register 20-21'!L1193),COUNTIF(Voucher_Date_1819,\"<=\"&Voucher_Date_1819),0))","v":{"$error":"#N/A"}},{"$f":"INDEX(Voucher_Date_1819,MATCH(SMALL(IF(ISBLANK(Voucher_Date_1819),\"\",IF(ISNUMBER(Voucher_Date_1819),COUNTIF(Voucher_Date_1819,\"<\"&Voucher_Date_1819),COUNTIF(Voucher_Date_1819,\"<\"&Voucher_Date_1819)+SUM(IF(ISNUMBER(Voucher_Date_1819),1,0))+1)),ROW(A1192)),IF(ISBLANK(Voucher_Date_1819),\"\",IF(ISNUMBER(Voucher_Date_1819),COUNTIF(Voucher_Date_1819,\"<\"&Voucher_Date_1819),COUNTIF(Voucher_Date_1819,\"<\"&Voucher_Date_1819)+SUM(IF(ISNUMBER(Voucher_Date_1819),1,0))+1)),0))","v":{"$error":"#NUM!"}}]
[{"$f":"INDEX(Voucher_Date_1819,MATCH(ROWS('Bill Register 20-21'!$L$3:'Bill Register 20-21'!L1194),COUNTIF(Voucher_Date_1819,\"<=\"&Voucher_Date_1819),0))","v":{"$error":"#N/A"}},{"$f":"INDEX(Voucher_Date_1819,MATCH(SMALL(IF(ISBLANK(Voucher_Date_1819),\"\",IF(ISNUMBER(Voucher_Date_1819),COUNTIF(Voucher_Date_1819,\"<\"&Voucher_Date_1819),COUNTIF(Voucher_Date_1819,\"<\"&Voucher_Date_1819)+SUM(IF(ISNUMBER(Voucher_Date_1819),1,0))+1)),ROW(A1193)),IF(ISBLANK(Voucher_Date_1819),\"\",IF(ISNUMBER(Voucher_Date_1819),COUNTIF(Voucher_Date_1819,\"<\"&Voucher_Date_1819),COUNTIF(Voucher_Date_1819,\"<\"&Voucher_Date_1819)+SUM(IF(ISNUMBER(Voucher_Date_1819),1,0))+1)),0))","v":{"$error":"#NUM!"}}]
[{"$f":"INDEX(Voucher_Date_1819,MATCH(ROWS('Bill Register 20-21'!$L$3:'Bill Register 20-21'!L1195),COUNTIF(Voucher_Date_1819,\"<=\"&Voucher_Date_1819),0))","v":{"$error":"#N/A"}},{"$f":"INDEX(Voucher_Date_1819,MATCH(SMALL(IF(ISBLANK(Voucher_Date_1819),\"\",IF(ISNUMBER(Voucher_Date_1819),COUNTIF(Voucher_Date_1819,\"<\"&Voucher_Date_1819),COUNTIF(Voucher_Date_1819,\"<\"&Voucher_Date_1819)+SUM(IF(ISNUMBER(Voucher_Date_1819),1,0))+1)),ROW(A1194)),IF(ISBLANK(Voucher_Date_1819),\"\",IF(ISNUMBER(Voucher_Date_1819),COUNTIF(Voucher_Date_1819,\"<\"&Voucher_Date_1819),COUNTIF(Voucher_Date_1819,\"<\"&Voucher_Date_1819)+SUM(IF(ISNUMBER(Voucher_Date_1819),1,0))+1)),0))","v":{"$error":"#NUM!"}}]
[{"$f":"INDEX(Voucher_Date_1819,MATCH(ROWS('Bill Register 20-21'!$L$3:'Bill Register 20-21'!L1196),COUNTIF(Voucher_Date_1819,\"<=\"&Voucher_Date_1819),0))","v":{"$error":"#N/A"}},{"$f":"INDEX(Voucher_Date_1819,MATCH(SMALL(IF(ISBLANK(Voucher_Date_1819),\"\",IF(ISNUMBER(Voucher_Date_1819),COUNTIF(Voucher_Date_1819,\"<\"&Voucher_Date_1819),COUNTIF(Voucher_Date_1819,\"<\"&Voucher_Date_1819)+SUM(IF(ISNUMBER(Voucher_Date_1819),1,0))+1)),ROW(A1195)),IF(ISBLANK(Voucher_Date_1819),\"\",IF(ISNUMBER(Voucher_Date_1819),COUNTIF(Voucher_Date_1819,\"<\"&Voucher_Date_1819),COUNTIF(Voucher_Date_1819,\"<\"&Voucher_Date_1819)+SUM(IF(ISNUMBER(Voucher_Date_1819),1,0))+1)),0))","v":{"$error":"#NUM!"}}]
[{"$f":"INDEX(Voucher_Date_1819,MATCH(ROWS('Bill Register 20-21'!$L$3:'Bill Register 20-21'!L1197),COUNTIF(Voucher_Date_1819,\"<=\"&Voucher_Date_1819),0))","v":{"$error":"#N/A"}},{"$f":"INDEX(Voucher_Date_1819,MATCH(SMALL(IF(ISBLANK(Voucher_Date_1819),\"\",IF(ISNUMBER(Voucher_Date_1819),COUNTIF(Voucher_Date_1819,\"<\"&Voucher_Date_1819),COUNTIF(Voucher_Date_1819,\"<\"&Voucher_Date_1819)+SUM(IF(ISNUMBER(Voucher_Date_1819),1,0))+1)),ROW(A1196)),IF(ISBLANK(Voucher_Date_1819),\"\",IF(ISNUMBER(Voucher_Date_1819),COUNTIF(Voucher_Date_1819,\"<\"&Voucher_Date_1819),COUNTIF(Voucher_Date_1819,\"<\"&Voucher_Date_1819)+SUM(IF(ISNUMBER(Voucher_Date_1819),1,0))+1)),0))","v":{"$error":"#NUM!"}}]
[{"$f":"INDEX(Voucher_Date_1819,MATCH(ROWS('Bill Register 20-21'!$L$3:'Bill Register 20-21'!L1198),COUNTIF(Voucher_Date_1819,\"<=\"&Voucher_Date_1819),0))","v":{"$error":"#N/A"}},{"$f":"INDEX(Voucher_Date_1819,MATCH(SMALL(IF(ISBLANK(Voucher_Date_1819),\"\",IF(ISNUMBER(Voucher_Date_1819),COUNTIF(Voucher_Date_1819,\"<\"&Voucher_Date_1819),COUNTIF(Voucher_Date_1819,\"<\"&Voucher_Date_1819)+SUM(IF(ISNUMBER(Voucher_Date_1819),1,0))+1)),ROW(A1197)),IF(ISBLANK(Voucher_Date_1819),\"\",IF(ISNUMBER(Voucher_Date_1819),COUNTIF(Voucher_Date_1819,\"<\"&Voucher_Date_1819),COUNTIF(Voucher_Date_1819,\"<\"&Voucher_Date_1819)+SUM(IF(ISNUMBER(Voucher_Date_1819),1,0))+1)),0))","v":{"$error":"#NUM!"}}]
[{"$f":"INDEX(Voucher_Date_1819,MATCH(ROWS('Bill Register 20-21'!$L$3:'Bill Register 20-21'!L1199),COUNTIF(Voucher_Date_1819,\"<=\"&Voucher_Date_1819),0))","v":{"$error":"#N/A"}},{"$f":"INDEX(Voucher_Date_1819,MATCH(SMALL(IF(ISBLANK(Voucher_Date_1819),\"\",IF(ISNUMBER(Voucher_Date_1819),COUNTIF(Voucher_Date_1819,\"<\"&Voucher_Date_1819),COUNTIF(Voucher_Date_1819,\"<\"&Voucher_Date_1819)+SUM(IF(ISNUMBER(Voucher_Date_1819),1,0))+1)),ROW(A1198)),IF(ISBLANK(Voucher_Date_1819),\"\",IF(ISNUMBER(Voucher_Date_1819),COUNTIF(Voucher_Date_1819,\"<\"&Voucher_Date_1819),COUNTIF(Voucher_Date_1819,\"<\"&Voucher_Date_1819)+SUM(IF(ISNUMBER(Voucher_Date_1819),1,0))+1)),0))","v":{"$error":"#NUM!"}}]
[{"$f":"INDEX(Voucher_Date_1819,MATCH(ROWS('Bill Register 20-21'!$L$3:'Bill Register 20-21'!L1200),COUNTIF(Voucher_Date_1819,\"<=\"&Voucher_Date_1819),0))","v":{"$error":"#N/A"}},{"$f":"INDEX(Voucher_Date_1819,MATCH(SMALL(IF(ISBLANK(Voucher_Date_1819),\"\",IF(ISNUMBER(Voucher_Date_1819),COUNTIF(Voucher_Date_1819,\"<\"&Voucher_Date_1819),COUNTIF(Voucher_Date_1819,\"<\"&Voucher_Date_1819)+SUM(IF(ISNUMBER(Voucher_Date_1819),1,0))+1)),ROW(A1199)),IF(ISBLANK(Voucher_Date_1819),\"\",IF(ISNUMBER(Voucher_Date_1819),COUNTIF(Voucher_Date_1819,\"<\"&Voucher_Date_1819),COUNTIF(Voucher_Date_1819,\"<\"&Voucher_Date_1819)+SUM(IF(ISNUMBER(Voucher_Date_1819),1,0))+1)),0))","v":{"$error":"#NUM!"}}]
[{"$f":"INDEX(Voucher_Date_1819,MATCH(ROWS('Bill Register 20-21'!$L$3:'Bill Register 20-21'!L1201),COUNTIF(Voucher_Date_1819,\"<=\"&Voucher_Date_1819),0))","v":{"$error":"#N/A"}},{"$f":"INDEX(Voucher_Date_1819,MATCH(SMALL(IF(ISBLANK(Voucher_Date_1819),\"\",IF(ISNUMBER(Voucher_Date_1819),COUNTIF(Voucher_Date_1819,\"<\"&Voucher_Date_1819),COUNTIF(Voucher_Date_1819,\"<\"&Voucher_Date_1819)+SUM(IF(ISNUMBER(Voucher_Date_1819),1,0))+1)),ROW(A1200)),IF(ISBLANK(Voucher_Date_1819),\"\",IF(ISNUMBER(Voucher_Date_1819),COUNTIF(Voucher_Date_1819,\"<\"&Voucher_Date_1819),COUNTIF(Voucher_Date_1819,\"<\"&Voucher_Date_1819)+SUM(IF(ISNUMBER(Voucher_Date_1819),1,0))+1)),0))","v":{"$error":"#NUM!"}}]
[{"$f":"INDEX(Voucher_Date_1819,MATCH(ROWS('Bill Register 20-21'!$L$3:'Bill Register 20-21'!L1202),COUNTIF(Voucher_Date_1819,\"<=\"&Voucher_Date_1819),0))","v":{"$error":"#N/A"}},{"$f":"INDEX(Voucher_Date_1819,MATCH(SMALL(IF(ISBLANK(Voucher_Date_1819),\"\",IF(ISNUMBER(Voucher_Date_1819),COUNTIF(Voucher_Date_1819,\"<\"&Voucher_Date_1819),COUNTIF(Voucher_Date_1819,\"<\"&Voucher_Date_1819)+SUM(IF(ISNUMBER(Voucher_Date_1819),1,0))+1)),ROW(A1201)),IF(ISBLANK(Voucher_Date_1819),\"\",IF(ISNUMBER(Voucher_Date_1819),COUNTIF(Voucher_Date_1819,\"<\"&Voucher_Date_1819),COUNTIF(Voucher_Date_1819,\"<\"&Voucher_Date_1819)+SUM(IF(ISNUMBER(Voucher_Date_1819),1,0))+1)),0))","v":{"$error":"#NUM!"}}]
[{"$f":"INDEX(Voucher_Date_1819,MATCH(ROWS('Bill Register 20-21'!$L$3:'Bill Register 20-21'!L1203),COUNTIF(Voucher_Date_1819,\"<=\"&Voucher_Date_1819),0))","v":{"$error":"#N/A"}},{"$f":"INDEX(Voucher_Date_1819,MATCH(SMALL(IF(ISBLANK(Voucher_Date_1819),\"\",IF(ISNUMBER(Voucher_Date_1819),COUNTIF(Voucher_Date_1819,\"<\"&Voucher_Date_1819),COUNTIF(Voucher_Date_1819,\"<\"&Voucher_Date_1819)+SUM(IF(ISNUMBER(Voucher_Date_1819),1,0))+1)),ROW(A1202)),IF(ISBLANK(Voucher_Date_1819),\"\",IF(ISNUMBER(Voucher_Date_1819),COUNTIF(Voucher_Date_1819,\"<\"&Voucher_Date_1819),COUNTIF(Voucher_Date_1819,\"<\"&Voucher_Date_1819)+SUM(IF(ISNUMBER(Voucher_Date_1819),1,0))+1)),0))","v":{"$error":"#NUM!"}}]
[{"$f":"INDEX(Voucher_Date_1819,MATCH(ROWS('Bill Register 20-21'!$L$3:'Bill Register 20-21'!L1204),COUNTIF(Voucher_Date_1819,\"<=\"&Voucher_Date_1819),0))","v":{"$error":"#N/A"}},{"$f":"INDEX(Voucher_Date_1819,MATCH(SMALL(IF(ISBLANK(Voucher_Date_1819),\"\",IF(ISNUMBER(Voucher_Date_1819),COUNTIF(Voucher_Date_1819,\"<\"&Voucher_Date_1819),COUNTIF(Voucher_Date_1819,\"<\"&Voucher_Date_1819)+SUM(IF(ISNUMBER(Voucher_Date_1819),1,0))+1)),ROW(A1203)),IF(ISBLANK(Voucher_Date_1819),\"\",IF(ISNUMBER(Voucher_Date_1819),COUNTIF(Voucher_Date_1819,\"<\"&Voucher_Date_1819),COUNTIF(Voucher_Date_1819,\"<\"&Voucher_Date_1819)+SUM(IF(ISNUMBER(Voucher_Date_1819),1,0))+1)),0))","v":{"$error":"#NUM!"}}]
[{"$f":"INDEX(Voucher_Date_1819,MATCH(ROWS('Bill Register 20-21'!$L$3:'Bill Register 20-21'!L1205),COUNTIF(Voucher_Date_1819,\"<=\"&Voucher_Date_1819),0))","v":{"$error":"#N/A"}},{"$f":"INDEX(Voucher_Date_1819,MATCH(SMALL(IF(ISBLANK(Voucher_Date_1819),\"\",IF(ISNUMBER(Voucher_Date_1819),COUNTIF(Voucher_Date_1819,\"<\"&Voucher_Date_1819),COUNTIF(Voucher_Date_1819,\"<\"&Voucher_Date_1819)+SUM(IF(ISNUMBER(Voucher_Date_1819),1,0))+1)),ROW(A1204)),IF(ISBLANK(Voucher_Date_1819),\"\",IF(ISNUMBER(Voucher_Date_1819),COUNTIF(Voucher_Date_1819,\"<\"&Voucher_Date_1819),COUNTIF(Voucher_Date_1819,\"<\"&Voucher_Date_1819)+SUM(IF(ISNUMBER(Voucher_Date_1819),1,0))+1)),0))","v":{"$error":"#NUM!"}}]
[{"$f":"INDEX(Voucher_Date_1819,MATCH(ROWS('Bill Register 20-21'!$L$3:'Bill Register 20-21'!L1206),COUNTIF(Voucher_Date_1819,\"<=\"&Voucher_Date_1819),0))","v":{"$error":"#N/A"}},{"$f":"INDEX(Voucher_Date_1819,MATCH(SMALL(IF(ISBLANK(Voucher_Date_1819),\"\",IF(ISNUMBER(Voucher_Date_1819),COUNTIF(Voucher_Date_1819,\"<\"&Voucher_Date_1819),COUNTIF(Voucher_Date_1819,\"<\"&Voucher_Date_1819)+SUM(IF(ISNUMBER(Voucher_Date_1819),1,0))+1)),ROW(A1205)),IF(ISBLANK(Voucher_Date_1819),\"\",IF(ISNUMBER(Voucher_Date_1819),COUNTIF(Voucher_Date_1819,\"<\"&Voucher_Date_1819),COUNTIF(Voucher_Date_1819,\"<\"&Voucher_Date_1819)+SUM(IF(ISNUMBER(Voucher_Date_1819),1,0))+1)),0))","v":{"$error":"#NUM!"}}]
[{"$f":"INDEX(Voucher_Date_1819,MATCH(ROWS('Bill Register 20-21'!$L$3:'Bill Register 20-21'!L1207),COUNTIF(Voucher_Date_1819,\"<=\"&Voucher_Date_1819),0))","v":{"$error":"#N/A"}},{"$f":"INDEX(Voucher_Date_1819,MATCH(SMALL(IF(ISBLANK(Voucher_Date_1819),\"\",IF(ISNUMBER(Voucher_Date_1819),COUNTIF(Voucher_Date_1819,\"<\"&Voucher_Date_1819),COUNTIF(Voucher_Date_1819,\"<\"&Voucher_Date_1819)+SUM(IF(ISNUMBER(Voucher_Date_1819),1,0))+1)),ROW(A1206)),IF(ISBLANK(Voucher_Date_1819),\"\",IF(ISNUMBER(Voucher_Date_1819),COUNTIF(Voucher_Date_1819,\"<\"&Voucher_Date_1819),COUNTIF(Voucher_Date_1819,\"<\"&Voucher_Date_1819)+SUM(IF(ISNUMBER(Voucher_Date_1819),1,0))+1)),0))","v":{"$error":"#NUM!"}}]
[{"$f":"INDEX(Voucher_Date_1819,MATCH(ROWS('Bill Register 20-21'!$L$3:'Bill Register 20-21'!L1208),COUNTIF(Voucher_Date_1819,\"<=\"&Voucher_Date_1819),0))","v":{"$error":"#N/A"}},{"$f":"INDEX(Voucher_Date_1819,MATCH(SMALL(IF(ISBLANK(Voucher_Date_1819),\"\",IF(ISNUMBER(Voucher_Date_1819),COUNTIF(Voucher_Date_1819,\"<\"&Voucher_Date_1819),COUNTIF(Voucher_Date_1819,\"<\"&Voucher_Date_1819)+SUM(IF(ISNUMBER(Voucher_Date_1819),1,0))+1)),ROW(A1207)),IF(ISBLANK(Voucher_Date_1819),\"\",IF(ISNUMBER(Voucher_Date_1819),COUNTIF(Voucher_Date_1819,\"<\"&Voucher_Date_1819),COUNTIF(Voucher_Date_1819,\"<\"&Voucher_Date_1819)+SUM(IF(ISNUMBER(Voucher_Date_1819),1,0))+1)),0))","v":{"$error":"#NUM!"}}]
[{"$f":"INDEX(Voucher_Date_1819,MATCH(ROWS('Bill Register 20-21'!$L$3:'Bill Register 20-21'!L1209),COUNTIF(Voucher_Date_1819,\"<=\"&Voucher_Date_1819),0))","v":{"$error":"#N/A"}},{"$f":"INDEX(Voucher_Date_1819,MATCH(SMALL(IF(ISBLANK(Voucher_Date_1819),\"\",IF(ISNUMBER(Voucher_Date_1819),COUNTIF(Voucher_Date_1819,\"<\"&Voucher_Date_1819),COUNTIF(Voucher_Date_1819,\"<\"&Voucher_Date_1819)+SUM(IF(ISNUMBER(Voucher_Date_1819),1,0))+1)),ROW(A1208)),IF(ISBLANK(Voucher_Date_1819),\"\",IF(ISNUMBER(Voucher_Date_1819),COUNTIF(Voucher_Date_1819,\"<\"&Voucher_Date_1819),COUNTIF(Voucher_Date_1819,\"<\"&Voucher_Date_1819)+SUM(IF(ISNUMBER(Voucher_Date_1819),1,0))+1)),0))","v":{"$error":"#NUM!"}}]
[{"$f":"INDEX(Voucher_Date_1819,MATCH(ROWS('Bill Register 20-21'!$L$3:'Bill Register 20-21'!L1210),COUNTIF(Voucher_Date_1819,\"<=\"&Voucher_Date_1819),0))","v":{"$error":"#N/A"}},{"$f":"INDEX(Voucher_Date_1819,MATCH(SMALL(IF(ISBLANK(Voucher_Date_1819),\"\",IF(ISNUMBER(Voucher_Date_1819),COUNTIF(Voucher_Date_1819,\"<\"&Voucher_Date_1819),COUNTIF(Voucher_Date_1819,\"<\"&Voucher_Date_1819)+SUM(IF(ISNUMBER(Voucher_Date_1819),1,0))+1)),ROW(A1209)),IF(ISBLANK(Voucher_Date_1819),\"\",IF(ISNUMBER(Voucher_Date_1819),COUNTIF(Voucher_Date_1819,\"<\"&Voucher_Date_1819),COUNTIF(Voucher_Date_1819,\"<\"&Voucher_Date_1819)+SUM(IF(ISNUMBER(Voucher_Date_1819),1,0))+1)),0))","v":{"$error":"#NUM!"}}]
[{"$f":"INDEX(Voucher_Date_1819,MATCH(ROWS('Bill Register 20-21'!$L$3:'Bill Register 20-21'!L1211),COUNTIF(Voucher_Date_1819,\"<=\"&Voucher_Date_1819),0))","v":{"$error":"#N/A"}},{"$f":"INDEX(Voucher_Date_1819,MATCH(SMALL(IF(ISBLANK(Voucher_Date_1819),\"\",IF(ISNUMBER(Voucher_Date_1819),COUNTIF(Voucher_Date_1819,\"<\"&Voucher_Date_1819),COUNTIF(Voucher_Date_1819,\"<\"&Voucher_Date_1819)+SUM(IF(ISNUMBER(Voucher_Date_1819),1,0))+1)),ROW(A1210)),IF(ISBLANK(Voucher_Date_1819),\"\",IF(ISNUMBER(Voucher_Date_1819),COUNTIF(Voucher_Date_1819,\"<\"&Voucher_Date_1819),COUNTIF(Voucher_Date_1819,\"<\"&Voucher_Date_1819)+SUM(IF(ISNUMBER(Voucher_Date_1819),1,0))+1)),0))","v":{"$error":"#NUM!"}}]
[{"$f":"INDEX(Voucher_Date_1819,MATCH(ROWS('Bill Register 20-21'!$L$3:'Bill Register 20-21'!L1212),COUNTIF(Voucher_Date_1819,\"<=\"&Voucher_Date_1819),0))","v":{"$error":"#N/A"}},{"$f":"INDEX(Voucher_Date_1819,MATCH(SMALL(IF(ISBLANK(Voucher_Date_1819),\"\",IF(ISNUMBER(Voucher_Date_1819),COUNTIF(Voucher_Date_1819,\"<\"&Voucher_Date_1819),COUNTIF(Voucher_Date_1819,\"<\"&Voucher_Date_1819)+SUM(IF(ISNUMBER(Voucher_Date_1819),1,0))+1)),ROW(A1211)),IF(ISBLANK(Voucher_Date_1819),\"\",IF(ISNUMBER(Voucher_Date_1819),COUNTIF(Voucher_Date_1819,\"<\"&Voucher_Date_1819),COUNTIF(Voucher_Date_1819,\"<\"&Voucher_Date_1819)+SUM(IF(ISNUMBER(Voucher_Date_1819),1,0))+1)),0))","v":{"$error":"#NUM!"}}]
[{"$f":"INDEX(Voucher_Date_1819,MATCH(ROWS('Bill Register 20-21'!$L$3:'Bill Register 20-21'!L1213),COUNTIF(Voucher_Date_1819,\"<=\"&Voucher_Date_1819),0))","v":{"$error":"#N/A"}},{"$f":"INDEX(Voucher_Date_1819,MATCH(SMALL(IF(ISBLANK(Voucher_Date_1819),\"\",IF(ISNUMBER(Voucher_Date_1819),COUNTIF(Voucher_Date_1819,\"<\"&Voucher_Date_1819),COUNTIF(Voucher_Date_1819,\"<\"&Voucher_Date_1819)+SUM(IF(ISNUMBER(Voucher_Date_1819),1,0))+1)),ROW(A1212)),IF(ISBLANK(Voucher_Date_1819),\"\",IF(ISNUMBER(Voucher_Date_1819),COUNTIF(Voucher_Date_1819,\"<\"&Voucher_Date_1819),COUNTIF(Voucher_Date_1819,\"<\"&Voucher_Date_1819)+SUM(IF(ISNUMBER(Voucher_Date_1819),1,0))+1)),0))","v":{"$error":"#NUM!"}}]
[{"$f":"INDEX(Voucher_Date_1819,MATCH(ROWS('Bill Register 20-21'!$L$3:'Bill Register 20-21'!L1214),COUNTIF(Voucher_Date_1819,\"<=\"&Voucher_Date_1819),0))","v":{"$error":"#N/A"}},{"$f":"INDEX(Voucher_Date_1819,MATCH(SMALL(IF(ISBLANK(Voucher_Date_1819),\"\",IF(ISNUMBER(Voucher_Date_1819),COUNTIF(Voucher_Date_1819,\"<\"&Voucher_Date_1819),COUNTIF(Voucher_Date_1819,\"<\"&Voucher_Date_1819)+SUM(IF(ISNUMBER(Voucher_Date_1819),1,0))+1)),ROW(A1213)),IF(ISBLANK(Voucher_Date_1819),\"\",IF(ISNUMBER(Voucher_Date_1819),COUNTIF(Voucher_Date_1819,\"<\"&Voucher_Date_1819),COUNTIF(Voucher_Date_1819,\"<\"&Voucher_Date_1819)+SUM(IF(ISNUMBER(Voucher_Date_1819),1,0))+1)),0))","v":{"$error":"#NUM!"}}]
[{"$f":"INDEX(Voucher_Date_1819,MATCH(ROWS('Bill Register 20-21'!$L$3:'Bill Register 20-21'!L1215),COUNTIF(Voucher_Date_1819,\"<=\"&Voucher_Date_1819),0))","v":{"$error":"#N/A"}},{"$f":"INDEX(Voucher_Date_1819,MATCH(SMALL(IF(ISBLANK(Voucher_Date_1819),\"\",IF(ISNUMBER(Voucher_Date_1819),COUNTIF(Voucher_Date_1819,\"<\"&Voucher_Date_1819),COUNTIF(Voucher_Date_1819,\"<\"&Voucher_Date_1819)+SUM(IF(ISNUMBER(Voucher_Date_1819),1,0))+1)),ROW(A1214)),IF(ISBLANK(Voucher_Date_1819),\"\",IF(ISNUMBER(Voucher_Date_1819),COUNTIF(Voucher_Date_1819,\"<\"&Voucher_Date_1819),COUNTIF(Voucher_Date_1819,\"<\"&Voucher_Date_1819)+SUM(IF(ISNUMBER(Voucher_Date_1819),1,0))+1)),0))","v":{"$error":"#NUM!"}}]
[{"$f":"INDEX(Voucher_Date_1819,MATCH(ROWS('Bill Register 20-21'!$L$3:'Bill Register 20-21'!L1216),COUNTIF(Voucher_Date_1819,\"<=\"&Voucher_Date_1819),0))","v":{"$error":"#N/A"}},{"$f":"INDEX(Voucher_Date_1819,MATCH(SMALL(IF(ISBLANK(Voucher_Date_1819),\"\",IF(ISNUMBER(Voucher_Date_1819),COUNTIF(Voucher_Date_1819,\"<\"&Voucher_Date_1819),COUNTIF(Voucher_Date_1819,\"<\"&Voucher_Date_1819)+SUM(IF(ISNUMBER(Voucher_Date_1819),1,0))+1)),ROW(A1215)),IF(ISBLANK(Voucher_Date_1819),\"\",IF(ISNUMBER(Voucher_Date_1819),COUNTIF(Voucher_Date_1819,\"<\"&Voucher_Date_1819),COUNTIF(Voucher_Date_1819,\"<\"&Voucher_Date_1819)+SUM(IF(ISNUMBER(Voucher_Date_1819),1,0))+1)),0))","v":{"$error":"#NUM!"}}]
[{"$f":"INDEX(Voucher_Date_1819,MATCH(ROWS('Bill Register 20-21'!$L$3:'Bill Register 20-21'!L1217),COUNTIF(Voucher_Date_1819,\"<=\"&Voucher_Date_1819),0))","v":{"$error":"#N/A"}},{"$f":"INDEX(Voucher_Date_1819,MATCH(SMALL(IF(ISBLANK(Voucher_Date_1819),\"\",IF(ISNUMBER(Voucher_Date_1819),COUNTIF(Voucher_Date_1819,\"<\"&Voucher_Date_1819),COUNTIF(Voucher_Date_1819,\"<\"&Voucher_Date_1819)+SUM(IF(ISNUMBER(Voucher_Date_1819),1,0))+1)),ROW(A1216)),IF(ISBLANK(Voucher_Date_1819),\"\",IF(ISNUMBER(Voucher_Date_1819),COUNTIF(Voucher_Date_1819,\"<\"&Voucher_Date_1819),COUNTIF(Voucher_Date_1819,\"<\"&Voucher_Date_1819)+SUM(IF(ISNUMBER(Voucher_Date_1819),1,0))+1)),0))","v":{"$error":"#NUM!"}}]
[{"$f":"INDEX(Voucher_Date_1819,MATCH(ROWS('Bill Register 20-21'!$L$3:'Bill Register 20-21'!L1218),COUNTIF(Voucher_Date_1819,\"<=\"&Voucher_Date_1819),0))","v":{"$error":"#N/A"}},{"$f":"INDEX(Voucher_Date_1819,MATCH(SMALL(IF(ISBLANK(Voucher_Date_1819),\"\",IF(ISNUMBER(Voucher_Date_1819),COUNTIF(Voucher_Date_1819,\"<\"&Voucher_Date_1819),COUNTIF(Voucher_Date_1819,\"<\"&Voucher_Date_1819)+SUM(IF(ISNUMBER(Voucher_Date_1819),1,0))+1)),ROW(A1217)),IF(ISBLANK(Voucher_Date_1819),\"\",IF(ISNUMBER(Voucher_Date_1819),COUNTIF(Voucher_Date_1819,\"<\"&Voucher_Date_1819),COUNTIF(Voucher_Date_1819,\"<\"&Voucher_Date_1819)+SUM(IF(ISNUMBER(Voucher_Date_1819),1,0))+1)),0))","v":{"$error":"#NUM!"}}]
[{"$f":"INDEX(Voucher_Date_1819,MATCH(ROWS('Bill Register 20-21'!$L$3:'Bill Register 20-21'!L1219),COUNTIF(Voucher_Date_1819,\"<=\"&Voucher_Date_1819),0))","v":{"$error":"#N/A"}},{"$f":"INDEX(Voucher_Date_1819,MATCH(SMALL(IF(ISBLANK(Voucher_Date_1819),\"\",IF(ISNUMBER(Voucher_Date_1819),COUNTIF(Voucher_Date_1819,\"<\"&Voucher_Date_1819),COUNTIF(Voucher_Date_1819,\"<\"&Voucher_Date_1819)+SUM(IF(ISNUMBER(Voucher_Date_1819),1,0))+1)),ROW(A1218)),IF(ISBLANK(Voucher_Date_1819),\"\",IF(ISNUMBER(Voucher_Date_1819),COUNTIF(Voucher_Date_1819,\"<\"&Voucher_Date_1819),COUNTIF(Voucher_Date_1819,\"<\"&Voucher_Date_1819)+SUM(IF(ISNUMBER(Voucher_Date_1819),1,0))+1)),0))","v":{"$error":"#NUM!"}}]
[{"$f":"INDEX(Voucher_Date_1819,MATCH(ROWS('Bill Register 20-21'!$L$3:'Bill Register 20-21'!L1220),COUNTIF(Voucher_Date_1819,\"<=\"&Voucher_Date_1819),0))","v":{"$error":"#N/A"}},{"$f":"INDEX(Voucher_Date_1819,MATCH(SMALL(IF(ISBLANK(Voucher_Date_1819),\"\",IF(ISNUMBER(Voucher_Date_1819),COUNTIF(Voucher_Date_1819,\"<\"&Voucher_Date_1819),COUNTIF(Voucher_Date_1819,\"<\"&Voucher_Date_1819)+SUM(IF(ISNUMBER(Voucher_Date_1819),1,0))+1)),ROW(A1219)),IF(ISBLANK(Voucher_Date_1819),\"\",IF(ISNUMBER(Voucher_Date_1819),COUNTIF(Voucher_Date_1819,\"<\"&Voucher_Date_1819),COUNTIF(Voucher_Date_1819,\"<\"&Voucher_Date_1819)+SUM(IF(ISNUMBER(Voucher_Date_1819),1,0))+1)),0))","v":{"$error":"#NUM!"}}]
[{"$f":"INDEX(Voucher_Date_1819,MATCH(ROWS('Bill Register 20-21'!$L$3:'Bill Register 20-21'!L1221),COUNTIF(Voucher_Date_1819,\"<=\"&Voucher_Date_1819),0))","v":{"$error":"#N/A"}},{"$f":"INDEX(Voucher_Date_1819,MATCH(SMALL(IF(ISBLANK(Voucher_Date_1819),\"\",IF(ISNUMBER(Voucher_Date_1819),COUNTIF(Voucher_Date_1819,\"<\"&Voucher_Date_1819),COUNTIF(Voucher_Date_1819,\"<\"&Voucher_Date_1819)+SUM(IF(ISNUMBER(Voucher_Date_1819),1,0))+1)),ROW(A1220)),IF(ISBLANK(Voucher_Date_1819),\"\",IF(ISNUMBER(Voucher_Date_1819),COUNTIF(Voucher_Date_1819,\"<\"&Voucher_Date_1819),COUNTIF(Voucher_Date_1819,\"<\"&Voucher_Date_1819)+SUM(IF(ISNUMBER(Voucher_Date_1819),1,0))+1)),0))","v":{"$error":"#NUM!"}}]
[{"$f":"INDEX(Voucher_Date_1819,MATCH(ROWS('Bill Register 20-21'!$L$3:'Bill Register 20-21'!L1222),COUNTIF(Voucher_Date_1819,\"<=\"&Voucher_Date_1819),0))","v":{"$error":"#N/A"}},{"$f":"INDEX(Voucher_Date_1819,MATCH(SMALL(IF(ISBLANK(Voucher_Date_1819),\"\",IF(ISNUMBER(Voucher_Date_1819),COUNTIF(Voucher_Date_1819,\"<\"&Voucher_Date_1819),COUNTIF(Voucher_Date_1819,\"<\"&Voucher_Date_1819)+SUM(IF(ISNUMBER(Voucher_Date_1819),1,0))+1)),ROW(A1221)),IF(ISBLANK(Voucher_Date_1819),\"\",IF(ISNUMBER(Voucher_Date_1819),COUNTIF(Voucher_Date_1819,\"<\"&Voucher_Date_1819),COUNTIF(Voucher_Date_1819,\"<\"&Voucher_Date_1819)+SUM(IF(ISNUMBER(Voucher_Date_1819),1,0))+1)),0))","v":{"$error":"#NUM!"}}]
[{"$f":"INDEX(Voucher_Date_1819,MATCH(ROWS('Bill Register 20-21'!$L$3:'Bill Register 20-21'!L1223),COUNTIF(Voucher_Date_1819,\"<=\"&Voucher_Date_1819),0))","v":{"$error":"#N/A"}},{"$f":"INDEX(Voucher_Date_1819,MATCH(SMALL(IF(ISBLANK(Voucher_Date_1819),\"\",IF(ISNUMBER(Voucher_Date_1819),COUNTIF(Voucher_Date_1819,\"<\"&Voucher_Date_1819),COUNTIF(Voucher_Date_1819,\"<\"&Voucher_Date_1819)+SUM(IF(ISNUMBER(Voucher_Date_1819),1,0))+1)),ROW(A1222)),IF(ISBLANK(Voucher_Date_1819),\"\",IF(ISNUMBER(Voucher_Date_1819),COUNTIF(Voucher_Date_1819,\"<\"&Voucher_Date_1819),COUNTIF(Voucher_Date_1819,\"<\"&Voucher_Date_1819)+SUM(IF(ISNUMBER(Voucher_Date_1819),1,0))+1)),0))","v":{"$error":"#NUM!"}}]
[{"$f":"INDEX(Voucher_Date_1819,MATCH(ROWS('Bill Register 20-21'!$L$3:'Bill Register 20-21'!L1224),COUNTIF(Voucher_Date_1819,\"<=\"&Voucher_Date_1819),0))","v":{"$error":"#N/A"}},{"$f":"INDEX(Voucher_Date_1819,MATCH(SMALL(IF(ISBLANK(Voucher_Date_1819),\"\",IF(ISNUMBER(Voucher_Date_1819),COUNTIF(Voucher_Date_1819,\"<\"&Voucher_Date_1819),COUNTIF(Voucher_Date_1819,\"<\"&Voucher_Date_1819)+SUM(IF(ISNUMBER(Voucher_Date_1819),1,0))+1)),ROW(A1223)),IF(ISBLANK(Voucher_Date_1819),\"\",IF(ISNUMBER(Voucher_Date_1819),COUNTIF(Voucher_Date_1819,\"<\"&Voucher_Date_1819),COUNTIF(Voucher_Date_1819,\"<\"&Voucher_Date_1819)+SUM(IF(ISNUMBER(Voucher_Date_1819),1,0))+1)),0))","v":{"$error":"#NUM!"}}]
["endline","endline","endline","endline","endline","endline","endline","endline","endline","endline","endline","endline","endline"]

{"sheet":"error","index":11,"n_rows":3,"n_cols":10,"rows_kept":3,"cut":false,"hidden":true,"merged":[]}
[{"$error":"#VALUE!"},"301","29/06/2015",0,"","2202-02-001-01-00  / N  /  V  /  11","11","Advertisement, Sale and Publicity Expenses",974,974]
[{"$error":"#VALUE!"},"302","29/06/2015",0,"","2202-02-001-01-00  / N  /  V  /  11","11","Advertisement, Sale and Publicity Expenses",990,990]
[{"$error":"#VALUE!"},"303","29/06/2015",0,"","2202-02-101-01-00  / N  /  V  /  11","11","Advertisement, Sale and Publicity Expenses",2919,2919]