{"text_format":"1","workbook":"xlsx","n_sheets":25,"sheets":["Profile","rrr 08","rrr 09","P-9","saranas Lekha","Sharans PD","FIX","P1","Sheet1","P-5 PD","P-07","P-14","PD 24-25","pd 31.08.25","EPI-A","EPI-B","P-04","P-03","P-05","P-1B","rrr10","L-1-2","CHALAN","retier","List ALL EMP"],"not_rendered":{"charts":0,"images":0,"macros":0,"external_links":1,"defined_names":19,"comments":2,"pivot_tables":0},"unopened":[],"bounds":{"document_bytes":16777216,"sheet_cells":100000,"rows_first":2000,"rows_last":500,"rows_between":2000,"halvings":0,"cell_chars":16384,"cell_head_chars":4096},"cells_cut":0,"cells_raw":0,"read":"whole","date_system":"1900"}

{"sheet":"Profile","index":0,"n_rows":501,"n_cols":46,"rows_kept":501,"cut":false,"hidden":false,"merged":[[0,36,1,39],[2,37,3,37],[14,2,14,3],[15,0,15,1],[16,0,16,1],[15,2,15,3],[3,2,3,4],[0,0,0,1],[0,2,0,8],[1,2,1,4],[6,5,6,6],[7,5,7,6],[8,5,8,6],[9,5,9,6],[10,2,10,3],[9,2,9,3],[2,38,2,39],[2,0,2,1],[5,6,5,7],[11,2,11,3],[11,0,11,1],[13,5,13,6],[14,5,14,6],[28,2,29,2],[28,3,29,3],[28,10,29,10],[28,11,29,11],[18,1,18,4],[18,5,19,5],[27,38,28,38],[27,39,28,39],[27,40,27,44],[26,43,26,44],[18,6,19,6],[18,7,19,7],[18,8,19,8],[19,1,19,4],[18,37,18,41],[27,13,29,13],[27,14,29,14],[27,15,29,15],[27,37,29,37],[27,22,29,22],[27,23,29,23],[27,24,29,24],[27,25,29,25],[27,26,29,26],[17,0,17,11],[3,0,3,1],[4,0,4,1],[18,9,19,9],[18,10,19,10],[11,7,11,8],[12,5,12,6],[5,9,5,10],[4,9,4,11],[10,10,10,37],[12,11,14,11],[12,37,12,38],[14,37,14,38],[18,11,19,11],[16,2,16,3],[16,37,17,41],[8,2,8,3],[7,0,7,1],[7,2,7,3],[7,4,15,4],[13,2,13,3],[12,2,12,3],[4,6,4,8],[3,6,3,7],[320,8,320,12],[321,8,321,12],[317,1,317,7],[317,8,317,12],[319,1,319,7],[319,8,319,12],[318,1,318,7],[318,8,318,12],[316,1,316,7],[316,8,316,12],[311,17,313,17],[308,1,308,7],[309,1,309,7],[45,13,46,13],[45,14,46,14],[45,15,46,15],[45,7,45,8],[45,9,46,9],[45,10,46,10],[45,11,45,12],[46,7,46,8],[45,4,46,4],[312,8,312,12],[310,1,310,7],[311,1,311,7],[311,8,311,12],[312,1,312,7],[313,1,313,7],[313,8,313,12],[45,2,45,3],[315,1,315,7],[315,8,315,12],[486,7,487,7],[27,5,27,7],[27,8,27,9],[27,2,27,4],[27,10,27,11],[324,1,324,7],[324,8,324,12],[322,1,322,7],[322,8,322,12],[320,1,320,7],[323,1,323,7],[323,8,323,12],[41,0,41,1],[28,0,29,0],[28,1,29,1],[28,4,29,4],[28,5,29,5],[28,6,29,6],[28,8,29,8],[28,9,29,9],[314,1,314,7],[314,8,314,12],[45,37,46,37],[42,13,42,14],[43,14,43,15],[45,0,46,0],[45,1,46,1],[45,5,46,5],[45,6,46,6],[42,0,42,4],[43,3,43,6],[43,0,43,2],[44,0,44,17],[45,17,45,21],[498,0,498,1],[499,0,499,1],[500,0,500,1],[489,7,489,8],[489,0,489,1],[490,0,490,1],[491,0,491,1],[492,0,492,1],[493,0,493,1],[494,0,494,1],[495,0,495,1],[496,0,496,1],[497,0,497,1],[491,7,491,8],[486,0,486,1],[487,0,487,1],[488,0,488,1],[483,7,483,8],[326,1,326,7],[326,8,326,12],[2,36,3,36],[18,36,19,36],[18,35,19,35],[27,16,29,16],[27,17,29,17],[27,18,29,18],[27,19,29,19],[27,20,29,20],[27,21,29,21],[27,31,29,31],[27,32,29,32],[27,33,29,33],[27,34,29,34],[27,35,29,35],[27,36,29,36],[45,36,46,36],[325,1,325,7],[325,8,325,12],[27,27,29,27],[27,28,29,28],[27,29,29,29],[27,30,29,30],[488,7,488,8],[490,7,490,8],[484,7,485,7],[485,0,485,1],[1,0,1,1],[20,1,20,4],[21,1,21,4],[22,1,22,4],[23,1,23,4],[24,1,24,4],[25,1,25,4],[1,6,1,8],[8,0,8,1],[9,0,9,1],[10,0,10,1],[12,0,14,1],[2,2,2,4],[5,2,5,4],[10,5,10,6]]}
["dk;kZy;&",null,"eq[; CykWd f'k{kk vf/kdkjh] lexz f'k{kk] chdkusj",null,null,null,null,null,null,null,null,null,null,null,null,null,null,null,null,null,null,null,null,null,null,null,null,null,null,null,null,null,null,null,null,null,"सीसीए की राशि (रु. प्रति माह) "]
["eksgj&",null,"Budget Estemate",null,null,"foHkkx dk uke"," izkjfEHkd f'k{kk foHkkx"]
["eq[; CykWd f'k{kk vf/kdkjh",null,"2202-01-197-16-01",null,null,"vkWfQl vkbZMh","uke MhMhvks ",null,"uEcj",null,null,null,null,null,null,null,null,null,null,null,null,null,null,null,null,null,null,null,null,null,null,null,null,null,null,null,"क्र.सं","मूल वेतन यानी वेतन मैट्रिक्स में निर्धारित स्तरों में लिया जाने वाला वेतन","सीसीए की राशि (रु. प्रति माह)"]
["lexz f'k{kk",null,"ctV en eq[; 'kh\"kZ",null,null,1451,"euh\"kk vjksM+k",null,1234567890,null,null,null,null,null,null,null,null,null,null,null,null,null,null,null,null,null,null,null,null,null,null,null,null,null,null,null,null,null,"जयपुर (यूए)","अजमेर, बीकानेर, जोधपुर और कोटा"]
["chdkusj",null,null,null,null,"dk;kZy; dh nwjHkk\"k la[;k dksM lfgr","lgk-ys[kkf/kdkjh f}rh; ",null,null,"ofj\"B fyfid@lacfU/kr dkfeZd",null,null,null,null,null,null,null,null,null,null,null,null,null,null,null,null,null,null,null,null,null,null,null,null,null,null,1,"वेतन मैट्रिक्स में 23100/- तक मूल वेतन पाने वाले कर्मचारी","620/-","320/-"]
[null,null,"UnProtect All Worksheet PASSWORD -   sumit",null,null,"0151-2226567","eksgEen vtht HkkVh",null,9460701805,"gtkjh jke rMZ",null,9667576332,null,null,null,null,null,null,null,null,null,null,null,null,null,null,null,null,null,null,null,null,null,null,null,null,2,"23100/- से ऊपर वेतन मैट्रिक्स में मूल वेतन पाने वाला कर्मचारी","1000/-","620/-"]
[null,null,null,null,null,"onhZ HkRrk iq:\"k dkfeZd la[;k",null,0,"jkf'k izfr o\"kZ",2000,{"$f":"J7*H7","v":0},{"$f":"K7+K8","v":0}]
["ihMh [kkrk la[;k %&",null,762,null,null,"onhZ HkRrk efgyk dkfeZd la[;k",null,0,"jkf'k izfr o\"kZ",2350,{"$f":"J8*H8","v":0}]
["vkxkeh osru o`f} fnukad %&",null,"2026-07-01",null,null,"cksul dkfeZdks dh la[;k",null,64,"jkf'k izfr o\"kZ",6774,"vf/kd tkudkjh ds fy, bl youtube link ;k JOURNEY SUMIT GIRI youtube channel dk bLrseky djsa"]
["Ldhe dk uke %&",null,"LVsV Q.M",null,null,"dSf'k;j HkRrk dkfeZd dh la[;k",null,0,"jkf'k izfr ekg",300,null,null,"bl fyad dks dkWih djds xqxy esa vkWiu djus ds ckn ;wV~;wc pSuy ij fofM;ks ns[kss "]
["ekax la[;k %&",null,24,null,null,"f};kax dkfeZdksa dh la[;k",null,2,"jkf'k izfr ekg",1200,"https://youtu.be/dN7M4uHGLqE"]
["ctV Lohd`fr esa dk;kZy; dh Ø-la-",null,11,null,null,null,null,"/kqykbzZ HkRrk jkf'k izfr ekg",null,200]
["foHkkx dk uke %&",null,null,null,null,"(CCA) 'kgjh {kfriwfrZ dkfeZd la[;k",null,0,"jkf'k izfr ekg",320,{"$f":"H13*J13","v":0},{"$f":"K13+K14+K15","v":0},null,null,null,null,null,null,null,null,null,null,null,null,null,null,null,null,null,null,null,null,null,null,null,null,null,"JOUREY SUMIT GIRI"]
[null,null,{"$f":"G2","v":" izkjfEHkd f'k{kk foHkkx"},null,null,"(CCA) 'kgjh {kfriwfrZ dkfeZd la[;k",null,0,"jkf'k izfr ekg",620,{"$f":"H14*J14","v":0}]
[null,null,null,null,null,"(CCA) 'kgjh {kfriwfrZ dkfeZd la[;k",null,0,"jkf'k izfr ekg",1000,0,null,null,null,null,null,null,null,null,null,null,null,null,null,null,null,null,null,null,null,null,null,null,null,null,null,null,"sumitgiri777"]
["orZeku o\"kZ %&",null,"2025-26"]
["vkxkeh o\"kZ %&",null,"2026-27",null,"Arear Month",2,"egaxkbZ HkÙkk nj",0.55000000000000004,"DA Arr.",0,"HRA",0.1,null,null,null,null,null,null,null,null,null,null,null,null,null,null,null,null,null,null,null,null,null,null,null,null,null,"This year"]
[]
["xr rhu o\"ksksZa ds vk; ,oa O;; dk fooj.k","gsM",null,null,null,"2022-23","2023-24","2024-25","08/24 to 03/25","04/25 to 07/25","la'kksf/kr vuqeku 08@2025 ls 03@2026","vk; vuqeku 2026&2027",null,null,null,null,null,null,null,null,null,null,null,null,null,null,null,null,null,null,null,null,null,null,null,"Ø-la-","fooj.k","12& lgk;rkFkZ vuqnku xSj laosru",null,null,null,null,"92&lgk;rkFkZ vuqnku"]
["vk;",null,null,null,null,null,null,null,null,null,null,null,null,null,null,null,null,null,null,null,null,null,null,null,null,null,null,null,null,null,null,null,null,null,null,null,null,";k=k O;;","fpfdRlk O;;","dk;kZy; O;;","ofnZ;k",";ksx","laosru"]
["f'k{k.k 'kqYd",{"$f":"$C$3","v":"2202-01-197-16-01"},null,null,null,0,0,0,0,0,0,0,null,null,null,null,null,null,null,null,null,null,null,null,null,null,null,null,null,null,null,null,null,null,null,1,2,3,4,5,6,7,8]
["Vh-lh-",{"$f":"$C$3","v":"2202-01-197-16-01"},null,null,null,0,0,0,0,0,0,0,null,null,null,null,null,null,null,null,null,null,null,null,null,null,null,null,null,null,null,null,null,null,null,1,"01-04-2025 dk 'ks\"k",{"$f":"AO35","v":325437},16424,26483,23000,{"$f":"SUM(AL22:AO22)","v":391344},2607934]
["izos'k 'kqYd","2202-01-197-16-01",null,null,null,0,0,0,0,0,0,0,null,null,null,null,null,null,null,null,null,null,null,null,null,null,null,null,null,null,null,null,null,null,null,2,"foRrh; o\"kZ 2025&26 esa izkIr jkf'k",0,0,20000,0,20000,42754470]
["vuqi;ksxh lkeku ds fuLrkj.k ls vk;","2202-01-197-16-01",null,null,null,0,0,0,0,0,0,0,null,null,null,null,null,null,null,null,null,null,null,null,null,null,null,null,null,null,null,null,null,null,null,3,";ksx",{"$f":"SUM(AL22:AL23)","v":325437},{"$f":"SUM(AM22:AM23)","v":16424},{"$f":"SUM(AN22:AN23)","v":46483},{"$f":"SUM(AO22:AO23)","v":23000},411344,{"$f":"SUM(AQ22:AQ23)","v":45362404}]
["fofo/k","2202-01-197-16-01",null,null,null,0,0,0,0,0,0,0,null,null,null,null,null,null,null,null,null,null,null,null,null,null,null,null,null,null,null,null,null,null,null,4,"foRrh; o\"kZ 2025&26 esa O;; jkf'k",0,0,51347,0,51347,31640346]
["vU;","2202-01-197-16-01",null,null,null,0,0,0,0,0,0,0,null,null,null,null,null,null,null,null,null,null,null,null,null,null,null,null,null,null,null,null,null,null,null,5,"31-08-2025 dks 'ks\"k jkf'k",{"$f":"AL24-AL25","v":325437},{"$f":"AM24-AM25","v":16424},{"$f":"AN24-AN25","v":-4864},{"$f":"AO24-AO25","v":23000},359997,{"$f":"AQ24-AQ25","v":13722058}]
[null,null,null,null,null,null,null,null,null,null,null,null,null,null,null,null,null,null,null,null,null,null,null,null,null,null,null,null,null,null,null,null,null,null,null,null,null,null,null,null,null,null,null,"LAST Year "]
["O;;",null,"Lohd`r ctV 2025&2026",null,null,"[kpksZa dk fooj.k",null,null," O;; 04@25 ls 08@25",null,"yfEcr fcy \n¼out standing Liabilities½",null,null,"lEHkkfor O;; ","vk; vuqeku vkxkeh o\"kZ","04/25 to 08/25","yfEcr fcy \n¼out standing Liabilities½",null,null,null,null,null,null,null,null,null,null,null,null,null,null,null,null,null,null,"dqy ;ksx","la'kksf/kr vuqeku ¼pkyw o\"kZ½ ","vk;&O;; vuqeku ¼vkxkeh o\"kZ½ ","Ø-la-","fooj.k","12& lgk;rkFkZ vuqnku xSj laosru",null,null,null,null,"92&lgk;rkFkZ vuqnku"]
["en","lc gsM","dqy ;ksx","jkT; fuf/k","dsUnzh; lgk;rk",{"$f":"$F$19","v":"2022-23"},{"$f":"$G$19","v":"2023-24"},{"$f":"$H$19","v":"2024-25"},"jkT; fuf/k","dsUnzh; lgk;rk","jkT; fuf/k","dsUnzh; lgk;rk",null,null,null,null,null,null,null,null,null,null,null,null,null,null,null,null,null,null,null,null,null,null,null,null,null,null,null,null,";k=k O;;","fpfdRlk O;;","dk;kZy; O;;","ofnZ;k",";ksx","laosru"]
[null,null,null,null,null,null,null," esa ekpZ dk th-,-19",null,null,null,null,null,null,null,null,null,null,null,null,null,null,null,null,null,null,null,null,null,null,null,null,null,null,null,null,null,null,1,2,3,4,5,6,7,8]
["laosru",1,{"$f":"SUM(D31+E31)","v":0},0,0,0,0,80948599,31640346,0,0,0,null,{"$f":"$O$323","v":84574494},{"$f":"N323","v":86430359},{"$f":"I31+J31","v":31640346},{"$f":"K31+L31","v":0},null,null,null,null,null,null,null,null,null,null,null,null,null,null,null,null,null,null,{"$f":"SUM(Q31+N31)","v":84574494},{"$f":"$O$323","v":84574494},{"$f":"$N$323","v":86430359},1,"01-04-2024 dk 'ks\"k",255437,16424,54070,23000,{"$f":"SUM(AO31:AR31)","v":348931},8733197]
[";k=k O;;",3,{"$f":"SUM(D32+E32)","v":0},0,0,0,0,0,0,0,0,0,null,{"$f":"AK32","v":0},{"$f":"AL32","v":0},{"$f":"I32+J32","v":0},{"$f":"K32+L32","v":0},null,null,null,null,null,null,null,null,null,null,null,null,null,null,null,null,null,null,0,null,null,2,"foRrh; o\"kZ 2024&25 esa izkIr jkf'k",70000,0,60000,0,{"$f":"SUM(AO32:AR32)","v":130000},74823336]
["fpfdRlk O;;",4,0,0,0,0,0,0,0,0,0,0,null,{"$f":"AK33","v":0},{"$f":"AL33","v":0},0,0,null,null,null,null,null,null,null,null,null,null,null,null,null,null,null,null,null,null,0,0,0,3,";ksx",{"$f":"SUM(AO31:AO32)","v":325437},{"$f":"SUM(AP31:AP32)","v":16424},{"$f":"SUM(AQ31:AQ32)","v":114070},{"$f":"SUM(AR31:AR32)","v":23000},478931,{"$f":"SUM(AT31:AT32)","v":83556533}]
["dk;kZy; O;; ¼,eMh,e½",5,0,0,0,0,0,103940,63142,0,0,0,null,0,0,63142,0,null,null,null,null,null,null,null,null,null,null,null,null,null,null,null,null,null,null,0,0,0,4,"foRrh; o\"kZ 2024&25 esa O;; jkf'k",0,0,87587,0,87587,80948599]
["fdjk;k dj jk;fYV",9,0,0,0,0,0,0,0,0,0,0,null,0,0,0,0,null,null,null,null,null,null,null,null,null,null,null,null,null,null,null,null,null,null,0,0,0,5,"31-03-2025 dks 'ks\"k jkf'k",{"$f":"AO33-AO34","v":325437},{"$f":"AP33-AP34","v":16424},{"$f":"AQ33-AQ34","v":26483},{"$f":"AR33-AR34","v":23000},391344,{"$f":"AT33-AT34","v":2607934}]
["fo|qr izFkkj ,oa ty O;;",19,0,0,0,0,0,0,0,0,0,0,null,0,0,0,0,null,null,null,null,null,null,null,null,null,null,null,null,null,null,null,null,null,null,0,0,0]
["iqLrdky;",31,0,0,0,0,0,0,0,0,0,0,null,0,0,0,0,null,null,null,null,null,null,null,null,null,null,null,null,null,null,null,null,null,null,0,0,0]
["iz;ksx'kkyk",33,0,0,0,0,0,0,0,0,0,0,null,0,0,0,0,null,null,null,null,null,null,null,null,null,null,null,null,null,null,null,null,null,null,0,0,0]
["ofnZ;ka",37,0,null,0,0,0,null,null,0,0,0,null,{"$f":"$L$7","v":0},null,0,0,null,null,null,null,null,null,null,null,null,null,null,null,null,null,null,null,null,null,0,{"$f":"$L$7","v":0},{"$f":"$L$7","v":0}]
["vU; izHkkj",28,0,0,0,0,0,0,0,0,0,0,null,{"$f":"AK40","v":0},0,0,0,null,null,null,null,null,null,null,null,null,null,null,null,null,null,null,null,null,null,0,0,0]
["foHkkxh;lsokvksa ij fof'k\"V O;;",57,0,0,0,0,0,0,0,0,0,0,null,{"$f":"AK41","v":0},0,0,0,null,null,null,null,null,null,null,null,null,null,null,null,null,null,null,null,null,null,0,0,0]
[";ksx ",null,{"$f":"SUM(C31:C41)","v":0},{"$f":"SUM(D31:D41)","v":0},0,0,0,81052539,31703488,0,0,0,null,null,null,null,null,null,null,null,null,null,null,null,null,null,null,null,null,null,null,null,null,null,null,null,{"$f":"SUM(AK31:AK41)","v":84574494},86430359]
["o\"kZ 2026&2027 ds fy, jsUt ds vuqlkj laosru dh jkf'k ",null,null,null,null,"OID",{"$f":"$F$4","v":1451},null,null,null,null,null,null,"BE 202-2026"]
["dk;kZy; %&",null,null,{"$f":"$C$1","v":"eq[; CykWd f'k{kk vf/kdkjh] lexz f'k{kk] chdkusj"},null,null,null,{"$f":"$C$3","v":"2202-01-197-16-01"},null,null,{"$f":"$C$10","v":"LVsV Q.M"},null,"2026&2027",null,"RE 2024-2025"]
[]
["ys[kk 'kh\"kZd ¼foLr`r 'kh\"kZ½","Øe la[;k","dkfeZd dk uke",null,"deZpkjh vkbZ Mh","thih,Q@,uih,l@izku uEcj","in","in dk Lohd`r osru",null,"ctV dh izkjfEHkd frfFk ;kfu 1ekpZ 2026 dks deZpkjh dk osru","igyh ekpZ ls vfUre Qjojh ds fy;s fu/kkZfjr jde","o`f) tks bl vof/k esa gksxh",null,"vkxkeh o\"kZ ds fy;s jde ¼dkye 8$10½","pkyw o\"kZ ds fy;s la'kksf/kr vuqeku","fo'ks\"k fooj.k",null,"vkxkeh  osru o`f) fnukad",null,null,null,null,null,null,null,null,null,null,null,null,null,null,null,null,null,null,"la'kksf/kr vuqeku\npkyw o\"kZ","vk; O;;d vuqeku vkxkeh o\"kZ"]
[null,null,"Jh@ \nJherh@ \nlqJh","osruHkksxh deZpkjh dk uke",null,null,null,"xzsM is@ ysoy",null,null,null,"frfFk o`f)","jde o`f)",null,null,null,null,{"$f":"$C$9","v":"2026-07-01"},null,null,null,null,null,null,null,null,null,null,null,null,null,null,null,null,null,null,null,null,"05& adk;kZy; O;;"]
[null,1,null,2,3,14,4,5,6,7,8,9,10,11,12,13,null,null,null,null,null,null,null,null,null,null,null,null,null,null,null,null,null,null,null,null,0,0,"¼1½& Mkd rkj"]
["jktif=r",1,null,null,null,null,",lhchbZvks&1","ysoy",16,0,{"$f":"J49*12","v":0},{"$f":"R47","v":"2026-07-01"},{"$f":"P49*8","v":0},{"$f":"K49+M49","v":0},{"$f":"N49-P49*12","v":0},{"$f":"S49","v":0},null,null,{"$f":"ROUND(T49,-2)","v":0},{"$f":"J49*3/100","v":0},null,{"$f":"Y49-X49","v":-16},{"$f":"IF(R47>=DATE(2017,7,1),CEILING(Y49*3%,10)+V49,V49)","v":-16},{"$f":"I49","v":16},{"$f":"J49","v":0},{"$f":"SUM(W49:X49)","v":0},{"$f":"Z49-Y49","v":0},null,{"$f":"J49","v":0},{"$f":"AC49*3/100","v":0},{"$f":"ROUNDUP(AD49,-1)","v":0},{"$f":"AC49+AE49","v":0},null,null,{"$f":"AF49-J49","v":0},null,0,0,"¼2½& VsyhQksu"]
["jktif=r",2,null,null,null,null,"l0ys0v0&k","ysoy",12,0,{"$f":"J50*12","v":0},{"$f":"L49","v":"2026-07-01"},{"$f":"P50*8","v":0},{"$f":"K50+M50","v":0},{"$f":"N50-P50*12","v":0},{"$f":"S50","v":0},null,null,{"$f":"ROUND(T50,-2)","v":0},{"$f":"J50*3/100","v":0},null,{"$f":"Y50-X50","v":-12},{"$f":"IF(R47>=DATE(2017,7,1),CEILING(Y50*3%,10)+V50,V50)","v":-12},{"$f":"I50","v":12},{"$f":"J50","v":0},{"$f":"SUM(W50:X50)","v":0},{"$f":"Z50-Y50","v":0},null,{"$f":"J50","v":0},{"$f":"AC50*3/100","v":0},{"$f":"ROUNDUP(AD50,-1)","v":0},{"$f":"AC50+AE50","v":0},null,null,{"$f":"AF50-J50","v":0},null,0,0,"¼3½& ikuh fctyh"]
["jktif=r",3,null,null,null,null,"O;k[;krk","ysoy",12,0,0,{"$f":"L49","v":"2026-07-01"},0,0,{"$f":"N51-P51*12","v":0},0,null,null,0,0,null,-12,{"$f":"IF(R47>=DATE(2017,7,1),CEILING(Y51*3%,10)+V51,V51)","v":-12},12,0,0,0,null,0,0,0,0,null,null,0,null,0,0,"¼4½& QuhZpj ejEer"]
["jktif=r",4,null,null,null,null,"O;k[;krk","ysoy",12,0,0,{"$f":"L51","v":"2026-07-01"},{"$f":"P52*8","v":0},{"$f":"K52+M52","v":0},0,0,null,null,0,0,null,-12,{"$f":"IF(R47>=DATE(2017,7,1),CEILING(Y52*3%,10)+V52,V52)","v":-12},12,0,0,0,null,0,0,0,0,null,null,0,null,0,0,"¼5½& dEI;wVj lsok ,oa j[kj[kko"]
["jktif=r",5,null,null,null,null,"O;k[;krk","ysoy",12,0,0,{"$f":"L51","v":"2026-07-01"},0,0,0,0,null,null,0,0,null,-12,{"$f":"IF(R47>=DATE(2017,7,1),CEILING(Y53*3%,10)+V53,V53)","v":-12},12,0,0,{"$f":"Z53-Y53","v":0},null,0,0,0,0,null,null,0,null,0,0,"¼6½  ys[ku@eqnz.k O;;"]
["jktif=r",6,null,null,null,null,"O;k[;krk","ysoy",12,0,0,{"$f":"L53","v":"2026-07-01"},0,0,0,0,null,null,0,0,null,-12,{"$f":"IF(R47>=DATE(2017,7,1),CEILING(Y54*3%,10)+V54,V54)","v":-12},12,{"$f":"J54","v":0},{"$f":"SUM(W54:X54)","v":0},0,null,0,0,0,0,null,null,0,null,0,0,"¼7½  nSfud osruHkksxh ¼U;k;ky; vkns'k ij½"]
["jktif=r",7,null,null,null,null,"iz'kklfud vf/kdkjh","ysoy",12,0,0,{"$f":"L53","v":"2026-07-01"},0,0,0,0,null,null,0,0,null,{"$f":"Y55-X55","v":-12},{"$f":"IF(R47>=DATE(2017,7,1),CEILING(Y55*3%,10)+V55,V55)","v":-12},{"$f":"I55","v":12},0,0,0,null,0,0,0,0,null,null,0,null,0,0,"¼8½  vU; "]
["vjktif=r",1,null,"ANITA SHARMA","RJBI201709025912",556254,"v/;kid","ysoy",10,42700,512400,{"$f":"L55","v":"2026-07-01"},{"$f":"P56*8","v":10400},{"$f":"K56+M56","v":522800},{"$f":"N56-P56*12","v":507200},1300,null,null,1300,1281,null,42690,{"$f":"IF(R47>=DATE(2017,7,1),CEILING(Y56*3%,10)+V56,V56)","v":43980},10,42700,43990,1290,null,42700,1281,1290,43990,null,null,1290,null,{"$f":"SUM(AK48:AK55)","v":0},{"$f":"SUM(AL48:AL55)","v":0},";ksx dk;kZy; O;;"]
["vjktif=r",2,null,"ANITA YADAV","RJGA201235035721",null,"v/;kid","ysoy",10,47900,574800,"2026-07-01",11200,586000,569200,1400,null,null,1400,1437,null,47890,{"$f":"IF(R47>=DATE(2017,7,1),CEILING(Y57*3%,10)+V57,V57)","v":49330},10,47900,49340,1440,null,47900,1437,1440,49340,null,null,1440,null,0,0,"08& o`fÙkd ,oa fof'k\"B lsokvksa ij lank; ¼dksVZ dsl vkfn ij O;;½"]
["vjktif=r",3,null,"ARPANA YADAV","RJJL201921009195",632389,"v/;kid","ysoy",10,38000,456000,"2026-07-01",8800,464800,451600,1100,null,null,1100,1140,null,37990,{"$f":"IF(R47>=DATE(2017,7,1),CEILING(Y58*3%,10)+V58,V58)","v":39130},10,38000,39140,1140,null,38000,1140,1140,39140,null,null,1140,null,0,0,"09& fdjk;k jsV]dj@jk;YVh"]
["vjktif=r",4,null,"ARUNA SWAMI","RJBI201309018501",null,"v/;kid","ysoy",10,46500,558000,"2026-07-01",11200,569200,552400,1400,null,null,1400,1395,null,{"$f":"Y59-X59","v":46490},{"$f":"IF(R47>=DATE(2017,7,1),CEILING(Y59*3%,10)+V59,V59)","v":47890},10,46500,{"$f":"SUM(W59:X59)","v":47900},1400,null,46500,1395,1400,47900,null,null,1400,null,0,0,"11& foKkiu"]
["vjktif=r",5,null,"ASHA KUMARI","RJBM201905006981",null,"v/;kid","ysoy",10,38000,456000,"2026-07-01",8800,464800,451600,1100,null,null,1100,1140,null,{"$f":"Y60-X60","v":37990},{"$f":"IF(R47>=DATE(2017,7,1),CEILING(Y60*3%,10)+V60,V60)","v":39130},10,38000,{"$f":"SUM(W60:X60)","v":39140},1140,null,38000,1140,1140,39140,null,null,1140,null,0,0,"28& fofo/k O;;@57-fof'k\"V lasok,sa"]
["vjktif=r",6,null,"ASHOK KUMAR TANWAR","RJBI199509008339",346443,"v/;kid","ysoy",10,75400,904800,"2026-07-01",18400,923200,895600,2300,null,null,2300,2262,null,{"$f":"Y61-X61","v":75390},{"$f":"IF(R47>=DATE(2017,7,1),CEILING(Y61*3%,10)+V61,V61)","v":77660},10,75400,{"$f":"SUM(W61:X61)","v":77670},2270,null,75400,2262,2270,77670,null,null,2270,null,0,0,"31& iqLrdky; ,oa i= if=dkvksa ij O;;"]
["vjktif=r",7,null,"BABITA SHARMA","RJRA201231034753",null,"v/;kid","ysoy",10,47900,574800,"2026-07-01",11200,586000,569200,1400,null,null,1400,1437,null,{"$f":"Y62-X62","v":47890},{"$f":"IF(R47>=DATE(2017,7,1),CEILING(Y62*3%,10)+V62,V62)","v":49330},10,47900,{"$f":"SUM(W62:X62)","v":49340},{"$f":"Z62-Y62","v":1440},null,47900,1437,1440,49340,null,null,1440,null,0,0,"36& okgu fdjk;k"]
["vjktif=r",8,null,"BABULAL KUMHAR","RJBI201209020700",547277,"v/;kid","ysoy",10,47900,{"$f":"J63*12","v":574800},"2026-07-01",{"$f":"P63*8","v":11200},{"$f":"K63+M63","v":586000},{"$f":"N63-P63*12","v":569200},1400,null,null,1400,1437,null,{"$f":"Y63-X63","v":47890},{"$f":"IF(R47>=DATE(2017,7,1),CEILING(Y63*3%,10)+V63,V63)","v":49330},{"$f":"I63","v":10},{"$f":"J63","v":47900},{"$f":"SUM(W63:X63)","v":49340},{"$f":"Z63-Y63","v":1440},null,{"$f":"J63","v":47900},{"$f":"AC63*3/100","v":1437},{"$f":"ROUNDUP(AD63,-1)","v":1440},{"$f":"AC63+AE63","v":49340},null,null,{"$f":"AF63-J63","v":1440},null,{"$f":"L7","v":0},{"$f":"AK63","v":0},"37& ofnZ;ka "]
["vjktif=r",9,null,"BABURAM DANWA","RJBI200509009391",null,"v/;kid","ysoy",10,61300,735600,"2026-07-01",{"$f":"P64*8","v":14400},750000,{"$f":"N64-P64*12","v":728400},1800,null,null,1800,1839,null,61290,{"$f":"IF(R47>=DATE(2017,7,1),CEILING(Y64*3%,10)+V64,V64)","v":63130},10,61300,63140,1840,null,61300,1839,1840,63140,null,null,1840,null,0,0,"41& lafonk ij O;;"]
["vjktif=r",10,null,"BAJRANG LAL KUMHAR","RJBI201709001567",542161,"v/;kid","ysoy",10,50800,{"$f":"J65*12","v":609600},"2026-07-01",{"$f":"P65*8","v":12000},{"$f":"K65+M65","v":621600},{"$f":"N65-P65*12","v":603600},1500,null,null,1500,1524,null,{"$f":"Y65-X65","v":50790},{"$f":"IF(R47>=DATE(2017,7,1),CEILING(Y65*3%,10)+V65,V65)","v":52320},{"$f":"I65","v":10},{"$f":"J65","v":50800},{"$f":"SUM(W65:X65)","v":52330},{"$f":"Z65-Y65","v":1530},null,{"$f":"J65","v":50800},{"$f":"AC65*3/100","v":1524},{"$f":"ROUNDUP(AD65,-1)","v":1530},{"$f":"AC65+AE65","v":52330},null,null,{"$f":"AF65-J65","v":1530},null,0,0,"62& dEI;wVjkbZts'ku ,oa rRlaca/kh lapkj O;;"]
["vjktif=r",11,null,"BASANT KUMAR GIRI","RJBI201809009748",568725,"v/;kid","ysoy",10,39100,469200,"2026-07-01",9600,478800,464400,1200,null,null,1200,1173,null,{"$f":"Y66-X66","v":39090},{"$f":"IF(R47>=DATE(2017,7,1),CEILING(Y66*3%,10)+V66,V66)","v":40270},10,39100,{"$f":"SUM(W66:X66)","v":40280},1180,null,39100,1173,1180,40280,null,null,1180,null,{"$f":"SUM(AK57:AK65)","v":0},{"$f":"SUM(AL57:AL65)","v":0},";ksx "]
["vjktif=r",12,null,"BHARTI PUROHIT","RJBI200109000410",335938,"v/;kid","ysoy",10,49300,{"$f":"J67*12","v":591600},"2026-07-01",{"$f":"P67*8","v":12000},{"$f":"K67+M67","v":603600},{"$f":"N67-P67*12","v":585600},1500,null,null,1500,1479,null,{"$f":"Y67-X67","v":49290},{"$f":"IF(R47>=DATE(2017,7,1),CEILING(Y67*3%,10)+V67,V67)","v":50770},{"$f":"I67","v":10},{"$f":"J67","v":49300},{"$f":"SUM(W67:X67)","v":50780},{"$f":"Z67-Y67","v":1480},null,{"$f":"J67","v":49300},{"$f":"AC67*3/100","v":1479},{"$f":"ROUNDUP(AD67,-1)","v":1480},{"$f":"AC67+AE67","v":50780},null,null,{"$f":"AF67-J67","v":1480}]
["vjktif=r",13,null,"CHNDU KUMARI","RJBI201209019224",null,"v/;kid","ysoy",10,47900,{"$f":"J68*12","v":574800},"2026-07-01",{"$f":"P68*8","v":11200},{"$f":"K68+M68","v":586000},{"$f":"N68-P68*12","v":569200},1400,null,null,1400,1437,null,{"$f":"Y68-X68","v":47890},{"$f":"IF(R47>=DATE(2017,7,1),CEILING(Y68*3%,10)+V68,V68)","v":49330},{"$f":"I68","v":10},{"$f":"J68","v":47900},{"$f":"SUM(W68:X68)","v":49340},{"$f":"Z68-Y68","v":1440},null,{"$f":"J68","v":47900},{"$f":"AC68*3/100","v":1437},{"$f":"ROUNDUP(AD68,-1)","v":1440},{"$f":"AC68+AE68","v":49340},null,null,{"$f":"AF68-J68","v":1440}]
["vjktif=r",14,null,"CHUNNA SARAN","RJBI201509034080",377519," 'kk-f'k-","ysoy",10,42700,512400,"2026-07-01",10400,522800,507200,1300,null,null,1300,1281,null,42690,{"$f":"IF(R47>=DATE(2017,7,1),CEILING(Y69*3%,10)+V69,V69)","v":43980},10,42700,43990,1290,null,42700,1281,1290,43990,null,null,1290]
["vjktif=r",15,null,"DEEPA BAMNIYA","RJBI201209031330",364589,"v/;kid","ysoy",10,47900,574800,"2026-07-01",11200,586000,569200,1400,null,null,1400,1437,null,47890,{"$f":"IF(R47>=DATE(2017,7,1),CEILING(Y70*3%,10)+V70,V70)","v":49330},10,47900,49340,1440,null,47900,1437,1440,49340,null,null,1440]
["vjktif=r",16,null,"DEVENDER KUMAR GAHALOT","RJBI201309026808",633508,"v/;kid","ysoy",10,47900,574800,"2026-07-01",11200,586000,569200,1400,null,null,1400,1437,null,47890,{"$f":"IF(R47>=DATE(2017,7,1),CEILING(Y71*3%,10)+V71,V71)","v":49330},10,47900,49340,1440,null,47900,1437,1440,49340,null,null,1440]
["vjktif=r",17,null,"DURGA OJHA","RJBI201909003344",null,"v/;kid","ysoy",10,38000,456000,"2026-07-01",8800,464800,451600,1100,null,null,1100,1140,null,37990,{"$f":"IF(R47>=DATE(2017,7,1),CEILING(Y72*3%,10)+V72,V72)","v":39130},10,38000,39140,1140,null,38000,1140,1140,39140,null,null,1140]
["vjktif=r",18,null,"FIZA FATMA","RJBI201709020349",550946,"v/;kid","ysoy",10,39100,{"$f":"J73*12","v":469200},"2026-07-01",{"$f":"P73*8","v":9600},{"$f":"K73+M73","v":478800},{"$f":"N73-P73*12","v":464400},{"$f":"S73","v":1200},null,null,{"$f":"ROUND(T73,-2)","v":1200},{"$f":"J73*3/100","v":1173},null,{"$f":"Y73-X73","v":39090},{"$f":"IF(R47>=DATE(2017,7,1),CEILING(Y73*3%,10)+V73,V73)","v":40270},{"$f":"I73","v":10},{"$f":"J73","v":39100},{"$f":"SUM(W73:X73)","v":40280},1180,null,{"$f":"J73","v":39100},{"$f":"AC73*3/100","v":1173},{"$f":"ROUNDUP(AD73,-1)","v":1180},{"$f":"AC73+AE73","v":40280},null,null,{"$f":"AF73-J73","v":1180}]
["vjktif=r",19,null,"GANESH NARAYAN HARITWAL","RJBI202009025005",null,"v/;kid","ysoy",10,35800,429600,"2026-07-01",8800,438400,425200,1100,null,null,1100,1074,null,35790,{"$f":"IF(R47>=DATE(2017,7,1),CEILING(Y74*3%,10)+V74,V74)","v":36870},10,35800,36880,1080,null,35800,1074,1080,36880,null,null,1080]
["vjktif=r",20,null,"GAUTAM JAJRA","RJBI201209022599",377279,"v/;kid","ysoy",10,47900,574800,"2026-07-01",11200,586000,569200,1400,null,null,1400,1437,null,47890,{"$f":"IF(R47>=DATE(2017,7,1),CEILING(Y75*3%,10)+V75,V75)","v":49330},10,47900,49340,1440,null,47900,1437,1440,49340,null,null,1440]
["vjktif=r",21,null,"INDU BALA","RJBI201909033830",null,"v/;kid","ysoy",10,36900,442800,"2026-07-01",8800,451600,438400,1100,null,null,1100,1107,null,36890,{"$f":"IF(R47>=DATE(2017,7,1),CEILING(Y76*3%,10)+V76,V76)","v":38000},10,36900,38010,{"$f":"Z76-Y76","v":1110},null,36900,1107,1110,38010,null,null,1110]
["vjktif=r",22,null,"JAGDISH PRASAD","RJJL201221024594",557865,"v/;kid","ysoy",10,42700,512400,"2026-07-01",10400,522800,507200,1300,null,null,1300,1281,null,42690,{"$f":"IF(R47>=DATE(2017,7,1),CEILING(Y77*3%,10)+V77,V77)","v":43980},10,42700,43990,1290,null,42700,1281,1290,43990,null,null,1290]
["vjktif=r",23,null,"KAMLA NAYAK","RJJS200720011537",358515,"v/;kid","ysoy",10,52300,627600,"2026-07-01",12800,640400,621200,1600,null,null,1600,1569,null,52290,{"$f":"IF(R47>=DATE(2017,7,1),CEILING(Y78*3%,10)+V78,V78)","v":53860},10,52300,53870,1570,null,52300,1569,1570,53870,null,null,1570]
["vjktif=r",24,null,"KAUSHALYA SAINI","RJBM201905011981",632428,"v/;kid","ysoy",10,38000,456000,"2026-07-01",8800,464800,451600,1100,null,null,1100,1140,null,37990,{"$f":"IF(R47>=DATE(2017,7,1),CEILING(Y79*3%,10)+V79,V79)","v":39130},10,38000,39140,1140,null,38000,1140,1140,39140,null,null,1140]
["vjktif=r",25,null,"KAVITA RANI","RJBI200809006536",377192,"v/;kid","ysoy",10,50800,609600,"2026-07-01",12000,621600,603600,1500,null,null,1500,1524,null,50790,{"$f":"IF(R47>=DATE(2017,7,1),CEILING(Y80*3%,10)+V80,V80)","v":52320},10,50800,52330,1530,null,50800,1524,1530,52330,null,null,1530]
["vjktif=r",26,null,"KAVITA YADAV","RJBM201905011901",632166,"v/;kid","ysoy",10,36900,442800,"2026-07-01",8800,451600,438400,1100,null,null,1100,1107,null,{"$f":"Y81-X81","v":36890},{"$f":"IF(R47>=DATE(2017,7,1),CEILING(Y81*3%,10)+V81,V81)","v":38000},{"$f":"I81","v":10},{"$f":"J81","v":36900},{"$f":"SUM(W81:X81)","v":38010},{"$f":"Z81-Y81","v":1110},null,36900,1107,1110,38010,null,null,1110]
["vjktif=r",27,null,"KHUSHBOO","RJBM200705007645",403195,"v/;kid","ysoy",10,52300,627600,"2026-07-01",12800,640400,621200,1600,null,null,1600,1569,null,52290,{"$f":"IF(R47>=DATE(2017,7,1),CEILING(Y82*3%,10)+V82,V82)","v":53860},10,52300,53870,1570,null,52300,1569,1570,53870,null,null,1570]
["vjktif=r",28,null,"KRISHAN KUMAR KHATRI","RJBI199509008763",null,"v/;kid","ysoy",10,75400,904800,"2026-07-01",18400,923200,895600,2300,null,null,2300,2262,null,75390,{"$f":"IF(R47>=DATE(2017,7,1),CEILING(Y83*3%,10)+V83,V83)","v":77660},10,75400,77670,2270,null,75400,2262,2270,77670,null,null,2270]
["vjktif=r",29,null,"LALITA PARIHAR","RJBI201209019214",null,"v/;kid","ysoy",10,47900,574800,"2026-07-01",11200,586000,569200,1400,null,null,1400,1437,null,47890,{"$f":"IF(R47>=DATE(2017,7,1),CEILING(Y84*3%,10)+V84,V84)","v":49330},10,47900,49340,1440,null,47900,1437,1440,49340,null,null,1440]
["vjktif=r",30,null,"LALITA SANKHALA","RJBI201909016012",599151,"v/;kid","ysoy",10,38000,456000,"2026-07-01",8800,464800,451600,1100,null,null,1100,1140,null,37990,{"$f":"IF(R47>=DATE(2017,7,1),CEILING(Y85*3%,10)+V85,V85)","v":39130},10,38000,39140,1140,null,38000,1140,1140,39140,null,null,1140]
["vjktif=r",31,null,"LAXMAN SINGH SANKHLA","RJBI200509015139",null,"v/;kid","ysoy",10,61300,735600,"2026-07-01",14400,750000,728400,1800,null,null,1800,1839,null,61290,{"$f":"IF(R47>=DATE(2017,7,1),CEILING(Y86*3%,10)+V86,V86)","v":63130},10,61300,63140,1840,null,61300,1839,1840,63140,null,null,1840]
["vjktif=r",32,null,"LAXMI BENIWAL","RJBI201709041566",556231,"v/;kid","ysoy",10,42700,512400,"2026-07-01",10400,522800,507200,1300,null,null,1300,1281,null,42690,{"$f":"IF(R47>=DATE(2017,7,1),CEILING(Y87*3%,10)+V87,V87)","v":43980},10,42700,43990,1290,null,42700,1281,1290,43990,null,null,1290]
["vjktif=r",33,null,"LEKHNATH SIDH","RJBI202009025020",null,"v/;kid","ysoy",10,35800,429600,"2026-07-01",8800,438400,425200,1100,null,null,1100,1074,null,35790,{"$f":"IF(R47>=DATE(2017,7,1),CEILING(Y88*3%,10)+V88,V88)","v":36870},10,35800,36880,1080,null,35800,1074,1080,36880,null,null,1080]
["vjktif=r",34,null,"MANGI LAL","RJJS200720011017",338313,"v/;kid","ysoy",10,52300,627600,"2026-07-01",12800,640400,621200,1600,null,null,1600,1569,null,52290,{"$f":"IF(R47>=DATE(2017,7,1),CEILING(Y89*3%,10)+V89,V89)","v":53860},10,52300,53870,1570,null,52300,1569,1570,53870,null,null,1570]
["vjktif=r",35,null,"MANJU CHAUDHARI","RJBI201709025922",556241,"v/;kid","ysoy",10,42700,512400,"2026-07-01",10400,522800,507200,1300,null,null,1300,1281,null,42690,{"$f":"IF(R47>=DATE(2017,7,1),CEILING(Y90*3%,10)+V90,V90)","v":43980},10,42700,43990,1290,null,42700,1281,1290,43990,null,null,1290]
["vjktif=r",36,null,"MEENA PUNJABI","RJBI199609003728",532729,"v/;kid","ysoy",10,67000,804000,"2026-07-01",16000,820000,796000,2000,null,null,2000,2010,null,66990,{"$f":"IF(R47>=DATE(2017,7,1),CEILING(Y91*3%,10)+V91,V91)","v":69000},10,67000,69010,2010,null,67000,2010,2010,69010,null,null,2010]
["vjktif=r",37,null,"MINAKSHI","RJBI201509005231",502709,"v/;kid","ysoy",10,45100,541200,"2026-07-01",11200,552400,535600,1400,null,null,1400,1353,null,45090,{"$f":"IF(R47>=DATE(2017,7,1),CEILING(Y92*3%,10)+V92,V92)","v":46450},10,45100,46460,1360,null,45100,1353,1360,46460,null,null,1360]
["vjktif=r",38,null,"MINAKSHI SANKHLA","RJJO200725006788",496421,"v/;kid","ysoy",10,52300,627600,"2026-07-01",12800,640400,621200,1600,null,null,1600,1569,null,52290,{"$f":"IF(R47>=DATE(2017,7,1),CEILING(Y93*3%,10)+V93,V93)","v":53860},10,52300,53870,1570,null,52300,1569,1570,53870,null,null,1570]
["vjktif=r",39,null,"MINAXI TANWAR","RJJL201921002461",null,"v/;kid","ysoy",10,38000,456000,"2026-07-01",8800,464800,451600,1100,null,null,1100,1140,null,37990,{"$f":"IF(R47>=DATE(2017,7,1),CEILING(Y94*3%,10)+V94,V94)","v":39130},10,38000,39140,1140,null,38000,1140,1140,39140,null,null,1140]
["vjktif=r",40,null,"MUKTA RANI","RJBI201709039550",563425," 'kk-f'k-","ysoy",10,45100,541200,"2026-07-01",11200,552400,535600,1400,null,null,1400,1353,null,45090,{"$f":"IF(R47>=DATE(2017,7,1),CEILING(Y95*3%,10)+V95,V95)","v":46450},10,45100,46460,1360,null,45100,1353,1360,46460,null,null,1360]
["vjktif=r",41,null,"ONKAR SINGH RATHORE","RJBI199309008951",359704,"v/;kid","ysoy",10,71100,853200,"2026-07-01",16800,870000,844800,2100,null,null,2100,2133,null,71090,{"$f":"IF(R47>=DATE(2017,7,1),CEILING(Y96*3%,10)+V96,V96)","v":73230},10,71100,73240,2140,null,71100,2133,2140,73240,null,null,2140]
["vjktif=r",42,null,"PRAVEEN SINGH SHEKHAWAT","RJJL201521004887",null,"v/;kid","ysoy",10,45100,541200,"2026-07-01",11200,552400,535600,1400,null,null,1400,1353,null,45090,{"$f":"IF(R47>=DATE(2017,7,1),CEILING(Y97*3%,10)+V97,V97)","v":46450},10,{"$f":"J97","v":45100},{"$f":"SUM(W97:X97)","v":46460},1360,null,45100,1353,1360,46460,null,null,1360]
["vjktif=r",43,null,"PUNAM KUMARI RAO","RJBI201709037445",564123,"v/;kid","ysoy",10,42700,512400,"2026-07-01",10400,522800,507200,1300,null,null,1300,1281,null,42690,{"$f":"IF(R48>=DATE(2017,7,1),CEILING(Y98*3%,10)+V98,V98)","v":42690},10,42700,42700,0,null,42700,1281,1290,43990,null,null,1290]
["vjktif=r",44,null,"RAJA RAM","RJBM200705007810",505952,"v/;kid","ysoy",10,52300,627600,"2026-07-01",12800,640400,621200,1600,null,null,1600,1569,null,52290,52290,10,52300,52300,0,null,52300,1569,1570,53870,null,null,1570]
["vjktif=r",45,null,"RAJENDRA KUMAR JANAGAL","RJBI200809002855",398773,"v/;kid","ysoy",10,50800,609600,"2026-07-01",12000,621600,603600,1500,null,null,1500,1524,null,50790,50790,10,50800,50800,0,null,50800,1524,1530,52330,null,null,1530]
["vjktif=r",46,null,"RAJLAXMI MODI","RJBM200705003128",542309,"v/;kid","ysoy",10,52300,627600,"2026-07-01",12800,640400,621200,1600,null,null,1600,1569,null,52290,52290,10,52300,52300,0,null,52300,1569,1570,53870,null,null,1570]
["vjktif=r",47,null,"RAKHI DADHICH","RJBI201309034482",532945,"v/;kid","ysoy",10,46500,558000,"2026-07-01",11200,569200,552400,1400,null,null,1400,1395,null,46490,46490,10,46500,46500,0,null,46500,1395,1400,47900,null,null,1400]
["vjktif=r",48,null,"RAM DAYAL JAKHAR","RJBI201509031406",377835,"v/;kid","ysoy",10,45100,541200,"2026-07-01",11200,552400,535600,1400,null,null,1400,1353,null,45090,45090,10,45100,45100,0,null,45100,1353,1360,46460,null,null,1360]
["vjktif=r",49,null,"RENU KUMARI","RJBI201709020304",550940,"v/;kid","ysoy",10,39100,469200,"2026-07-01",9600,478800,464400,1200,null,null,1200,1173,null,39090,39090,10,39100,39100,0,null,39100,1173,1180,40280,null,null,1180]
["vjktif=r",50,null,"RUCHI BHARDWAJ","RJBI201809047210",587691,"v/;kid","ysoy",10,38000,456000,"2026-07-01",8800,464800,451600,1100,null,null,1100,1140,null,37990,37990,10,38000,38000,0,null,38000,1140,1140,39140,null,null,1140]
["vjktif=r",51,null,"RUPALI TYAGI","RJBI201909014914",610256,"v/;kid","ysoy",10,38000,456000,"2026-07-01",8800,464800,451600,1100,null,null,1100,1140,null,37990,37990,10,38000,38000,0,null,38000,1140,1140,39140,null,null,1140]
["vjktif=r",52,null,"SAHI RAM","RJJW20122200570",null,"v/;kid","ysoy",10,47900,574800,"2026-07-01",11200,586000,569200,1400,null,null,1400,1437,null,47890,47890,10,47900,47900,0,null,47900,1437,1440,49340,null,null,1440]
["vjktif=r",53,null,"SANJANA TANWAR","RJBI201809008928",566535,"v/;kid","ysoy",10,39100,469200,"2026-07-01",9600,478800,464400,1200,null,null,1200,1173,null,39090,39090,10,39100,39100,0,null,39100,1173,1180,40280,null,null,1180]
["vjktif=r",54,null,"SARITA SHARMA","RJBI201209019229",526037,"v/;kid","ysoy",10,47900,574800,"2026-07-01",11200,586000,569200,1400,null,null,1400,1437,null,47890,47890,10,47900,47900,0,null,47900,1437,1440,49340,null,null,1440]
["vjktif=r",55,null,"SAZIDA JOIYA","RJBI201209028116",526048,"v/;kid","ysoy",10,47900,574800,"2026-07-01",11200,586000,569200,1400,null,null,1400,1437,null,47890,47890,10,47900,47900,0,null,47900,1437,1440,49340,null,null,1440]
["vjktif=r",56,null,"SHISHRAM DHAYAL","RJBI199709011109",359833,"v/;kid","ysoy",10,69000,828000,"2026-07-01",16800,844800,819600,2100,null,null,2100,2070,null,68990,68990,10,69000,69000,0,null,69000,2070,2070,71070,null,null,2070]
["vjktif=r",57,null,"SHOBHANA","RJBI201709021435",550935,"v/;kid","ysoy",10,39100,469200,"2026-07-01",9600,478800,464400,1200,null,null,1200,1173,null,39090,39090,10,39100,39100,0,null,39100,1173,1180,40280,null,null,1180]
["vjktif=r",58,null,"SITARAM","RJBI200809012267",null,"v/;kid","ysoy",10,50800,609600,"2026-07-01",12000,621600,603600,1500,null,null,1500,1524,null,50790,50790,10,50800,50800,0,null,50800,1524,1530,52330,null,null,1530]
["vjktif=r",59,null,"SULOCHANA","RJBI200809048981",429387,"v/;kid","ysoy",10,50800,609600,"2026-07-01",12000,621600,603600,1500,null,null,1500,1524,null,50790,50790,10,50800,50800,0,null,50800,1524,1530,52330,null,null,1530]
["vjktif=r",60,null,"SUMAN RAMAVAT","RJBI200809012629",null,"v/;kid","ysoy",10,50800,609600,"2026-07-01",12000,621600,603600,1500,null,null,1500,1524,null,50790,50790,10,50800,50800,0,null,50800,1524,1530,52330,null,null,1530]
["vjktif=r",61,null,"SUNITA CHOUDHARY","RJBI201209028120",null,"v/;kid","ysoy",10,47900,574800,"2026-07-01",11200,586000,569200,1400,null,null,1400,1437,null,47890,47890,10,47900,47900,0,null,47900,1437,1440,49340,null,null,1440]
["vjktif=r",62,null,"SURENDER SINGH","RJBI201709038693",null,"v/;kid","ysoy",10,38000,456000,"2026-07-01",8800,464800,451600,1100,null,null,1100,1140,null,37990,37990,10,38000,38000,0,null,38000,1140,1140,39140,null,null,1140]
["vjktif=r",63,null,"SUSHEEL KUMAR SHARMA","RJBI202109001584",653540,"v/;kid","ysoy",10,34800,417600,"2026-07-01",8000,425600,413600,1000,null,null,1000,1044,null,34790,34790,10,{"$f":"J118","v":34800},{"$f":"SUM(W118:X118)","v":34800},0,null,34800,1044,1050,35850,null,null,1050]
["vjktif=r",64,null,"VISHNU KUMAR CHANDAN","RJBI201209049614",492297,"v/;kid","ysoy",10,47900,574800,"2026-07-01",11200,586000,569200,1400,null,null,1400,1437,null,47890,47890,10,47900,47900,0,null,47900,1437,1440,49340,null,null,1440]
["vjktif=r",65,null,null,null,null,"v/;kid","ysoy",10,null,0,"2026-07-01",0,0,0,0,null,null,0,0,null,-10,-10,10,0,0,0,null,0,0,0,0,null,null,0]
["vjktif=r",66,null,null,null,null,"v/;kid","ysoy",10,null,0,"2026-07-01",0,0,0,0,null,null,0,0,null,-10,-10,10,0,0,0,null,0,0,0,0,null,null,0]
["vjktif=r",67,null,null,null,null,"v/;kid","ysoy",10,null,0,"2026-07-01",0,0,0,0,null,null,0,0,null,-10,{"$f":"IF(R47>=DATE(2017,7,1),CEILING(Y122*3%,10)+V122,V122)","v":-10},10,0,0,0,null,0,0,0,0,null,null,0]
["vjktif=r",68,null,null,null,null,"v/;kid","ysoy",10,null,{"$f":"J123*12","v":0},"2026-07-01",{"$f":"P123*8","v":0},{"$f":"K123+M123","v":0},{"$f":"N123-P123*12","v":0},{"$f":"S123","v":0},null,null,{"$f":"ROUND(T123,-2)","v":0},{"$f":"J123*3/100","v":0},null,{"$f":"Y123-X123","v":-10},{"$f":"IF(R73>=DATE(2017,7,1),CEILING(Y123*3%,10)+V123,V123)","v":-10},{"$f":"I123","v":10},{"$f":"J123","v":0},{"$f":"SUM(W123:X123)","v":0},{"$f":"Z123-Y123","v":0},null,{"$f":"J123","v":0},{"$f":"AC123*3/100","v":0},{"$f":"ROUNDUP(AD123,-1)","v":0},{"$f":"AC123+AE123","v":0},null,null,{"$f":"AF123-J123","v":0}]
["vjktif=r",69,null,null,null,null,"v/;kid","ysoy",10,null,0,"2026-07-01",0,0,0,0,null,null,0,0,null,-10,{"$f":"IF(R49>=DATE(2017,7,1),CEILING(Y124*3%,10)+V124,V124)","v":-10},10,0,0,0,null,0,0,0,0,null,null,0]
["vjktif=r",70,null,null,null,null,"v/;kid","ysoy",10,null,0,"2026-07-01",0,0,0,0,null,null,0,0,null,-10,{"$f":"IF(R75>=DATE(2017,7,1),CEILING(Y125*3%,10)+V125,V125)","v":-10},10,0,0,0,null,0,0,0,0,null,null,0]
["vjktif=r",71,null,null,null,null,"v/;kid","ysoy",10,null,0,"2026-07-01",0,0,0,0,null,null,0,0,null,-10,{"$f":"IF(R51>=DATE(2017,7,1),CEILING(Y126*3%,10)+V126,V126)","v":-10},10,0,0,0,null,0,0,0,0,null,null,0]
["vjktif=r",72,null,null,null,null,"v/;kid","ysoy",10,null,0,"2026-07-01",0,0,0,0,null,null,0,0,null,-10,{"$f":"IF(R77>=DATE(2017,7,1),CEILING(Y127*3%,10)+V127,V127)","v":-10},10,0,0,0,null,0,0,0,0,null,null,0]
["vjktif=r",73,null,null,null,null,"v/;kid","ysoy",10,null,0,"2026-07-01",0,0,0,0,null,null,0,0,null,-10,{"$f":"IF(R53>=DATE(2017,7,1),CEILING(Y128*3%,10)+V128,V128)","v":-10},10,0,0,0,null,0,0,0,0,null,null,0]
["vjktif=r",74,null,null,null,null,"v/;kid","ysoy",10,null,0,"2026-07-01",0,0,0,0,null,null,0,0,null,-10,{"$f":"IF(R79>=DATE(2017,7,1),CEILING(Y129*3%,10)+V129,V129)","v":-10},10,0,0,0,null,0,0,0,0,null,null,0]
["vjktif=r",75,null,null,null,null,"v/;kid","ysoy",10,null,0,"2026-07-01",0,0,0,0,null,null,0,0,null,-10,{"$f":"IF(R55>=DATE(2017,7,1),CEILING(Y130*3%,10)+V130,V130)","v":-10},10,0,0,0,null,0,0,0,0,null,null,0]
["vjktif=r",76,null,null,null,null,"v/;kid","ysoy",10,null,0,"2026-07-01",0,0,0,0,null,null,0,0,null,-10,{"$f":"IF(R81>=DATE(2017,7,1),CEILING(Y131*3%,10)+V131,V131)","v":-10},10,0,0,0,null,0,0,0,0,null,null,0]
["vjktif=r",77,null,null,null,null,"v/;kid","ysoy",10,null,0,"2026-07-01",0,0,0,0,null,null,0,0,null,-10,{"$f":"IF(R57>=DATE(2017,7,1),CEILING(Y132*3%,10)+V132,V132)","v":-10},10,0,0,0,null,0,0,0,0,null,null,0]
["vjktif=r",78,null,null,null,null,"v/;kid","ysoy",10,null,0,"2026-07-01",0,0,0,0,null,null,0,0,null,-10,{"$f":"IF(R83>=DATE(2017,7,1),CEILING(Y133*3%,10)+V133,V133)","v":-10},10,0,0,0,null,0,0,0,0,null,null,0]
["vjktif=r",79,null,null,null,null,"v/;kid","ysoy",10,null,0,"2026-07-01",0,0,0,0,null,null,0,0,null,-10,{"$f":"IF(R59>=DATE(2017,7,1),CEILING(Y134*3%,10)+V134,V134)","v":-10},10,0,0,0,null,0,0,0,0,null,null,0]
["vjktif=r",80,null,null,null,null,"v/;kid","ysoy",10,null,0,"2026-07-01",0,0,0,0,null,null,0,0,null,-10,{"$f":"IF(R85>=DATE(2017,7,1),CEILING(Y135*3%,10)+V135,V135)","v":-10},10,0,0,0,null,0,0,0,0,null,null,0]
["vjktif=r",81,null,null,null,null,"v/;kid","ysoy",10,null,0,"2026-07-01",0,0,0,0,null,null,0,0,null,-10,{"$f":"IF(R61>=DATE(2017,7,1),CEILING(Y136*3%,10)+V136,V136)","v":-10},10,0,0,0,null,0,0,0,0,null,null,0]
["vjktif=r",82,null,null,null,null,"v/;kid","ysoy",10,null,0,"2026-07-01",0,0,0,0,null,null,0,0,null,-10,{"$f":"IF(R87>=DATE(2017,7,1),CEILING(Y137*3%,10)+V137,V137)","v":-10},10,0,0,0,null,0,0,0,0,null,null,0]
["vjktif=r",83,null,null,null,null,"v/;kid","ysoy",10,null,0,"2026-07-01",0,0,0,0,null,null,0,0,null,-10,{"$f":"IF(R63>=DATE(2017,7,1),CEILING(Y138*3%,10)+V138,V138)","v":-10},10,0,0,0,null,0,0,0,0,null,null,0]
["vjktif=r",84,null,null,null,null,"v/;kid","ysoy",10,null,0,"2026-07-01",0,0,0,0,null,null,0,0,null,-10,{"$f":"IF(R89>=DATE(2017,7,1),CEILING(Y139*3%,10)+V139,V139)","v":-10},10,0,0,0,null,0,0,0,0,null,null,0]
["vjktif=r",85,null,null,null,null,"v/;kid","ysoy",10,null,0,"2026-07-01",0,0,0,0,null,null,0,0,null,-10,{"$f":"IF(R65>=DATE(2017,7,1),CEILING(Y140*3%,10)+V140,V140)","v":-10},10,0,0,0,null,0,0,0,0,null,null,0]
["vjktif=r",86,null,null,null,null,"v/;kid","ysoy",10,null,0,"2026-07-01",0,0,0,0,null,null,0,0,null,-10,{"$f":"IF(R91>=DATE(2017,7,1),CEILING(Y141*3%,10)+V141,V141)","v":-10},10,0,0,0,null,0,0,0,0,null,null,0]
["vjktif=r",87,null,null,null,null,"v/;kid","ysoy",10,null,0,"2026-07-01",0,0,0,0,null,null,0,0,null,-10,{"$f":"IF(R67>=DATE(2017,7,1),CEILING(Y142*3%,10)+V142,V142)","v":-10},10,0,0,0,null,0,0,0,0,null,null,0]
["vjktif=r",88,null,null,null,null,"v/;kid","ysoy",10,null,0,"2026-07-01",0,0,0,0,null,null,0,0,null,-10,{"$f":"IF(R93>=DATE(2017,7,1),CEILING(Y143*3%,10)+V143,V143)","v":-10},10,0,0,0,null,0,0,0,0,null,null,0]
["vjktif=r",89,null,null,null,null,"v/;kid","ysoy",10,null,0,"2026-07-01",0,0,0,0,null,null,0,0,null,-10,{"$f":"IF(R69>=DATE(2017,7,1),CEILING(Y144*3%,10)+V144,V144)","v":-10},10,0,0,0,null,0,0,0,0,null,null,0]
["vjktif=r",90,null,null,null,null,"v/;kid","ysoy",10,null,0,"2026-07-01",0,0,0,0,null,null,0,0,null,-10,{"$f":"IF(R95>=DATE(2017,7,1),CEILING(Y145*3%,10)+V145,V145)","v":-10},10,0,0,0,null,0,0,0,0,null,null,0]
["vjktif=r",91,null,null,null,null,"v/;kid","ysoy",10,null,0,"2026-07-01",0,0,0,0,null,null,0,0,null,-10,{"$f":"IF(R71>=DATE(2017,7,1),CEILING(Y146*3%,10)+V146,V146)","v":-10},10,0,0,0,null,0,0,0,0,null,null,0]
["vjktif=r",92,null,null,null,null,"v/;kid","ysoy",10,null,0,"2026-07-01",0,0,0,0,null,null,0,0,null,-10,{"$f":"IF(R97>=DATE(2017,7,1),CEILING(Y147*3%,10)+V147,V147)","v":-10},10,0,0,0,null,0,0,0,0,null,null,0]
["vjktif=r",93,null,null,null,null,"v/;kid","ysoy",10,null,0,"2026-07-01",0,0,0,0,null,null,0,0,null,-10,{"$f":"IF(R73>=DATE(2017,7,1),CEILING(Y148*3%,10)+V148,V148)","v":-10},10,0,0,0,null,0,0,0,0,null,null,0]
["vjktif=r",94,null,null,null,null,"v/;kid","ysoy",10,null,0,"2026-07-01",0,0,0,0,null,null,0,0,null,-10,{"$f":"IF(R99>=DATE(2017,7,1),CEILING(Y149*3%,10)+V149,V149)","v":-10},10,0,0,0,null,0,0,0,0,null,null,0]
["vjktif=r",95,null,null,null,null,"v/;kid","ysoy",10,null,0,"2026-07-01",0,0,0,0,null,null,0,0,null,-10,{"$f":"IF(R75>=DATE(2017,7,1),CEILING(Y150*3%,10)+V150,V150)","v":-10},10,0,0,0,null,0,0,0,0,null,null,0]
["vjktif=r",96,null,null,null,null,"v/;kid","ysoy",10,null,0,"2026-07-01",0,0,0,0,null,null,0,0,null,-10,{"$f":"IF(R101>=DATE(2017,7,1),CEILING(Y151*3%,10)+V151,V151)","v":-10},10,0,0,0,null,0,0,0,0,null,null,0]
["vjktif=r",97,null,null,null,null,"v/;kid","ysoy",10,null,0,"2026-07-01",0,0,0,0,null,null,0,0,null,-10,{"$f":"IF(R77>=DATE(2017,7,1),CEILING(Y152*3%,10)+V152,V152)","v":-10},10,0,0,0,null,0,0,0,0,null,null,0]
["vjktif=r",98,null,null,null,null,"v/;kid","ysoy",10,null,0,"2026-07-01",0,0,0,0,null,null,0,0,null,-10,{"$f":"IF(R103>=DATE(2017,7,1),CEILING(Y153*3%,10)+V153,V153)","v":-10},10,0,0,0,null,0,0,0,0,null,null,0]
["vjktif=r",99,null,null,null,null,"v/;kid","ysoy",10,null,0,"2026-07-01",0,0,0,0,null,null,0,0,null,-10,{"$f":"IF(R79>=DATE(2017,7,1),CEILING(Y154*3%,10)+V154,V154)","v":-10},10,0,0,0,null,0,0,0,0,null,null,0]
["vjktif=r",100,null,null,null,null,"v/;kid","ysoy",10,null,0,"2026-07-01",0,0,0,0,null,null,0,0,null,-10,{"$f":"IF(R105>=DATE(2017,7,1),CEILING(Y155*3%,10)+V155,V155)","v":-10},10,0,0,0,null,0,0,0,0,null,null,0]
["vjktif=r",101,null,null,null,null,"v/;kid","ysoy",10,null,0,"2026-07-01",0,0,0,0,null,null,0,0,null,-10,{"$f":"IF(R81>=DATE(2017,7,1),CEILING(Y156*3%,10)+V156,V156)","v":-10},10,0,0,0,null,0,0,0,0,null,null,0]
["vjktif=r",102,null,null,null,null,"v/;kid","ysoy",10,null,0,"2026-07-01",0,0,0,0,null,null,0,0,null,-10,{"$f":"IF(R107>=DATE(2017,7,1),CEILING(Y157*3%,10)+V157,V157)","v":-10},10,0,0,0,null,0,0,0,0,null,null,0]
["vjktif=r",103,null,null,null,null,"v/;kid","ysoy",10,null,0,{"$f":"L157","v":"2026-07-01"},0,0,0,0,null,null,0,0,null,-10,{"$f":"IF(R83>=DATE(2017,7,1),CEILING(Y158*3%,10)+V158,V158)","v":-10},10,0,0,0,null,0,0,0,0,null,null,0]
["vjktif=r",104,null,null,null,null,"v/;kid","ysoy",10,null,0,"2026-07-01",0,0,0,0,null,null,0,0,null,-10,{"$f":"IF(R109>=DATE(2017,7,1),CEILING(Y159*3%,10)+V159,V159)","v":-10},10,0,0,0,null,0,0,0,0,null,null,0]
["vjktif=r",105,null,null,null,null,"v/;kid","ysoy",10,null,0,"2026-07-01",0,0,0,0,null,null,0,0,null,-10,{"$f":"IF(R85>=DATE(2017,7,1),CEILING(Y160*3%,10)+V160,V160)","v":-10},10,0,0,0,null,0,0,0,0,null,null,0]
["vjktif=r",106,null,null,null,null,"v/;kid","ysoy",10,null,0,"2026-07-01",0,0,0,0,null,null,0,0,null,-10,{"$f":"IF(R111>=DATE(2017,7,1),CEILING(Y161*3%,10)+V161,V161)","v":-10},10,0,0,0,null,0,0,0,0,null,null,0]
["vjktif=r",107,null,null,null,null,"v/;kid","ysoy",10,null,0,"2026-07-01",0,0,0,0,null,null,0,0,null,-10,{"$f":"IF(R87>=DATE(2017,7,1),CEILING(Y162*3%,10)+V162,V162)","v":-10},10,0,0,0,null,0,0,0,0,null,null,0]
["vjktif=r",108,null,null,null,null,"v/;kid","ysoy",10,null,0,"2026-07-01",0,0,0,0,null,null,0,0,null,-10,{"$f":"IF(R113>=DATE(2017,7,1),CEILING(Y163*3%,10)+V163,V163)","v":-10},10,0,0,0,null,0,0,0,0,null,null,0]
["vjktif=r",109,null,null,null,null,"v/;kid","ysoy",10,null,0,"2026-07-01",0,0,0,0,null,null,0,0,null,-10,{"$f":"IF(R89>=DATE(2017,7,1),CEILING(Y164*3%,10)+V164,V164)","v":-10},10,0,0,0,null,0,0,0,0,null,null,0]
["vjktif=r",110,null,null,null,null,"v/;kid","ysoy",10,null,0,"2026-07-01",0,0,0,0,null,null,0,0,null,-10,{"$f":"IF(R115>=DATE(2017,7,1),CEILING(Y165*3%,10)+V165,V165)","v":-10},10,0,0,0,null,0,0,0,0,null,null,0]
["vjktif=r",111,null,null,null,null,"v/;kid","ysoy",10,null,0,"2026-07-01",0,0,0,0,null,null,0,0,null,-10,{"$f":"IF(R91>=DATE(2017,7,1),CEILING(Y166*3%,10)+V166,V166)","v":-10},10,0,0,0,null,0,0,0,0,null,null,0]
["vjktif=r",112,null,null,null,null,"v/;kid","ysoy",10,null,0,"2026-07-01",0,0,0,0,null,null,0,0,null,-10,{"$f":"IF(R117>=DATE(2017,7,1),CEILING(Y167*3%,10)+V167,V167)","v":-10},10,0,0,0,null,0,0,0,0,null,null,0]
["vjktif=r",113,null,null,null,null,"v/;kid","ysoy",10,null,0,"2026-07-01",0,0,0,0,null,null,0,0,null,-10,{"$f":"IF(R93>=DATE(2017,7,1),CEILING(Y168*3%,10)+V168,V168)","v":-10},10,0,0,0,null,0,0,0,0,null,null,0]
["vjktif=r",114,null,null,null,null,"v/;kid","ysoy",10,null,0,"2026-07-01",0,0,0,0,null,null,0,0,null,-10,{"$f":"IF(R119>=DATE(2017,7,1),CEILING(Y169*3%,10)+V169,V169)","v":-10},10,0,0,0,null,0,0,0,0,null,null,0]
["vjktif=r",115,null,null,null,null,"v/;kid","ysoy",10,null,0,"2026-07-01",0,0,0,0,null,null,0,0,null,-10,{"$f":"IF(R95>=DATE(2017,7,1),CEILING(Y170*3%,10)+V170,V170)","v":-10},10,0,0,0,null,0,0,0,0,null,null,0]
["vjktif=r",116,null,null,null,null,"v/;kid","ysoy",10,null,0,"2026-07-01",0,0,0,0,null,null,0,0,null,-10,{"$f":"IF(R121>=DATE(2017,7,1),CEILING(Y171*3%,10)+V171,V171)","v":-10},10,0,0,0,null,0,0,0,0,null,null,0]
["vjktif=r",117,null,null,null,null,"v/;kid","ysoy",10,null,0,"2026-07-01",0,0,0,0,null,null,0,0,null,-10,{"$f":"IF(R97>=DATE(2017,7,1),CEILING(Y172*3%,10)+V172,V172)","v":-10},10,0,0,0,null,0,0,0,0,null,null,0]
["vjktif=r",118,null,null,null,null,"v/;kid","ysoy",10,null,0,"2026-07-01",0,0,0,0,null,null,0,0,null,-10,{"$f":"IF(R123>=DATE(2017,7,1),CEILING(Y173*3%,10)+V173,V173)","v":-10},10,0,0,0,null,0,0,0,0,null,null,0]
["vjktif=r",119,null,null,null,null,"v/;kid","ysoy",10,null,0,"2026-07-01",0,0,0,0,null,null,0,0,null,-10,{"$f":"IF(R99>=DATE(2017,7,1),CEILING(Y174*3%,10)+V174,V174)","v":-10},10,0,0,0,null,0,0,0,0,null,null,0]
["vjktif=r",120,null,null,null,null,"v/;kid","ysoy",10,null,0,"2026-07-01",0,0,0,0,null,null,0,0,null,-10,{"$f":"IF(R125>=DATE(2017,7,1),CEILING(Y175*3%,10)+V175,V175)","v":-10},10,0,0,0,null,0,0,0,0,null,null,0]
["vjktif=r",121,null,null,null,null,"v/;kid","ysoy",10,null,0,"2026-07-01",0,0,0,0,null,null,0,0,null,-10,{"$f":"IF(R101>=DATE(2017,7,1),CEILING(Y176*3%,10)+V176,V176)","v":-10},10,0,0,0,null,0,0,0,0,null,null,0]
["vjktif=r",122,null,null,null,null,"v/;kid","ysoy",10,null,0,"2026-07-01",0,0,0,0,null,null,0,0,null,-10,{"$f":"IF(R127>=DATE(2017,7,1),CEILING(Y177*3%,10)+V177,V177)","v":-10},10,0,0,0,null,0,0,0,0,null,null,0]
["vjktif=r",123,null,null,null,null,"v/;kid","ysoy",10,null,0,"2026-07-01",0,0,0,0,null,null,0,0,null,-10,{"$f":"IF(R103>=DATE(2017,7,1),CEILING(Y178*3%,10)+V178,V178)","v":-10},10,0,0,0,null,0,0,0,0,null,null,0]
["vjktif=r",124,null,null,null,null,"v/;kid","ysoy",10,null,0,"2026-07-01",0,0,0,0,null,null,0,0,null,-10,{"$f":"IF(R129>=DATE(2017,7,1),CEILING(Y179*3%,10)+V179,V179)","v":-10},10,0,0,0,null,0,0,0,0,null,null,0]
["vjktif=r",125,null,null,null,null,"v/;kid","ysoy",10,null,0,"2026-07-01",0,0,0,0,null,null,0,0,null,-10,{"$f":"IF(R105>=DATE(2017,7,1),CEILING(Y180*3%,10)+V180,V180)","v":-10},10,0,0,0,null,0,0,0,0,null,null,0]
["vjktif=r",126,null,null,null,null,"v/;kid","ysoy",10,null,0,"2026-07-01",0,0,0,0,null,null,0,0,null,-10,{"$f":"IF(R131>=DATE(2017,7,1),CEILING(Y181*3%,10)+V181,V181)","v":-10},10,0,0,0,null,0,0,0,0,null,null,0]
["vjktif=r",127,null,null,null,null,"v/;kid","ysoy",10,null,0,"2026-07-01",0,0,0,0,null,null,0,0,null,-10,{"$f":"IF(R107>=DATE(2017,7,1),CEILING(Y182*3%,10)+V182,V182)","v":-10},10,0,0,0,null,0,0,0,0,null,null,0]
["vjktif=r",128,null,null,null,null,"v/;kid","ysoy",10,null,0,"2026-07-01",0,0,0,0,null,null,0,0,null,-10,{"$f":"IF(R133>=DATE(2017,7,1),CEILING(Y183*3%,10)+V183,V183)","v":-10},10,0,0,0,null,0,0,0,0,null,null,0]
["vjktif=r",129,null,null,null,null,"v/;kid","ysoy",10,null,0,"2026-07-01",0,0,0,0,null,null,0,0,null,-10,{"$f":"IF(R109>=DATE(2017,7,1),CEILING(Y184*3%,10)+V184,V184)","v":-10},10,0,0,0,null,0,0,0,0,null,null,0]
["vjktif=r",130,null,null,null,null,"v/;kid","ysoy",10,null,0,"2026-07-01",0,0,0,0,null,null,0,0,null,-10,{"$f":"IF(R135>=DATE(2017,7,1),CEILING(Y185*3%,10)+V185,V185)","v":-10},10,0,0,0,null,0,0,0,0,null,null,0]
["vjktif=r",131,null,null,null,null,"v/;kid","ysoy",10,null,0,"2026-07-01",0,0,0,0,null,null,0,0,null,-10,{"$f":"IF(R111>=DATE(2017,7,1),CEILING(Y186*3%,10)+V186,V186)","v":-10},10,0,0,0,null,0,0,0,0,null,null,0]
["vjktif=r",132,null,null,null,null,"v/;kid","ysoy",10,null,{"$f":"J187*12","v":0},"2026-07-01",{"$f":"P187*8","v":0},{"$f":"K187+M187","v":0},{"$f":"N187-P187*12","v":0},{"$f":"S187","v":0},null,null,{"$f":"ROUND(T187,-2)","v":0},{"$f":"J187*3/100","v":0},null,{"$f":"Y187-X187","v":-10},{"$f":"IF(R137>=DATE(2017,7,1),CEILING(Y187*3%,10)+V187,V187)","v":-10},{"$f":"I187","v":10},{"$f":"J187","v":0},{"$f":"SUM(W187:X187)","v":0},{"$f":"Z187-Y187","v":0},null,{"$f":"J187","v":0},{"$f":"AC187*3/100","v":0},{"$f":"ROUNDUP(AD187,-1)","v":0},{"$f":"AC187+AE187","v":0},null,null,{"$f":"AF187-J187","v":0}]
["vjktif=r",133,null,null,null,null,"v/;kid","ysoy",10,null,0,"2026-07-01",0,0,0,0,null,null,0,0,null,-10,{"$f":"IF(R113>=DATE(2017,7,1),CEILING(Y188*3%,10)+V188,V188)","v":-10},10,0,0,0,null,0,0,0,0,null,null,0]
["vjktif=r",134,null,null,null,null,"v/;kid","ysoy",10,null,0,"2026-07-01",0,0,0,0,null,null,0,0,null,-10,{"$f":"IF(R139>=DATE(2017,7,1),CEILING(Y189*3%,10)+V189,V189)","v":-10},10,0,0,0,null,0,0,0,0,null,null,0]
["vjktif=r",135,null,null,null,null,"v/;kid","ysoy",10,null,0,"2026-07-01",0,0,0,0,null,null,0,0,null,-10,{"$f":"IF(R115>=DATE(2017,7,1),CEILING(Y190*3%,10)+V190,V190)","v":-10},10,0,0,0,null,0,0,0,0,null,null,0]
["vjktif=r",136,null,null,null,null,"v/;kid","ysoy",10,null,0,"2026-07-01",0,0,0,0,null,null,0,0,null,-10,{"$f":"IF(R141>=DATE(2017,7,1),CEILING(Y191*3%,10)+V191,V191)","v":-10},10,0,0,0,null,0,0,0,0,null,null,0]
["vjktif=r",137,null,null,null,null,"v/;kid","ysoy",10,null,0,"2026-07-01",0,0,0,0,null,null,0,0,null,-10,{"$f":"IF(R117>=DATE(2017,7,1),CEILING(Y192*3%,10)+V192,V192)","v":-10},10,0,0,0,null,0,0,0,0,null,null,0]
["vjktif=r",138,null,null,null,null,"v/;kid","ysoy",10,null,0,"2026-07-01",0,0,0,0,null,null,0,0,null,-10,{"$f":"IF(R143>=DATE(2017,7,1),CEILING(Y193*3%,10)+V193,V193)","v":-10},10,0,0,0,null,0,0,0,0,null,null,0]
["vjktif=r",139,null,null,null,null,"v/;kid","ysoy",10,null,0,"2026-07-01",0,0,0,0,null,null,0,0,null,-10,{"$f":"IF(R119>=DATE(2017,7,1),CEILING(Y194*3%,10)+V194,V194)","v":-10},10,0,0,0,null,0,0,0,0,null,null,0]
["vjktif=r",140,null,null,null,null,"v/;kid","ysoy",10,null,0,"2026-07-01",0,0,0,0,null,null,0,0,null,-10,{"$f":"IF(R145>=DATE(2017,7,1),CEILING(Y195*3%,10)+V195,V195)","v":-10},10,0,0,0,null,0,0,0,0,null,null,0]
["vjktif=r",141,null,null,null,null,"v/;kid","ysoy",10,null,0,"2026-07-01",0,0,0,0,null,null,0,0,null,-10,{"$f":"IF(R121>=DATE(2017,7,1),CEILING(Y196*3%,10)+V196,V196)","v":-10},10,0,0,0,null,0,0,0,0,null,null,0]
["vjktif=r",142,null,null,null,null,"v/;kid","ysoy",10,null,0,"2026-07-01",0,0,0,0,null,null,0,0,null,-10,{"$f":"IF(R147>=DATE(2017,7,1),CEILING(Y197*3%,10)+V197,V197)","v":-10},10,0,0,0,null,0,0,0,0,null,null,0]
["vjktif=r",143,null,null,null,null,"v/;kid","ysoy",10,null,0,"2026-07-01",0,0,0,0,null,null,0,0,null,-10,{"$f":"IF(R123>=DATE(2017,7,1),CEILING(Y198*3%,10)+V198,V198)","v":-10},10,0,0,0,null,0,0,0,0,null,null,0]
["vjktif=r",144,null,null,null,null,"v/;kid","ysoy",10,null,0,"2026-07-01",0,0,0,0,null,null,0,0,null,-10,{"$f":"IF(R149>=DATE(2017,7,1),CEILING(Y199*3%,10)+V199,V199)","v":-10},10,0,0,0,null,0,0,0,0,null,null,0]
["vjktif=r",145,null,null,null,null,"v/;kid","ysoy",10,null,0,"2026-07-01",0,0,0,0,null,null,0,0,null,-10,{"$f":"IF(R125>=DATE(2017,7,1),CEILING(Y200*3%,10)+V200,V200)","v":-10},10,0,0,0,null,0,0,0,0,null,null,0]
["vjktif=r",146,null,null,null,null,"v/;kid","ysoy",10,null,0,"2026-07-01",0,0,0,0,null,null,0,0,null,-10,{"$f":"IF(R151>=DATE(2017,7,1),CEILING(Y201*3%,10)+V201,V201)","v":-10},10,0,0,0,null,0,0,0,0,null,null,0]
["vjktif=r",147,null,null,null,null,"v/;kid","ysoy",10,null,0,"2026-07-01",0,0,0,0,null,null,0,0,null,-10,{"$f":"IF(R127>=DATE(2017,7,1),CEILING(Y202*3%,10)+V202,V202)","v":-10},10,0,0,0,null,0,0,0,0,null,null,0]
["vjktif=r",148,null,null,null,null,"v/;kid","ysoy",10,null,0,"2026-07-01",0,0,0,0,null,null,0,0,null,-10,{"$f":"IF(R153>=DATE(2017,7,1),CEILING(Y203*3%,10)+V203,V203)","v":-10},10,0,0,0,null,0,0,0,0,null,null,0]
["vjktif=r",149,null,null,null,null,"v/;kid","ysoy",10,null,0,"2026-07-01",0,0,0,0,null,null,0,0,null,-10,{"$f":"IF(R129>=DATE(2017,7,1),CEILING(Y204*3%,10)+V204,V204)","v":-10},10,0,0,0,null,0,0,0,0,null,null,0]
["vjktif=r",150,null,null,null,null,"v/;kid","ysoy",10,null,0,"2026-07-01",0,0,0,0,null,null,0,0,null,-10,{"$f":"IF(R155>=DATE(2017,7,1),CEILING(Y205*3%,10)+V205,V205)","v":-10},10,0,0,0,null,0,0,0,0,null,null,0]
["vjktif=r",151,null,null,null,null,"v/;kid","ysoy",10,null,0,"2026-07-01",0,0,0,0,null,null,0,0,null,-10,{"$f":"IF(R131>=DATE(2017,7,1),CEILING(Y206*3%,10)+V206,V206)","v":-10},10,0,0,0,null,0,0,0,0,null,null,0]
["vjktif=r",152,null,null,null,null,"v/;kid","ysoy",10,null,0,"2026-07-01",0,0,0,0,null,null,0,0,null,-10,{"$f":"IF(R157>=DATE(2017,7,1),CEILING(Y207*3%,10)+V207,V207)","v":-10},10,0,0,0,null,0,0,0,0,null,null,0]
["vjktif=r",153,null,null,null,null,"v/;kid","ysoy",10,null,0,"2026-07-01",0,0,0,0,null,null,0,0,null,-10,{"$f":"IF(R133>=DATE(2017,7,1),CEILING(Y208*3%,10)+V208,V208)","v":-10},10,0,0,0,null,0,0,0,0,null,null,0]
["vjktif=r",154,null,null,null,null,"v/;kid","ysoy",10,null,0,"2026-07-01",0,0,0,0,null,null,0,0,null,-10,{"$f":"IF(R159>=DATE(2017,7,1),CEILING(Y209*3%,10)+V209,V209)","v":-10},10,0,0,0,null,0,0,0,0,null,null,0]
["vjktif=r",155,null,null,null,null,"v/;kid","ysoy",10,null,0,"2026-07-01",0,0,0,0,null,null,0,0,null,-10,{"$f":"IF(R135>=DATE(2017,7,1),CEILING(Y210*3%,10)+V210,V210)","v":-10},10,0,0,0,null,0,0,0,0,null,null,0]
["vjktif=r",156,null,null,null,null,"v/;kid","ysoy",10,null,0,"2026-07-01",0,0,0,0,null,null,0,0,null,-10,{"$f":"IF(R161>=DATE(2017,7,1),CEILING(Y211*3%,10)+V211,V211)","v":-10},10,0,0,0,null,0,0,0,0,null,null,0]
["vjktif=r",157,null,null,null,null,"v/;kid","ysoy",10,null,0,"2026-07-01",0,0,0,0,null,null,0,0,null,-10,{"$f":"IF(R137>=DATE(2017,7,1),CEILING(Y212*3%,10)+V212,V212)","v":-10},10,0,0,0,null,0,0,0,0,null,null,0]
["vjktif=r",158,null,null,null,null,"v/;kid","ysoy",10,null,0,"2026-07-01",0,0,0,0,null,null,0,0,null,-10,{"$f":"IF(R163>=DATE(2017,7,1),CEILING(Y213*3%,10)+V213,V213)","v":-10},10,0,0,0,null,0,0,0,0,null,null,0]
["vjktif=r",159,null,null,null,null,"v/;kid","ysoy",10,null,0,"2026-07-01",0,0,0,0,null,null,0,0,null,-10,{"$f":"IF(R139>=DATE(2017,7,1),CEILING(Y214*3%,10)+V214,V214)","v":-10},10,0,0,0,null,0,0,0,0,null,null,0]
["vjktif=r",160,null,null,null,null,"v/;kid","ysoy",10,null,0,"2026-07-01",0,0,0,0,null,null,0,0,null,-10,{"$f":"IF(R165>=DATE(2017,7,1),CEILING(Y215*3%,10)+V215,V215)","v":-10},10,0,0,0,null,0,0,0,0,null,null,0]
["vjktif=r",161,null,null,null,null,"v/;kid","ysoy",10,null,0,"2026-07-01",0,0,0,0,null,null,0,0,null,-10,{"$f":"IF(R141>=DATE(2017,7,1),CEILING(Y216*3%,10)+V216,V216)","v":-10},10,0,0,0,null,0,0,0,0,null,null,0]
["vjktif=r",162,null,null,null,null,"v/;kid","ysoy",10,null,0,"2026-07-01",0,0,0,0,null,null,0,0,null,-10,{"$f":"IF(R167>=DATE(2017,7,1),CEILING(Y217*3%,10)+V217,V217)","v":-10},10,0,0,0,null,0,0,0,0,null,null,0]
["vjktif=r",163,null,null,null,null,"v/;kid","ysoy",10,null,0,"2026-07-01",0,0,0,0,null,null,0,0,null,-10,{"$f":"IF(R143>=DATE(2017,7,1),CEILING(Y218*3%,10)+V218,V218)","v":-10},10,0,0,0,null,0,0,0,0,null,null,0]
["vjktif=r",164,null,null,null,null,"v/;kid","ysoy",10,null,0,"2026-07-01",0,0,0,0,null,null,0,0,null,-10,{"$f":"IF(R169>=DATE(2017,7,1),CEILING(Y219*3%,10)+V219,V219)","v":-10},10,0,0,0,null,0,0,0,0,null,null,0]
["vjktif=r",165,null,null,null,null,"v/;kid","ysoy",10,null,0,"2026-07-01",0,0,0,0,null,null,0,0,null,-10,{"$f":"IF(R145>=DATE(2017,7,1),CEILING(Y220*3%,10)+V220,V220)","v":-10},10,0,0,0,null,0,0,0,0,null,null,0]
["vjktif=r",166,null,null,null,null,"v/;kid","ysoy",10,null,0,"2026-07-01",0,0,0,0,null,null,0,0,null,-10,{"$f":"IF(R171>=DATE(2017,7,1),CEILING(Y221*3%,10)+V221,V221)","v":-10},10,0,0,0,null,0,0,0,0,null,null,0]
["vjktif=r",167,null,null,null,null,"v/;kid","ysoy",10,null,0,{"$f":"L221","v":"2026-07-01"},0,0,0,0,null,null,0,0,null,-10,{"$f":"IF(R147>=DATE(2017,7,1),CEILING(Y222*3%,10)+V222,V222)","v":-10},10,0,0,0,null,0,0,0,0,null,null,0]
["vjktif=r",168,null,null,null,null,"v/;kid","ysoy",10,null,0,"2026-07-01",0,0,0,0,null,null,0,0,null,-10,{"$f":"IF(R173>=DATE(2017,7,1),CEILING(Y223*3%,10)+V223,V223)","v":-10},10,0,0,0,null,0,0,0,0,null,null,0]
["vjktif=r",169,null,null,null,null,"v/;kid","ysoy",10,null,0,"2026-07-01",0,0,0,0,null,null,0,0,null,-10,{"$f":"IF(R149>=DATE(2017,7,1),CEILING(Y224*3%,10)+V224,V224)","v":-10},10,0,0,0,null,0,0,0,0,null,null,0]
["vjktif=r",170,null,null,null,null,"v/;kid","ysoy",10,null,0,"2026-07-01",0,0,0,0,null,null,0,0,null,-10,{"$f":"IF(R175>=DATE(2017,7,1),CEILING(Y225*3%,10)+V225,V225)","v":-10},10,0,0,0,null,0,0,0,0,null,null,0]
["vjktif=r",171,null,null,null,null,"v/;kid","ysoy",10,null,0,"2026-07-01",0,0,0,0,null,null,0,0,null,-10,{"$f":"IF(R151>=DATE(2017,7,1),CEILING(Y226*3%,10)+V226,V226)","v":-10},10,0,0,0,null,0,0,0,0,null,null,0]
["vjktif=r",172,null,null,null,null,"v/;kid","ysoy",10,null,0,"2026-07-01",0,0,0,0,null,null,0,0,null,-10,{"$f":"IF(R177>=DATE(2017,7,1),CEILING(Y227*3%,10)+V227,V227)","v":-10},10,0,0,0,null,0,0,0,0,null,null,0]
["vjktif=r",173,null,null,null,null,"v/;kid","ysoy",10,null,0,"2026-07-01",0,0,0,0,null,null,0,0,null,-10,{"$f":"IF(R153>=DATE(2017,7,1),CEILING(Y228*3%,10)+V228,V228)","v":-10},10,0,0,0,null,0,0,0,0,null,null,0]
["vjktif=r",174,null,null,null,null,"v/;kid","ysoy",10,null,0,"2026-07-01",0,0,0,0,null,null,0,0,null,-10,{"$f":"IF(R179>=DATE(2017,7,1),CEILING(Y229*3%,10)+V229,V229)","v":-10},10,0,0,0,null,0,0,0,0,null,null,0]
["vjktif=r",175,null,null,null,null,"v/;kid","ysoy",10,null,0,"2026-07-01",0,0,0,0,null,null,0,0,null,-10,{"$f":"IF(R155>=DATE(2017,7,1),CEILING(Y230*3%,10)+V230,V230)","v":-10},10,0,0,0,null,0,0,0,0,null,null,0]
["vjktif=r",176,null,null,null,null,"v/;kid","ysoy",10,null,0,"2026-07-01",0,0,0,0,null,null,0,0,null,-10,{"$f":"IF(R181>=DATE(2017,7,1),CEILING(Y231*3%,10)+V231,V231)","v":-10},10,0,0,0,null,0,0,0,0,null,null,0]
["vjktif=r",177,null,null,null,null,"v/;kid","ysoy",10,null,0,"2026-07-01",0,0,0,0,null,null,0,0,null,-10,{"$f":"IF(R157>=DATE(2017,7,1),CEILING(Y232*3%,10)+V232,V232)","v":-10},10,0,0,0,null,0,0,0,0,null,null,0]
["vjktif=r",178,null,null,null,null,"v/;kid","ysoy",10,null,0,"2026-07-01",0,0,0,0,null,null,0,0,null,-10,{"$f":"IF(R183>=DATE(2017,7,1),CEILING(Y233*3%,10)+V233,V233)","v":-10},10,0,0,0,null,0,0,0,0,null,null,0]
["vjktif=r",179,null,null,null,null,"v/;kid","ysoy",10,null,0,"2026-07-01",0,0,0,0,null,null,0,0,null,-10,{"$f":"IF(R159>=DATE(2017,7,1),CEILING(Y234*3%,10)+V234,V234)","v":-10},10,0,0,0,null,0,0,0,0,null,null,0]
["vjktif=r",180,null,null,null,null,"v/;kid","ysoy",10,null,0,"2026-07-01",0,0,0,0,null,null,0,0,null,-10,{"$f":"IF(R185>=DATE(2017,7,1),CEILING(Y235*3%,10)+V235,V235)","v":-10},10,0,0,0,null,0,0,0,0,null,null,0]
["vjktif=r",181,null,null,null,null,"v/;kid","ysoy",10,null,0,"2026-07-01",0,0,0,0,null,null,0,0,null,-10,{"$f":"IF(R161>=DATE(2017,7,1),CEILING(Y236*3%,10)+V236,V236)","v":-10},10,0,0,0,null,0,0,0,0,null,null,0]
["vjktif=r",182,null,null,null,null,"v/;kid","ysoy",10,null,0,"2026-07-01",0,0,0,0,null,null,0,0,null,-10,{"$f":"IF(R187>=DATE(2017,7,1),CEILING(Y237*3%,10)+V237,V237)","v":-10},10,0,0,0,null,0,0,0,0,null,null,0]
["vjktif=r",183,null,null,null,null,"v/;kid","ysoy",10,null,0,"2026-07-01",0,0,0,0,null,null,0,0,null,-10,{"$f":"IF(R163>=DATE(2017,7,1),CEILING(Y238*3%,10)+V238,V238)","v":-10},10,0,0,0,null,0,0,0,0,null,null,0]
["vjktif=r",184,null,null,null,null,"v/;kid","ysoy",10,null,0,"2026-07-01",0,0,0,0,null,null,0,0,null,-10,{"$f":"IF(R189>=DATE(2017,7,1),CEILING(Y239*3%,10)+V239,V239)","v":-10},10,0,0,0,null,0,0,0,0,null,null,0]
["vjktif=r",185,null,null,null,null,"v/;kid","ysoy",10,null,0,"2026-07-01",0,0,0,0,null,null,0,0,null,-10,{"$f":"IF(R165>=DATE(2017,7,1),CEILING(Y240*3%,10)+V240,V240)","v":-10},10,0,0,0,null,0,0,0,0,null,null,0]
["vjktif=r",186,null,null,null,null,"v/;kid","ysoy",10,null,0,"2026-07-01",0,0,0,0,null,null,0,0,null,-10,{"$f":"IF(R191>=DATE(2017,7,1),CEILING(Y241*3%,10)+V241,V241)","v":-10},10,0,0,0,null,0,0,0,0,null,null,0]
["vjktif=r",187,null,null,null,null,"v/;kid","ysoy",10,null,0,"2026-07-01",0,0,0,0,null,null,0,0,null,-10,{"$f":"IF(R167>=DATE(2017,7,1),CEILING(Y242*3%,10)+V242,V242)","v":-10},10,0,0,0,null,0,0,0,0,null,null,0]
["vjktif=r",188,null,null,null,null,"v/;kid","ysoy",10,null,0,"2026-07-01",0,0,0,0,null,null,0,0,null,-10,{"$f":"IF(R193>=DATE(2017,7,1),CEILING(Y243*3%,10)+V243,V243)","v":-10},10,0,0,0,null,0,0,0,0,null,null,0]
["vjktif=r",189,null,null,null,null,"v/;kid","ysoy",10,null,0,"2026-07-01",0,0,0,0,null,null,0,0,null,-10,{"$f":"IF(R169>=DATE(2017,7,1),CEILING(Y244*3%,10)+V244,V244)","v":-10},10,0,0,0,null,0,0,0,0,null,null,0]
["vjktif=r",190,null,null,null,null,"v/;kid","ysoy",10,null,0,"2026-07-01",0,0,0,0,null,null,0,0,null,-10,{"$f":"IF(R195>=DATE(2017,7,1),CEILING(Y245*3%,10)+V245,V245)","v":-10},10,0,0,0,null,0,0,0,0,null,null,0]
["vjktif=r",191,null,null,null,null,"v/;kid","ysoy",10,null,0,"2026-07-01",0,0,0,0,null,null,0,0,null,-10,{"$f":"IF(R171>=DATE(2017,7,1),CEILING(Y246*3%,10)+V246,V246)","v":-10},10,0,0,0,null,0,0,0,0,null,null,0]
["vjktif=r",192,null,null,null,null,"v/;kid","ysoy",10,null,0,"2026-07-01",0,0,0,0,null,null,0,0,null,-10,{"$f":"IF(R197>=DATE(2017,7,1),CEILING(Y247*3%,10)+V247,V247)","v":-10},10,0,0,0,null,0,0,0,0,null,null,0]
["vjktif=r",193,null,null,null,null,"v/;kid","ysoy",10,null,0,"2026-07-01",0,0,0,0,null,null,0,0,null,-10,{"$f":"IF(R173>=DATE(2017,7,1),CEILING(Y248*3%,10)+V248,V248)","v":-10},10,0,0,0,null,0,0,0,0,null,null,0]
["vjktif=r",194,null,null,null,null,"v/;kid","ysoy",10,null,0,"2026-07-01",0,0,0,0,null,null,0,0,null,-10,{"$f":"IF(R199>=DATE(2017,7,1),CEILING(Y249*3%,10)+V249,V249)","v":-10},10,0,0,0,null,0,0,0,0,null,null,0]
["vjktif=r",195,null,null,null,null,"v/;kid","ysoy",10,null,0,"2026-07-01",0,0,0,0,null,null,0,0,null,-10,{"$f":"IF(R175>=DATE(2017,7,1),CEILING(Y250*3%,10)+V250,V250)","v":-10},10,0,0,0,null,0,0,0,0,null,null,0]
["vjktif=r",196,null,null,null,null,"v/;kid","ysoy",10,null,{"$f":"J251*12","v":0},"2026-07-01",{"$f":"P251*8","v":0},{"$f":"K251+M251","v":0},{"$f":"N251-P251*12","v":0},{"$f":"S251","v":0},null,null,{"$f":"ROUND(T251,-2)","v":0},{"$f":"J251*3/100","v":0},null,{"$f":"Y251-X251","v":-10},{"$f":"IF(R201>=DATE(2017,7,1),CEILING(Y251*3%,10)+V251,V251)","v":-10},{"$f":"I251","v":10},{"$f":"J251","v":0},{"$f":"SUM(W251:X251)","v":0},{"$f":"Z251-Y251","v":0},null,{"$f":"J251","v":0},{"$f":"AC251*3/100","v":0},{"$f":"ROUNDUP(AD251,-1)","v":0},{"$f":"AC251+AE251","v":0},null,null,{"$f":"AF251-J251","v":0}]
["vjktif=r",197,null,null,null,null,"v/;kid","ysoy",10,null,0,"2026-07-01",0,0,0,0,null,null,0,0,null,-10,{"$f":"IF(R177>=DATE(2017,7,1),CEILING(Y252*3%,10)+V252,V252)","v":-10},10,0,0,0,null,0,0,0,0,null,null,0]
["vjktif=r",198,null,null,null,null,"v/;kid","ysoy",10,null,0,"2026-07-01",0,0,0,0,null,null,0,0,null,-10,{"$f":"IF(R203>=DATE(2017,7,1),CEILING(Y253*3%,10)+V253,V253)","v":-10},10,0,0,0,null,0,0,0,0,null,null,0]
["vjktif=r",199,null,null,null,null,"v/;kid","ysoy",10,null,0,"2026-07-01",0,0,0,0,null,null,0,0,null,-10,{"$f":"IF(R179>=DATE(2017,7,1),CEILING(Y254*3%,10)+V254,V254)","v":-10},10,0,0,0,null,0,0,0,0,null,null,0]
["vjktif=r",200,null,null,null,null,"v/;kid","ysoy",10,null,0,"2026-07-01",0,0,0,0,null,null,0,0,null,-10,{"$f":"IF(R205>=DATE(2017,7,1),CEILING(Y255*3%,10)+V255,V255)","v":-10},10,0,0,0,null,0,0,0,0,null,null,0]
["vjktif=r",201,null,null,null,null,"v/;kid","ysoy",10,null,0,"2026-07-01",0,0,0,0,null,null,0,0,null,-10,{"$f":"IF(R181>=DATE(2017,7,1),CEILING(Y256*3%,10)+V256,V256)","v":-10},10,0,0,0,null,0,0,0,0,null,null,0]
["vjktif=r",202,null,null,null,null,"v/;kid","ysoy",10,null,0,"2026-07-01",0,0,0,0,null,null,0,0,null,-10,{"$f":"IF(R207>=DATE(2017,7,1),CEILING(Y257*3%,10)+V257,V257)","v":-10},10,0,0,0,null,0,0,0,0,null,null,0]
["vjktif=r",203,null,null,null,null,"v/;kid","ysoy",10,null,0,"2026-07-01",0,0,0,0,null,null,0,0,null,-10,{"$f":"IF(R183>=DATE(2017,7,1),CEILING(Y258*3%,10)+V258,V258)","v":-10},10,0,0,0,null,0,0,0,0,null,null,0]
["vjktif=r",204,null,null,null,null,"v/;kid","ysoy",10,null,0,"2026-07-01",0,0,0,0,null,null,0,0,null,-10,{"$f":"IF(R209>=DATE(2017,7,1),CEILING(Y259*3%,10)+V259,V259)","v":-10},10,0,0,0,null,0,0,0,0,null,null,0]
["vjktif=r",205,null,null,null,null,"v/;kid","ysoy",10,null,0,"2026-07-01",0,0,0,0,null,null,0,0,null,-10,{"$f":"IF(R185>=DATE(2017,7,1),CEILING(Y260*3%,10)+V260,V260)","v":-10},10,0,0,0,null,0,0,0,0,null,null,0]
["vjktif=r",206,null,null,null,null,"v/;kid","ysoy",10,null,0,"2026-07-01",0,0,0,0,null,null,0,0,null,-10,{"$f":"IF(R211>=DATE(2017,7,1),CEILING(Y261*3%,10)+V261,V261)","v":-10},10,0,0,0,null,0,0,0,0,null,null,0]
["vjktif=r",207,null,null,null,null,"v/;kid","ysoy",10,null,0,"2026-07-01",0,0,0,0,null,null,0,0,null,-10,{"$f":"IF(R187>=DATE(2017,7,1),CEILING(Y262*3%,10)+V262,V262)","v":-10},10,0,0,0,null,0,0,0,0,null,null,0]
["vjktif=r",208,null,null,null,null,"v/;kid","ysoy",10,null,0,"2026-07-01",0,0,0,0,null,null,0,0,null,-10,{"$f":"IF(R213>=DATE(2017,7,1),CEILING(Y263*3%,10)+V263,V263)","v":-10},10,0,0,0,null,0,0,0,0,null,null,0]
["vjktif=r",209,null,null,null,null,"v/;kid","ysoy",10,null,0,"2026-07-01",0,0,0,0,null,null,0,0,null,-10,{"$f":"IF(R189>=DATE(2017,7,1),CEILING(Y264*3%,10)+V264,V264)","v":-10},10,0,0,0,null,0,0,0,0,null,null,0]
["vjktif=r",210,null,null,null,null,"v/;kid","ysoy",10,null,0,"2026-07-01",0,0,0,0,null,null,0,0,null,-10,{"$f":"IF(R215>=DATE(2017,7,1),CEILING(Y265*3%,10)+V265,V265)","v":-10},10,0,0,0,null,0,0,0,0,null,null,0]
["vjktif=r",211,null,null,null,null,"v/;kid","ysoy",10,null,0,"2026-07-01",0,0,0,0,null,null,0,0,null,-10,{"$f":"IF(R191>=DATE(2017,7,1),CEILING(Y266*3%,10)+V266,V266)","v":-10},10,0,0,0,null,0,0,0,0,null,null,0]
["vjktif=r",212,null,null,null,null,"v/;kid","ysoy",10,null,0,"2026-07-01",0,0,0,0,null,null,0,0,null,-10,{"$f":"IF(R217>=DATE(2017,7,1),CEILING(Y267*3%,10)+V267,V267)","v":-10},10,0,0,0,null,0,0,0,0,null,null,0]
["vjktif=r",213,null,null,null,null,"v/;kid","ysoy",10,null,0,"2026-07-01",0,0,0,0,null,null,0,0,null,-10,{"$f":"IF(R193>=DATE(2017,7,1),CEILING(Y268*3%,10)+V268,V268)","v":-10},10,0,0,0,null,0,0,0,0,null,null,0]
["vjktif=r",214,null,null,null,null,"v/;kid","ysoy",10,null,0,"2026-07-01",0,0,0,0,null,null,0,0,null,-10,{"$f":"IF(R219>=DATE(2017,7,1),CEILING(Y269*3%,10)+V269,V269)","v":-10},10,0,0,0,null,0,0,0,0,null,null,0]
["vjktif=r",215,null,null,null,null,"v/;kid","ysoy",10,null,0,"2026-07-01",0,0,0,0,null,null,0,0,null,-10,{"$f":"IF(R195>=DATE(2017,7,1),CEILING(Y270*3%,10)+V270,V270)","v":-10},10,0,0,0,null,0,0,0,0,null,null,0]
["vjktif=r",216,null,null,null,null,"v/;kid","ysoy",10,null,0,"2026-07-01",0,0,0,0,null,null,0,0,null,-10,{"$f":"IF(R221>=DATE(2017,7,1),CEILING(Y271*3%,10)+V271,V271)","v":-10},10,0,0,0,null,0,0,0,0,null,null,0]
["vjktif=r",217,null,null,null,null,"v/;kid","ysoy",10,null,0,"2026-07-01",0,0,0,0,null,null,0,0,null,-10,{"$f":"IF(R197>=DATE(2017,7,1),CEILING(Y272*3%,10)+V272,V272)","v":-10},10,0,0,0,null,0,0,0,0,null,null,0]
["vjktif=r",218,null,null,null,null,"v/;kid","ysoy",10,null,0,"2026-07-01",0,0,0,0,null,null,0,0,null,-10,{"$f":"IF(R223>=DATE(2017,7,1),CEILING(Y273*3%,10)+V273,V273)","v":-10},10,0,0,0,null,0,0,0,0,null,null,0]
["vjktif=r",219,null,null,null,null,"v/;kid","ysoy",10,null,0,"2026-07-01",0,0,0,0,null,null,0,0,null,-10,{"$f":"IF(R199>=DATE(2017,7,1),CEILING(Y274*3%,10)+V274,V274)","v":-10},10,0,0,0,null,0,0,0,0,null,null,0]
["vjktif=r",220,null,null,null,null,"v/;kid","ysoy",10,null,0,"2026-07-01",0,0,0,0,null,null,0,0,null,-10,{"$f":"IF(R225>=DATE(2017,7,1),CEILING(Y275*3%,10)+V275,V275)","v":-10},10,0,0,0,null,0,0,0,0,null,null,0]
["vjktif=r",221,null,null,null,null,"v/;kid","ysoy",10,null,0,"2026-07-01",0,0,0,0,null,null,0,0,null,-10,{"$f":"IF(R201>=DATE(2017,7,1),CEILING(Y276*3%,10)+V276,V276)","v":-10},10,0,0,0,null,0,0,0,0,null,null,0]
["vjktif=r",222,null,null,null,null,"v/;kid","ysoy",10,null,0,"2026-07-01",0,0,0,0,null,null,0,0,null,-10,{"$f":"IF(R227>=DATE(2017,7,1),CEILING(Y277*3%,10)+V277,V277)","v":-10},10,0,0,0,null,0,0,0,0,null,null,0]
["vjktif=r",223,null,null,null,null,"v/;kid","ysoy",10,null,0,"2026-07-01",0,0,0,0,null,null,0,0,null,-10,{"$f":"IF(R203>=DATE(2017,7,1),CEILING(Y278*3%,10)+V278,V278)","v":-10},10,0,0,0,null,0,0,0,0,null,null,0]
["vjktif=r",224,null,null,null,null,"v/;kid","ysoy",10,null,0,"2026-07-01",0,0,0,0,null,null,0,0,null,-10,{"$f":"IF(R229>=DATE(2017,7,1),CEILING(Y279*3%,10)+V279,V279)","v":-10},10,0,0,0,null,0,0,0,0,null,null,0]
["vjktif=r",225,null,null,null,null,"v/;kid","ysoy",10,null,0,"2026-07-01",0,0,0,0,null,null,0,0,null,-10,{"$f":"IF(R205>=DATE(2017,7,1),CEILING(Y280*3%,10)+V280,V280)","v":-10},10,0,0,0,null,0,0,0,0,null,null,0]
["vjktif=r",226,null,null,null,null,"v/;kid","ysoy",10,null,0,"2026-07-01",0,0,0,0,null,null,0,0,null,-10,{"$f":"IF(R231>=DATE(2017,7,1),CEILING(Y281*3%,10)+V281,V281)","v":-10},10,0,0,0,null,0,0,0,0,null,null,0]
["vjktif=r",227,null,null,null,null,"v/;kid","ysoy",10,null,0,"2026-07-01",0,0,0,0,null,null,0,0,null,-10,{"$f":"IF(R207>=DATE(2017,7,1),CEILING(Y282*3%,10)+V282,V282)","v":-10},10,0,0,0,null,0,0,0,0,null,null,0]
["vjktif=r",228,null,null,null,null,"v/;kid","ysoy",10,null,0,"2026-07-01",0,0,0,0,null,null,0,0,null,-10,{"$f":"IF(R233>=DATE(2017,7,1),CEILING(Y283*3%,10)+V283,V283)","v":-10},10,0,0,0,null,0,0,0,0,null,null,0]
["vjktif=r",229,null,null,null,null,"v/;kid","ysoy",10,null,0,"2026-07-01",0,0,0,0,null,null,0,0,null,-10,{"$f":"IF(R209>=DATE(2017,7,1),CEILING(Y284*3%,10)+V284,V284)","v":-10},10,0,0,0,null,0,0,0,0,null,null,0]
["vjktif=r",230,null,null,null,null,"v/;kid","ysoy",10,null,0,"2026-07-01",0,0,0,0,null,null,0,0,null,-10,{"$f":"IF(R235>=DATE(2017,7,1),CEILING(Y285*3%,10)+V285,V285)","v":-10},10,0,0,0,null,0,0,0,0,null,null,0]
["vjktif=r",231,null,null,null,null,"v/;kid","ysoy",10,null,0,{"$f":"L285","v":"2026-07-01"},0,0,0,0,null,null,0,0,null,-10,{"$f":"IF(R211>=DATE(2017,7,1),CEILING(Y286*3%,10)+V286,V286)","v":-10},10,0,0,0,null,0,0,0,0,null,null,0]
["vjktif=r",232,null,null,null,null,"v/;kid","ysoy",10,null,0,"2026-07-01",0,0,0,0,null,null,0,0,null,-10,{"$f":"IF(R237>=DATE(2017,7,1),CEILING(Y287*3%,10)+V287,V287)","v":-10},10,0,0,0,null,0,0,0,0,null,null,0]
["vjktif=r",233,null,null,null,null,"v/;kid","ysoy",10,null,0,"2026-07-01",0,0,0,0,null,null,0,0,null,-10,{"$f":"IF(R213>=DATE(2017,7,1),CEILING(Y288*3%,10)+V288,V288)","v":-10},10,0,0,0,null,0,0,0,0,null,null,0]
["vjktif=r",234,null,null,null,null,"v/;kid","ysoy",10,null,0,"2026-07-01",0,0,0,0,null,null,0,0,null,-10,{"$f":"IF(R239>=DATE(2017,7,1),CEILING(Y289*3%,10)+V289,V289)","v":-10},10,0,0,0,null,0,0,0,0,null,null,0]
["vjktif=r",235,null,null,null,null,"v/;kid","ysoy",10,null,0,"2026-07-01",0,0,0,0,null,null,0,0,null,-10,{"$f":"IF(R215>=DATE(2017,7,1),CEILING(Y290*3%,10)+V290,V290)","v":-10},10,0,0,0,null,0,0,0,0,null,null,0]
["vjktif=r",236,null,null,null,null,"v/;kid","ysoy",10,null,0,"2026-07-01",0,0,0,0,null,null,0,0,null,-10,{"$f":"IF(R241>=DATE(2017,7,1),CEILING(Y291*3%,10)+V291,V291)","v":-10},10,0,0,0,null,0,0,0,0,null,null,0]
["vjktif=r",237,null,null,null,null,"v/;kid","ysoy",10,null,0,"2026-07-01",0,0,0,0,null,null,0,0,null,-10,{"$f":"IF(R217>=DATE(2017,7,1),CEILING(Y292*3%,10)+V292,V292)","v":-10},10,0,0,0,null,0,0,0,0,null,null,0]
["vjktif=r",238,null,null,null,null,"v/;kid","ysoy",10,null,0,"2026-07-01",0,0,0,0,null,null,0,0,null,-10,{"$f":"IF(R243>=DATE(2017,7,1),CEILING(Y293*3%,10)+V293,V293)","v":-10},10,0,0,0,null,0,0,0,0,null,null,0]
["vjktif=r",239,null,null,null,null,"v/;kid","ysoy",10,null,0,"2026-07-01",0,0,0,0,null,null,0,0,null,-10,{"$f":"IF(R219>=DATE(2017,7,1),CEILING(Y294*3%,10)+V294,V294)","v":-10},10,0,0,0,null,0,0,0,0,null,null,0]
["vjktif=r",240,null,null,null,null,"v/;kid","ysoy",10,null,0,"2026-07-01",0,0,0,0,null,null,0,0,null,-10,{"$f":"IF(R245>=DATE(2017,7,1),CEILING(Y295*3%,10)+V295,V295)","v":-10},10,0,0,0,null,0,0,0,0,null,null,0]
["vjktif=r",241,null,null,null,null,"v/;kid","ysoy",10,null,0,"2026-07-01",0,0,0,0,null,null,0,0,null,-10,{"$f":"IF(R221>=DATE(2017,7,1),CEILING(Y296*3%,10)+V296,V296)","v":-10},10,0,0,0,null,0,0,0,0,null,null,0]
["vjktif=r",242,null,null,null,null,"v/;kid","ysoy",10,null,0,"2026-07-01",0,0,0,0,null,null,0,0,null,-10,{"$f":"IF(R247>=DATE(2017,7,1),CEILING(Y297*3%,10)+V297,V297)","v":-10},10,0,0,0,null,0,0,0,0,null,null,0]
["vjktif=r",243,null,null,null,null,"v/;kid","ysoy",10,null,0,"2026-07-01",0,0,0,0,null,null,0,0,null,-10,{"$f":"IF(R223>=DATE(2017,7,1),CEILING(Y298*3%,10)+V298,V298)","v":-10},10,0,0,0,null,0,0,0,0,null,null,0]
["vjktif=r",244,null,null,null,null,"v/;kid","ysoy",10,null,0,"2026-07-01",0,0,0,0,null,null,0,0,null,-10,{"$f":"IF(R249>=DATE(2017,7,1),CEILING(Y299*3%,10)+V299,V299)","v":-10},10,0,0,0,null,0,0,0,0,null,null,0]
["vjktif=r",245,null,null,null,null,"v/;kid","ysoy",10,null,0,"2026-07-01",0,0,0,0,null,null,0,0,null,-10,{"$f":"IF(R225>=DATE(2017,7,1),CEILING(Y300*3%,10)+V300,V300)","v":-10},10,0,0,0,null,0,0,0,0,null,null,0]
["vjktif=r",246,null,null,null,null,"v/;kid","ysoy",10,null,0,"2026-07-01",0,0,0,0,null,null,0,0,null,-10,{"$f":"IF(R251>=DATE(2017,7,1),CEILING(Y301*3%,10)+V301,V301)","v":-10},10,0,0,0,null,0,0,0,0,null,null,0]
["vjktif=r",247,null,null,null,null,"v/;kid","ysoy",10,null,0,"2026-07-01",0,0,0,0,null,null,0,0,null,-10,{"$f":"IF(R227>=DATE(2017,7,1),CEILING(Y302*3%,10)+V302,V302)","v":-10},10,0,0,0,null,0,0,0,0,null,null,0]
["vjktif=r",248,null,null,null,null,"v/;kid","ysoy",10,null,0,"2026-07-01",0,0,0,0,null,null,0,0,null,-10,{"$f":"IF(R253>=DATE(2017,7,1),CEILING(Y303*3%,10)+V303,V303)","v":-10},10,0,0,0,null,0,0,0,0,null,null,0]
["vjktif=r",249,null,null,null,null,"v/;kid","ysoy",10,null,0,"2026-07-01",0,0,0,0,null,null,0,0,null,-10,{"$f":"IF(R229>=DATE(2017,7,1),CEILING(Y304*3%,10)+V304,V304)","v":-10},10,0,0,0,null,0,0,0,0,null,null,0]
["vjktif=r",250,null,null,null,null,"v/;kid","ysoy",10,null,0,"2026-07-01",0,0,0,0,null,null,0,0,null,-10,{"$f":"IF(R255>=DATE(2017,7,1),CEILING(Y305*3%,10)+V305,V305)","v":-10},10,0,0,0,null,0,0,0,0,null,null,0]
["vjktif=r",251,null,null,null,null,"v/;kid","ysoy",10,null,0,"2026-07-01",0,0,0,0,null,null,0,0,null,-10,{"$f":"IF(R231>=DATE(2017,7,1),CEILING(Y306*3%,10)+V306,V306)","v":-10},10,0,0,0,null,0,0,0,0,null,null,0]
["vjktif=r",252,null,null,null,null,"v/;kid","ysoy",10,null,0,"2026-07-01",0,0,0,0,null,null,0,0,null,-10,{"$f":"IF(R257>=DATE(2017,7,1),CEILING(Y307*3%,10)+V307,V307)","v":-10},10,0,0,0,null,0,0,0,0,null,null,0]
[]
[null,"jktif=r ;ksx",null,null,null,null,null,null,null,{"$f":"J49+J50+J51+J52+J53+J54+J55","v":0},{"$f":"K49+K50+K51+K52+K53+K54+K55","v":0},null,{"$f":"M49+M50+M51+M52+M53+M54+M55","v":0},{"$f":"N49+N50+N51+N52+N53+N54+N55","v":0},0]
[null,"vjktif=r ;ksx",null,null,null,null,null,null,null,{"$f":"SUM(J56:J307)","v":3018400},{"$f":"SUM(K56:K307)","v":36220800},null,{"$f":"SUM(M56:M307)","v":721600},{"$f":"SUM(N56:N307)","v":36942400},35860000]
[null,";ksx jktif=r$vjktif=r ",null,null,null,null,null,null,null,{"$f":"J309+J310","v":3018400},{"$f":"K309+K310","v":36220800},null,{"$f":"M309+M310","v":721600},{"$f":"N309+N310","v":36942400},{"$f":"O309+O310","v":35860000}]
[{"$f":"$H$17","v":0.55000000000000004},"egaxkbZ HkRrk -------izfr'kr",null,null,null,null,null,null,null,null,null,null,null,{"$f":"ROUND(N311*A312,0)","v":20318320},{"$f":"ROUND(O311*A312,0)","v":19723000},null,null,"deZpkjh dh la[;k"]
[{"$f":"$L$17","v":0.1},"edku fdjk;k10@20@30izfr'kr",null,null,null,null,null,null,null,null,null,null,null,{"$f":"ROUND(N311*A313,0)","v":3694240},{"$f":"ROUND(O311*A313,0)","v":3586000}]
[{"$f":"$J$17","v":0},"egaxkbZ HkRRkk ,sfj;j¼----izfr'kr½",null,null,null,null,null,null,null,null,null,null,null,null,{"$f":"ROUND((O311*A314*F17)/12,0)","v":0}]
[null,"cksul",null,null,null,null,null,null,null,null,null,null,null,{"$f":"P315*R315","v":433536},{"$f":"P315*R315","v":433536},{"$f":"$J$9","v":6774},null,{"$f":"$H$9","v":64}]
[null,"lefiZr vodk'k",null,null,null,null,null,null,null,null,null,null,null,{"$f":"ROUND((N311+N312)/24,0)","v":2385863},{"$f":"ROUND((O311+O312)/24,0)","v":2315958}]
[null,"dSf'k;j HkRrk",null,null,null,null,null,null,null,null,null,null,null,{"$f":"P317*R317*12","v":0},{"$f":"P317*R317*12","v":0},{"$f":"$J$10","v":300},null,{"$f":"$H$10","v":0}]
[null,"f};kax HkRrk",null,null,null,null,null,null,null,null,null,null,null,{"$f":"P318*R318*12","v":28800},{"$f":"P318*R318*12","v":28800},{"$f":"$J$11","v":1200},null,{"$f":"$H$11","v":2}]
[null,"/kqykbZ HkRrk",null,null,null,null,null,null,null,null,null,null,null,{"$f":"P319*R319*12","v":0},{"$f":"P319*R319*12","v":0},{"$f":"$J$12","v":200},null,{"$f":"H7+H8","v":0}]
[null," 'kgjh {kfriwfrZ HkRrk",null,null,null,null,null,null,null,null,null,null,null,{"$f":"P320*12","v":0},{"$f":"P320*12","v":0},{"$f":"Q320","v":0},{"$f":"$L$13","v":0},{"$f":"H13+H14+H15","v":0}]
[null,"¼fQDl is½ vU; HkRRkk",null,null,null,null,null,null,null,null,null,null,null,{"$f":"$J$481","v":22627200},{"$f":"$I$481","v":22627200},14660,null,0]
[null,"dqqy HkRrk ;ksx",null,null,null,null,null,null,null,null,null,null,null,{"$f":"SUM(N312:N321)","v":49487959},{"$f":"SUM(O312:O321)","v":48714494}]
[null,";ksx laosru",null,null,null,null,null,null,null,null,null,null,null,{"$f":"N322+N311","v":86430359},{"$f":"O322+O311","v":84574494}]
[null,";k=k HkRrk",null,null,null,null,null,null,null,null,null,null,null,{"$f":"O32","v":0},{"$f":"$AL$24","v":325437}]
[null,"esfMdy HkRrk",null,null,null,null,null,null,null,null,null,null,null,{"$f":"O33","v":0},{"$f":"$AM$24","v":16424}]
[null,";ksx ;k=k HkRrk$esfMdy HkRRkk",null,null,null,null,null,null,null,null,null,null,null,{"$f":"N324+N325","v":0},{"$f":"O324+O325","v":341861}]
[null,"egk;ksx",null,null,null,null,null,null,null,null,null,null,null,{"$f":"N323+N326","v":86430359},{"$f":"O323+O326","v":84916355}]
[]
[null,null,"Ø-la-","uke dkfeZd","in uke","NIC ID ","fu;qfä frfFk","ekfld ekuns;","12 ekg dk ekuns;","vkxkeh o\"kZ es 12 ekg dk ekuns;"]
[null,null,1,2,3,4,5,6,7,8]
[null,null,1,"AJAY KUMAR NAYAK","KANISHATH SHIKSHAK",5255786,null,17800,{"$f":"H331*12","v":213600},{"$f":"H331*12","v":213600}]
[null,null,2,"AMMANA RAM SIDHU","PANCHAYAT SHIKSHAK",5299810,null,17800,{"$f":"H332*12","v":213600},{"$f":"H332*12","v":213600}]
[null,null,3,"ANJU BALA SHARMA","KANISHATH SHIKSHAK",5255802,null,17800,213600,213600]
[null,null,4,"ANTU RAM SHARMA","PANCHAYAT SHIKSHAK",5299804,null,11000,132000,132000]
[null,null,5,"ARUN KUMAR","PANCHAYAT SHIKSHAK",5301043,null,17800,213600,213600]
[null,null,6,"BAJARANG LAL DHAKA","PANCHAYAT SHIKSHAK",5302719,null,11000,132000,132000]
[null,null,7,"BAJRANG SINGH","KANISHATH SHIKSHAK",5255794,null,17800,213600,213600]
[null,null,8,"BALRAM GODARA","PANCHAYAT SHIKSHAK",5299784,null,17800,213600,213600]
[null,null,9,"BALRAM SAHAL","PANCHAYAT SHIKSHAK",5300942,null,17800,213600,213600]
[null,null,10,"BALWANT SINGH","PANCHAYAT SHIKSHAK",5301039,null,17800,213600,213600]
[null,null,11,"BHANWAR LAL PALIWAL","PANCHAYAT SHIKSHAK",5299531,null,17800,213600,213600]
[null,null,12,"BHURA RAM JAT_5255831","KANISHATH SHIKSHAK",5255831,null,17800,213600,213600]
[null,null,13,"CHANDVEER SINGH","PANCHAYAT SHIKSHAK",5301077,null,11000,132000,132000]
[null,null,14,"CHETAN PRAKASH BARUPAL","PANCHAYAT SHIKSHAK",5301079,null,17800,213600,213600]
[null,null,15,"CHITRA SHARMA_5299779","PANCHAYAT SHIKSHAK",5299779,null,17800,213600,213600]
[null,null,16,"DEEWAN DAN","PANCHAYAT SHIKSHAK",5296217,null,17800,213600,213600]
[null,null,17,"GAJENDER KUMAR","PANCHAYAT SHIKSHAK",5299828,null,17800,213600,213600]
[null,null,18,"GANESHA RAM","KANISHATH SHIKSHAK",5255804,null,17800,213600,213600]
[null,null,19,"GIRISH CHAND GOYAL","PANCHAYAT SHIKSHAK",5301061,null,11000,132000,132000]
[null,null,20,"GOPAL RAM","PANCHAYAT SHIKSHAK",5301913,null,17800,213600,213600]
[null,null,21,"GOPI CHAND SAHARAN","PANCHAYAT SHIKSHAK",5300911,null,11000,132000,132000]
[null,null,22,"HANUMAN RAM","PANCHAYAT SHIKSHAK",5301024,null,11000,132000,132000]
[null,null,23,"HARAMANA RAM MEGHWAL","PANCHAYAT SHIKSHAK",5299799,null,17800,213600,213600]
[null,null,24,"HAZEE SHAH","PANCHAYAT SHIKSHAK",5301053,null,17800,213600,213600]
[null,null,25,"INDRA BADDER","PANCHAYAT SHIKSHAK",5299825,"",11000,132000,132000]
[null,null,26,"INDRAJ BHADU","PANCHAYAT SHIKSHAK",5300943,null,17800,213600,213600]
[null,null,27,"JAGDEESH GODARA","PANCHAYAT SHIKSHAK",5301069,null,17800,213600,213600]
[null,null,28,"JETHA RAM NAI","KANISHATH SHIKSHAK",5255793,null,17800,213600,213600]
[null,null,29,"KARNI SINGH","PANCHAYAT SHIKSHAK",5301082,"",17800,213600,213600]
[null,null,30,"KAUSHALYA","KANISHATH SHIKSHAK",5255825,null,17800,213600,213600]
[null,null,31,"KESAR DEVI","KANISHATH SHIKSHAK",5255791,null,17800,213600,213600]
[null,null,32,"KHINYA RAM GODARA_5299844","PANCHAYAT SHIKSHAK",5299844,null,11000,132000,132000]
[null,null,33,"KIRAN KUMARI","PANCHAYAT SHIKSHAK",5301057,null,11000,132000,132000]
[null,null,34,"KIRPAL DAN_5299836","PANCHAYAT SHIKSHAK","",null,11000,132000,132000]
[null,null,35,"KISHNA RAM","PANCHAYAT SHIKSHAK",5301022,null,11000,132000,132000]
[null,null,36,"KRIPAL DAN","PANCHAYAT SHIKSHAK",5299836,null,17800,213600,213600]
[null,null,37,"KRISHANA DONGIWALA_5255792","KANISHATH SHIKSHAK",5255792,null,17800,213600,213600]
[null,null,38,"KUSHALA RAM SARAN_5312500","PANCHAYAT SHIKSHAK","",null,17800,213600,213600]
[null,null,39,"LALCHAND MOOND","PANCHAYAT SHIKSHAK",5300886,null,17800,213600,213600]
[null,null,40,"LOKENDER SINGH JODHA_5306417","PANCHAYAT SHIKSHAK","",null,17800,213600,213600]
[null,null,41,"MANGILAL MEGHWAL","KANISHATH SHIKSHAK",5255807,null,17800,213600,213600]
[null,null,42,"MANJU KAUSHIK","PANCHAYAT SHIKSHAK",5301066,null,17800,213600,213600]
[null,null,43,"MANOJ KUMAR SUTHAR","PANCHAYAT SHIKSHAK",5301013,null,17800,213600,213600]
[null,null,44,"MEENAKSHI","PANCHAYAT SHIKSHAK",5301044,null,17800,213600,213600]
[null,null,45,"MUKESH SAIN","PANCHAYAT SHIKSHAK",5301057,null,11000,132000,132000]
[null,null,46,"MUSHTAK AHMED","KANISHATH SHIKSHAK",5255788,null,17800,213600,213600]
[null,null,47,"NAND KISHOR KARELA","PANCHAYAT SHIKSHAK",5301037,null,17800,213600,213600]
[null,null,48,"NAND KISHOR SHARMA","PANCHAYAT SHIKSHAK",5301036,null,17800,213600,213600]
[null,null,49,"NARAYAN RAM_5301072","PANCHAYAT SHIKSHAK",5301077,null,17800,213600,213600]
[null,null,50,"PAPPURAM MEGHWAL","KANISHATH SHIKSHAK",5255800,null,17800,213600,213600]
[null,null,51,"PARMESHWARI PRAJAPAT_5301027","PANCHAYAT SHIKSHAK",5301027,null,17800,213600,213600]
[null,null,52,"POONAM CHAND MEGHWAL_5299538","PANCHAYAT SHIKSHAK",5299538,null,11000,132000,132000]
[null,null,53,"PRABHA KIRADOO_5306670","PANCHAYAT SHIKSHAK","",null,17800,213600,213600]
[null,null,54,"PRAKASH CHAND GOYAL","PANCHAYAT SHIKSHAK",5301002,null,17800,213600,213600]
[null,null,55,"PUKHRAJ SHARMA","PANCHAYAT SHIKSHAK",5296153,null,17800,213600,213600]
[null,null,56,"PUSHPLATA CHOUDHARY_5304422","PANCHAYAT SHIKSHAK","","",17800,213600,213600]
[null,null,57,"RADHA UPADHYAY","KANISHATH SHIKSHAK",5255790,null,17800,213600,213600]
[null,null,58,"RADHE SHYAM","PANCHAYAT SHIKSHAK",5301055,null,11000,132000,132000]
[null,null,59,"RADHE SHYAM PALIWAL","PANCHAYAT SHIKSHAK","",null,17800,213600,213600]
[null,null,60,"RAJA RAM","PANCHAYAT SHIKSHAK",5299533,null,17800,213600,213600]
[null,null,61,"RAM SUKH MEGHWAL_5322949","PANCHAYAT SHIKSHAK","",null,11000,132000,132000]
[null,null,62,"RAMAN LAL BISSA_5311506","PANCHAYAT SHIKSHAK",5301048,null,11000,132000,132000]
[null,null,63,"RAMESH BITHU_5304329","PANCHAYAT SHIKSHAK","",null,17800,213600,213600]
[null,null,64,"RAMESHWAR LAL_5301035","PANCHAYAT SHIKSHAK",5301035,null,17800,213600,213600]
[null,null,65,"RATAN LAL","PANCHAYAT SHIKSHAK",5300839,null,17800,213600,213600]
[null,null,66,"RAVINDER JAIN","PANCHAYAT SHIKSHAK",5301042,null,17800,{"$f":"H396*12","v":213600},{"$f":"H396*12","v":213600}]
[null,null,67,"RIKTAKMAL SHARMA","PANCHAYAT SHIKSHAK",5300877,null,17800,213600,213600]
[null,null,68,"SARLA CHOUDHARY","KANISHATH SHIKSHAK",5255803,null,17800,213600,213600]
[null,null,69,"SAROJ PARIK","KANISHATH SHIKSHAK",5255798,"",17800,213600,213600]
[null,null,70,"SHANKAR LAL JYANI","PANCHAYAT SHIKSHAK",5300940,null,17800,213600,213600]
[null,null,71,"SHIV KUMAR BHATI_5301030","PANCHAYAT SHIKSHAK",5301030,null,17800,213600,213600]
[null,null,72,"SHIVNARAYAN MOOND","KANISHATH SHIKSHAK",5255783,"",17800,213600,213600]
[null,null,73,"SOHAN SINGH","PANCHAYAT SHIKSHAK",5301903,"",11000,132000,132000]
[null,null,74,"SUBASH CHANDER GODARA","PANCHAYAT SHIKSHAK",5299817,"",17800,213600,213600]
[null,null,75,"SUBHASH NAYAK_5317766","PANCHAYAT SHIKSHAK","","",11000,132000,132000]
[null,null,76,"SUMITRA KASWA","PANCHAYAT SHIKSHAK",5299536,"",17800,213600,213600]
[null,null,77,"SUNITA SHARMA","PANCHAYAT SHIKSHAK",5299522,"",17800,213600,213600]
[null,null,78,"SURENDER KUMAR KUKNA","PANCHAYAT SHIKSHAK",5301064,"",17800,213600,213600]
[null,null,79,"VIJAY KUMAR_5307505","PANCHAYAT SHIKSHAK","","",11000,132000,132000]
[null,null,80,"VIJAYPAL GODARA_5320450","PANCHAYAT SHIKSHAK","","",11000,132000,132000]
[null,null,81,"VIJAYPAL JYANI","PANCHAYAT SHIKSHAK",5300934,"",17800,213600,213600]
[null,null,82,"ZUBBER MOHAMMAD SHAH_5315244","PANCHAYAT SHIKSHAK","","",11000,132000,132000]
[null,null,83,"BHAIRA RAM","Teacher Level-2","RJBI202309078023",null,23700,284400,284400]
[null,null,84,"BHAWANA KANWAR","Teacher Level-1","RJBI202309040350",null,23700,{"$f":"H414*12","v":284400},{"$f":"H414*12","v":284400}]
[null,null,85,"BUDHRAM","TEACHER","RJBI202309557196",null,23700,{"$f":"H415*12","v":284400},{"$f":"H415*12","v":284400}]
[null,null,86,"DEVENDRA SINGH","Teacher Level-1 (Special Education)","RJBI202209032389",null,23700,{"$f":"H416*12","v":284400},{"$f":"H416*12","v":284400}]
[null,null,87,"HANSA KUMARI SWAMI","Teacher Level-2","RJBI202309065691",null,23700,{"$f":"H417*12","v":284400},{"$f":"H417*12","v":284400}]
[null,null,88,"JYOTI RATHORE","TEACHER","RJBI202309066458",null,23700,284400,284400]
[null,null,89,"KHERUNISHA","Teacher Level-2","RJBI202309065639",null,23700,{"$f":"H419*12","v":284400},{"$f":"H419*12","v":284400}]
[null,null,90,"KHUSHBOO YADAV","Teacher Level-2","RJBI202309073471",null,23700,284400,284400]
[null,null,91,"MANJU BALA","Teacher Level-1 (Special Education)","RJBI202209028546",null,23700,284400,284400]
[null,null,92,"MONIKA","Teacher Level-2","RJBI202309050858",null,23700,284400,284400]
[null,null,93,"MOOL SINGH","TEACHER","RJBI202309073384",null,23700,284400,284400]
[null,null,94,"PINKY","Teacher Level-1","RJBI202309083154",null,23700,284400,284400]
[null,null,95,"POOJA","Teacher Level-2","RJBI202309045038",null,23700,284400,284400]
[null,null,96,"PREETI TOGASIA","Teacher Level-1","RJBI202309039848",null,23700,284400,284400]
[null,null,97,"PRITI KUMARI","Teacher Level-2","RJBI202309063488",null,23700,284400,284400]
[null,null,98,"PRITI SINGH","Teacher Level-2","RJBI202409103538",null,23700,284400,284400]
[null,null,99,"PUSHPA KUMARI","TEACHER","RJBI202309072187",null,23700,284400,284400]
[null,null,100,"RAJANI MOYAL","TEACHER","RJBI202209013008",null,23700,284400,284400]
[null,null,101,"RAKESH GODARA","Teacher Level-1","RJBI202209029520",null,23700,284400,284400]
[null,null,102,"RAM CHRAN MAN","TEACHER","RJBI202309052725",null,23700,284400,284400]
[null,null,103,"SUNILA NEHRA","Teacher Level-1","RJBI202309056985",null,23700,284400,284400]
[null,null,104,"VIMLA MEENA","Teacher Level-2","RJBI202309074987",null,23700,284400,284400]
[null,null,105,"VIMLA MEGHWAL","TEACHER","RJBI202309072138",null,23700,284400,284400]
[null,null,106,"JAIPAL HUDDA","Teacher Level-2 (Special Education)","RJBI202309050864",712302,23700,284400,284400]
[null,null,107,null,null,null,null,null,0,0]
[null,null,108,null,null,null,null,null,0,0]
[null,null,109,null,null,null,null,null,0,0]
[null,null,110,null,null,null,null,null,0,0]
[null,null,111,null,null,null,null,null,0,0]
[null,null,112,null,null,null,null,null,0,0]
[null,null,113,null,null,null,null,null,0,0]
[null,null,114,null,null,null,null,null,0,0]
[null,null,115,null,null,null,null,null,0,0]
[null,null,116,null,null,null,null,null,0,0]
[null,null,117,null,null,null,null,null,0,0]
[null,null,118,null,null,null,null,null,0,0]
[null,null,119,null,null,null,null,null,0,0]
[null,null,120,null,null,null,null,null,0,0]
[null,null,121,null,null,null,null,null,0,0]
[null,null,122,null,null,null,null,null,0,0]
[null,null,123,null,null,null,null,null,0,0]
[null,null,124,null,null,null,null,null,0,0]
[null,null,125,null,null,null,null,null,0,0]
[null,null,126,null,null,null,null,null,0,0]
[null,null,127,null,null,null,null,null,0,0]
[null,null,128,null,null,null,null,null,0,0]
[null,null,129,null,null,null,null,null,0,0]
[null,null,130,null,null,null,null,null,0,0]
[null,null,131,null,null,null,null,null,0,0]
[null,null,132,null,null,null,null,null,0,0]
[null,null,133,null,null,null,null,null,0,0]
[null,null,134,null,null,null,null,null,0,0]
[null,null,135,null,null,null,null,null,0,0]
[null,null,136,null,null,null,null,null,0,0]
[null,null,137,null,null,null,null,null,0,0]
[null,null,138,null,null,null,null,null,0,0]
[null,null,139,null,null,null,null,null,0,0]
[null,null,140,null,null,null,null,null,0,0]
[null,null,141,null,null,null,null,null,0,0]
[null,null,142,null,null,null,null,null,0,0]
[null,null,143,null,null,null,null,null,0,0]
[null,null,144,null,null,null,null,null,0,0]
[null,null,145,null,null,null,null,null,0,0]
[null,null,146,null,null,null,null,null,0,0]
[null,null,147,null,null,null,null,null,0,0]
[null,null,148,null,null,null,null,null,0,0]
[null,null,149,null,null,null,null,null,0,0]
[null,null,150,null,null,null,null,null,0,0]
[null,null,null,null,"TOTAL",null,null,null,{"$f":"SUM(I331:I480)","v":22627200},{"$f":"SUM(J331:J480)","v":22627200}]
[]
[]
["in uke",null,"Lohd`r","dk;Zjr",null,null,"fjä","fooj.k",null,"la[;k"]
[null,null,null,"01-01-2004 ls iwoZ fu;qDr","01-01-2004 ds Ik'pkr fu;qDr",";ksx",null,"p0Js0deZ0","iq:\"k",0]
["Additional Administrative Officer",null,1,null,null,{"$f":"D486+E486","v":0},{"$f":"C486-F486","v":1},null,"efgyk",0]
["Additional chief Block Education Officer-Second",null,1,null,null,0,1,"teknkj","iq:\"k",0]
["Administrative Officer",null,1,null,null,0,1,null,"efgyk",0]
["Assistant Accounts Officer Grade II",null,1,null,null,0,1,"fo|ky; izkfo@ mizkfo\n"]
["Assistant Administrative Officer",null,1,null,null,0,{"$f":"C490-F490","v":1}]
["Block Elementary Education Officer and add. Chief block education officer-first",null,1,null,null,0,1,"fLFkj osru deZpkjh",null,0]
["Chief Block Education officer",null,1,null,null,{"$f":"D492+E492","v":0},1,"fuyfEcr dkfeZd",null,0]
["Junior Accountant",null,1,null,null,0,1]
["Junior Assistant",null,2,null,null,0,2]
["Junior Engineer",null,1,null,null,0,1]
["MIS / Computer Programmer",null,2,null,null,0,2]
["Resource Person",null,2,null,null,0,2]
["Resource Person (C.W.S.N)",null,2,null,null,0,2]
["Senior Assistant",null,2,null,null,0,2]
["Class IV",null,4,null,null,0,4]
[";ksx",null,{"$f":"SUM(C486:C498)","v":17},{"$f":"SUM(D486:D498)","v":0},0,0,17]

{"sheet":"rrr 08","index":1,"n_rows":295,"n_cols":17,"rows_kept":295,"cut":false,"hidden":false,"merged":[[3,12,4,12],[3,15,4,15],[268,1,268,6],[270,1,270,6],[269,1,269,6],[7,2,7,3],[5,5,6,5],[5,6,5,7],[6,6,6,7],[5,1,6,1],[3,8,3,9],[3,10,3,11],[5,15,6,15],[5,8,6,8],[5,14,6,14],[5,9,6,9],[5,2,6,3],[280,1,280,6],[274,1,274,6],[275,1,275,6],[271,7,271,11],[271,1,271,6],[286,7,286,11],[284,1,284,6],[281,7,281,11],[281,1,281,6],[286,1,286,6],[0,0,0,10],[0,12,0,15],[292,9,292,10],[4,1,4,3],[4,5,4,7],[4,8,4,9],[4,10,4,11],[284,7,284,11],[285,1,285,6],[285,7,285,11],[282,1,282,6],[282,7,282,11],[283,1,283,6],[283,7,283,11],[5,4,6,4],[3,3,3,7],[294,9,294,10],[290,12,290,13],[291,12,291,13],[292,12,292,13],[293,12,293,13],[293,9,293,10],[291,9,291,10],[5,0,6,0],[288,3,288,15],[279,1,279,6],[1,0,1,11],[273,1,273,6],[2,0,2,14],[3,0,3,2],[4,13,4,14],[5,10,5,11],[5,12,6,12],[5,13,6,13],[272,1,272,6],[277,1,277,6],[1,15,2,15],[276,1,276,6],[278,1,278,6]]}
["izi= 8",null,null,null,null,null,null,null,null,null,null,"ctV gSM",{"$f":"Profile!$C$3","v":"2202-01-197-16-01"}]
["fuf'pr O;;ksa ds foLr`r vuqeku vFkkZr~ vf/kdkfj;ksa o deZpkfj;ksa ds osru vuqeku o\"kZ ¼vizSy ls ekpZ rd½",null,null,null,null,null,null,null,null,null,null,null,{"$f":"Profile!$A$8","v":"ihMh [kkrk la[;k %&"},{"$f":"Profile!$C$8","v":762},null,{"$f":"Profile!$M$44","v":"2026&2027"}]
["¼ctV vuqeku vf/kdkfj;ksa }kjk foHkkxk/;{k dks izLrqr djus gsrq½ ys[kk dk 'kh\"kZ % eq[; 'kh\"kZ@minh?kZ 'kh\"kZ@y?kq'kh\"kZ@mi'kh\"kZ xzqi 'kh\"kZ--------------vk;kstuk fHkUu@vk;kstuk@dsUnz izofrZr ;kstuk"]
["dk;kZy; %&",null,null,{"$f":"Profile!$D$44","v":"eq[; CykWd f'k{kk vf/kdkjh] lexz f'k{kk] chdkusj"},null,null,null,null,"foHkkx dk uke %&",null,{"$f":"Profile!$G$2","v":" izkjfEHkd f'k{kk foHkkx"},null,{"$f":"Profile!$K$44","v":"LVsV Q.M"},"ekax la[;k&",{"$f":"Profile!$C$11","v":24},{"$f":"Profile!$G$43","v":1451}]
[null,"ctV Lohd`fr esa fo|ky;@dk;kZy; dh Ø-la- %&",null,null,{"$f":"Profile!$C$12","v":11},"dk;kZy; v/;{k MhMhvks uke %&",null,null,{"$f":"Profile!$G$4","v":"euh\"kk vjksM+k"},null,{"$f":"Profile!$I$4","v":1234567890},null,null,"j   lgL=ksa esa"]
[null,"Øe la[;k","uke",null,{"$f":"Profile!$F$46","v":"thih,Q@,uih,l@izku uEcj"},"in","in dk Lohd`r osru",null,{"$f":"Profile!$J$46","v":"ctV dh izkjfEHkd frfFk ;kfu 1ekpZ 2026 dks deZpkjh dk osru"},"igyh ekpZ ls vfUre Qjojh ds fy;s fu/kkZfjr jde","o`f) tks bl vof/k esa gksxh",null,{"$f":"Profile!$N$46","v":"vkxkeh o\"kZ ds fy;s jde ¼dkye 8$10½"},{"$f":"Profile!$O$46","v":"pkyw o\"kZ ds fy;s la'kksf/kr vuqeku"},"fo'ks\"k fooj.k ¼osru o`f)½","deZpkjh vkbZ Mh"]
[null,null,null,null,null,null,{"$f":"Profile!$H$47","v":"xzsM is@ ysoy"},null,null,null,"frfFk o`f)","jde o`f)"]
[null,1,2,null,3,4,5,6,7,8,9,10,11,12,13,14]
[{"$f":"Profile!A49","v":"jktif=r"},{"$f":"Profile!B49","v":1},{"$f":"Profile!C49","v":0},{"$f":"Profile!D49","v":0},{"$f":"Profile!F49","v":0},{"$f":"Profile!G49","v":",lhchbZvks&1"},{"$f":"Profile!H49","v":"ysoy"},{"$f":"Profile!I49","v":16},{"$f":"Profile!J49","v":0},{"$f":"I9*12","v":0},{"$f":"Profile!L49","v":"2026-07-01"},{"$f":"O9*8","v":0},{"$f":"J9+L9","v":0},{"$f":"M9-O9*12","v":0},{"$f":"Profile!P49","v":0},{"$f":"Profile!E49","v":0}]
[{"$f":"Profile!A50","v":"jktif=r"},{"$f":"Profile!B50","v":2},{"$f":"Profile!C50","v":0},{"$f":"Profile!D50","v":0},{"$f":"Profile!F50","v":0},{"$f":"Profile!G50","v":"l0ys0v0&k"},{"$f":"Profile!H50","v":"ysoy"},{"$f":"Profile!I50","v":12},{"$f":"Profile!J50","v":0},{"$f":"I10*12","v":0},{"$f":"Profile!L50","v":"2026-07-01"},{"$f":"O10*8","v":0},{"$f":"J10+L10","v":0},{"$f":"M10-O10*12","v":0},{"$f":"Profile!P50","v":0},{"$f":"Profile!E50","v":0}]
[{"$f":"Profile!A51","v":"jktif=r"},{"$f":"Profile!B51","v":3},{"$f":"Profile!C51","v":0},{"$f":"Profile!D51","v":0},{"$f":"Profile!F51","v":0},{"$f":"Profile!G51","v":"O;k[;krk"},{"$f":"Profile!H51","v":"ysoy"},{"$f":"Profile!I51","v":12},{"$f":"Profile!J51","v":0},0,{"$f":"Profile!L51","v":"2026-07-01"},0,0,{"$f":"M11-O11*12","v":0},{"$f":"Profile!P51","v":0},{"$f":"Profile!E51","v":0}]
[{"$f":"Profile!A52","v":"jktif=r"},{"$f":"Profile!B52","v":4},{"$f":"Profile!C52","v":0},{"$f":"Profile!D52","v":0},{"$f":"Profile!F52","v":0},{"$f":"Profile!G52","v":"O;k[;krk"},{"$f":"Profile!H52","v":"ysoy"},{"$f":"Profile!I52","v":12},{"$f":"Profile!J52","v":0},0,{"$f":"Profile!L52","v":"2026-07-01"},0,0,0,{"$f":"Profile!P52","v":0},{"$f":"Profile!E52","v":0}]
[{"$f":"Profile!A53","v":"jktif=r"},{"$f":"Profile!B53","v":5},{"$f":"Profile!C53","v":0},{"$f":"Profile!D53","v":0},{"$f":"Profile!F53","v":0},{"$f":"Profile!G53","v":"O;k[;krk"},{"$f":"Profile!H53","v":"ysoy"},{"$f":"Profile!I53","v":12},{"$f":"Profile!J53","v":0},0,{"$f":"Profile!L53","v":"2026-07-01"},0,0,0,{"$f":"Profile!P53","v":0},{"$f":"Profile!E53","v":0}]
[{"$f":"Profile!A54","v":"jktif=r"},{"$f":"Profile!B54","v":6},{"$f":"Profile!C54","v":0},{"$f":"Profile!D54","v":0},{"$f":"Profile!F54","v":0},{"$f":"Profile!G54","v":"O;k[;krk"},{"$f":"Profile!H54","v":"ysoy"},{"$f":"Profile!I54","v":12},{"$f":"Profile!J54","v":0},0,{"$f":"Profile!L54","v":"2026-07-01"},0,0,0,{"$f":"Profile!P54","v":0},{"$f":"Profile!E54","v":0}]
[{"$f":"Profile!A55","v":"jktif=r"},{"$f":"Profile!B55","v":7},{"$f":"Profile!C55","v":0},{"$f":"Profile!D55","v":0},{"$f":"Profile!F55","v":0},{"$f":"Profile!G55","v":"iz'kklfud vf/kdkjh"},{"$f":"Profile!H55","v":"ysoy"},{"$f":"Profile!I55","v":12},{"$f":"Profile!J55","v":0},0,{"$f":"Profile!L55","v":"2026-07-01"},0,0,0,{"$f":"Profile!P55","v":0},{"$f":"Profile!E55","v":0}]
[{"$f":"Profile!A56","v":"vjktif=r"},{"$f":"Profile!B56","v":1},{"$f":"Profile!C56","v":0},{"$f":"Profile!D56","v":"ANITA SHARMA"},{"$f":"Profile!F56","v":556254},{"$f":"Profile!G56","v":"v/;kid"},{"$f":"Profile!H56","v":"ysoy"},{"$f":"Profile!I56","v":10},{"$f":"Profile!J56","v":42700},512400,{"$f":"Profile!L56","v":"2026-07-01"},10400,522800,507200,{"$f":"Profile!P56","v":1300},{"$f":"Profile!E56","v":"RJBI201709025912"}]
[{"$f":"Profile!A57","v":"vjktif=r"},{"$f":"Profile!B57","v":2},{"$f":"Profile!C57","v":0},{"$f":"Profile!D57","v":"ANITA YADAV"},{"$f":"Profile!F57","v":0},{"$f":"Profile!G57","v":"v/;kid"},{"$f":"Profile!H57","v":"ysoy"},{"$f":"Profile!I57","v":10},{"$f":"Profile!J57","v":47900},{"$f":"I17*12","v":574800},{"$f":"Profile!L57","v":"2026-07-01"},11200,586000,569200,{"$f":"Profile!P57","v":1400},{"$f":"Profile!E57","v":"RJGA201235035721"}]
[{"$f":"Profile!A58","v":"vjktif=r"},{"$f":"Profile!B58","v":3},{"$f":"Profile!C58","v":0},{"$f":"Profile!D58","v":"ARPANA YADAV"},{"$f":"Profile!F58","v":632389},{"$f":"Profile!G58","v":"v/;kid"},{"$f":"Profile!H58","v":"ysoy"},{"$f":"Profile!I58","v":10},{"$f":"Profile!J58","v":38000},{"$f":"I18*12","v":456000},{"$f":"Profile!L58","v":"2026-07-01"},{"$f":"O18*8","v":8800},{"$f":"J18+L18","v":464800},{"$f":"M18-O18*12","v":451600},{"$f":"Profile!P58","v":1100},{"$f":"Profile!E58","v":"RJJL201921009195"}]
[{"$f":"Profile!A59","v":"vjktif=r"},{"$f":"Profile!B59","v":4},{"$f":"Profile!C59","v":0},{"$f":"Profile!D59","v":"ARUNA SWAMI"},{"$f":"Profile!F59","v":0},{"$f":"Profile!G59","v":"v/;kid"},{"$f":"Profile!H59","v":"ysoy"},{"$f":"Profile!I59","v":10},{"$f":"Profile!J59","v":46500},558000,{"$f":"Profile!L59","v":"2026-07-01"},11200,569200,552400,{"$f":"Profile!P59","v":1400},{"$f":"Profile!E59","v":"RJBI201309018501"}]
[{"$f":"Profile!A60","v":"vjktif=r"},{"$f":"Profile!B60","v":5},{"$f":"Profile!C60","v":0},{"$f":"Profile!D60","v":"ASHA KUMARI"},{"$f":"Profile!F60","v":0},{"$f":"Profile!G60","v":"v/;kid"},{"$f":"Profile!H60","v":"ysoy"},{"$f":"Profile!I60","v":10},{"$f":"Profile!J60","v":38000},456000,{"$f":"Profile!L60","v":"2026-07-01"},8800,464800,451600,{"$f":"Profile!P60","v":1100},{"$f":"Profile!E60","v":"RJBM201905006981"}]
[{"$f":"Profile!A61","v":"vjktif=r"},{"$f":"Profile!B61","v":6},{"$f":"Profile!C61","v":0},{"$f":"Profile!D61","v":"ASHOK KUMAR TANWAR"},{"$f":"Profile!F61","v":346443},{"$f":"Profile!G61","v":"v/;kid"},{"$f":"Profile!H61","v":"ysoy"},{"$f":"Profile!I61","v":10},{"$f":"Profile!J61","v":75400},904800,{"$f":"Profile!L61","v":"2026-07-01"},18400,923200,895600,{"$f":"Profile!P61","v":2300},{"$f":"Profile!E61","v":"RJBI199509008339"}]
[{"$f":"Profile!A62","v":"vjktif=r"},{"$f":"Profile!B62","v":7},{"$f":"Profile!C62","v":0},{"$f":"Profile!D62","v":"BABITA SHARMA"},{"$f":"Profile!F62","v":0},{"$f":"Profile!G62","v":"v/;kid"},{"$f":"Profile!H62","v":"ysoy"},{"$f":"Profile!I62","v":10},{"$f":"Profile!J62","v":47900},574800,{"$f":"Profile!L62","v":"2026-07-01"},11200,586000,569200,{"$f":"Profile!P62","v":1400},{"$f":"Profile!E62","v":"RJRA201231034753"}]
[{"$f":"Profile!A63","v":"vjktif=r"},{"$f":"Profile!B63","v":8},{"$f":"Profile!C63","v":0},{"$f":"Profile!D63","v":"BABULAL KUMHAR"},{"$f":"Profile!F63","v":547277},{"$f":"Profile!G63","v":"v/;kid"},{"$f":"Profile!H63","v":"ysoy"},{"$f":"Profile!I63","v":10},{"$f":"Profile!J63","v":47900},574800,{"$f":"Profile!L63","v":"2026-07-01"},11200,586000,569200,{"$f":"Profile!P63","v":1400},{"$f":"Profile!E63","v":"RJBI201209020700"}]
[{"$f":"Profile!A64","v":"vjktif=r"},{"$f":"Profile!B64","v":9},{"$f":"Profile!C64","v":0},{"$f":"Profile!D64","v":"BABURAM DANWA"},{"$f":"Profile!F64","v":0},{"$f":"Profile!G64","v":"v/;kid"},{"$f":"Profile!H64","v":"ysoy"},{"$f":"Profile!I64","v":10},{"$f":"Profile!J64","v":61300},735600,{"$f":"Profile!L64","v":"2026-07-01"},14400,750000,728400,{"$f":"Profile!P64","v":1800},{"$f":"Profile!E64","v":"RJBI200509009391"}]
[{"$f":"Profile!A65","v":"vjktif=r"},{"$f":"Profile!B65","v":10},{"$f":"Profile!C65","v":0},{"$f":"Profile!D65","v":"BAJRANG LAL KUMHAR"},{"$f":"Profile!F65","v":542161},{"$f":"Profile!G65","v":"v/;kid"},{"$f":"Profile!H65","v":"ysoy"},{"$f":"Profile!I65","v":10},{"$f":"Profile!J65","v":50800},609600,{"$f":"Profile!L65","v":"2026-07-01"},12000,621600,603600,{"$f":"Profile!P65","v":1500},{"$f":"Profile!E65","v":"RJBI201709001567"}]
[{"$f":"Profile!A66","v":"vjktif=r"},{"$f":"Profile!B66","v":11},{"$f":"Profile!C66","v":0},{"$f":"Profile!D66","v":"BASANT KUMAR GIRI"},{"$f":"Profile!F66","v":568725},{"$f":"Profile!G66","v":"v/;kid"},{"$f":"Profile!H66","v":"ysoy"},{"$f":"Profile!I66","v":10},{"$f":"Profile!J66","v":39100},469200,{"$f":"Profile!L66","v":"2026-07-01"},9600,478800,464400,{"$f":"Profile!P66","v":1200},{"$f":"Profile!E66","v":"RJBI201809009748"}]
[{"$f":"Profile!A67","v":"vjktif=r"},{"$f":"Profile!B67","v":12},{"$f":"Profile!C67","v":0},{"$f":"Profile!D67","v":"BHARTI PUROHIT"},{"$f":"Profile!F67","v":335938},{"$f":"Profile!G67","v":"v/;kid"},{"$f":"Profile!H67","v":"ysoy"},{"$f":"Profile!I67","v":10},{"$f":"Profile!J67","v":49300},591600,{"$f":"Profile!L67","v":"2026-07-01"},12000,603600,585600,{"$f":"Profile!P67","v":1500},{"$f":"Profile!E67","v":"RJBI200109000410"}]
[{"$f":"Profile!A68","v":"vjktif=r"},{"$f":"Profile!B68","v":13},{"$f":"Profile!C68","v":0},{"$f":"Profile!D68","v":"CHNDU KUMARI"},{"$f":"Profile!F68","v":0},{"$f":"Profile!G68","v":"v/;kid"},{"$f":"Profile!H68","v":"ysoy"},{"$f":"Profile!I68","v":10},{"$f":"Profile!J68","v":47900},574800,{"$f":"Profile!L68","v":"2026-07-01"},11200,586000,569200,{"$f":"Profile!P68","v":1400},{"$f":"Profile!E68","v":"RJBI201209019224"}]
[{"$f":"Profile!A69","v":"vjktif=r"},{"$f":"Profile!B69","v":14},{"$f":"Profile!C69","v":0},{"$f":"Profile!D69","v":"CHUNNA SARAN"},{"$f":"Profile!F69","v":377519},{"$f":"Profile!G69","v":" 'kk-f'k-"},{"$f":"Profile!H69","v":"ysoy"},{"$f":"Profile!I69","v":10},{"$f":"Profile!J69","v":42700},512400,{"$f":"Profile!L69","v":"2026-07-01"},10400,522800,507200,{"$f":"Profile!P69","v":1300},{"$f":"Profile!E69","v":"RJBI201509034080"}]
[{"$f":"Profile!A70","v":"vjktif=r"},{"$f":"Profile!B70","v":15},{"$f":"Profile!C70","v":0},{"$f":"Profile!D70","v":"DEEPA BAMNIYA"},{"$f":"Profile!F70","v":364589},{"$f":"Profile!G70","v":"v/;kid"},{"$f":"Profile!H70","v":"ysoy"},{"$f":"Profile!I70","v":10},{"$f":"Profile!J70","v":47900},574800,{"$f":"Profile!L70","v":"2026-07-01"},11200,586000,569200,{"$f":"Profile!P70","v":1400},{"$f":"Profile!E70","v":"RJBI201209031330"}]
[{"$f":"Profile!A71","v":"vjktif=r"},{"$f":"Profile!B71","v":16},{"$f":"Profile!C71","v":0},{"$f":"Profile!D71","v":"DEVENDER KUMAR GAHALOT"},{"$f":"Profile!F71","v":633508},{"$f":"Profile!G71","v":"v/;kid"},{"$f":"Profile!H71","v":"ysoy"},{"$f":"Profile!I71","v":10},{"$f":"Profile!J71","v":47900},574800,{"$f":"Profile!L71","v":"2026-07-01"},11200,586000,569200,{"$f":"Profile!P71","v":1400},{"$f":"Profile!E71","v":"RJBI201309026808"}]
[{"$f":"Profile!A72","v":"vjktif=r"},{"$f":"Profile!B72","v":17},{"$f":"Profile!C72","v":0},{"$f":"Profile!D72","v":"DURGA OJHA"},{"$f":"Profile!F72","v":0},{"$f":"Profile!G72","v":"v/;kid"},{"$f":"Profile!H72","v":"ysoy"},{"$f":"Profile!I72","v":10},{"$f":"Profile!J72","v":38000},456000,{"$f":"Profile!L72","v":"2026-07-01"},8800,464800,451600,{"$f":"Profile!P72","v":1100},{"$f":"Profile!E72","v":"RJBI201909003344"}]
[{"$f":"Profile!A73","v":"vjktif=r"},{"$f":"Profile!B73","v":18},{"$f":"Profile!C73","v":0},{"$f":"Profile!D73","v":"FIZA FATMA"},{"$f":"Profile!F73","v":550946},{"$f":"Profile!G73","v":"v/;kid"},{"$f":"Profile!H73","v":"ysoy"},{"$f":"Profile!I73","v":10},{"$f":"Profile!J73","v":39100},469200,{"$f":"Profile!L73","v":"2026-07-01"},9600,478800,464400,{"$f":"Profile!P73","v":1200},{"$f":"Profile!E73","v":"RJBI201709020349"}]
[{"$f":"Profile!A74","v":"vjktif=r"},{"$f":"Profile!B74","v":19},{"$f":"Profile!C74","v":0},{"$f":"Profile!D74","v":"GANESH NARAYAN HARITWAL"},{"$f":"Profile!F74","v":0},{"$f":"Profile!G74","v":"v/;kid"},{"$f":"Profile!H74","v":"ysoy"},{"$f":"Profile!I74","v":10},{"$f":"Profile!J74","v":35800},429600,{"$f":"Profile!L74","v":"2026-07-01"},8800,438400,425200,{"$f":"Profile!P74","v":1100},{"$f":"Profile!E74","v":"RJBI202009025005"}]
[{"$f":"Profile!A75","v":"vjktif=r"},{"$f":"Profile!B75","v":20},{"$f":"Profile!C75","v":0},{"$f":"Profile!D75","v":"GAUTAM JAJRA"},{"$f":"Profile!F75","v":377279},{"$f":"Profile!G75","v":"v/;kid"},{"$f":"Profile!H75","v":"ysoy"},{"$f":"Profile!I75","v":10},{"$f":"Profile!J75","v":47900},574800,{"$f":"Profile!L75","v":"2026-07-01"},11200,586000,569200,{"$f":"Profile!P75","v":1400},{"$f":"Profile!E75","v":"RJBI201209022599"}]
[{"$f":"Profile!A76","v":"vjktif=r"},{"$f":"Profile!B76","v":21},{"$f":"Profile!C76","v":0},{"$f":"Profile!D76","v":"INDU BALA"},{"$f":"Profile!F76","v":0},{"$f":"Profile!G76","v":"v/;kid"},{"$f":"Profile!H76","v":"ysoy"},{"$f":"Profile!I76","v":10},{"$f":"Profile!J76","v":36900},442800,{"$f":"Profile!L76","v":"2026-07-01"},8800,451600,438400,{"$f":"Profile!P76","v":1100},{"$f":"Profile!E76","v":"RJBI201909033830"}]
[{"$f":"Profile!A77","v":"vjktif=r"},{"$f":"Profile!B77","v":22},{"$f":"Profile!C77","v":0},{"$f":"Profile!D77","v":"JAGDISH PRASAD"},{"$f":"Profile!F77","v":557865},{"$f":"Profile!G77","v":"v/;kid"},{"$f":"Profile!H77","v":"ysoy"},{"$f":"Profile!I77","v":10},{"$f":"Profile!J77","v":42700},512400,{"$f":"Profile!L77","v":"2026-07-01"},10400,522800,507200,{"$f":"Profile!P77","v":1300},{"$f":"Profile!E77","v":"RJJL201221024594"}]
[{"$f":"Profile!A78","v":"vjktif=r"},{"$f":"Profile!B78","v":23},{"$f":"Profile!C78","v":0},{"$f":"Profile!D78","v":"KAMLA NAYAK"},{"$f":"Profile!F78","v":358515},{"$f":"Profile!G78","v":"v/;kid"},{"$f":"Profile!H78","v":"ysoy"},{"$f":"Profile!I78","v":10},{"$f":"Profile!J78","v":52300},627600,{"$f":"Profile!L78","v":"2026-07-01"},12800,640400,621200,{"$f":"Profile!P78","v":1600},{"$f":"Profile!E78","v":"RJJS200720011537"}]
[{"$f":"Profile!A79","v":"vjktif=r"},{"$f":"Profile!B79","v":24},{"$f":"Profile!C79","v":0},{"$f":"Profile!D79","v":"KAUSHALYA SAINI"},{"$f":"Profile!F79","v":632428},{"$f":"Profile!G79","v":"v/;kid"},{"$f":"Profile!H79","v":"ysoy"},{"$f":"Profile!I79","v":10},{"$f":"Profile!J79","v":38000},456000,{"$f":"Profile!L79","v":"2026-07-01"},8800,464800,451600,{"$f":"Profile!P79","v":1100},{"$f":"Profile!E79","v":"RJBM201905011981"}]
[{"$f":"Profile!A80","v":"vjktif=r"},{"$f":"Profile!B80","v":25},{"$f":"Profile!C80","v":0},{"$f":"Profile!D80","v":"KAVITA RANI"},{"$f":"Profile!F80","v":377192},{"$f":"Profile!G80","v":"v/;kid"},{"$f":"Profile!H80","v":"ysoy"},{"$f":"Profile!I80","v":10},{"$f":"Profile!J80","v":50800},609600,{"$f":"Profile!L80","v":"2026-07-01"},12000,621600,603600,{"$f":"Profile!P80","v":1500},{"$f":"Profile!E80","v":"RJBI200809006536"}]
[{"$f":"Profile!A81","v":"vjktif=r"},{"$f":"Profile!B81","v":26},{"$f":"Profile!C81","v":0},{"$f":"Profile!D81","v":"KAVITA YADAV"},{"$f":"Profile!F81","v":632166},{"$f":"Profile!G81","v":"v/;kid"},{"$f":"Profile!H81","v":"ysoy"},{"$f":"Profile!I81","v":10},{"$f":"Profile!J81","v":36900},442800,{"$f":"Profile!L81","v":"2026-07-01"},8800,451600,438400,{"$f":"Profile!P81","v":1100},{"$f":"Profile!E81","v":"RJBM201905011901"}]
[{"$f":"Profile!A82","v":"vjktif=r"},{"$f":"Profile!B82","v":27},{"$f":"Profile!C82","v":0},{"$f":"Profile!D82","v":"KHUSHBOO"},{"$f":"Profile!F82","v":403195},{"$f":"Profile!G82","v":"v/;kid"},{"$f":"Profile!H82","v":"ysoy"},{"$f":"Profile!I82","v":10},{"$f":"Profile!J82","v":52300},627600,{"$f":"Profile!L82","v":"2026-07-01"},12800,640400,621200,{"$f":"Profile!P82","v":1600},{"$f":"Profile!E82","v":"RJBM200705007645"}]
[{"$f":"Profile!A83","v":"vjktif=r"},{"$f":"Profile!B83","v":28},{"$f":"Profile!C83","v":0},{"$f":"Profile!D83","v":"KRISHAN KUMAR KHATRI"},{"$f":"Profile!F83","v":0},{"$f":"Profile!G83","v":"v/;kid"},{"$f":"Profile!H83","v":"ysoy"},{"$f":"Profile!I83","v":10},{"$f":"Profile!J83","v":75400},904800,{"$f":"Profile!L83","v":"2026-07-01"},18400,923200,895600,{"$f":"Profile!P83","v":2300},{"$f":"Profile!E83","v":"RJBI199509008763"}]
[{"$f":"Profile!A84","v":"vjktif=r"},{"$f":"Profile!B84","v":29},{"$f":"Profile!C84","v":0},{"$f":"Profile!D84","v":"LALITA PARIHAR"},{"$f":"Profile!F84","v":0},{"$f":"Profile!G84","v":"v/;kid"},{"$f":"Profile!H84","v":"ysoy"},{"$f":"Profile!I84","v":10},{"$f":"Profile!J84","v":47900},574800,{"$f":"Profile!L84","v":"2026-07-01"},11200,586000,569200,{"$f":"Profile!P84","v":1400},{"$f":"Profile!E84","v":"RJBI201209019214"}]
[{"$f":"Profile!A85","v":"vjktif=r"},{"$f":"Profile!B85","v":30},{"$f":"Profile!C85","v":0},{"$f":"Profile!D85","v":"LALITA SANKHALA"},{"$f":"Profile!F85","v":599151},{"$f":"Profile!G85","v":"v/;kid"},{"$f":"Profile!H85","v":"ysoy"},{"$f":"Profile!I85","v":10},{"$f":"Profile!J85","v":38000},456000,{"$f":"Profile!L85","v":"2026-07-01"},8800,464800,451600,{"$f":"Profile!P85","v":1100},{"$f":"Profile!E85","v":"RJBI201909016012"}]
[{"$f":"Profile!A86","v":"vjktif=r"},{"$f":"Profile!B86","v":31},{"$f":"Profile!C86","v":0},{"$f":"Profile!D86","v":"LAXMAN SINGH SANKHLA"},{"$f":"Profile!F86","v":0},{"$f":"Profile!G86","v":"v/;kid"},{"$f":"Profile!H86","v":"ysoy"},{"$f":"Profile!I86","v":10},{"$f":"Profile!J86","v":61300},735600,{"$f":"Profile!L86","v":"2026-07-01"},14400,750000,728400,{"$f":"Profile!P86","v":1800},{"$f":"Profile!E86","v":"RJBI200509015139"}]
[{"$f":"Profile!A87","v":"vjktif=r"},{"$f":"Profile!B87","v":32},{"$f":"Profile!C87","v":0},{"$f":"Profile!D87","v":"LAXMI BENIWAL"},{"$f":"Profile!F87","v":556231},{"$f":"Profile!G87","v":"v/;kid"},{"$f":"Profile!H87","v":"ysoy"},{"$f":"Profile!I87","v":10},{"$f":"Profile!J87","v":42700},512400,{"$f":"Profile!L87","v":"2026-07-01"},10400,522800,507200,{"$f":"Profile!P87","v":1300},{"$f":"Profile!E87","v":"RJBI201709041566"}]
[{"$f":"Profile!A88","v":"vjktif=r"},{"$f":"Profile!B88","v":33},{"$f":"Profile!C88","v":0},{"$f":"Profile!D88","v":"LEKHNATH SIDH"},{"$f":"Profile!F88","v":0},{"$f":"Profile!G88","v":"v/;kid"},{"$f":"Profile!H88","v":"ysoy"},{"$f":"Profile!I88","v":10},{"$f":"Profile!J88","v":35800},429600,{"$f":"Profile!L88","v":"2026-07-01"},8800,438400,425200,{"$f":"Profile!P88","v":1100},{"$f":"Profile!E88","v":"RJBI202009025020"}]
[{"$f":"Profile!A89","v":"vjktif=r"},{"$f":"Profile!B89","v":34},{"$f":"Profile!C89","v":0},{"$f":"Profile!D89","v":"MANGI LAL"},{"$f":"Profile!F89","v":338313},{"$f":"Profile!G89","v":"v/;kid"},{"$f":"Profile!H89","v":"ysoy"},{"$f":"Profile!I89","v":10},{"$f":"Profile!J89","v":52300},627600,{"$f":"Profile!L89","v":"2026-07-01"},12800,640400,621200,{"$f":"Profile!P89","v":1600},{"$f":"Profile!E89","v":"RJJS200720011017"}]
[{"$f":"Profile!A90","v":"vjktif=r"},{"$f":"Profile!B90","v":35},{"$f":"Profile!C90","v":0},{"$f":"Profile!D90","v":"MANJU CHAUDHARI"},{"$f":"Profile!F90","v":556241},{"$f":"Profile!G90","v":"v/;kid"},{"$f":"Profile!H90","v":"ysoy"},{"$f":"Profile!I90","v":10},{"$f":"Profile!J90","v":42700},512400,{"$f":"Profile!L90","v":"2026-07-01"},10400,522800,507200,{"$f":"Profile!P90","v":1300},{"$f":"Profile!E90","v":"RJBI201709025922"}]
[{"$f":"Profile!A91","v":"vjktif=r"},{"$f":"Profile!B91","v":36},{"$f":"Profile!C91","v":0},{"$f":"Profile!D91","v":"MEENA PUNJABI"},{"$f":"Profile!F91","v":532729},{"$f":"Profile!G91","v":"v/;kid"},{"$f":"Profile!H91","v":"ysoy"},{"$f":"Profile!I91","v":10},{"$f":"Profile!J91","v":67000},804000,{"$f":"Profile!L91","v":"2026-07-01"},16000,820000,796000,{"$f":"Profile!P91","v":2000},{"$f":"Profile!E91","v":"RJBI199609003728"}]
[{"$f":"Profile!A92","v":"vjktif=r"},{"$f":"Profile!B92","v":37},{"$f":"Profile!C92","v":0},{"$f":"Profile!D92","v":"MINAKSHI"},{"$f":"Profile!F92","v":502709},{"$f":"Profile!G92","v":"v/;kid"},{"$f":"Profile!H92","v":"ysoy"},{"$f":"Profile!I92","v":10},{"$f":"Profile!J92","v":45100},541200,{"$f":"Profile!L92","v":"2026-07-01"},11200,552400,535600,{"$f":"Profile!P92","v":1400},{"$f":"Profile!E92","v":"RJBI201509005231"}]
[{"$f":"Profile!A93","v":"vjktif=r"},{"$f":"Profile!B93","v":38},{"$f":"Profile!C93","v":0},{"$f":"Profile!D93","v":"MINAKSHI SANKHLA"},{"$f":"Profile!F93","v":496421},{"$f":"Profile!G93","v":"v/;kid"},{"$f":"Profile!H93","v":"ysoy"},{"$f":"Profile!I93","v":10},{"$f":"Profile!J93","v":52300},627600,{"$f":"Profile!L93","v":"2026-07-01"},12800,640400,621200,{"$f":"Profile!P93","v":1600},{"$f":"Profile!E93","v":"RJJO200725006788"}]
[{"$f":"Profile!A94","v":"vjktif=r"},{"$f":"Profile!B94","v":39},{"$f":"Profile!C94","v":0},{"$f":"Profile!D94","v":"MINAXI TANWAR"},{"$f":"Profile!F94","v":0},{"$f":"Profile!G94","v":"v/;kid"},{"$f":"Profile!H94","v":"ysoy"},{"$f":"Profile!I94","v":10},{"$f":"Profile!J94","v":38000},456000,{"$f":"Profile!L94","v":"2026-07-01"},8800,464800,451600,{"$f":"Profile!P94","v":1100},{"$f":"Profile!E94","v":"RJJL201921002461"}]
[{"$f":"Profile!A95","v":"vjktif=r"},{"$f":"Profile!B95","v":40},{"$f":"Profile!C95","v":0},{"$f":"Profile!D95","v":"MUKTA RANI"},{"$f":"Profile!F95","v":563425},{"$f":"Profile!G95","v":" 'kk-f'k-"},{"$f":"Profile!H95","v":"ysoy"},{"$f":"Profile!I95","v":10},{"$f":"Profile!J95","v":45100},541200,{"$f":"Profile!L95","v":"2026-07-01"},11200,552400,535600,{"$f":"Profile!P95","v":1400},{"$f":"Profile!E95","v":"RJBI201709039550"}]
[{"$f":"Profile!A96","v":"vjktif=r"},{"$f":"Profile!B96","v":41},{"$f":"Profile!C96","v":0},{"$f":"Profile!D96","v":"ONKAR SINGH RATHORE"},{"$f":"Profile!F96","v":359704},{"$f":"Profile!G96","v":"v/;kid"},{"$f":"Profile!H96","v":"ysoy"},{"$f":"Profile!I96","v":10},{"$f":"Profile!J96","v":71100},853200,{"$f":"Profile!L96","v":"2026-07-01"},16800,870000,844800,{"$f":"Profile!P96","v":2100},{"$f":"Profile!E96","v":"RJBI199309008951"}]
[{"$f":"Profile!A97","v":"vjktif=r"},{"$f":"Profile!B97","v":42},{"$f":"Profile!C97","v":0},{"$f":"Profile!D97","v":"PRAVEEN SINGH SHEKHAWAT"},{"$f":"Profile!F97","v":0},{"$f":"Profile!G97","v":"v/;kid"},{"$f":"Profile!H97","v":"ysoy"},{"$f":"Profile!I97","v":10},{"$f":"Profile!J97","v":45100},541200,{"$f":"Profile!L97","v":"2026-07-01"},11200,552400,535600,{"$f":"Profile!P97","v":1400},{"$f":"Profile!E97","v":"RJJL201521004887"}]
[{"$f":"Profile!A98","v":"vjktif=r"},{"$f":"Profile!B98","v":43},{"$f":"Profile!C98","v":0},{"$f":"Profile!D98","v":"PUNAM KUMARI RAO"},{"$f":"Profile!F98","v":564123},{"$f":"Profile!G98","v":"v/;kid"},{"$f":"Profile!H98","v":"ysoy"},{"$f":"Profile!I98","v":10},{"$f":"Profile!J98","v":42700},512400,{"$f":"Profile!L98","v":"2026-07-01"},10400,522800,507200,{"$f":"Profile!P98","v":1300},{"$f":"Profile!E98","v":"RJBI201709037445"}]
[{"$f":"Profile!A99","v":"vjktif=r"},{"$f":"Profile!B99","v":44},{"$f":"Profile!C99","v":0},{"$f":"Profile!D99","v":"RAJA RAM"},{"$f":"Profile!F99","v":505952},{"$f":"Profile!G99","v":"v/;kid"},{"$f":"Profile!H99","v":"ysoy"},{"$f":"Profile!I99","v":10},{"$f":"Profile!J99","v":52300},627600,{"$f":"Profile!L99","v":"2026-07-01"},12800,640400,621200,{"$f":"Profile!P99","v":1600},{"$f":"Profile!E99","v":"RJBM200705007810"}]
[{"$f":"Profile!A100","v":"vjktif=r"},{"$f":"Profile!B100","v":45},{"$f":"Profile!C100","v":0},{"$f":"Profile!D100","v":"RAJENDRA KUMAR JANAGAL"},{"$f":"Profile!F100","v":398773},{"$f":"Profile!G100","v":"v/;kid"},{"$f":"Profile!H100","v":"ysoy"},{"$f":"Profile!I100","v":10},{"$f":"Profile!J100","v":50800},609600,{"$f":"Profile!L100","v":"2026-07-01"},12000,621600,603600,{"$f":"Profile!P100","v":1500},{"$f":"Profile!E100","v":"RJBI200809002855"}]
[{"$f":"Profile!A101","v":"vjktif=r"},{"$f":"Profile!B101","v":46},{"$f":"Profile!C101","v":0},{"$f":"Profile!D101","v":"RAJLAXMI MODI"},{"$f":"Profile!F101","v":542309},{"$f":"Profile!G101","v":"v/;kid"},{"$f":"Profile!H101","v":"ysoy"},{"$f":"Profile!I101","v":10},{"$f":"Profile!J101","v":52300},627600,{"$f":"Profile!L101","v":"2026-07-01"},12800,640400,621200,{"$f":"Profile!P101","v":1600},{"$f":"Profile!E101","v":"RJBM200705003128"}]
[{"$f":"Profile!A102","v":"vjktif=r"},{"$f":"Profile!B102","v":47},{"$f":"Profile!C102","v":0},{"$f":"Profile!D102","v":"RAKHI DADHICH"},{"$f":"Profile!F102","v":532945},{"$f":"Profile!G102","v":"v/;kid"},{"$f":"Profile!H102","v":"ysoy"},{"$f":"Profile!I102","v":10},{"$f":"Profile!J102","v":46500},558000,{"$f":"Profile!L102","v":"2026-07-01"},11200,569200,552400,{"$f":"Profile!P102","v":1400},{"$f":"Profile!E102","v":"RJBI201309034482"}]
[{"$f":"Profile!A103","v":"vjktif=r"},{"$f":"Profile!B103","v":48},{"$f":"Profile!C103","v":0},{"$f":"Profile!D103","v":"RAM DAYAL JAKHAR"},{"$f":"Profile!F103","v":377835},{"$f":"Profile!G103","v":"v/;kid"},{"$f":"Profile!H103","v":"ysoy"},{"$f":"Profile!I103","v":10},{"$f":"Profile!J103","v":45100},541200,{"$f":"Profile!L103","v":"2026-07-01"},11200,552400,535600,{"$f":"Profile!P103","v":1400},{"$f":"Profile!E103","v":"RJBI201509031406"}]
[{"$f":"Profile!A104","v":"vjktif=r"},{"$f":"Profile!B104","v":49},{"$f":"Profile!C104","v":0},{"$f":"Profile!D104","v":"RENU KUMARI"},{"$f":"Profile!F104","v":550940},{"$f":"Profile!G104","v":"v/;kid"},{"$f":"Profile!H104","v":"ysoy"},{"$f":"Profile!I104","v":10},{"$f":"Profile!J104","v":39100},469200,{"$f":"Profile!L104","v":"2026-07-01"},9600,478800,464400,{"$f":"Profile!P104","v":1200},{"$f":"Profile!E104","v":"RJBI201709020304"}]
[{"$f":"Profile!A105","v":"vjktif=r"},{"$f":"Profile!B105","v":50},{"$f":"Profile!C105","v":0},{"$f":"Profile!D105","v":"RUCHI BHARDWAJ"},{"$f":"Profile!F105","v":587691},{"$f":"Profile!G105","v":"v/;kid"},{"$f":"Profile!H105","v":"ysoy"},{"$f":"Profile!I105","v":10},{"$f":"Profile!J105","v":38000},456000,{"$f":"Profile!L105","v":"2026-07-01"},8800,464800,451600,{"$f":"Profile!P105","v":1100},{"$f":"Profile!E105","v":"RJBI201809047210"}]
[{"$f":"Profile!A106","v":"vjktif=r"},{"$f":"Profile!B106","v":51},{"$f":"Profile!C106","v":0},{"$f":"Profile!D106","v":"RUPALI TYAGI"},{"$f":"Profile!F106","v":610256},{"$f":"Profile!G106","v":"v/;kid"},{"$f":"Profile!H106","v":"ysoy"},{"$f":"Profile!I106","v":10},{"$f":"Profile!J106","v":38000},456000,{"$f":"Profile!L106","v":"2026-07-01"},8800,464800,451600,{"$f":"Profile!P106","v":1100},{"$f":"Profile!E106","v":"RJBI201909014914"}]
[{"$f":"Profile!A107","v":"vjktif=r"},{"$f":"Profile!B107","v":52},{"$f":"Profile!C107","v":0},{"$f":"Profile!D107","v":"SAHI RAM"},{"$f":"Profile!F107","v":0},{"$f":"Profile!G107","v":"v/;kid"},{"$f":"Profile!H107","v":"ysoy"},{"$f":"Profile!I107","v":10},{"$f":"Profile!J107","v":47900},574800,{"$f":"Profile!L107","v":"2026-07-01"},11200,586000,569200,{"$f":"Profile!P107","v":1400},{"$f":"Profile!E107","v":"RJJW20122200570"}]
[{"$f":"Profile!A108","v":"vjktif=r"},{"$f":"Profile!B108","v":53},{"$f":"Profile!C108","v":0},{"$f":"Profile!D108","v":"SANJANA TANWAR"},{"$f":"Profile!F108","v":566535},{"$f":"Profile!G108","v":"v/;kid"},{"$f":"Profile!H108","v":"ysoy"},{"$f":"Profile!I108","v":10},{"$f":"Profile!J108","v":39100},469200,{"$f":"Profile!L108","v":"2026-07-01"},9600,478800,464400,{"$f":"Profile!P108","v":1200},{"$f":"Profile!E108","v":"RJBI201809008928"}]
[{"$f":"Profile!A109","v":"vjktif=r"},{"$f":"Profile!B109","v":54},{"$f":"Profile!C109","v":0},{"$f":"Profile!D109","v":"SARITA SHARMA"},{"$f":"Profile!F109","v":526037},{"$f":"Profile!G109","v":"v/;kid"},{"$f":"Profile!H109","v":"ysoy"},{"$f":"Profile!I109","v":10},{"$f":"Profile!J109","v":47900},574800,{"$f":"Profile!L109","v":"2026-07-01"},11200,586000,569200,{"$f":"Profile!P109","v":1400},{"$f":"Profile!E109","v":"RJBI201209019229"}]
[{"$f":"Profile!A110","v":"vjktif=r"},{"$f":"Profile!B110","v":55},{"$f":"Profile!C110","v":0},{"$f":"Profile!D110","v":"SAZIDA JOIYA"},{"$f":"Profile!F110","v":526048},{"$f":"Profile!G110","v":"v/;kid"},{"$f":"Profile!H110","v":"ysoy"},{"$f":"Profile!I110","v":10},{"$f":"Profile!J110","v":47900},574800,{"$f":"Profile!L110","v":"2026-07-01"},11200,586000,569200,{"$f":"Profile!P110","v":1400},{"$f":"Profile!E110","v":"RJBI201209028116"}]
[{"$f":"Profile!A111","v":"vjktif=r"},{"$f":"Profile!B111","v":56},{"$f":"Profile!C111","v":0},{"$f":"Profile!D111","v":"SHISHRAM DHAYAL"},{"$f":"Profile!F111","v":359833},{"$f":"Profile!G111","v":"v/;kid"},{"$f":"Profile!H111","v":"ysoy"},{"$f":"Profile!I111","v":10},{"$f":"Profile!J111","v":69000},828000,{"$f":"Profile!L111","v":"2026-07-01"},16800,844800,819600,{"$f":"Profile!P111","v":2100},{"$f":"Profile!E111","v":"RJBI199709011109"}]
[{"$f":"Profile!A112","v":"vjktif=r"},{"$f":"Profile!B112","v":57},{"$f":"Profile!C112","v":0},{"$f":"Profile!D112","v":"SHOBHANA"},{"$f":"Profile!F112","v":550935},{"$f":"Profile!G112","v":"v/;kid"},{"$f":"Profile!H112","v":"ysoy"},{"$f":"Profile!I112","v":10},{"$f":"Profile!J112","v":39100},469200,{"$f":"Profile!L112","v":"2026-07-01"},9600,478800,464400,{"$f":"Profile!P112","v":1200},{"$f":"Profile!E112","v":"RJBI201709021435"}]
[{"$f":"Profile!A113","v":"vjktif=r"},{"$f":"Profile!B113","v":58},{"$f":"Profile!C113","v":0},{"$f":"Profile!D113","v":"SITARAM"},{"$f":"Profile!F113","v":0},{"$f":"Profile!G113","v":"v/;kid"},{"$f":"Profile!H113","v":"ysoy"},{"$f":"Profile!I113","v":10},{"$f":"Profile!J113","v":50800},609600,{"$f":"Profile!L113","v":"2026-07-01"},12000,621600,603600,{"$f":"Profile!P113","v":1500},{"$f":"Profile!E113","v":"RJBI200809012267"}]
[{"$f":"Profile!A114","v":"vjktif=r"},{"$f":"Profile!B114","v":59},{"$f":"Profile!C114","v":0},{"$f":"Profile!D114","v":"SULOCHANA"},{"$f":"Profile!F114","v":429387},{"$f":"Profile!G114","v":"v/;kid"},{"$f":"Profile!H114","v":"ysoy"},{"$f":"Profile!I114","v":10},{"$f":"Profile!J114","v":50800},609600,{"$f":"Profile!L114","v":"2026-07-01"},12000,621600,603600,{"$f":"Profile!P114","v":1500},{"$f":"Profile!E114","v":"RJBI200809048981"}]
[{"$f":"Profile!A115","v":"vjktif=r"},{"$f":"Profile!B115","v":60},{"$f":"Profile!C115","v":0},{"$f":"Profile!D115","v":"SUMAN RAMAVAT"},{"$f":"Profile!F115","v":0},{"$f":"Profile!G115","v":"v/;kid"},{"$f":"Profile!H115","v":"ysoy"},{"$f":"Profile!I115","v":10},{"$f":"Profile!J115","v":50800},609600,{"$f":"Profile!L115","v":"2026-07-01"},12000,621600,603600,{"$f":"Profile!P115","v":1500},{"$f":"Profile!E115","v":"RJBI200809012629"}]
[{"$f":"Profile!A116","v":"vjktif=r"},{"$f":"Profile!B116","v":61},{"$f":"Profile!C116","v":0},{"$f":"Profile!D116","v":"SUNITA CHOUDHARY"},{"$f":"Profile!F116","v":0},{"$f":"Profile!G116","v":"v/;kid"},{"$f":"Profile!H116","v":"ysoy"},{"$f":"Profile!I116","v":10},{"$f":"Profile!J116","v":47900},574800,{"$f":"Profile!L116","v":"2026-07-01"},11200,586000,569200,{"$f":"Profile!P116","v":1400},{"$f":"Profile!E116","v":"RJBI201209028120"}]
[{"$f":"Profile!A117","v":"vjktif=r"},{"$f":"Profile!B117","v":62},{"$f":"Profile!C117","v":0},{"$f":"Profile!D117","v":"SURENDER SINGH"},{"$f":"Profile!F117","v":0},{"$f":"Profile!G117","v":"v/;kid"},{"$f":"Profile!H117","v":"ysoy"},{"$f":"Profile!I117","v":10},{"$f":"Profile!J117","v":38000},456000,{"$f":"Profile!L117","v":"2026-07-01"},8800,464800,451600,{"$f":"Profile!P117","v":1100},{"$f":"Profile!E117","v":"RJBI201709038693"}]
[{"$f":"Profile!A118","v":"vjktif=r"},{"$f":"Profile!B118","v":63},{"$f":"Profile!C118","v":0},{"$f":"Profile!D118","v":"SUSHEEL KUMAR SHARMA"},{"$f":"Profile!F118","v":653540},{"$f":"Profile!G118","v":"v/;kid"},{"$f":"Profile!H118","v":"ysoy"},{"$f":"Profile!I118","v":10},{"$f":"Profile!J118","v":34800},417600,{"$f":"Profile!L118","v":"2026-07-01"},8000,425600,413600,{"$f":"Profile!P118","v":1000},{"$f":"Profile!E118","v":"RJBI202109001584"}]
[{"$f":"Profile!A119","v":"vjktif=r"},{"$f":"Profile!B119","v":64},{"$f":"Profile!C119","v":0},{"$f":"Profile!D119","v":"VISHNU KUMAR CHANDAN"},{"$f":"Profile!F119","v":492297},{"$f":"Profile!G119","v":"v/;kid"},{"$f":"Profile!H119","v":"ysoy"},{"$f":"Profile!I119","v":10},{"$f":"Profile!J119","v":47900},574800,{"$f":"Profile!L119","v":"2026-07-01"},11200,586000,569200,{"$f":"Profile!P119","v":1400},{"$f":"Profile!E119","v":"RJBI201209049614"}]
[{"$f":"Profile!A120","v":"vjktif=r"},{"$f":"Profile!B120","v":65},{"$f":"Profile!C120","v":0},{"$f":"Profile!D120","v":0},{"$f":"Profile!F120","v":0},{"$f":"Profile!G120","v":"v/;kid"},{"$f":"Profile!H120","v":"ysoy"},{"$f":"Profile!I120","v":10},{"$f":"Profile!J120","v":0},0,{"$f":"Profile!L120","v":"2026-07-01"},0,0,0,{"$f":"Profile!P120","v":0},{"$f":"Profile!E120","v":0}]
[{"$f":"Profile!A121","v":"vjktif=r"},{"$f":"Profile!B121","v":66},{"$f":"Profile!C121","v":0},{"$f":"Profile!D121","v":0},{"$f":"Profile!F121","v":0},{"$f":"Profile!G121","v":"v/;kid"},{"$f":"Profile!H121","v":"ysoy"},{"$f":"Profile!I121","v":10},{"$f":"Profile!J121","v":0},0,{"$f":"Profile!L121","v":"2026-07-01"},0,0,0,{"$f":"Profile!P121","v":0},{"$f":"Profile!E121","v":0}]
[{"$f":"Profile!A122","v":"vjktif=r"},{"$f":"Profile!B122","v":67},{"$f":"Profile!C122","v":0},{"$f":"Profile!D122","v":0},{"$f":"Profile!F122","v":0},{"$f":"Profile!G122","v":"v/;kid"},{"$f":"Profile!H122","v":"ysoy"},{"$f":"Profile!I122","v":10},{"$f":"Profile!J122","v":0},{"$f":"I82*12","v":0},{"$f":"Profile!L122","v":"2026-07-01"},{"$f":"O82*8","v":0},{"$f":"J82+L82","v":0},{"$f":"M82-O82*12","v":0},{"$f":"Profile!P122","v":0},{"$f":"Profile!E122","v":0}]
[{"$f":"Profile!A123","v":"vjktif=r"},{"$f":"Profile!B123","v":68},{"$f":"Profile!C123","v":0},{"$f":"Profile!D123","v":0},{"$f":"Profile!F123","v":0},{"$f":"Profile!G123","v":"v/;kid"},{"$f":"Profile!H123","v":"ysoy"},{"$f":"Profile!I123","v":10},{"$f":"Profile!J123","v":0},0,{"$f":"Profile!L123","v":"2026-07-01"},0,0,0,{"$f":"Profile!P123","v":0},{"$f":"Profile!E123","v":0}]
[{"$f":"Profile!A124","v":"vjktif=r"},{"$f":"Profile!B124","v":69},{"$f":"Profile!C124","v":0},{"$f":"Profile!D124","v":0},{"$f":"Profile!F124","v":0},{"$f":"Profile!G124","v":"v/;kid"},{"$f":"Profile!H124","v":"ysoy"},{"$f":"Profile!I124","v":10},{"$f":"Profile!J124","v":0},0,{"$f":"Profile!L124","v":"2026-07-01"},0,0,0,{"$f":"Profile!P124","v":0},{"$f":"Profile!E124","v":0}]
[{"$f":"Profile!A125","v":"vjktif=r"},{"$f":"Profile!B125","v":70},{"$f":"Profile!C125","v":0},{"$f":"Profile!D125","v":0},{"$f":"Profile!F125","v":0},{"$f":"Profile!G125","v":"v/;kid"},{"$f":"Profile!H125","v":"ysoy"},{"$f":"Profile!I125","v":10},{"$f":"Profile!J125","v":0},0,{"$f":"Profile!L125","v":"2026-07-01"},0,0,0,{"$f":"Profile!P125","v":0},{"$f":"Profile!E125","v":0}]
[{"$f":"Profile!A126","v":"vjktif=r"},{"$f":"Profile!B126","v":71},{"$f":"Profile!C126","v":0},{"$f":"Profile!D126","v":0},{"$f":"Profile!F126","v":0},{"$f":"Profile!G126","v":"v/;kid"},{"$f":"Profile!H126","v":"ysoy"},{"$f":"Profile!I126","v":10},{"$f":"Profile!J126","v":0},0,{"$f":"Profile!L126","v":"2026-07-01"},0,0,0,{"$f":"Profile!P126","v":0},{"$f":"Profile!E126","v":0}]
[{"$f":"Profile!A127","v":"vjktif=r"},{"$f":"Profile!B127","v":72},{"$f":"Profile!C127","v":0},{"$f":"Profile!D127","v":0},{"$f":"Profile!F127","v":0},{"$f":"Profile!G127","v":"v/;kid"},{"$f":"Profile!H127","v":"ysoy"},{"$f":"Profile!I127","v":10},{"$f":"Profile!J127","v":0},{"$f":"I87*12","v":0},{"$f":"Profile!L127","v":"2026-07-01"},{"$f":"O87*8","v":0},{"$f":"J87+L87","v":0},{"$f":"M87-O87*12","v":0},{"$f":"Profile!P127","v":0},{"$f":"Profile!E127","v":0}]
[{"$f":"Profile!A128","v":"vjktif=r"},{"$f":"Profile!B128","v":73},{"$f":"Profile!C128","v":0},{"$f":"Profile!D128","v":0},{"$f":"Profile!F128","v":0},{"$f":"Profile!G128","v":"v/;kid"},{"$f":"Profile!H128","v":"ysoy"},{"$f":"Profile!I128","v":10},{"$f":"Profile!J128","v":0},0,{"$f":"Profile!L128","v":"2026-07-01"},0,0,0,{"$f":"Profile!P128","v":0},{"$f":"Profile!E128","v":0}]
[{"$f":"Profile!A129","v":"vjktif=r"},{"$f":"Profile!B129","v":74},{"$f":"Profile!C129","v":0},{"$f":"Profile!D129","v":0},{"$f":"Profile!F129","v":0},{"$f":"Profile!G129","v":"v/;kid"},{"$f":"Profile!H129","v":"ysoy"},{"$f":"Profile!I129","v":10},{"$f":"Profile!J129","v":0},0,{"$f":"Profile!L129","v":"2026-07-01"},0,0,0,{"$f":"Profile!P129","v":0},{"$f":"Profile!E129","v":0}]
[{"$f":"Profile!A130","v":"vjktif=r"},{"$f":"Profile!B130","v":75},{"$f":"Profile!C130","v":0},{"$f":"Profile!D130","v":0},{"$f":"Profile!F130","v":0},{"$f":"Profile!G130","v":"v/;kid"},{"$f":"Profile!H130","v":"ysoy"},{"$f":"Profile!I130","v":10},{"$f":"Profile!J130","v":0},0,{"$f":"Profile!L130","v":"2026-07-01"},0,0,0,{"$f":"Profile!P130","v":0},{"$f":"Profile!E130","v":0}]
[{"$f":"Profile!A131","v":"vjktif=r"},{"$f":"Profile!B131","v":76},{"$f":"Profile!C131","v":0},{"$f":"Profile!D131","v":0},{"$f":"Profile!F131","v":0},{"$f":"Profile!G131","v":"v/;kid"},{"$f":"Profile!H131","v":"ysoy"},{"$f":"Profile!I131","v":10},{"$f":"Profile!J131","v":0},0,{"$f":"Profile!L131","v":"2026-07-01"},0,0,0,{"$f":"Profile!P131","v":0},{"$f":"Profile!E131","v":0}]
[{"$f":"Profile!A132","v":"vjktif=r"},{"$f":"Profile!B132","v":77},{"$f":"Profile!C132","v":0},{"$f":"Profile!D132","v":0},{"$f":"Profile!F132","v":0},{"$f":"Profile!G132","v":"v/;kid"},{"$f":"Profile!H132","v":"ysoy"},{"$f":"Profile!I132","v":10},{"$f":"Profile!J132","v":0},0,{"$f":"Profile!L132","v":"2026-07-01"},0,0,0,{"$f":"Profile!P132","v":0},{"$f":"Profile!E132","v":0}]
[{"$f":"Profile!A133","v":"vjktif=r"},{"$f":"Profile!B133","v":78},{"$f":"Profile!C133","v":0},{"$f":"Profile!D133","v":0},{"$f":"Profile!F133","v":0},{"$f":"Profile!G133","v":"v/;kid"},{"$f":"Profile!H133","v":"ysoy"},{"$f":"Profile!I133","v":10},{"$f":"Profile!J133","v":0},0,{"$f":"Profile!L133","v":"2026-07-01"},0,0,0,{"$f":"Profile!P133","v":0},{"$f":"Profile!E133","v":0}]
[{"$f":"Profile!A134","v":"vjktif=r"},{"$f":"Profile!B134","v":79},{"$f":"Profile!C134","v":0},{"$f":"Profile!D134","v":0},{"$f":"Profile!F134","v":0},{"$f":"Profile!G134","v":"v/;kid"},{"$f":"Profile!H134","v":"ysoy"},{"$f":"Profile!I134","v":10},{"$f":"Profile!J134","v":0},0,{"$f":"Profile!L134","v":"2026-07-01"},0,0,0,{"$f":"Profile!P134","v":0},{"$f":"Profile!E134","v":0}]
[{"$f":"Profile!A135","v":"vjktif=r"},{"$f":"Profile!B135","v":80},{"$f":"Profile!C135","v":0},{"$f":"Profile!D135","v":0},{"$f":"Profile!F135","v":0},{"$f":"Profile!G135","v":"v/;kid"},{"$f":"Profile!H135","v":"ysoy"},{"$f":"Profile!I135","v":10},{"$f":"Profile!J135","v":0},0,{"$f":"Profile!L135","v":"2026-07-01"},0,0,0,{"$f":"Profile!P135","v":0},{"$f":"Profile!E135","v":0}]
[{"$f":"Profile!A136","v":"vjktif=r"},{"$f":"Profile!B136","v":81},{"$f":"Profile!C136","v":0},{"$f":"Profile!D136","v":0},{"$f":"Profile!F136","v":0},{"$f":"Profile!G136","v":"v/;kid"},{"$f":"Profile!H136","v":"ysoy"},{"$f":"Profile!I136","v":10},{"$f":"Profile!J136","v":0},0,{"$f":"Profile!L136","v":"2026-07-01"},0,0,0,{"$f":"Profile!P136","v":0},{"$f":"Profile!E136","v":0}]
[{"$f":"Profile!A137","v":"vjktif=r"},{"$f":"Profile!B137","v":82},{"$f":"Profile!C137","v":0},{"$f":"Profile!D137","v":0},{"$f":"Profile!F137","v":0},{"$f":"Profile!G137","v":"v/;kid"},{"$f":"Profile!H137","v":"ysoy"},{"$f":"Profile!I137","v":10},{"$f":"Profile!J137","v":0},0,{"$f":"Profile!L137","v":"2026-07-01"},0,0,0,{"$f":"Profile!P137","v":0},{"$f":"Profile!E137","v":0}]
[{"$f":"Profile!A138","v":"vjktif=r"},{"$f":"Profile!B138","v":83},{"$f":"Profile!C138","v":0},{"$f":"Profile!D138","v":0},{"$f":"Profile!F138","v":0},{"$f":"Profile!G138","v":"v/;kid"},{"$f":"Profile!H138","v":"ysoy"},{"$f":"Profile!I138","v":10},{"$f":"Profile!J138","v":0},0,{"$f":"Profile!L138","v":"2026-07-01"},0,0,0,{"$f":"Profile!P138","v":0},{"$f":"Profile!E138","v":0}]
[{"$f":"Profile!A139","v":"vjktif=r"},{"$f":"Profile!B139","v":84},{"$f":"Profile!C139","v":0},{"$f":"Profile!D139","v":0},{"$f":"Profile!F139","v":0},{"$f":"Profile!G139","v":"v/;kid"},{"$f":"Profile!H139","v":"ysoy"},{"$f":"Profile!I139","v":10},{"$f":"Profile!J139","v":0},0,{"$f":"Profile!L139","v":"2026-07-01"},0,0,0,{"$f":"Profile!P139","v":0},{"$f":"Profile!E139","v":0}]
[{"$f":"Profile!A140","v":"vjktif=r"},{"$f":"Profile!B140","v":85},{"$f":"Profile!C140","v":0},{"$f":"Profile!D140","v":0},{"$f":"Profile!F140","v":0},{"$f":"Profile!G140","v":"v/;kid"},{"$f":"Profile!H140","v":"ysoy"},{"$f":"Profile!I140","v":10},{"$f":"Profile!J140","v":0},0,{"$f":"Profile!L140","v":"2026-07-01"},0,0,0,{"$f":"Profile!P140","v":0},{"$f":"Profile!E140","v":0}]
[{"$f":"Profile!A141","v":"vjktif=r"},{"$f":"Profile!B141","v":86},{"$f":"Profile!C141","v":0},{"$f":"Profile!D141","v":0},{"$f":"Profile!F141","v":0},{"$f":"Profile!G141","v":"v/;kid"},{"$f":"Profile!H141","v":"ysoy"},{"$f":"Profile!I141","v":10},{"$f":"Profile!J141","v":0},0,{"$f":"Profile!L141","v":"2026-07-01"},0,0,0,{"$f":"Profile!P141","v":0},{"$f":"Profile!E141","v":0}]
[{"$f":"Profile!A142","v":"vjktif=r"},{"$f":"Profile!B142","v":87},{"$f":"Profile!C142","v":0},{"$f":"Profile!D142","v":0},{"$f":"Profile!F142","v":0},{"$f":"Profile!G142","v":"v/;kid"},{"$f":"Profile!H142","v":"ysoy"},{"$f":"Profile!I142","v":10},{"$f":"Profile!J142","v":0},0,{"$f":"Profile!L142","v":"2026-07-01"},0,0,0,{"$f":"Profile!P142","v":0},{"$f":"Profile!E142","v":0}]
[{"$f":"Profile!A143","v":"vjktif=r"},{"$f":"Profile!B143","v":88},{"$f":"Profile!C143","v":0},{"$f":"Profile!D143","v":0},{"$f":"Profile!F143","v":0},{"$f":"Profile!G143","v":"v/;kid"},{"$f":"Profile!H143","v":"ysoy"},{"$f":"Profile!I143","v":10},{"$f":"Profile!J143","v":0},0,{"$f":"Profile!L143","v":"2026-07-01"},0,0,0,{"$f":"Profile!P143","v":0},{"$f":"Profile!E143","v":0}]
[{"$f":"Profile!A144","v":"vjktif=r"},{"$f":"Profile!B144","v":89},{"$f":"Profile!C144","v":0},{"$f":"Profile!D144","v":0},{"$f":"Profile!F144","v":0},{"$f":"Profile!G144","v":"v/;kid"},{"$f":"Profile!H144","v":"ysoy"},{"$f":"Profile!I144","v":10},{"$f":"Profile!J144","v":0},0,{"$f":"Profile!L144","v":"2026-07-01"},0,0,0,{"$f":"Profile!P144","v":0},{"$f":"Profile!E144","v":0}]
[{"$f":"Profile!A145","v":"vjktif=r"},{"$f":"Profile!B145","v":90},{"$f":"Profile!C145","v":0},{"$f":"Profile!D145","v":0},{"$f":"Profile!F145","v":0},{"$f":"Profile!G145","v":"v/;kid"},{"$f":"Profile!H145","v":"ysoy"},{"$f":"Profile!I145","v":10},{"$f":"Profile!J145","v":0},0,{"$f":"Profile!L145","v":"2026-07-01"},0,0,0,{"$f":"Profile!P145","v":0},{"$f":"Profile!E145","v":0}]
[{"$f":"Profile!A146","v":"vjktif=r"},{"$f":"Profile!B146","v":91},{"$f":"Profile!C146","v":0},{"$f":"Profile!D146","v":0},{"$f":"Profile!F146","v":0},{"$f":"Profile!G146","v":"v/;kid"},{"$f":"Profile!H146","v":"ysoy"},{"$f":"Profile!I146","v":10},{"$f":"Profile!J146","v":0},0,{"$f":"Profile!L146","v":"2026-07-01"},0,0,0,{"$f":"Profile!P146","v":0},{"$f":"Profile!E146","v":0}]
[{"$f":"Profile!A147","v":"vjktif=r"},{"$f":"Profile!B147","v":92},{"$f":"Profile!C147","v":0},{"$f":"Profile!D147","v":0},{"$f":"Profile!F147","v":0},{"$f":"Profile!G147","v":"v/;kid"},{"$f":"Profile!H147","v":"ysoy"},{"$f":"Profile!I147","v":10},{"$f":"Profile!J147","v":0},0,{"$f":"Profile!L147","v":"2026-07-01"},0,0,0,{"$f":"Profile!P147","v":0},{"$f":"Profile!E147","v":0}]
[{"$f":"Profile!A148","v":"vjktif=r"},{"$f":"Profile!B148","v":93},{"$f":"Profile!C148","v":0},{"$f":"Profile!D148","v":0},{"$f":"Profile!F148","v":0},{"$f":"Profile!G148","v":"v/;kid"},{"$f":"Profile!H148","v":"ysoy"},{"$f":"Profile!I148","v":10},{"$f":"Profile!J148","v":0},0,{"$f":"Profile!L148","v":"2026-07-01"},0,0,0,{"$f":"Profile!P148","v":0},{"$f":"Profile!E148","v":0}]
[{"$f":"Profile!A149","v":"vjktif=r"},{"$f":"Profile!B149","v":94},{"$f":"Profile!C149","v":0},{"$f":"Profile!D149","v":0},{"$f":"Profile!F149","v":0},{"$f":"Profile!G149","v":"v/;kid"},{"$f":"Profile!H149","v":"ysoy"},{"$f":"Profile!I149","v":10},{"$f":"Profile!J149","v":0},0,{"$f":"Profile!L149","v":"2026-07-01"},0,0,0,{"$f":"Profile!P149","v":0},{"$f":"Profile!E149","v":0}]
[{"$f":"Profile!A150","v":"vjktif=r"},{"$f":"Profile!B150","v":95},{"$f":"Profile!C150","v":0},{"$f":"Profile!D150","v":0},{"$f":"Profile!F150","v":0},{"$f":"Profile!G150","v":"v/;kid"},{"$f":"Profile!H150","v":"ysoy"},{"$f":"Profile!I150","v":10},{"$f":"Profile!J150","v":0},0,{"$f":"Profile!L150","v":"2026-07-01"},0,0,0,{"$f":"Profile!P150","v":0},{"$f":"Profile!E150","v":0}]
[{"$f":"Profile!A151","v":"vjktif=r"},{"$f":"Profile!B151","v":96},{"$f":"Profile!C151","v":0},{"$f":"Profile!D151","v":0},{"$f":"Profile!F151","v":0},{"$f":"Profile!G151","v":"v/;kid"},{"$f":"Profile!H151","v":"ysoy"},{"$f":"Profile!I151","v":10},{"$f":"Profile!J151","v":0},0,{"$f":"Profile!L151","v":"2026-07-01"},0,0,0,{"$f":"Profile!P151","v":0},{"$f":"Profile!E151","v":0}]
[{"$f":"Profile!A152","v":"vjktif=r"},{"$f":"Profile!B152","v":97},{"$f":"Profile!C152","v":0},{"$f":"Profile!D152","v":0},{"$f":"Profile!F152","v":0},{"$f":"Profile!G152","v":"v/;kid"},{"$f":"Profile!H152","v":"ysoy"},{"$f":"Profile!I152","v":10},{"$f":"Profile!J152","v":0},0,{"$f":"Profile!L152","v":"2026-07-01"},0,0,0,{"$f":"Profile!P152","v":0},{"$f":"Profile!E152","v":0}]
[{"$f":"Profile!A153","v":"vjktif=r"},{"$f":"Profile!B153","v":98},{"$f":"Profile!C153","v":0},{"$f":"Profile!D153","v":0},{"$f":"Profile!F153","v":0},{"$f":"Profile!G153","v":"v/;kid"},{"$f":"Profile!H153","v":"ysoy"},{"$f":"Profile!I153","v":10},{"$f":"Profile!J153","v":0},0,{"$f":"Profile!L153","v":"2026-07-01"},0,0,0,{"$f":"Profile!P153","v":0},{"$f":"Profile!E153","v":0}]
[{"$f":"Profile!A154","v":"vjktif=r"},{"$f":"Profile!B154","v":99},{"$f":"Profile!C154","v":0},{"$f":"Profile!D154","v":0},{"$f":"Profile!F154","v":0},{"$f":"Profile!G154","v":"v/;kid"},{"$f":"Profile!H154","v":"ysoy"},{"$f":"Profile!I154","v":10},{"$f":"Profile!J154","v":0},0,{"$f":"Profile!L154","v":"2026-07-01"},0,0,0,{"$f":"Profile!P154","v":0},{"$f":"Profile!E154","v":0}]
[{"$f":"Profile!A155","v":"vjktif=r"},{"$f":"Profile!B155","v":100},{"$f":"Profile!C155","v":0},{"$f":"Profile!D155","v":0},{"$f":"Profile!F155","v":0},{"$f":"Profile!G155","v":"v/;kid"},{"$f":"Profile!H155","v":"ysoy"},{"$f":"Profile!I155","v":10},{"$f":"Profile!J155","v":0},0,{"$f":"Profile!L155","v":"2026-07-01"},0,0,0,{"$f":"Profile!P155","v":0},{"$f":"Profile!E155","v":0}]
[{"$f":"Profile!A156","v":"vjktif=r"},{"$f":"Profile!B156","v":101},{"$f":"Profile!C156","v":0},{"$f":"Profile!D156","v":0},{"$f":"Profile!F156","v":0},{"$f":"Profile!G156","v":"v/;kid"},{"$f":"Profile!H156","v":"ysoy"},{"$f":"Profile!I156","v":10},{"$f":"Profile!J156","v":0},0,{"$f":"Profile!L156","v":"2026-07-01"},0,0,0,{"$f":"Profile!P156","v":0},{"$f":"Profile!E156","v":0}]
[{"$f":"Profile!A157","v":"vjktif=r"},{"$f":"Profile!B157","v":102},{"$f":"Profile!C157","v":0},{"$f":"Profile!D157","v":0},{"$f":"Profile!F157","v":0},{"$f":"Profile!G157","v":"v/;kid"},{"$f":"Profile!H157","v":"ysoy"},{"$f":"Profile!I157","v":10},{"$f":"Profile!J157","v":0},0,{"$f":"Profile!L157","v":"2026-07-01"},0,0,0,{"$f":"Profile!P157","v":0},{"$f":"Profile!E157","v":0}]
[{"$f":"Profile!A158","v":"vjktif=r"},{"$f":"Profile!B158","v":103},{"$f":"Profile!C158","v":0},{"$f":"Profile!D158","v":0},{"$f":"Profile!F158","v":0},{"$f":"Profile!G158","v":"v/;kid"},{"$f":"Profile!H158","v":"ysoy"},{"$f":"Profile!I158","v":10},{"$f":"Profile!J158","v":0},0,{"$f":"Profile!L158","v":"2026-07-01"},0,0,0,{"$f":"Profile!P158","v":0},{"$f":"Profile!E158","v":0}]
[{"$f":"Profile!A159","v":"vjktif=r"},{"$f":"Profile!B159","v":104},{"$f":"Profile!C159","v":0},{"$f":"Profile!D159","v":0},{"$f":"Profile!F159","v":0},{"$f":"Profile!G159","v":"v/;kid"},{"$f":"Profile!H159","v":"ysoy"},{"$f":"Profile!I159","v":10},{"$f":"Profile!J159","v":0},0,{"$f":"Profile!L159","v":"2026-07-01"},0,0,0,{"$f":"Profile!P159","v":0},{"$f":"Profile!E159","v":0}]
[{"$f":"Profile!A160","v":"vjktif=r"},{"$f":"Profile!B160","v":105},{"$f":"Profile!C160","v":0},{"$f":"Profile!D160","v":0},{"$f":"Profile!F160","v":0},{"$f":"Profile!G160","v":"v/;kid"},{"$f":"Profile!H160","v":"ysoy"},{"$f":"Profile!I160","v":10},{"$f":"Profile!J160","v":0},0,{"$f":"Profile!L160","v":"2026-07-01"},0,0,0,{"$f":"Profile!P160","v":0},{"$f":"Profile!E160","v":0}]
[{"$f":"Profile!A161","v":"vjktif=r"},{"$f":"Profile!B161","v":106},{"$f":"Profile!C161","v":0},{"$f":"Profile!D161","v":0},{"$f":"Profile!F161","v":0},{"$f":"Profile!G161","v":"v/;kid"},{"$f":"Profile!H161","v":"ysoy"},{"$f":"Profile!I161","v":10},{"$f":"Profile!J161","v":0},0,{"$f":"Profile!L161","v":"2026-07-01"},0,0,0,{"$f":"Profile!P161","v":0},{"$f":"Profile!E161","v":0}]
[{"$f":"Profile!A162","v":"vjktif=r"},{"$f":"Profile!B162","v":107},{"$f":"Profile!C162","v":0},{"$f":"Profile!D162","v":0},{"$f":"Profile!F162","v":0},{"$f":"Profile!G162","v":"v/;kid"},{"$f":"Profile!H162","v":"ysoy"},{"$f":"Profile!I162","v":10},{"$f":"Profile!J162","v":0},0,{"$f":"Profile!L162","v":"2026-07-01"},0,0,0,{"$f":"Profile!P162","v":0},{"$f":"Profile!E162","v":0}]
[{"$f":"Profile!A163","v":"vjktif=r"},{"$f":"Profile!B163","v":108},{"$f":"Profile!C163","v":0},{"$f":"Profile!D163","v":0},{"$f":"Profile!F163","v":0},{"$f":"Profile!G163","v":"v/;kid"},{"$f":"Profile!H163","v":"ysoy"},{"$f":"Profile!I163","v":10},{"$f":"Profile!J163","v":0},0,{"$f":"Profile!L163","v":"2026-07-01"},0,0,0,{"$f":"Profile!P163","v":0},{"$f":"Profile!E163","v":0}]
[{"$f":"Profile!A164","v":"vjktif=r"},{"$f":"Profile!B164","v":109},{"$f":"Profile!C164","v":0},{"$f":"Profile!D164","v":0},{"$f":"Profile!F164","v":0},{"$f":"Profile!G164","v":"v/;kid"},{"$f":"Profile!H164","v":"ysoy"},{"$f":"Profile!I164","v":10},{"$f":"Profile!J164","v":0},0,{"$f":"Profile!L164","v":"2026-07-01"},0,0,0,{"$f":"Profile!P164","v":0},{"$f":"Profile!E164","v":0}]
[{"$f":"Profile!A165","v":"vjktif=r"},{"$f":"Profile!B165","v":110},{"$f":"Profile!C165","v":0},{"$f":"Profile!D165","v":0},{"$f":"Profile!F165","v":0},{"$f":"Profile!G165","v":"v/;kid"},{"$f":"Profile!H165","v":"ysoy"},{"$f":"Profile!I165","v":10},{"$f":"Profile!J165","v":0},0,{"$f":"Profile!L165","v":"2026-07-01"},0,0,0,{"$f":"Profile!P165","v":0},{"$f":"Profile!E165","v":0}]
[{"$f":"Profile!A166","v":"vjktif=r"},{"$f":"Profile!B166","v":111},{"$f":"Profile!C166","v":0},{"$f":"Profile!D166","v":0},{"$f":"Profile!F166","v":0},{"$f":"Profile!G166","v":"v/;kid"},{"$f":"Profile!H166","v":"ysoy"},{"$f":"Profile!I166","v":10},{"$f":"Profile!J166","v":0},0,{"$f":"Profile!L166","v":"2026-07-01"},0,0,0,{"$f":"Profile!P166","v":0},{"$f":"Profile!E166","v":0}]
[{"$f":"Profile!A167","v":"vjktif=r"},{"$f":"Profile!B167","v":112},{"$f":"Profile!C167","v":0},{"$f":"Profile!D167","v":0},{"$f":"Profile!F167","v":0},{"$f":"Profile!G167","v":"v/;kid"},{"$f":"Profile!H167","v":"ysoy"},{"$f":"Profile!I167","v":10},{"$f":"Profile!J167","v":0},0,{"$f":"Profile!L167","v":"2026-07-01"},0,0,0,{"$f":"Profile!P167","v":0},{"$f":"Profile!E167","v":0}]
[{"$f":"Profile!A168","v":"vjktif=r"},{"$f":"Profile!B168","v":113},{"$f":"Profile!C168","v":0},{"$f":"Profile!D168","v":0},{"$f":"Profile!F168","v":0},{"$f":"Profile!G168","v":"v/;kid"},{"$f":"Profile!H168","v":"ysoy"},{"$f":"Profile!I168","v":10},{"$f":"Profile!J168","v":0},0,{"$f":"Profile!L168","v":"2026-07-01"},0,0,0,{"$f":"Profile!P168","v":0},{"$f":"Profile!E168","v":0}]
[{"$f":"Profile!A169","v":"vjktif=r"},{"$f":"Profile!B169","v":114},{"$f":"Profile!C169","v":0},{"$f":"Profile!D169","v":0},{"$f":"Profile!F169","v":0},{"$f":"Profile!G169","v":"v/;kid"},{"$f":"Profile!H169","v":"ysoy"},{"$f":"Profile!I169","v":10},{"$f":"Profile!J169","v":0},0,{"$f":"Profile!L169","v":"2026-07-01"},0,0,0,{"$f":"Profile!P169","v":0},{"$f":"Profile!E169","v":0}]
[{"$f":"Profile!A170","v":"vjktif=r"},{"$f":"Profile!B170","v":115},{"$f":"Profile!C170","v":0},{"$f":"Profile!D170","v":0},{"$f":"Profile!F170","v":0},{"$f":"Profile!G170","v":"v/;kid"},{"$f":"Profile!H170","v":"ysoy"},{"$f":"Profile!I170","v":10},{"$f":"Profile!J170","v":0},0,{"$f":"Profile!L170","v":"2026-07-01"},0,0,0,{"$f":"Profile!P170","v":0},{"$f":"Profile!E170","v":0}]
[{"$f":"Profile!A171","v":"vjktif=r"},{"$f":"Profile!B171","v":116},{"$f":"Profile!C171","v":0},{"$f":"Profile!D171","v":0},{"$f":"Profile!F171","v":0},{"$f":"Profile!G171","v":"v/;kid"},{"$f":"Profile!H171","v":"ysoy"},{"$f":"Profile!I171","v":10},{"$f":"Profile!J171","v":0},0,{"$f":"Profile!L171","v":"2026-07-01"},0,0,0,{"$f":"Profile!P171","v":0},{"$f":"Profile!E171","v":0}]
[{"$f":"Profile!A172","v":"vjktif=r"},{"$f":"Profile!B172","v":117},{"$f":"Profile!C172","v":0},{"$f":"Profile!D172","v":0},{"$f":"Profile!F172","v":0},{"$f":"Profile!G172","v":"v/;kid"},{"$f":"Profile!H172","v":"ysoy"},{"$f":"Profile!I172","v":10},{"$f":"Profile!J172","v":0},0,{"$f":"Profile!L172","v":"2026-07-01"},0,0,0,{"$f":"Profile!P172","v":0},{"$f":"Profile!E172","v":0}]
[{"$f":"Profile!A173","v":"vjktif=r"},{"$f":"Profile!B173","v":118},{"$f":"Profile!C173","v":0},{"$f":"Profile!D173","v":0},{"$f":"Profile!F173","v":0},{"$f":"Profile!G173","v":"v/;kid"},{"$f":"Profile!H173","v":"ysoy"},{"$f":"Profile!I173","v":10},{"$f":"Profile!J173","v":0},0,{"$f":"Profile!L173","v":"2026-07-01"},0,0,0,{"$f":"Profile!P173","v":0},{"$f":"Profile!E173","v":0}]
[{"$f":"Profile!A174","v":"vjktif=r"},{"$f":"Profile!B174","v":119},{"$f":"Profile!C174","v":0},{"$f":"Profile!D174","v":0},{"$f":"Profile!F174","v":0},{"$f":"Profile!G174","v":"v/;kid"},{"$f":"Profile!H174","v":"ysoy"},{"$f":"Profile!I174","v":10},{"$f":"Profile!J174","v":0},0,{"$f":"Profile!L174","v":"2026-07-01"},0,0,0,{"$f":"Profile!P174","v":0},{"$f":"Profile!E174","v":0}]
[{"$f":"Profile!A175","v":"vjktif=r"},{"$f":"Profile!B175","v":120},{"$f":"Profile!C175","v":0},{"$f":"Profile!D175","v":0},{"$f":"Profile!F175","v":0},{"$f":"Profile!G175","v":"v/;kid"},{"$f":"Profile!H175","v":"ysoy"},{"$f":"Profile!I175","v":10},{"$f":"Profile!J175","v":0},0,{"$f":"Profile!L175","v":"2026-07-01"},0,0,0,{"$f":"Profile!P175","v":0},{"$f":"Profile!E175","v":0}]
[{"$f":"Profile!A176","v":"vjktif=r"},{"$f":"Profile!B176","v":121},{"$f":"Profile!C176","v":0},{"$f":"Profile!D176","v":0},{"$f":"Profile!F176","v":0},{"$f":"Profile!G176","v":"v/;kid"},{"$f":"Profile!H176","v":"ysoy"},{"$f":"Profile!I176","v":10},{"$f":"Profile!J176","v":0},0,{"$f":"Profile!L176","v":"2026-07-01"},0,0,0,{"$f":"Profile!P176","v":0},{"$f":"Profile!E176","v":0}]
[{"$f":"Profile!A177","v":"vjktif=r"},{"$f":"Profile!B177","v":122},{"$f":"Profile!C177","v":0},{"$f":"Profile!D177","v":0},{"$f":"Profile!F177","v":0},{"$f":"Profile!G177","v":"v/;kid"},{"$f":"Profile!H177","v":"ysoy"},{"$f":"Profile!I177","v":10},{"$f":"Profile!J177","v":0},0,{"$f":"Profile!L177","v":"2026-07-01"},0,0,0,{"$f":"Profile!P177","v":0},{"$f":"Profile!E177","v":0}]
[{"$f":"Profile!A178","v":"vjktif=r"},{"$f":"Profile!B178","v":123},{"$f":"Profile!C178","v":0},{"$f":"Profile!D178","v":0},{"$f":"Profile!F178","v":0},{"$f":"Profile!G178","v":"v/;kid"},{"$f":"Profile!H178","v":"ysoy"},{"$f":"Profile!I178","v":10},{"$f":"Profile!J178","v":0},0,{"$f":"Profile!L178","v":"2026-07-01"},0,0,0,{"$f":"Profile!P178","v":0},{"$f":"Profile!E178","v":0}]
[{"$f":"Profile!A179","v":"vjktif=r"},{"$f":"Profile!B179","v":124},{"$f":"Profile!C179","v":0},{"$f":"Profile!D179","v":0},{"$f":"Profile!F179","v":0},{"$f":"Profile!G179","v":"v/;kid"},{"$f":"Profile!H179","v":"ysoy"},{"$f":"Profile!I179","v":10},{"$f":"Profile!J179","v":0},0,{"$f":"Profile!L179","v":"2026-07-01"},0,0,0,{"$f":"Profile!P179","v":0},{"$f":"Profile!E179","v":0}]
[{"$f":"Profile!A180","v":"vjktif=r"},{"$f":"Profile!B180","v":125},{"$f":"Profile!C180","v":0},{"$f":"Profile!D180","v":0},{"$f":"Profile!F180","v":0},{"$f":"Profile!G180","v":"v/;kid"},{"$f":"Profile!H180","v":"ysoy"},{"$f":"Profile!I180","v":10},{"$f":"Profile!J180","v":0},0,{"$f":"Profile!L180","v":"2026-07-01"},0,0,0,{"$f":"Profile!P180","v":0},{"$f":"Profile!E180","v":0}]
[{"$f":"Profile!A181","v":"vjktif=r"},{"$f":"Profile!B181","v":126},{"$f":"Profile!C181","v":0},{"$f":"Profile!D181","v":0},{"$f":"Profile!F181","v":0},{"$f":"Profile!G181","v":"v/;kid"},{"$f":"Profile!H181","v":"ysoy"},{"$f":"Profile!I181","v":10},{"$f":"Profile!J181","v":0},0,{"$f":"Profile!L181","v":"2026-07-01"},0,0,0,{"$f":"Profile!P181","v":0},{"$f":"Profile!E181","v":0}]
[{"$f":"Profile!A182","v":"vjktif=r"},{"$f":"Profile!B182","v":127},{"$f":"Profile!C182","v":0},{"$f":"Profile!D182","v":0},{"$f":"Profile!F182","v":0},{"$f":"Profile!G182","v":"v/;kid"},{"$f":"Profile!H182","v":"ysoy"},{"$f":"Profile!I182","v":10},{"$f":"Profile!J182","v":0},0,{"$f":"Profile!L182","v":"2026-07-01"},0,0,0,{"$f":"Profile!P182","v":0},{"$f":"Profile!E182","v":0}]
[{"$f":"Profile!A183","v":"vjktif=r"},{"$f":"Profile!B183","v":128},{"$f":"Profile!C183","v":0},{"$f":"Profile!D183","v":0},{"$f":"Profile!F183","v":0},{"$f":"Profile!G183","v":"v/;kid"},{"$f":"Profile!H183","v":"ysoy"},{"$f":"Profile!I183","v":10},{"$f":"Profile!J183","v":0},0,{"$f":"Profile!L183","v":"2026-07-01"},0,0,0,{"$f":"Profile!P183","v":0},{"$f":"Profile!E183","v":0}]
[{"$f":"Profile!A184","v":"vjktif=r"},{"$f":"Profile!B184","v":129},{"$f":"Profile!C184","v":0},{"$f":"Profile!D184","v":0},{"$f":"Profile!F184","v":0},{"$f":"Profile!G184","v":"v/;kid"},{"$f":"Profile!H184","v":"ysoy"},{"$f":"Profile!I184","v":10},{"$f":"Profile!J184","v":0},0,{"$f":"Profile!L184","v":"2026-07-01"},0,0,0,{"$f":"Profile!P184","v":0},{"$f":"Profile!E184","v":0}]
[{"$f":"Profile!A185","v":"vjktif=r"},{"$f":"Profile!B185","v":130},{"$f":"Profile!C185","v":0},{"$f":"Profile!D185","v":0},{"$f":"Profile!F185","v":0},{"$f":"Profile!G185","v":"v/;kid"},{"$f":"Profile!H185","v":"ysoy"},{"$f":"Profile!I185","v":10},{"$f":"Profile!J185","v":0},0,{"$f":"Profile!L185","v":"2026-07-01"},0,0,0,{"$f":"Profile!P185","v":0},{"$f":"Profile!E185","v":0}]
[{"$f":"Profile!A186","v":"vjktif=r"},{"$f":"Profile!B186","v":131},{"$f":"Profile!C186","v":0},{"$f":"Profile!D186","v":0},{"$f":"Profile!F186","v":0},{"$f":"Profile!G186","v":"v/;kid"},{"$f":"Profile!H186","v":"ysoy"},{"$f":"Profile!I186","v":10},{"$f":"Profile!J186","v":0},0,{"$f":"Profile!L186","v":"2026-07-01"},0,0,0,{"$f":"Profile!P186","v":0},{"$f":"Profile!E186","v":0}]
[{"$f":"Profile!A187","v":"vjktif=r"},{"$f":"Profile!B187","v":132},{"$f":"Profile!C187","v":0},{"$f":"Profile!D187","v":0},{"$f":"Profile!F187","v":0},{"$f":"Profile!G187","v":"v/;kid"},{"$f":"Profile!H187","v":"ysoy"},{"$f":"Profile!I187","v":10},{"$f":"Profile!J187","v":0},0,{"$f":"Profile!L187","v":"2026-07-01"},0,0,0,{"$f":"Profile!P187","v":0},{"$f":"Profile!E187","v":0}]
[{"$f":"Profile!A188","v":"vjktif=r"},{"$f":"Profile!B188","v":133},{"$f":"Profile!C188","v":0},{"$f":"Profile!D188","v":0},{"$f":"Profile!F188","v":0},{"$f":"Profile!G188","v":"v/;kid"},{"$f":"Profile!H188","v":"ysoy"},{"$f":"Profile!I188","v":10},{"$f":"Profile!J188","v":0},0,{"$f":"Profile!L188","v":"2026-07-01"},0,0,0,{"$f":"Profile!P188","v":0},{"$f":"Profile!E188","v":0}]
[{"$f":"Profile!A189","v":"vjktif=r"},{"$f":"Profile!B189","v":134},{"$f":"Profile!C189","v":0},{"$f":"Profile!D189","v":0},{"$f":"Profile!F189","v":0},{"$f":"Profile!G189","v":"v/;kid"},{"$f":"Profile!H189","v":"ysoy"},{"$f":"Profile!I189","v":10},{"$f":"Profile!J189","v":0},0,{"$f":"Profile!L189","v":"2026-07-01"},0,0,0,{"$f":"Profile!P189","v":0},{"$f":"Profile!E189","v":0}]
[{"$f":"Profile!A190","v":"vjktif=r"},{"$f":"Profile!B190","v":135},{"$f":"Profile!C190","v":0},{"$f":"Profile!D190","v":0},{"$f":"Profile!F190","v":0},{"$f":"Profile!G190","v":"v/;kid"},{"$f":"Profile!H190","v":"ysoy"},{"$f":"Profile!I190","v":10},{"$f":"Profile!J190","v":0},0,{"$f":"Profile!L190","v":"2026-07-01"},0,0,0,{"$f":"Profile!P190","v":0},{"$f":"Profile!E190","v":0}]
[{"$f":"Profile!A191","v":"vjktif=r"},{"$f":"Profile!B191","v":136},{"$f":"Profile!C191","v":0},{"$f":"Profile!D191","v":0},{"$f":"Profile!F191","v":0},{"$f":"Profile!G191","v":"v/;kid"},{"$f":"Profile!H191","v":"ysoy"},{"$f":"Profile!I191","v":10},{"$f":"Profile!J191","v":0},{"$f":"I151*12","v":0},{"$f":"Profile!L191","v":"2026-07-01"},{"$f":"O151*8","v":0},{"$f":"J151+L151","v":0},{"$f":"M151-O151*12","v":0},{"$f":"Profile!P191","v":0},{"$f":"Profile!E191","v":0}]
[{"$f":"Profile!A192","v":"vjktif=r"},{"$f":"Profile!B192","v":137},{"$f":"Profile!C192","v":0},{"$f":"Profile!D192","v":0},{"$f":"Profile!F192","v":0},{"$f":"Profile!G192","v":"v/;kid"},{"$f":"Profile!H192","v":"ysoy"},{"$f":"Profile!I192","v":10},{"$f":"Profile!J192","v":0},0,{"$f":"Profile!L192","v":"2026-07-01"},0,0,0,{"$f":"Profile!P192","v":0},{"$f":"Profile!E192","v":0}]
[{"$f":"Profile!A193","v":"vjktif=r"},{"$f":"Profile!B193","v":138},{"$f":"Profile!C193","v":0},{"$f":"Profile!D193","v":0},{"$f":"Profile!F193","v":0},{"$f":"Profile!G193","v":"v/;kid"},{"$f":"Profile!H193","v":"ysoy"},{"$f":"Profile!I193","v":10},{"$f":"Profile!J193","v":0},0,{"$f":"Profile!L193","v":"2026-07-01"},0,0,0,{"$f":"Profile!P193","v":0},{"$f":"Profile!E193","v":0}]
[{"$f":"Profile!A194","v":"vjktif=r"},{"$f":"Profile!B194","v":139},{"$f":"Profile!C194","v":0},{"$f":"Profile!D194","v":0},{"$f":"Profile!F194","v":0},{"$f":"Profile!G194","v":"v/;kid"},{"$f":"Profile!H194","v":"ysoy"},{"$f":"Profile!I194","v":10},{"$f":"Profile!J194","v":0},0,{"$f":"Profile!L194","v":"2026-07-01"},0,0,0,{"$f":"Profile!P194","v":0},{"$f":"Profile!E194","v":0}]
[{"$f":"Profile!A195","v":"vjktif=r"},{"$f":"Profile!B195","v":140},{"$f":"Profile!C195","v":0},{"$f":"Profile!D195","v":0},{"$f":"Profile!F195","v":0},{"$f":"Profile!G195","v":"v/;kid"},{"$f":"Profile!H195","v":"ysoy"},{"$f":"Profile!I195","v":10},{"$f":"Profile!J195","v":0},0,{"$f":"Profile!L195","v":"2026-07-01"},0,0,0,{"$f":"Profile!P195","v":0},{"$f":"Profile!E195","v":0}]
[{"$f":"Profile!A196","v":"vjktif=r"},{"$f":"Profile!B196","v":141},{"$f":"Profile!C196","v":0},{"$f":"Profile!D196","v":0},{"$f":"Profile!F196","v":0},{"$f":"Profile!G196","v":"v/;kid"},{"$f":"Profile!H196","v":"ysoy"},{"$f":"Profile!I196","v":10},{"$f":"Profile!J196","v":0},0,{"$f":"Profile!L196","v":"2026-07-01"},0,0,0,{"$f":"Profile!P196","v":0},{"$f":"Profile!E196","v":0}]
[{"$f":"Profile!A197","v":"vjktif=r"},{"$f":"Profile!B197","v":142},{"$f":"Profile!C197","v":0},{"$f":"Profile!D197","v":0},{"$f":"Profile!F197","v":0},{"$f":"Profile!G197","v":"v/;kid"},{"$f":"Profile!H197","v":"ysoy"},{"$f":"Profile!I197","v":10},{"$f":"Profile!J197","v":0},0,{"$f":"Profile!L197","v":"2026-07-01"},0,0,0,{"$f":"Profile!P197","v":0},{"$f":"Profile!E197","v":0}]
[{"$f":"Profile!A198","v":"vjktif=r"},{"$f":"Profile!B198","v":143},{"$f":"Profile!C198","v":0},{"$f":"Profile!D198","v":0},{"$f":"Profile!F198","v":0},{"$f":"Profile!G198","v":"v/;kid"},{"$f":"Profile!H198","v":"ysoy"},{"$f":"Profile!I198","v":10},{"$f":"Profile!J198","v":0},0,{"$f":"Profile!L198","v":"2026-07-01"},0,0,0,{"$f":"Profile!P198","v":0},{"$f":"Profile!E198","v":0}]
[{"$f":"Profile!A199","v":"vjktif=r"},{"$f":"Profile!B199","v":144},{"$f":"Profile!C199","v":0},{"$f":"Profile!D199","v":0},{"$f":"Profile!F199","v":0},{"$f":"Profile!G199","v":"v/;kid"},{"$f":"Profile!H199","v":"ysoy"},{"$f":"Profile!I199","v":10},{"$f":"Profile!J199","v":0},0,{"$f":"Profile!L199","v":"2026-07-01"},0,0,0,{"$f":"Profile!P199","v":0},{"$f":"Profile!E199","v":0}]
[{"$f":"Profile!A200","v":"vjktif=r"},{"$f":"Profile!B200","v":145},{"$f":"Profile!C200","v":0},{"$f":"Profile!D200","v":0},{"$f":"Profile!F200","v":0},{"$f":"Profile!G200","v":"v/;kid"},{"$f":"Profile!H200","v":"ysoy"},{"$f":"Profile!I200","v":10},{"$f":"Profile!J200","v":0},0,{"$f":"Profile!L200","v":"2026-07-01"},0,0,0,{"$f":"Profile!P200","v":0},{"$f":"Profile!E200","v":0}]
[{"$f":"Profile!A201","v":"vjktif=r"},{"$f":"Profile!B201","v":146},{"$f":"Profile!C201","v":0},{"$f":"Profile!D201","v":0},{"$f":"Profile!F201","v":0},{"$f":"Profile!G201","v":"v/;kid"},{"$f":"Profile!H201","v":"ysoy"},{"$f":"Profile!I201","v":10},{"$f":"Profile!J201","v":0},0,{"$f":"Profile!L201","v":"2026-07-01"},0,0,0,{"$f":"Profile!P201","v":0},{"$f":"Profile!E201","v":0}]
[{"$f":"Profile!A202","v":"vjktif=r"},{"$f":"Profile!B202","v":147},{"$f":"Profile!C202","v":0},{"$f":"Profile!D202","v":0},{"$f":"Profile!F202","v":0},{"$f":"Profile!G202","v":"v/;kid"},{"$f":"Profile!H202","v":"ysoy"},{"$f":"Profile!I202","v":10},{"$f":"Profile!J202","v":0},0,{"$f":"Profile!L202","v":"2026-07-01"},0,0,0,{"$f":"Profile!P202","v":0},{"$f":"Profile!E202","v":0}]
[{"$f":"Profile!A203","v":"vjktif=r"},{"$f":"Profile!B203","v":148},{"$f":"Profile!C203","v":0},{"$f":"Profile!D203","v":0},{"$f":"Profile!F203","v":0},{"$f":"Profile!G203","v":"v/;kid"},{"$f":"Profile!H203","v":"ysoy"},{"$f":"Profile!I203","v":10},{"$f":"Profile!J203","v":0},0,{"$f":"Profile!L203","v":"2026-07-01"},0,0,0,{"$f":"Profile!P203","v":0},{"$f":"Profile!E203","v":0}]
[{"$f":"Profile!A204","v":"vjktif=r"},{"$f":"Profile!B204","v":149},{"$f":"Profile!C204","v":0},{"$f":"Profile!D204","v":0},{"$f":"Profile!F204","v":0},{"$f":"Profile!G204","v":"v/;kid"},{"$f":"Profile!H204","v":"ysoy"},{"$f":"Profile!I204","v":10},{"$f":"Profile!J204","v":0},0,{"$f":"Profile!L204","v":"2026-07-01"},0,0,0,{"$f":"Profile!P204","v":0},{"$f":"Profile!E204","v":0}]
[{"$f":"Profile!A205","v":"vjktif=r"},{"$f":"Profile!B205","v":150},{"$f":"Profile!C205","v":0},{"$f":"Profile!D205","v":0},{"$f":"Profile!F205","v":0},{"$f":"Profile!G205","v":"v/;kid"},{"$f":"Profile!H205","v":"ysoy"},{"$f":"Profile!I205","v":10},{"$f":"Profile!J205","v":0},0,{"$f":"Profile!L205","v":"2026-07-01"},0,0,0,{"$f":"Profile!P205","v":0},{"$f":"Profile!E205","v":0}]
[{"$f":"Profile!A206","v":"vjktif=r"},{"$f":"Profile!B206","v":151},{"$f":"Profile!C206","v":0},{"$f":"Profile!D206","v":0},{"$f":"Profile!F206","v":0},{"$f":"Profile!G206","v":"v/;kid"},{"$f":"Profile!H206","v":"ysoy"},{"$f":"Profile!I206","v":10},{"$f":"Profile!J206","v":0},0,{"$f":"Profile!L206","v":"2026-07-01"},0,0,0,{"$f":"Profile!P206","v":0},{"$f":"Profile!E206","v":0}]
[{"$f":"Profile!A207","v":"vjktif=r"},{"$f":"Profile!B207","v":152},{"$f":"Profile!C207","v":0},{"$f":"Profile!D207","v":0},{"$f":"Profile!F207","v":0},{"$f":"Profile!G207","v":"v/;kid"},{"$f":"Profile!H207","v":"ysoy"},{"$f":"Profile!I207","v":10},{"$f":"Profile!J207","v":0},0,{"$f":"Profile!L207","v":"2026-07-01"},0,0,0,{"$f":"Profile!P207","v":0},{"$f":"Profile!E207","v":0}]
[{"$f":"Profile!A208","v":"vjktif=r"},{"$f":"Profile!B208","v":153},{"$f":"Profile!C208","v":0},{"$f":"Profile!D208","v":0},{"$f":"Profile!F208","v":0},{"$f":"Profile!G208","v":"v/;kid"},{"$f":"Profile!H208","v":"ysoy"},{"$f":"Profile!I208","v":10},{"$f":"Profile!J208","v":0},0,{"$f":"Profile!L208","v":"2026-07-01"},0,0,0,{"$f":"Profile!P208","v":0},{"$f":"Profile!E208","v":0}]
[{"$f":"Profile!A209","v":"vjktif=r"},{"$f":"Profile!B209","v":154},{"$f":"Profile!C209","v":0},{"$f":"Profile!D209","v":0},{"$f":"Profile!F209","v":0},{"$f":"Profile!G209","v":"v/;kid"},{"$f":"Profile!H209","v":"ysoy"},{"$f":"Profile!I209","v":10},{"$f":"Profile!J209","v":0},0,{"$f":"Profile!L209","v":"2026-07-01"},0,0,0,{"$f":"Profile!P209","v":0},{"$f":"Profile!E209","v":0}]
[{"$f":"Profile!A210","v":"vjktif=r"},{"$f":"Profile!B210","v":155},{"$f":"Profile!C210","v":0},{"$f":"Profile!D210","v":0},{"$f":"Profile!F210","v":0},{"$f":"Profile!G210","v":"v/;kid"},{"$f":"Profile!H210","v":"ysoy"},{"$f":"Profile!I210","v":10},{"$f":"Profile!J210","v":0},0,{"$f":"Profile!L210","v":"2026-07-01"},0,0,0,{"$f":"Profile!P210","v":0},{"$f":"Profile!E210","v":0}]
[{"$f":"Profile!A211","v":"vjktif=r"},{"$f":"Profile!B211","v":156},{"$f":"Profile!C211","v":0},{"$f":"Profile!D211","v":0},{"$f":"Profile!F211","v":0},{"$f":"Profile!G211","v":"v/;kid"},{"$f":"Profile!H211","v":"ysoy"},{"$f":"Profile!I211","v":10},{"$f":"Profile!J211","v":0},0,{"$f":"Profile!L211","v":"2026-07-01"},0,0,0,{"$f":"Profile!P211","v":0},{"$f":"Profile!E211","v":0}]
[{"$f":"Profile!A212","v":"vjktif=r"},{"$f":"Profile!B212","v":157},{"$f":"Profile!C212","v":0},{"$f":"Profile!D212","v":0},{"$f":"Profile!F212","v":0},{"$f":"Profile!G212","v":"v/;kid"},{"$f":"Profile!H212","v":"ysoy"},{"$f":"Profile!I212","v":10},{"$f":"Profile!J212","v":0},0,{"$f":"Profile!L212","v":"2026-07-01"},0,0,0,{"$f":"Profile!P212","v":0},{"$f":"Profile!E212","v":0}]
[{"$f":"Profile!A213","v":"vjktif=r"},{"$f":"Profile!B213","v":158},{"$f":"Profile!C213","v":0},{"$f":"Profile!D213","v":0},{"$f":"Profile!F213","v":0},{"$f":"Profile!G213","v":"v/;kid"},{"$f":"Profile!H213","v":"ysoy"},{"$f":"Profile!I213","v":10},{"$f":"Profile!J213","v":0},0,{"$f":"Profile!L213","v":"2026-07-01"},0,0,0,{"$f":"Profile!P213","v":0},{"$f":"Profile!E213","v":0}]
[{"$f":"Profile!A214","v":"vjktif=r"},{"$f":"Profile!B214","v":159},{"$f":"Profile!C214","v":0},{"$f":"Profile!D214","v":0},{"$f":"Profile!F214","v":0},{"$f":"Profile!G214","v":"v/;kid"},{"$f":"Profile!H214","v":"ysoy"},{"$f":"Profile!I214","v":10},{"$f":"Profile!J214","v":0},0,{"$f":"Profile!L214","v":"2026-07-01"},0,0,0,{"$f":"Profile!P214","v":0},{"$f":"Profile!E214","v":0}]
[{"$f":"Profile!A215","v":"vjktif=r"},{"$f":"Profile!B215","v":160},{"$f":"Profile!C215","v":0},{"$f":"Profile!D215","v":0},{"$f":"Profile!F215","v":0},{"$f":"Profile!G215","v":"v/;kid"},{"$f":"Profile!H215","v":"ysoy"},{"$f":"Profile!I215","v":10},{"$f":"Profile!J215","v":0},0,{"$f":"Profile!L215","v":"2026-07-01"},0,0,0,{"$f":"Profile!P215","v":0},{"$f":"Profile!E215","v":0}]
[{"$f":"Profile!A216","v":"vjktif=r"},{"$f":"Profile!B216","v":161},{"$f":"Profile!C216","v":0},{"$f":"Profile!D216","v":0},{"$f":"Profile!F216","v":0},{"$f":"Profile!G216","v":"v/;kid"},{"$f":"Profile!H216","v":"ysoy"},{"$f":"Profile!I216","v":10},{"$f":"Profile!J216","v":0},0,{"$f":"Profile!L216","v":"2026-07-01"},0,0,0,{"$f":"Profile!P216","v":0},{"$f":"Profile!E216","v":0}]
[{"$f":"Profile!A217","v":"vjktif=r"},{"$f":"Profile!B217","v":162},{"$f":"Profile!C217","v":0},{"$f":"Profile!D217","v":0},{"$f":"Profile!F217","v":0},{"$f":"Profile!G217","v":"v/;kid"},{"$f":"Profile!H217","v":"ysoy"},{"$f":"Profile!I217","v":10},{"$f":"Profile!J217","v":0},0,{"$f":"Profile!L217","v":"2026-07-01"},0,0,0,{"$f":"Profile!P217","v":0},{"$f":"Profile!E217","v":0}]
[{"$f":"Profile!A218","v":"vjktif=r"},{"$f":"Profile!B218","v":163},{"$f":"Profile!C218","v":0},{"$f":"Profile!D218","v":0},{"$f":"Profile!F218","v":0},{"$f":"Profile!G218","v":"v/;kid"},{"$f":"Profile!H218","v":"ysoy"},{"$f":"Profile!I218","v":10},{"$f":"Profile!J218","v":0},0,{"$f":"Profile!L218","v":"2026-07-01"},0,0,0,{"$f":"Profile!P218","v":0},{"$f":"Profile!E218","v":0}]
[{"$f":"Profile!A219","v":"vjktif=r"},{"$f":"Profile!B219","v":164},{"$f":"Profile!C219","v":0},{"$f":"Profile!D219","v":0},{"$f":"Profile!F219","v":0},{"$f":"Profile!G219","v":"v/;kid"},{"$f":"Profile!H219","v":"ysoy"},{"$f":"Profile!I219","v":10},{"$f":"Profile!J219","v":0},0,{"$f":"Profile!L219","v":"2026-07-01"},0,0,0,{"$f":"Profile!P219","v":0},{"$f":"Profile!E219","v":0}]
[{"$f":"Profile!A220","v":"vjktif=r"},{"$f":"Profile!B220","v":165},{"$f":"Profile!C220","v":0},{"$f":"Profile!D220","v":0},{"$f":"Profile!F220","v":0},{"$f":"Profile!G220","v":"v/;kid"},{"$f":"Profile!H220","v":"ysoy"},{"$f":"Profile!I220","v":10},{"$f":"Profile!J220","v":0},0,{"$f":"Profile!L220","v":"2026-07-01"},0,0,0,{"$f":"Profile!P220","v":0},{"$f":"Profile!E220","v":0}]
[{"$f":"Profile!A221","v":"vjktif=r"},{"$f":"Profile!B221","v":166},{"$f":"Profile!C221","v":0},{"$f":"Profile!D221","v":0},{"$f":"Profile!F221","v":0},{"$f":"Profile!G221","v":"v/;kid"},{"$f":"Profile!H221","v":"ysoy"},{"$f":"Profile!I221","v":10},{"$f":"Profile!J221","v":0},0,{"$f":"Profile!L221","v":"2026-07-01"},0,0,0,{"$f":"Profile!P221","v":0},{"$f":"Profile!E221","v":0}]
[{"$f":"Profile!A222","v":"vjktif=r"},{"$f":"Profile!B222","v":167},{"$f":"Profile!C222","v":0},{"$f":"Profile!D222","v":0},{"$f":"Profile!F222","v":0},{"$f":"Profile!G222","v":"v/;kid"},{"$f":"Profile!H222","v":"ysoy"},{"$f":"Profile!I222","v":10},{"$f":"Profile!J222","v":0},0,{"$f":"Profile!L222","v":"2026-07-01"},0,0,0,{"$f":"Profile!P222","v":0},{"$f":"Profile!E222","v":0}]
[{"$f":"Profile!A223","v":"vjktif=r"},{"$f":"Profile!B223","v":168},{"$f":"Profile!C223","v":0},{"$f":"Profile!D223","v":0},{"$f":"Profile!F223","v":0},{"$f":"Profile!G223","v":"v/;kid"},{"$f":"Profile!H223","v":"ysoy"},{"$f":"Profile!I223","v":10},{"$f":"Profile!J223","v":0},0,{"$f":"Profile!L223","v":"2026-07-01"},0,0,0,{"$f":"Profile!P223","v":0},{"$f":"Profile!E223","v":0}]
[{"$f":"Profile!A224","v":"vjktif=r"},{"$f":"Profile!B224","v":169},{"$f":"Profile!C224","v":0},{"$f":"Profile!D224","v":0},{"$f":"Profile!F224","v":0},{"$f":"Profile!G224","v":"v/;kid"},{"$f":"Profile!H224","v":"ysoy"},{"$f":"Profile!I224","v":10},{"$f":"Profile!J224","v":0},0,{"$f":"Profile!L224","v":"2026-07-01"},0,0,0,{"$f":"Profile!P224","v":0},{"$f":"Profile!E224","v":0}]
[{"$f":"Profile!A225","v":"vjktif=r"},{"$f":"Profile!B225","v":170},{"$f":"Profile!C225","v":0},{"$f":"Profile!D225","v":0},{"$f":"Profile!F225","v":0},{"$f":"Profile!G225","v":"v/;kid"},{"$f":"Profile!H225","v":"ysoy"},{"$f":"Profile!I225","v":10},{"$f":"Profile!J225","v":0},0,{"$f":"Profile!L225","v":"2026-07-01"},0,0,0,{"$f":"Profile!P225","v":0},{"$f":"Profile!E225","v":0}]
[{"$f":"Profile!A226","v":"vjktif=r"},{"$f":"Profile!B226","v":171},{"$f":"Profile!C226","v":0},{"$f":"Profile!D226","v":0},{"$f":"Profile!F226","v":0},{"$f":"Profile!G226","v":"v/;kid"},{"$f":"Profile!H226","v":"ysoy"},{"$f":"Profile!I226","v":10},{"$f":"Profile!J226","v":0},0,{"$f":"Profile!L226","v":"2026-07-01"},0,0,0,{"$f":"Profile!P226","v":0},{"$f":"Profile!E226","v":0}]
[{"$f":"Profile!A227","v":"vjktif=r"},{"$f":"Profile!B227","v":172},{"$f":"Profile!C227","v":0},{"$f":"Profile!D227","v":0},{"$f":"Profile!F227","v":0},{"$f":"Profile!G227","v":"v/;kid"},{"$f":"Profile!H227","v":"ysoy"},{"$f":"Profile!I227","v":10},{"$f":"Profile!J227","v":0},0,{"$f":"Profile!L227","v":"2026-07-01"},0,0,0,{"$f":"Profile!P227","v":0},{"$f":"Profile!E227","v":0}]
[{"$f":"Profile!A228","v":"vjktif=r"},{"$f":"Profile!B228","v":173},{"$f":"Profile!C228","v":0},{"$f":"Profile!D228","v":0},{"$f":"Profile!F228","v":0},{"$f":"Profile!G228","v":"v/;kid"},{"$f":"Profile!H228","v":"ysoy"},{"$f":"Profile!I228","v":10},{"$f":"Profile!J228","v":0},0,{"$f":"Profile!L228","v":"2026-07-01"},0,0,0,{"$f":"Profile!P228","v":0},{"$f":"Profile!E228","v":0}]
[{"$f":"Profile!A229","v":"vjktif=r"},{"$f":"Profile!B229","v":174},{"$f":"Profile!C229","v":0},{"$f":"Profile!D229","v":0},{"$f":"Profile!F229","v":0},{"$f":"Profile!G229","v":"v/;kid"},{"$f":"Profile!H229","v":"ysoy"},{"$f":"Profile!I229","v":10},{"$f":"Profile!J229","v":0},0,{"$f":"Profile!L229","v":"2026-07-01"},0,0,0,{"$f":"Profile!P229","v":0},{"$f":"Profile!E229","v":0}]
[{"$f":"Profile!A230","v":"vjktif=r"},{"$f":"Profile!B230","v":175},{"$f":"Profile!C230","v":0},{"$f":"Profile!D230","v":0},{"$f":"Profile!F230","v":0},{"$f":"Profile!G230","v":"v/;kid"},{"$f":"Profile!H230","v":"ysoy"},{"$f":"Profile!I230","v":10},{"$f":"Profile!J230","v":0},0,{"$f":"Profile!L230","v":"2026-07-01"},0,0,0,{"$f":"Profile!P230","v":0},{"$f":"Profile!E230","v":0}]
[{"$f":"Profile!A231","v":"vjktif=r"},{"$f":"Profile!B231","v":176},{"$f":"Profile!C231","v":0},{"$f":"Profile!D231","v":0},{"$f":"Profile!F231","v":0},{"$f":"Profile!G231","v":"v/;kid"},{"$f":"Profile!H231","v":"ysoy"},{"$f":"Profile!I231","v":10},{"$f":"Profile!J231","v":0},0,{"$f":"Profile!L231","v":"2026-07-01"},0,0,0,{"$f":"Profile!P231","v":0},{"$f":"Profile!E231","v":0}]
[{"$f":"Profile!A232","v":"vjktif=r"},{"$f":"Profile!B232","v":177},{"$f":"Profile!C232","v":0},{"$f":"Profile!D232","v":0},{"$f":"Profile!F232","v":0},{"$f":"Profile!G232","v":"v/;kid"},{"$f":"Profile!H232","v":"ysoy"},{"$f":"Profile!I232","v":10},{"$f":"Profile!J232","v":0},0,{"$f":"Profile!L232","v":"2026-07-01"},0,0,0,{"$f":"Profile!P232","v":0},{"$f":"Profile!E232","v":0}]
[{"$f":"Profile!A233","v":"vjktif=r"},{"$f":"Profile!B233","v":178},{"$f":"Profile!C233","v":0},{"$f":"Profile!D233","v":0},{"$f":"Profile!F233","v":0},{"$f":"Profile!G233","v":"v/;kid"},{"$f":"Profile!H233","v":"ysoy"},{"$f":"Profile!I233","v":10},{"$f":"Profile!J233","v":0},0,{"$f":"Profile!L233","v":"2026-07-01"},0,0,0,{"$f":"Profile!P233","v":0},{"$f":"Profile!E233","v":0}]
[{"$f":"Profile!A234","v":"vjktif=r"},{"$f":"Profile!B234","v":179},{"$f":"Profile!C234","v":0},{"$f":"Profile!D234","v":0},{"$f":"Profile!F234","v":0},{"$f":"Profile!G234","v":"v/;kid"},{"$f":"Profile!H234","v":"ysoy"},{"$f":"Profile!I234","v":10},{"$f":"Profile!J234","v":0},0,{"$f":"Profile!L234","v":"2026-07-01"},0,0,0,{"$f":"Profile!P234","v":0},{"$f":"Profile!E234","v":0}]
[{"$f":"Profile!A235","v":"vjktif=r"},{"$f":"Profile!B235","v":180},{"$f":"Profile!C235","v":0},{"$f":"Profile!D235","v":0},{"$f":"Profile!F235","v":0},{"$f":"Profile!G235","v":"v/;kid"},{"$f":"Profile!H235","v":"ysoy"},{"$f":"Profile!I235","v":10},{"$f":"Profile!J235","v":0},0,{"$f":"Profile!L235","v":"2026-07-01"},0,0,0,{"$f":"Profile!P235","v":0},{"$f":"Profile!E235","v":0}]
[{"$f":"Profile!A236","v":"vjktif=r"},{"$f":"Profile!B236","v":181},{"$f":"Profile!C236","v":0},{"$f":"Profile!D236","v":0},{"$f":"Profile!F236","v":0},{"$f":"Profile!G236","v":"v/;kid"},{"$f":"Profile!H236","v":"ysoy"},{"$f":"Profile!I236","v":10},{"$f":"Profile!J236","v":0},0,{"$f":"Profile!L236","v":"2026-07-01"},0,0,0,{"$f":"Profile!P236","v":0},{"$f":"Profile!E236","v":0}]
[{"$f":"Profile!A237","v":"vjktif=r"},{"$f":"Profile!B237","v":182},{"$f":"Profile!C237","v":0},{"$f":"Profile!D237","v":0},{"$f":"Profile!F237","v":0},{"$f":"Profile!G237","v":"v/;kid"},{"$f":"Profile!H237","v":"ysoy"},{"$f":"Profile!I237","v":10},{"$f":"Profile!J237","v":0},0,{"$f":"Profile!L237","v":"2026-07-01"},0,0,0,{"$f":"Profile!P237","v":0},{"$f":"Profile!E237","v":0}]
[{"$f":"Profile!A238","v":"vjktif=r"},{"$f":"Profile!B238","v":183},{"$f":"Profile!C238","v":0},{"$f":"Profile!D238","v":0},{"$f":"Profile!F238","v":0},{"$f":"Profile!G238","v":"v/;kid"},{"$f":"Profile!H238","v":"ysoy"},{"$f":"Profile!I238","v":10},{"$f":"Profile!J238","v":0},0,{"$f":"Profile!L238","v":"2026-07-01"},0,0,0,{"$f":"Profile!P238","v":0},{"$f":"Profile!E238","v":0}]
[{"$f":"Profile!A239","v":"vjktif=r"},{"$f":"Profile!B239","v":184},{"$f":"Profile!C239","v":0},{"$f":"Profile!D239","v":0},{"$f":"Profile!F239","v":0},{"$f":"Profile!G239","v":"v/;kid"},{"$f":"Profile!H239","v":"ysoy"},{"$f":"Profile!I239","v":10},{"$f":"Profile!J239","v":0},0,{"$f":"Profile!L239","v":"2026-07-01"},0,0,0,{"$f":"Profile!P239","v":0},{"$f":"Profile!E239","v":0}]
[{"$f":"Profile!A240","v":"vjktif=r"},{"$f":"Profile!B240","v":185},{"$f":"Profile!C240","v":0},{"$f":"Profile!D240","v":0},{"$f":"Profile!F240","v":0},{"$f":"Profile!G240","v":"v/;kid"},{"$f":"Profile!H240","v":"ysoy"},{"$f":"Profile!I240","v":10},{"$f":"Profile!J240","v":0},0,{"$f":"Profile!L240","v":"2026-07-01"},0,0,0,{"$f":"Profile!P240","v":0},{"$f":"Profile!E240","v":0}]
[{"$f":"Profile!A241","v":"vjktif=r"},{"$f":"Profile!B241","v":186},{"$f":"Profile!C241","v":0},{"$f":"Profile!D241","v":0},{"$f":"Profile!F241","v":0},{"$f":"Profile!G241","v":"v/;kid"},{"$f":"Profile!H241","v":"ysoy"},{"$f":"Profile!I241","v":10},{"$f":"Profile!J241","v":0},0,{"$f":"Profile!L241","v":"2026-07-01"},0,0,0,{"$f":"Profile!P241","v":0},{"$f":"Profile!E241","v":0}]
[{"$f":"Profile!A242","v":"vjktif=r"},{"$f":"Profile!B242","v":187},{"$f":"Profile!C242","v":0},{"$f":"Profile!D242","v":0},{"$f":"Profile!F242","v":0},{"$f":"Profile!G242","v":"v/;kid"},{"$f":"Profile!H242","v":"ysoy"},{"$f":"Profile!I242","v":10},{"$f":"Profile!J242","v":0},0,{"$f":"Profile!L242","v":"2026-07-01"},0,0,0,{"$f":"Profile!P242","v":0},{"$f":"Profile!E242","v":0}]
[{"$f":"Profile!A243","v":"vjktif=r"},{"$f":"Profile!B243","v":188},{"$f":"Profile!C243","v":0},{"$f":"Profile!D243","v":0},{"$f":"Profile!F243","v":0},{"$f":"Profile!G243","v":"v/;kid"},{"$f":"Profile!H243","v":"ysoy"},{"$f":"Profile!I243","v":10},{"$f":"Profile!J243","v":0},0,{"$f":"Profile!L243","v":"2026-07-01"},0,0,0,{"$f":"Profile!P243","v":0},{"$f":"Profile!E243","v":0}]
[{"$f":"Profile!A244","v":"vjktif=r"},{"$f":"Profile!B244","v":189},{"$f":"Profile!C244","v":0},{"$f":"Profile!D244","v":0},{"$f":"Profile!F244","v":0},{"$f":"Profile!G244","v":"v/;kid"},{"$f":"Profile!H244","v":"ysoy"},{"$f":"Profile!I244","v":10},{"$f":"Profile!J244","v":0},0,{"$f":"Profile!L244","v":"2026-07-01"},0,0,0,{"$f":"Profile!P244","v":0},{"$f":"Profile!E244","v":0}]
[{"$f":"Profile!A245","v":"vjktif=r"},{"$f":"Profile!B245","v":190},{"$f":"Profile!C245","v":0},{"$f":"Profile!D245","v":0},{"$f":"Profile!F245","v":0},{"$f":"Profile!G245","v":"v/;kid"},{"$f":"Profile!H245","v":"ysoy"},{"$f":"Profile!I245","v":10},{"$f":"Profile!J245","v":0},0,{"$f":"Profile!L245","v":"2026-07-01"},0,0,0,{"$f":"Profile!P245","v":0},{"$f":"Profile!E245","v":0}]
[{"$f":"Profile!A246","v":"vjktif=r"},{"$f":"Profile!B246","v":191},{"$f":"Profile!C246","v":0},{"$f":"Profile!D246","v":0},{"$f":"Profile!F246","v":0},{"$f":"Profile!G246","v":"v/;kid"},{"$f":"Profile!H246","v":"ysoy"},{"$f":"Profile!I246","v":10},{"$f":"Profile!J246","v":0},0,{"$f":"Profile!L246","v":"2026-07-01"},0,0,0,{"$f":"Profile!P246","v":0},{"$f":"Profile!E246","v":0}]
[{"$f":"Profile!A247","v":"vjktif=r"},{"$f":"Profile!B247","v":192},{"$f":"Profile!C247","v":0},{"$f":"Profile!D247","v":0},{"$f":"Profile!F247","v":0},{"$f":"Profile!G247","v":"v/;kid"},{"$f":"Profile!H247","v":"ysoy"},{"$f":"Profile!I247","v":10},{"$f":"Profile!J247","v":0},0,{"$f":"Profile!L247","v":"2026-07-01"},0,0,0,{"$f":"Profile!P247","v":0},{"$f":"Profile!E247","v":0}]
[{"$f":"Profile!A248","v":"vjktif=r"},{"$f":"Profile!B248","v":193},{"$f":"Profile!C248","v":0},{"$f":"Profile!D248","v":0},{"$f":"Profile!F248","v":0},{"$f":"Profile!G248","v":"v/;kid"},{"$f":"Profile!H248","v":"ysoy"},{"$f":"Profile!I248","v":10},{"$f":"Profile!J248","v":0},0,{"$f":"Profile!L248","v":"2026-07-01"},0,0,0,{"$f":"Profile!P248","v":0},{"$f":"Profile!E248","v":0}]
[{"$f":"Profile!A249","v":"vjktif=r"},{"$f":"Profile!B249","v":194},{"$f":"Profile!C249","v":0},{"$f":"Profile!D249","v":0},{"$f":"Profile!F249","v":0},{"$f":"Profile!G249","v":"v/;kid"},{"$f":"Profile!H249","v":"ysoy"},{"$f":"Profile!I249","v":10},{"$f":"Profile!J249","v":0},0,{"$f":"Profile!L249","v":"2026-07-01"},0,0,0,{"$f":"Profile!P249","v":0},{"$f":"Profile!E249","v":0}]
[{"$f":"Profile!A250","v":"vjktif=r"},{"$f":"Profile!B250","v":195},{"$f":"Profile!C250","v":0},{"$f":"Profile!D250","v":0},{"$f":"Profile!F250","v":0},{"$f":"Profile!G250","v":"v/;kid"},{"$f":"Profile!H250","v":"ysoy"},{"$f":"Profile!I250","v":10},{"$f":"Profile!J250","v":0},0,{"$f":"Profile!L250","v":"2026-07-01"},0,0,0,{"$f":"Profile!P250","v":0},{"$f":"Profile!E250","v":0}]
[{"$f":"Profile!A251","v":"vjktif=r"},{"$f":"Profile!B251","v":196},{"$f":"Profile!C251","v":0},{"$f":"Profile!D251","v":0},{"$f":"Profile!F251","v":0},{"$f":"Profile!G251","v":"v/;kid"},{"$f":"Profile!H251","v":"ysoy"},{"$f":"Profile!I251","v":10},{"$f":"Profile!J251","v":0},0,{"$f":"Profile!L251","v":"2026-07-01"},0,0,0,{"$f":"Profile!P251","v":0},{"$f":"Profile!E251","v":0}]
[{"$f":"Profile!A252","v":"vjktif=r"},{"$f":"Profile!B252","v":197},{"$f":"Profile!C252","v":0},{"$f":"Profile!D252","v":0},{"$f":"Profile!F252","v":0},{"$f":"Profile!G252","v":"v/;kid"},{"$f":"Profile!H252","v":"ysoy"},{"$f":"Profile!I252","v":10},{"$f":"Profile!J252","v":0},0,{"$f":"Profile!L252","v":"2026-07-01"},0,0,0,{"$f":"Profile!P252","v":0},{"$f":"Profile!E252","v":0}]
[{"$f":"Profile!A253","v":"vjktif=r"},{"$f":"Profile!B253","v":198},{"$f":"Profile!C253","v":0},{"$f":"Profile!D253","v":0},{"$f":"Profile!F253","v":0},{"$f":"Profile!G253","v":"v/;kid"},{"$f":"Profile!H253","v":"ysoy"},{"$f":"Profile!I253","v":10},{"$f":"Profile!J253","v":0},0,{"$f":"Profile!L253","v":"2026-07-01"},0,0,0,{"$f":"Profile!P253","v":0},{"$f":"Profile!E253","v":0}]
[{"$f":"Profile!A254","v":"vjktif=r"},{"$f":"Profile!B254","v":199},{"$f":"Profile!C254","v":0},{"$f":"Profile!D254","v":0},{"$f":"Profile!F254","v":0},{"$f":"Profile!G254","v":"v/;kid"},{"$f":"Profile!H254","v":"ysoy"},{"$f":"Profile!I254","v":10},{"$f":"Profile!J254","v":0},0,{"$f":"Profile!L254","v":"2026-07-01"},0,0,0,{"$f":"Profile!P254","v":0},{"$f":"Profile!E254","v":0}]
[{"$f":"Profile!A255","v":"vjktif=r"},{"$f":"Profile!B255","v":200},{"$f":"Profile!C255","v":0},{"$f":"Profile!D255","v":0},{"$f":"Profile!F255","v":0},{"$f":"Profile!G255","v":"v/;kid"},{"$f":"Profile!H255","v":"ysoy"},{"$f":"Profile!I255","v":10},{"$f":"Profile!J255","v":0},{"$f":"I215*12","v":0},{"$f":"Profile!L255","v":"2026-07-01"},{"$f":"O215*8","v":0},{"$f":"J215+L215","v":0},{"$f":"M215-O215*12","v":0},{"$f":"Profile!P255","v":0},{"$f":"Profile!E255","v":0}]
[{"$f":"Profile!A256","v":"vjktif=r"},{"$f":"Profile!B256","v":201},{"$f":"Profile!C256","v":0},{"$f":"Profile!D256","v":0},{"$f":"Profile!F256","v":0},{"$f":"Profile!G256","v":"v/;kid"},{"$f":"Profile!H256","v":"ysoy"},{"$f":"Profile!I256","v":10},{"$f":"Profile!J256","v":0},0,{"$f":"Profile!L256","v":"2026-07-01"},0,0,0,{"$f":"Profile!P256","v":0},{"$f":"Profile!E256","v":0}]
[{"$f":"Profile!A257","v":"vjktif=r"},{"$f":"Profile!B257","v":202},{"$f":"Profile!C257","v":0},{"$f":"Profile!D257","v":0},{"$f":"Profile!F257","v":0},{"$f":"Profile!G257","v":"v/;kid"},{"$f":"Profile!H257","v":"ysoy"},{"$f":"Profile!I257","v":10},{"$f":"Profile!J257","v":0},0,{"$f":"Profile!L257","v":"2026-07-01"},0,0,0,{"$f":"Profile!P257","v":0},{"$f":"Profile!E257","v":0}]
[{"$f":"Profile!A258","v":"vjktif=r"},{"$f":"Profile!B258","v":203},{"$f":"Profile!C258","v":0},{"$f":"Profile!D258","v":0},{"$f":"Profile!F258","v":0},{"$f":"Profile!G258","v":"v/;kid"},{"$f":"Profile!H258","v":"ysoy"},{"$f":"Profile!I258","v":10},{"$f":"Profile!J258","v":0},0,{"$f":"Profile!L258","v":"2026-07-01"},0,0,0,{"$f":"Profile!P258","v":0},{"$f":"Profile!E258","v":0}]
[{"$f":"Profile!A259","v":"vjktif=r"},{"$f":"Profile!B259","v":204},{"$f":"Profile!C259","v":0},{"$f":"Profile!D259","v":0},{"$f":"Profile!F259","v":0},{"$f":"Profile!G259","v":"v/;kid"},{"$f":"Profile!H259","v":"ysoy"},{"$f":"Profile!I259","v":10},{"$f":"Profile!J259","v":0},0,{"$f":"Profile!L259","v":"2026-07-01"},0,0,0,{"$f":"Profile!P259","v":0},{"$f":"Profile!E259","v":0}]
[{"$f":"Profile!A260","v":"vjktif=r"},{"$f":"Profile!B260","v":205},{"$f":"Profile!C260","v":0},{"$f":"Profile!D260","v":0},{"$f":"Profile!F260","v":0},{"$f":"Profile!G260","v":"v/;kid"},{"$f":"Profile!H260","v":"ysoy"},{"$f":"Profile!I260","v":10},{"$f":"Profile!J260","v":0},0,{"$f":"Profile!L260","v":"2026-07-01"},0,0,0,{"$f":"Profile!P260","v":0},{"$f":"Profile!E260","v":0}]
[{"$f":"Profile!A261","v":"vjktif=r"},{"$f":"Profile!B261","v":206},{"$f":"Profile!C261","v":0},{"$f":"Profile!D261","v":0},{"$f":"Profile!F261","v":0},{"$f":"Profile!G261","v":"v/;kid"},{"$f":"Profile!H261","v":"ysoy"},{"$f":"Profile!I261","v":10},{"$f":"Profile!J261","v":0},0,{"$f":"Profile!L261","v":"2026-07-01"},0,0,0,{"$f":"Profile!P261","v":0},{"$f":"Profile!E261","v":0}]
[{"$f":"Profile!A262","v":"vjktif=r"},{"$f":"Profile!B262","v":207},{"$f":"Profile!C262","v":0},{"$f":"Profile!D262","v":0},{"$f":"Profile!F262","v":0},{"$f":"Profile!G262","v":"v/;kid"},{"$f":"Profile!H262","v":"ysoy"},{"$f":"Profile!I262","v":10},{"$f":"Profile!J262","v":0},0,{"$f":"Profile!L262","v":"2026-07-01"},0,0,0,{"$f":"Profile!P262","v":0},{"$f":"Profile!E262","v":0}]
[{"$f":"Profile!A263","v":"vjktif=r"},{"$f":"Profile!B263","v":208},{"$f":"Profile!C263","v":0},{"$f":"Profile!D263","v":0},{"$f":"Profile!F263","v":0},{"$f":"Profile!G263","v":"v/;kid"},{"$f":"Profile!H263","v":"ysoy"},{"$f":"Profile!I263","v":10},{"$f":"Profile!J263","v":0},0,{"$f":"Profile!L263","v":"2026-07-01"},0,0,0,{"$f":"Profile!P263","v":0},{"$f":"Profile!E263","v":0}]
[{"$f":"Profile!A264","v":"vjktif=r"},{"$f":"Profile!B264","v":209},{"$f":"Profile!C264","v":0},{"$f":"Profile!D264","v":0},{"$f":"Profile!F264","v":0},{"$f":"Profile!G264","v":"v/;kid"},{"$f":"Profile!H264","v":"ysoy"},{"$f":"Profile!I264","v":10},{"$f":"Profile!J264","v":0},0,{"$f":"Profile!L264","v":"2026-07-01"},0,0,0,{"$f":"Profile!P264","v":0},{"$f":"Profile!E264","v":0}]
[{"$f":"Profile!A265","v":"vjktif=r"},{"$f":"Profile!B265","v":210},{"$f":"Profile!C265","v":0},{"$f":"Profile!D265","v":0},{"$f":"Profile!F265","v":0},{"$f":"Profile!G265","v":"v/;kid"},{"$f":"Profile!H265","v":"ysoy"},{"$f":"Profile!I265","v":10},{"$f":"Profile!J265","v":0},0,{"$f":"Profile!L265","v":"2026-07-01"},0,0,0,{"$f":"Profile!P265","v":0},{"$f":"Profile!E265","v":0}]
[{"$f":"Profile!A266","v":"vjktif=r"},{"$f":"Profile!B266","v":211},{"$f":"Profile!C266","v":0},{"$f":"Profile!D266","v":0},{"$f":"Profile!F266","v":0},{"$f":"Profile!G266","v":"v/;kid"},{"$f":"Profile!H266","v":"ysoy"},{"$f":"Profile!I266","v":10},{"$f":"Profile!J266","v":0},0,{"$f":"Profile!L266","v":"2026-07-01"},0,0,0,{"$f":"Profile!P266","v":0},{"$f":"Profile!E266","v":0}]
[{"$f":"Profile!A267","v":"vjktif=r"},{"$f":"Profile!B267","v":212},{"$f":"Profile!C267","v":0},{"$f":"Profile!D267","v":0},{"$f":"Profile!F267","v":0},{"$f":"Profile!G267","v":"v/;kid"},{"$f":"Profile!H267","v":"ysoy"},{"$f":"Profile!I267","v":10},{"$f":"Profile!J267","v":0},0,{"$f":"Profile!L267","v":"2026-07-01"},0,0,0,{"$f":"Profile!P267","v":0},{"$f":"Profile!E267","v":0}]
[{"$f":"Profile!A268","v":"vjktif=r"},{"$f":"Profile!B268","v":213},{"$f":"Profile!C268","v":0},{"$f":"Profile!D268","v":0},{"$f":"Profile!F268","v":0},{"$f":"Profile!G268","v":"v/;kid"},{"$f":"Profile!H268","v":"ysoy"},{"$f":"Profile!I268","v":10},{"$f":"Profile!J268","v":0},0,{"$f":"Profile!L268","v":"2026-07-01"},0,0,0,{"$f":"Profile!P268","v":0},{"$f":"Profile!E268","v":0}]
[{"$f":"Profile!A269","v":"vjktif=r"},{"$f":"Profile!B269","v":214},{"$f":"Profile!C269","v":0},{"$f":"Profile!D269","v":0},{"$f":"Profile!F269","v":0},{"$f":"Profile!G269","v":"v/;kid"},{"$f":"Profile!H269","v":"ysoy"},{"$f":"Profile!I269","v":10},{"$f":"Profile!J269","v":0},0,{"$f":"Profile!L269","v":"2026-07-01"},0,0,0,{"$f":"Profile!P269","v":0},{"$f":"Profile!E269","v":0}]
[{"$f":"Profile!A270","v":"vjktif=r"},{"$f":"Profile!B270","v":215},{"$f":"Profile!C270","v":0},{"$f":"Profile!D270","v":0},{"$f":"Profile!F270","v":0},{"$f":"Profile!G270","v":"v/;kid"},{"$f":"Profile!H270","v":"ysoy"},{"$f":"Profile!I270","v":10},{"$f":"Profile!J270","v":0},0,{"$f":"Profile!L270","v":"2026-07-01"},0,0,0,{"$f":"Profile!P270","v":0},{"$f":"Profile!E270","v":0}]
[{"$f":"Profile!A271","v":"vjktif=r"},{"$f":"Profile!B271","v":216},{"$f":"Profile!C271","v":0},{"$f":"Profile!D271","v":0},{"$f":"Profile!F271","v":0},{"$f":"Profile!G271","v":"v/;kid"},{"$f":"Profile!H271","v":"ysoy"},{"$f":"Profile!I271","v":10},{"$f":"Profile!J271","v":0},0,{"$f":"Profile!L271","v":"2026-07-01"},0,0,0,{"$f":"Profile!P271","v":0},{"$f":"Profile!E271","v":0}]
[{"$f":"Profile!A272","v":"vjktif=r"},{"$f":"Profile!B272","v":217},{"$f":"Profile!C272","v":0},{"$f":"Profile!D272","v":0},{"$f":"Profile!F272","v":0},{"$f":"Profile!G272","v":"v/;kid"},{"$f":"Profile!H272","v":"ysoy"},{"$f":"Profile!I272","v":10},{"$f":"Profile!J272","v":0},0,{"$f":"Profile!L272","v":"2026-07-01"},0,0,0,{"$f":"Profile!P272","v":0},{"$f":"Profile!E272","v":0}]
[{"$f":"Profile!A273","v":"vjktif=r"},{"$f":"Profile!B273","v":218},{"$f":"Profile!C273","v":0},{"$f":"Profile!D273","v":0},{"$f":"Profile!F273","v":0},{"$f":"Profile!G273","v":"v/;kid"},{"$f":"Profile!H273","v":"ysoy"},{"$f":"Profile!I273","v":10},{"$f":"Profile!J273","v":0},0,{"$f":"Profile!L273","v":"2026-07-01"},0,0,0,{"$f":"Profile!P273","v":0},{"$f":"Profile!E273","v":0}]
[{"$f":"Profile!A274","v":"vjktif=r"},{"$f":"Profile!B274","v":219},{"$f":"Profile!C274","v":0},{"$f":"Profile!D274","v":0},{"$f":"Profile!F274","v":0},{"$f":"Profile!G274","v":"v/;kid"},{"$f":"Profile!H274","v":"ysoy"},{"$f":"Profile!I274","v":10},{"$f":"Profile!J274","v":0},0,{"$f":"Profile!L274","v":"2026-07-01"},0,0,0,{"$f":"Profile!P274","v":0},{"$f":"Profile!E274","v":0}]
[{"$f":"Profile!A275","v":"vjktif=r"},{"$f":"Profile!B275","v":220},{"$f":"Profile!C275","v":0},{"$f":"Profile!D275","v":0},{"$f":"Profile!F275","v":0},{"$f":"Profile!G275","v":"v/;kid"},{"$f":"Profile!H275","v":"ysoy"},{"$f":"Profile!I275","v":10},{"$f":"Profile!J275","v":0},0,{"$f":"Profile!L275","v":"2026-07-01"},0,0,0,{"$f":"Profile!P275","v":0},{"$f":"Profile!E275","v":0}]
[{"$f":"Profile!A276","v":"vjktif=r"},{"$f":"Profile!B276","v":221},{"$f":"Profile!C276","v":0},{"$f":"Profile!D276","v":0},{"$f":"Profile!F276","v":0},{"$f":"Profile!G276","v":"v/;kid"},{"$f":"Profile!H276","v":"ysoy"},{"$f":"Profile!I276","v":10},{"$f":"Profile!J276","v":0},0,{"$f":"Profile!L276","v":"2026-07-01"},0,0,0,{"$f":"Profile!P276","v":0},{"$f":"Profile!E276","v":0}]
[{"$f":"Profile!A277","v":"vjktif=r"},{"$f":"Profile!B277","v":222},{"$f":"Profile!C277","v":0},{"$f":"Profile!D277","v":0},{"$f":"Profile!F277","v":0},{"$f":"Profile!G277","v":"v/;kid"},{"$f":"Profile!H277","v":"ysoy"},{"$f":"Profile!I277","v":10},{"$f":"Profile!J277","v":0},0,{"$f":"Profile!L277","v":"2026-07-01"},0,0,0,{"$f":"Profile!P277","v":0},{"$f":"Profile!E277","v":0}]
[{"$f":"Profile!A278","v":"vjktif=r"},{"$f":"Profile!B278","v":223},{"$f":"Profile!C278","v":0},{"$f":"Profile!D278","v":0},{"$f":"Profile!F278","v":0},{"$f":"Profile!G278","v":"v/;kid"},{"$f":"Profile!H278","v":"ysoy"},{"$f":"Profile!I278","v":10},{"$f":"Profile!J278","v":0},0,{"$f":"Profile!L278","v":"2026-07-01"},0,0,0,{"$f":"Profile!P278","v":0},{"$f":"Profile!E278","v":0}]
[{"$f":"Profile!A279","v":"vjktif=r"},{"$f":"Profile!B279","v":224},{"$f":"Profile!C279","v":0},{"$f":"Profile!D279","v":0},{"$f":"Profile!F279","v":0},{"$f":"Profile!G279","v":"v/;kid"},{"$f":"Profile!H279","v":"ysoy"},{"$f":"Profile!I279","v":10},{"$f":"Profile!J279","v":0},0,{"$f":"Profile!L279","v":"2026-07-01"},0,0,0,{"$f":"Profile!P279","v":0},{"$f":"Profile!E279","v":0}]
[{"$f":"Profile!A280","v":"vjktif=r"},{"$f":"Profile!B280","v":225},{"$f":"Profile!C280","v":0},{"$f":"Profile!D280","v":0},{"$f":"Profile!F280","v":0},{"$f":"Profile!G280","v":"v/;kid"},{"$f":"Profile!H280","v":"ysoy"},{"$f":"Profile!I280","v":10},{"$f":"Profile!J280","v":0},0,{"$f":"Profile!L280","v":"2026-07-01"},0,0,0,{"$f":"Profile!P280","v":0},{"$f":"Profile!E280","v":0}]
[{"$f":"Profile!A281","v":"vjktif=r"},{"$f":"Profile!B281","v":226},{"$f":"Profile!C281","v":0},{"$f":"Profile!D281","v":0},{"$f":"Profile!F281","v":0},{"$f":"Profile!G281","v":"v/;kid"},{"$f":"Profile!H281","v":"ysoy"},{"$f":"Profile!I281","v":10},{"$f":"Profile!J281","v":0},0,{"$f":"Profile!L281","v":"2026-07-01"},0,0,0,{"$f":"Profile!P281","v":0},{"$f":"Profile!E281","v":0}]
[{"$f":"Profile!A282","v":"vjktif=r"},{"$f":"Profile!B282","v":227},{"$f":"Profile!C282","v":0},{"$f":"Profile!D282","v":0},{"$f":"Profile!F282","v":0},{"$f":"Profile!G282","v":"v/;kid"},{"$f":"Profile!H282","v":"ysoy"},{"$f":"Profile!I282","v":10},{"$f":"Profile!J282","v":0},0,{"$f":"Profile!L282","v":"2026-07-01"},0,0,0,{"$f":"Profile!P282","v":0},{"$f":"Profile!E282","v":0}]
[{"$f":"Profile!A283","v":"vjktif=r"},{"$f":"Profile!B283","v":228},{"$f":"Profile!C283","v":0},{"$f":"Profile!D283","v":0},{"$f":"Profile!F283","v":0},{"$f":"Profile!G283","v":"v/;kid"},{"$f":"Profile!H283","v":"ysoy"},{"$f":"Profile!I283","v":10},{"$f":"Profile!J283","v":0},0,{"$f":"Profile!L283","v":"2026-07-01"},0,0,0,{"$f":"Profile!P283","v":0},{"$f":"Profile!E283","v":0}]
[{"$f":"Profile!A284","v":"vjktif=r"},{"$f":"Profile!B284","v":229},{"$f":"Profile!C284","v":0},{"$f":"Profile!D284","v":0},{"$f":"Profile!F284","v":0},{"$f":"Profile!G284","v":"v/;kid"},{"$f":"Profile!H284","v":"ysoy"},{"$f":"Profile!I284","v":10},{"$f":"Profile!J284","v":0},0,{"$f":"Profile!L284","v":"2026-07-01"},0,0,0,{"$f":"Profile!P284","v":0},{"$f":"Profile!E284","v":0}]
[{"$f":"Profile!A285","v":"vjktif=r"},{"$f":"Profile!B285","v":230},{"$f":"Profile!C285","v":0},{"$f":"Profile!D285","v":0},{"$f":"Profile!F285","v":0},{"$f":"Profile!G285","v":"v/;kid"},{"$f":"Profile!H285","v":"ysoy"},{"$f":"Profile!I285","v":10},{"$f":"Profile!J285","v":0},0,{"$f":"Profile!L285","v":"2026-07-01"},0,0,0,{"$f":"Profile!P285","v":0},{"$f":"Profile!E285","v":0}]
[{"$f":"Profile!A286","v":"vjktif=r"},{"$f":"Profile!B286","v":231},{"$f":"Profile!C286","v":0},{"$f":"Profile!D286","v":0},{"$f":"Profile!F286","v":0},{"$f":"Profile!G286","v":"v/;kid"},{"$f":"Profile!H286","v":"ysoy"},{"$f":"Profile!I286","v":10},{"$f":"Profile!J286","v":0},0,{"$f":"Profile!L286","v":"2026-07-01"},0,0,0,{"$f":"Profile!P286","v":0},{"$f":"Profile!E286","v":0}]
[{"$f":"Profile!A287","v":"vjktif=r"},{"$f":"Profile!B287","v":232},{"$f":"Profile!C287","v":0},{"$f":"Profile!D287","v":0},{"$f":"Profile!F287","v":0},{"$f":"Profile!G287","v":"v/;kid"},{"$f":"Profile!H287","v":"ysoy"},{"$f":"Profile!I287","v":10},{"$f":"Profile!J287","v":0},0,{"$f":"Profile!L287","v":"2026-07-01"},0,0,0,{"$f":"Profile!P287","v":0},{"$f":"Profile!E287","v":0}]
[{"$f":"Profile!A288","v":"vjktif=r"},{"$f":"Profile!B288","v":233},{"$f":"Profile!C288","v":0},{"$f":"Profile!D288","v":0},{"$f":"Profile!F288","v":0},{"$f":"Profile!G288","v":"v/;kid"},{"$f":"Profile!H288","v":"ysoy"},{"$f":"Profile!I288","v":10},{"$f":"Profile!J288","v":0},0,{"$f":"Profile!L288","v":"2026-07-01"},0,0,0,{"$f":"Profile!P288","v":0},{"$f":"Profile!E288","v":0}]
[{"$f":"Profile!A289","v":"vjktif=r"},{"$f":"Profile!B289","v":234},{"$f":"Profile!C289","v":0},{"$f":"Profile!D289","v":0},{"$f":"Profile!F289","v":0},{"$f":"Profile!G289","v":"v/;kid"},{"$f":"Profile!H289","v":"ysoy"},{"$f":"Profile!I289","v":10},{"$f":"Profile!J289","v":0},0,{"$f":"Profile!L289","v":"2026-07-01"},0,0,0,{"$f":"Profile!P289","v":0},{"$f":"Profile!E289","v":0}]
[{"$f":"Profile!A290","v":"vjktif=r"},{"$f":"Profile!B290","v":235},{"$f":"Profile!C290","v":0},{"$f":"Profile!D290","v":0},{"$f":"Profile!F290","v":0},{"$f":"Profile!G290","v":"v/;kid"},{"$f":"Profile!H290","v":"ysoy"},{"$f":"Profile!I290","v":10},{"$f":"Profile!J290","v":0},0,{"$f":"Profile!L290","v":"2026-07-01"},0,0,0,{"$f":"Profile!P290","v":0},{"$f":"Profile!E290","v":0}]
[{"$f":"Profile!A291","v":"vjktif=r"},{"$f":"Profile!B291","v":236},{"$f":"Profile!C291","v":0},{"$f":"Profile!D291","v":0},{"$f":"Profile!F291","v":0},{"$f":"Profile!G291","v":"v/;kid"},{"$f":"Profile!H291","v":"ysoy"},{"$f":"Profile!I291","v":10},{"$f":"Profile!J291","v":0},0,{"$f":"Profile!L291","v":"2026-07-01"},0,0,0,{"$f":"Profile!P291","v":0},{"$f":"Profile!E291","v":0}]
[{"$f":"Profile!A292","v":"vjktif=r"},{"$f":"Profile!B292","v":237},{"$f":"Profile!C292","v":0},{"$f":"Profile!D292","v":0},{"$f":"Profile!F292","v":0},{"$f":"Profile!G292","v":"v/;kid"},{"$f":"Profile!H292","v":"ysoy"},{"$f":"Profile!I292","v":10},{"$f":"Profile!J292","v":0},0,{"$f":"Profile!L292","v":"2026-07-01"},0,0,0,{"$f":"Profile!P292","v":0},{"$f":"Profile!E292","v":0}]
[{"$f":"Profile!A293","v":"vjktif=r"},{"$f":"Profile!B293","v":238},{"$f":"Profile!C293","v":0},{"$f":"Profile!D293","v":0},{"$f":"Profile!F293","v":0},{"$f":"Profile!G293","v":"v/;kid"},{"$f":"Profile!H293","v":"ysoy"},{"$f":"Profile!I293","v":10},{"$f":"Profile!J293","v":0},0,{"$f":"Profile!L293","v":"2026-07-01"},0,0,0,{"$f":"Profile!P293","v":0},{"$f":"Profile!E293","v":0}]
[{"$f":"Profile!A294","v":"vjktif=r"},{"$f":"Profile!B294","v":239},{"$f":"Profile!C294","v":0},{"$f":"Profile!D294","v":0},{"$f":"Profile!F294","v":0},{"$f":"Profile!G294","v":"v/;kid"},{"$f":"Profile!H294","v":"ysoy"},{"$f":"Profile!I294","v":10},{"$f":"Profile!J294","v":0},0,{"$f":"Profile!L294","v":"2026-07-01"},0,0,0,{"$f":"Profile!P294","v":0},{"$f":"Profile!E294","v":0}]
[{"$f":"Profile!A295","v":"vjktif=r"},{"$f":"Profile!B295","v":240},{"$f":"Profile!C295","v":0},{"$f":"Profile!D295","v":0},{"$f":"Profile!F295","v":0},{"$f":"Profile!G295","v":"v/;kid"},{"$f":"Profile!H295","v":"ysoy"},{"$f":"Profile!I295","v":10},{"$f":"Profile!J295","v":0},0,{"$f":"Profile!L295","v":"2026-07-01"},0,0,0,{"$f":"Profile!P295","v":0},{"$f":"Profile!E295","v":0}]
[{"$f":"Profile!A296","v":"vjktif=r"},{"$f":"Profile!B296","v":241},{"$f":"Profile!C296","v":0},{"$f":"Profile!D296","v":0},{"$f":"Profile!F296","v":0},{"$f":"Profile!G296","v":"v/;kid"},{"$f":"Profile!H296","v":"ysoy"},{"$f":"Profile!I296","v":10},{"$f":"Profile!J296","v":0},0,{"$f":"Profile!L296","v":"2026-07-01"},0,0,0,{"$f":"Profile!P296","v":0},{"$f":"Profile!E296","v":0}]
[{"$f":"Profile!A297","v":"vjktif=r"},{"$f":"Profile!B297","v":242},{"$f":"Profile!C297","v":0},{"$f":"Profile!D297","v":0},{"$f":"Profile!F297","v":0},{"$f":"Profile!G297","v":"v/;kid"},{"$f":"Profile!H297","v":"ysoy"},{"$f":"Profile!I297","v":10},{"$f":"Profile!J297","v":0},0,{"$f":"Profile!L297","v":"2026-07-01"},0,0,0,{"$f":"Profile!P297","v":0},{"$f":"Profile!E297","v":0}]
[{"$f":"Profile!A298","v":"vjktif=r"},{"$f":"Profile!B298","v":243},{"$f":"Profile!C298","v":0},{"$f":"Profile!D298","v":0},{"$f":"Profile!F298","v":0},{"$f":"Profile!G298","v":"v/;kid"},{"$f":"Profile!H298","v":"ysoy"},{"$f":"Profile!I298","v":10},{"$f":"Profile!J298","v":0},0,{"$f":"Profile!L298","v":"2026-07-01"},0,0,0,{"$f":"Profile!P298","v":0},{"$f":"Profile!E298","v":0}]
[{"$f":"Profile!A299","v":"vjktif=r"},{"$f":"Profile!B299","v":244},{"$f":"Profile!C299","v":0},{"$f":"Profile!D299","v":0},{"$f":"Profile!F299","v":0},{"$f":"Profile!G299","v":"v/;kid"},{"$f":"Profile!H299","v":"ysoy"},{"$f":"Profile!I299","v":10},{"$f":"Profile!J299","v":0},0,{"$f":"Profile!L299","v":"2026-07-01"},0,0,0,{"$f":"Profile!P299","v":0},{"$f":"Profile!E299","v":0}]
[{"$f":"Profile!A300","v":"vjktif=r"},{"$f":"Profile!B300","v":245},{"$f":"Profile!C300","v":0},{"$f":"Profile!D300","v":0},{"$f":"Profile!F300","v":0},{"$f":"Profile!G300","v":"v/;kid"},{"$f":"Profile!H300","v":"ysoy"},{"$f":"Profile!I300","v":10},{"$f":"Profile!J300","v":0},0,{"$f":"Profile!L300","v":"2026-07-01"},0,0,0,{"$f":"Profile!P300","v":0},{"$f":"Profile!E300","v":0}]
[{"$f":"Profile!A301","v":"vjktif=r"},{"$f":"Profile!B301","v":246},{"$f":"Profile!C301","v":0},{"$f":"Profile!D301","v":0},{"$f":"Profile!F301","v":0},{"$f":"Profile!G301","v":"v/;kid"},{"$f":"Profile!H301","v":"ysoy"},{"$f":"Profile!I301","v":10},{"$f":"Profile!J301","v":0},0,{"$f":"Profile!L301","v":"2026-07-01"},0,0,0,{"$f":"Profile!P301","v":0},{"$f":"Profile!E301","v":0}]
[{"$f":"Profile!A302","v":"vjktif=r"},{"$f":"Profile!B302","v":247},{"$f":"Profile!C302","v":0},{"$f":"Profile!D302","v":0},{"$f":"Profile!F302","v":0},{"$f":"Profile!G302","v":"v/;kid"},{"$f":"Profile!H302","v":"ysoy"},{"$f":"Profile!I302","v":10},{"$f":"Profile!J302","v":0},0,{"$f":"Profile!L302","v":"2026-07-01"},0,0,0,{"$f":"Profile!P302","v":0},{"$f":"Profile!E302","v":0}]
[{"$f":"Profile!A303","v":"vjktif=r"},{"$f":"Profile!B303","v":248},{"$f":"Profile!C303","v":0},{"$f":"Profile!D303","v":0},{"$f":"Profile!F303","v":0},{"$f":"Profile!G303","v":"v/;kid"},{"$f":"Profile!H303","v":"ysoy"},{"$f":"Profile!I303","v":10},{"$f":"Profile!J303","v":0},0,{"$f":"Profile!L303","v":"2026-07-01"},0,0,0,{"$f":"Profile!P303","v":0},{"$f":"Profile!E303","v":0}]
[{"$f":"Profile!A304","v":"vjktif=r"},{"$f":"Profile!B304","v":249},{"$f":"Profile!C304","v":0},{"$f":"Profile!D304","v":0},{"$f":"Profile!F304","v":0},{"$f":"Profile!G304","v":"v/;kid"},{"$f":"Profile!H304","v":"ysoy"},{"$f":"Profile!I304","v":10},{"$f":"Profile!J304","v":0},0,{"$f":"Profile!L304","v":"2026-07-01"},0,0,0,{"$f":"Profile!P304","v":0},{"$f":"Profile!E304","v":0}]
[{"$f":"Profile!A305","v":"vjktif=r"},{"$f":"Profile!B305","v":250},{"$f":"Profile!C305","v":0},{"$f":"Profile!D305","v":0},{"$f":"Profile!F305","v":0},{"$f":"Profile!G305","v":"v/;kid"},{"$f":"Profile!H305","v":"ysoy"},{"$f":"Profile!I305","v":10},{"$f":"Profile!J305","v":0},0,{"$f":"Profile!L305","v":"2026-07-01"},0,0,0,{"$f":"Profile!P305","v":0},{"$f":"Profile!E305","v":0}]
[{"$f":"Profile!A306","v":"vjktif=r"},{"$f":"Profile!B306","v":251},{"$f":"Profile!C306","v":0},{"$f":"Profile!D306","v":0},{"$f":"Profile!F306","v":0},{"$f":"Profile!G306","v":"v/;kid"},{"$f":"Profile!H306","v":"ysoy"},{"$f":"Profile!I306","v":10},{"$f":"Profile!J306","v":0},0,{"$f":"Profile!L306","v":"2026-07-01"},0,0,0,{"$f":"Profile!P306","v":0},{"$f":"Profile!E306","v":0}]
[{"$f":"Profile!A307","v":"vjktif=r"},{"$f":"Profile!B307","v":252},{"$f":"Profile!C307","v":0},{"$f":"Profile!D307","v":0},{"$f":"Profile!F307","v":0},{"$f":"Profile!G307","v":"v/;kid"},{"$f":"Profile!H307","v":"ysoy"},{"$f":"Profile!I307","v":10},{"$f":"Profile!J307","v":0},0,{"$f":"Profile!L307","v":"2026-07-01"},0,0,0,{"$f":"Profile!P307","v":0},{"$f":"Profile!E307","v":0}]
[]
[null,"jktif=r ;ksx",null,null,null,null,null,null,{"$f":"Profile!J309","v":0},{"$f":"Profile!K309","v":0},null,{"$f":"Profile!M309","v":0},{"$f":"Profile!N309","v":0},{"$f":"Profile!O309","v":0}]
[null,"vjktif=r ;ksx",null,null,null,null,null,null,{"$f":"Profile!J310","v":3018400},{"$f":"Profile!K310","v":36220800},null,{"$f":"Profile!M310","v":721600},{"$f":"Profile!N310","v":36942400},{"$f":"Profile!O310","v":35860000}]
[null,";ksx jktif=r$vjktif=r ",null,null,null,null,null,null,{"$f":"Profile!J311","v":3018400},{"$f":"Profile!K311","v":36220800},null,{"$f":"Profile!M311","v":721600},{"$f":"Profile!N311","v":36942400},{"$f":"Profile!O311","v":35860000}]
[{"$f":"Profile!A312","v":0.55000000000000004},{"$f":"Profile!$B$312","v":"egaxkbZ HkRrk -------izfr'kr"},null,null,null,null,null,null,null,null,null,null,{"$f":"Profile!N312","v":20318320},{"$f":"Profile!O312","v":19723000}]
[{"$f":"Profile!A313","v":0.1},{"$f":"Profile!$B$313","v":"edku fdjk;k10@20@30izfr'kr"},null,null,null,null,null,null,null,null,null,null,{"$f":"Profile!N313","v":3694240},{"$f":"Profile!O313","v":3586000}]
[{"$f":"Profile!A314","v":0},{"$f":"Profile!$B$314","v":"egaxkbZ HkRRkk ,sfj;j¼----izfr'kr½"},null,null,null,null,null,null,null,null,null,null,{"$f":"Profile!N314","v":0},{"$f":"Profile!O314","v":0},null,null,"deZpkjh dh la[;k"]
[null,{"$f":"Profile!$B$315","v":"cksul"},null,null,null,null,null,null,null,null,null,null,{"$f":"Profile!N315","v":433536},{"$f":"Profile!O315","v":433536},null,null,{"$f":"Profile!$R$315","v":64}]
[null,{"$f":"Profile!B316","v":"lefiZr vodk'k"},null,null,null,null,null,null,null,null,null,null,{"$f":"Profile!N316","v":2385863},{"$f":"Profile!O316","v":2315958}]
[null,{"$f":"Profile!B317","v":"dSf'k;j HkRrk"},null,null,null,null,null,null,null,null,null,null,{"$f":"Profile!N317","v":0},{"$f":"Profile!O317","v":0}]
[null,{"$f":"Profile!B318","v":"f};kax HkRrk"},null,null,null,null,null,null,null,null,null,null,{"$f":"Profile!N318","v":28800},{"$f":"Profile!O318","v":28800}]
[null,{"$f":"Profile!B319","v":"/kqykbZ HkRrk"},null,null,null,null,null,null,null,null,null,null,{"$f":"Profile!N319","v":0},{"$f":"Profile!O319","v":0}]
[null,{"$f":"Profile!$B$320","v":" 'kgjh {kfriwfrZ HkRrk"},null,null,null,null,null,null,null,null,null,null,{"$f":"Profile!N320","v":0},{"$f":"Profile!O320","v":0}]
[null,{"$f":"Profile!B321","v":"¼fQDl is½ vU; HkRRkk"},null,null,null,null,null,null,null,null,null,null,{"$f":"Profile!N321","v":22627200},{"$f":"Profile!O321","v":22627200}]
[null,{"$f":"Profile!$B$322","v":"dqqy HkRrk ;ksx"},null,null,null,null,null,null,null,null,null,null,{"$f":"Profile!N322","v":49487959},{"$f":"Profile!O322","v":48714494}]
[null,{"$f":"Profile!B323","v":";ksx laosru"},null,null,null,null,null,null,null,null,null,null,{"$f":"Profile!N323","v":86430359},{"$f":"Profile!O323","v":84574494}]
[null,{"$f":"Profile!B324","v":";k=k HkRrk"},null,null,null,null,null,null,null,null,null,null,{"$f":"Profile!N324","v":0},{"$f":"Profile!O324","v":325437}]
[null,{"$f":"Profile!B325","v":"esfMdy HkRrk"},null,null,null,null,null,null,null,null,null,null,{"$f":"Profile!N325","v":0},{"$f":"Profile!O325","v":16424}]
[null,{"$f":"Profile!B326","v":";ksx ;k=k HkRrk$esfMdy HkRRkk"},null,null,null,null,null,null,null,null,null,null,{"$f":"Profile!N326","v":0},{"$f":"Profile!O326","v":341861}]
[null,{"$f":"Profile!B327","v":"egk;ksx"},null,null,null,null,null,null,null,null,null,null,{"$f":"Profile!N327","v":86430359},{"$f":"Profile!O327","v":84916355}]
[]
[null,null,null,"izekf.kr fd;k tkrk gS fd mi;qZDr lwpuk dh esjs }kjk O;fDrxr :Ik ls tkap dj yh xbZ gS vksj bls lgh ik;k x;k gSA"]
[]
[null,null,null,null,null,null,null,null,null,null,null,null,{"$f":"Profile!A3","v":"eq[; CykWd f'k{kk vf/kdkjh"}]
[null,null,null,null,null,null,null,null,null,{"$f":"Profile!G6","v":"eksgEen vtht HkkVh"},null,null,{"$f":"Profile!A4","v":"lexz f'k{kk"}]
[null,null,null,null,null,null,null,null,null,{"$f":"Profile!$I$6","v":9460701805},null,null,{"$f":"Profile!A5","v":"chdkusj"}]
[null,null,null,null,null,null,null,null,"rS;kj drkZ %&",{"$f":"Profile!$J$6","v":"gtkjh jke rMZ"},null,null,{"$f":"Profile!$F$4","v":1451}]
[null,null,null,null,null,null,null,null,null,{"$f":"Profile!$L$6","v":9667576332}]

{"sheet":"rrr 09","index":2,"n_rows":62,"n_cols":21,"rows_kept":62,"cut":false,"hidden":false,"merged":[[57,2,57,3],[57,4,57,5],[57,6,57,7],[57,8,57,10],[57,11,57,12],[57,13,57,14],[57,15,57,17],[59,13,59,14],[59,15,59,17],[61,1,61,17],[59,2,59,3],[59,4,59,5],[59,6,59,7],[59,8,59,10],[59,11,59,12],[58,2,58,3],[58,4,58,5],[58,6,58,7],[58,8,58,10],[58,11,58,12],[58,13,58,14],[58,15,58,17],[55,13,55,14],[55,15,55,17],[56,2,56,3],[56,4,56,5],[56,6,56,7],[56,8,56,10],[56,11,56,12],[56,13,56,14],[56,15,56,17],[55,2,55,3],[55,4,55,5],[55,6,55,7],[55,8,55,10],[55,11,55,12],[53,13,53,14],[53,15,53,17],[54,2,54,3],[54,4,54,5],[54,6,54,7],[54,8,54,10],[54,11,54,12],[54,13,54,14],[54,15,54,17],[53,2,53,3],[53,4,53,5],[53,6,53,7],[53,8,53,10],[53,11,53,12],[48,15,48,17],[49,2,49,4],[49,5,49,6],[49,7,49,10],[49,11,49,12],[49,13,49,14],[49,15,49,17],[48,2,48,4],[48,5,48,6],[48,7,48,10],[48,11,48,12],[48,13,48,14],[46,15,46,17],[47,2,47,4],[47,5,47,6],[47,7,47,10],[47,11,47,12],[47,13,47,14],[47,15,47,17],[46,2,46,4],[46,5,46,6],[46,7,46,10],[46,11,46,12],[46,13,46,14],[44,15,44,17],[45,2,45,4],[45,5,45,6],[45,7,45,10],[45,11,45,12],[45,13,45,14],[45,15,45,17],[44,2,44,4],[44,5,44,6],[44,7,44,10],[44,11,44,12],[44,13,44,14],[43,2,43,4],[43,5,43,6],[43,7,43,10],[43,11,43,12],[43,13,43,14],[43,15,43,17],[42,2,42,4],[42,5,42,6],[42,7,42,10],[42,11,42,12],[42,13,42,14],[42,15,42,17],[40,1,40,5],[41,2,41,4],[41,5,41,6],[41,7,41,10],[41,11,41,12],[41,13,41,14],[41,15,41,17],[36,8,36,10],[37,8,37,10],[38,2,38,17],[37,15,37,17],[1,18,2,20],[2,0,2,17],[3,0,3,3],[3,4,3,11],[3,18,3,20],[4,18,4,20],[5,19,5,20],[35,15,35,17],[36,15,36,17],[34,8,34,10],[35,8,35,10],[0,0,0,12],[0,14,0,17],[5,0,6,0],[5,1,6,1],[5,3,5,5],[5,7,5,10],[5,12,6,12],[5,11,6,11],[5,2,6,2],[5,13,5,15],[4,1,4,4],[4,5,4,6],[3,12,3,14],[3,15,3,17],[5,16,5,17],[4,7,4,10],[4,11,4,13],[4,14,4,15],[1,16,1,17],[1,0,1,14]]}
["izi= 9",null,null,null,null,null,null,null,null,null,null,null,null,"ctV gSM",{"$f":"Profile!$C$3","v":"2202-01-197-16-01"}]
["fuf'pr O;;ksa ds foLr`r vuqeku vFkkZr~ vf/kdkfj;ksa o deZpkfj;ksa ds osru vuqeku o\"kZ ¼vizSy ls ekpZ rd½",null,null,null,null,null,null,null,null,null,null,null,null,null,null,{"$f":"Profile!$A$8","v":"ihMh [kkrk la[;k %&"},{"$f":"Profile!$C$8","v":762},null,{"$f":"Profile!$K$44","v":"LVsV Q.M"}]
["¼ctV vuqeku vf/kdkfj;ksa }kjk foHkkxk/;{k dks izLrqr djus gsrq½ ys[kk dk 'kh\"kZ % eq[; 'kh\"kZ@minh?kZ 'kh\"kZ@y?kq'kh\"kZ@mi'kh\"kZ xzqi 'kh\"kZ--------------------vk;kstuk fHkUu@vk;kstuk@dsUnz izofrZr ;kstuk"]
["dk;kZy; &",null,null,null,{"$f":"Profile!$D$44","v":"eq[; CykWd f'k{kk vf/kdkjh] lexz f'k{kk] chdkusj"},null,null,null,null,null,null,null,"foHkkx dk uke %&",null,null,{"$f":"Profile!$G$2","v":" izkjfEHkd f'k{kk foHkkx"},null,null,{"$f":"Profile!$G$43","v":1451}]
[null,"ctV Lohd`fr esa fo|ky; dh Ø-la- %&",null,null,null,{"$f":"Profile!$C$12","v":11},null,"dk;kZy; v/;{k MhMhvks uke %&",null,null,null,{"$f":"Profile!$G$4","v":"euh\"kk vjksM+k"},null,null,{"$f":"Profile!$I$4","v":1234567890},null,null,null,"j   lgL=ksa esa"]
["Øe l[;k","ys[kk 'kh\"kZd ¼foLr`r 'kh\"kZ½","nrer@ ize`r","okLrfod O;; vkadM+s¼xr iwoZ rhu o\"kksZ ds½",null,null,{"$f":"Profile!$C$16","v":"2025-26"},"okLrfod O;; vkadM+s",null,null,null,"flrEcj ls ekpZ rd laHkkfor O;; o yfEcr fcy ¼pkyw o\"kZ½","la'kksf/kr vuqeku ¼pkyw o\"kZ½ 8$10","vk; O;; ds vuqeku ckcr ¼vkxkeh o\"kZ½",null,null,"o`f)¼$½ ;k deh¼&½",null,"uohu vkbVe","fo'ks\"k fooj.k"]
[null,null,null,{"$f":"Profile!$F$29","v":"2022-23"},{"$f":"Profile!$G$29","v":"2023-24"},{"$f":"Profile!$H$29","v":"2024-25"},"vk; O;; ds vuqeku ckcr~ pkyw o\"kZ vkoaVu","1vizsy ls vc rd 31vxLr pkyw o\"kZ½","yfEcr fcy ¼out standing Liabilities½"," 'ks\"k vof/k ds fy, lEHkkfor O;;","dkye 8]9 o 10 dk ;ksx",null,null,"dfeVsM","uohu","dqy ¼13+14½","7 vkSj 11 esa","11 vkSj 14 esa","gka @ ugha","RE","BE"]
[1,2,3,4,5,6,7,8,9,10,11,null,11,12,13,14,15,16,17,18,19]
[null,";ksx jk$vjk",null,null,null,null,null,null,null,null,null,null,{"$f":"'rrr 08'!$N$271","v":35860000},{"$f":"'rrr 08'!$M$271","v":36942400},null,{"$f":"N9+O9","v":36942400}]
[{"$f":"Profile!A312","v":0.55000000000000004},{"$f":"Profile!$B$312","v":"egaxkbZ HkRrk -------izfr'kr"},null,null,null,null,null,null,null,null,null,null,{"$f":"'rrr 08'!N272","v":19723000},{"$f":"'rrr 08'!M272","v":20318320},null,{"$f":"N10+O10","v":20318320}]
[{"$f":"Profile!A313","v":0.1},{"$f":"'rrr 08'!$B$273","v":"edku fdjk;k10@20@30izfr'kr"},null,null,null,null,null,null,null,null,null,null,{"$f":"'rrr 08'!N273","v":3586000},{"$f":"'rrr 08'!M273","v":3694240},null,3694240]
[{"$f":"Profile!A314","v":0},{"$f":"Profile!$B$314","v":"egaxkbZ HkRRkk ,sfj;j¼----izfr'kr½"},null,null,null,null,null,null,null,null,null,null,{"$f":"'rrr 08'!N274","v":0},{"$f":"'rrr 08'!M274","v":0},null,0]
[null,{"$f":"Profile!B315","v":"cksul"},null,null,null,null,null,null,null,null,null,null,{"$f":"'rrr 08'!N275","v":433536},{"$f":"'rrr 08'!M275","v":433536},null,433536]
[null,{"$f":"Profile!B316","v":"lefiZr vodk'k"},null,null,null,null,null,null,null,null,null,null,{"$f":"'rrr 08'!N276","v":2315958},{"$f":"'rrr 08'!M276","v":2385863},null,2385863]
[null,{"$f":"Profile!B317","v":"dSf'k;j HkRrk"},null,null,null,null,null,null,null,null,null,null,{"$f":"'rrr 08'!N277","v":0},{"$f":"'rrr 08'!M277","v":0},null,0]
[null,{"$f":"Profile!B318","v":"f};kax HkRrk"},null,null,null,null,null,null,null,null,null,null,{"$f":"'rrr 08'!N278","v":28800},{"$f":"'rrr 08'!M278","v":28800},null,28800]
[null,{"$f":"Profile!B319","v":"/kqykbZ HkRrk"},null,null,null,null,null,null,null,null,null,null,{"$f":"'rrr 08'!N279","v":0},{"$f":"'rrr 08'!M279","v":0},null,0]
[null,{"$f":"Profile!B320","v":" 'kgjh {kfriwfrZ HkRrk"},null,null,null,null,null,null,null,null,null,null,{"$f":"'rrr 08'!N280","v":0},{"$f":"'rrr 08'!M280","v":0},null,0]
[null,{"$f":"Profile!B321","v":"¼fQDl is½ vU; HkRRkk"},null,null,null,null,null,null,null,null,null,null,{"$f":"'rrr 08'!N281","v":22627200},{"$f":"'rrr 08'!M281","v":22627200},null,22627200]
[null,";ksx laosru",null,{"$f":"Profile!F31","v":0},{"$f":"Profile!G31","v":0},{"$f":"Profile!H31","v":80948599},{"$f":"'PD 24-25'!$F$362","v":16900},{"$f":"Profile!P31","v":31640346},{"$f":"Profile!Q31","v":0},{"$f":"M20-H20","v":52934148},{"$f":"H20+I20+J20","v":84574494},{"$f":"M20+I20","v":84574494},{"$f":"'rrr 08'!N283","v":84574494},{"$f":"'rrr 08'!M283","v":86430359},null,86430359]
[null,";k=k HkRrk",null,{"$f":"Profile!F32","v":0},{"$f":"Profile!G32","v":0},{"$f":"Profile!H32","v":0},{"$f":"Profile!C32","v":0},{"$f":"Profile!P32","v":0},{"$f":"Profile!Q32","v":0},{"$f":"Profile!R32","v":0},{"$f":"H21+I21","v":0},{"$f":"M21-I21","v":325437},{"$f":"'rrr 08'!N284","v":325437},{"$f":"'rrr 08'!M284","v":0},null,0]
[null,"esfMdy HkRrk",null,{"$f":"Profile!F33","v":0},{"$f":"Profile!G33","v":0},{"$f":"Profile!H33","v":0},{"$f":"Profile!C33","v":0},{"$f":"Profile!P33","v":0},{"$f":"Profile!Q33","v":0},{"$f":"Profile!R33","v":0},0,{"$f":"M22-I22","v":16424},{"$f":"'rrr 08'!N285","v":16424},{"$f":"'rrr 08'!M285","v":0},null,0]
[null,";ksx ;k=k esfMdy",null,{"$f":"D21+D22","v":0},{"$f":"E21+E22","v":0},0,{"$f":"G21+G22","v":0},{"$f":"H21+H22","v":0},0,{"$f":"J21+J22","v":0},0,341861,{"$f":"'rrr 08'!N286","v":341861},{"$f":"'rrr 08'!M286","v":0},null,0]
[null,";ksx loZ;ksx",null,{"$f":"D23+D20","v":0},0,80948599,{"$f":"G23+G20","v":16900},{"$f":"H23+H20","v":31640346},{"$f":"I23+I20","v":0},{"$f":"J23+J20","v":52934148},{"$f":"K23+K20","v":84574494},{"$f":"L23+L20","v":84916355},{"$f":"M20+M23","v":84916355},{"$f":"N20+N23","v":86430359},null,86430359]
[null,{"$f":"Profile!A34","v":"dk;kZy; O;; ¼,eMh,e½"},null,{"$f":"Profile!F34","v":0},{"$f":"Profile!G34","v":0},{"$f":"Profile!$AN$24","v":46483},{"$f":"Profile!C34","v":0},{"$f":"Profile!P34","v":63142},{"$f":"Profile!Q34","v":0},{"$f":"Profile!R34","v":0},{"$f":"H25+I25","v":63142},{"$f":"M25-I25","v":0},{"$f":"Profile!AK34","v":0},{"$f":"Profile!AL34","v":0},null,0]
[null,{"$f":"Profile!A35","v":"fdjk;k dj jk;fYV"},null,{"$f":"Profile!F35","v":0},{"$f":"Profile!G35","v":0},{"$f":"Profile!H35","v":0},{"$f":"Profile!C35","v":0},{"$f":"Profile!P35","v":0},{"$f":"Profile!Q35","v":0},{"$f":"Profile!R35","v":0},{"$f":"H26+I26","v":0},{"$f":"M26-I26","v":0},{"$f":"Profile!AK35","v":0},{"$f":"Profile!AL35","v":0},null,0]
[null,{"$f":"Profile!A36","v":"fo|qr izFkkj ,oa ty O;;"},null,{"$f":"Profile!F36","v":0},{"$f":"Profile!G36","v":0},{"$f":"Profile!H36","v":0},{"$f":"Profile!C36","v":0},{"$f":"Profile!P36","v":0},{"$f":"Profile!Q36","v":0},{"$f":"Profile!R36","v":0},0,0,{"$f":"Profile!AK36","v":0},{"$f":"Profile!AL36","v":0},null,0]
[null,{"$f":"Profile!A37","v":"iqLrdky;"},null,{"$f":"Profile!F37","v":0},{"$f":"Profile!G37","v":0},{"$f":"Profile!H37","v":0},{"$f":"Profile!C37","v":0},{"$f":"Profile!P37","v":0},{"$f":"Profile!Q37","v":0},{"$f":"Profile!R37","v":0},0,{"$f":"M28-I28","v":0},{"$f":"Profile!AK37","v":0},{"$f":"Profile!AL37","v":0},null,0]
[null,{"$f":"Profile!A38","v":"iz;ksx'kkyk"},null,{"$f":"Profile!F38","v":0},{"$f":"Profile!G38","v":0},{"$f":"Profile!H38","v":0},{"$f":"Profile!C38","v":0},{"$f":"Profile!P38","v":0},{"$f":"Profile!Q38","v":0},{"$f":"Profile!R38","v":0},0,0,{"$f":"Profile!AK38","v":0},{"$f":"Profile!AL38","v":0},null,0]
[null,{"$f":"Profile!A39","v":"ofnZ;ka"},null,{"$f":"Profile!F39","v":0},{"$f":"Profile!G39","v":0},{"$f":"Profile!H39","v":0},{"$f":"Profile!C39","v":0},{"$f":"Profile!P39","v":0},{"$f":"Profile!Q39","v":0},{"$f":"Profile!R39","v":0},0,0,{"$f":"Profile!N39","v":0},{"$f":"Profile!AL39","v":0},null,0]
[null,{"$f":"Profile!A40","v":"vU; izHkkj"},null,{"$f":"Profile!F40","v":0},{"$f":"Profile!G40","v":0},{"$f":"Profile!H40","v":0},{"$f":"Profile!C40","v":0},{"$f":"Profile!P40","v":0},{"$f":"Profile!Q40","v":0},{"$f":"Profile!R40","v":0},0,0,{"$f":"Profile!AK40","v":0},{"$f":"Profile!AL40","v":0},null,0]
[null,{"$f":"Profile!$A$41","v":"foHkkxh;lsokvksa ij fof'k\"V O;;"},null,{"$f":"Profile!F41","v":0},{"$f":"Profile!G41","v":0},{"$f":"Profile!H41","v":0},{"$f":"Profile!C41","v":0},{"$f":"Profile!P41","v":0},{"$f":"Profile!Q41","v":0},{"$f":"Profile!R41","v":0},0,0,{"$f":"Profile!AK41","v":0},{"$f":"Profile!AL41","v":0},null,0]
[null,";ksx",null,{"$f":"D32+D29+D28+D27+D26+D25+D30+D31","v":0},{"$f":"E32+E29+E28+E27+E26+E25+E30+E31","v":0},46483,0,63142,0,{"$f":"J32+J29+J28+J27+J26+J25+J30+J31","v":0},{"$f":"K32+K29+K28+K27+K26+K25+K30+K31","v":63142},{"$f":"L32+L29+L28+L27+L26+L25+L30+L31","v":0},{"$f":"M32+M29+M28+M27+M26+M25+M30+M31","v":0},{"$f":"N32+N29+N28+N27+N26+N25+N30+N31","v":0},null,{"$f":"N33+O33","v":0}]
[null,";ksx egk;ksx",null,{"$f":"D33+D24","v":0},0,80995082,16900,31703488,0,{"$f":"J33+J24","v":52934148},84637636,84916355,84916355,86430359,null,86430359]
[null,null,null,null,null,null,null,null,{"$f":"Profile!G6","v":"eksgEen vtht HkkVh"}]
[null,null,null,null,null,null,null,null,{"$f":"Profile!$I$6","v":9460701805},null,null,null,null,null,null,{"$f":"Profile!A3","v":"eq[; CykWd f'k{kk vf/kdkjh"}]
[null,null,null,null,null,null,null,"rS;kj drkZ %&",{"$f":"'rrr 08'!J294","v":"gtkjh jke rMZ"},null,null,null,null,null,null,{"$f":"Profile!A4","v":"lexz f'k{kk"},{"$f":"Profile!B4","v":0}]
[null,null,null,null,null,null,null,null,{"$f":"'rrr 08'!J295","v":9667576332},null,null,null,null,null,null,{"$f":"Profile!A5","v":"chdkusj"},{"$f":"Profile!B5","v":0}]
[null,null,"izekf.kr fd;k tkrk gS fd mi;qZDr lwpuk dh esjs }kjk O;fDrxr :Ik ls tkap dj yh xbZ gS vksj bls lgh ik;k x;k gSA"]
[]
[]
[null,"Øekad","in uke",null,null,"u;k@ØekssUu;u",null,"is cSaM",null,null,null,"xzsM is",null,"dqy in",null,"fooj.k"]
[null,1,2,null,null,3,null,4,null,null,null,5,null,6,null,7]
[null,1]
[null,2]
[null,3]
[null,4]
[null,5]
[null,6]
[null,7]
[]
[]
[null,"vU; uohu vkbVe ds fy, izi="]
[null,"Øekad","uohu vkbVe izdkj",null,"Ø; @ fdjk;k",null,"vkbVe dk uke",null,"la[;k",null,null,"vkorhZ O;; ekfld",null,"vukorhZ Hkkj",null,"dqy okf\"kZd Hkkj"]
[null,1]
[null,2]
[null,3]
[null,4]
[null,5]
[null,6]
[]
[null,"izekf.kr fd;k tkrk gS fd mi;qZDr lwpuk dh esjs }kjk O;fDrxr :Ik ls tkap dj yh xbZ gS vksj bls lgh ik;k x;k gSA"]

{"sheet":"P-9","index":3,"n_rows":22,"n_cols":21,"rows_kept":22,"cut":false,"hidden":false,"merged":[[1,16,1,20],[21,3,21,18],[17,8,17,9],[19,8,19,9],[18,8,18,9],[20,8,20,9],[17,16,17,18],[18,16,18,18],[19,16,19,18],[0,0,0,15],[1,0,1,15],[2,0,2,1],[3,1,3,10],[2,2,2,11],[2,12,2,13],[8,1,14,1],[4,7,4,10],[4,11,4,13],[4,2,4,6],[5,0,6,0],[5,1,6,1],[5,2,6,2],[5,3,5,5],[5,19,5,20],[5,7,5,10],[5,11,6,11],[5,12,6,12],[5,13,5,15],[5,16,5,17]]}
["izi=&9  ¼th-,-2½"]
[{"$f":"'rrr 08'!$A$3","v":"¼ctV vuqeku vf/kdkfj;ksa }kjk foHkkxk/;{k dks izLrqr djus gsrq½ ys[kk dk 'kh\"kZ % eq[; 'kh\"kZ@minh?kZ 'kh\"kZ@y?kq'kh\"kZ@mi'kh\"kZ xzqi 'kh\"kZ--------------vk;kstuk fHkUu@vk;kstuk@dsUnz izofrZr ;kstuk"}]
["dk;kZy; dk uke %&",null,{"$f":"Profile!$C$1","v":"eq[; CykWd f'k{kk vf/kdkjh] lexz f'k{kk] chdkusj"},null,null,null,null,null,null,null,null,null,{"$f":"Profile!$A$8","v":"ihMh [kkrk la[;k %&"},null,{"$f":"Profile!$C$8","v":762}]
[null,{"$f":"'rrr 09'!$A$2","v":"fuf'pr O;;ksa ds foLr`r vuqeku vFkkZr~ vf/kdkfj;ksa o deZpkfj;ksa ds osru vuqeku o\"kZ ¼vizSy ls ekpZ rd½"},null,null,null,null,null,null,null,null,null,"foHkkx dk uke&izkjfEHkd f'k{kk foHkkx"]
[null,"ys[kk 'kh\"kZd%&",{"$f":"Profile!$C$3","v":"2202-01-197-16-01"},null,null,null,null,"LVsV Q.M",null,null,null,"         vkWfQl vkbZMh&",null,null,1451]
["Øe l[;k","ys[kk 'kh\"kZd ¼foLr`r 'kh\"kZ½","nrer@ ize`r","okLrfod O;; vkadM+s¼xr iwoZ rhu o\"kksZ ds½",null,null,{"$f":"Profile!$C$16","v":"2025-26"},"okLrfod O;; vkadM+s",null,null,null,"flrEcj ls ekpZ rd dk laHkkfor O;; ¼pkyw o\"kZ½","la'kksf/kr vuqeku ¼pkyw o\"kZ½ 8$9$10","vk; O;; ds vuqeku ckcr +¼vkxkeh o\"kZ½",null,null,"o`f)¼$½ ;k deh¼&½",null,"uohu vkbVe","fo'ks\"k fooj.k"]
[null,null,null,{"$f":"Profile!$F$29","v":"2022-23"},{"$f":"Profile!$G$29","v":"2023-24"},{"$f":"Profile!$H$29","v":"2024-25"},"vk; O;; ds vuqeku ckcr~ pkyw o\"kZ ","1vizsy ls vc rd 31vxLr pkyw o\"kZ½","yfEcr fcy ¼out standing Liabilities½"," 'ks\"k vof/k ds fy, lEHkkfor O;;","dkye 8 o 9 dk ;ksx",null,null,"dfeVsM","uohu","dqy ¼13+14½","7 vkSj 11 esa","11 vkSj 14 esa","gka @ ugha","RE","BE"]
[1,2,3,4,5,6,7,8,9,10,11,12,13,14,15,16]
[1,{"$f":"C5","v":"2202-01-197-16-01"},"laosru",null,null,{"$f":"'rrr 09'!$F$20","v":80948599},{"$f":"'rrr 09'!$G$20","v":16900},{"$f":"'rrr 09'!H20","v":31640346},{"$f":"'rrr 09'!I20","v":0},{"$f":"'rrr 09'!J20","v":52934148},{"$f":"'rrr 09'!K20","v":84574494},{"$f":"J9+I9","v":52934148},{"$f":"H9+I9+J9","v":84574494},{"$f":"'rrr 09'!N20","v":86430359},{"$f":"'rrr 09'!O20","v":0},{"$f":"'rrr 09'!P20","v":86430359}]
[2,null,";k=k",null,null,0,{"$f":"'rrr 09'!G21","v":0},{"$f":"'rrr 09'!H21","v":0},{"$f":"'rrr 09'!I21","v":0},{"$f":"'rrr 09'!J21","v":0},{"$f":"'rrr 09'!K21","v":0},{"$f":"'rrr 09'!L21","v":325437},{"$f":"'rrr 09'!M21","v":325437},{"$f":"'rrr 09'!N21","v":0},{"$f":"'rrr 09'!O21","v":0},{"$f":"'rrr 09'!P21","v":0}]
[3,null,"fpfdRlk",null,null,0,{"$f":"'rrr 09'!G22","v":0},{"$f":"'rrr 09'!H22","v":0},{"$f":"'rrr 09'!I22","v":0},{"$f":"'rrr 09'!J22","v":0},{"$f":"'rrr 09'!K22","v":0},{"$f":"'rrr 09'!L22","v":16424},{"$f":"'rrr 09'!M22","v":16424},{"$f":"'rrr 09'!N22","v":0},{"$f":"'rrr 09'!O22","v":0},{"$f":"'rrr 09'!P22","v":0}]
[4,null,{"$f":"Profile!$A$34","v":"dk;kZy; O;; ¼,eMh,e½"},null,null,{"$f":"'rrr 09'!$F$25","v":46483},{"$f":"'rrr 09'!$G$25","v":0},{"$f":"'rrr 09'!H25","v":63142},{"$f":"'rrr 09'!I25","v":0},{"$f":"'rrr 09'!J25","v":0},{"$f":"'rrr 09'!K25","v":63142},{"$f":"'rrr 09'!L25","v":0},{"$f":"'rrr 09'!M25","v":0},{"$f":"'rrr 09'!N25","v":0},{"$f":"'rrr 09'!O25","v":0},{"$f":"'rrr 09'!P25","v":0}]
[5,null,"onhZ",null,null,0,{"$f":"'rrr 09'!$G$30","v":0},{"$f":"'rrr 09'!H30","v":0},{"$f":"'rrr 09'!I30","v":0},{"$f":"'rrr 09'!J30","v":0},{"$f":"'rrr 09'!K30","v":0},{"$f":"'rrr 09'!L30","v":0},{"$f":"'rrr 09'!M30","v":0},{"$f":"'rrr 09'!N30","v":0},{"$f":"'rrr 09'!O30","v":0},{"$f":"'rrr 09'!P30","v":0}]
[6,null,"iqLrdky; ,oa i= if=dk,a",null,null,0,{"$f":"'rrr 09'!$G$28","v":0},{"$f":"'rrr 09'!H28","v":0},{"$f":"'rrr 09'!I28","v":0},{"$f":"'rrr 09'!J28","v":0},{"$f":"'rrr 09'!K28","v":0},{"$f":"'rrr 09'!L28","v":0},{"$f":"'rrr 09'!M28","v":0},{"$f":"'rrr 09'!N28","v":0},{"$f":"'rrr 09'!O28","v":0},{"$f":"'rrr 09'!P28","v":0}]
[7,null,"fo|qr izHkkj ,oa ty O;;",null,null,0,{"$f":"'rrr 09'!$G$27","v":0},{"$f":"'rrr 09'!H27","v":0},{"$f":"'rrr 09'!I27","v":0},{"$f":"'rrr 09'!J27","v":0},{"$f":"'rrr 09'!K27","v":0},{"$f":"'rrr 09'!L27","v":0},{"$f":"'rrr 09'!M27","v":0},{"$f":"'rrr 09'!N27","v":0},{"$f":"'rrr 09'!O27","v":0},{"$f":"'rrr 09'!P27","v":0}]
[null,null,";ksx",null,null,{"$f":"SUM(F9:F15)","v":80995082},{"$f":"SUM(G9:G15)","v":16900},31703488,0,52934148,84637636,53276009,84916355,null,0,86430359]
[]
[null,null,null,null,null,null,null,null,{"$f":"'rrr 09'!I35","v":"eksgEen vtht HkkVh"},null,null,null,null,null,null,null,{"$f":"'rrr 09'!P36","v":"eq[; CykWd f'k{kk vf/kdkjh"}]
[null,null,null,null,null,null,null,null,{"$f":"'rrr 09'!I36","v":9460701805},null,null,null,null,null,null,null,{"$f":"'rrr 09'!P37","v":"lexz f'k{kk"}]
[null,null,null,null,null,null,null,"rS;kj drkZ %&",{"$f":"'rrr 09'!I37","v":"gtkjh jke rMZ"},null,null,null,null,null,null,null,{"$f":"'rrr 09'!P38","v":"chdkusj"}]
[null,null,null,null,null,null,null,null,{"$f":"'rrr 09'!I38","v":9667576332}]
[null,null,null,"izekf.kr fd;k tkrk gS fd mi;qZDr lwpuk dh esjs }kjk O;fDrxr :Ik ls tkap dj yh xbZ gS vksj bls lgh ik;k x;k gSA"]

{"sheet":"saranas Lekha","index":4,"n_rows":63,"n_cols":10,"rows_kept":63,"cut":false,"hidden":false,"merged":[[6,7,7,7],[0,1,0,7],[3,5,3,6],[3,7,3,8],[3,1,3,2],[2,1,2,2],[2,3,2,7],[2,8,2,9],[4,1,5,1],[4,2,5,2],[4,3,4,5],[4,6,5,6],[4,7,5,7],[8,7,8,8],[9,7,9,8],[14,7,14,8],[15,1,15,3],[15,6,15,7],[15,8,15,9],[12,7,13,8],[11,7,11,8],[10,7,10,8],[22,6,23,7],[22,8,23,9],[22,1,22,3],[16,1,16,3],[17,1,17,3],[18,6,19,7],[18,8,19,9],[18,1,18,3],[19,1,19,3],[20,6,21,7],[20,8,21,9],[20,1,20,3],[21,1,21,3],[37,1,37,3],[38,1,38,3],[39,1,39,3],[29,1,29,3],[30,1,30,3],[31,1,31,3],[32,1,32,3],[33,1,33,3],[41,1,41,3],[42,1,42,3],[43,1,43,3],[44,1,44,3],[45,1,45,3],[57,1,57,3],[46,1,46,3],[47,1,47,3],[48,1,48,3],[49,1,49,3],[50,1,50,3],[51,1,51,3],[52,1,52,3],[53,1,53,3],[54,1,54,3],[55,1,55,3],[56,1,56,3],[58,1,58,3],[59,1,59,3],[60,1,60,3],[61,1,61,9],[62,1,62,4],[62,5,62,9],[40,4,40,5],[1,1,1,7],[1,8,1,9],[16,4,16,5],[32,4,32,5],[36,4,36,5],[24,6,25,7],[24,8,25,9],[26,6,27,7],[26,8,27,9],[16,6,17,7],[16,8,17,9],[40,1,40,3],[34,1,34,3],[35,1,35,3],[36,1,36,3]]}
[null," lkajk'k ¼nks izfr;ksa esa½",null,null,null,null,null,null,{"$f":"Profile!$A$8","v":"ihMh [kkrk la[;k %&"},{"$f":"Profile!$C$8","v":762}]
[null,"¼dsoy jktdh; dk;kZy;ksa ,oa fo/kky;ksa ds deZpkfj;ksa ls lcaf/kr½",null,null,null,null,null,null,{"$f":"'rrr 08'!$P$2","v":"2026&2027"}]
[null,{"$f":"'rrr 08'!A4","v":"dk;kZy; %&"},null,{"$f":"'rrr 08'!$D$4","v":"eq[; CykWd f'k{kk vf/kdkjh] lexz f'k{kk] chdkusj"},null,null,null,null,{"$f":"'rrr 08'!$M$4","v":"LVsV Q.M"}]
[null,"IFMS dksM%&",null,{"$f":"'rrr 08'!$P$4","v":1451},"ys[kken%&",{"$f":"'rrr 08'!$M$1","v":"2202-01-197-16-01"},null,"fooj.k",null,"la[;k"]
[null,"in uke","Lohd`r","dk;Zjr",null,null,"fjä","p0Js0deZ0","iq:\"k",0]
[null,null,null,"01-01-2004 ls iwoZ fu;qDr","01-01-2004 ds Ik'pkr fu;qDr",";ksx",null,null,"efgyk",0]
[null,"o-v-",0,0,0,{"$f":"D7+E7","v":0},{"$f":"C7-F7","v":0},"teknkj","iq:\"k",0]
[null,"v/;kid",98,4,84,{"$f":"D8+E8","v":88},{"$f":"C8-F8","v":10},null,"efgyk",0]
[null,"'kk-f'k-",3,0,0,{"$f":"D9+E9","v":0},{"$f":"C9-F9","v":3},"fo|ky; izkfo@ mizkfo"]
[null,"p-Js-d-",0,0,0,0,0,"fLFkj osru deZpkjh",null,106]
[null,"teknkj",0,0,0,0,0,"nSfud osru Hkksxh"]
[null,"dfu\"B f'k{kd ¼leLr vfrfjDr] efgyk vkSj 'kkjhfjd iSjkVhplZa½  ",17,0,16,16,1,"dk;Zjr fo|kFkhZ fe="]
[null,"iapk;r f'k{kd ¼xzke iapk;r@\nfo|ky; lgk;da½  ",67,0,66,66,1,"Lohd`fr lafonk deZpkjh ;fn gks"]
[null,"vU;",0,0,0,0,0]
[null,";ksx",{"$f":"SUM(C7:C14)","v":185},{"$f":"SUM(D7:D14)","v":4},{"$f":"SUM(E7:E14)","v":166},{"$f":"SUM(F7:F14)","v":170},{"$f":"C15-F15","v":15},"fuyfEcr dkfeZd"]
[null,"fooj.k",null,null,"la'kksf/kr vuqeku\n2025&26","vk; O;;d vuqeku 2026&27"," dk;kZy; dh nwjHkk\"k \n  la[;k dksM lfgr",null,{"$f":"Profile!$F$6","v":"0151-2226567"}]
[null,"¼d½ laaosru",null,null,null,null,"eq[; CykWd f'k{kk vf/kdkjh",null,{"$f":"Profile!$G$4","v":"euh\"kk vjksM+k"}]
[null,"¼1½ osru ",null,null,{"$f":"'rrr 08'!$N$271","v":35860000},{"$f":"'rrr 08'!$M$271","v":36942400}]
[null,"¼2½ eagxkbZ HkRrk 55izfr'kr",null,null,{"$f":"'rrr 08'!N272","v":19723000},{"$f":"'rrr 08'!M272","v":20318320},"lhchbZvks eksckbZy uEcj",null,{"$f":"Profile!$I$4","v":1234567890}]
[null,"¼3½ edku fdjk;k HkRrk 10@20@30 izfr'kr",null,null,{"$f":"'rrr 08'!N273","v":3586000},{"$f":"'rrr 08'!M273","v":3694240}]
[null,"¼4½ 'kgjh HkRrk",null,null,{"$f":"'rrr 08'!$N$280","v":0},{"$f":"'rrr 08'!$M$280","v":0},"lgk-ys[kkf/kdkjh f}rh; uke ",null,{"$f":"Profile!$G$6","v":"eksgEen vtht HkkVh"}]
[null,"¼5½",null,null,0,0]
[null,"¼6½ dSf'k;j",null,null,{"$f":"'rrr 08'!$N$277","v":0},{"$f":"'rrr 08'!$M$277","v":0},"lgk-ys[kkf/kdkjh f}rh; eksckbZy",null,{"$f":"Profile!$I$6","v":9460701805}]
[null,"¼7½ lefiZr vodk'k",null,null,{"$f":"'rrr 08'!$N$276","v":2315958},{"$f":"'rrr 08'!$M$276","v":2385863}]
[null,"¼8½ cksul    @ 6774  ",null,null,{"$f":"'rrr 08'!$N$275","v":433536},{"$f":"'rrr 08'!$M$275","v":433536},"ofj\"B lgk;d uke",null,{"$f":"Profile!$J$6","v":"gtkjh jke rMZ"}]
[null,"¼9½ vU; HkRrk@/kqykbZ HkRrk @ (150 *12)",null,null,{"$f":"'rrr 08'!$N$279","v":0},{"$f":"'rrr 08'!$M$279","v":0}]
[null,"¼10½ fLFkj osru jkf'k ","106 dfkeZd",null,{"$f":"'rrr 08'!$N$281","v":22627200},{"$f":"'rrr 08'!$M$281","v":22627200},"ofj\"B lgk;d eksckbZy uEcj",null,{"$f":"Profile!$L$6","v":9667576332}]
[null,"¼11½ fodykax HkRrkk",null,null,{"$f":"'rrr 08'!$N$278","v":28800},{"$f":"'rrr 08'!$M$278","v":28800}]
[null,"¼12½ eagxkbZ HkRRkk ,fj;j",null,null,{"$f":"'rrr 08'!$N$274","v":0},{"$f":"'rrr 08'!$M$274","v":0}]
[null,"¼13½ fuokZg HkRrk",null,null,0,0]
[null,"¼14½ fo|kFkhZ fe=ksa gsrq vko';d jkf'k",null,null,0,0]
[null,"loZ;ksx lsoru ",null,null,{"$f":"SUM(E18:E30)","v":84574494},{"$f":"SUM(F18:F30)","v":86430359}]
[null,"03& ;k=k O;;"]
[null,"¼d½ pkyw o\"kZ ds cdk;k",null,null,{"$f":"'rrr 08'!$N$284","v":325437},0]
[null,"¼[k½ xr o\"kksZ ds cdk;k",null,null,0,0]
[null,";ksx ;k=k O;;",null,null,{"$f":"E34+E35","v":325437},{"$f":"F34+F35","v":0}]
[null,"04& fpfdRlk O;;"]
[null,"¼d½ pkyw o\"kZ ds cdk;k",null,null,{"$f":"'rrr 08'!$N$285","v":16424},0]
[null,"¼[k½ xr o\"kksZ ds cdk;k",null,null,0,0]
[null,";ksx fpfdRlk O;;",null,null,{"$f":"E38+E39","v":16424},{"$f":"F38+F39","v":0}]
[null,"05& adk;kZy; O;;"]
[null,"¼1½& Mkd rkj",null,null,{"$f":"Profile!AK48","v":0},{"$f":"Profile!AL48","v":0}]
[null,"¼2½& VsyhQksu",null,null,{"$f":"Profile!AK49","v":0},{"$f":"Profile!AL49","v":0}]
[null,"¼3½& ikuh fctyh",null,null,{"$f":"Profile!AK50","v":0},{"$f":"Profile!AL50","v":0}]
[null,"¼4½& QuhZpj ejEer",null,null,{"$f":"Profile!AK51","v":0},{"$f":"Profile!AL51","v":0}]
[null,"¼5½&dEI;wVj lsok ,oa j[kj[kko",null,null,{"$f":"Profile!AK52","v":0},{"$f":"Profile!AL52","v":0}]
[null,"¼6½ ys[ku@eqnz.k O;;",null,null,{"$f":"Profile!AK53","v":0},{"$f":"Profile!AL53","v":0}]
[null,"¼7½ nSfud osruHkksxh ¼U;k;ky; vkns'k ij½",null,null,{"$f":"Profile!AK54","v":0},{"$f":"Profile!AL54","v":0}]
[null,"¼8½ vU; ¼yfEcr fcy½",null,null,{"$f":"Profile!$Q$31","v":0},{"$f":"Profile!AL55","v":0}]
[null,";ksx dk;kZy; O;;",null,null,{"$f":"SUM(E42:E49)","v":0},{"$f":"SUM(F42:F49)","v":0}]
[null,"08& o`fÙkd ,oa fof'k\"B lsokvksa ij lank; ¼dksVZ dsl vkfn ij O;;½",null,null,{"$f":"Profile!AK57","v":0},{"$f":"Profile!AL57","v":0}]
[null,"09& fdjk;k jsV]dj@jk;YVh",null,null,{"$f":"Profile!AK58","v":0},{"$f":"Profile!AL58","v":0}]
[null,"11&foKkiu",null,null,{"$f":"Profile!AK59","v":0},{"$f":"Profile!AL59","v":0}]
[null,"28& fofo/k O;;@57-fof'k\"V lasok,sa",null,null,{"$f":"Profile!AK60","v":0},{"$f":"Profile!AL60","v":0}]
[null,"31&iqLrdky; ,oa i= if=dkvksa ij O;;",null,null,{"$f":"Profile!AK61","v":0},{"$f":"Profile!AL61","v":0}]
[null,"36&okgu fdjk;k",null,null,{"$f":"Profile!AK62","v":0},{"$f":"Profile!AL62","v":0}]
[null,"37& ofnZ;ka ",null,null,{"$f":"Profile!AK63","v":0},{"$f":"Profile!AL63","v":0}]
[null,"41&lafonk ij O;;",null,null,{"$f":"Profile!AK64","v":0},{"$f":"Profile!AL64","v":0}]
[null,"62& dEI;wVjkbZts'ku ,oa rRlaca/kh lapkj O;;",null,null,{"$f":"Profile!AK65","v":0},{"$f":"Profile!AL65","v":0}]
[null,";ksx ",null,null,{"$f":"SUM(E51+E52+E53+E54+E55+E56+E58+E59)","v":0},{"$f":"SUM(F51+F52+F53+F54+F55+F56+F58+F59)","v":0}]
[null,"egk;ksx izi= 9",null,null,{"$f":"E32+E36+E40+E50+E60","v":84916355},{"$f":"F32+F36+F50+F60","v":86430359}]
[null,"izekf.kr fd;k tkrk gS fd mDr fooj.k dk O;fDrxr ijh{k.k dj fy;k x;k gS rFkk fooj.k iw.kZ #i ls lgh gSA leLr cdk;k nkf;Roksa dk mDr lwpuk esa 'kkfey dj fy;k x;k gS ftrus Hkh cdk;k nkf;Ro gZS mudk foLr`r enokj fooj.k layXu gSA"]
[null,"g0 lgk- ys[kkf/kdkjh f}rh;",null,null,null,"gLrk{kj dk;kZy;/;{k e; eqgj"]

{"sheet":"Sharans PD","index":5,"n_rows":44,"n_cols":12,"rows_kept":44,"cut":false,"hidden":false,"merged":[[12,1,12,9],[32,1,32,9],[27,6,31,9],[33,6,41,9],[39,5,41,5],[13,4,13,5],[22,1,22,3],[13,1,14,3],[13,6,14,7],[13,8,14,9],[15,1,15,3],[15,4,15,5],[15,6,16,7],[15,8,16,9],[16,1,16,3],[17,1,17,3],[0,1,0,7],[1,1,1,7],[1,8,1,9],[2,1,2,2],[2,3,2,7],[2,8,2,9],[3,1,3,2],[3,5,3,6],[4,1,5,1],[4,2,5,2],[4,3,4,5],[4,6,5,6],[17,6,18,7],[17,8,18,9],[18,1,18,3],[19,6,20,7],[19,8,20,9],[20,1,20,3],[25,8,26,9],[28,1,28,3],[29,1,29,3],[31,1,31,3],[21,1,21,3],[21,6,22,7],[21,8,22,9],[23,6,24,7],[23,8,24,9],[30,1,30,3],[41,1,41,3],[43,1,43,4],[43,5,43,9],[3,7,5,8],[3,9,5,9],[11,7,11,9],[35,1,35,3],[36,1,36,3],[37,1,37,3],[42,1,42,9],[33,1,33,3],[40,1,40,3],[34,1,34,3],[38,1,38,3],[39,1,39,3],[25,6,26,7]]}
[null," lkajk'k ¼nks izfr;ksa esa½",null,null,null,null,null,null,{"$f":"Profile!$A$8","v":"ihMh [kkrk la[;k %&"},{"$f":"Profile!$C$8","v":762}]
[null,"¼dsoy jktdh; dk;kZy;ksa ,oa fo/kky;ksa ds deZpkfj;ksa ls lcaf/kr½",null,null,null,null,null,null,{"$f":"'rrr 08'!$P$2","v":"2026&2027"}]
[null,{"$f":"'rrr 08'!A4","v":"dk;kZy; %&"},null,{"$f":"'rrr 08'!$D$4","v":"eq[; CykWd f'k{kk vf/kdkjh] lexz f'k{kk] chdkusj"},null,null,null,null,{"$f":"'rrr 08'!$M$4","v":"LVsV Q.M"}]
[null,"IFMS dksM%&",null,{"$f":"'rrr 08'!$P$4","v":1451},"ys[kken%&",{"$f":"'rrr 08'!$M$1","v":"2202-01-197-16-01"},null,"fooj.k",null,"la[;k"]
[null,"in uke","Lohd`r","dk;Zjr",null,null,"fjä"]
[null,null,null,"01-01-2004 ls iwoZ fu;qDr","01-01-2004 ds Ik'pkr fu;qDr",";ksx"]
[null,"v/;kid & kkk Js.kh led{k ¼ysoy&k] ysoy&kk] 'kkjhfjd f'k{kd] dyk f'k{kd lfgra½  ",101,4,84,{"$f":"D7+E7","v":88},{"$f":"C7-F7","v":13},"izkFkfed fo|ky;","iq:\"k",0]
[null,"dfu\"B f'k{kd ¼leLr vfrfjDr] efgyk vkSj 'kkjhfjd iSjkVhplZa½  ",17,0,16,{"$f":"D8+E8","v":16},{"$f":"C8-F8","v":1},"fLFkj osru deZpkjh","efgyk",0]
[null,"iapk;r f'k{kd ¼xzke iapk;r@\nfo|ky; lgk;da½  ",67,0,66,66,{"$f":"C9-F9","v":1},"nSfud osru Hkksxh"]
[null,"vU;",0,0,0,0,0,"fuyfEcr dkfeZd"]
[null,null,0,0,0,0,0,"lsokfuo`r dkfeZd"]
[null,";ksx",{"$f":"SUM(C7:C11)","v":185},{"$f":"SUM(D7:D11)","v":4},{"$f":"SUM(E7:E11)","v":166},{"$f":"SUM(F7:F11)","v":170},15]
[null,"A                        "]
[null,"fooj.k",null,null,"12 ekg ds fy, ekax jkf'k ",null," dk;kZy; dh nwjHkk\"k \n  la[;k dksM lfgr",null,{"$f":"Profile!$F$6","v":"0151-2226567"}]
[null,null,null,null,"la'kksf/kr vuqeku\n2025&26","vk; O;;d vuqeku 2026&27"]
[null,"¼d½ laaosru",null,null,null,null,"eq[; CykWd f'k{kk vf/kdkjh",null,{"$f":"Profile!$G$4","v":"euh\"kk vjksM+k"}]
[null,"¼1½ osru ",null,null,{"$f":"'rrr 08'!$N$271","v":35860000},{"$f":"'rrr 08'!$M$271","v":36942400}]
[null,"¼2½ eagxkbZ HkRrk 42 izfr'kr",null,null,{"$f":"'rrr 08'!N272","v":19723000},{"$f":"'rrr 08'!M272","v":20318320},"lhchbZvks eksckbZy uEcj",null,{"$f":"Profile!$I$4","v":1234567890}]
[null,"¼3½ edku fdjk;k HkRrk 9@18@27 izfr'kr",null,null,{"$f":"'rrr 08'!N273","v":3586000},{"$f":"'rrr 08'!M273","v":3694240}]
[null,"¼4½ lefiZr vodk'k",null,null,{"$f":"'rrr 08'!$N$276","v":2315958},{"$f":"'rrr 08'!$M$276","v":2385863},"lgk-ys[kkf/kdkjh f}rh; uke ",null,{"$f":"Profile!$G$6","v":"eksgEen vtht HkkVh"}]
[null,"¼5½ vU; HkRrs  &  f};kax HkRrk",null,null,{"$f":"'rrr 08'!$N$278","v":28800},{"$f":"'rrr 08'!$M$278","v":28800}]
[null,"¼6½ fLFkj osru",null,null,0,0,"lgk-ys[kkf/kdkjh f}rh; eksckbZy",null,{"$f":"Profile!$I$6","v":9460701805}]
[null,"¼7½ Mh, ,fj;j",null,null,0,0]
[null,"¼8½ fuokZg HkRrk",null,null,0,0,"ofj\"B lgk;d uke",null,{"$f":"Profile!$J$6","v":"gtkjh jke rMZ"}]
[null,"¼9½ iSjkVhplZ dk ekuns;","106 dkfeZd fQDl is",null,{"$f":"'rrr 08'!$N$281","v":22627200},{"$f":"'rrr 08'!$M$281","v":22627200}]
[null,"¼10½ fo|kFkhZ fe=ksa gsrq jkf'k",null,null,{"$f":"'rrr 08'!$N$277","v":0},{"$f":"'rrr 08'!$M$277","v":0},"ofj\"B lgk;d eksckbZy uEcj",null,{"$f":"Profile!$L$6","v":9667576332}]
[null,"¼11½ ,lhih ,fj;j",null,null,0,0]
[null,"¼12½ cksul@6774  ",null,null,{"$f":"'rrr 08'!$N$275","v":433536},{"$f":"'rrr 08'!$M$275","v":433536}]
[null,"¼13½ fLFkj osru",null,null,0,0]
[null,"¼14½ fLFkjhdj.k ,fj;j",null,null,0,0]
[null,"¼15½ yfEcr fcy",null,null,0,0]
[null,";ksx A",null,null,{"$f":"SUM(E17:E31)","v":84574494},{"$f":"SUM(F17:F31)","v":86430359}]
[null,"B                         "]
[null,"1& ;k=k O;;",null,null,{"$f":"'rrr 08'!$N$284","v":325437},100000]
[null,"2& adk;kZy; O;;",null,null,150000,150000]
[null,"3& ofnZ;ka ",null,null,{"$f":"Profile!AK63","v":0},{"$f":"Profile!AL63","v":0}]
[null,"4& vU; izHkkj lafonk ij O;;",null,null,{"$f":"Profile!AK64","v":0},{"$f":"Profile!AL64","v":0}]
[null,null,null,null,{"$f":"Profile!AK65","v":0},{"$f":"Profile!AL65","v":0}]
[null,";ksx B",null,null,{"$f":"SUM(E34:E38)","v":475437},{"$f":"SUM(F34:F38)","v":250000}]
[null,"laosru ekg tuojh & Qjojh 2024 gsrq vfrfjDr ekax",null,null,{"$f":"ROUND(L40,-3)","v":14096000},null,null,null,null,null,{"$f":"'P1'!$G$8","v":84574494},{"$f":"K40/12*2","v":14095749}]
[null,"2025&26 esa ;k=k O;; esa vfrfjDr ekax ",null,null,0]
[null,"2025&26 esa dk;kZy; O;; esa vfrfjDr ekax ",null,null,50000]
[null,"izekf.kr fd;k tkrk gS fd mDr fooj.k dk O;fDrxr ijh{k.k dj fy;k x;k gS rFkk fooj.k iw.kZ #i ls lgh gSA leLr cdk;k nkf;Roksa dk mDr lwpuk esa 'kkfey dj fy;k x;k gS ftrus Hkh cdk;k nkf;Ro gZS mudk foLr`r enokj fooj.k layXu gSA"]
[null,"g0 lgk- ys[kkf/kdkjh f}rh;",null,null,null,"gLrk{kj dk;kZy;/;{k e; eqgj"]

{"sheet":"FIX","index":6,"n_rows":163,"n_cols":9,"rows_kept":163,"cut":false,"hidden":false,"merged":[[162,7,162,8],[159,7,159,8],[160,7,160,8],[161,7,161,8],[0,3,0,7]]}
[null,null,"uke dk;kZy;&",{"$f":"Profile!$C$1","v":"eq[; CykWd f'k{kk vf/kdkjh] lexz f'k{kk] chdkusj"},null,null,null,null,{"$f":"Profile!$C$10","v":"LVsV Q.M"}]
[null,null,null,null,"lafonk osru ij fu;qä dkfeZdksa dk fooj.k",null,"vkWfQl vkbZMh&",{"$f":"Profile!$F$4","v":1451}]
[null,null,"ys[kk 'kh\"kZd&",{"$f":"Profile!C3","v":"2202-01-197-16-01"},null,null,{"$f":"Profile!$A$8","v":"ihMh [kkrk la[;k %&"},{"$f":"Profile!$C$8","v":762}]
[null,null,{"$f":"Profile!$A$16","v":"orZeku o\"kZ %&"},{"$f":"Profile!$C$16","v":"2025-26"},"laosru",null,"ekax la[;k%& ",{"$f":"Profile!$C$11","v":24}]
[null,null,{"$f":"Profile!$A$13","v":"foHkkx dk uke %&"},{"$f":"Profile!$G$2","v":" izkjfEHkd f'k{kk foHkkx"},null,"Ldhe dk uke"]
[null,"Ø-la-","uke dkfeZd","in uke","tUe frfFk","fu;qfä frfFk","ekfld ekuns;","12 ekg dk ekuns;","vkxkeh o\"kZ es 12 ekg dk ekuns;"]
[null,1,2,3,4,5,4,5,6]
[null,{"$f":"Profile!C331","v":1},{"$f":"Profile!D331","v":"AJAY KUMAR NAYAK"},{"$f":"Profile!E331","v":"KANISHATH SHIKSHAK"},{"$f":"Profile!#REF!","v":{"$error":"#REF!"}},{"$f":"Profile!G331","v":"00:00:00"},{"$f":"Profile!H331","v":17800},{"$f":"Profile!I331","v":213600},{"$f":"Profile!J331","v":213600}]
[null,{"$f":"Profile!C332","v":2},{"$f":"Profile!D332","v":"AMMANA RAM SIDHU"},{"$f":"Profile!E332","v":"PANCHAYAT SHIKSHAK"},{"$f":"Profile!#REF!","v":{"$error":"#REF!"}},{"$f":"Profile!G332","v":"00:00:00"},{"$f":"Profile!H332","v":17800},{"$f":"Profile!I332","v":213600},{"$f":"Profile!J332","v":213600}]
[null,{"$f":"Profile!C333","v":3},{"$f":"Profile!D333","v":"ANJU BALA SHARMA"},{"$f":"Profile!E333","v":"KANISHATH SHIKSHAK"},{"$f":"Profile!#REF!","v":{"$error":"#REF!"}},{"$f":"Profile!G333","v":"00:00:00"},{"$f":"Profile!H333","v":17800},{"$f":"Profile!I333","v":213600},{"$f":"Profile!J333","v":213600}]
[null,{"$f":"Profile!C334","v":4},{"$f":"Profile!D334","v":"ANTU RAM SHARMA"},{"$f":"Profile!E334","v":"PANCHAYAT SHIKSHAK"},{"$f":"Profile!#REF!","v":{"$error":"#REF!"}},{"$f":"Profile!G334","v":"00:00:00"},{"$f":"Profile!H334","v":11000},{"$f":"Profile!I334","v":132000},{"$f":"Profile!J334","v":132000}]
[null,{"$f":"Profile!C335","v":5},{"$f":"Profile!D335","v":"ARUN KUMAR"},{"$f":"Profile!E335","v":"PANCHAYAT SHIKSHAK"},{"$f":"Profile!#REF!","v":{"$error":"#REF!"}},{"$f":"Profile!G335","v":"00:00:00"},{"$f":"Profile!H335","v":17800},{"$f":"Profile!I335","v":213600},{"$f":"Profile!J335","v":213600}]
[null,{"$f":"Profile!C336","v":6},{"$f":"Profile!D336","v":"BAJARANG LAL DHAKA"},{"$f":"Profile!E336","v":"PANCHAYAT SHIKSHAK"},{"$f":"Profile!#REF!","v":{"$error":"#REF!"}},{"$f":"Profile!G336","v":"00:00:00"},{"$f":"Profile!H336","v":11000},{"$f":"Profile!I336","v":132000},{"$f":"Profile!J336","v":132000}]
[null,{"$f":"Profile!C337","v":7},{"$f":"Profile!D337","v":"BAJRANG SINGH"},{"$f":"Profile!E337","v":"KANISHATH SHIKSHAK"},{"$f":"Profile!#REF!","v":{"$error":"#REF!"}},{"$f":"Profile!G337","v":"00:00:00"},{"$f":"Profile!H337","v":17800},{"$f":"Profile!I337","v":213600},{"$f":"Profile!J337","v":213600}]
[null,{"$f":"Profile!C338","v":8},{"$f":"Profile!D338","v":"BALRAM GODARA"},{"$f":"Profile!E338","v":"PANCHAYAT SHIKSHAK"},{"$f":"Profile!#REF!","v":{"$error":"#REF!"}},{"$f":"Profile!G338","v":"00:00:00"},{"$f":"Profile!H338","v":17800},{"$f":"Profile!I338","v":213600},{"$f":"Profile!J338","v":213600}]
[null,{"$f":"Profile!C339","v":9},{"$f":"Profile!D339","v":"BALRAM SAHAL"},{"$f":"Profile!E339","v":"PANCHAYAT SHIKSHAK"},{"$f":"Profile!#REF!","v":{"$error":"#REF!"}},{"$f":"Profile!G339","v":"00:00:00"},{"$f":"Profile!H339","v":17800},{"$f":"Profile!I339","v":213600},{"$f":"Profile!J339","v":213600}]
[null,{"$f":"Profile!C340","v":10},{"$f":"Profile!D340","v":"BALWANT SINGH"},{"$f":"Profile!E340","v":"PANCHAYAT SHIKSHAK"},{"$f":"Profile!#REF!","v":{"$error":"#REF!"}},{"$f":"Profile!G340","v":"00:00:00"},{"$f":"Profile!H340","v":17800},{"$f":"Profile!I340","v":213600},{"$f":"Profile!J340","v":213600}]
[null,{"$f":"Profile!C341","v":11},{"$f":"Profile!D341","v":"BHANWAR LAL PALIWAL"},{"$f":"Profile!E341","v":"PANCHAYAT SHIKSHAK"},{"$f":"Profile!#REF!","v":{"$error":"#REF!"}},{"$f":"Profile!G341","v":"00:00:00"},{"$f":"Profile!H341","v":17800},{"$f":"Profile!I341","v":213600},{"$f":"Profile!J341","v":213600}]
[null,{"$f":"Profile!C342","v":12},{"$f":"Profile!D342","v":"BHURA RAM JAT_5255831"},{"$f":"Profile!E342","v":"KANISHATH SHIKSHAK"},{"$f":"Profile!#REF!","v":{"$error":"#REF!"}},{"$f":"Profile!G342","v":"00:00:00"},{"$f":"Profile!H342","v":17800},{"$f":"Profile!I342","v":213600},{"$f":"Profile!J342","v":213600}]
[null,{"$f":"Profile!C343","v":13},{"$f":"Profile!D343","v":"CHANDVEER SINGH"},{"$f":"Profile!E343","v":"PANCHAYAT SHIKSHAK"},{"$f":"Profile!#REF!","v":{"$error":"#REF!"}},{"$f":"Profile!G343","v":"00:00:00"},{"$f":"Profile!H343","v":11000},{"$f":"Profile!I343","v":132000},{"$f":"Profile!J343","v":132000}]
[null,{"$f":"Profile!C344","v":14},{"$f":"Profile!D344","v":"CHETAN PRAKASH BARUPAL"},{"$f":"Profile!E344","v":"PANCHAYAT SHIKSHAK"},{"$f":"Profile!#REF!","v":{"$error":"#REF!"}},{"$f":"Profile!G344","v":"00:00:00"},{"$f":"Profile!H344","v":17800},{"$f":"Profile!I344","v":213600},{"$f":"Profile!J344","v":213600}]
[null,{"$f":"Profile!C345","v":15},{"$f":"Profile!D345","v":"CHITRA SHARMA_5299779"},{"$f":"Profile!E345","v":"PANCHAYAT SHIKSHAK"},{"$f":"Profile!#REF!","v":{"$error":"#REF!"}},{"$f":"Profile!G345","v":"00:00:00"},{"$f":"Profile!H345","v":17800},{"$f":"Profile!I345","v":213600},{"$f":"Profile!J345","v":213600}]
[null,{"$f":"Profile!C346","v":16},{"$f":"Profile!D346","v":"DEEWAN DAN"},{"$f":"Profile!E346","v":"PANCHAYAT SHIKSHAK"},{"$f":"Profile!#REF!","v":{"$error":"#REF!"}},{"$f":"Profile!G346","v":"00:00:00"},{"$f":"Profile!H346","v":17800},{"$f":"Profile!I346","v":213600},{"$f":"Profile!J346","v":213600}]
[null,{"$f":"Profile!C347","v":17},{"$f":"Profile!D347","v":"GAJENDER KUMAR"},{"$f":"Profile!E347","v":"PANCHAYAT SHIKSHAK"},{"$f":"Profile!#REF!","v":{"$error":"#REF!"}},{"$f":"Profile!G347","v":"00:00:00"},{"$f":"Profile!H347","v":17800},{"$f":"Profile!I347","v":213600},{"$f":"Profile!J347","v":213600}]
[null,{"$f":"Profile!C348","v":18},{"$f":"Profile!D348","v":"GANESHA RAM"},{"$f":"Profile!E348","v":"KANISHATH SHIKSHAK"},{"$f":"Profile!F348","v":5255804},{"$f":"Profile!G348","v":"00:00:00"},{"$f":"Profile!H348","v":17800},{"$f":"Profile!I348","v":213600},{"$f":"Profile!J348","v":213600}]
[null,{"$f":"Profile!C349","v":19},{"$f":"Profile!D349","v":"GIRISH CHAND GOYAL"},{"$f":"Profile!E349","v":"PANCHAYAT SHIKSHAK"},{"$f":"Profile!F349","v":5301061},{"$f":"Profile!G349","v":"00:00:00"},{"$f":"Profile!H349","v":11000},{"$f":"Profile!I349","v":132000},{"$f":"Profile!J349","v":132000}]
[null,{"$f":"Profile!C350","v":20},{"$f":"Profile!D350","v":"GOPAL RAM"},{"$f":"Profile!E350","v":"PANCHAYAT SHIKSHAK"},{"$f":"Profile!F350","v":5301913},{"$f":"Profile!G350","v":"00:00:00"},{"$f":"Profile!H350","v":17800},{"$f":"Profile!I350","v":213600},{"$f":"Profile!J350","v":213600}]
[null,{"$f":"Profile!C351","v":21},{"$f":"Profile!D351","v":"GOPI CHAND SAHARAN"},{"$f":"Profile!E351","v":"PANCHAYAT SHIKSHAK"},{"$f":"Profile!F351","v":5300911},{"$f":"Profile!G351","v":"00:00:00"},{"$f":"Profile!H351","v":11000},{"$f":"Profile!I351","v":132000},{"$f":"Profile!J351","v":132000}]
[null,{"$f":"Profile!C352","v":22},{"$f":"Profile!D352","v":"HANUMAN RAM"},{"$f":"Profile!E352","v":"PANCHAYAT SHIKSHAK"},{"$f":"Profile!F352","v":5301024},{"$f":"Profile!G352","v":"00:00:00"},{"$f":"Profile!H352","v":11000},{"$f":"Profile!I352","v":132000},{"$f":"Profile!J352","v":132000}]
[null,{"$f":"Profile!C353","v":23},{"$f":"Profile!D353","v":"HARAMANA RAM MEGHWAL"},{"$f":"Profile!E353","v":"PANCHAYAT SHIKSHAK"},{"$f":"Profile!F353","v":5299799},{"$f":"Profile!G353","v":"00:00:00"},{"$f":"Profile!H353","v":17800},{"$f":"Profile!I353","v":213600},{"$f":"Profile!J353","v":213600}]
[null,{"$f":"Profile!C354","v":24},{"$f":"Profile!D354","v":"HAZEE SHAH"},{"$f":"Profile!E354","v":"PANCHAYAT SHIKSHAK"},{"$f":"Profile!F354","v":5301053},{"$f":"Profile!G354","v":"00:00:00"},{"$f":"Profile!H354","v":17800},{"$f":"Profile!I354","v":213600},{"$f":"Profile!J354","v":213600}]
[null,{"$f":"Profile!C355","v":25},{"$f":"Profile!D355","v":"INDRA BADDER"},{"$f":"Profile!E355","v":"PANCHAYAT SHIKSHAK"},{"$f":"Profile!F355","v":5299825},{"$f":"Profile!G355","v":""},{"$f":"Profile!H355","v":11000},{"$f":"Profile!I355","v":132000},{"$f":"Profile!J355","v":132000}]
[null,{"$f":"Profile!C356","v":26},{"$f":"Profile!D356","v":"INDRAJ BHADU"},{"$f":"Profile!E356","v":"PANCHAYAT SHIKSHAK"},{"$f":"Profile!F356","v":5300943},{"$f":"Profile!G356","v":"00:00:00"},{"$f":"Profile!H356","v":17800},{"$f":"Profile!I356","v":213600},{"$f":"Profile!J356","v":213600}]
[null,{"$f":"Profile!C357","v":27},{"$f":"Profile!D357","v":"JAGDEESH GODARA"},{"$f":"Profile!E357","v":"PANCHAYAT SHIKSHAK"},{"$f":"Profile!F357","v":5301069},{"$f":"Profile!G357","v":"00:00:00"},{"$f":"Profile!H357","v":17800},{"$f":"Profile!I357","v":213600},{"$f":"Profile!J357","v":213600}]
[null,{"$f":"Profile!C358","v":28},{"$f":"Profile!D358","v":"JETHA RAM NAI"},{"$f":"Profile!E358","v":"KANISHATH SHIKSHAK"},{"$f":"Profile!F358","v":5255793},{"$f":"Profile!G358","v":"00:00:00"},{"$f":"Profile!H358","v":17800},{"$f":"Profile!I358","v":213600},{"$f":"Profile!J358","v":213600}]
[null,{"$f":"Profile!C359","v":29},{"$f":"Profile!D359","v":"KARNI SINGH"},{"$f":"Profile!E359","v":"PANCHAYAT SHIKSHAK"},{"$f":"Profile!F359","v":5301082},{"$f":"Profile!G359","v":""},{"$f":"Profile!H359","v":17800},{"$f":"Profile!I359","v":213600},{"$f":"Profile!J359","v":213600}]
[null,{"$f":"Profile!C360","v":30},{"$f":"Profile!D360","v":"KAUSHALYA"},{"$f":"Profile!E360","v":"KANISHATH SHIKSHAK"},{"$f":"Profile!F360","v":5255825},{"$f":"Profile!G360","v":"00:00:00"},{"$f":"Profile!H360","v":17800},{"$f":"Profile!I360","v":213600},{"$f":"Profile!J360","v":213600}]
[null,{"$f":"Profile!C361","v":31},{"$f":"Profile!D361","v":"KESAR DEVI"},{"$f":"Profile!E361","v":"KANISHATH SHIKSHAK"},{"$f":"Profile!F361","v":5255791},{"$f":"Profile!G361","v":"00:00:00"},{"$f":"Profile!H361","v":17800},{"$f":"Profile!I361","v":213600},{"$f":"Profile!J361","v":213600}]
[null,{"$f":"Profile!C362","v":32},{"$f":"Profile!D362","v":"KHINYA RAM GODARA_5299844"},{"$f":"Profile!E362","v":"PANCHAYAT SHIKSHAK"},{"$f":"Profile!F362","v":5299844},{"$f":"Profile!G362","v":"00:00:00"},{"$f":"Profile!H362","v":11000},{"$f":"Profile!I362","v":132000},{"$f":"Profile!J362","v":132000}]
[null,{"$f":"Profile!C363","v":33},{"$f":"Profile!D363","v":"KIRAN KUMARI"},{"$f":"Profile!E363","v":"PANCHAYAT SHIKSHAK"},{"$f":"Profile!F363","v":5301057},{"$f":"Profile!G363","v":"00:00:00"},{"$f":"Profile!H363","v":11000},{"$f":"Profile!I363","v":132000},{"$f":"Profile!J363","v":132000}]
[null,{"$f":"Profile!C364","v":34},{"$f":"Profile!D364","v":"KIRPAL DAN_5299836"},{"$f":"Profile!E364","v":"PANCHAYAT SHIKSHAK"},{"$f":"Profile!F364","v":""},{"$f":"Profile!G364","v":"00:00:00"},{"$f":"Profile!H364","v":11000},{"$f":"Profile!I364","v":132000},{"$f":"Profile!J364","v":132000}]
[null,{"$f":"Profile!C365","v":35},{"$f":"Profile!D365","v":"KISHNA RAM"},{"$f":"Profile!E365","v":"PANCHAYAT SHIKSHAK"},{"$f":"Profile!F365","v":5301022},{"$f":"Profile!G365","v":"00:00:00"},{"$f":"Profile!H365","v":11000},{"$f":"Profile!I365","v":132000},{"$f":"Profile!J365","v":132000}]
[null,{"$f":"Profile!C366","v":36},{"$f":"Profile!D366","v":"KRIPAL DAN"},{"$f":"Profile!E366","v":"PANCHAYAT SHIKSHAK"},{"$f":"Profile!F366","v":5299836},{"$f":"Profile!G366","v":"00:00:00"},{"$f":"Profile!H366","v":17800},{"$f":"Profile!I366","v":213600},{"$f":"Profile!J366","v":213600}]
[null,{"$f":"Profile!C367","v":37},{"$f":"Profile!D367","v":"KRISHANA DONGIWALA_5255792"},{"$f":"Profile!E367","v":"KANISHATH SHIKSHAK"},{"$f":"Profile!F367","v":5255792},{"$f":"Profile!G367","v":"00:00:00"},{"$f":"Profile!H367","v":17800},{"$f":"Profile!I367","v":213600},{"$f":"Profile!J367","v":213600}]
[null,{"$f":"Profile!C368","v":38},{"$f":"Profile!D368","v":"KUSHALA RAM SARAN_5312500"},{"$f":"Profile!E368","v":"PANCHAYAT SHIKSHAK"},{"$f":"Profile!F368","v":""},{"$f":"Profile!G368","v":"00:00:00"},{"$f":"Profile!H368","v":17800},{"$f":"Profile!I368","v":213600},{"$f":"Profile!J368","v":213600}]
[null,{"$f":"Profile!C369","v":39},{"$f":"Profile!D369","v":"LALCHAND MOOND"},{"$f":"Profile!E369","v":"PANCHAYAT SHIKSHAK"},{"$f":"Profile!F369","v":5300886},{"$f":"Profile!G369","v":"00:00:00"},{"$f":"Profile!H369","v":17800},{"$f":"Profile!I369","v":213600},{"$f":"Profile!J369","v":213600}]
[null,{"$f":"Profile!C370","v":40},{"$f":"Profile!D370","v":"LOKENDER SINGH JODHA_5306417"},{"$f":"Profile!E370","v":"PANCHAYAT SHIKSHAK"},{"$f":"Profile!F370","v":""},{"$f":"Profile!G370","v":"00:00:00"},{"$f":"Profile!H370","v":17800},{"$f":"Profile!I370","v":213600},{"$f":"Profile!J370","v":213600}]
[null,{"$f":"Profile!C371","v":41},{"$f":"Profile!D371","v":"MANGILAL MEGHWAL"},{"$f":"Profile!E371","v":"KANISHATH SHIKSHAK"},{"$f":"Profile!F371","v":5255807},{"$f":"Profile!G371","v":"00:00:00"},{"$f":"Profile!H371","v":17800},{"$f":"Profile!I371","v":213600},{"$f":"Profile!J371","v":213600}]
[null,{"$f":"Profile!C372","v":42},{"$f":"Profile!D372","v":"MANJU KAUSHIK"},{"$f":"Profile!E372","v":"PANCHAYAT SHIKSHAK"},{"$f":"Profile!F372","v":5301066},{"$f":"Profile!G372","v":"00:00:00"},{"$f":"Profile!H372","v":17800},{"$f":"Profile!I372","v":213600},{"$f":"Profile!J372","v":213600}]
[null,{"$f":"Profile!C373","v":43},{"$f":"Profile!D373","v":"MANOJ KUMAR SUTHAR"},{"$f":"Profile!E373","v":"PANCHAYAT SHIKSHAK"},{"$f":"Profile!F373","v":5301013},{"$f":"Profile!G373","v":"00:00:00"},{"$f":"Profile!H373","v":17800},{"$f":"Profile!I373","v":213600},{"$f":"Profile!J373","v":213600}]
[null,{"$f":"Profile!C374","v":44},{"$f":"Profile!D374","v":"MEENAKSHI"},{"$f":"Profile!E374","v":"PANCHAYAT SHIKSHAK"},{"$f":"Profile!F374","v":5301044},{"$f":"Profile!G374","v":"00:00:00"},{"$f":"Profile!H374","v":17800},{"$f":"Profile!I374","v":213600},{"$f":"Profile!J374","v":213600}]
[null,{"$f":"Profile!C375","v":45},{"$f":"Profile!D375","v":"MUKESH SAIN"},{"$f":"Profile!E375","v":"PANCHAYAT SHIKSHAK"},{"$f":"Profile!F375","v":5301057},{"$f":"Profile!G375","v":"00:00:00"},{"$f":"Profile!H375","v":11000},{"$f":"Profile!I375","v":132000},{"$f":"Profile!J375","v":132000}]
[null,{"$f":"Profile!C376","v":46},{"$f":"Profile!D376","v":"MUSHTAK AHMED"},{"$f":"Profile!E376","v":"KANISHATH SHIKSHAK"},{"$f":"Profile!F376","v":5255788},{"$f":"Profile!G376","v":"00:00:00"},{"$f":"Profile!H376","v":17800},{"$f":"Profile!I376","v":213600},{"$f":"Profile!J376","v":213600}]
[null,{"$f":"Profile!C377","v":47},{"$f":"Profile!D377","v":"NAND KISHOR KARELA"},{"$f":"Profile!E377","v":"PANCHAYAT SHIKSHAK"},{"$f":"Profile!F377","v":5301037},{"$f":"Profile!G377","v":"00:00:00"},{"$f":"Profile!H377","v":17800},{"$f":"Profile!I377","v":213600},{"$f":"Profile!J377","v":213600}]
[null,{"$f":"Profile!C378","v":48},{"$f":"Profile!D378","v":"NAND KISHOR SHARMA"},{"$f":"Profile!E378","v":"PANCHAYAT SHIKSHAK"},{"$f":"Profile!F378","v":5301036},{"$f":"Profile!G378","v":"00:00:00"},{"$f":"Profile!H378","v":17800},{"$f":"Profile!I378","v":213600},{"$f":"Profile!J378","v":213600}]
[null,{"$f":"Profile!C379","v":49},{"$f":"Profile!D379","v":"NARAYAN RAM_5301072"},{"$f":"Profile!E379","v":"PANCHAYAT SHIKSHAK"},{"$f":"Profile!F379","v":5301077},{"$f":"Profile!G379","v":"00:00:00"},{"$f":"Profile!H379","v":17800},{"$f":"Profile!I379","v":213600},{"$f":"Profile!J379","v":213600}]
[null,{"$f":"Profile!C380","v":50},{"$f":"Profile!D380","v":"PAPPURAM MEGHWAL"},{"$f":"Profile!E380","v":"KANISHATH SHIKSHAK"},{"$f":"Profile!F380","v":5255800},{"$f":"Profile!G380","v":"00:00:00"},{"$f":"Profile!H380","v":17800},{"$f":"Profile!I380","v":213600},{"$f":"Profile!J380","v":213600}]
[null,{"$f":"Profile!C381","v":51},{"$f":"Profile!D381","v":"PARMESHWARI PRAJAPAT_5301027"},{"$f":"Profile!E381","v":"PANCHAYAT SHIKSHAK"},{"$f":"Profile!F381","v":5301027},{"$f":"Profile!G381","v":"00:00:00"},{"$f":"Profile!H381","v":17800},{"$f":"Profile!I381","v":213600},{"$f":"Profile!J381","v":213600}]
[null,{"$f":"Profile!C382","v":52},{"$f":"Profile!D382","v":"POONAM CHAND MEGHWAL_5299538"},{"$f":"Profile!E382","v":"PANCHAYAT SHIKSHAK"},{"$f":"Profile!F382","v":5299538},{"$f":"Profile!G382","v":"00:00:00"},{"$f":"Profile!H382","v":11000},{"$f":"Profile!I382","v":132000},{"$f":"Profile!J382","v":132000}]
[null,{"$f":"Profile!C383","v":53},{"$f":"Profile!D383","v":"PRABHA KIRADOO_5306670"},{"$f":"Profile!E383","v":"PANCHAYAT SHIKSHAK"},{"$f":"Profile!F383","v":""},{"$f":"Profile!G383","v":"00:00:00"},{"$f":"Profile!H383","v":17800},{"$f":"Profile!I383","v":213600},{"$f":"Profile!J383","v":213600}]
[null,{"$f":"Profile!C384","v":54},{"$f":"Profile!D384","v":"PRAKASH CHAND GOYAL"},{"$f":"Profile!E384","v":"PANCHAYAT SHIKSHAK"},{"$f":"Profile!F384","v":5301002},{"$f":"Profile!G384","v":"00:00:00"},{"$f":"Profile!H384","v":17800},{"$f":"Profile!I384","v":213600},{"$f":"Profile!J384","v":213600}]
[null,{"$f":"Profile!C385","v":55},{"$f":"Profile!D385","v":"PUKHRAJ SHARMA"},{"$f":"Profile!E385","v":"PANCHAYAT SHIKSHAK"},{"$f":"Profile!F385","v":5296153},{"$f":"Profile!G385","v":"00:00:00"},{"$f":"Profile!H385","v":17800},{"$f":"Profile!I385","v":213600},{"$f":"Profile!J385","v":213600}]
[null,{"$f":"Profile!C386","v":56},{"$f":"Profile!D386","v":"PUSHPLATA CHOUDHARY_5304422"},{"$f":"Profile!E386","v":"PANCHAYAT SHIKSHAK"},{"$f":"Profile!F386","v":""},{"$f":"Profile!G386","v":""},{"$f":"Profile!H386","v":17800},{"$f":"Profile!I386","v":213600},{"$f":"Profile!J386","v":213600}]
[null,{"$f":"Profile!C387","v":57},{"$f":"Profile!D387","v":"RADHA UPADHYAY"},{"$f":"Profile!E387","v":"KANISHATH SHIKSHAK"},{"$f":"Profile!F387","v":5255790},{"$f":"Profile!G387","v":"00:00:00"},{"$f":"Profile!H387","v":17800},{"$f":"Profile!I387","v":213600},{"$f":"Profile!J387","v":213600}]
[null,{"$f":"Profile!C388","v":58},{"$f":"Profile!D388","v":"RADHE SHYAM"},{"$f":"Profile!E388","v":"PANCHAYAT SHIKSHAK"},{"$f":"Profile!F388","v":5301055},{"$f":"Profile!G388","v":"00:00:00"},{"$f":"Profile!H388","v":11000},{"$f":"Profile!I388","v":132000},{"$f":"Profile!J388","v":132000}]
[null,{"$f":"Profile!C389","v":59},{"$f":"Profile!D389","v":"RADHE SHYAM PALIWAL"},{"$f":"Profile!E389","v":"PANCHAYAT SHIKSHAK"},{"$f":"Profile!F389","v":""},{"$f":"Profile!G389","v":"00:00:00"},{"$f":"Profile!H389","v":17800},{"$f":"Profile!I389","v":213600},{"$f":"Profile!J389","v":213600}]
[null,{"$f":"Profile!C390","v":60},{"$f":"Profile!D390","v":"RAJA RAM"},{"$f":"Profile!E390","v":"PANCHAYAT SHIKSHAK"},{"$f":"Profile!F390","v":5299533},{"$f":"Profile!G390","v":"00:00:00"},{"$f":"Profile!H390","v":17800},{"$f":"Profile!I390","v":213600},{"$f":"Profile!J390","v":213600}]
[null,{"$f":"Profile!C391","v":61},{"$f":"Profile!D391","v":"RAM SUKH MEGHWAL_5322949"},{"$f":"Profile!E391","v":"PANCHAYAT SHIKSHAK"},{"$f":"Profile!F391","v":""},{"$f":"Profile!G391","v":"00:00:00"},{"$f":"Profile!H391","v":11000},{"$f":"Profile!I391","v":132000},{"$f":"Profile!J391","v":132000}]
[null,{"$f":"Profile!C392","v":62},{"$f":"Profile!D392","v":"RAMAN LAL BISSA_5311506"},{"$f":"Profile!E392","v":"PANCHAYAT SHIKSHAK"},{"$f":"Profile!F392","v":5301048},{"$f":"Profile!G392","v":"00:00:00"},{"$f":"Profile!H392","v":11000},{"$f":"Profile!I392","v":132000},{"$f":"Profile!J392","v":132000}]
[null,{"$f":"Profile!C393","v":63},{"$f":"Profile!D393","v":"RAMESH BITHU_5304329"},{"$f":"Profile!E393","v":"PANCHAYAT SHIKSHAK"},{"$f":"Profile!F393","v":""},{"$f":"Profile!G393","v":"00:00:00"},{"$f":"Profile!H393","v":17800},{"$f":"Profile!I393","v":213600},{"$f":"Profile!J393","v":213600}]
[null,{"$f":"Profile!C394","v":64},{"$f":"Profile!D394","v":"RAMESHWAR LAL_5301035"},{"$f":"Profile!E394","v":"PANCHAYAT SHIKSHAK"},{"$f":"Profile!F394","v":5301035},{"$f":"Profile!G394","v":"00:00:00"},{"$f":"Profile!H394","v":17800},{"$f":"Profile!I394","v":213600},{"$f":"Profile!J394","v":213600}]
[null,{"$f":"Profile!C395","v":65},{"$f":"Profile!D395","v":"RATAN LAL"},{"$f":"Profile!E395","v":"PANCHAYAT SHIKSHAK"},{"$f":"Profile!F395","v":5300839},{"$f":"Profile!G395","v":"00:00:00"},{"$f":"Profile!H395","v":17800},{"$f":"Profile!I395","v":213600},{"$f":"Profile!J395","v":213600}]
[null,{"$f":"Profile!C396","v":66},{"$f":"Profile!D396","v":"RAVINDER JAIN"},{"$f":"Profile!E396","v":"PANCHAYAT SHIKSHAK"},{"$f":"Profile!F396","v":5301042},{"$f":"Profile!G396","v":"00:00:00"},{"$f":"Profile!H396","v":17800},{"$f":"Profile!I396","v":213600},{"$f":"Profile!J396","v":213600}]
[null,{"$f":"Profile!C397","v":67},{"$f":"Profile!D397","v":"RIKTAKMAL SHARMA"},{"$f":"Profile!E397","v":"PANCHAYAT SHIKSHAK"},{"$f":"Profile!F397","v":5300877},{"$f":"Profile!G397","v":"00:00:00"},{"$f":"Profile!H397","v":17800},{"$f":"Profile!I397","v":213600},{"$f":"Profile!J397","v":213600}]
[null,{"$f":"Profile!C398","v":68},{"$f":"Profile!D398","v":"SARLA CHOUDHARY"},{"$f":"Profile!E398","v":"KANISHATH SHIKSHAK"},{"$f":"Profile!F398","v":5255803},{"$f":"Profile!G398","v":"00:00:00"},{"$f":"Profile!H398","v":17800},{"$f":"Profile!I398","v":213600},{"$f":"Profile!J398","v":213600}]
[null,{"$f":"Profile!C399","v":69},{"$f":"Profile!D399","v":"SAROJ PARIK"},{"$f":"Profile!E399","v":"KANISHATH SHIKSHAK"},{"$f":"Profile!F399","v":5255798},{"$f":"Profile!G399","v":""},{"$f":"Profile!H399","v":17800},{"$f":"Profile!I399","v":213600},{"$f":"Profile!J399","v":213600}]
[null,{"$f":"Profile!C400","v":70},{"$f":"Profile!D400","v":"SHANKAR LAL JYANI"},{"$f":"Profile!E400","v":"PANCHAYAT SHIKSHAK"},{"$f":"Profile!F400","v":5300940},{"$f":"Profile!G400","v":"00:00:00"},{"$f":"Profile!H400","v":17800},{"$f":"Profile!I400","v":213600},{"$f":"Profile!J400","v":213600}]
[null,{"$f":"Profile!C401","v":71},{"$f":"Profile!D401","v":"SHIV KUMAR BHATI_5301030"},{"$f":"Profile!E401","v":"PANCHAYAT SHIKSHAK"},{"$f":"Profile!F401","v":5301030},{"$f":"Profile!G401","v":"00:00:00"},{"$f":"Profile!H401","v":17800},{"$f":"Profile!I401","v":213600},{"$f":"Profile!J401","v":213600}]
[null,{"$f":"Profile!C402","v":72},{"$f":"Profile!D402","v":"SHIVNARAYAN MOOND"},{"$f":"Profile!E402","v":"KANISHATH SHIKSHAK"},{"$f":"Profile!F402","v":5255783},{"$f":"Profile!G402","v":""},{"$f":"Profile!H402","v":17800},{"$f":"Profile!I402","v":213600},{"$f":"Profile!J402","v":213600}]
[null,{"$f":"Profile!C403","v":73},{"$f":"Profile!D403","v":"SOHAN SINGH"},{"$f":"Profile!E403","v":"PANCHAYAT SHIKSHAK"},{"$f":"Profile!F403","v":5301903},{"$f":"Profile!G403","v":""},{"$f":"Profile!H403","v":11000},{"$f":"Profile!I403","v":132000},{"$f":"Profile!J403","v":132000}]
[null,{"$f":"Profile!C404","v":74},{"$f":"Profile!D404","v":"SUBASH CHANDER GODARA"},{"$f":"Profile!E404","v":"PANCHAYAT SHIKSHAK"},{"$f":"Profile!F404","v":5299817},{"$f":"Profile!G404","v":""},{"$f":"Profile!H404","v":17800},{"$f":"Profile!I404","v":213600},{"$f":"Profile!J404","v":213600}]
[null,{"$f":"Profile!C405","v":75},{"$f":"Profile!D405","v":"SUBHASH NAYAK_5317766"},{"$f":"Profile!E405","v":"PANCHAYAT SHIKSHAK"},{"$f":"Profile!F405","v":""},{"$f":"Profile!G405","v":""},{"$f":"Profile!H405","v":11000},{"$f":"Profile!I405","v":132000},{"$f":"Profile!J405","v":132000}]
[null,{"$f":"Profile!C406","v":76},{"$f":"Profile!D406","v":"SUMITRA KASWA"},{"$f":"Profile!E406","v":"PANCHAYAT SHIKSHAK"},{"$f":"Profile!F406","v":5299536},{"$f":"Profile!G406","v":""},{"$f":"Profile!H406","v":17800},{"$f":"Profile!I406","v":213600},{"$f":"Profile!J406","v":213600}]
[null,{"$f":"Profile!C407","v":77},{"$f":"Profile!D407","v":"SUNITA SHARMA"},{"$f":"Profile!E407","v":"PANCHAYAT SHIKSHAK"},{"$f":"Profile!F407","v":5299522},{"$f":"Profile!G407","v":""},{"$f":"Profile!H407","v":17800},{"$f":"Profile!I407","v":213600},{"$f":"Profile!J407","v":213600}]
[null,{"$f":"Profile!C408","v":78},{"$f":"Profile!D408","v":"SURENDER KUMAR KUKNA"},{"$f":"Profile!E408","v":"PANCHAYAT SHIKSHAK"},{"$f":"Profile!F408","v":5301064},{"$f":"Profile!G408","v":""},{"$f":"Profile!H408","v":17800},{"$f":"Profile!I408","v":213600},{"$f":"Profile!J408","v":213600}]
[null,{"$f":"Profile!C409","v":79},{"$f":"Profile!D409","v":"VIJAY KUMAR_5307505"},{"$f":"Profile!E409","v":"PANCHAYAT SHIKSHAK"},{"$f":"Profile!F409","v":""},{"$f":"Profile!G409","v":""},{"$f":"Profile!H409","v":11000},{"$f":"Profile!I409","v":132000},{"$f":"Profile!J409","v":132000}]
[null,{"$f":"Profile!C410","v":80},{"$f":"Profile!D410","v":"VIJAYPAL GODARA_5320450"},{"$f":"Profile!E410","v":"PANCHAYAT SHIKSHAK"},{"$f":"Profile!F410","v":""},{"$f":"Profile!G410","v":""},{"$f":"Profile!H410","v":11000},{"$f":"Profile!I410","v":132000},{"$f":"Profile!J410","v":132000}]
[null,{"$f":"Profile!C411","v":81},{"$f":"Profile!D411","v":"VIJAYPAL JYANI"},{"$f":"Profile!E411","v":"PANCHAYAT SHIKSHAK"},{"$f":"Profile!F411","v":5300934},{"$f":"Profile!G411","v":""},{"$f":"Profile!H411","v":17800},{"$f":"Profile!I411","v":213600},{"$f":"Profile!J411","v":213600}]
[null,{"$f":"Profile!C412","v":82},{"$f":"Profile!D412","v":"ZUBBER MOHAMMAD SHAH_5315244"},{"$f":"Profile!E412","v":"PANCHAYAT SHIKSHAK"},{"$f":"Profile!F412","v":""},{"$f":"Profile!G412","v":""},{"$f":"Profile!H412","v":11000},{"$f":"Profile!I412","v":132000},{"$f":"Profile!J412","v":132000}]
[null,{"$f":"Profile!C413","v":83},{"$f":"Profile!D413","v":"BHAIRA RAM"},{"$f":"Profile!E413","v":"Teacher Level-2"},{"$f":"Profile!F413","v":"RJBI202309078023"},{"$f":"Profile!G413","v":"00:00:00"},{"$f":"Profile!H413","v":23700},{"$f":"Profile!I413","v":284400},{"$f":"Profile!J413","v":284400}]
[null,{"$f":"Profile!C414","v":84},{"$f":"Profile!D414","v":"BHAWANA KANWAR"},{"$f":"Profile!E414","v":"Teacher Level-1"},{"$f":"Profile!F414","v":"RJBI202309040350"},{"$f":"Profile!G414","v":"00:00:00"},{"$f":"Profile!H414","v":23700},{"$f":"Profile!I414","v":284400},{"$f":"Profile!J414","v":284400}]
[null,{"$f":"Profile!C415","v":85},{"$f":"Profile!D415","v":"BUDHRAM"},{"$f":"Profile!E415","v":"TEACHER"},{"$f":"Profile!F415","v":"RJBI202309557196"},{"$f":"Profile!G415","v":"00:00:00"},{"$f":"Profile!H415","v":23700},{"$f":"Profile!I415","v":284400},{"$f":"Profile!J415","v":284400}]
[null,{"$f":"Profile!C416","v":86},{"$f":"Profile!D416","v":"DEVENDRA SINGH"},{"$f":"Profile!E416","v":"Teacher Level-1 (Special Education)"},{"$f":"Profile!F416","v":"RJBI202209032389"},{"$f":"Profile!G416","v":"00:00:00"},{"$f":"Profile!H416","v":23700},{"$f":"Profile!I416","v":284400},{"$f":"Profile!J416","v":284400}]
[null,{"$f":"Profile!C417","v":87},{"$f":"Profile!D417","v":"HANSA KUMARI SWAMI"},{"$f":"Profile!E417","v":"Teacher Level-2"},{"$f":"Profile!F417","v":"RJBI202309065691"},{"$f":"Profile!G417","v":"00:00:00"},{"$f":"Profile!H417","v":23700},{"$f":"Profile!I417","v":284400},{"$f":"Profile!J417","v":284400}]
[null,{"$f":"Profile!C418","v":88},{"$f":"Profile!D418","v":"JYOTI RATHORE"},{"$f":"Profile!E418","v":"TEACHER"},{"$f":"Profile!F418","v":"RJBI202309066458"},{"$f":"Profile!G418","v":"00:00:00"},{"$f":"Profile!H418","v":23700},{"$f":"Profile!I418","v":284400},{"$f":"Profile!J418","v":284400}]
[null,{"$f":"Profile!C419","v":89},{"$f":"Profile!D419","v":"KHERUNISHA"},{"$f":"Profile!E419","v":"Teacher Level-2"},{"$f":"Profile!F419","v":"RJBI202309065639"},{"$f":"Profile!G419","v":"00:00:00"},{"$f":"Profile!H419","v":23700},{"$f":"Profile!I419","v":284400},{"$f":"Profile!J419","v":284400}]
[null,{"$f":"Profile!C420","v":90},{"$f":"Profile!D420","v":"KHUSHBOO YADAV"},{"$f":"Profile!E420","v":"Teacher Level-2"},{"$f":"Profile!F420","v":"RJBI202309073471"},{"$f":"Profile!G420","v":"00:00:00"},{"$f":"Profile!H420","v":23700},{"$f":"Profile!I420","v":284400},{"$f":"Profile!J420","v":284400}]
[null,{"$f":"Profile!C421","v":91},{"$f":"Profile!D421","v":"MANJU BALA"},{"$f":"Profile!E421","v":"Teacher Level-1 (Special Education)"},{"$f":"Profile!F421","v":"RJBI202209028546"},{"$f":"Profile!G421","v":"00:00:00"},{"$f":"Profile!H421","v":23700},{"$f":"Profile!I421","v":284400},{"$f":"Profile!J421","v":284400}]
[null,{"$f":"Profile!C422","v":92},{"$f":"Profile!D422","v":"MONIKA"},{"$f":"Profile!E422","v":"Teacher Level-2"},{"$f":"Profile!F422","v":"RJBI202309050858"},{"$f":"Profile!G422","v":"00:00:00"},{"$f":"Profile!H422","v":23700},{"$f":"Profile!I422","v":284400},{"$f":"Profile!J422","v":284400}]
[null,{"$f":"Profile!C423","v":93},{"$f":"Profile!D423","v":"MOOL SINGH"},{"$f":"Profile!E423","v":"TEACHER"},{"$f":"Profile!F423","v":"RJBI202309073384"},{"$f":"Profile!G423","v":"00:00:00"},{"$f":"Profile!H423","v":23700},{"$f":"Profile!I423","v":284400},{"$f":"Profile!J423","v":284400}]
[null,{"$f":"Profile!C424","v":94},{"$f":"Profile!D424","v":"PINKY"},{"$f":"Profile!E424","v":"Teacher Level-1"},{"$f":"Profile!F424","v":"RJBI202309083154"},{"$f":"Profile!G424","v":"00:00:00"},{"$f":"Profile!H424","v":23700},{"$f":"Profile!I424","v":284400},{"$f":"Profile!J424","v":284400}]
[null,{"$f":"Profile!C425","v":95},{"$f":"Profile!D425","v":"POOJA"},{"$f":"Profile!E425","v":"Teacher Level-2"},{"$f":"Profile!F425","v":"RJBI202309045038"},{"$f":"Profile!G425","v":"00:00:00"},{"$f":"Profile!H425","v":23700},{"$f":"Profile!I425","v":284400},{"$f":"Profile!J425","v":284400}]
[null,{"$f":"Profile!C426","v":96},{"$f":"Profile!D426","v":"PREETI TOGASIA"},{"$f":"Profile!E426","v":"Teacher Level-1"},{"$f":"Profile!F426","v":"RJBI202309039848"},{"$f":"Profile!G426","v":"00:00:00"},{"$f":"Profile!H426","v":23700},{"$f":"Profile!I426","v":284400},{"$f":"Profile!J426","v":284400}]
[null,{"$f":"Profile!C427","v":97},{"$f":"Profile!D427","v":"PRITI KUMARI"},{"$f":"Profile!E427","v":"Teacher Level-2"},{"$f":"Profile!F427","v":"RJBI202309063488"},{"$f":"Profile!G427","v":"00:00:00"},{"$f":"Profile!H427","v":23700},{"$f":"Profile!I427","v":284400},{"$f":"Profile!J427","v":284400}]
[null,{"$f":"Profile!C428","v":98},{"$f":"Profile!D428","v":"PRITI SINGH"},{"$f":"Profile!E428","v":"Teacher Level-2"},{"$f":"Profile!F428","v":"RJBI202409103538"},{"$f":"Profile!G428","v":"00:00:00"},{"$f":"Profile!H428","v":23700},{"$f":"Profile!I428","v":284400},{"$f":"Profile!J428","v":284400}]
[null,{"$f":"Profile!C429","v":99},{"$f":"Profile!D429","v":"PUSHPA KUMARI"},{"$f":"Profile!E429","v":"TEACHER"},{"$f":"Profile!F429","v":"RJBI202309072187"},{"$f":"Profile!G429","v":"00:00:00"},{"$f":"Profile!H429","v":23700},{"$f":"Profile!I429","v":284400},{"$f":"Profile!J429","v":284400}]
[null,{"$f":"Profile!C430","v":100},{"$f":"Profile!D430","v":"RAJANI MOYAL"},{"$f":"Profile!E430","v":"TEACHER"},{"$f":"Profile!F430","v":"RJBI202209013008"},{"$f":"Profile!G430","v":"00:00:00"},{"$f":"Profile!H430","v":23700},{"$f":"Profile!I430","v":284400},{"$f":"Profile!J430","v":284400}]
[null,{"$f":"Profile!C431","v":101},{"$f":"Profile!D431","v":"RAKESH GODARA"},{"$f":"Profile!E431","v":"Teacher Level-1"},{"$f":"Profile!F431","v":"RJBI202209029520"},{"$f":"Profile!G431","v":"00:00:00"},{"$f":"Profile!H431","v":23700},{"$f":"Profile!I431","v":284400},{"$f":"Profile!J431","v":284400}]
[null,{"$f":"Profile!C432","v":102},{"$f":"Profile!D432","v":"RAM CHRAN MAN"},{"$f":"Profile!E432","v":"TEACHER"},{"$f":"Profile!F432","v":"RJBI202309052725"},{"$f":"Profile!G432","v":"00:00:00"},{"$f":"Profile!H432","v":23700},{"$f":"Profile!I432","v":284400},{"$f":"Profile!J432","v":284400}]
[null,{"$f":"Profile!C433","v":103},{"$f":"Profile!D433","v":"SUNILA NEHRA"},{"$f":"Profile!E433","v":"Teacher Level-1"},{"$f":"Profile!F433","v":"RJBI202309056985"},{"$f":"Profile!G433","v":"00:00:00"},{"$f":"Profile!H433","v":23700},{"$f":"Profile!I433","v":284400},{"$f":"Profile!J433","v":284400}]
[null,{"$f":"Profile!C434","v":104},{"$f":"Profile!D434","v":"VIMLA MEENA"},{"$f":"Profile!E434","v":"Teacher Level-2"},{"$f":"Profile!F434","v":"RJBI202309074987"},{"$f":"Profile!G434","v":"00:00:00"},{"$f":"Profile!H434","v":23700},{"$f":"Profile!I434","v":284400},{"$f":"Profile!J434","v":284400}]
[null,{"$f":"Profile!C435","v":105},{"$f":"Profile!D435","v":"VIMLA MEGHWAL"},{"$f":"Profile!E435","v":"TEACHER"},{"$f":"Profile!F435","v":"RJBI202309072138"},{"$f":"Profile!G435","v":"00:00:00"},{"$f":"Profile!H435","v":23700},{"$f":"Profile!I435","v":284400},{"$f":"Profile!J435","v":284400}]
[null,{"$f":"Profile!C436","v":106},{"$f":"Profile!D436","v":"JAIPAL HUDDA"},{"$f":"Profile!E436","v":"Teacher Level-2 (Special Education)"},{"$f":"Profile!F436","v":"RJBI202309050864"},{"$f":"Profile!G436","v":"3850-03-19"},{"$f":"Profile!H436","v":23700},{"$f":"Profile!I436","v":284400},{"$f":"Profile!J436","v":284400}]
[null,{"$f":"Profile!C437","v":107},{"$f":"Profile!D437","v":0},{"$f":"Profile!E437","v":0},{"$f":"Profile!F437","v":"00:00:00"},{"$f":"Profile!G437","v":"00:00:00"},{"$f":"Profile!H437","v":0},{"$f":"Profile!I437","v":0},{"$f":"Profile!J437","v":0}]
[null,{"$f":"Profile!C438","v":108},{"$f":"Profile!D438","v":0},{"$f":"Profile!E438","v":0},{"$f":"Profile!F438","v":"00:00:00"},{"$f":"Profile!G438","v":"00:00:00"},{"$f":"Profile!H438","v":0},{"$f":"Profile!I438","v":0},{"$f":"Profile!J438","v":0}]
[null,{"$f":"Profile!C439","v":109},{"$f":"Profile!D439","v":0},{"$f":"Profile!E439","v":0},{"$f":"Profile!F439","v":"00:00:00"},{"$f":"Profile!G439","v":"00:00:00"},{"$f":"Profile!H439","v":0},{"$f":"Profile!I439","v":0},{"$f":"Profile!J439","v":0}]
[null,{"$f":"Profile!C440","v":110},{"$f":"Profile!D440","v":0},{"$f":"Profile!E440","v":0},{"$f":"Profile!F440","v":"00:00:00"},{"$f":"Profile!G440","v":"00:00:00"},{"$f":"Profile!H440","v":0},{"$f":"Profile!I440","v":0},{"$f":"Profile!J440","v":0}]
[null,{"$f":"Profile!C441","v":111},{"$f":"Profile!D441","v":0},{"$f":"Profile!E441","v":0},{"$f":"Profile!F441","v":"00:00:00"},{"$f":"Profile!G441","v":"00:00:00"},{"$f":"Profile!H441","v":0},{"$f":"Profile!I441","v":0},{"$f":"Profile!J441","v":0}]
[null,{"$f":"Profile!C442","v":112},{"$f":"Profile!D442","v":0},{"$f":"Profile!E442","v":0},{"$f":"Profile!F442","v":"00:00:00"},{"$f":"Profile!G442","v":"00:00:00"},{"$f":"Profile!H442","v":0},{"$f":"Profile!I442","v":0},{"$f":"Profile!J442","v":0}]
[null,{"$f":"Profile!C443","v":113},{"$f":"Profile!D443","v":0},{"$f":"Profile!E443","v":0},{"$f":"Profile!F443","v":"00:00:00"},{"$f":"Profile!G443","v":"00:00:00"},{"$f":"Profile!H443","v":0},{"$f":"Profile!I443","v":0},{"$f":"Profile!J443","v":0}]
[null,{"$f":"Profile!C444","v":114},{"$f":"Profile!D444","v":0},{"$f":"Profile!E444","v":0},{"$f":"Profile!F444","v":"00:00:00"},{"$f":"Profile!G444","v":"00:00:00"},{"$f":"Profile!H444","v":0},{"$f":"Profile!I444","v":0},{"$f":"Profile!J444","v":0}]
[null,{"$f":"Profile!C445","v":115},{"$f":"Profile!D445","v":0},{"$f":"Profile!E445","v":0},{"$f":"Profile!F445","v":"00:00:00"},{"$f":"Profile!G445","v":"00:00:00"},{"$f":"Profile!H445","v":0},{"$f":"Profile!I445","v":0},{"$f":"Profile!J445","v":0}]
[null,{"$f":"Profile!C446","v":116},{"$f":"Profile!D446","v":0},{"$f":"Profile!E446","v":0},{"$f":"Profile!F446","v":"00:00:00"},{"$f":"Profile!G446","v":"00:00:00"},{"$f":"Profile!H446","v":0},{"$f":"Profile!I446","v":0},{"$f":"Profile!J446","v":0}]
[null,{"$f":"Profile!C447","v":117},{"$f":"Profile!D447","v":0},{"$f":"Profile!E447","v":0},{"$f":"Profile!F447","v":"00:00:00"},{"$f":"Profile!G447","v":"00:00:00"},{"$f":"Profile!H447","v":0},{"$f":"Profile!I447","v":0},{"$f":"Profile!J447","v":0}]
[null,{"$f":"Profile!C448","v":118},{"$f":"Profile!D448","v":0},{"$f":"Profile!E448","v":0},{"$f":"Profile!F448","v":"00:00:00"},{"$f":"Profile!G448","v":"00:00:00"},{"$f":"Profile!H448","v":0},{"$f":"Profile!I448","v":0},{"$f":"Profile!J448","v":0}]
[null,{"$f":"Profile!C449","v":119},{"$f":"Profile!D449","v":0},{"$f":"Profile!E449","v":0},{"$f":"Profile!F449","v":"00:00:00"},{"$f":"Profile!G449","v":"00:00:00"},{"$f":"Profile!H449","v":0},{"$f":"Profile!I449","v":0},{"$f":"Profile!J449","v":0}]
[null,{"$f":"Profile!C450","v":120},{"$f":"Profile!D450","v":0},{"$f":"Profile!E450","v":0},{"$f":"Profile!F450","v":"00:00:00"},{"$f":"Profile!G450","v":"00:00:00"},{"$f":"Profile!H450","v":0},{"$f":"Profile!I450","v":0},{"$f":"Profile!J450","v":0}]
[null,{"$f":"Profile!C451","v":121},{"$f":"Profile!D451","v":0},{"$f":"Profile!E451","v":0},{"$f":"Profile!F451","v":"00:00:00"},{"$f":"Profile!G451","v":"00:00:00"},{"$f":"Profile!H451","v":0},{"$f":"Profile!I451","v":0},{"$f":"Profile!J451","v":0}]
[null,{"$f":"Profile!C452","v":122},{"$f":"Profile!D452","v":0},{"$f":"Profile!E452","v":0},{"$f":"Profile!F452","v":"00:00:00"},{"$f":"Profile!G452","v":"00:00:00"},{"$f":"Profile!H452","v":0},{"$f":"Profile!I452","v":0},{"$f":"Profile!J452","v":0}]
[null,{"$f":"Profile!C453","v":123},{"$f":"Profile!D453","v":0},{"$f":"Profile!E453","v":0},{"$f":"Profile!F453","v":"00:00:00"},{"$f":"Profile!G453","v":"00:00:00"},{"$f":"Profile!H453","v":0},{"$f":"Profile!I453","v":0},{"$f":"Profile!J453","v":0}]
[null,{"$f":"Profile!C454","v":124},{"$f":"Profile!D454","v":0},{"$f":"Profile!E454","v":0},{"$f":"Profile!F454","v":"00:00:00"},{"$f":"Profile!G454","v":"00:00:00"},{"$f":"Profile!H454","v":0},{"$f":"Profile!I454","v":0},{"$f":"Profile!J454","v":0}]
[null,{"$f":"Profile!C455","v":125},{"$f":"Profile!D455","v":0},{"$f":"Profile!E455","v":0},{"$f":"Profile!F455","v":"00:00:00"},{"$f":"Profile!G455","v":"00:00:00"},{"$f":"Profile!H455","v":0},{"$f":"Profile!I455","v":0},{"$f":"Profile!J455","v":0}]
[null,{"$f":"Profile!C456","v":126},{"$f":"Profile!D456","v":0},{"$f":"Profile!E456","v":0},{"$f":"Profile!F456","v":"00:00:00"},{"$f":"Profile!G456","v":"00:00:00"},{"$f":"Profile!H456","v":0},{"$f":"Profile!I456","v":0},{"$f":"Profile!J456","v":0}]
[null,{"$f":"Profile!C457","v":127},{"$f":"Profile!D457","v":0},{"$f":"Profile!E457","v":0},{"$f":"Profile!F457","v":"00:00:00"},{"$f":"Profile!G457","v":"00:00:00"},{"$f":"Profile!H457","v":0},{"$f":"Profile!I457","v":0},{"$f":"Profile!J457","v":0}]
[null,{"$f":"Profile!C458","v":128},{"$f":"Profile!D458","v":0},{"$f":"Profile!E458","v":0},{"$f":"Profile!F458","v":"00:00:00"},{"$f":"Profile!G458","v":"00:00:00"},{"$f":"Profile!H458","v":0},{"$f":"Profile!I458","v":0},{"$f":"Profile!J458","v":0}]
[null,{"$f":"Profile!C459","v":129},{"$f":"Profile!D459","v":0},{"$f":"Profile!E459","v":0},{"$f":"Profile!F459","v":"00:00:00"},{"$f":"Profile!G459","v":"00:00:00"},{"$f":"Profile!H459","v":0},{"$f":"Profile!I459","v":0},{"$f":"Profile!J459","v":0}]
[null,{"$f":"Profile!C460","v":130},{"$f":"Profile!D460","v":0},{"$f":"Profile!E460","v":0},{"$f":"Profile!F460","v":"00:00:00"},{"$f":"Profile!G460","v":"00:00:00"},{"$f":"Profile!H460","v":0},{"$f":"Profile!I460","v":0},{"$f":"Profile!J460","v":0}]
[null,{"$f":"Profile!C461","v":131},{"$f":"Profile!D461","v":0},{"$f":"Profile!E461","v":0},{"$f":"Profile!F461","v":"00:00:00"},{"$f":"Profile!G461","v":"00:00:00"},{"$f":"Profile!H461","v":0},{"$f":"Profile!I461","v":0},{"$f":"Profile!J461","v":0}]
[null,{"$f":"Profile!C462","v":132},{"$f":"Profile!D462","v":0},{"$f":"Profile!E462","v":0},{"$f":"Profile!F462","v":"00:00:00"},{"$f":"Profile!G462","v":"00:00:00"},{"$f":"Profile!H462","v":0},{"$f":"Profile!I462","v":0},{"$f":"Profile!J462","v":0}]
[null,{"$f":"Profile!C463","v":133},{"$f":"Profile!D463","v":0},{"$f":"Profile!E463","v":0},{"$f":"Profile!F463","v":"00:00:00"},{"$f":"Profile!G463","v":"00:00:00"},{"$f":"Profile!H463","v":0},{"$f":"Profile!I463","v":0},{"$f":"Profile!J463","v":0}]
[null,{"$f":"Profile!C464","v":134},{"$f":"Profile!D464","v":0},{"$f":"Profile!E464","v":0},{"$f":"Profile!F464","v":"00:00:00"},{"$f":"Profile!G464","v":"00:00:00"},{"$f":"Profile!H464","v":0},{"$f":"Profile!I464","v":0},{"$f":"Profile!J464","v":0}]
[null,{"$f":"Profile!C465","v":135},{"$f":"Profile!D465","v":0},{"$f":"Profile!E465","v":0},{"$f":"Profile!F465","v":"00:00:00"},{"$f":"Profile!G465","v":"00:00:00"},{"$f":"Profile!H465","v":0},{"$f":"Profile!I465","v":0},{"$f":"Profile!J465","v":0}]
[null,{"$f":"Profile!C466","v":136},{"$f":"Profile!D466","v":0},{"$f":"Profile!E466","v":0},{"$f":"Profile!F466","v":"00:00:00"},{"$f":"Profile!G466","v":"00:00:00"},{"$f":"Profile!H466","v":0},{"$f":"Profile!I466","v":0},{"$f":"Profile!J466","v":0}]
[null,{"$f":"Profile!C467","v":137},{"$f":"Profile!D467","v":0},{"$f":"Profile!E467","v":0},{"$f":"Profile!F467","v":"00:00:00"},{"$f":"Profile!G467","v":"00:00:00"},{"$f":"Profile!H467","v":0},{"$f":"Profile!I467","v":0},{"$f":"Profile!J467","v":0}]
[null,{"$f":"Profile!C468","v":138},{"$f":"Profile!D468","v":0},{"$f":"Profile!E468","v":0},{"$f":"Profile!F468","v":"00:00:00"},{"$f":"Profile!G468","v":"00:00:00"},{"$f":"Profile!H468","v":0},{"$f":"Profile!I468","v":0},{"$f":"Profile!J468","v":0}]
[null,{"$f":"Profile!C469","v":139},{"$f":"Profile!D469","v":0},{"$f":"Profile!E469","v":0},{"$f":"Profile!F469","v":"00:00:00"},{"$f":"Profile!G469","v":"00:00:00"},{"$f":"Profile!H469","v":0},{"$f":"Profile!I469","v":0},{"$f":"Profile!J469","v":0}]
[null,{"$f":"Profile!C470","v":140},{"$f":"Profile!D470","v":0},{"$f":"Profile!E470","v":0},{"$f":"Profile!F470","v":"00:00:00"},{"$f":"Profile!G470","v":"00:00:00"},{"$f":"Profile!H470","v":0},{"$f":"Profile!I470","v":0},{"$f":"Profile!J470","v":0}]
[null,{"$f":"Profile!C471","v":141},{"$f":"Profile!D471","v":0},{"$f":"Profile!E471","v":0},{"$f":"Profile!F471","v":"00:00:00"},{"$f":"Profile!G471","v":"00:00:00"},{"$f":"Profile!H471","v":0},{"$f":"Profile!I471","v":0},{"$f":"Profile!J471","v":0}]
[null,{"$f":"Profile!C472","v":142},{"$f":"Profile!D472","v":0},{"$f":"Profile!E472","v":0},{"$f":"Profile!F472","v":"00:00:00"},{"$f":"Profile!G472","v":"00:00:00"},{"$f":"Profile!H472","v":0},{"$f":"Profile!I472","v":0},{"$f":"Profile!J472","v":0}]
[null,{"$f":"Profile!C473","v":143},{"$f":"Profile!D473","v":0},{"$f":"Profile!E473","v":0},{"$f":"Profile!F473","v":"00:00:00"},{"$f":"Profile!G473","v":"00:00:00"},{"$f":"Profile!H473","v":0},{"$f":"Profile!I473","v":0},{"$f":"Profile!J473","v":0}]
[null,{"$f":"Profile!C474","v":144},{"$f":"Profile!D474","v":0},{"$f":"Profile!E474","v":0},{"$f":"Profile!F474","v":"00:00:00"},{"$f":"Profile!G474","v":"00:00:00"},{"$f":"Profile!H474","v":0},{"$f":"Profile!I474","v":0},{"$f":"Profile!J474","v":0}]
[null,{"$f":"Profile!C475","v":145},{"$f":"Profile!D475","v":0},{"$f":"Profile!E475","v":0},{"$f":"Profile!F475","v":"00:00:00"},{"$f":"Profile!G475","v":"00:00:00"},{"$f":"Profile!H475","v":0},{"$f":"Profile!I475","v":0},{"$f":"Profile!J475","v":0}]
[null,{"$f":"Profile!C476","v":146},{"$f":"Profile!D476","v":0},{"$f":"Profile!E476","v":0},{"$f":"Profile!F476","v":"00:00:00"},{"$f":"Profile!G476","v":"00:00:00"},{"$f":"Profile!H476","v":0},{"$f":"Profile!I476","v":0},{"$f":"Profile!J476","v":0}]
[null,{"$f":"Profile!C477","v":147},{"$f":"Profile!D477","v":0},{"$f":"Profile!E477","v":0},{"$f":"Profile!F477","v":"00:00:00"},{"$f":"Profile!G477","v":"00:00:00"},{"$f":"Profile!H477","v":0},{"$f":"Profile!I477","v":0},{"$f":"Profile!J477","v":0}]
[null,{"$f":"Profile!C478","v":148},{"$f":"Profile!D478","v":0},{"$f":"Profile!E478","v":0},{"$f":"Profile!F478","v":"00:00:00"},{"$f":"Profile!G478","v":"00:00:00"},{"$f":"Profile!H478","v":0},{"$f":"Profile!I478","v":0},{"$f":"Profile!J478","v":0}]
[null,{"$f":"Profile!C479","v":149},{"$f":"Profile!D479","v":0},{"$f":"Profile!E479","v":0},{"$f":"Profile!F479","v":"00:00:00"},{"$f":"Profile!G479","v":"00:00:00"},{"$f":"Profile!H479","v":0},{"$f":"Profile!I479","v":0},{"$f":"Profile!J479","v":0}]
[null,{"$f":"Profile!C480","v":150},{"$f":"Profile!D480","v":0},{"$f":"Profile!E480","v":0},{"$f":"Profile!F480","v":"00:00:00"},{"$f":"Profile!G480","v":"00:00:00"},{"$f":"Profile!H480","v":0},{"$f":"Profile!I480","v":0},{"$f":"Profile!J480","v":0}]
[null,null,null,{"$f":"Profile!E481","v":"TOTAL"},null,null,null,{"$f":"Profile!I481","v":22627200},{"$f":"Profile!J481","v":22627200}]
[]
[null,null,{"$f":"'rrr 08'!J292","v":"eksgEen vtht HkkVh"},null,null,{"$f":"Profile!A4","v":"lexz f'k{kk"},null,{"$f":"'rrr 08'!M291","v":"eq[; CykWd f'k{kk vf/kdkjh"}]
[null,null,{"$f":"'rrr 08'!J293","v":9460701805},null,null,{"$f":"Profile!A5","v":"chdkusj"},null,{"$f":"'rrr 08'!M292","v":"lexz f'k{kk"}]
[null,"rS;kj drkZ %&",{"$f":"'rrr 08'!J294","v":"gtkjh jke rMZ"},null,null,{"$f":"Profile!$F$4","v":1451},null,{"$f":"'rrr 08'!M293","v":"chdkusj"}]
[null,null,{"$f":"'rrr 08'!J295","v":9667576332},null,null,null,null,{"$f":"'rrr 08'!M294","v":1451}]

{"sheet":"P1","index":7,"n_rows":14,"n_cols":9,"rows_kept":14,"cut":false,"hidden":false,"merged":[[4,8,5,8],[0,0,0,1],[0,2,0,7],[4,5,5,5],[4,0,5,0],[4,1,5,1],[4,2,5,2],[4,3,5,3],[4,4,5,4],[3,0,3,1],[3,2,3,4],[3,5,3,6],[2,0,2,2],[2,3,2,4],[2,5,2,6],[13,6,13,7],[10,6,10,7],[11,6,11,7],[1,0,1,4],[1,6,1,7],[12,6,12,7]]}
[{"$f":"Profile!$A$44","v":"dk;kZy; %&"},null,{"$f":"Profile!$D$44","v":"eq[; CykWd f'k{kk vf/kdkjh] lexz f'k{kk] chdkusj"}]
["izi= 1",null,null,null,null,"ctV gSM",{"$f":"Profile!$C$3","v":"2202-01-197-16-01"}]
["dk;kZy; v/;{k MhMhvks uke %&",null,null,{"$f":"Profile!$G$4","v":"euh\"kk vjksM+k"},null,{"$f":"Profile!$I$4","v":1234567890},null,{"$f":"Profile!$A$8","v":"ihMh [kkrk la[;k %&"},{"$f":"Profile!$C$8","v":762}]
["ys[kk en ",null,"01 laosru dk x.ku @ ekax izi=",null,null,{"$f":"Profile!$K$44","v":"LVsV Q.M"},null,"vkWfQl vkbZMh&",{"$f":"Profile!$G$43","v":1451}]
["Ø-la-","vkWfQl vkbZ-Mh-","fo|ky; dk uke","forh; o\"kZ pkyw o\"kZ esa laosru esa vkaCkfVr jkf'k","08@25 rd dk okLrfod O;;","09@25 ls 03@26 rd gksus okyk vuqekfur O;;","forh; o\"kZ esa gksus okyk dqy O;;","pkyw o\"kZ ds fy, vfrfjDr ctV dh vko';drk","vkxeh o\"kZ ds fy, vko';drk"]
[null,null,null,null,null,null,";ksx dkWye ¼5$6½",";ksx dkWye ¼4&7½"]
[1,2,3,4,5,6,7,8,9]
[1,{"$f":"Profile!$G$43","v":1451},{"$f":"Profile!$D$44","v":"eq[; CykWd f'k{kk vf/kdkjh] lexz f'k{kk] chdkusj"},{"$f":"'pd 31.08.25'!$F$255","v":42754470},{"$f":"Profile!$I$31","v":31640346},{"$f":"'P-9'!$L$9","v":52934148},{"$f":"E8+F8","v":84574494},{"$f":"D8-G8","v":-41820024},{"$f":"'rrr 08'!$M$283","v":86430359}]
[]
[]
[null,null,null,null,null,{"$f":"Profile!$G$6","v":"eksgEen vtht HkkVh"},{"$f":"Profile!A3","v":"eq[; CykWd f'k{kk vf/kdkjh"}]
[null,null,null,null,null,{"$f":"Profile!$I$6","v":9460701805},{"$f":"Profile!A4","v":"lexz f'k{kk"},{"$f":"Profile!B4","v":0}]
[null,null,null,null,"rS;kj drkZ %&",{"$f":"'rrr 08'!J294","v":"gtkjh jke rMZ"},{"$f":"Profile!A5","v":"chdkusj"},{"$f":"Profile!B5","v":0}]
[null,null,null,null,null,{"$f":"'rrr 08'!J295","v":9667576332},{"$f":"Profile!$F$4","v":1451}]

{"sheet":"Sheet1","index":8,"n_rows":74,"n_cols":14,"rows_kept":74,"cut":false,"hidden":true,"merged":[[22,12,22,13],[0,0,0,1],[0,2,0,8],[1,2,1,4],[15,1,15,4],[15,5,16,5],[15,6,16,6],[15,7,16,7],[15,8,16,8],[15,9,16,9],[15,10,16,10],[15,11,16,11],[22,2,22,4],[22,5,22,11]]}
["dk;kZy;&",null,"jktdh; mPp ek/;fed fo|ky; pkSxkbZa Vksad"]
["eksgj&",null,"Budget Estemate"]
["ihZbZbZvks 10tSM ,oa iz/kkukpk;Z",null,null,null,null,"vkWfQl vkbZMh","uke MhMhvks",null,"uEcj"]
["jktdh; mPp ek/;fed fo|ky;",null,null,null,null,2405,"izHkkr 'kekZ",null,9414318727]
["15tSM Jhxaxkuxj",null,null,null,null,"rS;kj drkZ ","lqfer fxjh",null,9414631519]
["ctV en        eq[; 'kh\"kZ",null,2202,"lkekU; f'k{kk"]
[null,null,2,"ek/;fed f'k{kk"]
[null,null,109,"jktdh; mPp ek/;fed fo|ky;"]
[null,null,27,"yM+dksa ds fo|ky;"]
[null,null,1,"yM+dksa ds fo|ky;"]
[]
[]
["Ldhe dk uke",null,null,null,null,"LVsV Q.M"]
["ekax la[;k",null,24,null,null,null,null,"Arear Month",8]
["ctV Lohd`fr esa fo|ky; dh Ø-la-",null,null,null,null,14,"egakbZ HkÙk nj",17,"DA Arr.",0,"HRA",8]
["xr rhu o\"ksksZa ds vk; ,oa O;; dk fooj.k","gsM",null,null,null,"2017-18","2018-19","2019-20","08/19 to 03/20","04/20 to 07/20","la'kksf/kr vuqeku 2020&21","vk; vuqeku 2021&2022"]
["vk;"]
["f'k{k.k Qhl o vU; Qhl","0202&02",102,1,0,110,200,210,150,90,220,230]
["ikB~; iqLrdksa ls vk;","0202&02",102,2]
["fofo/k","0202&02",102,3,1]
["vf/kd Hkqxrku dh olwyh","0202&02",102,3,2]
["vuqi;ksxh lkeku ds fuLrkj.k ls vk;","0202&02",102,5,2]
["O;;",null,"Lohd`r ctV 20&21",null,null,"[kpksZa dk fooj.k",null,null,null,null,null,null," O;; 04@20 ls 07@20"]
["en","gsM","dqy ;ksx","jkT; fuf/k","dsUnzh; lgk;rk","2017-18","2018-19","2019-20","08/19 to 03/20","04/20 to 07/20","lEHkkfor O;; 2020&21","dqy ;ksx","jkT; fuf/k","dsUnzh; lgk;rk"]
["laosru",1,{"$f":"SUM(D25+E25)","v":2384000},2384000,0,3783379,4658460,4432536,2925894,289407,4652816,{"$f":"SUM(J25+K25)","v":4942223},289407,0]
[";k=k O;;",3,0,0,0,0,0,18750,18750,0,0,0,0,0]
["fpfdRlk O;;",4,0,null,null,null,null,null,null,null,null,0,null,0]
[" dk;kZy; O;;",5,0,null,null,null,null,null,null,null,null,0,null,0]
["fdjk;k dj jk;fYV",9,0,null,null,null,null,null,null,null,null,0,null,0]
["e'khujh lkt lkeku",20,0,null,null,null,null,null,null,null,null,0,null,0]
["iqLrdky;",31,0,null,null,null,null,null,null,null,null,0,null,0]
["iz;ksx'kkyk",33,0,null,null,null,null,null,null,null,null,0,null,0]
["ofnZ;ka",37,0,null,null,null,null,null,null,null,null,0,null,0]
["vU; izHkkj",28,0,null,null,null,null,null,null,null,null,0,null,0]
["foHkkxh;lsokvksa ij fof'k\"V O;;",57,0,null,null,null,null,null,null,null,null,0,null,0]
[]
[null,"Developed by-",null,null,null,null,null,null,null,null,null,null,null,"L-1"]
[null,"Chaturbhuj Jat",null,null,null,"प्रधानाचार्य",null,null,null,null,null,null,null,"L-2"]
[null,"Teacher GSSS Chogai",null,null,null,"प्रधानाध्यापक",null,null,"G","M","R","C","S","L-3"]
[null,null,null,null,null,"व्याख्याता",null,null,"NG","F","F","W","M","L-4"]
[null,null,null,null,null,"व्याख्याता शारीरिक शिक्षा",null,null,null,null,null,"H",null,"L-5"]
[null,null,null,null,null,"पुस्तकालय अध्यक्ष ग्रेड I",null,null,null,null,null,null,null,"L-6"]
[null,null,null,null,null,"वरिष्ठ अध्यापक",null,null,null,null,null,null,null,"L-7"]
[null,null,null,null,null,"वरिष्ठ शारीरिक शिक्षक",null,null,null,null,null,null,null,"L-8"]
[null,null,null,null,null,"पुस्तकालय अध्यक्ष ग्रेड II",null,null,null,null,null,null,null,"L-9"]
[null,null,null,null,null,"अध्यापक ग्रेड III",null,null,null,null,null,null,null,"L-10"]
[null,null,null,null,null,"प्रबोधक",null,null,null,null,null,null,null,"L-11"]
[null,null,null,null,null,"शारीरिक शिक्षक",null,null,null,null,null,null,null,"L-12"]
[null,null,null,null,null,"पुस्तकालय अध्यक्ष ग्रेड III",null,null,null,null,null,null,null,"L-13"]
[null,null,null,null,null,"संस्थापन अधिकारी",null,null,null,null,null,null,null,"L-14"]
[null,null,null,null,null,"प्रशासनिक अधिकारी",null,null,null,null,null,null,null,"L-15"]
[null,null,null,null,null,"अतिरिक्त प्रशासनिक अधिकारी",null,null,null,null,null,null,null,"L-16"]
[null,null,null,null,null,"सहायक प्रशासनिक अधिकारी",null,null,null,null,null,null,null,"L-17"]
[null,null,null,null,null,"वरिष्ठ सहायक",null,null,null,null,null,null,null,"L-18"]
[null,null,null,null,null,"कनिष्ठ सहायक",null,null,null,null,null,null,null,"L-19"]
[null,null,null,null,null,"प्रयोग शाला सहायक",null,null,null,null,null,null,null,"L-20"]
[null,null,null,null,null,"प्रयोग शाला सेवक",null,null,null,null,null,null,null,"L-21"]
[null,null,null,null,null,"जमादार",null,null,null,null,null,null,null,"L-22"]
[null,null,null,null,null,"सहायक कर्मचारी",null,null,null,null,null,null,null,"L-23"]
[null,null,null,null,null,"ए सी बी ई ओ प्रथम",null,null,null,null,null,null,null,"L-24"]
[null,null,null,null,null,"सहायक लेखाधिकारी प्रथम "]
[null,null,null,null,null,"सहायक लेखाधिकारी द्वितीय "]
[null,null,null,null,null,"कनिष्ठ लेखाकार"]
[null,null,null,null,null,"अतिरिक्त जिला शिक्षा अधिकारी"]
[null,null,null,null,null,"मुख्य जिला शिक्षा अधिकारी "]
[null,null,null,null,null,"संयुक्त  निदेशक स्कूल शिक्षा"]
[null,null,null,null,null,"सी बी ई ओ"]
[null,null,null,null,null,"प्रबोधक शारीरिक शिक्षक"]
[null,null,null,null,null,"प्रशिक्षु शिक्षक"]
[null,null,null,null,null,"व्याख्याता कृषि"]
[null,null,null,null,null,"कृषि अध्यापक"]
[null,null,null,null,null,"कृषि प्रमुख"]
[null,null,null,null,null,"विशेष शिक्षक"]
[null,null,null,null,null,"ए सी बी ई ओ दवितीय"]

{"sheet":"P-5 PD","index":9,"n_rows":16,"n_cols":10,"rows_kept":16,"cut":false,"hidden":false,"merged":[[13,8,13,9],[4,6,4,8],[2,0,2,1],[0,0,0,9],[1,0,1,9],[4,0,5,0],[4,1,5,1],[4,2,5,2],[4,3,5,3],[4,4,5,4],[4,5,5,5],[3,0,3,1],[3,2,3,4]]}
["izi=&5¼dsoy iapk;r jkt en gsrq½"]
["v- ihMh- [kkrksa esa gLrkUrfjr jkf'k ,oa mlds mi;ksx dh fLFkfr dk fooj.k"]
[{"$f":"Profile!$A$44","v":"dk;kZy; %&"},null,{"$f":"'P1'!$C$1","v":"eq[; CykWd f'k{kk vf/kdkjh] lexz f'k{kk] chdkusj"},null,null,null,null,null,{"$f":"Profile!$A$8","v":"ihMh [kkrk la[;k %&"},{"$f":"'rrr 08'!$N$2","v":762}]
[{"$f":"Profile!$A$13","v":"foHkkx dk uke %&"},null,{"$f":"Profile!$G$2","v":" izkjfEHkd f'k{kk foHkkx"},null,null,null,null,null,"IFMS dksM ",{"$f":"'rrr 08'!$P$4","v":1451}]
["Ø-l-","futh fu{ksi [kkrk la[;k¼e; lEiw.kZ 'khZ\"k lfgr½ ftlesa jkf'k LFkkukUrfjr dh tkrh gSA","[kkrs dk uke","dks\"kky; dk uke","foHkkxh;@ xSj foHkkxh;","01-04-2025 dks izkjfEHkd 'ks\"k",{"$f":"Profile!$C$16","v":"2025-26"}]
[null,null,null,null,null,null,"iw.kZ 'kh\"kZ ftlesa jkf'k gLrkUrfjr dh xbZ \n¼ihMh [kkrk l-½","gLrkUrfjr jkf'k","fnukad 31-08-2025 rd O;; jkf'k","31-08-2025 dks 'ks\"k (6+8-9)"]
[1,2,3,4,5,6,7,8,9,10]
[1,{"$f":"J3","v":762},"futh fu{ksi","chdkusj","foHkkxh;",{"$f":"'P-14'!$H$9","v":2607934},{"$f":"J3","v":762},{"$f":"'P-14'!$H$10","v":42754470},{"$f":"'P-14'!$H$12","v":31640346},{"$f":"(F8+H8)-I8","v":13722058}]
[]
[]
[]
[]
[null,"ctV gSM%&",{"$f":"Profile!$C$3","v":"2202-01-197-16-01"},null,null,null,{"$f":"'P1'!F11","v":"eksgEen vtht HkkVh"}]
[null,null,null,null,null,null,{"$f":"'P1'!F12","v":9460701805},null,"gLrk{kj dk;kZy;/;{k"]
[null,null,null,null,null,"rS;kj drkZ %&",{"$f":"'P1'!F13","v":"gtkjh jke rMZ"}]
[null,null,null,null,null,null,{"$f":"'P1'!F14","v":9667576332}]

{"sheet":"P-07","index":10,"n_rows":19,"n_cols":11,"rows_kept":19,"cut":false,"hidden":false,"merged":[[0,0,0,10],[15,0,15,2],[2,0,2,7],[3,0,3,7],[4,0,4,7],[5,0,6,0],[5,1,6,1],[5,2,5,6],[5,8,6,8],[5,9,6,9],[5,10,6,10],[3,8,3,10],[1,0,1,10]]}
["izi=&7"]
["dk;Zy; dk uke& dk;kZy; eq[; CykWd f'k{kk vf/kdkjh] chdkusj               ih-Mh-[kkrk la[;k  762"]
["osru en&2202&01&197&16&01"]
["ih-Mh- [kkrs ds 'ks\"k dh lwpuk",null,null,null,null,null,null,null,"01-04-2024 to 31-03-2025"]
["ekax la[;k&24 ys[kken 2202&01&197&16&01 ¼jkT; fuf/k½                vkWfQl vkbZMh 1451                 "]
["Ø-la-","fooj.k","12& lgk;rkFkZ vuqnku xSj laosru",null,null,null,null,"92&lgk;rkFkZ vuqnku","ehM Ms ehy","vU;","egk;ksx dkWye ¼7ls10½"]
[null,null,";k=k O;;","fpfdRlk O;;","dk;kZy; O;;","ofnZ;k",";ksx","laosru"]
[1,2,3,4,5,6,7,8,9,10,11]
[1,"01-04-2024 dk 'ks\"k",{"$f":"Profile!AO31","v":255437},{"$f":"Profile!AP31","v":16424},{"$f":"Profile!AQ31","v":54070},{"$f":"Profile!AR31","v":23000},{"$f":"C9+D9+E9+F9","v":348931},{"$f":"Profile!AT31","v":8733197},{"$f":"'PD 24-25'!Y697","v":11579359.82},{"$f":"'PD 24-25'!$Z$697","v":-35398},{"$f":"G9+H9+I9+J9","v":20626089.82}]
[2,"foRrh; o\"kZ 2024&25 esa izkIr jkf'k",{"$f":"Profile!AO32","v":70000},{"$f":"Profile!AP32","v":0},{"$f":"Profile!AQ32","v":60000},{"$f":"Profile!AR32","v":0},{"$f":"C10+D10+E10+F10","v":130000},{"$f":"Profile!AT32","v":74823336},{"$f":"'PD 24-25'!Y698","v":3617000},{"$f":"'PD 24-25'!Z698","v":9275001},{"$f":"G10+H10+I10+J10","v":87845337}]
[3,";ksx",{"$f":"SUM(C9:C10)","v":325437},16424,114070,23000,{"$f":"C11+D11+E11+F11","v":478931},83556533,{"$f":"SUM(I9:I10)","v":15196359.82},9239603,108471426.81999999]
[4,"foRrh; o\"kZ 2024&25 esa O;; jkf'k",{"$f":"Profile!AO34","v":0},{"$f":"Profile!AP34","v":0},{"$f":"Profile!AQ34","v":87587},{"$f":"Profile!AR34","v":0},{"$f":"C12+D12+E12+F12","v":87587},{"$f":"Profile!$AT$34","v":80948599},{"$f":"'PD 24-25'!Y696","v":3225354},{"$f":"'PD 24-25'!Z696","v":4279360},88540900]
[5,"forh; o\"kZ 2024&2025 esa vU; lhchbZvks dks gLrkUrfjr@izkIr dqy jkf'k",0,0,0,0,{"$f":"C13+D13+E13+F13","v":0},0,0,0,0]
[6,"31-03-2025 dks 'ks\"k jkf'k",{"$f":"C11-C12+C13","v":325437},{"$f":"D11-D12+D13","v":16424},26483,23000,{"$f":"G11-G12+G13","v":391344},{"$f":"H11-H12+H13","v":2607934},{"$f":"I11-I12+I13","v":11971005.82},4960243,{"$f":"G14+H14+I14+J14","v":19930526.82}]
[]
[null,null,null,null,{"$f":"'P-5 PD'!G13","v":"eksgEen vtht HkkVh"}]
[null,null,null,null,{"$f":"'P-5 PD'!G14","v":9460701805},null,null,"gLrk{kj dk;kZy;/;{k"]
[null,null,null,{"$f":"'P-5 PD'!F15","v":"rS;kj drkZ %&"},{"$f":"'P-5 PD'!G15","v":"gtkjh jke rMZ"}]
[null,null,null,null,{"$f":"'P-5 PD'!G16","v":9667576332}]

{"sheet":"P-14","index":11,"n_rows":19,"n_cols":11,"rows_kept":19,"cut":false,"hidden":false,"merged":[[0,0,0,10],[17,3,17,4],[18,3,18,4],[15,0,15,2],[16,6,16,7],[1,0,1,1],[2,0,2,1],[15,3,15,4],[16,3,16,4],[5,0,6,0],[5,1,6,1],[5,2,5,6],[2,2,2,4],[2,5,2,6],[3,0,3,5],[4,2,4,4],[5,8,6,8],[5,9,6,9],[5,10,6,10],[3,8,3,10],[1,2,1,7]]}
["izi=&14"]
[{"$f":"Profile!$A$1","v":"dk;kZy;&"},null,{"$f":"Profile!$C$1","v":"eq[; CykWd f'k{kk vf/kdkjh] lexz f'k{kk] chdkusj"}]
[{"$f":"Profile!$A$13","v":"foHkkx dk uke %&"},null,{"$f":"Profile!$G$2","v":" izkjfEHkd f'k{kk foHkkx"},null,null,{"$f":"Profile!$A$8","v":"ihMh [kkrk la[;k %&"},null,{"$f":"Profile!$C$8","v":762}]
["ih-Mh- [kkrs ds 'ks\"k dh lwpuk",null,null,null,null,null,null,null,"01-04-2025 TO 31-08-2025"]
[null,"ctV gSM%&",{"$f":"Profile!$C$3","v":"2202-01-197-16-01"},null,null,null,{"$f":"Profile!$F$3","v":"vkWfQl vkbZMh"},{"$f":"Profile!$F$4","v":1451}]
["Ø-la-","fooj.k","12& lgk;rkFkZ vuqnku xSj laosru",null,null,null,null,"92&lgk;rkFkZ vuqnku","ehM Ms ehy","vU;","egk;ksx dkWye ¼7ls10½"]
[null,null,";k=kk O;;","fpfdRlk O;;","dk;kZy; O;;","ofnZ;k",";ksx","laosru"]
[1,2,3,4,5,6,7,8,9,10,11]
[1,"01-04-2025 dk 'ks\"k",{"$f":"'P-07'!C14","v":325437},{"$f":"'P-07'!D14","v":16424},{"$f":"'P-07'!E14","v":26483},{"$f":"'P-07'!F14","v":23000},{"$f":"'P-07'!G14","v":391344},{"$f":"'P-07'!H14","v":2607934},{"$f":"'P-07'!I14","v":11971005.82},{"$f":"'P-07'!J14","v":4960243},{"$f":"'P-07'!K14","v":19930526.82}]
[2,"foRrh; o\"kZ 2025&26 esa izkIr jkf'k",{"$f":"Profile!AL23","v":0},{"$f":"Profile!AM23","v":0},{"$f":"Profile!AN23","v":20000},{"$f":"Profile!AO23","v":0},{"$f":"C10+D10+E10+F10","v":20000},{"$f":"Profile!$AQ$23","v":42754470},{"$f":"'pd 31.08.25'!X255","v":0},{"$f":"'pd 31.08.25'!Y255","v":0},{"$f":"G10+H10+I10+J10","v":42774470}]
[3,";ksx",{"$f":"SUM(C9:C10)","v":325437},{"$f":"SUM(D9:D10)","v":16424},{"$f":"SUM(E9:E10)","v":46483},{"$f":"SUM(F9:F10)","v":23000},{"$f":"C11+D11+E11+F11","v":411344},{"$f":"SUM(H9:H10)","v":45362404},{"$f":"SUM(I9:I10)","v":11971005.82},{"$f":"SUM(J9:J10)","v":4960243},62704996.82]
[4,"foRrh; o\"kZ 2025&26 esa O;; jkf'k",{"$f":"Profile!AL25","v":0},{"$f":"Profile!AM25","v":0},{"$f":"Profile!AN25","v":51347},{"$f":"Profile!AO25","v":0},{"$f":"C12+D12+E12+F12","v":51347},{"$f":"Profile!$AQ$25","v":31640346},{"$f":"'pd 31.08.25'!X253","v":842695},{"$f":"'pd 31.08.25'!Y253","v":2792674},35327062]
[5,"forh; o\"kZ 2024&2025 esa vU; lhchbZvks dks gLrkUrfjr@izkIr dqy jkf'k",0,0,0,0,{"$f":"C13+D13+E13+F13","v":0},0,0,0,0]
[6,"31-08-2025 dks 'ks\"k jkf'k",{"$f":"C11-C12","v":325437},{"$f":"D11-D12","v":16424},{"$f":"E11-E12","v":-4864},{"$f":"F11-F12","v":23000},{"$f":"C14+D14+E14+F14","v":359997},{"$f":"H11-H12","v":13722058},{"$f":"I11-I12+I13","v":11128310.82},2167569,{"$f":"G14+H14+I14+J14","v":27377934.82}]
[]
[null,null,null,{"$f":"'P-07'!E16","v":"eksgEen vtht HkkVh"}]
[null,null,null,{"$f":"'P-07'!E17","v":9460701805},null,null,"gLrk{kj dk;kZy;/;{k"]
[null,null,{"$f":"'P-07'!$D$18","v":"rS;kj drkZ %&"},{"$f":"'P-07'!E18","v":"gtkjh jke rMZ"}]
[null,null,null,{"$f":"'P-07'!E19","v":9667576332}]

{"sheet":"PD 24-25","index":12,"n_rows":764,"n_cols":27,"rows_kept":764,"cut":false,"hidden":false,"merged":[[699,0,699,1],[696,0,696,1],[697,0,697,1],[695,0,695,1],[0,0,0,21],[1,0,1,21],[2,11,2,17],[2,18,3,18],[698,0,698,1],[699,26,699,27],[695,26,695,27],[696,26,696,27],[697,26,697,27],[698,26,698,27]]}
["CBEO, BIKANER"]
["PD BUDGET  2024-25                   01-04-2024 TO 31-03-2025"]
["s.no.","BT.NO /LATTEAR NO .","DATE","DEEO","RECEIPT",2202,2202,2202,2202,2202,"SSA","MDM",null,null,null,null,null,null,"other ex."]
[null,null,null,null,null,"SALARY","MEDICAL","TA","VARDI ","OE",null,"COOK ","iz'kklfud","COLLECATING","MONITRAING","GAS","COOCK CUM HELPER","crZu Ø;",null,"MILK ","SMSA","TOTAL","opening balance","recept","tot","expes"]
["BALANCE",null,null,858812,0,8733197,16424,255437,23000,54070,0,850950.3200000003,29732.5,55000,25000,773881,4436508,5440,691220,4711628,-894210,24891666.82,110757056.81999999,{"$f":"'[1]2020-21'!X276","v":0},{"$f":"SUM(W5:X5)","v":110757056.81999999},0,{"$f":"Y5-Z5","v":110757056.81999999}]
[null,"403/10/04//19","2024-04-01",null,null,null,null,null,null,null,null,null,null,null,null,null,null,null,null,null,102676,{"$f":"SUM(F6:U6)","v":102676},{"$f":"AA5","v":110757056.81999999},178700,{"$f":"SUM(W6:X6)","v":110935756.81999999},0,{"$f":"Y6-Z6","v":110935756.81999999}]
[null,"401/8/4/19","2024-04-02",null,null,191040,null,null,null,null,null,null,null,null,null,null,null,null,null,null,null,{"$f":"SUM(F7:U7)","v":191040},{"$f":"AA6","v":110935756.81999999},244819,111180575.81999999,0,111180575.81999999]
[null,"402/9/4/19","2024-04-03",null,null,null,null,null,null,null,null,null,null,null,null,null,null,null,null,null,185243,185243,111180575.81999999,null,111180575.81999999,194629,110985946.81999999]
[null,"405/18/4/19","2024-04-04",null,null,380607,null,null,null,null,null,null,null,null,null,null,null,null,null,null,null,380607,110985946.81999999,null,110985946.81999999,3493200,107492746.81999999]
[null,"40622/4/19","2024-04-05",null,null,157878,null,null,null,null,null,null,null,null,null,null,null,null,null,null,null,157878,107492746.81999999,null,107492746.81999999,379667,107113079.81999999]
[null,"404/15/4/19","2024-04-06",null,null,72471,null,null,null,null,null,null,null,null,null,null,null,null,null,null,null,72471,107113079.81999999,null,107113079.81999999,162810,106950269.81999999]
[null,"409/30/4/19","2024-04-07",null,null,1473414,null,null,null,null,null,null,null,null,null,null,null,null,null,null,null,1473414,106950269.81999999,210160,107160429.81999999,40775,107119654.81999999]
[null,"40730/4/19","2024-04-08",null,null,452343,null,null,null,null,null,null,null,null,null,null,null,null,null,null,null,452343,107119654.81999999,null,107119654.81999999,0,107119654.81999999]
[null,"408/30/4/19","2024-04-09",null,null,162729,null,null,null,null,null,null,null,null,null,null,null,null,null,null,null,162729,107119654.81999999,null,107119654.81999999,824810,106294844.81999999]
[null,null,"2024-04-10",null,null,2231151,null,null,null,null,null,null,null,null,null,null,null,null,null,null,null,2231151,106294844.81999999,null,106294844.81999999,4310492,101984352.81999999]
[null,"411/2/5/19","2024-04-11",null,null,52626,null,null,null,null,null,null,null,null,null,null,null,null,null,null,null,52626,101984352.81999999,null,101984352.81999999,162810,101821542.81999999]
[null,"410/1/5/19","2024-04-12",null,null,154791,null,null,null,null,null,null,null,null,null,null,null,null,null,null,null,154791,101821542.81999999,null,101821542.81999999,1804157,100017385.81999999]
[null,"413/9/5/19","2024-04-13",null,null,52626,null,null,null,null,null,null,null,null,null,null,null,null,null,null,null,52626,100017385.81999999,null,100017385.81999999,320733,99696652.819999993]
[null,"416/13/5/19","2024-04-14",null,null,null,null,null,null,850,null,null,0,null,null,null,null,null,null,null,null,850,99696652.819999993,4426074,104122726.81999999,0,104122726.81999999]
[null,"412/9/5/19","2024-04-15",null,null,null,null,null,null,null,null,null,null,null,null,null,null,null,null,null,102676,102676,104122726.81999999,null,104122726.81999999,145868,103976858.81999999]
[null,"417/13/5/19","2024-04-16",null,null,191040,null,null,null,null,null,null,null,null,null,null,null,null,null,null,null,191040,103976858.81999999,null,103976858.81999999,190421,103786437.81999999]
[null,"421/15/5/19","2024-04-17",null,null,null,null,null,null,null,null,null,null,null,null,null,null,null,null,null,185243,185243,103786437.81999999,null,103786437.81999999,3732346,100054091.81999999]
[null,"420/15/5/19","2024-04-18",null,null,1510660,null,null,null,null,null,null,null,null,null,null,null,null,null,null,null,1510660,100054091.81999999,null,100054091.81999999,162810,99891281.819999993]
[null,"419/15/5/19","2024-04-19",null,null,1576712,null,null,null,null,null,null,null,null,null,null,null,null,null,null,null,1576712,99891281.819999993,null,99891281.819999993,145868,99745413.819999993]
[null,"415/10/5/19","2024-04-20",null,null,188307,null,null,null,null,null,null,null,null,null,null,null,null,null,null,null,188307,99745413.819999993,null,99745413.819999993,3335250,96410163.819999993]
[null,"418/13/5/19","2024-04-21",null,null,569564,null,null,null,null,null,null,null,null,null,null,null,null,null,null,null,569564,96410163.819999993,null,96410163.819999993,136073,96274090.819999993]
[null,null,"2024-04-22",null,null,null,null,null,null,3628,null,null,0,null,null,null,null,null,null,null,null,3628,96274090.819999993,null,96274090.819999993,379667,95894423.819999993]
[null,"422/24/5/19","2024-04-23",null,null,54058,null,null,null,null,null,null,null,null,null,null,null,null,null,null,null,54058,95894423.819999993,null,95894423.819999993,141035,95753388.819999993]
[null,"426/4/6/19","2024-04-24",null,null,null,null,null,null,2310,null,null,0,null,null,null,null,null,null,null,null,2310,95753388.819999993,null,95753388.819999993,125323,95628065.819999993]
[null,"436/11/6/19","2024-04-25",null,null,null,null,null,null,2500,null,null,null,null,null,null,null,null,null,null,null,2500,95628065.819999993,null,95628065.819999993,602165,95025900.819999993]
[null,"434/10/6/19","2024-04-26",null,null,319969,null,null,null,null,null,null,null,null,null,null,null,null,null,null,null,319969,95025900.819999993,null,95025900.819999993,9870,95016030.819999993]
[null,"439/12/6/19","2024-04-27",null,null,10904,null,null,null,null,null,null,null,null,null,null,null,null,null,null,null,10904,95016030.819999993,null,95016030.819999993,11340,95004690.819999993]
[null,"431/10/6/19","2024-04-28",null,null,6774,null,null,null,null,null,null,null,null,null,null,null,null,null,null,null,6774,95004690.819999993,null,95004690.819999993,33488,94971202.819999993]
[null,"427/10/6/19","2024-04-29",null,null,1968857,null,null,null,null,null,null,null,null,null,null,null,null,null,null,null,1968857,94971202.819999993,null,94971202.819999993,58934,94912268.819999993]
[null,"428/10/6/19","2024-04-30",null,null,9813,null,null,null,null,null,null,null,null,null,null,null,null,null,null,null,9813,94912268.819999993,1158552,96070820.819999993,33823,96036997.819999993]
[null,null,"2024-05-01"," VETAN director 1099",25000000]
[null,"443/17/6/19","2024-05-02",null,null,17990,null,null,null,null,null,null,null,null,null,null,null,null,null,null,null,17990,{"$f":"AA35","v":96036997.819999993},2500000,98536997.819999993,760765,97776232.819999993]
[null,"429/10/6/19","2024-05-03",null,null,7243,null,null,null,null,null,null,null,null,null,null,null,null,null,null,null,7243,97776232.819999993,null,97776232.819999993,3709709,94066523.819999993]
[null,"423/1/6/19","2024-05-04",null,null,33800,null,null,null,null,null,null,null,null,null,null,null,null,null,null,null,33800,94066523.819999993,null,94066523.819999993,145868,93920655.819999993]
[null,null,"2024-05-05",null,null,33800,null,null,null,null,null,null,null,null,null,null,null,null,null,null,null,33800,93920655.819999993,null,93920655.819999993,379667,93540988.819999993]
[null,"414/11/5/19","2024-05-06",null,null,33800,null,null,null,null,null,null,null,null,null,null,null,null,null,null,null,33800,93540988.819999993,null,93540988.819999993,15750,93525238.819999993]
[null,"425/3/6/19","2024-05-07",null,null,33800,null,null,null,null,null,null,null,null,null,null,null,null,null,null,null,33800,93525238.819999993,null,93525238.819999993,179100,93346138.819999993]
[null,"424/1/6/19","2024-05-08",null,null,70215,null,null,null,null,null,null,null,null,null,null,null,null,null,null,null,70215,93346138.819999993,null,93346138.819999993,95144,93250994.819999993]
[null,"440/12/6/19","2024-05-09",null,null,11940,null,null,null,null,null,null,null,null,null,null,null,null,null,null,null,11940,93250994.819999993,null,93250994.819999993,47572,93203422.819999993]
[null,"444/17/6/19","2024-05-10",null,null,11940,null,null,null,null,null,null,null,null,null,null,null,null,null,null,null,11940,93203422.819999993,null,93203422.819999993,679974,92523448.819999993]
[null,"445/20/6/19","2024-05-11",null,null,11940,null,null,null,null,null,null,null,null,null,null,null,null,null,null,null,11940,92523448.819999993,null,92523448.819999993,48761,92474687.819999993]
[null,"446/20/6/19","2024-05-12",null,null,47570,null,null,null,null,null,null,null,null,null,null,null,null,null,null,null,47570,92474687.819999993,null,92474687.819999993,48761,92425926.819999993]
[null,"438/12/6/19","2024-05-13",null,null,16900,null,null,null,null,null,null,null,null,null,null,null,null,null,null,null,16900,92425926.819999993,null,92425926.819999993,48761,92377165.819999993]
[null,"433/10/6/19","2024-05-14",null,null,16900,null,null,null,null,null,null,null,null,null,null,null,null,null,null,null,16900,92377165.819999993,null,92377165.819999993,188607,92188558.819999993]
[null,"435/12/6/19","2024-05-15",null,null,33800,null,null,null,null,null,null,null,null,null,null,null,null,null,null,null,33800,92188558.819999993,null,92188558.819999993,62500,92126058.819999993]
[null,"447/8/7/19","2024-05-16",null,null,33800,null,null,null,null,null,null,null,null,null,null,null,null,null,null,null,33800,92126058.819999993,null,92126058.819999993,84101,92041957.819999993]
[null,"432/10/6/19","2024-05-17",null,null,33800,null,null,null,null,null,null,null,null,null,null,null,null,null,null,null,33800,92041957.819999993,null,92041957.819999993,1157552,90884405.819999993]
[null,"448/8/7/19","2024-05-18",null,null,33800,null,null,null,null,null,null,null,null,null,null,null,null,null,null,null,33800,90884405.819999993,null,90884405.819999993,635400,90249005.819999993]
[null,"449/9/7/19","2024-05-19",null,null,33800,null,null,null,null,null,null,null,null,null,null,null,null,null,null,null,33800,90249005.819999993,null,90249005.819999993,184743,90064262.819999993]
[null,null,"2024-05-20",null,null,33800,null,null,null,null,null,null,null,null,null,null,null,null,null,null,null,33800,90064262.819999993,null,90064262.819999993,179100,89885162.819999993]
[null,"450/12/7/19","2024-05-21",null,null,436843,null,null,null,null,null,null,null,null,null,null,null,null,null,null,null,436843,89885162.819999993,null,89885162.819999993,139420,89745742.819999993]
[null,"464/27/7/19","2024-05-22",null,null,4457,null,null,null,null,null,null,null,null,null,null,null,null,null,null,null,4457,89745742.819999993,null,89745742.819999993,3390187,86355555.819999993]
[null,"462/19/7/19","2024-05-23",null,null,20758,null,null,null,null,null,null,null,null,null,null,null,null,null,null,null,20758,86355555.819999993,null,86355555.819999993,1016432,85339123.819999993]
[null,"468/25/7/19","2024-05-24",null,null,27300,null,null,null,null,null,null,null,null,null,null,null,null,null,null,null,27300,85339123.819999993,null,85339123.819999993,492231,84846892.819999993]
[null,null,"2024-05-25",null,null,194488,null,null,null,null,null,null,null,null,null,null,null,null,null,null,null,194488,84846892.819999993,null,84846892.819999993,209186,84637706.819999993]
[null,null,"2024-05-26",null,null,10400,null,null,null,null,null,null,null,null,null,null,null,null,null,null,null,10400,84637706.819999993,null,84637706.819999993,10494,84627212.819999993]
[null,null,"2024-05-27",null,null,10400,null,null,null,null,null,null,null,null,null,null,null,null,null,null,null,10400,84627212.819999993,null,84627212.819999993,62771,84564441.819999993]
[null,null,"2024-05-28",null,null,10400,null,null,null,null,null,null,null,null,null,null,null,null,null,null,null,10400,84564441.819999993,null,84564441.819999993,48448,84515993.819999993]
[null,null,"2024-05-29",null,null,10400,null,null,null,null,null,null,null,null,null,null,null,null,null,null,null,10400,84515993.819999993,null,84515993.819999993,418453,84097540.819999993]
[null,null,"2024-05-30",null,null,10609,null,null,null,null,null,null,null,null,null,null,null,null,null,null,null,10609,84097540.819999993,10000000,94097540.819999993,6818,94090722.819999993]
[null,null,"2024-05-31",null,null,20322,null,null,null,null,null,null,null,null,null,null,null,null,null,null,null,20322,94090722.819999993,200000,94290722.819999993,0,94290722.819999993]
[null,null,"2024-06-01",null,null,4829,null,null,null,null,null,null,null,null,null,null,null,null,null,null,null,4829,94290722.819999993,null,94290722.819999993,83200,94207522.819999993]
[null,null,"2024-06-02",null,null,15216,null,null,null,null,null,null,null,null,null,null,null,null,null,null,null,15216,{"$f":"AA67","v":94207522.819999993},null,94207522.819999993,7606,94199916.819999993]
[null,null,"2024-06-03",null,null,20800,null,null,null,null,null,null,null,null,null,null,null,null,null,null,null,20800,{"$f":"AA68","v":94199916.819999993},null,94199916.819999993,33488,94166428.819999993]
[null,null,"2024-06-04",null,null,16900,null,null,null,null,null,null,null,null,null,null,null,null,null,null,null,16900,94166428.819999993,null,94166428.819999993,96351,94070077.819999993]
[null,null,"2024-06-05",null,null,44943,null,null,null,null,null,null,null,null,null,null,null,null,null,null,null,44943,94070077.819999993,null,94070077.819999993,67392,94002685.819999993]
[null,null,"2024-06-06",null,null,54600,null,null,null,null,null,null,null,null,null,null,null,null,null,null,null,{"$f":"SUM(F72:U72)","v":54600},94002685.819999993,null,null,179100,-179100]
[null,null,"2024-06-07",null,null,122701,null,null,null,null,null,null,null,null,null,null,null,null,null,null,null,122701,-179100,null,null,null,0]
[null,null,"2024-06-08",null,null,21891,null,null,null,null,null,null,null,null,null,null,null,null,null,null,null,21891,0,null,null,null,0]
[null,null,"2024-06-09",null,null,312193,null,null,null,null,null,null,null,null,null,null,null,null,null,null,null,312193,0,null,null,null,0]
[null,null,"2024-06-10",null,null,27300,null,null,null,null,null,null,null,null,null,null,null,null,null,null,null,27300,0,null,null,null,0]
[null,null,"2024-06-11",null,null,27300,null,null,null,null,null,null,null,null,null,null,null,null,null,null,null,27300,0,null,null,null,0]
[null,null,"2024-06-12",null,null,27300,null,null,null,null,null,null,null,null,null,null,null,null,null,null,null,27300,0,null,null,null,0]
[null,null,"2024-06-13",null,null,27300,null,null,null,null,null,null,null,null,null,null,null,null,null,null,null,27300,0,null,null,null,0]
[null,null,"2024-06-14",null,null,16732,null,null,null,null,null,null,null,null,null,null,null,null,null,null,null,16732,0,null,null,null,0]
[null,null,"2024-06-15",null,null,22268,null,null,null,null,null,null,null,null,null,null,null,null,null,null,null,22268,0,null,null,null,0]
[null,null,"2024-06-16",null,null,27300,null,null,null,null,null,null,null,null,null,null,null,null,null,null,null,27300,0,null,null,null,0]
[null,null,"2024-06-17",null,null,27300,null,null,null,null,null,null,null,null,null,null,null,null,null,null,null,27300,0,null,null,null,0]
[null,null,"2024-06-18",null,null,27300,null,null,null,null,null,null,null,null,null,null,null,null,null,null,null,27300,0,null,null,null,0]
[null,null,"2024-06-19",null,null,20423,null,null,null,null,null,null,null,null,null,null,null,null,null,null,null,20423,0,null,null,null,0]
[null,null,"2024-06-20",null,null,27300,null,null,null,null,null,null,null,null,null,null,null,null,null,null,null,27300,0,null,null,null,0]
[null,null,"2024-06-21",null,null,27300,null,null,null,null,null,null,null,null,null,null,null,null,null,null,null,27300,0,null,null,null,0]
[null,null,"2024-06-22",null,null,27300,null,null,null,null,null,null,null,null,null,null,null,null,null,null,null,27300,0,null,null,null,0]
[null,null,"2024-06-23",null,null,27300,null,null,null,null,null,null,null,null,null,null,null,null,null,null,null,27300,0,null,null,null,0]
[null,null,"2024-06-24",null,null,16900,null,null,null,null,null,null,null,null,null,null,null,null,null,null,null,16900,0,null,null,null,0]
[null,null,"2024-06-25",null,null,16900,null,null,null,null,null,null,null,null,null,null,null,null,null,null,null,16900,0,null,null,null,0]
[null,null,"2024-06-26",null,null,16900,null,null,null,null,null,null,null,null,null,null,null,null,null,null,null,16900,0,null,null,null,0]
[null,null,"2024-06-27",null,null,16900,null,null,null,null,null,null,null,null,null,null,null,null,null,null,null,16900,0,null,null,null,0]
[null,null,"2024-06-28",null,null,10358,null,null,null,null,null,null,null,null,null,null,null,null,null,null,null,10358,0,null,null,null,0]
[null,null,"2024-06-29","samasa  vetan adpc  33953",1500000]
[null,null,"2024-06-30",null,null,20800,null,null,null,null,null,null,null,null,null,null,null,null,null,null,null,20800,{"$f":"AA94","v":0},null,null,null,0]
[null,null,"2024-07-01",null,null,20800,null,null,null,null,null,null,null,null,null,null,null,null,null,null,null,20800,0,null,null,null,0]
[null,null,"2024-07-02",null,null,20800,null,null,null,null,null,null,null,null,null,null,null,null,null,null,null,20800,0,null,null,null,0]
[null,null,"2024-07-03",null,null,20800,null,null,null,null,null,null,null,null,null,null,null,null,null,null,null,20800,0,null,null,null,0]
[null,null,"2024-07-04",null,null,11742,null,null,null,null,null,null,null,null,null,null,null,null,null,null,null,11742,0,null,null,null,0]
[null,null,"2024-07-05",null,null,4829,null,null,null,null,null,null,null,null,null,null,null,null,null,null,null,4829,0,null,null,null,0]
[null,null,"2024-07-06",null,null,6374,null,null,null,null,null,null,null,null,null,null,null,null,null,null,null,6374,0,null,null,null,0]
[null,null,"2024-07-07",null,null,16732,null,null,null,null,null,null,null,null,null,null,null,null,null,null,null,16732,0,null,null,null,0]
[null,null,"2024-07-08",null,null,11700,null,null,null,null,null,null,null,null,null,null,null,null,null,null,null,11700,0,null,null,null,0]
[null,null,"2024-07-09",null,null,16900,null,null,null,null,null,null,null,null,null,null,null,null,null,null,null,16900,0,null,null,null,0]
[null,null,"2024-07-10",null,null,16900,null,null,null,null,null,null,null,null,null,null,null,null,null,null,null,16900,0,null,null,null,0]
[null,null,"2024-07-11",null,null,16900,null,null,null,null,null,null,null,null,null,null,null,null,null,null,null,16900,0,null,null,null,0]
[null,null,"2024-07-12",null,null,16900,null,null,null,null,null,null,null,null,null,null,null,null,null,null,null,16900,0,null,null,null,0]
[null,null,"2024-07-13",null,null,9268,null,null,null,null,null,null,null,null,null,null,null,null,null,null,null,9268,0,null,null,null,0]
[null,null,"2024-07-14",null,null,9813,null,null,null,null,null,null,null,null,null,null,null,null,null,null,null,9813,0,null,null,null,0]
[null,null,"2024-07-15",null,null,85644,null,null,null,null,null,null,null,null,null,null,null,null,null,null,null,85644,0,null,null,null,0]
[null,null,"2024-07-16",null,null,33800,null,null,null,null,null,null,null,null,null,null,null,null,null,null,null,33800,0,null,null,null,0]
[null,null,"2024-07-17",null,null,33800,null,null,null,null,null,null,null,null,null,null,null,null,null,null,null,33800,0,null,null,null,0]
[null,null,"2024-07-18",null,null,31200,null,null,null,null,null,null,null,null,null,null,null,null,null,null,null,31200,0,null,null,null,0]
[null,null,"2024-07-19",null,null,16900,null,null,null,null,null,null,null,null,null,null,null,null,null,null,null,16900,0,null,null,null,0]
[null,null,"2024-07-20",null,null,27300,null,null,null,null,null,null,null,null,null,null,null,null,null,null,null,27300,0,null,null,null,0]
[null,null,"2024-07-21",null,null,20800,null,null,null,null,null,null,null,null,null,null,null,null,null,null,null,20800,0,null,null,null,0]
[null,null,"2024-07-22",null,null,27300,null,null,null,null,null,null,null,null,null,null,null,null,null,null,null,27300,0,null,null,null,0]
[null,null,"2024-07-23",null,null,16900,null,null,null,null,null,null,null,null,null,null,null,null,null,null,null,16900,0,null,null,null,0]
[null,null,"2024-07-24",null,null,61100,null,null,null,null,null,null,null,null,null,null,null,null,null,null,null,61100,0,null,null,null,0]
[null,null,"2024-07-25",null,null,9268,null,null,null,null,null,null,null,null,null,null,null,null,null,null,null,9268,0,null,null,null,0]
[null,null,"2024-07-26",null,null,31200,null,null,null,null,null,null,null,null,null,null,null,null,null,null,null,31200,0,null,null,null,0]
[null,null,"2024-07-27",null,null,31200,null,null,null,null,null,null,null,null,null,null,null,null,null,null,null,31200,0,null,null,null,0]
[null,null,"2024-07-28",null,null,31200,null,null,null,null,null,null,null,null,null,null,null,null,null,null,null,31200,0,null,null,null,0]
[null,null,"2024-07-29",null,null,18787,null,null,null,null,null,null,null,null,null,null,null,null,null,null,null,18787,0,null,null,null,0]
[null,null,"2024-07-30",null,null,16900,null,null,null,null,null,null,null,null,null,null,null,null,null,null,null,16900,0,null,null,null,0]
[null,null,"2024-07-31",null,null,16900,null,null,null,null,null,null,null,null,null,null,null,null,null,null,null,16900,0,null,null,null,0]
[null,null,"2024-08-01",null,null,16900,null,null,null,null,null,null,null,null,null,null,null,null,null,null,null,16900,0,null,null,null,0]
[null,null,"2024-08-02",null,null,16900,null,null,null,null,null,null,null,null,null,null,null,null,null,null,null,16900,0,null,null,null,0]
[null,null,"2024-08-03",null,null,22471,null,null,null,null,null,null,null,null,null,null,null,null,null,null,null,22471,0,null,null,null,0]
[null,null,"2024-08-04",null,null,27300,null,null,null,null,null,null,null,null,null,null,null,null,null,null,null,27300,0,null,null,null,0]
[null,null,"2024-08-05",null,null,8177,null,null,null,null,null,null,null,null,null,null,null,null,null,null,null,8177,0,null,null,null,0]
[null,null,"2024-08-06",null,null,20800,null,null,null,null,null,null,null,null,null,null,null,null,null,null,null,20800,0,null,null,null,0]
[null,null,"2024-08-07",null,null,27300,null,null,null,null,null,null,null,null,null,null,null,null,null,null,null,27300,{"$f":"AA133","v":0},null,null,null,0]
[null,null,"2024-08-08",null,null,16900,null,null,null,null,null,null,null,null,null,null,null,null,null,null,null,16900,0,null,null,null,0]
[null,null,"2024-08-09",null,null,16900,null,null,null,null,null,null,null,null,null,null,null,null,null,null,null,16900,0,null,null,null,0]
[null,null,"2024-08-10",null,null,16900,null,null,null,null,null,null,null,null,null,null,null,null,null,null,null,{"$f":"SUM(F137:U137)","v":16900},0,null,null,null,0]
[null,null,"2024-08-11",null,null,9813,null,null,null,null,null,null,null,null,null,null,null,null,null,null,null,9813,0,null,null,null,0]
[null,null,"2024-08-12",null,null,29439,null,null,null,null,null,null,null,null,null,null,null,null,null,null,null,29439,0]
[null,null,"2024-08-13",null,null,50700,null,null,null,null,null,null,null,null,null,null,null,null,null,null,null,50700,0]
[null,null,"2024-08-14",null,null,53300,null,null,null,null,null,null,null,null,null,null,null,null,null,null,null,53300,0]
[null,null,"2024-08-15",null,null,61100,null,null,null,null,null,null,null,null,null,null,null,null,null,null,null,61100,0]
[null,null,"2024-08-16",null,null,10400,null,null,null,null,null,null,null,null,null,null,null,null,null,null,null,10400,0]
[null,null,"2024-08-17",null,null,10400,null,null,null,null,null,null,null,null,null,null,null,null,null,null,null,10400,0]
[null,null,"2024-08-18",null,null,16900,null,null,null,null,null,null,null,null,null,null,null,null,null,null,null,16900,0]
[null,null,"2024-08-19",null,null,16900,null,null,null,null,null,null,null,null,null,null,null,null,null,null,null,16900,0]
[null,null,"2024-08-20",null,null,33800,null,null,null,null,null,null,null,null,null,null,null,null,null,null,null,33800,0]
[null,null,"2024-08-21",null,null,16900,null,null,null,null,null,null,null,null,null,null,null,null,null,null,null,16900,0]
[null,null,"2024-08-22",null,null,24746,null,null,null,null,null,null,null,null,null,null,null,null,null,null,null,24746,0]
[null,null,"2024-08-23",null,null,33800,null,null,null,null,null,null,null,null,null,null,null,null,null,null,null,33800,0]
[null,null,"2024-08-24",null,null,205209,null,null,null,null,null,null,null,null,null,null,null,null,null,null,null,205209,0]
[null,null,"2024-08-25",null,null,54058,null,null,null,null,null,null,null,null,null,null,null,null,null,null,null,54058,0]
[null,null,"2024-08-26",null,null,467487,null,null,null,null,null,null,null,null,null,null,null,null,null,null,null,467487,0]
[null,null,"2024-08-27",null,null,202980,null,null,null,null,null,null,null,null,null,null,null,null,null,null,null,202980,0]
[null,null,"2024-08-28",null,null,null,null,null,null,null,null,null,null,null,null,null,null,null,null,null,185243,185243,0]
[null,null,"2024-08-29",null,null,1152766,null,null,null,null,null,null,null,null,null,null,null,null,null,null,null,1152766,0]
[null,null,"2024-08-30",null,null,1250441,null,null,null,null,null,null,null,null,null,null,null,null,null,null,null,1250441,0]
[0,null,"2024-08-31",null,null,122958,null,null,null,null,null,null,null,null,null,null,null,null,null,null,null,122958,0]
[null,null,"2024-09-01",null,null,169844,null,null,null,null,null,null,null,null,null,null,null,null,null,null,null,169844,0]
[null,null,"2024-09-02",null,null,486161,null,null,null,null,null,null,null,null,null,null,null,null,null,null,null,486161,0]
[null,null,"2024-09-03",null,null,445745,null,null,null,null,null,null,null,null,null,null,null,null,null,null,null,445745,0]
[null,null,"2024-09-04",null,null,16900,null,null,null,null,null,null,null,null,null,null,null,null,null,null,null,16900,0]
[null,null,"2024-09-05",null,null,10400,null,null,null,null,null,null,null,null,null,null,null,null,null,null,null,10400,0]
[null,null,"2024-09-06",null,null,20800,null,null,null,null,null,null,null,null,null,null,null,null,null,null,null,20800,0]
[null,null,"2024-09-07",null,null,20800,null,null,null,null,null,null,null,null,null,null,null,null,null,null,null,20800,0]
[null,null,"2024-09-08",null,null,10400,null,null,null,null,null,null,null,null,null,null,null,null,null,null,null,10400,0]
[null,null,"2024-09-09",null,null,null,null,null,null,9420,null,null,null,null,null,null,null,null,null,null,null,9420,0]
[null,null,"2024-09-10",null,null,10400,null,null,null,null,null,null,null,null,null,null,null,null,null,null,null,10400,0]
[null,null,"2024-09-11",null,null,4829,null,null,null,null,null,null,null,null,null,null,null,null,null,null,null,4829,0]
[null,null,"2024-09-12",null,null,4026,null,null,null,null,null,null,null,null,null,null,null,null,null,null,null,4026,0]
[null,null,"2024-09-13",null,null,117605,null,null,null,null,null,null,null,null,null,null,null,null,null,null,null,117605,0]
[null,null,"2024-09-14",null,null,439992,null,null,null,null,null,null,null,null,null,null,null,null,null,null,null,439992,0]
[null,null,"2024-09-15",null,null,5368,null,null,null,null,null,null,null,null,null,null,null,null,null,null,null,5368,0]
[null,null,"2024-09-16",null,null,71426,null,null,null,null,null,null,null,null,null,null,null,null,null,null,null,71426,0]
[null,null,"2024-09-17",null,null,27300,null,null,null,null,null,null,null,null,null,null,null,null,null,null,null,27300,0]
[null,null,"2024-09-18",null,null,10400,null,null,null,null,null,null,null,null,null,null,null,null,null,null,null,10400,0]
[null,null,"2024-09-19",null,null,10400,null,null,null,null,null,null,null,null,null,null,null,null,null,null,null,10400,0]
[null,null,"2024-09-20",null,null,10400,null,null,null,null,null,null,null,null,null,null,null,null,null,null,null,10400,0]
[null,null,"2024-09-21",null,null,10400,null,null,null,null,null,null,null,null,null,null,null,null,null,null,null,10400,0]
[null,null,"2024-09-22",null,null,10400,null,null,null,null,null,null,null,null,null,null,null,null,null,null,null,10400,0]
[null,null,"2024-09-23",null,null,61100,null,null,null,null,null,null,null,null,null,null,null,null,null,null,null,61100,0]
[null,null,"2024-09-24",null,null,27300,null,null,null,null,null,null,null,null,null,null,null,null,null,null,null,27300,0]
[null,null,"2024-09-25",null,null,54058,null,null,null,null,null,null,null,null,null,null,null,null,null,null,null,54058,0]
[null,null,"2024-09-26",null,null,399985,null,null,null,null,null,null,null,null,null,null,null,null,null,null,null,399985,0]
[null,null,"2024-09-27",null,null,null,null,null,null,null,null,null,null,null,null,null,null,null,null,null,31100,31100,0]
[null,null,"2024-09-28",null,null,null,null,null,null,null,null,null,null,null,null,null,null,null,null,null,7216,7216,0]
[null,null,"2024-09-29",null,null,null,null,null,null,null,null,null,null,null,null,null,null,null,null,null,73380,73380,0]
[null,null,"2024-09-30",null,null,27300,null,null,null,null,null,null,null,null,null,null,null,null,null,null,null,27300,0]
[null,null,"2024-10-01",null,null,27300,null,null,null,null,null,null,null,null,null,null,null,null,null,null,null,27300,0]
[null,null,"2024-10-02",null,null,27300,null,null,null,null,null,null,null,null,null,null,null,null,null,null,null,27300,0]
[null,null,"2024-10-03",null,null,10400,null,null,null,null,null,null,null,null,null,null,null,null,null,null,null,10400,0]
[null,null,"2024-10-04",null,null,27300,null,null,null,null,null,null,null,null,null,null,null,null,null,null,null,27300,0]
[null,null,"2024-10-05",null,null,66297,null,null,null,null,null,null,null,null,null,null,null,null,null,null,null,66297,0]
[null,null,"2024-10-06",null,null,5452,null,null,null,null,null,null,null,null,null,null,null,null,null,null,null,5452,0]
[null,null,"2024-10-07",null,null,68101,null,null,null,null,null,null,null,null,null,null,null,null,null,null,null,68101,0]
[null,null,"2024-10-08",null,null,33800,null,null,null,null,null,null,null,null,null,null,null,null,null,null,null,33800,0]
[null,null,"2024-10-09",null,null,33800,null,null,null,null,null,null,null,null,null,null,null,null,null,null,null,33800,0]
[null,null,"2024-10-10",null,null,33800,null,null,null,null,null,null,null,null,null,null,null,null,null,null,null,33800,{"$f":"AA197","v":0}]
[null,null,"2024-10-11",null,null,33800,null,null,null,null,null,null,null,null,null,null,null,null,null,null,null,33800,0]
[null,null,"2024-10-12",null,null,33800,null,null,null,null,null,null,null,null,null,null,null,null,null,null,null,33800,0]
[null,null,"2024-10-13",null,null,13084,null,null,null,null,null,null,null,null,null,null,null,null,null,null,null,{"$f":"SUM(F201:U201)","v":13084},0]
[null,null,"2024-10-14",null,null,637850,null,null,null,null,null,null,null,null,null,null,null,null,null,null,null,637850,0]
[null,null,"2024-10-15",null,null,33800,null,null,null,null,null,null,null,null,null,null,null,null,null,null,null,33800,0]
[null,null,"2024-10-16",null,null,33800,null,null,null,null,null,null,null,null,null,null,null,null,null,null,null,33800,0]
[null,null,"2024-10-17",null,null,33800,null,null,null,null,null,null,null,null,null,null,null,null,null,null,null,33800,0]
[null,null,"2024-10-18",null,null,33800,null,null,null,null,null,null,null,null,null,null,null,null,null,null,null,33800,0]
[null,null,"2024-10-19",null,null,67600,null,null,null,null,null,null,null,null,null,null,null,null,null,null,null,67600,0]
[null,null,"2024-10-20",null,null,17446,null,null,null,null,null,null,null,null,null,null,null,null,null,null,null,17446,0]
[null,null,"2024-10-21",null,null,10400,null,null,null,null,null,null,null,null,null,null,null,null,null,null,null,10400,0]
[null,null,"2024-10-22",null,null,4026,null,null,null,null,null,null,null,null,null,null,null,null,null,null,null,4026,0]
[null,null,"2024-10-23","GRAMIN OLMPIK adpc   33953",575001]
[null,null,"2024-10-24",null,null,10400,null,null,null,null,null,null,null,null,null,null,null,null,null,null,null,10400,{"$f":"AA210","v":0}]
[null,null,"2024-10-25",null,null,10400,null,null,null,null,null,null,null,null,null,null,null,null,null,null,null,10400,0]
[null,null,"2024-10-26",null,null,16900,null,null,null,null,null,null,null,null,null,null,null,null,null,null,null,16900,0]
[null,null,"2024-10-27",null,null,10400,null,null,null,null,null,null,null,null,null,null,null,null,null,null,null,10400,0]
[null,null,"2024-10-28","1569 shikshakarmi mandey deo",103536]
[null,null,"2024-10-29",null,null,null,null,null,null,null,null,null,null,null,null,null,null,null,null,247400,null,247400,{"$f":"AA215","v":0}]
[null,null,"2024-10-30",null,null,16900,null,null,null,null,null,null,null,null,null,null,null,null,null,null,null,16900,0]
[null,null,"2024-10-31",null,null,16900,null,null,null,null,null,null,null,null,null,null,null,null,null,null,null,16900,0]
[null,null,"2024-11-01",null,null,16900,null,null,null,null,null,null,null,null,null,null,null,null,null,null,null,16900,0]
[null,null,"2024-11-02",null,null,16900,null,null,null,null,null,null,null,null,null,null,null,null,null,null,null,16900,0]
[null,null,"2024-11-03",null,null,10400,null,null,null,null,null,null,null,null,null,null,null,null,null,null,null,10400,0]
[null,null,"2024-11-04",null,null,17446,null,null,null,null,null,null,null,null,null,null,null,null,null,null,null,17446,0]
[null,null,"2024-11-05",null,null,54058,null,null,null,null,null,null,null,null,null,null,null,null,null,null,null,54058,0]
[null,null,"2024-11-06",null,null,54058,null,null,null,null,null,null,null,null,null,null,null,null,null,null,null,54058,0]
[null,null,"2024-11-07",null,null,205209,null,null,null,null,null,null,null,null,null,null,null,null,null,null,null,205209,0]
[null,null,"2024-11-08",null,null,10400,null,null,null,null,null,null,null,null,null,null,null,null,null,null,null,10400,0]
[null,null,"2024-11-09",null,null,399985,null,null,null,null,null,null,null,null,null,null,null,null,null,null,null,399985,0]
[null,null,"2024-11-10",null,null,316647,null,null,null,null,null,null,null,null,null,null,null,null,null,null,null,316647,0]
[null,null,"2024-11-11",null,null,null,null,null,null,null,null,null,null,null,null,null,null,null,null,null,104480,104480,0]
[null,null,"2024-11-12",null,null,23880,null,null,null,null,null,null,null,null,null,null,null,null,null,null,null,23880,0]
[null,null,"2024-11-13",null,null,null,null,null,null,null,null,null,null,null,null,null,null,null,null,null,185243,185243,0]
[null,null,"2024-11-14",null,null,252200,null,null,null,null,null,null,null,null,null,null,null,null,null,null,null,252200,0]
[null,null,"2024-11-15",null,null,1331769,null,null,null,null,null,null,null,null,null,null,null,null,null,null,null,1331769,{"$f":"AA71","v":94002685.819999993},null,94002685.819999993,0,94002685.819999993]
[null,null,"2024-11-16",null,null,1437538,null,null,null,null,null,null,null,null,null,null,null,null,null,null,null,1437538]
[null,null,"2024-11-17",null,null,529313,null,null,null,null,null,null,null,null,null,null,null,null,null,null,null,529313]
[null,null,"2024-11-18",null,null,91343,null,null,null,null,null,null,null,null,null,null,null,null,null,null,null,91343]
[null,null,"2024-11-19",null,null,593669,null,null,null,null,null,null,null,null,null,null,null,null,null,null,null,593669]
[null,null,"2024-11-20",null,null,16900,null,null,null,null,null,null,null,null,null,null,null,null,null,null,null,16900]
[null,null,"2024-11-21"," SAMSA sallary adpc   33953",2500000]
[null,null,"2024-11-22",null,null,74858,null,null,null,null,null,null,null,null,null,null,null,null,null,null,null,74858]
[null,null,"2024-11-23",null,null,87858,null,null,null,null,null,null,null,null,null,null,null,null,null,null,null,87858]
[null,null,"2024-11-24",null,null,474604,null,null,null,null,null,null,null,null,null,null,null,null,null,null,null,474604]
[null,null,"2024-11-25",null,null,16900,null,null,null,null,null,null,null,null,null,null,null,null,null,null,null,16900]
[null,null,"2024-11-26",null,null,16900,null,null,null,null,null,null,null,null,null,null,null,null,null,null,null,16900]
[null,null,"2024-11-27",null,null,4457,null,null,null,null,null,null,null,null,null,null,null,null,null,null,null,4457]
[null,null,"2024-11-28",null,null,5368,null,null,null,null,null,null,null,null,null,null,null,null,null,null,null,5368]
[null,null,"2024-11-29",null,null,10400,null,null,null,null,null,null,null,null,null,null,null,null,null,null,null,10400]
[null,null,"2024-11-30",null,null,10400,null,null,null,null,null,null,null,null,null,null,null,null,null,null,null,10400]
[null,null,"2024-12-01",null,null,20800,null,null,null,null,null,null,null,null,null,null,null,null,null,null,null,20800]
[null,null,"2024-12-02",null,null,20800,null,null,null,null,null,null,null,null,null,null,null,null,null,null,null,20800]
[null,null,"2024-12-03",null,null,20800,null,null,null,null,null,null,null,null,null,null,null,null,null,null,null,20800]
[null,null,"2024-12-04",null,null,37700,null,null,null,null,null,null,null,null,null,null,null,null,null,null,null,37700]
[null,null,"2024-12-05",null,null,16900,null,null,null,null,null,null,null,null,null,null,null,null,null,null,null,16900]
[null,null,"2024-12-06",null,null,3018,null,null,null,null,null,null,null,null,null,null,null,null,null,null,null,3018]
[null,null,"2024-12-07","YUVA MAHOTSV  adpc 33953",200000]
[null,null,"2024-12-08",null,null,5452,null,null,null,null,null,null,null,null,null,null,null,null,null,null,null,5452]
[null,null,"2024-12-09",null,null,16900,null,null,null,null,null,null,null,null,null,null,null,null,null,null,null,16900]
[null,null,"2024-12-10",null,null,16900,null,null,null,null,null,null,null,null,null,null,null,null,null,null,null,16900]
[null,null,"2024-12-11",null,null,16900,null,null,null,null,null,null,null,null,null,null,null,null,null,null,null,16900]
[null,null,"2024-12-12",null,null,16900,null,null,null,null,null,null,null,null,null,null,null,null,null,null,null,16900]
[null,null,"2024-12-13",null,null,16900,null,null,null,null,null,null,null,null,null,null,null,null,null,null,null,16900]
[null,null,"2024-12-14",null,null,16900,null,null,null,null,null,null,null,null,null,null,null,null,null,null,null,16900]
[null,null,"2024-12-15",null,null,44200,null,null,null,null,null,null,null,null,null,null,null,null,null,null,null,44200]
[null,null,"2024-12-16",null,null,33800,null,null,null,null,null,null,null,null,null,null,null,null,null,null,null,33800]
[null,null,"2024-12-17",null,null,33800,null,null,null,null,null,null,null,null,null,null,null,null,null,null,null,33800]
[null,null,"2024-12-18",null,null,33800,null,null,null,null,null,null,null,null,null,null,null,null,null,null,null,33800]
[null,null,"2024-12-19",null,null,33800,null,null,null,null,null,null,null,null,null,null,null,null,null,null,null,33800]
[null,null,"2024-12-20",null,null,33800,null,null,null,null,null,null,null,null,null,null,null,null,null,null,null,{"$f":"SUM(F269:U269)","v":33800}]
[null,null,"2024-12-21","1099 sallary director",25000000]
[null,null,"2024-12-22",null,null,4285,null,null,null,null,null,null,null,null,null,null,null,null,null,null,null,4285]
[null,null,"2024-12-23",null,null,3019,null,null,null,null,null,null,null,null,null,null,null,null,null,null,null,3019]
[null,null,"2024-12-24",null,null,28840,null,null,null,null,null,null,null,null,null,null,null,null,null,null,null,28840]
[null,null,"2024-12-25","1099 chalan palana jamana",107663]
[null,null,"2024-12-26",null,null,8387,null,null,null,null,null,null,null,null,null,null,null,null,null,null,null,8387]
[null,null,"2024-12-27",null,null,15810,null,null,null,null,null,null,null,null,null,null,null,null,null,null,null,15810]
[null,null,"2024-12-28",null,null,68101,null,null,null,null,null,null,null,null,null,null,null,null,null,null,null,68101]
[null,null,"2024-12-29",null,null,140193,null,null,null,null,null,null,null,null,null,null,null,null,null,null,null,140193]
[null,null,"2024-12-30",null,null,43716,null,null,null,null,null,null,null,null,null,null,null,null,null,null,null,43716]
[null,null,"2024-12-31",null,null,42774,null,null,null,null,null,null,null,null,null,null,null,null,null,null,null,42774]
[null,null,"2025-01-01",null,null,149800,null,null,null,null,null,null,null,null,null,null,null,null,null,null,null,149800]
[null,null,"2025-01-02",null,null,23880,null,null,null,null,null,null,null,null,null,null,null,null,null,null,null,23880]
[null,null,"2025-01-03",null,null,185243,null,null,null,null,null,null,null,null,null,null,null,null,null,null,null,185243]
[null,null,"2025-01-04",null,null,781732,null,null,null,null,null,null,null,null,null,null,null,null,null,null,null,781732]
[null,null,"2025-01-05",null,null,1375404,null,null,null,null,null,null,null,null,null,null,null,null,null,null,null,1375404]
[null,null,"2025-01-06",null,null,668531,null,null,null,null,null,null,null,null,null,null,null,null,null,null,null,668531]
[null,null,"2025-01-07",null,null,126355,null,null,null,null,null,null,null,null,null,null,null,null,null,null,null,126355]
[null,null,"2025-01-08",null,null,1122730,null,null,null,null,null,null,null,null,null,null,null,null,null,null,null,1122730]
[null,null,"2025-01-09",null,null,503968,null,null,null,null,null,null,null,null,null,null,null,null,null,null,null,503968]
[null,null,"2025-01-10",null,null,70215,null,null,null,null,null,null,null,null,null,null,null,null,null,null,null,70215]
[null,null,"2025-01-11",null,null,122448,null,null,null,null,null,null,null,null,null,null,null,null,null,null,null,122448]
[null,null,"2025-01-12",null,null,27300,null,null,null,null,null,null,null,null,null,null,null,null,null,null,null,27300]
[null,null,"2025-01-13",null,null,514148,null,null,null,null,null,null,null,null,null,null,null,null,null,null,null,514148]
[null,null,"2025-01-14",null,null,27300,null,null,null,null,null,null,null,null,null,null,null,null,null,null,null,27300]
[null,null,"2025-01-15",null,null,27300,null,null,null,null,null,null,null,null,null,null,null,null,null,null,null,27300]
[null,null,"2025-01-16",null,null,27300,null,null,null,null,null,null,null,null,null,null,null,null,null,null,null,27300]
[null,null,"2025-01-17",null,null,27300,null,null,null,null,null,null,null,null,null,null,null,null,null,null,null,27300]
[null,null,"2025-01-18",null,null,27300,null,null,null,null,null,null,null,null,null,null,null,null,null,null,null,27300]
[null,null,"2025-01-19",null,null,167157,null,null,null,null,null,null,null,null,null,null,null,null,null,null,null,167157]
[null,null,"2025-01-20",null,null,167157,null,null,null,null,null,null,null,null,null,null,null,null,null,null,null,167157]
[null,null,"2025-01-21",null,null,27300,null,null,null,null,null,null,null,null,null,null,null,null,null,null,null,27300]
[null,null,"2025-01-22",null,null,27300,null,null,null,null,null,null,null,null,null,null,null,null,null,null,null,27300]
[null,null,"2025-01-23",null,null,10400,null,null,null,null,null,null,null,null,null,null,null,null,null,null,null,10400]
[null,null,"2025-01-24",null,null,null,null,null,null,2646,null,null,null,null,null,null,null,null,null,null,null,2646]
[null,null,"2025-01-25",null,null,null,null,null,null,2080,null,null,null,null,null,null,null,null,null,null,null,2080]
[null,null,"2025-01-26",null,null,14083,null,null,null,null,null,null,null,null,null,null,null,null,null,null,null,14083]
[null,null,"2025-01-27",null,null,1635,null,null,null,null,null,null,null,null,null,null,null,null,null,null,null,1635]
[null,null,"2025-01-28",null,null,10400,null,null,null,null,null,null,null,null,null,null,null,null,null,null,null,10400]
[null,null,"2025-01-29",null,null,16732,null,null,null,null,null,null,null,null,null,null,null,null,null,null,null,16732]
[null,null,"2025-01-30",null,null,16900,null,null,null,null,null,null,null,null,null,null,null,null,null,null,null,16900]
[null,null,"2025-01-31",null,null,16900,null,null,null,null,null,null,null,null,null,null,null,null,null,null,null,16900]
[null,null,"2025-02-01",null,null,25287,null,null,null,null,null,null,null,null,null,null,null,null,null,null,null,25287]
[null,null,"2025-02-02",null,null,44200,null,null,null,null,null,null,null,null,null,null,null,null,null,null,null,44200]
[null,null,"2025-02-03",null,null,16900,null,null,null,null,null,null,null,null,null,null,null,null,null,null,null,16900]
[null,null,"2025-02-04",null,null,50700,null,null,null,null,null,null,null,null,null,null,null,null,null,null,null,50700]
[null,null,"2025-02-05",null,null,9286,null,null,null,null,null,null,null,null,null,null,null,null,null,null,null,9286]
[null,null,"2025-02-06",null,null,8052,null,null,null,null,null,null,null,null,null,null,null,null,null,null,null,8052]
[null,null,"2025-02-07",null,null,172140,null,null,null,null,null,null,null,null,null,null,null,null,null,null,null,172140]
[null,null,"2025-02-08",null,null,15983,null,null,null,null,null,null,null,null,null,null,null,null,null,null,null,15983]
[null,null,"2025-02-09",null,null,25350,null,null,null,null,null,null,null,null,null,null,null,null,null,null,null,25350]
[null,null,"2025-02-10",null,null,25623,null,null,null,null,null,null,null,null,null,null,null,null,null,null,null,25623]
[null,null,"2025-02-11",null,null,27300,null,null,null,null,null,null,null,null,null,null,null,null,null,null,null,27300]
[null,null,"2025-02-12",null,null,16900,null,null,null,null,null,null,null,null,null,null,null,null,null,null,null,16900]
[null,null,"2025-02-13",null,null,16900,null,null,null,null,null,null,null,null,null,null,null,null,null,null,null,16900]
[null,null,"2025-02-14",null,null,16900,null,null,null,null,null,null,null,null,null,null,null,null,null,null,null,16900]
[null,null,"2025-02-15",null,null,16900,null,null,null,null,null,null,null,null,null,null,null,null,null,null,null,16900]
[null,null,"2025-02-16",null,null,16900,null,null,null,null,null,null,null,null,null,null,null,null,null,null,null,16900]
[null,null,"2025-02-17",null,null,null,null,null,null,null,null,null,null,null,null,null,null,null,null,null,22855,22855]
[null,null,"2025-02-18",null,null,null,null,null,null,null,null,null,null,null,null,null,null,null,null,null,2580,2580]
[null,null,"2025-02-19",null,null,null,null,null,null,null,null,null,null,null,null,null,null,null,null,null,18495,18495]
[null,null,"2025-02-20",null,null,10736,null,null,null,null,null,null,null,null,null,null,null,null,null,null,null,10736]
[null,null,"2025-02-21",null,null,20800,null,null,null,null,null,null,null,null,null,null,null,null,null,null,null,20800]
[null,null,"2025-02-22",null,null,20800,null,null,null,null,null,null,null,null,null,null,null,null,null,null,null,20800]
[null,null,"2025-02-23",null,null,20800,null,null,null,null,null,null,null,null,null,null,null,null,null,null,null,20800]
[null,null,"2025-02-24",null,null,20800,null,null,null,null,null,null,null,null,null,null,null,null,null,null,null,{"$f":"SUM(F335:U335)","v":20800}]
[null,null,"2025-02-25",null,null,20800,null,null,null,null,null,null,null,null,null,null,null,null,null,null,null,20800]
[null,null,"2025-02-26",null,null,16900,null,null,null,null,null,null,null,null,null,null,null,null,null,null,null,16900]
[null,null,"2025-02-27",null,null,16900,null,null,null,null,null,null,null,null,null,null,null,null,null,null,null,16900]
[null,null,"2025-02-28",null,null,16900,null,null,null,null,null,null,null,null,null,null,null,null,null,null,null,16900]
[null,null,"2025-03-01",null,null,54058,null,null,null,null,null,null,null,null,null,null,null,null,null,null,null,54058]
[null,null,"2025-03-02",null,null,13548,null,null,null,null,null,null,null,null,null,null,null,null,null,null,null,13548]
[null,null,"2025-03-03",null,null,69838,null,null,null,null,null,null,null,null,null,null,null,null,null,null,null,69838]
[null,null,"2025-03-04",null,null,null,null,null,null,9360,null,null,null,null,null,null,null,null,null,null,null,9360]
[null,null,"2025-03-05",null,null,16900,null,null,null,null,null,null,null,null,null,null,null,null,null,null,null,16900]
[null,null,"2025-03-06",null,null,16900,null,null,null,null,null,null,null,null,null,null,null,null,null,null,null,16900]
[null,null,"2025-03-07",null,null,370937,null,null,null,null,null,null,null,null,null,null,null,null,null,null,null,370937]
[null,null,"2025-03-08",null,null,811566,null,null,null,null,null,null,null,null,null,null,null,null,null,null,null,811566]
[null,null,"2025-03-09",null,null,998719,null,null,null,null,null,null,null,null,null,null,null,null,null,null,null,998719]
[null,null,"2025-03-10",null,null,371720,null,null,null,null,null,null,null,null,null,null,null,null,null,null,null,371720]
[null,null,"2025-03-11",null,null,1192646,null,null,null,null,null,null,null,null,null,null,null,null,null,null,null,1192646]
[null,null,"2025-03-12",null,null,357875,null,null,null,null,null,null,null,null,null,null,null,null,null,null,null,357875]
[null,null,"2025-03-13",null,null,null,null,null,null,null,null,null,null,null,null,null,null,null,null,null,203738,203738]
[null,null,"2025-03-14",null,null,149800,null,null,null,null,null,null,null,null,null,null,null,null,null,null,null,149800]
[null,null,"2025-03-15",null,null,23880,null,null,null,null,null,null,null,null,null,null,null,null,null,null,null,23880]
[null,null,"2025-03-16",null,null,426542,null,null,null,null,null,null,null,null,null,null,null,null,null,null,null,426542]
[null,null,"2025-03-17",null,null,124815,null,null,null,null,null,null,null,null,null,null,null,null,null,null,null,124815]
[null,null,"2025-03-18",null,null,20800,null,null,null,null,null,null,null,null,null,null,null,null,null,null,null,20800]
[null,null,"2025-03-19",null,null,null,null,null,null,null,null,null,null,null,null,null,null,null,null,471842,null,471842]
[null,null,"2025-03-20",null,null,null,null,null,null,null,null,null,null,null,null,null,null,null,null,null,41676,41676]
[null,null,"2025-03-21",null,null,null,null,null,null,9765,null,null,0,null,null,null,null,null,null,null,null,9765]
[null,null,"2025-03-22",null,null,null,null,null,null,3634,null,null,0,null,null,null,null,null,null,null,null,3634]
[null,null,"2025-03-23",null,null,16900,null,null,null,null,null,null,null,null,null,null,null,null,null,null,null,16900]
[null,null,"2025-03-24",null,null,458429,null,null,null,null,null,null,null,null,null,null,null,null,null,null,null,458429]
[null,null,"2025-03-25",null,null,44200,null,null,null,null,null,null,null,null,null,null,null,null,null,null,null,44200]
[null,null,"2025-03-26",null,null,473220,null,null,null,null,null,null,null,null,null,null,null,null,null,null,null,473220]
[null,null,"2025-03-27",null,null,588,null,null,null,null,null,null,null,null,null,null,null,null,null,null,null,588]
[null,null,"2025-03-28",null,null,211551,null,null,null,null,null,null,null,null,null,null,null,null,null,null,null,211551]
[null,null,"2025-03-29",null,null,211551,null,null,null,null,null,null,null,null,null,null,null,null,null,null,null,211551]
[null,null,"2025-03-30",null,null,14144,null,null,null,null,null,null,null,null,null,null,null,null,null,null,null,14144]
[null,null,"2025-03-31",null,null,26420,null,null,null,null,null,null,null,null,null,null,null,null,null,null,null,26420]
[null,null,"2025-03-31",null,null,22233,null,null,null,null,null,null,null,null,null,null,null,null,null,null,null,22233]
[null,null,"2025-03-31",null,null,13440,null,null,null,null,null,null,null,null,null,null,null,null,null,null,null,13440]
[null,null,"2025-03-31",null,null,116991,null,null,null,null,null,null,null,null,null,null,null,null,null,null,null,116991]
[null,null,"2025-03-31",null,null,15943,null,null,null,null,null,null,null,null,null,null,null,null,null,null,null,15943]
[null,null,"2025-03-31",null,null,48361,null,null,null,null,null,null,null,null,null,null,null,null,null,null,null,48361]
[null,null,"2025-03-31",null,null,27360,null,null,null,null,null,null,null,null,null,null,null,null,null,null,null,27360]
[null,null,"2025-03-31",null,null,127595,null,null,null,null,null,null,null,null,null,null,null,null,null,null,null,127595]
[null,null,"2025-03-31",null,null,127595,null,null,null,null,null,null,null,null,null,null,null,null,null,null,null,127595]
[null,null,"2025-03-31",null,null,55719,null,null,null,null,null,null,null,null,null,null,null,null,null,null,null,55719]
[null,null,"2025-03-31",null,null,5197,null,null,null,null,null,null,null,null,null,null,null,null,null,null,null,5197]
[null,null,"2025-03-31",null,null,null,null,null,null,null,null,null,null,null,null,null,null,null,null,null,8789,8789]
[null,null,"2025-03-31","1569 shikshakarmi mandey deo",111540,null,null,null,null,null,null,null,null,null,null,null,null,null,null,null,null,0]
[null,null,"2025-03-31",null,null,23880,null,null,null,null,null,null,null,null,null,null,null,null,null,null,null,23880]
[null,null,"2025-03-31",null,null,267541,null,null,null,null,null,null,null,null,null,null,null,null,null,null,null,267541]
[null,null,"2025-03-31",null,null,203738,null,null,null,null,null,null,null,null,null,null,null,null,null,null,null,203738]
[null,null,"2025-03-31",null,null,502597,null,null,null,null,null,null,null,null,null,null,null,null,null,null,null,502597]
[null,null,"2025-03-31",null,null,180700,null,null,null,null,null,null,null,null,null,null,null,null,null,null,null,180700]
[null,null,"2025-03-31",null,null,900316,null,null,null,null,null,null,null,null,null,null,null,null,null,null,null,900316]
[null,null,"2025-03-31",null,null,1304172,null,null,null,null,null,null,null,null,null,null,null,null,null,null,null,1304172]
[null,null,"2025-03-31",null,null,1081942,null,null,null,null,null,null,null,null,null,null,null,null,null,null,null,1081942]
[null,null,"2025-03-31",null,null,127408,null,null,null,null,null,null,null,null,null,null,null,null,null,null,null,127408]
[null,null,"2025-03-31",null,null,261350,null,null,null,null,null,null,null,null,null,null,null,null,null,null,null,261350]
[null,null,"2025-03-31",null,null,209495,null,null,null,null,null,null,null,null,null,null,null,null,null,null,null,209495]
[null,null,"2025-03-31",null,null,287194,null,null,null,null,null,null,null,null,null,null,null,null,null,null,null,287194]
[null,null,"2025-03-31",null,null,11940,null,null,null,null,null,null,null,null,null,null,null,null,null,null,null,11940]
[null,null,"2025-03-31",null,null,10400,null,null,null,null,null,null,null,null,null,null,null,null,null,null,null,10400]
[null,null,"2025-03-31",null,null,459629,null,null,null,null,null,null,null,null,null,null,null,null,null,null,null,459629]
[null,null,"2025-03-31",null,null,null,null,null,null,2800,null,null,0,null,null,null,null,null,null,null,null,2800]
[null,null,"2025-03-31",null,null,87858,null,null,null,null,null,null,null,null,null,null,null,null,null,null,null,87858]
[null,null,"2025-03-31",null,null,27300,null,null,null,null,null,null,null,null,null,null,null,null,null,null,null,27300]
[null,null,"2025-03-31",null,null,55719,null,null,null,null,null,null,null,null,null,null,null,null,null,null,null,55719]
[null,null,"2025-03-31",null,null,20800,null,null,null,null,null,null,null,null,null,null,null,null,null,null,null,20800]
[null,null,"2025-03-31","SAMSA vetan adpc 33953",2000000,null,null,null,null,null,null,null,null,null,null,null,null,null,null,null,null,0]
[null,null,"2025-03-31",null,null,16900,null,null,null,null,null,null,null,null,null,null,null,null,null,null,null,16900]
[null,null,"2025-03-31",null,null,29465,null,null,null,null,null,null,null,null,null,null,null,null,null,null,null,29465]
[null,null,"2025-03-31",null,null,6774,null,null,null,null,null,null,null,null,null,null,null,null,null,null,null,6774]
[null,null,"2025-03-31",null,null,100787,null,null,null,null,null,null,null,null,null,null,null,null,null,null,null,100787]
[null,null,"2025-03-31",null,null,473220,null,null,null,null,null,null,null,null,null,null,null,null,null,null,null,473220]
[null,null,"2025-03-31",null,null,44200,null,null,null,null,null,null,null,null,null,null,null,null,null,null,null,44200]
[null,null,"2025-03-31",null,null,16900,null,null,null,null,null,null,null,null,null,null,null,null,null,null,null,16900]
[null,null,"2025-03-31",null,null,16900,null,null,null,null,null,null,null,null,null,null,null,null,null,null,null,16900]
[null,null,"2025-03-31",null,null,68101,null,null,null,null,null,null,null,null,null,null,null,null,null,null,null,68101]
[null,null,"2025-03-31",null,null,64965,null,null,null,null,null,null,null,null,null,null,null,null,null,null,null,64965]
[null,null,"2025-03-31",null,null,11800,null,null,null,null,null,null,null,null,null,null,null,null,null,null,null,11800]
[null,null,"2025-03-31","director TA70000 OE20000",90000,null,null,null,null,null,null,null,null,null,null,null,null,null,null,null,null,0]
[null,null,"2025-03-31","1099 sallary director",10000000,null,null,null,null,null,null,null,null,null,null,null,null,null,null,null,null,0]
[null,null,"2025-03-31",null,null,null,null,null,null,null,null,null,null,null,null,null,null,null,null,null,268141,268141]
[null,null,"2025-03-31",null,null,819567,null,null,null,null,null,null,null,null,null,null,null,null,null,null,null,819567]
[null,null,"2025-03-31",null,null,964487,null,null,null,null,null,null,null,null,null,null,null,null,null,null,null,964487]
[null,null,"2025-03-31",null,null,1005737,null,null,null,null,null,null,null,null,null,null,null,null,null,null,null,1005737]
[null,null,"2025-03-31",null,null,695831,null,null,null,null,null,null,null,null,null,null,null,null,null,null,null,695831]
[null,null,"2025-03-31",null,null,129201,null,null,null,null,null,null,null,null,null,null,null,null,null,null,null,129201]
[null,null,"2025-03-31",null,null,23880,null,null,null,null,null,null,null,null,null,null,null,null,null,null,null,23880]
[null,null,"2025-03-31",null,null,114760,null,null,null,null,null,null,null,null,null,null,null,null,null,null,null,114760]
[null,null,"2025-03-31",null,null,459629,null,null,null,null,null,null,null,null,null,null,null,null,null,null,null,459629]
[null,null,"2025-03-31",null,null,252223,null,null,null,null,null,null,null,null,null,null,null,null,null,null,null,252223]
[null,null,"2025-03-31",null,null,null,null,null,null,null,null,null,null,null,null,null,null,null,null,null,203738,203738]
[null,null,"2025-03-31",null,null,314494,null,null,null,null,null,null,null,null,null,null,null,null,null,null,null,314494]
[null,null,"2025-03-31",null,null,33800,null,null,null,null,null,null,null,null,null,null,null,null,null,null,null,33800]
[null,null,"2025-03-31",null,null,22171,null,null,null,null,null,null,null,null,null,null,null,null,null,null,null,22171]
[null,null,"2025-03-31",null,null,398777,null,null,null,null,null,null,null,null,null,null,null,null,null,null,null,398777]
[null,null,"2025-03-31",null,null,44200,null,null,null,null,null,null,null,null,null,null,null,null,null,null,null,44200]
[null,null,"2025-03-31","chlan kavni school brijmohan",11940,null,null,null,null,null,null,null,null,null,null,null,null,null,null,null,null,0]
[null,null,"2025-03-31",null,null,29465,null,null,null,null,null,null,null,null,null,null,null,null,null,null,null,29465]
[null,null,"2025-03-31",null,null,27300,null,null,null,null,null,null,null,null,null,null,null,null,null,null,null,27300]
[null,null,"2025-03-31",null,null,16819,null,null,null,null,null,null,null,null,null,null,null,null,null,null,null,16819]
[null,null,"2025-03-31",null,null,10400,null,null,null,null,null,null,null,null,null,null,null,null,null,null,null,10400]
[null,null,"2025-03-31",null,null,1661,null,null,null,null,null,null,null,null,null,null,null,null,null,null,null,1661]
[null,null,"2025-03-31","mdm bill revart",17000,null,null,null,null,null,null,null,null,null,null,null,null,null,null,null,null,0]
[null,null,"2025-03-31","1569  mdm bal gopal",3600000,null,null,null,null,null,null,null,null,null,null,null,null,null,null,null,null,0]
[null,null,"2025-03-31",null,null,16900,null,null,null,null,null,null,null,null,null,null,null,null,null,null,null,16900]
[null,null,"2025-03-31",null,null,10400,null,null,null,null,null,null,null,null,null,null,null,null,null,null,null,10400]
[null,null,"2025-03-31",null,null,10400,null,null,null,null,null,null,null,null,null,null,null,null,null,null,null,10400]
[null,null,"2025-03-31",null,null,10400,null,null,null,null,null,null,null,null,null,null,null,null,null,null,null,10400]
[null,null,"2025-03-31",null,null,10400,null,null,null,null,null,null,null,null,null,null,null,null,null,null,null,10400]
[null,null,"2025-03-31",null,null,10400,null,null,null,null,null,null,null,null,null,null,null,null,null,null,null,10400]
[null,null,"2025-03-31",null,null,10400,null,null,null,null,null,null,null,null,null,null,null,null,null,null,null,10400]
[null,null,"2025-03-31",null,null,16900,null,null,null,null,null,null,null,null,null,null,null,null,null,null,null,16900]
[null,null,"2025-03-31",null,null,32710,null,null,null,null,null,null,null,null,null,null,null,null,null,null,null,32710]
[null,null,"2025-03-31",null,null,3355,null,null,null,null,null,null,null,null,null,null,null,null,null,null,null,3355]
[null,null,"2025-03-31",null,null,94900,null,null,null,null,null,null,null,null,null,null,null,null,null,null,null,94900]
[null,null,"2025-03-31",null,null,470665,null,null,null,null,null,null,null,null,null,null,null,null,null,null,null,470665]
[null,null,"2025-03-31",null,null,114760,null,null,null,null,null,null,null,null,null,null,null,null,null,null,null,114760]
[null,null,"2025-03-31",null,null,null,null,null,null,null,null,null,null,null,null,null,null,null,null,null,274737,274737]
[null,null,"2025-03-31",null,null,null,null,null,null,null,null,null,null,null,null,null,null,null,null,null,203738,203738]
[null,null,"2025-03-31",null,null,1461755,null,null,null,null,null,null,null,null,null,null,null,null,null,null,null,1461755]
[null,null,"2025-03-31",null,null,23880,null,null,null,null,null,null,null,null,null,null,null,null,null,null,null,23880]
[null,null,"2025-03-31",null,null,1241309,null,null,null,null,null,null,null,null,null,null,null,null,null,null,null,1241309]
[null,null,"2025-03-31",null,null,711446,null,null,null,null,null,null,null,null,null,null,null,null,null,null,null,711446]
[null,null,"2025-03-31",null,null,231400,null,null,null,null,null,null,null,null,null,null,null,null,null,null,null,231400]
[null,null,"2025-03-31",null,null,603082,null,null,null,null,null,null,null,null,null,null,null,null,null,null,null,603082]
[null,null,"2025-03-31",null,null,27300,null,null,null,null,null,null,null,null,null,null,null,null,null,null,null,27300]
[null,null,"2025-03-31",null,null,23700,null,null,null,null,null,null,null,null,null,null,null,null,null,null,null,23700]
[null,null,"2025-03-31",null,null,19877,null,null,null,null,null,null,null,null,null,null,null,null,null,null,null,19877]
[null,null,"2025-03-31",null,null,23700,null,null,null,null,null,null,null,null,null,null,null,null,null,null,null,23700]
[null,null,"2025-03-31",null,null,431785,null,null,null,null,null,null,null,null,null,null,null,null,null,null,null,431785]
[null,null,"2025-03-31",null,null,44342,null,null,null,null,null,null,null,null,null,null,null,null,null,null,null,44342]
[null,null,"2025-03-31",null,null,47400,null,null,null,null,null,null,null,null,null,null,null,null,null,null,null,47400]
[null,null,"2025-03-31",null,null,44200,null,null,null,null,null,null,null,null,null,null,null,null,null,null,null,44200]
[null,null,"2025-03-31",null,null,36697,null,null,null,null,null,null,null,null,null,null,null,null,null,null,null,36697]
[null,null,"2025-03-31",null,null,55719,null,null,null,null,null,null,null,null,null,null,null,null,null,null,null,55719]
[null,null,"2025-03-31",null,null,null,null,null,null,null,null,null,null,null,null,null,null,null,null,null,21000,21000]
[null,null,"2025-03-31","1569 shikshakarmi mandey deo",111540,null,null,null,null,null,null,null,null,null,null,null,null,null,null,null,null,0]
[null,null,"2025-03-31",null,null,null,null,null,null,null,null,null,null,null,null,null,null,null,null,null,50000,50000]
[null,null,"2025-03-31",null,null,71492,null,null,null,null,null,null,null,null,null,null,null,null,null,null,null,71492]
[null,null,"2025-03-31",null,null,26394,null,null,null,null,null,null,null,null,null,null,null,null,null,null,null,26394]
[null,null,"2025-03-31",null,null,null,null,null,null,1550,null,null,0,null,null,null,null,null,null,null,null,1550]
[null,null,"2025-03-31",null,null,null,null,null,null,null,null,null,8480,null,null,null,null,null,null,null,null,8480]
[null,null,"2025-03-31",null,null,57195,null,null,null,null,null,null,null,null,null,null,null,null,null,null,null,57195]
[null,null,"2025-03-31",null,null,27300,null,null,null,null,null,null,null,null,null,null,null,null,null,null,null,27300]
[null,null,"2025-03-31",null,null,23700,null,null,null,null,null,null,null,null,null,null,null,null,null,null,null,23700]
[null,null,"2025-03-31",null,null,17584,null,null,null,null,null,null,null,null,null,null,null,null,null,null,null,17584]
[null,null,"2025-03-31",null,null,50623,null,null,null,null,null,null,null,null,null,null,null,null,null,null,null,50623]
[null,null,"2025-03-31",null,null,52954,null,null,null,null,null,null,null,null,null,null,null,null,null,null,null,52954]
[null,null,"2025-03-31",null,null,1126865,null,null,null,null,null,null,null,null,null,null,null,null,null,null,null,1126865]
[null,null,"2025-03-31",null,null,1027565,null,null,null,null,null,null,null,null,null,null,null,null,null,null,null,1027565]
[null,null,"2025-03-31",null,null,753841,null,null,null,null,null,null,null,null,null,null,null,null,null,null,null,753841]
[null,null,"2025-03-31",null,null,145900,null,null,null,null,null,null,null,null,null,null,null,null,null,null,null,145900]
[null,null,"2025-03-31",null,null,629585,null,null,null,null,null,null,null,null,null,null,null,null,null,null,null,629585]
[null,null,"2025-03-31",null,null,294530,null,null,null,null,null,null,null,null,null,null,null,null,null,null,null,294530]
[null,null,"2025-03-31",null,null,57195,null,null,null,null,null,null,null,null,null,null,null,null,null,null,null,57195]
[null,null,"2025-03-31",null,null,129440,null,null,null,null,null,null,null,null,null,null,null,null,null,null,null,129440]
[null,null,"2025-03-31",null,null,254588,null,null,null,null,null,null,null,null,null,null,null,null,null,null,null,254588]
[null,null,"2025-03-31",null,null,44200,null,null,null,null,null,null,null,null,null,null,null,null,null,null,null,44200]
[null,null,"2025-03-31",null,null,117800,null,null,null,null,null,null,null,null,null,null,null,null,null,null,null,117800]
[null,null,"2025-03-31",null,null,null,null,null,null,null,null,null,null,null,null,null,null,null,null,null,367489,367489]
[null,null,"2025-03-31",null,null,23880,null,null,null,null,null,null,null,null,null,null,null,null,null,null,null,23880]
[null,null,"2025-03-31",null,null,null,null,null,null,null,null,null,null,null,null,null,null,null,null,null,203738,203738]
[null,null,"2025-03-31",null,null,470865,null,null,null,null,null,null,null,null,null,null,null,null,null,null,null,470865]
[null,null,"2025-03-31",null,null,394105,null,null,null,null,null,null,null,null,null,null,null,null,null,null,null,394105]
[null,null,"2025-03-31",null,null,null,null,null,null,9945,null,null,0,null,null,null,null,null,null,null,null,9945]
[null,null,"2025-03-31",null,null,null,null,null,null,null,null,null,1700,null,null,null,null,null,null,null,null,1700]
[null,null,"2025-03-31",null,null,64325,null,null,null,null,null,null,null,null,null,null,null,null,null,null,null,64325]
[null,null,"2025-03-31",null,null,27200,null,null,null,null,null,null,null,null,null,null,null,null,null,null,null,27200]
[null,null,"2025-03-31",null,null,16900,null,null,null,null,null,null,null,null,null,null,null,null,null,null,null,16900]
[null,null,"2025-03-31",null,null,57195,null,null,null,null,null,null,null,null,null,null,null,null,null,null,null,57195]
[null,null,"2025-03-31",null,null,880,null,null,null,null,null,null,null,null,null,null,null,null,null,null,null,880]
[null,null,"2025-03-31",null,null,27300,null,null,null,null,null,null,null,null,null,null,null,null,null,null,null,27300]
[null,null,"2025-03-31",null,null,1127,null,null,null,null,null,null,null,null,null,null,null,null,null,null,null,1127]
[null,null,"2025-03-31",null,null,95949,null,null,null,null,null,null,null,null,null,null,null,null,null,null,null,95949]
[null,null,"2025-03-31",null,null,101400,null,null,null,null,null,null,null,null,null,null,null,null,null,null,null,101400]
[null,null,"2025-03-31",null,null,63224,null,null,null,null,null,null,null,null,null,null,null,null,null,null,null,63224]
[null,null,"2025-03-31",null,null,null,null,null,null,null,null,null,null,null,null,null,null,null,null,null,11290,11290]
[null,null,"2025-03-31",null,null,94836,null,null,null,null,null,null,null,null,null,null,null,null,null,null,null,94836]
[null,null,"2025-03-31",null,null,176240,null,null,null,null,null,null,null,null,null,null,null,null,null,null,null,176240]
[null,null,"2025-03-31",null,null,null,null,null,null,null,null,null,null,null,null,null,null,null,null,null,20560,20560]
[null,null,"2025-03-31",null,null,2084,null,null,null,null,null,null,null,null,null,null,null,null,null,null,null,2084]
[null,null,"2025-03-31",null,null,56100,null,null,null,null,null,null,null,null,null,null,null,null,null,null,null,56100]
[null,null,"2025-03-31",null,null,85216,null,null,null,null,null,null,null,null,null,null,null,null,null,null,null,85216]
[null,null,"2025-03-31",null,null,23092,null,null,null,null,null,null,null,null,null,null,null,null,null,null,null,23092]
[null,null,"2025-03-31",null,null,23700,null,null,null,null,null,null,null,null,null,null,null,null,null,null,null,23700]
[null,null,"2025-03-31",null,null,117800,null,null,null,null,null,null,null,null,null,null,null,null,null,null,null,117800]
[null,null,"2025-03-31",null,null,35168,null,null,null,null,null,null,null,null,null,null,null,null,null,null,null,35168]
[null,null,"2025-03-31",null,null,21406,null,null,null,null,null,null,null,null,null,null,null,null,null,null,null,21406]
[null,null,"2025-03-31",null,null,null,null,null,null,null,null,null,null,null,null,null,null,null,null,null,367489,367489]
[null,null,"2025-03-31",null,null,23880,null,null,null,null,null,null,null,null,null,null,null,null,null,null,null,23880]
[null,null,"2025-03-31",null,null,632611,null,null,null,null,null,null,null,null,null,null,null,null,null,null,null,632611]
[null,null,"2025-03-31",null,null,1642375,null,null,null,null,null,null,null,null,null,null,null,null,null,null,null,1642375]
[null,null,"2025-03-31",null,null,1108260,null,null,null,null,null,null,null,null,null,null,null,null,null,null,null,1108260]
[null,null,"2025-03-31",null,null,769400,null,null,null,null,null,null,null,null,null,null,null,null,null,null,null,769400]
[null,null,"2025-03-31",null,null,222800,null,null,null,null,null,null,null,null,null,null,null,null,null,null,null,222800]
[null,null,"2025-03-31",null,null,16900,null,null,null,null,null,null,null,null,null,null,null,null,null,null,null,16900]
[null,null,"2025-03-31",null,null,78740,null,null,null,null,null,null,null,null,null,null,null,null,null,null,null,78740]
[null,null,"2025-03-31",null,null,294530,null,null,null,null,null,null,null,null,null,null,null,null,null,null,null,294530]
[null,null,"2025-03-31",null,null,205800,null,null,null,null,null,null,null,null,null,null,null,null,null,null,null,205800]
[null,null,"2025-03-31",null,null,null,null,null,null,null,null,null,null,null,null,null,null,null,null,null,10860,10860]
[null,null,"2025-03-31",null,null,39800,null,null,null,null,null,null,null,null,null,null,null,null,null,null,null,39800]
[null,null,"2025-03-31",null,null,72075,null,null,null,null,null,null,null,null,null,null,null,null,null,null,null,72075]
[null,null,"2025-03-31",null,null,17800,null,null,null,null,null,null,null,null,null,null,null,null,null,null,null,17800]
[null,null,"2025-03-31",null,null,16900,null,null,null,null,null,null,null,null,null,null,null,null,null,null,null,16900]
[null,null,"2025-03-31",null,null,16900,null,null,null,null,null,null,null,null,null,null,null,null,null,null,null,16900]
[null,null,"2025-03-31",null,null,16900,null,null,null,null,null,null,null,null,null,null,null,null,null,null,null,16900]
[null,null,"2025-03-31",null,null,null,null,null,null,null,null,null,null,null,null,null,null,null,null,null,203738,203738]
[null,null,"2025-03-31",null,null,381108,null,null,null,null,null,null,null,null,null,null,null,null,null,null,null,381108]
[null,null,"2025-03-31",null,null,46600,null,null,null,null,null,null,null,null,null,null,null,null,null,null,null,46600]
[null,null,"2025-03-31",null,null,null,null,null,null,null,null,null,null,null,null,null,null,null,null,null,20367,20367]
[null,null,"2025-03-31","33953 samsa sallary",2500000,null,null,null,null,null,null,null,null,null,null,null,null,null,null,null,null,0]
[null,null,"2025-03-31",null,null,22000,null,null,null,null,null,null,null,null,null,null,null,null,null,null,null,22000]
[null,null,"2025-03-31",null,null,null,null,null,null,null,null,null,null,null,null,null,null,null,null,2489759,null,2489759]
[null,null,"2025-03-31","1099 director sallary",10000000,null,null,null,null,null,null,null,null,null,null,null,null,null,null,null,null,0]
[null,null,"2025-03-31",null,null,20800,null,null,null,null,null,null,null,null,null,null,null,null,null,null,null,20800]
[null,null,"2025-03-31",null,null,20800,null,null,null,null,null,null,null,null,null,null,null,null,null,null,null,20800]
[null,null,"2025-03-31",null,null,22000,null,null,null,null,null,null,null,null,null,null,null,null,null,null,null,22000]
[null,null,"2025-03-31",null,null,20800,null,null,null,null,null,null,null,null,null,null,null,null,null,null,null,20800]
[null,null,"2025-03-31",null,null,19113,null,null,null,null,null,null,null,null,null,null,null,null,null,null,null,19113]
[null,null,"2025-03-31",null,null,13548,null,null,null,null,null,null,null,null,null,null,null,null,null,null,null,13548]
[null,null,"2025-03-31",null,null,54192,null,null,null,null,null,null,null,null,null,null,null,null,null,null,null,54192]
[null,null,"2025-03-31",null,null,197319,null,null,null,null,null,null,null,null,null,null,null,null,null,null,null,197319]
[null,null,"2025-03-31",null,null,65684,null,null,null,null,null,null,null,null,null,null,null,null,null,null,null,65684]
[null,null,"2025-03-31",null,null,54192,null,null,null,null,null,null,null,null,null,null,null,null,null,null,null,54192]
[null,null,"2025-03-31",null,null,23700,null,null,null,null,null,null,null,null,null,null,null,null,null,null,null,23700]
[null,null,"2025-03-31","1569 shikshakarmi mandey deo",74360,null,null,null,null,null,null,null,null,null,null,null,null,null,null,null,null,0]
[null,null,"2025-03-31",null,null,12812,null,null,null,null,null,null,null,null,null,null,null,null,null,null,null,12812]
[null,null,"2025-03-31",null,null,117800,null,null,null,null,null,null,null,null,null,null,null,null,null,null,null,117800]
[null,null,"2025-03-31",null,null,132140,null,null,null,null,null,null,null,null,null,null,null,null,null,null,null,132140]
[null,null,"2025-03-31",null,null,null,null,null,null,null,null,null,null,null,null,null,null,null,null,null,203738,203738]
[null,null,"2025-03-31",null,null,null,null,null,null,null,null,null,null,null,null,null,null,null,null,null,367489,367489]
[null,null,"2025-03-31",null,null,23880,null,null,null,null,null,null,null,null,null,null,null,null,null,null,null,23880]
[null,null,"2025-03-31",null,null,900580,null,null,null,null,null,null,null,null,null,null,null,null,null,null,null,900580]
[null,null,"2025-03-31",null,null,28800,null,null,null,null,null,null,null,null,null,null,null,null,null,null,null,28800]
[null,null,"2025-03-31",null,null,1325300,null,null,null,null,null,null,null,null,null,null,null,null,null,null,null,1325300]
[null,null,"2025-03-31",null,null,1045425,null,null,null,null,null,null,null,null,null,null,null,null,null,null,null,1045425]
[null,null,"2025-03-31",null,null,275700,null,null,null,null,null,null,null,null,null,null,null,null,null,null,null,275700]
[null,null,"2025-03-31",null,null,194300,null,null,null,null,null,null,null,null,null,null,null,null,null,null,null,194300]
[null,null,"2025-03-31",null,null,163400,null,null,null,null,null,null,null,null,null,null,null,null,null,null,null,163400]
[null,null,"2025-03-31",null,null,294770,null,null,null,null,null,null,null,null,null,null,null,null,null,null,null,294770]
[null,null,"2025-03-31",null,null,210645,null,null,null,null,null,null,null,null,null,null,null,null,null,null,null,210645]
[null,null,"2025-03-31",null,null,394105,null,null,null,null,null,null,null,null,null,null,null,null,null,null,null,394105]
[null,null,"2025-03-31",null,null,46600,null,null,null,null,null,null,null,null,null,null,null,null,null,null,null,46600]
[null,null,"2025-03-31",null,null,470985,null,null,null,null,null,null,null,null,null,null,null,null,null,null,null,470985]
[null,null,"2025-03-31",null,null,17800,null,null,null,null,null,null,null,null,null,null,null,null,null,null,null,17800]
[null,null,"2025-03-31","1099 director OE",40000,null,null,null,null,null,null,null,null,null,null,null,null,null,null,null,null,0]
[null,null,"2025-03-31",null,null,null,null,null,null,null,null,null,1900,null,null,null,null,null,null,null,null,1900]
[null,null,"2025-03-31",null,null,null,null,null,null,null,null,null,1437,null,null,null,null,null,null,null,null,1437]
[null,null,"2025-03-31",null,null,null,null,null,null,null,null,null,2050,null,null,null,null,null,null,null,null,2050]
[null,null,"2025-03-31",null,null,33870,null,null,null,null,null,null,null,null,null,null,null,null,null,null,null,33870]
[null,null,"2025-03-31",null,null,5748,null,null,null,null,null,null,null,null,null,null,null,null,null,null,null,5748]
[null,null,"2025-03-31",null,null,47418,null,null,null,null,null,null,null,null,null,null,null,null,null,null,null,47418]
[null,null,"2025-03-31",null,null,null,null,null,null,null,null,null,786,null,null,null,null,null,null,null,null,786]
[null,null,"2025-03-31",null,null,null,null,null,null,8420,null,null,0,null,null,null,null,null,null,null,null,{"$f":"SUM(F590:U590)","v":8420}]
[null,null,"2025-03-31",null,null,131704,null,null,null,null,null,null,null,null,null,null,null,null,null,null,null,131704]
[null,null,"2025-03-31",null,null,70574,null,null,null,null,null,null,null,null,null,null,null,null,null,null,null,70574]
[null,null,"2025-03-31",null,null,3832,null,null,null,null,null,null,null,null,null,null,null,null,null,null,null,3832]
[null,null,"2025-03-31",null,null,9935,null,null,null,null,null,null,null,null,null,null,null,null,null,null,null,9935]
[null,null,"2025-03-31",null,null,15810,null,null,null,null,null,null,null,null,null,null,null,null,null,null,null,15810]
[null,null,"2025-03-31",null,null,27900,null,null,null,null,null,null,null,null,null,null,null,null,null,null,null,27900]
[null,null,"2025-03-31",null,null,23700,null,null,null,null,null,null,null,null,null,null,null,null,null,null,null,23700]
[null,null,"2025-03-31",null,null,23700,null,null,null,null,null,null,null,null,null,null,null,null,null,null,null,23700]
[null,null,"2025-03-31",null,null,78786,null,null,null,null,null,null,null,null,null,null,null,null,null,null,null,78786]
[null,null,"2025-03-31",null,null,23700,null,null,null,null,null,null,null,null,null,null,null,null,null,null,null,23700]
[null,null,"2025-03-31",null,null,6774,null,null,null,null,null,null,null,null,null,null,null,null,null,null,null,6774]
[null,null,"2025-03-31",null,null,23700,null,null,null,null,null,null,null,null,null,null,null,null,null,null,null,23700]
[null,null,"2025-03-31",null,null,47450,null,null,null,null,null,null,null,null,null,null,null,null,null,null,null,47450]
[null,null,"2025-03-31",null,null,null,null,null,null,9810,null,null,0,null,null,null,null,null,null,null,null,9810]
[null,null,"2025-03-31",null,null,null,null,null,null,8869,null,null,null,null,null,null,null,null,null,null,null,8869]
[null,null,null,null,null,null,null,null,null,null,null,null,null,null,null,null,null,null,null,null,null,0]
[null,null,null,null,null,null,null,null,null,null,null,null,null,null,null,null,null,null,null,null,null,0]
[null,null,null,null,null,null,null,null,null,null,null,null,null,null,null,null,null,null,null,null,null,0]
[null,null,"2025-03-31","1569 Shikshakarmi mandey deo",37180,null,null,null,null,null,null,null,null,null,null,null,null,null,null,null,null,0]
[null,null,"2025-03-31",null,null,null,null,null,null,null,null,null,null,null,null,null,null,null,null,null,10820,10820]
[null,null,"2025-03-31",null,null,null,null,null,null,null,null,null,null,null,null,null,null,null,null,null,9795,9795,null,null,"MDM","Other"]
[]
[]
[]
[]
[]
[]
[]
[]
[]
[]
[]
[]
[]
[]
[]
[]
[]
[]
[]
[]
[]
[]
[]
[]
[]
[]
[]
[]
[]
[]
[]
[]
[]
[]
[]
[]
[]
[]
[]
[]
[]
[]
[]
[]
[]
[]
[]
[]
[]
[]
[]
[]
[]
[]
[]
[]
[]
[]
[]
[null,null,null,null,null,{"$f":"SUM(F609:F670)","v":0},null,null,null,{"$f":"SUM(J609:J670)","v":0},null,null,{"$f":"SUM(M609:M670)","v":0},null,null,null,null,null,null,{"$f":"SUM(T609:T670)","v":0},null,{"$f":"SUM(F671:U671)","v":0}]
[null,null,null,null,null,null,null,null,null,null,null,null,null,null,null,null,null,null,null,null,null,0]
[null,null,null,null,null,null,null,null,null,null,null,null,null,null,null,null,null,null,null,null,null,0]
[null,null,null,null,null,null,null,null,null,null,null,null,null,null,null,null,null,null,null,null,null,0]
[null,null,null,null,null,null,null,null,null,null,null,null,null,null,null,null,null,null,null,null,null,0]
[null,null,null,null,null,null,null,null,null,null,null,null,null,null,null,null,null,null,null,null,null,0]
[null,null,null,null,null,null,null,null,null,null,null,null,null,null,null,null,null,null,null,null,null,0]
[null,null,null,null,null,null,null,null,null,null,null,null,null,null,null,null,null,null,null,null,null,0]
[null,null,null,null,null,null,null,null,null,null,null,null,null,null,null,null,null,null,null,null,null,0]
[null,null,null,null,null,null,null,null,null,null,null,null,null,null,null,null,null,null,null,null,null,0]
[null,null,null,null,null,null,null,null,null,null,null,null,null,null,null,null,null,null,null,null,null,0]
[null,null,null,null,null,null,null,null,null,null,null,null,null,null,null,null,null,null,null,null,null,0]
[null,null,null,null,null,null,null,null,null,null,null,null,null,null,null,null,null,null,null,null,null,0]
[null,null,null,null,null,null,null,null,null,null,null,null,null,null,null,null,null,null,null,null,null,0]
[null,null,null,null,null,null,null,null,null,null,null,null,null,null,null,null,null,null,null,null,null,0]
[null,null,null,null,null,null,null,null,null,null,null,null,null,null,null,null,null,null,null,null,null,0]
[null,null,null,null,null,null,null,null,null,null,null,null,null,null,null,null,null,null,null,null,null,0]
[null,null,null,null,null,null,null,null,null,null,null,null,null,null,null,null,null,null,null,null,null,0]
[null,null,null,null,null,null,null,null,null,null,null,null,null,null,null,null,null,null,null,null,null,0]
[null,null,null,null,null,null,null,null,null,null,null,null,null,null,null,null,null,null,null,null,null,0]
[null,null,null,null,null,null,null,null,null,null,null,null,null,null,null,null,null,null,null,null,null,0]
[null,null,null,null,null,null,null,null,null,null,null,null,null,null,null,null,null,null,null,null,null,0]
[null,null,null,null,null,null,null,null,null,null,null,null,null,null,null,null,null,null,null,null,null,0]
[null,null,null,null,null,null,null,null,null,null,null,null,null,null,null,null,null,null,null,null,null,0]
[]
["forh; o\"kZ esa dqy O;; ",null,"Total 31.03.24",{"$f":"SUM(D6:D694)","v":0},{"$f":"SUM(E6:E695)","v":83579760},{"$f":"SUM(F6:F694)","v":80948599},{"$f":"SUM(G6:G694)","v":0},0,0,87587,0,0,16353,0,0,0,0,0,0,3209001,4279360,{"$f":"SUM(V6:V694)","v":88540900},null,null,{"$f":"SUM(L696:T696)","v":3225354},{"$f":"K696+U696+D696","v":4279360},"forh; o\"kZ esa dqy O;; "]
["izkjfEHkd 'ks\"k",null,"2024-04-01",{"$f":"D5","v":858812},0,8733197,16424,255437,23000,54070,0,850950.3200000003,29732.5,55000,25000,773881,4436508,5440,691220,4711628,-894210,{"$f":"SUM(D697:U697)","v":20626089.82},null,null,{"$f":"SUM(L697:T697)","v":11579359.82},{"$f":"K697+U697+D697","v":-35398},"izkjfEHkd 'ks\"k"]
["izkIr jkf'k forh; o\"kZ",null,"INCOME ",null,null,{"$f":"70000000+438156+119603+4265577","v":74823336},0,70000,null,60000,null,0,0,null,null,null,0,null,null,3617000,{"$f":"8500000+575001+200000","v":9275001},{"$f":"SUM(D698:U698)","v":87845337},null,null,{"$f":"SUM(L698:T698)","v":3617000},9275001,"izkIr jkf'k forh; o\"kZ"]
["dqy ctV",null,"tot",{"$f":"SUM(D697:D698)","v":858812},{"$f":"SUM(E697:E698)","v":0},{"$f":"SUM(F697:F698)","v":83556533},{"$f":"SUM(G697:G698)","v":16424},325437,23000,{"$f":"SUM(J697:J698)","v":114070},0,850950.3200000003,29732.5,55000,25000,773881,4436508,5440,691220,8328628,8380791,{"$f":"SUM(D699:U699)","v":108471426.81999999},null,null,{"$f":"SUM(L699:T699)","v":15196359.82},{"$f":"K699+U699+D699","v":9239603},"dqy ctV"]
[" 'ks\"k",null,null,{"$f":"D699-D696","v":858812},null,{"$f":"F699-F696","v":2607934},{"$f":"G699-G696","v":16424},325437,23000,{"$f":"J699-J696","v":26483},0,850950.3200000003,13379.5,55000,25000,773881,4436508,5440,691220,{"$f":"T699-T696","v":5119627},{"$f":"U699-U696","v":4101431},19930526.819999993,19930526.82,null,{"$f":"SUM(L700:T700)","v":11971005.82},{"$f":"K700+U700+D700","v":4960243}," 'ks\"k"]
[null,null,null,null,null,null,null,null,null,null,null,null,null,null,null,null,null,null,null,null,null,null,{"$f":"V700-W700","v":0}]
[]
[null,null,null,858812]
[null,null,null,null,71787]
[]
[null,null,null,null,null,null,null,null,null,null,null,"mdm","smsa",2202]
[null,null,null,null,null,null,null,null,null,null,null,4426074,178700]
[null,null,null,null,null,null,null,null,null,null,null,1158552,244819]
[null,null,null,null,null,null,null,null,null,null,null,10000000,210160]
[null,null,null,null,null,null,null,null,null,null,null,200000,2500000]
[null,null,null,null,null,null,null,null,null,null,null,null,6050000]
[null,null,null,null,null,null,null,null,null,null,null,null,7650000]
[null,null,null,null,null,null,null,null,null,null,null,null,2500000]
[null,null,null,null,null,null,null,null,null,null,null,null,1202000]
[null,null,null,null,null,null,null,null,null,null,null,null,114900]
[null,null,null,null,null,null,null,null,null,null,null,null,252000]
[null,null,null,null,null,null,null,null,null,null,null,null,166500]
[null,null,null,null,null,null,null,null,null,null,null,null,52200]
[null,null,null,null,null,null,null,null,null,null,null,null,1343150]
[null,null,null,null,null,null,null,null,null,null,null,null,148200]
[null,null,null,null,null,null,null,null,null,null,null,null,19200]
[null,null,null,null,null,null,null,null,null,null,null,null,43500]
[null,null,null,null,null,null,null,null,null,null,null,null,98000]
[null,null,null,null,null,null,null,null,null,null,null,null,32000]
[null,null,null,null,null,null,null,null,null,null,null,null,205000]
[null,null,null,null,null,null,null,null,null,null,null,null,28500]
[null,null,null,null,null,null,null,null,null,null,null,null,10430]
[null,null,null,null,null,null,null,null,null,null,null,null,900000]
[null,null,null,null,null,null,null,null,null,null,null,null,392219]
[null,null,null,null,null,null,null,null,null,null,null,null,269255]
[null,null,null,null,null,null,null,null,null,null,null,null,33600]
[null,null,null,null,null,null,null,null,null,null,null,null,22200]
[null,null,null,null,null,null,null,null,null,null,null,null,50400]
[null,null,null,null,null,null,null,null,null,null,null,null,33300]
[null,null,null,null,null,null,null,null,null,null,null,null,660000]
[null,null,null,null,null,null,null,null,null,null,null,null,144000]
[null,null,null,null,null,null,null,null,null,null,null,null,108000]
[null,null,null,null,null,null,null,null,null,null,null,null,350400]
[null,null,null,null,null,null,null,null,null,null,null,null,300000]
[null,null,null,null,null,null,null,null,null,null,null,null,5800]
[null,null,null,null,null,null,null,null,null,null,null,null,20200]
[null,null,null,null,null,null,null,null,null,null,null,null,205230]
[null,null,null,null,null,null,null,null,null,null,null,null,102380]
[null,null,null,null,null,null,null,null,null,null,null,null,59810]
[null,null,null,null,null,null,null,null,null,null,null,null,338000]
[null,null,null,null,null,null,null,null,null,null,null,null,836000]
[null,null,null,null,null,null,null,null,null,null,null,null,380100]
[null,null,null,null,null,null,null,null,null,null,null,null,352800]
[null,null,null,null,null,null,null,null,null,null,null,null,249700]
[null,null,null,null,null,null,null,null,null,null,null,null,441000]
[null,null,null,null,null,null,null,null,null,null,null,null,2775000]
[null,null,null,null,null,null,null,null,null,null,null,null,1157000]
[null,null,null,null,null,null,null,null,null,null,null,null,125000]
[null,null,null,null,null,null,null,null,null,null,null,null,1337760]
[null,null,null,null,null,null,null,null,null,null,null,null,294300]
[null,null,null,null,null,null,null,null,null,null,null,null,61200]
[null,null,null,null,null,null,null,null,null,null,null,null,167400,13750]
[null,null,null,null,null,null,null,null,null,null,null,null,163670,50000]
[null,null,null,null,null,null,null,null,null,null,null,null,90720]
[null,null,null,null,null,null,null,null,null,null,null,null,59940]
[null,null,null,null,null,null,null,null,null,null,null,null,1110000]
[null,null,null,null,null,null,null,null,null,null,null,null,255000]
[null,null,null,null,null,null,null,null,null,null,null,null,220000]
[null,null,null,null,null,null,null,null,null,null,null,{"$f":"SUM(L707:L763)","v":15784626},{"$f":"SUM(M707:M763)","v":37120643},{"$f":"SUM(N707:N763)","v":63750}]

{"sheet":"pd 31.08.25","index":13,"n_rows":321,"n_cols":26,"rows_kept":321,"cut":false,"hidden":false,"merged":[[255,0,255,1],[256,0,256,1],[0,0,0,21],[1,0,1,21],[2,11,2,17],[2,18,3,18],[252,0,252,1],[253,0,253,1],[254,0,254,1],[252,25,252,26],[253,25,253,26],[254,25,254,26],[255,25,255,26],[256,25,256,26]]}
["CBEO, BIKANER"]
["PD BUDGET  2025-26                  01-04-2025 TO 31-08-2025"]
["s.no.","BT.NO /LATTEAR NO .","DATE","DEEO","RECEIPT",2202,2202,2202,2202,2202,"SSA","MDM",null,null,null,null,null,null,"other ex."]
[null,null,null,null,null,"SALARY","MEDICAL","TA","VARDI ","OE",null,"COOK ","iz'kklfud","COLLECATING","MONITRAING","GAS","COOCK CUM HELPER","crZu Ø;",null,"MILK ","SMSA","TOTAL"]
["BALANCE",null,null,858812,null,2607934,16424,325437,23000,26483,0,850950.3200000003,13379.5,55000,25000,773881,4436508,5440,691220,5119627,4101431,19930526.819999993]
[null,null,"2025-04-09",null,null,null,null,null,null,null,null,null,null,null,null,null,null,null,null,null,376317,{"$f":"SUM(F6:U6)","v":376317}]
[null,null,"2025-04-09",null,null,23880,null,null,null,null,null,null,null,null,null,null,null,null,null,null,null,{"$f":"SUM(F7:U7)","v":23880}]
[null,null,"2025-04-09",null,null,1455814,null,null,null,null,null,null,null,null,null,null,null,null,null,null,null,1455814]
[null,null,"2025-04-09",null,null,862864,null,null,null,null,null,null,null,null,null,null,null,null,null,null,null,862864]
[null,null,"2025-04-09",null,null,1360882,null,null,null,null,null,null,null,null,null,null,null,null,null,null,null,1360882]
[null,null,"2025-04-09",null,null,273600,null,null,null,null,null,null,null,null,null,null,null,null,null,null,null,273600]
[null,null,"2025-04-09",null,null,205000,null,null,null,null,null,null,null,null,null,null,null,null,null,null,null,205000]
[null,null,"2025-04-09",null,null,489018,null,null,null,null,null,null,null,null,null,null,null,null,null,null,null,489018]
[null,null,"2025-04-09",null,null,255135,null,null,null,null,null,null,null,null,null,null,null,null,null,null,null,255135]
[null,null,"2025-04-09",null,null,46600,null,null,null,null,null,null,null,null,null,null,null,null,null,null,null,46600]
[null,null,"2025-04-09",null,null,76498,null,null,null,null,null,null,null,null,null,null,null,null,null,null,null,76498]
[null,null,"2025-04-09",null,null,482661,null,null,null,null,null,null,null,null,null,null,null,null,null,null,null,482661]
[null,null,"2025-04-09",null,null,58671,null,null,null,null,null,null,null,null,null,null,null,null,null,null,null,58671]
[null,null,"2025-04-09",null,null,27545,null,null,null,null,null,null,null,null,null,null,null,null,null,null,null,27545]
[null,null,"2025-04-09",null,null,59300,null,null,null,null,null,null,null,null,null,null,null,null,null,null,null,59300]
[null,null,"2025-04-09",null,null,null,null,null,null,null,null,null,null,null,null,null,null,null,null,null,159134,159134]
[null,null,"2025-04-09",null,null,23880,null,null,null,null,null,null,null,null,null,null,null,null,null,null,null,23880]
[null,null,"2025-04-09",null,null,65985,null,null,null,null,null,null,null,null,null,null,null,null,null,null,null,65985]
[null,null,"2025-04-09",null,null,79500,null,null,null,null,null,null,null,null,null,null,null,null,null,null,null,79500]
[null,null,"2025-04-09",null,null,16900,null,null,null,null,null,null,null,null,null,null,null,null,null,null,null,16900]
[null,null,"2025-04-09",null,null,16900,null,null,null,null,null,null,null,null,null,null,null,null,null,null,null,16900]
[null,null,"2025-04-09",null,null,14719,null,null,null,null,null,null,null,null,null,null,null,null,null,null,null,14719]
[null,null,"2025-04-09",null,null,16900,null,null,null,null,null,null,null,null,null,null,null,null,null,null,null,16900]
[null,null,"2025-04-09",null,null,22000,null,null,null,null,null,null,null,null,null,null,null,null,null,null,null,22000]
[null,null,"2025-04-09",null,null,22000,null,null,null,null,null,null,null,null,null,null,null,null,null,null,null,22000]
[null,null,"2025-04-09",null,null,5738,null,null,null,null,null,null,null,null,null,null,null,null,null,null,null,5738]
[null,null,"2025-04-09",null,null,10400,null,null,null,null,null,null,null,null,null,null,null,null,null,null,null,10400]
[null,null,"2025-04-09",null,null,"1923-04-09",null,null,null,null,null,null,null,null,null,null,null,null,null,null,null,8500]
[null,null,"2025-04-09",null,null,93100,null,null,null,null,null,null,null,null,null,null,null,null,null,null,null,93100]
[null,null,"2025-04-09",null,null,665809,null,null,null,null,null,null,null,null,null,null,null,null,null,null,null,665809]
[null,null,"2025-04-09",null,null,null,null,null,null,null,null,null,null,null,null,null,null,null,null,null,376317,376317]
[null,null,"2025-04-09",null,null,23880,null,null,null,null,null,null,null,null,null,null,null,null,null,null,null,23880]
[null,null,"2025-04-09",null,null,668836,null,null,null,null,null,null,null,null,null,null,null,null,null,null,null,668836]
[null,null,"2025-04-09",null,null,309109,null,null,null,null,null,null,null,null,null,null,null,null,null,null,null,309109]
[null,null,"2025-04-09",null,null,1738745,null,null,null,null,null,null,null,null,null,null,null,null,null,null,null,1738745]
[null,null,"2025-04-09",null,null,1035843,null,null,null,null,null,null,null,null,null,null,null,null,null,null,null,1035843]
[null,null,"2025-04-09",null,null,22000,null,null,null,null,null,null,null,null,null,null,null,null,null,null,null,22000]
[null,null,"2025-04-09",null,null,98572,null,null,null,null,null,null,null,null,null,null,null,null,null,null,null,98572]
[null,null,"2025-04-09",null,null,337946,null,null,null,null,null,null,null,null,null,null,null,null,null,null,null,337946]
[null,null,"2025-04-09",null,null,52500,null,null,null,null,null,null,null,null,null,null,null,null,null,null,null,52500]
[null,null,"2025-04-09",null,null,225535,null,null,null,null,null,null,null,null,null,null,null,null,null,null,null,225535]
[null,null,"2025-04-09",null,null,482661,null,null,null,null,null,null,null,null,null,null,null,null,null,null,null,482661]
[null,null,"2025-04-09",null,null,23700,null,null,null,null,null,null,null,null,null,null,null,null,null,null,null,23700]
[null,null,"2025-04-09",null,null,23700,null,null,null,null,null,null,null,null,null,null,null,null,null,null,null,23700]
[null,null,"2025-04-09",null,null,23700,null,null,null,null,null,null,null,null,null,null,null,null,null,null,null,23700]
[null,null,"2025-04-09",null,null,null,null,null,null,null,null,null,711,null,null,null,null,null,null,null,null,711]
[null,null,"2025-04-09",null,null,null,null,null,null,null,null,null,450,null,null,null,null,null,null,null,null,450]
[null,null,"2025-04-09",null,null,null,null,null,null,null,null,null,null,null,null,null,null,null,null,null,159134,159134]
[null,null,"2025-04-09",null,null,59300,null,null,null,null,null,null,null,null,null,null,null,null,null,null,null,59300]
[null,null,"2025-04-09",null,null,57195,null,null,null,null,null,null,null,null,null,null,null,null,null,null,null,57195]
[null,null,"2025-04-09",null,null,57195,null,null,null,null,null,null,null,null,null,null,null,null,null,null,null,57195]
[null,null,"2025-04-09",null,null,7645,null,null,null,null,null,null,null,null,null,null,null,null,null,null,null,7645]
[null,null,"2025-04-09",null,null,76200,null,null,null,null,null,null,null,null,null,null,null,null,null,null,null,76200]
[null,null,"2025-04-09","1099 director sallary",20000000,null,null,null,null,null,null,null,null,null,null,null,null,null,null,null,null,0]
[null,null,"2025-04-09",null,null,2340,null,null,null,null,null,null,null,null,null,null,null,null,null,null,null,2340]
[null,null,"2025-04-09",null,null,23700,null,null,null,null,null,null,null,null,null,null,null,null,null,null,null,23700]
[null,null,"2025-04-09",null,null,64132,null,null,null,null,null,null,null,null,null,null,null,null,null,null,null,64132]
[null,null,"2025-04-09",null,null,44416,null,null,null,null,null,null,null,null,null,null,null,null,null,null,null,44416]
[null,null,"2025-04-09",null,null,null,null,null,null,null,null,null,2200,null,null,null,null,null,null,null,null,2200]
[null,null,"2025-04-09",null,null,986,null,null,null,null,null,null,null,null,null,null,null,null,null,null,null,986]
[null,null,"2025-04-09",null,null,131872,null,null,null,null,null,null,null,null,null,null,null,null,null,null,null,131872]
[null,null,"2025-04-09",null,null,null,null,null,null,null,null,null,null,null,null,null,null,null,null,null,76050,76050]
[null,null,"2025-04-09","1569 shikshakarmi mandey deo",117480,null,null,null,null,null,null,null,null,null,null,null,null,null,null,null,null,0]
[null,null,"2025-04-09",null,null,null,null,null,null,null,null,null,null,null,null,null,null,null,null,null,376317,376317]
[null,null,"2025-04-09",null,null,1099302,null,null,null,null,null,null,null,null,null,null,null,null,null,null,null,1099302]
[null,null,"2025-04-09",null,null,993921,null,null,null,null,null,null,null,null,null,null,null,null,null,null,null,{"$f":"SUM(F71:U71)","v":993921}]
[null,null,"2025-04-09",null,null,971185,null,null,null,null,null,null,null,null,null,null,null,null,null,null,null,971185]
[null,null,"2025-04-09",null,null,1124786,null,null,null,null,null,null,null,null,null,null,null,null,null,null,null,1124786]
[null,null,"2025-04-09",null,null,357460,null,null,null,null,null,null,null,null,null,null,null,null,null,null,null,357460]
[null,null,"2025-04-09",null,null,80671,null,null,null,null,null,null,null,null,null,null,null,null,null,null,null,80671]
[null,null,"2025-04-09",null,null,488437,null,null,null,null,null,null,null,null,null,null,null,null,null,null,null,488437]
[null,null,"2025-04-09",null,null,28800,null,null,null,null,null,null,null,null,null,null,null,null,null,null,null,28800]
[null,null,"2025-04-09",null,null,245500,null,null,null,null,null,null,null,null,null,null,null,null,null,null,null,245500]
[null,null,"2025-04-09",null,null,73935,null,null,null,null,null,null,null,null,null,null,null,null,null,null,null,73935]
[null,null,"2025-04-09",null,null,null,null,null,null,11520,null,null,0,null,null,null,null,null,null,null,null,11520]
[null,null,"2025-04-09",null,null,60132,null,null,null,null,null,null,null,null,null,null,null,null,null,null,null,60132]
[null,null,"2025-04-09",null,null,528701,null,null,null,null,null,null,null,null,null,null,null,null,null,null,null,528701]
[null,null,"2025-04-09",null,null,null,null,null,null,null,null,null,null,null,null,null,null,null,null,null,17656,17656]
[null,null,"2025-04-09",null,null,10360,null,null,null,null,null,null,null,null,null,null,null,null,null,null,null,10360]
[null,null,"2025-04-09",1099,25001,null,null,null,null,null,null,null,null,null,null,null,null,null,null,null,null,0]
[null,null,"2025-04-09",null,null,null,null,null,null,null,null,null,null,null,null,null,null,null,null,null,159134,159134]
[null,null,"2025-04-09",null,null,6774,null,null,null,null,null,null,null,null,null,null,null,null,null,null,null,6774]
[null,null,"2025-04-09",null,null,78107,null,null,null,null,null,null,null,null,null,null,null,null,null,null,null,78107]
[null,null,"2025-04-09",null,null,33825,null,null,null,null,null,null,null,null,null,null,null,null,null,null,null,33825]
[null,null,"2025-04-09",null,null,54900,null,null,null,null,null,null,null,null,null,null,null,null,null,null,null,54900]
[null,null,"2025-04-09",null,null,null,null,null,null,null,null,null,2250,null,null,null,null,null,null,null,null,2250]
[null,null,"2025-04-09",null,null,null,null,null,null,7509,null,null,0,null,null,null,null,null,null,null,null,7509]
[null,null,"2025-04-09",null,null,null,null,null,null,4368,null,null,null,null,null,null,null,null,null,null,null,4368]
[null,null,"2025-04-09",null,null,null,null,null,null,null,null,null,null,null,null,null,null,null,null,null,148462,148462]
[null,null,"2025-04-09",null,null,22936,null,null,null,null,null,null,null,null,null,null,null,null,null,null,null,22936]
[null,null,"2025-04-09",1099,38629,null,null,null,null,null,null,null,null,null,null,null,null,null,null,null,null,0]
[null,null,"2025-04-09",1099,36180,null,null,null,null,null,null,null,null,null,null,null,null,null,null,null,null,0]
[null,null,"2025-04-09",null,null,376317,null,null,null,null,null,null,null,null,null,null,null,null,null,null,null,376317]
[null,null,"2025-04-09",null,null,76200,null,null,null,null,null,null,null,null,null,null,null,null,null,null,null,76200]
[null,null,"2025-04-09",null,null,1150503,null,null,null,null,null,null,null,null,null,null,null,null,null,null,null,1150503]
[null,null,"2025-04-09",null,null,853031,null,null,null,null,null,null,null,null,null,null,null,null,null,null,null,853031]
[null,null,"2025-04-09",null,null,1155286,null,null,null,null,null,null,null,null,null,null,null,null,null,null,null,1155286]
[null,null,"2025-04-09",null,null,226200,null,null,null,null,null,null,null,null,null,null,null,null,null,null,null,226200]
[null,null,"2025-04-09",null,null,1036470,null,null,null,null,null,null,null,null,null,null,null,null,null,null,null,1036470]
[null,null,"2025-04-09",null,null,94605,null,null,null,null,null,null,null,null,null,null,null,null,null,null,null,94605]
[null,null,"2025-04-09",null,null,35600,null,null,null,null,null,null,null,null,null,null,null,null,null,null,null,35600]
[null,null,"2025-04-09",null,null,23700,null,null,null,null,null,null,null,null,null,null,null,null,null,null,null,23700]
[null,null,"2025-04-09",null,null,134172,null,null,null,null,null,null,null,null,null,null,null,null,null,null,null,134172]
[null,null,"2025-04-09",null,null,301765,null,null,null,null,null,null,null,null,null,null,null,null,null,null,null,301765]
[null,null,"2025-04-09",null,null,221800,null,null,null,null,null,null,null,null,null,null,null,null,null,null,null,221800]
[null,null,"2025-04-09",null,null,528341,null,null,null,null,null,null,null,null,null,null,null,null,null,null,null,528341]
[null,null,"2025-04-09",null,null,16696,null,null,null,null,null,null,null,null,null,null,null,null,null,null,null,16696]
[null,null,"2025-04-09",null,null,null,null,null,null,null,null,null,null,null,null,null,null,null,null,null,160620,160620]
[null,null,"2025-04-09",null,null,24141,null,null,null,null,null,null,null,null,null,null,null,null,null,null,null,24141]
[null,null,"2025-04-09",null,null,28207,null,null,null,null,null,null,null,null,null,null,null,null,null,null,null,28207]
[null,null,"2025-04-09",null,null,17800,null,null,null,null,null,null,null,null,null,null,null,null,null,null,null,17800]
[null,null,"2025-04-09",null,null,17800,null,null,null,null,null,null,null,null,null,null,null,null,null,null,null,17800]
[null,null,"2025-04-09",null,null,29857,null,null,null,null,null,null,null,null,null,null,null,null,null,null,null,29857]
[null,null,"2025-04-09",null,null,4311,null,null,null,null,null,null,null,null,null,null,null,null,null,null,null,4311]
[null,null,"2025-04-09",null,null,20605,null,null,null,null,null,null,null,null,null,null,null,null,null,null,null,20605]
[null,null,"2025-04-09","1099 director sallary",7500000,null,null,null,null,null,null,null,null,null,null,null,null,null,null,null,null,0]
[null,null,"2025-04-09",null,null,85455,null,null,null,null,null,null,null,null,null,null,null,null,null,null,null,85455]
[null,null,"2025-04-09",null,null,798,null,null,null,null,null,null,null,null,null,null,null,null,null,null,null,798]
[null,null,"2025-04-09",null,null,26850,null,null,null,null,null,null,null,null,null,null,null,null,null,null,null,26850]
[null,null,"2025-04-09",null,null,73935,null,null,null,null,null,null,null,null,null,null,null,null,null,null,null,73935]
[null,null,"2025-04-09",null,null,null,null,null,null,9870,null,null,0,null,null,null,null,null,null,null,null,9870]
[null,null,"2025-04-09",null,null,null,null,null,null,null,null,null,null,null,null,null,null,null,null,null,110771,110771]
[null,null,"2025-04-09",null,null,null,null,null,null,null,null,null,null,null,null,null,null,null,null,null,12107,12107]
[null,null,"2025-04-09",null,null,3193,null,null,null,null,null,null,null,null,null,null,null,null,null,null,null,3193]
[null,null,"2025-04-09",null,null,58671,null,null,null,null,null,null,null,null,null,null,null,null,null,null,null,58671]
[null,null,"2025-04-09",null,null,58671,null,null,null,null,null,null,null,null,null,null,null,null,null,null,null,58671]
[null,null,"2025-04-09",null,null,58671,null,null,null,null,null,null,null,null,null,null,null,null,null,null,null,58671]
[null,null,"2025-04-09",null,null,29112,null,null,null,null,null,null,null,null,null,null,null,null,null,null,null,29112]
[null,null,"2025-04-09",null,null,11000,null,null,null,null,null,null,null,null,null,null,null,null,null,null,null,11000]
[null,null,"2025-04-09",null,null,null,null,null,null,null,null,null,null,null,null,null,null,null,null,830900,null,{"$f":"SUM(F135:U135)","v":830900}]
[null,null,"2025-04-09",null,null,76200,null,null,null,null,null,null,null,null,null,null,null,null,null,null,null,76200]
[null,null,"2025-04-09",null,null,76161,null,null,null,null,null,null,null,null,null,null,null,null,null,null,null,76161]
[null,null,"2025-04-09",null,null,967576,null,null,null,null,null,null,null,null,null,null,null,null,null,null,null,967576]
[null,null,"2025-04-09",null,null,1287706,null,null,null,null,null,null,null,null,null,null,null,null,null,null,null,1287706]
[null,null,"2025-04-09",null,null,688438,null,null,null,null,null,null,null,null,null,null,null,null,null,null,null,688438]
[null,null,"2025-04-09",null,null,1550300,null,null,null,null,null,null,null,null,null,null,null,null,null,null,null,1550300]
[null,null,"2025-04-09",null,null,321700,null,null,null,null,null,null,null,null,null,null,null,null,null,null,null,321700]
[null,null,"2025-04-09",null,null,375407,null,null,null,null,null,null,null,null,null,null,null,null,null,null,null,375407]
[null,null,"2025-04-09",null,null,null,null,null,null,7680,null,null,0,null,null,null,null,null,null,null,null,7680]
[null,null,"2025-04-09",null,null,null,null,null,null,null,null,null,4344,null,null,null,null,null,null,null,null,4344]
[null,null,"2025-04-09",null,null,null,null,null,null,null,null,null,null,null,null,null,null,null,null,null,387246,387246]
[null,null,"2025-04-09",null,null,539753,null,null,null,null,null,null,null,null,null,null,null,null,null,null,null,539753]
[null,null,"2025-04-09",null,null,76161,null,null,null,null,null,null,null,null,null,null,null,null,null,null,null,76161]
[null,null,"2025-04-09","1569 shikshakarmi mandey deo",37180,null,null,null,null,null,null,null,null,null,null,null,null,null,null,null,null,0]
[null,null,"2025-04-09",null,null,59300,null,null,null,null,null,null,null,null,null,null,null,null,null,null,null,59300]
[null,null,"2025-04-09",null,null,19614,null,null,null,null,null,null,null,null,null,null,null,null,null,null,null,19614]
[null,null,"2025-04-09",null,null,23700,null,null,null,null,null,null,null,null,null,null,null,null,null,null,null,23700]
[null,null,"2025-04-10",null,null,60420,null,null,null,null,null,null,null,null,null,null,null,null,null,null,null,60420]
[null,null,"2025-04-11",null,null,22000,null,null,null,null,null,null,null,null,null,null,null,null,null,null,null,22000]
[null,null,"2025-04-12",null,null,22000,null,null,null,null,null,null,null,null,null,null,null,null,null,null,null,22000]
[null,null,"2025-04-13",null,null,23394,null,null,null,null,null,null,null,null,null,null,null,null,null,null,null,23394]
[null,null,"2025-04-14",null,null,null,null,null,null,null,null,null,null,null,null,null,null,null,null,null,106145,106145]
[null,null,"2025-04-15",null,null,null,null,null,null,null,null,null,null,null,null,null,null,null,null,null,160620,160620]
[null,null,"2025-04-16",null,null,null,null,null,null,null,null,null,1840,null,null,null,null,null,null,null,null,1840]
[null,null,"2025-04-17",null,null,null,null,null,null,10400,null,null,0,null,null,null,null,null,null,null,null,10400]
[null,null,"2025-04-18",null,null,32025,null,null,null,null,null,null,null,null,null,null,null,null,null,null,null,32025]
[null,null,"2025-04-19",null,null,957,null,null,null,null,null,null,null,null,null,null,null,null,null,null,null,957]
[null,null,"2025-04-20",null,null,null,null,null,null,null,null,null,null,null,null,null,null,null,null,null,6644,6644]
[null,null,"2025-04-21","1099 director OE",20000,null,null,null,null,null,null,null,null,null,null,null,null,null,null,null,null,0]
[null,null,"2025-04-22","sallare director ",15000000,null,null,null,null,null,null,null,null,null,null,null,null,null,null,null,null,0]
[null,null,"2025-04-23",null,null,20800,null,null,null,null,null,null,null,null,null,null,null,null,null,null,null,20800]
[null,null,"2025-04-24",null,null,13548,null,null,null,null,null,null,null,null,null,null,null,null,null,null,null,13548]
[null,null,"2025-08-30",null,null,12184,null,null,null,null,null,null,null,null,null,null,null,null,null,null,null,12184,null,"MDM","Other"]
[null,null,null,null,null,null,null,null,null,null,null,null,null,null,null,null,null,null,null,null,null,0]
[null,null,null,null,null,null,null,null,null,null,null,null,null,null,null,null,null,null,null,null,null,0]
[null,null,null,null,null,null,null,null,null,null,null,null,null,null,null,null,null,null,null,null,null,0]
[null,null,null,null,null,null,null,null,null,null,null,null,null,null,null,null,null,null,null,null,null,0]
[null,null,null,null,null,null,null,null,null,null,null,null,null,null,null,null,null,null,null,null,null,0]
[null,null,null,null,null,null,null,null,null,null,null,null,null,null,null,null,null,null,null,null,null,0]
[null,null,null,null,null,null,null,null,null,null,null,null,null,null,null,null,null,null,null,null,null,0]
[null,null,null,null,null,null,null,null,null,null,null,null,null,null,null,null,null,null,null,null,null,0]
[null,null,null,null,null,null,null,null,null,null,null,null,null,null,null,null,null,null,null,null,null,0]
[null,null,null,null,null,null,null,null,null,null,null,null,null,null,null,null,null,null,null,null,null,0]
[null,null,null,null,null,null,null,null,null,null,null,null,null,null,null,null,null,null,null,null,null,0]
[null,null,null,null,null,null,null,null,null,null,null,null,null,null,null,null,null,null,null,null,null,0]
[null,null,null,null,null,null,null,null,null,null,null,null,null,null,null,null,null,null,null,null,null,0]
[null,null,null,null,null,null,null,null,null,null,null,null,null,null,null,null,null,null,null,null,null,0]
[null,null,null,null,null,null,null,null,null,null,null,null,null,null,null,null,null,null,null,null,null,0]
[null,null,null,null,null,null,null,null,null,null,null,null,null,null,null,null,null,null,null,null,null,0]
[null,null,null,null,null,null,null,null,null,null,null,null,null,null,null,null,null,null,null,null,null,0]
[null,null,null,null,null,null,null,null,null,null,null,null,null,null,null,null,null,null,null,null,null,0]
[null,null,null,null,null,null,null,null,null,null,null,null,null,null,null,null,null,null,null,null,null,0]
[null,null,null,null,null,null,null,null,null,null,null,null,null,null,null,null,null,null,null,null,null,0]
[null,null,null,null,null,null,null,null,null,null,null,null,null,null,null,null,null,null,null,null,null,0]
[null,null,null,null,null,null,null,null,null,null,null,null,null,null,null,null,null,null,null,null,null,0]
[null,null,null,null,null,null,null,null,null,null,null,null,null,null,null,null,null,null,null,null,null,0]
[null,null,null,null,null,null,null,null,null,null,null,null,null,null,null,null,null,null,null,null,null,0]
[null,null,null,null,null,null,null,null,null,null,null,null,null,null,null,null,null,null,null,null,null,0]
[null,null,null,null,null,null,null,null,null,null,null,null,null,null,null,null,null,null,null,null,null,0]
[null,null,null,null,null,null,null,null,null,null,null,null,null,null,null,null,null,null,null,null,null,0]
[null,null,null,null,null,null,null,null,null,null,null,null,null,null,null,null,null,null,null,null,null,0]
[null,null,null,null,null,null,null,null,null,null,null,null,null,null,null,null,null,null,null,null,null,0]
[null,null,null,null,null,null,null,null,null,null,null,null,null,null,null,null,null,null,null,null,null,0]
[null,null,null,null,null,null,null,null,null,null,null,null,null,null,null,null,null,null,null,null,null,{"$f":"SUM(F199:U199)","v":0}]
[null,null,null,null,null,null,null,null,null,null,null,null,null,null,null,null,null,null,null,null,null,0]
[null,null,null,null,null,null,null,null,null,null,null,null,null,null,null,null,null,null,null,null,null,0]
[null,null,null,null,null,null,null,null,null,null,null,null,null,null,null,null,null,null,null,null,null,0]
[null,null,null,null,null,null,null,null,null,null,null,null,null,null,null,null,null,null,null,null,null,0]
[null,null,null,null,null,null,null,null,null,null,null,null,null,null,null,null,null,null,null,null,null,0]
[null,null,null,null,null,null,null,null,null,null,null,null,null,null,null,null,null,null,null,null,null,0]
[null,null,null,null,null,null,null,null,null,null,null,null,null,null,null,null,null,null,null,null,null,0]
[null,null,null,null,null,null,null,null,null,null,null,null,null,null,null,null,null,null,null,null,null,0]
[null,null,null,null,null,null,null,null,null,null,null,null,null,null,null,null,null,null,null,null,null,0]
[null,null,null,null,null,null,null,null,null,null,null,null,null,null,null,null,null,null,null,null,null,0]
[null,null,null,null,null,null,null,null,null,null,null,null,null,null,null,null,null,null,null,null,null,0]
[null,null,null,null,null,null,null,null,null,null,null,null,null,null,null,null,null,null,null,null,null,0]
[null,null,null,null,null,null,null,null,null,null,null,null,null,null,null,null,null,null,null,null,null,0]
[null,null,null,null,null,null,null,null,null,null,null,null,null,null,null,null,null,null,null,null,null,0]
[null,null,null,null,null,null,null,null,null,null,null,null,null,null,null,null,null,null,null,null,null,0]
[null,null,null,null,null,null,null,null,null,null,null,null,null,null,null,null,null,null,null,null,null,0]
[null,null,null,null,null,null,null,null,null,null,null,null,null,null,null,null,null,null,null,null,null,0]
[null,null,null,null,null,null,null,null,null,null,null,null,null,null,null,null,null,null,null,null,null,0]
[null,null,null,null,null,null,null,null,null,null,null,null,null,null,null,null,null,null,null,null,null,0]
[null,null,null,null,null,null,null,null,null,null,null,null,null,null,null,null,null,null,null,null,null,0]
[null,null,null,null,null,null,null,null,null,null,null,null,null,null,null,null,null,null,null,null,null,0]
[null,null,null,null,null,null,null,null,null,null,null,null,null,null,null,null,null,null,null,null,null,0]
[null,null,null,null,null,null,null,null,null,null,null,null,null,null,null,null,null,null,null,null,null,0]
[null,null,null,null,null,null,null,null,null,null,null,null,null,null,null,null,null,null,null,null,null,0]
[null,null,null,null,null,null,null,null,null,null,null,null,null,null,null,null,null,null,null,null,null,0]
[null,null,null,null,null,null,null,null,null,null,null,null,null,null,null,null,null,null,null,null,null,0]
[null,null,null,null,null,null,null,null,null,null,null,null,null,null,null,null,null,null,null,null,null,0]
[null,null,null,null,null,null,null,null,null,null,null,null,null,null,null,null,null,null,null,null,null,0]
[null,null,null,null,{"$f":"SUM(E6:E227)","v":42774470},null,null,null,null,null,null,null,null,null,null,null,null,null,null,null,null,0]
[null,null,null,null,null,null,null,null,null,null,null,null,null,null,null,null,null,null,null,null,null,0]
[null,null,null,null,null,null,null,null,null,null,null,null,null,null,null,null,null,null,null,null,null,0]
[null,null,null,null,null,null,null,null,null,null,null,null,null,null,null,null,null,null,null,null,null,0]
[null,null,null,null,null,null,null,null,null,null,null,null,null,null,null,null,null,null,null,null,null,0]
[null,null,null,null,null,null,null,null,null,null,null,null,null,null,null,null,null,null,null,null,null,0]
[null,null,null,null,null,null,null,null,null,null,null,null,null,null,null,null,null,null,null,null,null,0]
[null,null,null,null,null,null,null,null,null,null,null,null,null,null,null,null,null,null,null,null,null,0]
[null,null,null,null,null,null,null,null,null,null,null,null,null,null,null,null,null,null,null,null,null,0]
[null,null,null,null,null,null,null,null,null,null,null,null,null,null,null,null,null,null,null,null,null,0]
[null,null,null,null,null,null,null,null,null,null,null,null,null,null,null,null,null,null,null,null,null,0]
[null,null,null,null,null,null,null,null,null,null,null,null,null,null,null,null,null,null,null,null,null,0]
[null,null,null,null,null,null,null,null,null,null,null,null,null,null,null,null,null,null,null,null,null,0]
[null,null,null,null,null,null,null,null,null,null,null,null,null,null,null,null,null,null,null,null,null,0]
[null,null,null,null,null,null,null,null,null,null,null,null,null,null,null,null,null,null,null,null,null,0]
[null,null,null,null,null,null,null,null,null,null,null,null,null,null,null,null,null,null,null,null,null,0]
[null,null,null,null,null,null,null,null,null,null,null,null,null,null,null,null,null,null,null,null,null,0]
[null,null,null,null,null,null,null,null,null,null,null,null,null,null,null,null,null,null,null,null,null,0]
[null,null,null,null,null,null,null,null,null,null,null,null,null,null,null,null,null,null,null,null,null,0]
[null,null,null,null,null,null,null,null,null,null,null,null,null,null,null,null,null,null,null,null,null,0]
[null,null,null,null,null,null,null,null,null,null,null,null,null,null,null,null,null,null,null,null,null,0]
[null,null,null,null,null,null,null,null,null,null,null,null,null,null,null,null,null,null,null,null,null,0]
[null,null,null,null,null,null,null,null,null,null,null,null,null,null,null,null,null,null,null,null,null,0]
[null,null,null,null,null,null,null,null,null,null,null,null,null,null,null,null,null,null,null,null,null,0]
[null,null,null,null,null,null,null,null,null,null,null,null,null,null,null,null,null,null,null,null,null,0]
["forh; o\"kZ esa dqy O;; ",null,"Total 31.08.25",null,null,{"$f":"SUM(F6:F228)","v":31640346},{"$f":"SUM(G6:G251)","v":0},0,0,51347,0,0,11795,0,0,0,0,0,0,830900,2792674,35327062,null,{"$f":"SUM(L253:T253)","v":842695},{"$f":"K253+U253+D253","v":2792674},"forh; o\"kZ esa dqy O;; "]
["izkjfEHkd 'ks\"k",null,"2025-04-01",858812,null,{"$f":"F5","v":2607934},16424,325437,23000,26483,0,850950.3200000003,13379.5,55000,25000,773881,4436508,5440,691220,5119627,4101431,19930526.819999993,null,{"$f":"SUM(L254:T254)","v":11971005.82},{"$f":"K254+U254+D254","v":4960243},"izkjfEHkd 'ks\"k"]
["izkIr jkf'k forh; o\"kZ",null,"INCOME ",null,null,{"$f":"42500000+154660+25001+38629+36180","v":42754470},null,null,null,20000,null,null,null,null,null,null,null,null,null,null,null,{"$f":"SUM(D255:U255)","v":42774470},null,{"$f":"SUM(L255:T255)","v":0},0,"izkIr jkf'k forh; o\"kZ"]
["dqy ctV",null,"tot",{"$f":"SUM(D254:D255)","v":858812},null,{"$f":"SUM(F254:F255)","v":45362404},16424,325437,23000,46483,0,850950.3200000003,13379.5,55000,25000,773881,4436508,5440,691220,5119627,4101431,{"$f":"SUM(V254:V255)","v":62704996.819999993},null,{"$f":"SUM(L256:T256)","v":11971005.82},4960243,"dqy ctV"]
[" 'ks\"k",null,null,{"$f":"D256-D253","v":858812},null,{"$f":"F256-F253","v":13722058},16424,325437,23000,-4864,0,850950.3200000003,1584.5,55000,25000,773881,4436508,5440,691220,4288727,1308757,{"$f":"V256-V253","v":27377934.819999993},null,{"$f":"SUM(L257:T257)","v":11128310.82},2167569," 'ks\"k"]
[]
[]
[null,null,null,858812]
[null,null,null,null,71787]
[]
[null,null,null,null,null,null,null,null,null,null,null,"mdm","smsa",2202]
[null,null,null,null,null,null,null,null,null,null,null,4426074,178700]
[null,null,null,null,null,null,null,null,null,null,null,1158552,244819]
[null,null,null,null,null,null,null,null,null,null,null,10000000,210160]
[null,null,null,null,null,null,null,null,null,null,null,200000,2500000]
[null,null,null,null,null,null,null,null,null,null,null,null,6050000]
[null,null,null,null,null,null,null,null,null,null,null,null,7650000]
[null,null,null,null,null,null,null,null,null,null,null,null,2500000]
[null,null,null,null,null,null,null,null,null,null,null,null,1202000]
[null,null,null,null,null,null,null,null,null,null,null,null,114900]
[null,null,null,null,null,null,null,null,null,null,null,null,252000]
[null,null,null,null,null,null,null,null,null,null,null,null,166500]
[null,null,null,null,null,null,null,null,null,null,null,null,52200]
[null,null,null,null,null,null,null,null,null,null,null,null,1343150]
[null,null,null,null,null,null,null,null,null,null,null,null,148200]
[null,null,null,null,null,null,null,null,null,null,null,null,19200]
[null,null,null,null,null,null,null,null,null,null,null,null,43500]
[null,null,null,null,null,null,null,null,null,null,null,null,98000]
[null,null,null,null,null,null,null,null,null,null,null,null,32000]
[null,null,null,null,null,null,null,null,null,null,null,null,205000]
[null,null,null,null,null,null,null,null,null,null,null,null,28500]
[null,null,null,null,null,null,null,null,null,null,null,null,10430]
[null,null,null,null,null,null,null,null,null,null,null,null,900000]
[null,null,null,null,null,null,null,null,null,null,null,null,392219]
[null,null,null,null,null,null,null,null,null,null,null,null,269255]
[null,null,null,null,null,null,null,null,null,null,null,null,33600]
[null,null,null,null,null,null,null,null,null,null,null,null,22200]
[null,null,null,null,null,null,null,null,null,null,null,null,50400]
[null,null,null,null,null,null,null,null,null,null,null,null,33300]
[null,null,null,null,null,null,null,null,null,null,null,null,660000]
[null,null,null,null,null,null,null,null,null,null,null,null,144000]
[null,null,null,null,null,null,null,null,null,null,null,null,108000]
[null,null,null,null,null,null,null,null,null,null,null,null,350400]
[null,null,null,null,null,null,null,null,null,null,null,null,300000]
[null,null,null,null,null,null,null,null,null,null,null,null,5800]
[null,null,null,null,null,null,null,null,null,null,null,null,20200]
[null,null,null,null,null,null,null,null,null,null,null,null,205230]
[null,null,null,null,null,null,null,null,null,null,null,null,102380]
[null,null,null,null,null,null,null,null,null,null,null,null,59810]
[null,null,null,null,null,null,null,null,null,null,null,null,338000]
[null,null,null,null,null,null,null,null,null,null,null,null,836000]
[null,null,null,null,null,null,null,null,null,null,null,null,380100]
[null,null,null,null,null,null,null,null,null,null,null,null,352800]
[null,null,null,null,null,null,null,null,null,null,null,null,249700]
[null,null,null,null,null,null,null,null,null,null,null,null,441000]
[null,null,null,null,null,null,null,null,null,null,null,null,2775000]
[null,null,null,null,null,null,null,null,null,null,null,null,1157000]
[null,null,null,null,null,null,null,null,null,null,null,null,125000]
[null,null,null,null,null,null,null,null,null,null,null,null,1337760]
[null,null,null,null,null,null,null,null,null,null,null,null,294300]
[null,null,null,null,null,null,null,null,null,null,null,null,61200]
[null,null,null,null,null,null,null,null,null,null,null,null,167400,13750]
[null,null,null,null,null,null,null,null,null,null,null,null,163670,50000]
[null,null,null,null,null,null,null,null,null,null,null,null,90720]
[null,null,null,null,null,null,null,null,null,null,null,null,59940]
[null,null,null,null,null,null,null,null,null,null,null,null,1110000]
[null,null,null,null,null,null,null,null,null,null,null,null,255000]
[null,null,null,null,null,null,null,null,null,null,null,null,220000]
[null,null,null,null,null,null,null,null,null,null,null,{"$f":"SUM(L264:L320)","v":15784626},{"$f":"SUM(M264:M320)","v":37120643},{"$f":"SUM(N264:N320)","v":63750}]

{"sheet":"EPI-A","index":14,"n_rows":21,"n_cols":11,"rows_kept":21,"cut":false,"hidden":false,"merged":[[0,0,0,10],[1,0,1,10],[15,0,15,9],[2,0,2,1],[2,2,2,10],[4,5,4,6],[4,8,4,9],[5,6,6,6],[5,7,5,8],[5,9,6,9],[5,10,6,10],[8,0,11,0],[14,0,14,2],[5,0,6,0],[5,1,6,1],[5,2,6,2],[18,8,18,9],[3,8,3,10],[5,3,6,3],[5,4,6,4],[3,6,3,7],[4,1,4,4],[5,5,6,5]]}
["izi=&1"]
["v-fu;fer@dk;Z izHkkfjr Lohd`r inksa dk fooj.k"]
[{"$f":"Profile!$A$44","v":"dk;kZy; %&"},null,{"$f":"'P1'!$C$1","v":"eq[; CykWd f'k{kk vf/kdkjh] lexz f'k{kk] chdkusj"}]
[null,null,null,null,null,null,{"$f":"Profile!$A$13","v":"foHkkx dk uke %&"},null,{"$f":"Profile!$C$14","v":" izkjfEHkd f'k{kk foHkkx"}]
["ctV gSM%&",{"$f":"Profile!$C$3","v":"2202-01-197-16-01"},null,null,null,{"$f":"Profile!$A$8","v":"ihMh [kkrk la[;k %&"},null,{"$f":"'rrr 08'!$N$2","v":762},{"$f":"Profile!$F$3","v":"vkWfQl vkbZMh"},null,{"$f":"Profile!$F$4","v":1451}]
["ys[kk dk 'kh\"kZ nh?kZ 'kh\"kZ@minh?kZk 'kh\"kZ@y?kq 'kh\"kZ@mi'kh\"kZ","in uke","ysoy","orZeku Lohd`r inksa dh la[;k      ¼fnukad 01-04-2025 dh fLFkfr½","pkyw o\"kZ esa Lohd`r u;s inksa dh la[;k","pkyw o\"kZ esa lekIr fd;s x;s inksa dh la[;k","orZeku inksa dh la[;k (4+5-6)","fu;fer dk;Zjr deZpkjh",null,"fnukad 31-08-2025 dks fjZDr inksa dh la[;k","fnukad ftlls in fjDr gS"]
[null,null,null,null,null,null,null,"1 tuojh 2004 ls iwoZ fu;qDr","1 tuojh 2004 ds Ik'pkr fu;qDr"]
[1,2,3,4,5,6,7,8,9,10,11]
[{"$f":"B5","v":"2202-01-197-16-01"},"v/;kid&III","L-10",98,0,0,{"$f":"D9+E9-F9","v":98},{"$f":"'saranas Lekha'!$D$8","v":4},{"$f":"'saranas Lekha'!$E$8","v":84},{"$f":"G9-H9-I9","v":10}]
[null,"'kkjhfjd f'k{kd","L-10",3,0,0,{"$f":"D10+E10-F10","v":3},0,0,{"$f":"G10-H10-I10","v":3}]
[null,"iSjk Vhpj","FIX",11,0,0,11,0,10,1]
[null,"efgyk iSjk Vhpj","FIX",6,0,0,6,0,6,0]
[null,"iapk;r f'k{kd ¼xzke iapk;r@\nfo|ky; lgk;da½  ","FIX",67,0,0,67,{"$f":"D13-G13","v":0},66,1]
[null,"f'k{kkdehZ","FIX",0,0,0,{"$f":"D14+E14-F14","v":0},{"$f":"D14-G14","v":0},0,{"$f":"G14-H14-I14","v":0}]
["egk;ksx",null,null,{"$f":"SUM(D9:D14)","v":185},{"$f":"SUM(E9:E14)","v":0},0,185,4,166,15]
["    izekf.kr fd;k tkrk gS fd inksa ds lUnHkZ esa mDr lwpuk esjs }kjk O;fDrxr #i ls tkap dj yh xbZ gS vkSj bls lgh ik;k x;k gSA"]
[]
[null,null,null,null,null,{"$f":"'P-07'!E16","v":"eksgEen vtht HkkVh"}]
[null,null,null,null,null,{"$f":"'P-07'!E17","v":9460701805},null,null,"gLrk{kj dk;kZy;/;{k"]
[null,null,null,null,{"$f":"'P-14'!$C$18","v":"rS;kj drkZ %&"},{"$f":"'P-07'!E18","v":"gtkjh jke rMZ"}]
[null,null,null,null,null,{"$f":"'P-07'!E19","v":9667576332}]

{"sheet":"EPI-B","index":15,"n_rows":25,"n_cols":15,"rows_kept":25,"cut":false,"hidden":false,"merged":[[6,13,7,13],[6,14,7,14],[5,6,5,11],[0,1,0,14],[1,1,1,14],[2,13,2,14],[2,3,2,12],[3,2,3,5],[3,8,3,9],[3,14,4,14],[3,10,3,13],[4,10,4,11],[4,12,4,13],[2,1,2,2],[4,8,4,9],[9,1,17,1],[9,2,17,2],[18,1,18,4],[4,2,4,5],[22,12,22,13],[19,1,19,13],[5,1,7,1],[5,2,7,2],[5,3,7,3],[5,4,7,4],[5,5,7,5],[5,12,5,14],[6,6,7,6],[6,7,7,7],[6,8,6,11],[6,12,7,12]]}
[null,"izi=&1"]
[null,"c foHkkx esa dk;Zjr vU; dkfeZd dk fooj.k"]
[null,{"$f":"Profile!$A$44","v":"dk;kZy; %&"},null,{"$f":"'P1'!$C$1","v":"eq[; CykWd f'k{kk vf/kdkjh] lexz f'k{kk] chdkusj"}]
[null,null,null,null,null,null,null,null,{"$f":"Profile!$A$13","v":"foHkkx dk uke %&"},null,{"$f":"Profile!$C$14","v":" izkjfEHkd f'k{kk foHkkx"},null,null,null,{"$f":"Profile!$F$4","v":1451}]
[null,"ctV gSM",{"$f":"Profile!$C$3","v":"2202-01-197-16-01"},null,null,null,null,null,{"$f":"Profile!$A$8","v":"ihMh [kkrk la[;k %&"},null,{"$f":"'rrr 08'!$N$2","v":762},null,{"$f":"Profile!$F$3","v":"vkWfQl vkbZMh"}]
[null,"ys[kk dk 'kh\"kZ nh?kZ 'kh\"kZ@minh?kZk 'kh\"kZ@y?kq 'kh\"kZ@mi'kh\"kZ","uku Iyku@Iyku@lh,l,l","in uke","ysoy","              fnukad 31-08-2025 dks fjDr inksa dh la[;k","fjDr inksa ds fo#n dk;Zjr",null,null,null,null,null,"Lohd`r inksa ds vfrfjDr dk;Zjr dkfeZd"]
[null,null,null,null,null,null,"Urgent temporary Appointment","Reappointment","On Contract ( Consolidated Amount)",null,null,null,"in uke","la[;k","okf\"kZd foRrh; Hkkj"]
[null,null,null,null,null,null,null,null,"Through Agency","Direct","AS per DOP Circular","Others"]
[null,1,2,3,4,5,6,7,8,9,10,11,12,13,14]
[null,{"$f":"C5","v":"2202-01-197-16-01"},"SF","NIL","NIL","NIL","NIL","NIL","NIL","NIL","NIL","NIL","NIL","NIL","NIL"]
[]
[]
[]
[]
[]
[]
[]
[]
[null,"egk;ksx",null,null,null,{"$f":"SUM(F10:F18)","v":0},{"$f":"SUM(G10:G18)","v":0},0,0,0,0,null,null,0]
[null,"    izekf.kr fd;k tkrk gS fd inksa ds lUnHkZ esa mDr lwpuk esjs }kjk O;fDrxr #i ls tkap dj yh xbZ gS vkSj bls lgh ik;k x;k gSA"]
[]
[null,null,null,null,null,null,null,{"$f":"'P-07'!E16","v":"eksgEen vtht HkkVh"}]
[null,null,null,null,null,null,null,{"$f":"'P-07'!E17","v":9460701805},null,null,null,null,"gLrk{kj dk;kZy;/;{k"]
[null,null,null,null,null,null,{"$f":"'EPI-A'!$E$20","v":"rS;kj drkZ %&"},{"$f":"'P-07'!E18","v":"gtkjh jke rMZ"}]
[null,null,null,null,null,null,null,{"$f":"'P-07'!E19","v":9667576332}]

{"sheet":"P-04","index":16,"n_rows":21,"n_cols":8,"rows_kept":21,"cut":false,"hidden":false,"merged":[[8,3,8,5],[16,0,16,7],[17,0,17,2],[7,1,15,1],[0,0,0,7],[2,0,2,7],[4,0,5,0],[4,1,5,1],[4,2,5,2],[4,3,5,3],[4,4,5,4],[4,5,4,7],[1,0,1,1],[1,2,1,6],[3,0,3,1]]}
["izi=&4¼v½"]
[{"$f":"Profile!$A$1","v":"dk;kZy;&"},null,{"$f":"Profile!$C$1","v":"eq[; CykWd f'k{kk vf/kdkjh] lexz f'k{kk] chdkusj"},null,null,null,null,{"$f":"Profile!$F$4","v":1451}]
["foHkkx esa miyC/k okguks dh lwph"]
[{"$f":"Profile!$A$13","v":"foHkkx dk uke %&"},null,{"$f":"Profile!$G$2","v":" izkjfEHkd f'k{kk foHkkx"},null,null,null,{"$f":"Profile!$A$8","v":"ihMh [kkrk la[;k %&"},{"$f":"Profile!$C$8","v":762}]
["Ø-la-","ys[kks dk 'kh\"kZ","jkT; fuf/k@dsUnzh; lgk;rk","dk;kZy; dk uke","in uke","okguks dk fooj.k"]
[null,null,null,null,null,"okgu dk izdkj thi@dkj@vU;","jftLV~s'ku la[;k","dz; dk o\"kZ"]
[1,2,3,4,5,6,7,8]
[1,{"$f":"C21","v":"2202-01-197-16-01"}]
[null,null,null,"NIL"]
[]
[]
[]
[]
[]
[]
[]
["izekf.kr fd;k tkrk gS fd inksa ds lanHkZ esa mi;qZDr lwpuk dh esjs }kjk O;fDrxr :Ik ls tkWp dj yh xbZ gSa vkSj bl lgh ik;k x;k gSA"]
[]
[null,null,null,null,null,null,"gLrk{kj dk;kZy;/;{k"]
[]
[null,"ctV gSM%&",{"$f":"Profile!$C$3","v":"2202-01-197-16-01"}]

{"sheet":"P-03","index":17,"n_rows":20,"n_cols":9,"rows_kept":20,"cut":false,"hidden":false,"merged":[[8,1,16,1],[10,3,10,6],[17,0,17,8],[18,0,18,2],[3,2,3,4],[0,0,0,8],[2,0,2,8],[5,0,6,0],[5,1,6,1],[5,2,6,2],[5,3,6,3],[5,4,5,5],[5,6,5,8],[1,2,1,3],[1,4,1,7],[4,0,4,1]]}
["izi=&3"]
[null,null,{"$f":"Profile!$A$1","v":"dk;kZy;&"},null,{"$f":"'rrr 08'!$D$4","v":"eq[; CykWd f'k{kk vf/kdkjh] lexz f'k{kk] chdkusj"}]
["foHkkx esa miyC/k dEI;wVlZ@loZj ,oa fdjk;s ij fy;s x;s dEI;wVlZ dh lwpuk"]
[null,null,"osru en%&",null,null,{"$f":"Profile!$C$3","v":"2202-01-197-16-01"},null,{"$f":"Profile!$A$8","v":"ihMh [kkrk la[;k %&"},{"$f":"Profile!$C$8","v":762}]
[{"$f":"Profile!$A$13","v":"foHkkx dk uke %&"},null,{"$f":"Profile!$G$2","v":" izkjfEHkd f'k{kk foHkkx"},null,null,null,null,{"$f":"Profile!$F$3","v":"vkWfQl vkbZMh"},{"$f":"Profile!$F$4","v":1451}]
["Ø-la-","ys[kks dk 'kh\"kZ","jkT; fuf/k@dsUnzh; lgk;rk","dk;kZy; dk uke","foHkkxh;",null,"fdjk;s ij fy, x;s dEI;wVjlZ"]
[null,null,null,null,"dEI;wVj@loZj la[;k","fizUVj la[;k","e'khufon eSu Lka[;k","okf\"kZd Hkkj lgL= :i;ks esa","foRr foHkkx dh vkbZMh ,oa fnukWd"]
[1,2,3,4,5,6,7,8,9]
[1,{"$f":"$F$4","v":"2202-01-197-16-01"},"jkT; fuf/k",null,0,0,0,0,0]
[]
[null,null,null,"NIL"]
[]
[]
[]
[]
[]
[]
["izekf.kr fd;k tkrk gS fd inksa ds lanHkZ esa mi;qZDr lwpuk dh esjs }kjk O;fDrxr :Ik ls tkWp dj yh xbZ gSa vkSj bl lgh ik;k x;k gSA"]
[]
[null,null,null,null,null,null,null,"gLrk{kj dk;kZy;/;{k"]

{"sheet":"P-05","index":18,"n_rows":17,"n_cols":9,"rows_kept":17,"cut":false,"hidden":false,"merged":[[4,8,5,8],[8,3,8,5],[14,0,14,2],[15,7,15,8],[0,0,0,8],[2,0,2,6],[4,0,5,0],[4,1,5,1],[4,2,5,2],[4,3,5,3],[4,4,4,6],[4,7,5,7],[1,1,1,2],[3,0,3,1],[7,1,12,1]]}
["izi=&4¼c½"]
[null,{"$f":"Profile!$A$1","v":"dk;kZy;&"},null,{"$f":"Profile!$C$1","v":"eq[; CykWd f'k{kk vf/kdkjh] lexz f'k{kk] chdkusj"}]
["foHkkx }kjk fdjk;s ij fy, x;s okguksa dh lwph",null,null,null,null,null,null,{"$f":"Profile!$A$8","v":"ihMh [kkrk la[;k %&"},{"$f":"Profile!$C$8","v":762}]
[{"$f":"Profile!$A$13","v":"foHkkx dk uke %&"},null,{"$f":"Profile!$G$2","v":" izkjfEHkd f'k{kk foHkkx"},null,null,null,null,{"$f":"Profile!$F$3","v":"vkWfQl vkbZMh"},{"$f":"Profile!$F$4","v":1451}]
["Ø-la-","ys[kks dk 'kh\"kZ","jkT; fuf/k@dsUnzh; lgk;rk","dk;kZy; dk uke","okguks dk fooj.k",null,null,"fiNys foRrh; o\"kZ esa O;; dh xbZ jkf'k¼:i;s lgL= esa½","foRr foHkkx dh vkbZMh ,oa fnukWd"]
[null,null,null,null,"okgu dk izdkj thi@dkj@vU;","Js.kh¼jkT;@lEHkkx@ftyk@LFkkuh; Lrjh;","dqy la[;k"]
[1,2,3,4,5,6,7,8,9]
[1,{"$f":"C17","v":"2202-01-197-16-01"}]
[null,null,null,"NIL"]
[]
[]
[]
[]
["izekf.kr fd;k tkrk gS fd inksa ds lanHkZ esa mi;qZDr lwpuk dh esjs }kjk O;fDrxr :Ik ls tkWp dj yh xbZ gSa vkSj bl lgh ik;k x;k gSA"]
[]
[null,null,null,null,null,null,null,"gLrk{kj dk;kZy;/;{k"]
[null,"ctV gSM%&",{"$f":"Profile!$C$3","v":"2202-01-197-16-01"}]

{"sheet":"P-1B","index":19,"n_rows":19,"n_cols":9,"rows_kept":19,"cut":false,"hidden":false,"merged":[[10,3,10,6],[7,1,14,1],[15,0,15,8],[16,0,16,2],[0,0,0,8],[2,0,2,8],[4,0,5,0],[4,1,5,1],[4,2,5,2],[4,3,5,3],[4,4,5,4],[4,5,5,5],[1,1,1,2],[3,0,3,1],[1,3,1,6],[4,7,5,7],[4,8,5,8]]}
["izi=&1¼c½"]
[null,{"$f":"Profile!$A$1","v":"dk;kZy;&"},null,{"$f":"Profile!$C$1","v":"eq[; CykWd f'k{kk vf/kdkjh] lexz f'k{kk] chdkusj"},null,null,null,{"$f":"Profile!$A$8","v":"ihMh [kkrk la[;k %&"},{"$f":"Profile!$C$8","v":762}]
["v- fu;fer dk;Z izHkkfjr Loh—r inksa dk fooj.k"]
[{"$f":"Profile!$A$13","v":"foHkkx dk uke %&"},null,{"$f":"Profile!$G$2","v":" izkjfEHkd f'k{kk foHkkx"},null,null,null,null,{"$f":"Profile!$F$3","v":"vkWfQl vkbZMh"},{"$f":"Profile!$F$4","v":1451}]
["Ø-la-","ys[kks dk 'kh\"kZ","jkT; fuf/k@dsUnzh; lgk;rk","inuke","ysoy uEcj","fjDr inksa dh la[;k","fu;qfDr dk izdkj","la[;k","dqy okf\"kZdh Hkkj¼#i;ksa esa½"]
[null,null,null,null,null,null,"1- dkfeZd foHkkx ds ifji= ds vuqlkj \n2- rnFkZ vLFkkbZ fu;qfDr \n3- iqufu;qfDr \n4- ,tsUlh ds ek/;e ls \n5- izR;{k lafoank\n6- vU;"]
[1,2,3,4,5,6,7,8,9]
[1,{"$f":"$C$19","v":"2202-01-197-16-01"}]
[2]
[3]
[null,null,null,"NIL"]
[]
[]
[]
[null,null,null,null,null,{"$f":"SUM(F8:F14)","v":0},{"$f":"SUM(G8:G14)","v":0},{"$f":"SUM(H8:H14)","v":0},{"$f":"SUM(I8:I14)","v":0}]
["izekf.kr fd;k tkrk gS fd inksa ds lanHkZ esa mi;qZDr lwpuk dh esjs }kjk O;fDrxr :Ik ls tkWp dj yh xbZ gSa vkSj bl lgh ik;k x;k gSA"]
[]
[null,null,null,null,null,null,null,"gLrk{kj dk;kZy;/;{k"]
[null,"ctV gSM%&",{"$f":"Profile!$C$3","v":"2202-01-197-16-01"}]

{"sheet":"rrr10","index":20,"n_rows":21,"n_cols":15,"rows_kept":21,"cut":false,"hidden":false,"merged":[[0,0,0,8],[0,10,0,13],[3,13,3,14],[2,0,2,1],[1,12,1,14],[1,0,1,9],[3,9,3,10],[3,11,3,12],[2,2,2,9],[2,10,2,11],[2,12,2,14],[3,7,3,8],[3,0,3,2],[3,3,3,6],[20,7,20,8],[4,10,5,10],[4,11,5,11],[4,12,4,14],[4,9,5,9],[17,7,17,8],[18,7,18,8],[4,0,5,0],[4,1,5,1],[4,2,4,4],[4,6,4,8],[19,7,19,8]]}
["izi= 10",null,null,null,null,null,null,null,null,"ctV gSM",{"$f":"Profile!$C$3","v":"2202-01-197-16-01"}]
["vk; dk foLr`r ctV vuqeku forh; o\"kZ ---------------------¼1vizSy ls 31ekpZ rd½ dk",null,null,null,null,null,null,null,null,null,"MhMhvks dksM",{"$f":"Profile!$G$43","v":1451},{"$f":"Profile!$K$44","v":"LVsV Q.M"}]
["dk;kZy; &",null,{"$f":"Profile!$D$44","v":"eq[; CykWd f'k{kk vf/kdkjh] lexz f'k{kk] chdkusj"},null,null,null,null,null,null,null,{"$f":"Profile!$A$8","v":"ihMh [kkrk la[;k %&"},null,{"$f":"Profile!$C$8","v":762}]
["dk;kZy; v/;{k MhMhvks uke %&",null,null,{"$f":"Profile!$G$4","v":"euh\"kk vjksM+k"},null,null,null,{"$f":"Profile!$I$4","v":1234567890},null,"foHkkx dk uke %& ",null,{"$f":"Profile!$G$2","v":" izkjfEHkd f'k{kk foHkkx"},null,"j  lgL=ksa esa"]
["Øe l[;k","ys[kk dk 'kh\"kZ nh?kZ 'kh\"kZ@ minh?kZ 'kh\"kZ@ y?kq'kh\"kZ@ mi'kh\"kZ ","okLrfod O;; vkadM+s    ¼xr iwoZ rhu o\"kksZ ds½",null,null,{"$f":"Profile!$H$19","v":"2024-25"},"okLrfod vk; vkadM+s",null,null,"vxLr ls ekpZ rd dk laHkkfor vk; ¼pkyw o\"kZ½","la'kksf/kr vuqeku ¼pkyw o\"kZ½ 8$10","vk; O;; ds vuqeku ckcr ¼vkxkeh o\"kZ½","o`f)¼$½ ;k deh¼&½"]
[null,null,{"$f":"'rrr 09'!D7","v":"2022-23"},{"$f":"'rrr 09'!E7","v":"2023-24"},"2023-2024",{"$f":"'rrr 09'!$G$7","v":"vk; O;; ds vuqeku ckcr~ pkyw o\"kZ vkoaVu"},"vxLr ls ekpZ rd ¼xr o\"kZ½","viszy ls tqykbZ rd ¼pkyw o\"kZ½","dkye 7 o 8 dk ;ksx",null,null,null,"6 vkSj 11 esa","9 vkSj 11 esa","11 vkSj 12 esa"]
[1,2,3,4,5,6,7,8,9,10,11,12,13,14,15]
[null,"0075&00&105&12&01 \nHkwfe vf/kxzg.k ls vk;",{"$f":"Profile!F21","v":0},{"$f":"Profile!G21","v":0},{"$f":"Profile!H21","v":0},{"$f":"K8","v":0},{"$f":"Profile!I21","v":0},{"$f":"Profile!J21","v":0},{"$f":"G8+H8","v":0},{"$f":"Profile!K21","v":0},{"$f":"H8+J8","v":0},{"$f":"Profile!L21","v":0}]
[null,"0202&01&101&01&00 \nQhl] ekU;rk 'kqYd ls vk;",{"$f":"Profile!F22","v":0},{"$f":"Profile!G22","v":0},{"$f":"Profile!H22","v":0},{"$f":"K9","v":0},{"$f":"Profile!I22","v":0},{"$f":"Profile!J22","v":0},{"$f":"G9+H9","v":0},{"$f":"Profile!K22","v":0},{"$f":"H9+J9","v":0},{"$f":"Profile!L22","v":0}]
[null,"0202&01&101&02&01 \nfofo/k",{"$f":"Profile!F23","v":0},{"$f":"Profile!G23","v":0},{"$f":"Profile!H23","v":0},0,{"$f":"Profile!I23","v":0},{"$f":"Profile!J23","v":0},0,{"$f":"Profile!K23","v":0},0,{"$f":"Profile!L23","v":0}]
[null,"0202&01&101&02&03 \nva'knku ls vk;",{"$f":"Profile!F24","v":0},{"$f":"Profile!G24","v":0},{"$f":"Profile!H24","v":0},0,{"$f":"Profile!I24","v":0},{"$f":"Profile!J24","v":0},0,{"$f":"Profile!K24","v":0},0,{"$f":"Profile!L24","v":0}]
[null,"0049&04&801&01&01 \nC;kt ls vk;",{"$f":"Profile!F25","v":0},{"$f":"Profile!G25","v":0},{"$f":"Profile!H25","v":0},0,{"$f":"Profile!I25","v":0},{"$f":"Profile!J25","v":0},0,{"$f":"Profile!K25","v":0},0,{"$f":"Profile!L25","v":0}]
[null,"vU;",{"$f":"Profile!F26","v":0},{"$f":"Profile!G26","v":0},{"$f":"Profile!H26","v":0},0,{"$f":"Profile!I26","v":0},{"$f":"Profile!J26","v":0},0,{"$f":"Profile!K26","v":0},0,{"$f":"Profile!L26","v":0}]
[null,";ksx",{"$f":"C13+C10+C9+C8+C11+C12","v":0},{"$f":"D13+D10+D9+D8+D11+D12","v":0},0,{"$f":"F13+F10+F9+F8+F11+F12","v":0},{"$f":"G13+G10+G9+G8+G11+G12","v":0},{"$f":"H13+H10+H9+H8+H11+H12","v":0},{"$f":"I13+I10+I9+I8+I11+I12","v":0},{"$f":"J13+J10+J9+J8+J11+J12","v":0},{"$f":"K13+K10+K9+K8+K11+K12","v":0},{"$f":"L13+L10+L9+L8+L11+L12","v":0}]
[]
[]
[]
[null,null,null,null,null,null,null,{"$f":"Profile!G6","v":"eksgEen vtht HkkVh"},null,null,null,{"$f":"Profile!A3","v":"eq[; CykWd f'k{kk vf/kdkjh"}]
[null,null,null,null,null,null,null,{"$f":"Profile!$I$6","v":9460701805},null,null,null,{"$f":"Profile!A4","v":"lexz f'k{kk"}]
[null,null,null,null,null,null,"rS;kj drkZ %&",{"$f":"'rrr 08'!J294","v":"gtkjh jke rMZ"},null,null,null,{"$f":"Profile!A5","v":"chdkusj"}]
[null,null,null,null,null,null,null,{"$f":"'rrr 08'!J295","v":9667576332},null,null,null,{"$f":"Profile!$F$4","v":1451}]

{"sheet":"L-1-2","index":21,"n_rows":18,"n_cols":8,"rows_kept":18,"cut":false,"hidden":true,"merged":[[16,5,16,7],[17,5,17,7],[13,0,13,3],[2,0,2,1],[2,4,2,5],[2,6,2,7],[0,2,0,7],[7,2,12,2],[4,7,6,7],[7,7,12,7],[15,5,15,7],[1,5,1,7],[1,0,1,4]]}
[null,{"$f":"Profile!A44","v":"dk;kZy; %&"},{"$f":"Profile!D44","v":"eq[; CykWd f'k{kk vf/kdkjh] lexz f'k{kk] chdkusj"}]
["v/;kid ysoy&1 o ysoy&2 Lohd`r] dk;Zjr o fjDr inks dk fooj.k",null,null,null,null,{"$f":"Profile!C3","v":"2202-01-197-16-01"}]
["en 2202   ukWu Iyku  ",null,"o\"kZ ",{"$f":"Profile!O44","v":"RE 2024-2025"},"o vkxkeh o\"kZ",null,{"$f":"Profile!N43","v":"BE 202-2026"}]
["ys[kk 'kh\"kZd ¼foLr`r 'kh\"kZ½","en","in uke","fo\"k; ","Lohd`r","dk;Zjr","fjDr","Lohd`r ;ksx"]
["vjktif=r",{"$f":"F2","v":"2202-01-197-16-01"},"v/;kid ysoy&1","&",0,0,{"$f":"E5-F5","v":0},{"$f":"E5+E7+E6","v":0}]
["vjktif=r",{"$f":"B5","v":"2202-01-197-16-01"},"v/;kid ysoy&1","&",0,0,{"$f":"E6-F6","v":0}]
["vjktif=r",{"$f":"B6","v":"2202-01-197-16-01"},"v/;kid ysoy&1","&",0,0,{"$f":"E7-F7","v":0}]
["vjktif=r",{"$f":"B5","v":"2202-01-197-16-01"},"v/;kid ysoy&2","vaxzsth",0,0,{"$f":"E8-F8","v":0},{"$f":"E8+E9+E10+E11+E12+E13","v":0}]
["vjktif=r",{"$f":"B5","v":"2202-01-197-16-01"},null,"fgUnh",0,0,0]
["vjktif=r",{"$f":"B9","v":"2202-01-197-16-01"},null,"xf.kr@foKku",0,0,0]
["vjktif=r",{"$f":"B10","v":"2202-01-197-16-01"},null,"lkekftd foKku",0,0,0]
["vjktif=r",{"$f":"B11","v":"2202-01-197-16-01"},null,"iatkch",0,0,0]
["vjktif=r",{"$f":"B12","v":"2202-01-197-16-01"},null,"laLd`r",0,0,0]
["dqy",null,null,null,{"$f":"E5+E7+E8+E9+E10+E11+E12+E13+E6","v":0},{"$f":"F5+F7+F8+F9+F10+F11+F12+F13+F6","v":0},0,0]
[]
[null,{"$f":"Profile!C3","v":"2202-01-197-16-01"},null,null,null,{"$f":"#REF!","v":{"$error":"#REF!"}}]
[null,null,null,null,null,{"$f":"#REF!","v":{"$error":"#REF!"}},{"$f":"#REF!","v":{"$error":"#REF!"}},{"$f":"#REF!","v":{"$error":"#REF!"}}]
[null,null,null,null,null,{"$f":"#REF!","v":{"$error":"#REF!"}},{"$f":"#REF!","v":{"$error":"#REF!"}},{"$f":"#REF!","v":{"$error":"#REF!"}}]

{"sheet":"CHALAN","index":22,"n_rows":33,"n_cols":16,"rows_kept":33,"cut":false,"hidden":true,"merged":[[10,12,10,15],[0,6,0,7],[10,0,11,0],[10,1,11,1],[10,2,10,5],[10,6,11,6],[10,7,10,10],[10,11,11,11],[8,7,8,8],[8,0,8,1]]}
[null,null,null,null,null,null,"pkyku fooj.k"]
["fo|ky; dk uke &",null,null,"jktdh; mPp ek/;fed fo|ky; pkSxkbZa Vksad"]
["ys[kk 'kh\"kZd&",null,2202,"lkekU; f'k{kk",null,null,"vkWfQl vkbZMh&",27306]
[null,null,2,"ek/;fed f'k{kk"]
[null,null,109,"jktdh; mPp ek/;fed fo|ky;"]
[null,null,27,"yM+dksa ds fo|ky;"]
[null,null,1,"yM+dksa ds fo|ky;"]
[]
["ekax la[;k",null,24,null,null,null,"Ldhe dk uke","LVsV Q.M"]
[]
["Ø- la-","pkyu uEcj o fnukad","vizsy 19 ls ekpZ 20",null,null,null,"pkyu uEcj o fnukad","vxLr 19 ls ekpZ 20",null,null,null,"pkyu uEcj o fnukad","vizsy 20 ls tqykbZ 20"]
[null,null,"f'k{k.k Qhl ,oa vU; Qhlsa","vuqi;ksxh lkekuksa ls vk;","vf/kd Hkqxrku ls olwyh","fofo/k",null,"f'k{k.k Qhl ,oa vU; Qhlsa","vuqi;ksxh lkekuksa ls vk;","vf/kd Hkqxrku ls olwyh","fofo/k",null,"f'k{k.k Qhl ,oa vU; Qhlsa","vuqi;ksxh lkekuksa ls vk;","vf/kd Hkqxrku ls olwyh","fofo/k"]
["",null,10,20,30,40,null,50,60,70,80,null,90,100,110,120]
[""]
[""]
[""]
[""]
[""]
[""]
[""]
[""]
[""]
[""]
[""]
[""]
[""]
[""]
[null,"TOTAL",10,20,30,40,null,50,60,70,80,null,90,100,110,120]
[]
[null,null,null,null,null,null,null,null,null,null,null,null,{"$f":"Profile!A3","v":"eq[; CykWd f'k{kk vf/kdkjh"}]
[null,null,null,null,null,null,null,null,null,null,null,null,{"$f":"Profile!A4","v":"lexz f'k{kk"}]
[null,null,null,null,null,null,null,null,null,null,null,null,{"$f":"Profile!A5","v":"chdkusj"}]
[null,null,null,null,null,null,null,null,null,null,null,null,{"$f":"Profile!$F$4","v":1451}]

{"sheet":"retier","index":23,"n_rows":14,"n_cols":10,"rows_kept":14,"cut":false,"hidden":false,"merged":[[13,7,13,8],[10,7,10,8],[11,7,11,8],[12,7,12,8],[0,3,0,9],[2,0,2,9],[0,0,0,2],[3,5,3,6],[3,0,3,2],[1,0,1,5],[1,7,1,9]]}
[{"$f":"Profile!A44","v":"dk;kZy; %&"},null,null,{"$f":"Profile!D44","v":"eq[; CykWd f'k{kk vf/kdkjh] lexz f'k{kk] chdkusj"}]
["izi= 12 ,",null,null,null,null,null,"ctV gSM",{"$f":"Profile!$C$3","v":"2202-01-197-16-01"}]
["osru J`a[kyk 1 ls 6 rd lsokfuo`r gksus okys dkfeZd dk fooj.k"]
["en 2202   ukWu Iyku  ",null,null,"o\"kZ ",{"$f":"Profile!O44","v":"RE 2024-2025"},"o vkxkeh o\"kZ",null,{"$f":"Profile!M44","v":"2026&2027"}]
["Ø-la","ctV en","deZpkjh dk uke","osru Ja`[kyk","ossru ysoy","in uke","lsokfuo`r fnukad","lsokfuo`r deZpkjh dh lsokfuo`fr ds le; ns; mikftZr vodk'k","dkfeZd dk lsokfuo`fr ds le; ewy osru","lsokfuo`r deZpkjh dh jde "]
[1," Iyku ",null,null,null,null,null,null,null,{"$f":"H6*I6/30","v":0}]
[2,"ukWu Iyku ckfydk",null,null,null,null,null,null,null,{"$f":"H7*I7/30","v":0}]
[3,"ukWu Iyku ",null,null,null,null,null,null,null,0]
[4,"ukWu Iyku ",null,null,null,null,null,null,null,0]
[]
[null,null,{"$f":"Profile!C3","v":"2202-01-197-16-01"},null,null,null,null,{"$f":"Profile!A3","v":"eq[; CykWd f'k{kk vf/kdkjh"}]
[null,null,null,null,null,null,null,{"$f":"Profile!A4","v":"lexz f'k{kk"},{"$f":"Profile!B4","v":0}]
[null,null,null,null,null,null,null,{"$f":"Profile!A5","v":"chdkusj"},{"$f":"Profile!B5","v":0}]
[null,null,null,null,null,null,null,{"$f":"Profile!$F$4","v":1451}]

{"sheet":"List ALL EMP","index":24,"n_rows":177,"n_cols":5,"rows_kept":177,"cut":false,"hidden":false,"merged":[[1,1,1,2]]}
[null,"uke dk;kZy;&",{"$f":"Profile!$C$1","v":"eq[; CykWd f'k{kk vf/kdkjh] lexz f'k{kk] chdkusj"}]
[null,"ihMh gSM ls osru Hkqxrku dkfeZdksa dh lwph",null,"vkWfQl vkbZMh&",{"$f":"Profile!$F$4","v":1451}]
[null,"ys[kk 'kh\"kZd&",{"$f":"Profile!C3","v":"2202-01-197-16-01"},{"$f":"Profile!$A$8","v":"ihMh [kkrk la[;k %&"},{"$f":"Profile!$C$8","v":762}]
[null,{"$f":"Profile!$A$16","v":"orZeku o\"kZ %&"},{"$f":"Profile!$C$16","v":"2025-26"},"ekax la[;k%& ",{"$f":"Profile!$C$11","v":24}]
[null,{"$f":"Profile!$A$13","v":"foHkkx dk uke %&"},{"$f":"Profile!$G$2","v":" izkjfEHkd f'k{kk foHkkx"}]
["Ø-la-","uke dkfeZd","in uke","thih,Q@,uih,l@izku uEcj@,uvkbZlh vkbZMh","ekfld ekuns;"]
[1,2,3,4,5]
[1,"AJAY KUMAR NAYAK"," ",5255786,17800]
[{"$f":"A8+1","v":2},"AMMANA RAM SIDHU","PANCHAYAT SHIKSHAK",5299810,17800]
[{"$f":"A9+1","v":3},"ANJU BALA SHARMA","KANISHATH SHIKSHAK",5255802,17800]
[4,"ANTU RAM SHARMA","PANCHAYAT SHIKSHAK",5299804,11000]
[5,"ARUN KUMAR","PANCHAYAT SHIKSHAK",5301043,17800]
[6,"BAJARANG LAL DHAKA","PANCHAYAT SHIKSHAK",5302719,11000]
[7,"BAJRANG SINGH","KANISHATH SHIKSHAK",5255794,17800]
[8,"BALRAM GODARA","PANCHAYAT SHIKSHAK",5299784,17800]
[9,"BALRAM SAHAL","PANCHAYAT SHIKSHAK",5300942,17800]
[10,"BALWANT SINGH","PANCHAYAT SHIKSHAK",5301039,17800]
[11,"BHANWAR LAL PALIWAL","PANCHAYAT SHIKSHAK",5299531,17800]
[12,"BHURA RAM JAT_5255831","KANISHATH SHIKSHAK",5255831,17800]
[13,"CHANDVEER SINGH","PANCHAYAT SHIKSHAK",5301077,11000]
[14,"CHETAN PRAKASH BARUPAL","PANCHAYAT SHIKSHAK",5301079,17800]
[15,"CHITRA SHARMA_5299779","PANCHAYAT SHIKSHAK",5299779,17800]
[16,"DEEWAN DAN","PANCHAYAT SHIKSHAK",5296217,17800]
[17,"GAJENDER KUMAR","PANCHAYAT SHIKSHAK",5299828,17800]
[18,"GANESHA RAM","KANISHATH SHIKSHAK",5255804,17800]
[19,"GIRISH CHAND GOYAL","PANCHAYAT SHIKSHAK",5301061,11000]
[20,"GOPAL RAM","PANCHAYAT SHIKSHAK",5301913,17800]
[21,"GOPI CHAND SAHARAN","PANCHAYAT SHIKSHAK",5300911,11000]
[22,"HANUMAN RAM","PANCHAYAT SHIKSHAK",5301024,11000]
[23,"HARAMANA RAM MEGHWAL","PANCHAYAT SHIKSHAK",5299799,17800]
[24,"HAZEE SHAH","PANCHAYAT SHIKSHAK",5301053,17800]
[25,"INDRA BADDER","PANCHAYAT SHIKSHAK",5299825,11000]
[26,"INDRAJ BHADU","PANCHAYAT SHIKSHAK",5300943,17800]
[27,"JAGDEESH GODARA","PANCHAYAT SHIKSHAK",5301069,17800]
[28,"JETHA RAM NAI","KANISHATH SHIKSHAK",5255793,17800]
[29,"KARNI SINGH","PANCHAYAT SHIKSHAK",5301082,17800]
[30,"KAUSHALYA","KANISHATH SHIKSHAK",5255825,17800]
[31,"KESAR DEVI","KANISHATH SHIKSHAK",5255791,17800]
[32,"KHINYA RAM GODARA_5299844","PANCHAYAT SHIKSHAK",5299844,11000]
[33,"KIRAN KUMARI","PANCHAYAT SHIKSHAK",5301057,11000]
[34,"KIRPAL DAN_5299836","PANCHAYAT SHIKSHAK","",11000]
[35,"KISHNA RAM","PANCHAYAT SHIKSHAK",5301022,11000]
[36,"KRIPAL DAN","PANCHAYAT SHIKSHAK",5299836,17800]
[37,"KRISHANA DONGIWALA_5255792","KANISHATH SHIKSHAK",5255792,17800]
[38,"KUSHALA RAM SARAN_5312500","PANCHAYAT SHIKSHAK","",17800]
[39,"LALCHAND MOOND","PANCHAYAT SHIKSHAK",5300886,17800]
[40,"LOKENDER SINGH JODHA_5306417","PANCHAYAT SHIKSHAK","",17800]
[41,"MANGILAL MEGHWAL","KANISHATH SHIKSHAK",5255807,17800]
[42,"MANJU KAUSHIK","PANCHAYAT SHIKSHAK",5301066,17800]
[43,"MANOJ KUMAR SUTHAR","PANCHAYAT SHIKSHAK",5301013,17800]
[44,"MEENAKSHI","PANCHAYAT SHIKSHAK",5301044,17800]
[45,"MUKESH SAIN","PANCHAYAT SHIKSHAK",5301057,11000]
[46,"MUSHTAK AHMED","KANISHATH SHIKSHAK",5255788,17800]
[47,"NAND KISHOR KARELA","PANCHAYAT SHIKSHAK",5301037,17800]
[48,"NAND KISHOR SHARMA","PANCHAYAT SHIKSHAK",5301036,17800]
[49,"NARAYAN RAM_5301072","PANCHAYAT SHIKSHAK",5301077,17800]
[50,"PAPPURAM MEGHWAL","KANISHATH SHIKSHAK",5255800,17800]
[51,"PARMESHWARI PRAJAPAT_5301027","PANCHAYAT SHIKSHAK",5301027,17800]
[52,"POONAM CHAND MEGHWAL_5299538","PANCHAYAT SHIKSHAK",5299538,11000]
[53,"PRABHA KIRADOO_5306670","PANCHAYAT SHIKSHAK","",17800]
[54,"PRAKASH CHAND GOYAL","PANCHAYAT SHIKSHAK",5301002,17800]
[55,"PUKHRAJ SHARMA","PANCHAYAT SHIKSHAK",5296153,17800]
[56,"PUSHPLATA CHOUDHARY_5304422","PANCHAYAT SHIKSHAK","",17800]
[57,"RADHA UPADHYAY","KANISHATH SHIKSHAK",5255790,17800]
[58,"RADHE SHYAM","PANCHAYAT SHIKSHAK",5301055,11000]
[59,"RADHE SHYAM PALIWAL","PANCHAYAT SHIKSHAK","",17800]
[60,"RAJA RAM","PANCHAYAT SHIKSHAK",5299533,17800]
[61,"RAM SUKH MEGHWAL_5322949","PANCHAYAT SHIKSHAK","",11000]
[62,"RAMAN LAL BISSA_5311506","PANCHAYAT SHIKSHAK",5301048,11000]
[63,"RAMESH BITHU_5304329","PANCHAYAT SHIKSHAK","",17800]
[64,"RAMESHWAR LAL_5301035","PANCHAYAT SHIKSHAK",5301035,17800]
[65,"RATAN LAL","PANCHAYAT SHIKSHAK",5300839,17800]
[{"$f":"A72+1","v":66},"RAVINDER JAIN","PANCHAYAT SHIKSHAK",5301042,17800]
[67,"RIKTAKMAL SHARMA","PANCHAYAT SHIKSHAK",5300877,17800]
[68,"SARLA CHOUDHARY","KANISHATH SHIKSHAK",5255803,17800]
[69,"SAROJ PARIK","KANISHATH SHIKSHAK",5255798,17800]
[70,"SHANKAR LAL JYANI","PANCHAYAT SHIKSHAK",5300940,17800]
[71,"SHIV KUMAR BHATI_5301030","PANCHAYAT SHIKSHAK",5301030,17800]
[72,"SHIVNARAYAN MOOND","KANISHATH SHIKSHAK",5255783,17800]
[73,"SOHAN SINGH","PANCHAYAT SHIKSHAK",5301903,11000]
[74,"SUBASH CHANDER GODARA","PANCHAYAT SHIKSHAK",5299817,17800]
[75,"SUBHASH NAYAK_5317766","PANCHAYAT SHIKSHAK","",11000]
[76,"SUMITRA KASWA","PANCHAYAT SHIKSHAK",5299536,17800]
[77,"SUNITA SHARMA","PANCHAYAT SHIKSHAK",5299522,17800]
[78,"SURENDER KUMAR KUKNA","PANCHAYAT SHIKSHAK",5301064,17800]
[79,"VIJAY KUMAR_5307505","PANCHAYAT SHIKSHAK","",11000]
[80,"VIJAYPAL GODARA_5320450","PANCHAYAT SHIKSHAK","",11000]
[81,"VIJAYPAL JYANI","PANCHAYAT SHIKSHAK",5300934,17800]
[82,"ZUBBER MOHAMMAD SHAH_5315244","PANCHAYAT SHIKSHAK","",11000]
[83,"BHAIRA RAM","Teacher Level-2","RJBI202309078023",23700]
[84,"BHAWANA KANWAR","Teacher Level-1","RJBI202309040350",23700]
[85,"BUDHRAM","TEACHER","RJBI202309557196",23700]
[86,"DEVENDRA SINGH","Teacher Level-1 (Special Education)","RJBI202209032389",23700]
[87,"HANSA KUMARI SWAMI","Teacher Level-2","RJBI202309065691",23700]
[88,"JYOTI RATHORE","TEACHER","RJBI202309066458",23700]
[89,"KHERUNISHA","Teacher Level-2","RJBI202309065639",23700]
[90,"KHUSHBOO YADAV","Teacher Level-2","RJBI202309073471",23700]
[91,"MANJU BALA","Teacher Level-1 (Special Education)","RJBI202209028546",23700]
[92,"MONIKA","Teacher Level-2","RJBI202309050858",23700]
[93,"MOOL SINGH","TEACHER","RJBI202309073384",23700]
[94,"PINKY","Teacher Level-1","RJBI202309083154",23700]
[95,"POOJA","Teacher Level-2","RJBI202309045038",23700]
[96,"PREETI TOGASIA","Teacher Level-1","RJBI202309039848",23700]
[97,"PRITI KUMARI","Teacher Level-2","RJBI202309063488",23700]
[98,"PRITI SINGH","Teacher Level-2","RJBI202409103538",23700]
[99,"PUSHPA KUMARI","TEACHER","RJBI202309072187",23700]
[100,"RAJANI MOYAL","TEACHER","RJBI202209013008",23700]
[101,"RAKESH GODARA","Teacher Level-1","RJBI202209029520",23700]
[102,"RAM CHRAN MAN","TEACHER","RJBI202309052725",23700]
[103,"SUNILA NEHRA","Teacher Level-1","RJBI202309056985",23700]
[104,"VIMLA MEENA","Teacher Level-2","RJBI202309074987",23700]
[105,"VIMLA MEGHWAL","TEACHER","RJBI202309072138",23700]
[106,"JAIPAL HUDDA","Teacher Level-2 (Special Education)","RJBI202309050864",23700]
[107,"ANITA SHARMA","v/;kid","RJBI201709025912",42700]
[108,"ANITA YADAV","v/;kid","RJGA201235035721",47900]
[109,"ARPANA YADAV","v/;kid","RJJL201921009195",38000]
[110,"ARUNA SWAMI","v/;kid","RJBI201309018501",46500]
[111,"ASHA KUMARI","v/;kid","RJBM201905006981",38000]
[112,"ASHOK KUMAR TANWAR","v/;kid","RJBI199509008339",75400]
[113,"BABITA SHARMA","v/;kid","RJRA201231034753",47900]
[114,"BABULAL KUMHAR","v/;kid","RJBI201209020700",47900]
[115,"BABURAM DANWA","v/;kid","RJBI200509009391",61300]
[116,"BAJRANG LAL KUMHAR","v/;kid","RJBI201709001567",50800]
[117,"BASANT KUMAR GIRI","v/;kid","RJBI201809009748",39100]
[118,"BHARTI PUROHIT","v/;kid","RJBI200109000410",49300]
[119,"CHNDU KUMARI","v/;kid","RJBI201209019224",47900]
[120,"CHUNNA SARAN"," 'kk-f'k-","RJBI201509034080",42700]
[121,"DEEPA BAMNIYA","v/;kid","RJBI201209031330",47900]
[122,"DEVENDER KUMAR GAHALOT","v/;kid","RJBI201309026808",47900]
[123,"DURGA OJHA","v/;kid","RJBI201909003344",38000]
[124,"FIZA FATMA","v/;kid","RJBI201709020349",39100]
[125,"GANESH NARAYAN HARITWAL","v/;kid","RJBI202009025005",35800]
[126,"GAUTAM JAJRA","v/;kid","RJBI201209022599",47900]
[127,"INDU BALA","v/;kid","RJBI201909033830",36900]
[128,"JAGDISH PRASAD","v/;kid","RJJL201221024594",42700]
[129,"KAMLA NAYAK","v/;kid","RJJS200720011537",52300]
[{"$f":"A136+1","v":130},"KAUSHALYA SAINI","v/;kid","RJBM201905011981",38000]
[131,"KAVITA RANI","v/;kid","RJBI200809006536",50800]
[132,"KAVITA YADAV","v/;kid","RJBM201905011901",36900]
[133,"KHUSHBOO","v/;kid","RJBM200705007645",52300]
[134,"KRISHAN KUMAR KHATRI","v/;kid","RJBI199509008763",75400]
[135,"LALITA PARIHAR","v/;kid","RJBI201209019214",47900]
[136,"LALITA SANKHALA","v/;kid","RJBI201909016012",38000]
[137,"LAXMAN SINGH SANKHLA","v/;kid","RJBI200509015139",61300]
[138,"LAXMI BENIWAL","v/;kid","RJBI201709041566",42700]
[139,"LEKHNATH SIDH","v/;kid","RJBI202009025020",35800]
[140,"MANGI LAL","v/;kid","RJJS200720011017",52300]
[141,"MANJU CHAUDHARI","v/;kid","RJBI201709025922",42700]
[142,"MEENA PUNJABI","v/;kid","RJBI199609003728",67000]
[143,"MINAKSHI","v/;kid","RJBI201509005231",45100]
[144,"MINAKSHI SANKHLA","v/;kid","RJJO200725006788",52300]
[145,"MINAXI TANWAR","v/;kid","RJJL201921002461",38000]
[146,"MUKTA RANI"," 'kk-f'k-","RJBI201709039550",45100]
[147,"ONKAR SINGH RATHORE","v/;kid","RJBI199309008951",71100]
[148,"PRAVEEN SINGH SHEKHAWAT","v/;kid","RJJL201521004887",45100]
[149,"PUNAM KUMARI RAO","v/;kid","RJBI201709037445",42700]
[150,"RAJA RAM","v/;kid","RJBM200705007810",52300]
[151,"RAJENDRA KUMAR JANAGAL","v/;kid","RJBI200809002855",50800]
[152,"RAJLAXMI MODI","v/;kid","RJBM200705003128",52300]
[153,"RAKHI DADHICH","v/;kid","RJBI201309034482",46500]
[154,"RAM DAYAL JAKHAR","v/;kid","RJBI201509031406",45100]
[155,"RENU KUMARI","v/;kid","RJBI201709020304",39100]
[156,"RUCHI BHARDWAJ","v/;kid","RJBI201809047210",38000]
[157,"RUPALI TYAGI","v/;kid","RJBI201909014914",38000]
[158,"SAHI RAM","v/;kid","RJJW20122200570",47900]
[159,"SANJANA TANWAR","v/;kid","RJBI201809008928",39100]
[160,"SARITA SHARMA","v/;kid","RJBI201209019229",47900]
[161,"SAZIDA JOIYA","v/;kid","RJBI201209028116",47900]
[162,"SHISHRAM DHAYAL","v/;kid","RJBI199709011109",69000]
[163,"SHOBHANA","v/;kid","RJBI201709021435",39100]
[164,"SITARAM","v/;kid","RJBI200809012267",50800]
[165,"SULOCHANA","v/;kid","RJBI200809048981",50800]
[166,"SUMAN RAMAVAT","v/;kid","RJBI200809012629",50800]
[167,"SUNITA CHOUDHARY","v/;kid","RJBI201209028120",47900]
[168,"SURENDER SINGH","v/;kid","RJBI201709038693",38000]
[169,"SUSHEEL KUMAR SHARMA","v/;kid","RJBI202109001584",34800]
[170,"VISHNU KUMAR CHANDAN","v/;kid","RJBI201209049614",47900]