{"text_format":"1","workbook":"xlsx","n_sheets":4,"sheets":["Instruction","detail","01.07.23 CBEO","Metrix chart"],"not_rendered":{"charts":0,"images":2,"macros":0,"external_links":1,"defined_names":2,"comments":0,"pivot_tables":0},"unopened":[],"bounds":{"document_bytes":16777216,"sheet_cells":100000,"rows_first":2000,"rows_last":500,"rows_between":2000,"halvings":0,"cell_chars":16384,"cell_head_chars":4096},"cells_cut":0,"cells_raw":0,"read":"whole","date_system":"1900"}

{"sheet":"Instruction","index":0,"n_rows":17,"n_cols":6,"rows_kept":17,"cut":false,"hidden":false,"merged":[[15,1,15,2],[15,5,15,9],[1,0,1,9],[2,0,2,9],[3,0,3,9],[5,1,5,9],[8,1,8,9],[6,1,6,9],[7,1,7,9],[0,0,0,9],[13,0,13,9],[4,1,4,9],[9,1,9,9],[10,1,10,9],[11,0,11,9],[12,0,12,9]]}
["नमस्कार साथिओ"]
["आपकी सहायतार्थ मैने जुलाई 2020 में लगने वाली वार्षिक वेतन वृद्धि के आदेश बनाने के लिए यह एक्सेल प्रोग्राम बनाया है आशा करता हु इससे आपको बहुत सहायता मिलेगी |"]
["प्रयोग में लेना का तरीका "]
["सर्वप्रथम detail में आप अपने कार्यालय का नाम एवं अधीनस्थ विद्यालयों के कर्मचरियों का डाटा इस प्रकार से भरे |"]
["कार्यालय का नाम","कार्यालय का नाम लिखना है जिससे आदेश जारी होने है"]
["नाम कर्मचारी -","इसमें कर्मचारी का नाम लिखे "]
["पद -","कर्मचारी का पद लिखे "]
["सथायी","कर्मचारी का स्थायी का विवरण"]
["नाम विद्यालय -","सम्बंधित कर्मचारी के विद्यालय का नाम लिखे"]
["लेवल -","कर्मचारी का लेवल लिखे"]
["वर्तमान वेतन -","कर्मचारी का 30 जून 2020 का मूल वेतन लिखे"]
["ये डाटा भरने के बाद आपका वार्षिक वेतन वृद्धि आर्डर तैयार हो जायेगा आप इसका प्रिंट लेकर कर्मचारी की निजी पंजिका में लगा सकते है |"]
["For any Problem you can Contact-"]
["SUMIT GIRI, Senior Assistant"]
["Government Senior Secondary School, Rooppura (Kuchaman City)"]
[null,9414631519,null,null,null,"sumitgiri777@gmail.com"]
["Password to enter details is 'sumit'.  All  sheets are protected. "]

{"sheet":"detail","index":1,"n_rows":80,"n_cols":8,"rows_kept":80,"cut":false,"hidden":false,"merged":[[0,0,0,7],[4,5,4,6],[2,0,2,2],[2,3,2,7],[1,0,1,2],[1,3,1,7],[3,0,3,2],[3,3,3,7]]}
["jktLFkku ljdkj "]
["dk;kZy; dk uke %&",null,null,"eq[; CykWd f'k{kk vf/kdkjh] chdkusj"]
["fnukad 30twu rd izkIr osru dh fnukad",null,null,"2022-07-01"]
["osru o`f} dh fnukad %&",null,null,"2023-07-01"]
["Ø-la-","dkfeZd dk uke","dkfeZd dk in","LFkk;h ;k LFkkukiUUk ","inLFkkiu LFkku ","is&eSfVªDl ysoy",null,"orZeku osru"]
[1,"Jh lqfer fxjh","lgk0 iz0v0","LFkk;h","jkmekfo ukiklj","Leval-","16",95900]
[2,"d","iz/kkukpk;Z","LFkk;h","jkmekfo ukiklj","Leval-","16",80300]
[3,"[k","iz/kkukpk;Z","LFkk;h","jkmekfo ukiklj","Leval-","16",71400]
[4,"x","iz/kkukpk;Z","LFkk;h","jkmekfo ukiklj","Leval-","16",75700]
[5,"?k","iz/kkukpk;Z","LFkk;h","jkmekfo ukiklj","Leval-","16",73500]
[6,";","iz/kkukpk;Z","LFkk;h","jkmekfo ukiklj","Leval-","16",35000]
[7,"j","iz/kkukpk;Z","LFkk;h","jkmekfo ukiklj","Leval-","16",36000]
[8,"y","iz/kkukpk;Z","LFkk;h","jkmekfo ukiklj","Leval-","16",37000]
[9,"o ","iz/kkukpk;Z","LFkk;h","jkmekfo ukiklj","Leval-","16",38000]
[10,"d","iz/kkukpk;Z","LFkk;h","jkmekfo ukiklj","Leval-","16",39000]
[11,"[k","iz/kkukpk;Z","LFkk;h","jkmekfo ukiklj","Leval-","16",40000]
[12,"x","iz/kkukpk;Z","LFkk;h","jkmekfo ukiklj","Leval-","16",41000]
[13,"?k","iz/kkukpk;Z","LFkk;h","jkmekfo ukiklj","Leval-","16",42000]
[14,";","iz/kkukpk;Z","LFkk;h","jkmekfo ukiklj","Leval-","16",43000]
[15,"j","iz/kkukpk;Z","LFkk;h","jkmekfo ukiklj","Leval-","16",44000]
[16,"y","iz/kkukpk;Z","LFkk;h","jkmekfo ukiklj","Leval-","16",45000]
[17,"o ","iz/kkukpk;Z","LFkk;h","jkmekfo ukiklj","Leval-","16",46000]
[18,"d","iz/kkukpk;Z","LFkk;h","jkmekfo ukiklj","Leval-","16",47000]
[19,"[k","iz/kkukpk;Z","LFkk;h","jkmekfo ukiklj","Leval-","16",48000]
[20,"x","iz/kkukpk;Z","LFkk;h","jkmekfo ukiklj","Leval-","16",49000]
[21,"x","iz/kkukpk;Z","LFkk;h","jkmekfo ukiklj","Leval-","16",50000]
[22,"x","iz/kkukpk;Z","LFkk;h","jkmekfo ukiklj","Leval-","16",51000]
[23,"x","iz/kkukpk;Z","LFkk;h","jkmekfo ukiklj","Leval-","16",52000]
[24,"x","iz/kkukpk;Z","LFkk;h","jkmekfo ukiklj","Leval-","16",53000]
[25,"x","iz/kkukpk;Z","LFkk;h","jkmekfo ukiklj","Leval-","16",54000]
[26,"x","iz/kkukpk;Z","LFkk;h","jkmekfo ukiklj","Leval-","16",55000]
[27,"x","iz/kkukpk;Z","LFkk;h","jkmekfo ukiklj","Leval-","16",56000]
[28,"x","iz/kkukpk;Z","LFkk;h","jkmekfo ukiklj","Leval-","16",57000]
[29,"x","iz/kkukpk;Z","LFkk;h","jkmekfo ukiklj","Leval-","16",58000]
[30,"x","iz/kkukpk;Z","LFkk;h","jkmekfo ukiklj","Leval-","16",59000]
[31,"x","iz/kkukpk;Z","LFkk;h","jkmekfo ukiklj","Leval-","16",60000]
[32,"x","iz/kkukpk;Z","LFkk;h","jkmekfo ukiklj","Leval-","16",61000]
[33,"x","iz/kkukpk;Z","LFkk;h","jkmekfo ukiklj","Leval-","16",62000]
[34,"x","iz/kkukpk;Z","LFkk;h","jkmekfo ukiklj","Leval-","16",63000]
[35,"x","iz/kkukpk;Z","LFkk;h","jkmekfo ukiklj","Leval-","16",64000]
[36,"x","iz/kkukpk;Z","LFkk;h","jkmekfo ukiklj","Leval-","16",65000]
[37,"x","iz/kkukpk;Z","LFkk;h","jkmekfo ukiklj","Leval-","16",66000]
[38,"x","iz/kkukpk;Z","LFkk;h","jkmekfo ukiklj","Leval-","16",67000]
[39,"x","iz/kkukpk;Z","LFkk;h","jkmekfo ukiklj","Leval-","16",68000]
[40,"x","iz/kkukpk;Z","LFkk;h","jkmekfo ukiklj","Leval-","16",69000]
[41,"x","iz/kkukpk;Z","LFkk;h","jkmekfo ukiklj","Leval-","16",70000]
[42,"x","iz/kkukpk;Z","LFkk;h","jkmekfo ukiklj","Leval-","16",71000]
[43,"x","iz/kkukpk;Z","LFkk;h","jkmekfo ukiklj","Leval-","16",72000]
[44,"x","iz/kkukpk;Z","LFkk;h","jkmekfo ukiklj","Leval-","16",73000]
[45,"x","iz/kkukpk;Z","LFkk;h","jkmekfo ukiklj","Leval-","16",74000]
[46,"x","iz/kkukpk;Z","LFkk;h","jkmekfo ukiklj","Leval-","16",75000]
[47,"x","iz/kkukpk;Z","LFkk;h","jkmekfo ukiklj","Leval-","16",76000]
[48,"x","iz/kkukpk;Z","LFkk;h","jkmekfo ukiklj","Leval-","16",77000]
[49,"x","iz/kkukpk;Z","LFkk;h","jkmekfo ukiklj","Leval-","16",78000]
[50,"x","iz/kkukpk;Z","LFkk;h","jkmekfo ukiklj","Leval-","16",79000]
[51,"x","iz/kkukpk;Z","LFkk;h","jkmekfo ukiklj","Leval-","16",80000]
[52,"x","iz/kkukpk;Z","LFkk;h","jkmekfo ukiklj","Leval-","16",81000]
[53,"x","iz/kkukpk;Z","LFkk;h","jkmekfo ukiklj","Leval-","16",82000]
[54,"x","iz/kkukpk;Z","LFkk;h","jkmekfo ukiklj","Leval-","16",83000]
[55,"x","iz/kkukpk;Z","LFkk;h","jkmekfo ukiklj","Leval-","16",84000]
[56,"x","iz/kkukpk;Z","LFkk;h","jkmekfo ukiklj","Leval-","16",85000]
[57,"x","iz/kkukpk;Z","LFkk;h","jkmekfo ukiklj","Leval-","16",86000]
[58,"x","iz/kkukpk;Z","LFkk;h","jkmekfo ukiklj","Leval-","16",87000]
[59,"x","iz/kkukpk;Z","LFkk;h","jkmekfo ukiklj","Leval-","16",88000]
[60,"x","iz/kkukpk;Z","LFkk;h","jkmekfo ukiklj","Leval-","16",89000]
[61,"x","iz/kkukpk;Z","LFkk;h","jkmekfo ukiklj","Leval-","16",90000]
[62,"x","iz/kkukpk;Z","LFkk;h","jkmekfo ukiklj","Leval-","16",91000]
[63,"x","iz/kkukpk;Z","LFkk;h","jkmekfo ukiklj","Leval-","16",92000]
[64,"x","iz/kkukpk;Z","LFkk;h","jkmekfo ukiklj","Leval-","16",93000]
[65,"x","iz/kkukpk;Z","LFkk;h","jkmekfo ukiklj","Leval-","16",94000]
[66,"x","iz/kkukpk;Z","LFkk;h","jkmekfo ukiklj","Leval-","16",95000]
[67,"x","iz/kkukpk;Z","LFkk;h","jkmekfo ukiklj","Leval-","16",96000]
[68,"x","iz/kkukpk;Z","LFkk;h","jkmekfo ukiklj","Leval-","16",97000]
[69,"x","iz/kkukpk;Z","LFkk;h","jkmekfo ukiklj","Leval-","16",98000]
[70,"x","iz/kkukpk;Z","LFkk;h","jkmekfo ukiklj","Leval-","16",99000]
[71,"x","iz/kkukpk;Z","LFkk;h","jkmekfo ukiklj","Leval-","16",100000]
[72,"x","iz/kkukpk;Z","LFkk;h","jkmekfo ukiklj","Leval-","16",101000]
[73,"x","iz/kkukpk;Z","LFkk;h","jkmekfo ukiklj","Leval-","16",102000]
[74,"x","iz/kkukpk;Z","LFkk;h","jkmekfo ukiklj","Leval-","16",103000]
[75,"pUnzs'k dqekj","iz/kkukpk;Z","LFkk;h","jkmekfo ukiklj","Leval-","16",104000]

{"sheet":"01.07.23 CBEO","index":2,"n_rows":95,"n_cols":17,"rows_kept":95,"cut":false,"hidden":false,"merged":[[86,12,86,15],[94,12,94,15],[95,12,95,15],[84,1,84,16],[87,10,87,12],[85,12,85,15],[0,0,0,16],[5,9,6,9],[5,12,6,12],[5,13,5,14],[5,15,5,16],[5,7,6,7],[5,8,6,8],[1,1,1,16],[3,4,3,8],[4,1,4,16],[2,1,2,2],[2,3,2,4],[2,5,2,16],[5,5,6,6],[7,1,7,2],[7,5,7,6],[5,0,7,0],[5,1,6,2],[5,4,6,4]]}
["jktLFkku ljdkj "]
[null,"dkfeZd ¼[k&1½ foHkkx "]
[null,"fu;rdkyhu osru o`f} izek.k i= ",null,"dk;kZy; %& ",null,{"$f":"detail!$D$2","v":"eq[; CykWd f'k{kk vf/kdkjh] chdkusj"}]
[null,"Schedule-1","Part `B`","Rule No. 5(vi) and (vii)","Pay Matrix of State Government Servants",null,null,null,null,"bl foHkkx dh vkKk ","ua-,Q15¼1½,QMh@:Yl@2017 ",null,null,"t;iqj]","fnukad","2017-12-30","ds vuqlj.k esa "]
[null,"1   izekf.kr fd;k tkrk gS fd fuEufyf[kr jkT; deZpkjh us [kkuk la[;k 7esa cryk, x, fu;e ls fu/kkZfjr fu;rdkfyd osruo`f} vftZr dj yh gSa jkT; deZpkjh us [kkuk la[;k 6 dh rkjh[k ls fufnZ\"V in ij u;s osrueku 2017 ds fu;ekuqlkj vof/k esa dk;Z fd;k gSA mDr vof/k dh x.kuk nqjkpj.k vkfn ds dkj.k fuyEcu dh vof/k] osru vodk'k] vuqifLFkfr dh vof/k o in dks LFkkukiUu :i ls /kkj.k djus dh fLFkfr esas lHkh izdkj ds vodk'kksa dh vof/k ?kVk dj dh xbZ gSA  "]
["Ø-la-","deZpkjh dk uke e; in",null,{"$f":"detail!$D$2","v":"eq[; CykWd f'k{kk vf/kdkjh] chdkusj"},"laLFkk;h ;k LFkkukiUUk ","is&eSfVªDl ysoy",null,"orZeku osru ","rkjh[k ftllasa orZeku osru izkIr fd;k tk jgk gS ","orZeku osru o`f} dh rkjh[k ","le lkef;d osru o`f)",0.03,"Hkkoh osru","nqjkpj.k ds fuyEcu vkSj ,slh vU; vuqifLFkfr ftldh x.kuk o`f} ds fy, ugha gksrh ",null,"fcuk osru vkSj LFkkukuUu inkf/kdkjh;kss ds ekeyksa ds vU; lHkh izdkj ds vodk'k "]
[null,null,null,"ifj{ks= ds dkfeZd dk inLFkkiu fo|ky; dk uke",null,null,null,null,null,null,0.03,null,null,"rkjh[k ls ","rkjh[k rd ","rkjh[k ls ","rkjh[k rd"]
[null,1,null,2,3,4,null,5,6,7,8,7,9,10,11,12,13]
[1,{"$f":"detail!B6","v":"Jh lqfer fxjh"},{"$f":"detail!C6","v":"lgk0 iz0v0"},{"$f":"detail!E6","v":"jkmekfo ukiklj"},{"$f":"detail!D6","v":"LFkk;h"},{"$f":"detail!F6","v":"Leval-"},{"$f":"detail!G6","v":"16"},{"$f":"detail!H6","v":95900},{"$f":"detail!$D$3","v":"2022-07-01"},{"$f":"detail!$D$4","v":"2023-07-01"},{"$f":"ROUND(L9,-2)","v":2900},{"$f":"H9*3/100","v":2877},{"$f":"H9+K9","v":98800}]
[2,{"$f":"detail!B7","v":"d"},{"$f":"detail!C7","v":"iz/kkukpk;Z"},{"$f":"detail!E7","v":"jkmekfo ukiklj"},{"$f":"detail!D7","v":"LFkk;h"},{"$f":"detail!F7","v":"Leval-"},{"$f":"detail!G7","v":"16"},{"$f":"detail!H7","v":80300},{"$f":"detail!$D$3","v":"2022-07-01"},{"$f":"detail!$D$4","v":"2023-07-01"},{"$f":"ROUND(L10,-2)","v":2400},2409,{"$f":"H10+K10","v":82700}]
[3,{"$f":"detail!B8","v":"[k"},{"$f":"detail!C8","v":"iz/kkukpk;Z"},{"$f":"detail!E8","v":"jkmekfo ukiklj"},{"$f":"detail!D8","v":"LFkk;h"},{"$f":"detail!F8","v":"Leval-"},{"$f":"detail!G8","v":"16"},{"$f":"detail!H8","v":71400},{"$f":"detail!$D$3","v":"2022-07-01"},{"$f":"detail!$D$4","v":"2023-07-01"},{"$f":"ROUND(L11,-2)","v":2100},2142,{"$f":"H11+K11","v":73500}]
[4,{"$f":"detail!B9","v":"x"},{"$f":"detail!C9","v":"iz/kkukpk;Z"},{"$f":"detail!E9","v":"jkmekfo ukiklj"},{"$f":"detail!D9","v":"LFkk;h"},{"$f":"detail!F9","v":"Leval-"},{"$f":"detail!G9","v":"16"},{"$f":"detail!H9","v":75700},{"$f":"detail!$D$3","v":"2022-07-01"},{"$f":"detail!$D$4","v":"2023-07-01"},2300,2271,{"$f":"H12+K12","v":78000}]
[5,{"$f":"detail!B10","v":"?k"},{"$f":"detail!C10","v":"iz/kkukpk;Z"},{"$f":"detail!E10","v":"jkmekfo ukiklj"},{"$f":"detail!D10","v":"LFkk;h"},{"$f":"detail!F10","v":"Leval-"},{"$f":"detail!G10","v":"16"},{"$f":"detail!H10","v":73500},{"$f":"detail!$D$3","v":"2022-07-01"},{"$f":"detail!$D$4","v":"2023-07-01"},2200,{"$f":"H13*3/100","v":2205},{"$f":"H13+K13","v":75700}]
[6,{"$f":"detail!B11","v":";"},{"$f":"detail!C11","v":"iz/kkukpk;Z"},{"$f":"detail!E11","v":"jkmekfo ukiklj"},{"$f":"detail!D11","v":"LFkk;h"},{"$f":"detail!F11","v":"Leval-"},{"$f":"detail!G11","v":"16"},{"$f":"detail!H11","v":35000},{"$f":"detail!$D$3","v":"2022-07-01"},{"$f":"detail!$D$4","v":"2023-07-01"},1100,1050,36100]
[7,{"$f":"detail!B12","v":"j"},{"$f":"detail!C12","v":"iz/kkukpk;Z"},{"$f":"detail!E12","v":"jkmekfo ukiklj"},{"$f":"detail!D12","v":"LFkk;h"},{"$f":"detail!F12","v":"Leval-"},{"$f":"detail!G12","v":"16"},{"$f":"detail!H12","v":36000},{"$f":"detail!$D$3","v":"2022-07-01"},{"$f":"detail!$D$4","v":"2023-07-01"},1100,1080,37100]
[8,{"$f":"detail!B13","v":"y"},{"$f":"detail!C13","v":"iz/kkukpk;Z"},{"$f":"detail!E13","v":"jkmekfo ukiklj"},{"$f":"detail!D13","v":"LFkk;h"},{"$f":"detail!F13","v":"Leval-"},{"$f":"detail!G13","v":"16"},{"$f":"detail!H13","v":37000},{"$f":"detail!$D$3","v":"2022-07-01"},{"$f":"detail!$D$4","v":"2023-07-01"},1100,1110,{"$f":"H16+K16","v":38100}]
[9,{"$f":"detail!B14","v":"o "},{"$f":"detail!C14","v":"iz/kkukpk;Z"},{"$f":"detail!E14","v":"jkmekfo ukiklj"},{"$f":"detail!D14","v":"LFkk;h"},{"$f":"detail!F14","v":"Leval-"},{"$f":"detail!G14","v":"16"},{"$f":"detail!H14","v":38000},{"$f":"detail!$D$3","v":"2022-07-01"},{"$f":"detail!$D$4","v":"2023-07-01"},1100,1140,{"$f":"H17+K17","v":39100}]
[10,{"$f":"detail!B15","v":"d"},{"$f":"detail!C15","v":"iz/kkukpk;Z"},{"$f":"detail!E15","v":"jkmekfo ukiklj"},{"$f":"detail!D15","v":"LFkk;h"},{"$f":"detail!F15","v":"Leval-"},{"$f":"detail!G15","v":"16"},{"$f":"detail!H15","v":39000},{"$f":"detail!$D$3","v":"2022-07-01"},{"$f":"detail!$D$4","v":"2023-07-01"},1200,{"$f":"H18*3/100","v":1170},{"$f":"H18+K18","v":40200}]
[11,{"$f":"detail!B16","v":"[k"},{"$f":"detail!C16","v":"iz/kkukpk;Z"},{"$f":"detail!E16","v":"jkmekfo ukiklj"},{"$f":"detail!D16","v":"LFkk;h"},{"$f":"detail!F16","v":"Leval-"},{"$f":"detail!G16","v":"16"},{"$f":"detail!H16","v":40000},{"$f":"detail!$D$3","v":"2022-07-01"},{"$f":"detail!$D$4","v":"2023-07-01"},1200,{"$f":"H19*3/100","v":1200},41200]
[12,{"$f":"detail!B17","v":"x"},{"$f":"detail!C17","v":"iz/kkukpk;Z"},{"$f":"detail!E17","v":"jkmekfo ukiklj"},{"$f":"detail!D17","v":"LFkk;h"},{"$f":"detail!F17","v":"Leval-"},{"$f":"detail!G17","v":"16"},{"$f":"detail!H17","v":41000},{"$f":"detail!$D$3","v":"2022-07-01"},{"$f":"detail!$D$4","v":"2023-07-01"},1200,{"$f":"H20*3/100","v":1230},{"$f":"H20+K20","v":42200}]
[13,{"$f":"detail!B18","v":"?k"},{"$f":"detail!C18","v":"iz/kkukpk;Z"},{"$f":"detail!E18","v":"jkmekfo ukiklj"},{"$f":"detail!D18","v":"LFkk;h"},{"$f":"detail!F18","v":"Leval-"},{"$f":"detail!G18","v":"16"},{"$f":"detail!H18","v":42000},{"$f":"detail!$D$3","v":"2022-07-01"},{"$f":"detail!$D$4","v":"2023-07-01"},1300,{"$f":"H21*3/100","v":1260},{"$f":"H21+K21","v":43300}]
[14,{"$f":"detail!B19","v":";"},{"$f":"detail!C19","v":"iz/kkukpk;Z"},{"$f":"detail!E19","v":"jkmekfo ukiklj"},{"$f":"detail!D19","v":"LFkk;h"},{"$f":"detail!F19","v":"Leval-"},{"$f":"detail!G19","v":"16"},{"$f":"detail!H19","v":43000},{"$f":"detail!$D$3","v":"2022-07-01"},{"$f":"detail!$D$4","v":"2023-07-01"},1300,1290,{"$f":"H22+K22","v":44300}]
[15,{"$f":"detail!B20","v":"j"},{"$f":"detail!C20","v":"iz/kkukpk;Z"},{"$f":"detail!E20","v":"jkmekfo ukiklj"},{"$f":"detail!D20","v":"LFkk;h"},{"$f":"detail!F20","v":"Leval-"},{"$f":"detail!G20","v":"16"},{"$f":"detail!H20","v":44000},{"$f":"detail!$D$3","v":"2022-07-01"},{"$f":"detail!$D$4","v":"2023-07-01"},1300,{"$f":"H23*3/100","v":1320},{"$f":"H23+K23","v":45300}]
[16,{"$f":"detail!B21","v":"y"},{"$f":"detail!C21","v":"iz/kkukpk;Z"},{"$f":"detail!E21","v":"jkmekfo ukiklj"},{"$f":"detail!D21","v":"LFkk;h"},{"$f":"detail!F21","v":"Leval-"},{"$f":"detail!G21","v":"16"},{"$f":"detail!H21","v":45000},{"$f":"detail!$D$3","v":"2022-07-01"},{"$f":"detail!$D$4","v":"2023-07-01"},1400,{"$f":"H24*3/100","v":1350},{"$f":"H24+K24","v":46400}]
[17,{"$f":"detail!B22","v":"o "},{"$f":"detail!C22","v":"iz/kkukpk;Z"},{"$f":"detail!E22","v":"jkmekfo ukiklj"},{"$f":"detail!D22","v":"LFkk;h"},{"$f":"detail!F22","v":"Leval-"},{"$f":"detail!G22","v":"16"},{"$f":"detail!H22","v":46000},{"$f":"detail!$D$3","v":"2022-07-01"},{"$f":"detail!$D$4","v":"2023-07-01"},1400,{"$f":"H25*3/100","v":1380},{"$f":"H25+K25","v":47400}]
[18,{"$f":"detail!B23","v":"d"},{"$f":"detail!C23","v":"iz/kkukpk;Z"},{"$f":"detail!E23","v":"jkmekfo ukiklj"},{"$f":"detail!D23","v":"LFkk;h"},{"$f":"detail!F23","v":"Leval-"},{"$f":"detail!G23","v":"16"},{"$f":"detail!H23","v":47000},{"$f":"detail!$D$3","v":"2022-07-01"},{"$f":"detail!$D$4","v":"2023-07-01"},{"$f":"ROUND(L26,-2)","v":1400},{"$f":"H26*3/100","v":1410},{"$f":"H26+K26","v":48400}]
[19,{"$f":"detail!B24","v":"[k"},{"$f":"detail!C24","v":"iz/kkukpk;Z"},{"$f":"detail!E24","v":"jkmekfo ukiklj"},{"$f":"detail!D24","v":"LFkk;h"},{"$f":"detail!F24","v":"Leval-"},{"$f":"detail!G24","v":"16"},{"$f":"detail!H24","v":48000},{"$f":"detail!$D$3","v":"2022-07-01"},{"$f":"detail!$D$4","v":"2023-07-01"},1400,1440,49400]
[20,{"$f":"detail!B25","v":"x"},{"$f":"detail!C25","v":"iz/kkukpk;Z"},{"$f":"detail!E25","v":"jkmekfo ukiklj"},{"$f":"detail!D25","v":"LFkk;h"},{"$f":"detail!F25","v":"Leval-"},{"$f":"detail!G25","v":"16"},{"$f":"detail!H25","v":49000},{"$f":"detail!$D$3","v":"2022-07-01"},{"$f":"detail!$D$4","v":"2023-07-01"},1500,1470,50500]
[21,{"$f":"detail!B26","v":"x"},{"$f":"detail!C26","v":"iz/kkukpk;Z"},{"$f":"detail!E26","v":"jkmekfo ukiklj"},{"$f":"detail!D26","v":"LFkk;h"},{"$f":"detail!F26","v":"Leval-"},{"$f":"detail!G26","v":"16"},{"$f":"detail!H26","v":50000},{"$f":"detail!$D$3","v":"2022-07-01"},{"$f":"detail!$D$4","v":"2023-07-01"},{"$f":"ROUND(L29,-2)","v":1500},{"$f":"H29*3/100","v":1500},{"$f":"H29+K29","v":51500}]
[22,{"$f":"detail!B27","v":"x"},{"$f":"detail!C27","v":"iz/kkukpk;Z"},{"$f":"detail!E27","v":"jkmekfo ukiklj"},{"$f":"detail!D27","v":"LFkk;h"},{"$f":"detail!F27","v":"Leval-"},{"$f":"detail!G27","v":"16"},{"$f":"detail!H27","v":51000},{"$f":"detail!$D$3","v":"2022-07-01"},{"$f":"detail!$D$4","v":"2023-07-01"},1500,1530,52500]
[23,{"$f":"detail!B28","v":"x"},{"$f":"detail!C28","v":"iz/kkukpk;Z"},{"$f":"detail!E28","v":"jkmekfo ukiklj"},{"$f":"detail!D28","v":"LFkk;h"},{"$f":"detail!F28","v":"Leval-"},{"$f":"detail!G28","v":"16"},{"$f":"detail!H28","v":52000},{"$f":"detail!$D$3","v":"2022-07-01"},{"$f":"detail!$D$4","v":"2023-07-01"},1600,1560,53600]
[24,{"$f":"detail!B29","v":"x"},{"$f":"detail!C29","v":"iz/kkukpk;Z"},{"$f":"detail!E29","v":"jkmekfo ukiklj"},{"$f":"detail!D29","v":"LFkk;h"},{"$f":"detail!F29","v":"Leval-"},{"$f":"detail!G29","v":"16"},{"$f":"detail!H29","v":53000},{"$f":"detail!$D$3","v":"2022-07-01"},{"$f":"detail!$D$4","v":"2023-07-01"},1600,1590,54600]
[25,{"$f":"detail!B30","v":"x"},{"$f":"detail!C30","v":"iz/kkukpk;Z"},{"$f":"detail!E30","v":"jkmekfo ukiklj"},{"$f":"detail!D30","v":"LFkk;h"},{"$f":"detail!F30","v":"Leval-"},{"$f":"detail!G30","v":"16"},{"$f":"detail!H30","v":54000},{"$f":"detail!$D$3","v":"2022-07-01"},{"$f":"detail!$D$4","v":"2023-07-01"},1600,1620,55600]
[26,{"$f":"detail!B31","v":"x"},{"$f":"detail!C31","v":"iz/kkukpk;Z"},{"$f":"detail!E31","v":"jkmekfo ukiklj"},{"$f":"detail!D31","v":"LFkk;h"},{"$f":"detail!F31","v":"Leval-"},{"$f":"detail!G31","v":"16"},{"$f":"detail!H31","v":55000},{"$f":"detail!$D$3","v":"2022-07-01"},{"$f":"detail!$D$4","v":"2023-07-01"},1700,1650,56700]
[27,{"$f":"detail!B32","v":"x"},{"$f":"detail!C32","v":"iz/kkukpk;Z"},{"$f":"detail!E32","v":"jkmekfo ukiklj"},{"$f":"detail!D32","v":"LFkk;h"},{"$f":"detail!F32","v":"Leval-"},{"$f":"detail!G32","v":"16"},{"$f":"detail!H32","v":56000},{"$f":"detail!$D$3","v":"2022-07-01"},{"$f":"detail!$D$4","v":"2023-07-01"},1700,1680,57700]
[28,{"$f":"detail!B33","v":"x"},{"$f":"detail!C33","v":"iz/kkukpk;Z"},{"$f":"detail!E33","v":"jkmekfo ukiklj"},{"$f":"detail!D33","v":"LFkk;h"},{"$f":"detail!F33","v":"Leval-"},{"$f":"detail!G33","v":"16"},{"$f":"detail!H33","v":57000},{"$f":"detail!$D$3","v":"2022-07-01"},{"$f":"detail!$D$4","v":"2023-07-01"},1700,1710,58700]
[29,{"$f":"detail!B34","v":"x"},{"$f":"detail!C34","v":"iz/kkukpk;Z"},{"$f":"detail!E34","v":"jkmekfo ukiklj"},{"$f":"detail!D34","v":"LFkk;h"},{"$f":"detail!F34","v":"Leval-"},{"$f":"detail!G34","v":"16"},{"$f":"detail!H34","v":58000},{"$f":"detail!$D$3","v":"2022-07-01"},{"$f":"detail!$D$4","v":"2023-07-01"},1700,1740,59700]
[30,{"$f":"detail!B35","v":"x"},{"$f":"detail!C35","v":"iz/kkukpk;Z"},{"$f":"detail!E35","v":"jkmekfo ukiklj"},{"$f":"detail!D35","v":"LFkk;h"},{"$f":"detail!F35","v":"Leval-"},{"$f":"detail!G35","v":"16"},{"$f":"detail!H35","v":59000},{"$f":"detail!$D$3","v":"2022-07-01"},{"$f":"detail!$D$4","v":"2023-07-01"},1800,1770,60800]
[31,{"$f":"detail!B36","v":"x"},{"$f":"detail!C36","v":"iz/kkukpk;Z"},{"$f":"detail!E36","v":"jkmekfo ukiklj"},{"$f":"detail!D36","v":"LFkk;h"},{"$f":"detail!F36","v":"Leval-"},{"$f":"detail!G36","v":"16"},{"$f":"detail!H36","v":60000},{"$f":"detail!$D$3","v":"2022-07-01"},{"$f":"detail!$D$4","v":"2023-07-01"},1800,1800,61800]
[32,{"$f":"detail!B37","v":"x"},{"$f":"detail!C37","v":"iz/kkukpk;Z"},{"$f":"detail!E37","v":"jkmekfo ukiklj"},{"$f":"detail!D37","v":"LFkk;h"},{"$f":"detail!F37","v":"Leval-"},{"$f":"detail!G37","v":"16"},{"$f":"detail!H37","v":61000},{"$f":"detail!$D$3","v":"2022-07-01"},{"$f":"detail!$D$4","v":"2023-07-01"},1800,1830,62800]
[33,{"$f":"detail!B38","v":"x"},{"$f":"detail!C38","v":"iz/kkukpk;Z"},{"$f":"detail!E38","v":"jkmekfo ukiklj"},{"$f":"detail!D38","v":"LFkk;h"},{"$f":"detail!F38","v":"Leval-"},{"$f":"detail!G38","v":"16"},{"$f":"detail!H38","v":62000},{"$f":"detail!$D$3","v":"2022-07-01"},{"$f":"detail!$D$4","v":"2023-07-01"},1900,1860,63900]
[34,{"$f":"detail!B39","v":"x"},{"$f":"detail!C39","v":"iz/kkukpk;Z"},{"$f":"detail!E39","v":"jkmekfo ukiklj"},{"$f":"detail!D39","v":"LFkk;h"},{"$f":"detail!F39","v":"Leval-"},{"$f":"detail!G39","v":"16"},{"$f":"detail!H39","v":63000},{"$f":"detail!$D$3","v":"2022-07-01"},{"$f":"detail!$D$4","v":"2023-07-01"},1900,1890,64900]
[35,{"$f":"detail!B40","v":"x"},{"$f":"detail!C40","v":"iz/kkukpk;Z"},{"$f":"detail!E40","v":"jkmekfo ukiklj"},{"$f":"detail!D40","v":"LFkk;h"},{"$f":"detail!F40","v":"Leval-"},{"$f":"detail!G40","v":"16"},{"$f":"detail!H40","v":64000},{"$f":"detail!$D$3","v":"2022-07-01"},{"$f":"detail!$D$4","v":"2023-07-01"},1900,1920,65900]
[36,{"$f":"detail!B41","v":"x"},{"$f":"detail!C41","v":"iz/kkukpk;Z"},{"$f":"detail!E41","v":"jkmekfo ukiklj"},{"$f":"detail!D41","v":"LFkk;h"},{"$f":"detail!F41","v":"Leval-"},{"$f":"detail!G41","v":"16"},{"$f":"detail!H41","v":65000},{"$f":"detail!$D$3","v":"2022-07-01"},{"$f":"detail!$D$4","v":"2023-07-01"},2000,1950,67000]
[37,{"$f":"detail!B42","v":"x"},{"$f":"detail!C42","v":"iz/kkukpk;Z"},{"$f":"detail!E42","v":"jkmekfo ukiklj"},{"$f":"detail!D42","v":"LFkk;h"},{"$f":"detail!F42","v":"Leval-"},{"$f":"detail!G42","v":"16"},{"$f":"detail!H42","v":66000},{"$f":"detail!$D$3","v":"2022-07-01"},{"$f":"detail!$D$4","v":"2023-07-01"},2000,1980,68000]
[38,{"$f":"detail!B43","v":"x"},{"$f":"detail!C43","v":"iz/kkukpk;Z"},{"$f":"detail!E43","v":"jkmekfo ukiklj"},{"$f":"detail!D43","v":"LFkk;h"},{"$f":"detail!F43","v":"Leval-"},{"$f":"detail!G43","v":"16"},{"$f":"detail!H43","v":67000},{"$f":"detail!$D$3","v":"2022-07-01"},{"$f":"detail!$D$4","v":"2023-07-01"},2000,2010,69000]
[39,{"$f":"detail!B44","v":"x"},{"$f":"detail!C44","v":"iz/kkukpk;Z"},{"$f":"detail!E44","v":"jkmekfo ukiklj"},{"$f":"detail!D44","v":"LFkk;h"},{"$f":"detail!F44","v":"Leval-"},{"$f":"detail!G44","v":"16"},{"$f":"detail!H44","v":68000},{"$f":"detail!$D$3","v":"2022-07-01"},{"$f":"detail!$D$4","v":"2023-07-01"},2000,2040,70000]
[40,{"$f":"detail!B45","v":"x"},{"$f":"detail!C45","v":"iz/kkukpk;Z"},{"$f":"detail!E45","v":"jkmekfo ukiklj"},{"$f":"detail!D45","v":"LFkk;h"},{"$f":"detail!F45","v":"Leval-"},{"$f":"detail!G45","v":"16"},{"$f":"detail!H45","v":69000},{"$f":"detail!$D$3","v":"2022-07-01"},{"$f":"detail!$D$4","v":"2023-07-01"},2100,2070,71100]
[41,{"$f":"detail!B46","v":"x"},{"$f":"detail!C46","v":"iz/kkukpk;Z"},{"$f":"detail!E46","v":"jkmekfo ukiklj"},{"$f":"detail!D46","v":"LFkk;h"},{"$f":"detail!F46","v":"Leval-"},{"$f":"detail!G46","v":"16"},{"$f":"detail!H46","v":70000},{"$f":"detail!$D$3","v":"2022-07-01"},{"$f":"detail!$D$4","v":"2023-07-01"},2100,2100,72100]
[42,{"$f":"detail!B47","v":"x"},{"$f":"detail!C47","v":"iz/kkukpk;Z"},{"$f":"detail!E47","v":"jkmekfo ukiklj"},{"$f":"detail!D47","v":"LFkk;h"},{"$f":"detail!F47","v":"Leval-"},{"$f":"detail!G47","v":"16"},{"$f":"detail!H47","v":71000},{"$f":"detail!$D$3","v":"2022-07-01"},{"$f":"detail!$D$4","v":"2023-07-01"},2100,2130,73100]
[43,{"$f":"detail!B48","v":"x"},{"$f":"detail!C48","v":"iz/kkukpk;Z"},{"$f":"detail!E48","v":"jkmekfo ukiklj"},{"$f":"detail!D48","v":"LFkk;h"},{"$f":"detail!F48","v":"Leval-"},{"$f":"detail!G48","v":"16"},{"$f":"detail!H48","v":72000},{"$f":"detail!$D$3","v":"2022-07-01"},{"$f":"detail!$D$4","v":"2023-07-01"},2200,2160,74200]
[44,{"$f":"detail!B49","v":"x"},{"$f":"detail!C49","v":"iz/kkukpk;Z"},{"$f":"detail!E49","v":"jkmekfo ukiklj"},{"$f":"detail!D49","v":"LFkk;h"},{"$f":"detail!F49","v":"Leval-"},{"$f":"detail!G49","v":"16"},{"$f":"detail!H49","v":73000},{"$f":"detail!$D$3","v":"2022-07-01"},{"$f":"detail!$D$4","v":"2023-07-01"},2200,2190,75200]
[45,{"$f":"detail!B50","v":"x"},{"$f":"detail!C50","v":"iz/kkukpk;Z"},{"$f":"detail!E50","v":"jkmekfo ukiklj"},{"$f":"detail!D50","v":"LFkk;h"},{"$f":"detail!F50","v":"Leval-"},{"$f":"detail!G50","v":"16"},{"$f":"detail!H50","v":74000},{"$f":"detail!$D$3","v":"2022-07-01"},{"$f":"detail!$D$4","v":"2023-07-01"},2200,2220,76200]
[46,{"$f":"detail!B51","v":"x"},{"$f":"detail!C51","v":"iz/kkukpk;Z"},{"$f":"detail!E51","v":"jkmekfo ukiklj"},{"$f":"detail!D51","v":"LFkk;h"},{"$f":"detail!F51","v":"Leval-"},{"$f":"detail!G51","v":"16"},{"$f":"detail!H51","v":75000},{"$f":"detail!$D$3","v":"2022-07-01"},{"$f":"detail!$D$4","v":"2023-07-01"},2300,2250,77300]
[47,{"$f":"detail!B52","v":"x"},{"$f":"detail!C52","v":"iz/kkukpk;Z"},{"$f":"detail!E52","v":"jkmekfo ukiklj"},{"$f":"detail!D52","v":"LFkk;h"},{"$f":"detail!F52","v":"Leval-"},{"$f":"detail!G52","v":"16"},{"$f":"detail!H52","v":76000},{"$f":"detail!$D$3","v":"2022-07-01"},{"$f":"detail!$D$4","v":"2023-07-01"},2300,2280,78300]
[48,{"$f":"detail!B53","v":"x"},{"$f":"detail!C53","v":"iz/kkukpk;Z"},{"$f":"detail!E53","v":"jkmekfo ukiklj"},{"$f":"detail!D53","v":"LFkk;h"},{"$f":"detail!F53","v":"Leval-"},{"$f":"detail!G53","v":"16"},{"$f":"detail!H53","v":77000},{"$f":"detail!$D$3","v":"2022-07-01"},{"$f":"detail!$D$4","v":"2023-07-01"},2300,2310,79300]
[49,{"$f":"detail!B54","v":"x"},{"$f":"detail!C54","v":"iz/kkukpk;Z"},{"$f":"detail!E54","v":"jkmekfo ukiklj"},{"$f":"detail!D54","v":"LFkk;h"},{"$f":"detail!F54","v":"Leval-"},{"$f":"detail!G54","v":"16"},{"$f":"detail!H54","v":78000},{"$f":"detail!$D$3","v":"2022-07-01"},{"$f":"detail!$D$4","v":"2023-07-01"},2300,2340,80300]
[50,{"$f":"detail!B55","v":"x"},{"$f":"detail!C55","v":"iz/kkukpk;Z"},{"$f":"detail!E55","v":"jkmekfo ukiklj"},{"$f":"detail!D55","v":"LFkk;h"},{"$f":"detail!F55","v":"Leval-"},{"$f":"detail!G55","v":"16"},{"$f":"detail!H55","v":79000},{"$f":"detail!$D$3","v":"2022-07-01"},{"$f":"detail!$D$4","v":"2023-07-01"},2400,2370,81400]
[51,{"$f":"detail!B56","v":"x"},{"$f":"detail!C56","v":"iz/kkukpk;Z"},{"$f":"detail!E56","v":"jkmekfo ukiklj"},{"$f":"detail!D56","v":"LFkk;h"},{"$f":"detail!F56","v":"Leval-"},{"$f":"detail!G56","v":"16"},{"$f":"detail!H56","v":80000},{"$f":"detail!$D$3","v":"2022-07-01"},{"$f":"detail!$D$4","v":"2023-07-01"},2400,2400,82400]
[52,{"$f":"detail!B57","v":"x"},{"$f":"detail!C57","v":"iz/kkukpk;Z"},{"$f":"detail!E57","v":"jkmekfo ukiklj"},{"$f":"detail!D57","v":"LFkk;h"},{"$f":"detail!F57","v":"Leval-"},{"$f":"detail!G57","v":"16"},{"$f":"detail!H57","v":81000},{"$f":"detail!$D$3","v":"2022-07-01"},{"$f":"detail!$D$4","v":"2023-07-01"},2400,2430,83400]
[53,{"$f":"detail!B58","v":"x"},{"$f":"detail!C58","v":"iz/kkukpk;Z"},{"$f":"detail!E58","v":"jkmekfo ukiklj"},{"$f":"detail!D58","v":"LFkk;h"},{"$f":"detail!F58","v":"Leval-"},{"$f":"detail!G58","v":"16"},{"$f":"detail!H58","v":82000},{"$f":"detail!$D$3","v":"2022-07-01"},{"$f":"detail!$D$4","v":"2023-07-01"},2500,2460,84500]
[54,{"$f":"detail!B59","v":"x"},{"$f":"detail!C59","v":"iz/kkukpk;Z"},{"$f":"detail!E59","v":"jkmekfo ukiklj"},{"$f":"detail!D59","v":"LFkk;h"},{"$f":"detail!F59","v":"Leval-"},{"$f":"detail!G59","v":"16"},{"$f":"detail!H59","v":83000},{"$f":"detail!$D$3","v":"2022-07-01"},{"$f":"detail!$D$4","v":"2023-07-01"},2500,2490,85500]
[55,{"$f":"detail!B60","v":"x"},{"$f":"detail!C60","v":"iz/kkukpk;Z"},{"$f":"detail!E60","v":"jkmekfo ukiklj"},{"$f":"detail!D60","v":"LFkk;h"},{"$f":"detail!F60","v":"Leval-"},{"$f":"detail!G60","v":"16"},{"$f":"detail!H60","v":84000},{"$f":"detail!$D$3","v":"2022-07-01"},{"$f":"detail!$D$4","v":"2023-07-01"},2500,2520,86500]
[56,{"$f":"detail!B61","v":"x"},{"$f":"detail!C61","v":"iz/kkukpk;Z"},{"$f":"detail!E61","v":"jkmekfo ukiklj"},{"$f":"detail!D61","v":"LFkk;h"},{"$f":"detail!F61","v":"Leval-"},{"$f":"detail!G61","v":"16"},{"$f":"detail!H61","v":85000},{"$f":"detail!$D$3","v":"2022-07-01"},{"$f":"detail!$D$4","v":"2023-07-01"},2600,2550,87600]
[57,{"$f":"detail!B62","v":"x"},{"$f":"detail!C62","v":"iz/kkukpk;Z"},{"$f":"detail!E62","v":"jkmekfo ukiklj"},{"$f":"detail!D62","v":"LFkk;h"},{"$f":"detail!F62","v":"Leval-"},{"$f":"detail!G62","v":"16"},{"$f":"detail!H62","v":86000},{"$f":"detail!$D$3","v":"2022-07-01"},{"$f":"detail!$D$4","v":"2023-07-01"},2600,2580,88600]
[58,{"$f":"detail!B63","v":"x"},{"$f":"detail!C63","v":"iz/kkukpk;Z"},{"$f":"detail!E63","v":"jkmekfo ukiklj"},{"$f":"detail!D63","v":"LFkk;h"},{"$f":"detail!F63","v":"Leval-"},{"$f":"detail!G63","v":"16"},{"$f":"detail!H63","v":87000},{"$f":"detail!$D$3","v":"2022-07-01"},{"$f":"detail!$D$4","v":"2023-07-01"},2600,2610,89600]
[59,{"$f":"detail!B64","v":"x"},{"$f":"detail!C64","v":"iz/kkukpk;Z"},{"$f":"detail!E64","v":"jkmekfo ukiklj"},{"$f":"detail!D64","v":"LFkk;h"},{"$f":"detail!F64","v":"Leval-"},{"$f":"detail!G64","v":"16"},{"$f":"detail!H64","v":88000},{"$f":"detail!$D$3","v":"2022-07-01"},{"$f":"detail!$D$4","v":"2023-07-01"},2600,2640,90600]
[60,{"$f":"detail!B65","v":"x"},{"$f":"detail!C65","v":"iz/kkukpk;Z"},{"$f":"detail!E65","v":"jkmekfo ukiklj"},{"$f":"detail!D65","v":"LFkk;h"},{"$f":"detail!F65","v":"Leval-"},{"$f":"detail!G65","v":"16"},{"$f":"detail!H65","v":89000},{"$f":"detail!$D$3","v":"2022-07-01"},{"$f":"detail!$D$4","v":"2023-07-01"},2700,2670,91700]
[61,{"$f":"detail!B66","v":"x"},{"$f":"detail!C66","v":"iz/kkukpk;Z"},{"$f":"detail!E66","v":"jkmekfo ukiklj"},{"$f":"detail!D66","v":"LFkk;h"},{"$f":"detail!F66","v":"Leval-"},{"$f":"detail!G66","v":"16"},{"$f":"detail!H66","v":90000},{"$f":"detail!$D$3","v":"2022-07-01"},{"$f":"detail!$D$4","v":"2023-07-01"},2700,2700,92700]
[62,{"$f":"detail!B67","v":"x"},{"$f":"detail!C67","v":"iz/kkukpk;Z"},{"$f":"detail!E67","v":"jkmekfo ukiklj"},{"$f":"detail!D67","v":"LFkk;h"},{"$f":"detail!F67","v":"Leval-"},{"$f":"detail!G67","v":"16"},{"$f":"detail!H67","v":91000},{"$f":"detail!$D$3","v":"2022-07-01"},{"$f":"detail!$D$4","v":"2023-07-01"},2700,2730,93700]
[63,{"$f":"detail!B68","v":"x"},{"$f":"detail!C68","v":"iz/kkukpk;Z"},{"$f":"detail!E68","v":"jkmekfo ukiklj"},{"$f":"detail!D68","v":"LFkk;h"},{"$f":"detail!F68","v":"Leval-"},{"$f":"detail!G68","v":"16"},{"$f":"detail!H68","v":92000},{"$f":"detail!$D$3","v":"2022-07-01"},{"$f":"detail!$D$4","v":"2023-07-01"},2800,2760,94800]
[64,{"$f":"detail!B69","v":"x"},{"$f":"detail!C69","v":"iz/kkukpk;Z"},{"$f":"detail!E69","v":"jkmekfo ukiklj"},{"$f":"detail!D69","v":"LFkk;h"},{"$f":"detail!F69","v":"Leval-"},{"$f":"detail!G69","v":"16"},{"$f":"detail!H69","v":93000},{"$f":"detail!$D$3","v":"2022-07-01"},{"$f":"detail!$D$4","v":"2023-07-01"},2800,2790,95800]
[65,{"$f":"detail!B70","v":"x"},{"$f":"detail!C70","v":"iz/kkukpk;Z"},{"$f":"detail!E70","v":"jkmekfo ukiklj"},{"$f":"detail!D70","v":"LFkk;h"},{"$f":"detail!F70","v":"Leval-"},{"$f":"detail!G70","v":"16"},{"$f":"detail!H70","v":94000},{"$f":"detail!$D$3","v":"2022-07-01"},{"$f":"detail!$D$4","v":"2023-07-01"},2800,2820,96800]
[66,{"$f":"detail!B71","v":"x"},{"$f":"detail!C71","v":"iz/kkukpk;Z"},{"$f":"detail!E71","v":"jkmekfo ukiklj"},{"$f":"detail!D71","v":"LFkk;h"},{"$f":"detail!F71","v":"Leval-"},{"$f":"detail!G71","v":"16"},{"$f":"detail!H71","v":95000},{"$f":"detail!$D$3","v":"2022-07-01"},{"$f":"detail!$D$4","v":"2023-07-01"},2900,2850,97900]
[67,{"$f":"detail!B72","v":"x"},{"$f":"detail!C72","v":"iz/kkukpk;Z"},{"$f":"detail!E72","v":"jkmekfo ukiklj"},{"$f":"detail!D72","v":"LFkk;h"},{"$f":"detail!F72","v":"Leval-"},{"$f":"detail!G72","v":"16"},{"$f":"detail!H72","v":96000},{"$f":"detail!$D$3","v":"2022-07-01"},{"$f":"detail!$D$4","v":"2023-07-01"},2900,2880,98900]
[68,{"$f":"detail!B73","v":"x"},{"$f":"detail!C73","v":"iz/kkukpk;Z"},{"$f":"detail!E73","v":"jkmekfo ukiklj"},{"$f":"detail!D73","v":"LFkk;h"},{"$f":"detail!F73","v":"Leval-"},{"$f":"detail!G73","v":"16"},{"$f":"detail!H73","v":97000},{"$f":"detail!$D$3","v":"2022-07-01"},{"$f":"detail!$D$4","v":"2023-07-01"},2900,2910,99900]
[69,{"$f":"detail!B74","v":"x"},{"$f":"detail!C74","v":"iz/kkukpk;Z"},{"$f":"detail!E74","v":"jkmekfo ukiklj"},{"$f":"detail!D74","v":"LFkk;h"},{"$f":"detail!F74","v":"Leval-"},{"$f":"detail!G74","v":"16"},{"$f":"detail!H74","v":98000},{"$f":"detail!$D$3","v":"2022-07-01"},{"$f":"detail!$D$4","v":"2023-07-01"},2900,2940,100900]
[70,{"$f":"detail!B75","v":"x"},{"$f":"detail!C75","v":"iz/kkukpk;Z"},{"$f":"detail!E75","v":"jkmekfo ukiklj"},{"$f":"detail!D75","v":"LFkk;h"},{"$f":"detail!F75","v":"Leval-"},{"$f":"detail!G75","v":"16"},{"$f":"detail!H75","v":99000},{"$f":"detail!$D$3","v":"2022-07-01"},{"$f":"detail!$D$4","v":"2023-07-01"},3000,2970,102000]
[71,{"$f":"detail!B76","v":"x"},{"$f":"detail!C76","v":"iz/kkukpk;Z"},{"$f":"detail!E76","v":"jkmekfo ukiklj"},{"$f":"detail!D76","v":"LFkk;h"},{"$f":"detail!F76","v":"Leval-"},{"$f":"detail!G76","v":"16"},{"$f":"detail!H76","v":100000},{"$f":"detail!$D$3","v":"2022-07-01"},{"$f":"detail!$D$4","v":"2023-07-01"},{"$f":"ROUND(L79,-2)","v":3000},{"$f":"H79*3/100","v":3000},{"$f":"H79+K79","v":103000}]
[72,{"$f":"detail!B77","v":"x"},{"$f":"detail!C77","v":"iz/kkukpk;Z"},{"$f":"detail!E77","v":"jkmekfo ukiklj"},{"$f":"detail!D77","v":"LFkk;h"},{"$f":"detail!F77","v":"Leval-"},{"$f":"detail!G77","v":"16"},{"$f":"detail!H77","v":101000},{"$f":"detail!$D$3","v":"2022-07-01"},{"$f":"detail!$D$4","v":"2023-07-01"},3000,3030,104000]
[73,{"$f":"detail!B78","v":"x"},{"$f":"detail!C78","v":"iz/kkukpk;Z"},{"$f":"detail!E78","v":"jkmekfo ukiklj"},{"$f":"detail!D78","v":"LFkk;h"},{"$f":"detail!F78","v":"Leval-"},{"$f":"detail!G78","v":"16"},{"$f":"detail!H78","v":102000},{"$f":"detail!$D$3","v":"2022-07-01"},{"$f":"detail!$D$4","v":"2023-07-01"},3100,3060,105100]
[74,{"$f":"detail!B79","v":"x"},{"$f":"detail!C79","v":"iz/kkukpk;Z"},{"$f":"detail!E79","v":"jkmekfo ukiklj"},{"$f":"detail!D79","v":"LFkk;h"},{"$f":"detail!F79","v":"Leval-"},{"$f":"detail!G79","v":"16"},{"$f":"detail!H79","v":103000},{"$f":"detail!$D$3","v":"2022-07-01"},{"$f":"detail!$D$4","v":"2023-07-01"},3100,3090,106100]
[75,{"$f":"detail!B80","v":"pUnzs'k dqekj"},{"$f":"detail!C80","v":"iz/kkukpk;Z"},{"$f":"detail!E80","v":"jkmekfo ukiklj"},{"$f":"detail!D80","v":"LFkk;h"},{"$f":"detail!F80","v":"Leval-"},{"$f":"detail!G80","v":"16"},{"$f":"detail!H80","v":104000},{"$f":"detail!$D$3","v":"2022-07-01"},{"$f":"detail!$D$4","v":"2023-07-01"},3100,3120,107100]
[]
[null,"         izekf.kr fd;k tkrk gS fd jktLFkku lsok fu;e 31ds vuqlkj mi;qZDr vodk'k dh x.kuk ml in ds le;eku esa osru o`f} ds fy, ekU; gksrh gS ftl ij mi;qZDr jkT; deZpkjh vodk'k tkrs le; LFkkukiUu fLFkfr esa dk;Z dj jgk Fkk vkSj og vodk'k ij ugha tkrk rks aLFkkukiUu fLFkfr esa dk;Z djrk jgrkA "]
[null,null,null,null,null,null,null,null,null,null,null,null,{"$f":"detail!$D$2","v":"eq[; CykWd f'k{kk vf/kdkjh] chdkusj"}]
[]
[null,"Øekad %&","--------------------------------------------------",null,null,null,null,null,null,"fnukad","------------------------------"]
[null,"uksV%& 1 dkj.k la[;k ¼1½ ;k ¼2½ izR;sd uke ds vkxs fy[kh tkuh pkfg,A ftl izzdj.k esa dkj.k la[;k ¼2½ Hkkx gksrk gS og Li\"Vhdj.k Kkiu layXu djuk pkfg,A"]
[null,"la[;k%& ua-,Q15¼1½,QMh@:Yl@2017                  t;iqj fnukad%& 30-10-2017"]
[null,"2 vuqHkkxkf/kdkjh] dkfeZd ¼x½ foHkkx 'kklu lfpoky; dks vfrfjDr izfr lfgr lwpukFkZ ,oa vko';d dk;Zokgh gsrq izsf\"kr gSA "]
[null,"3 lacaf/kr O;fDr@dkfeZd A "]
[null,"4 futh i=koyh @jf{kr i=koyhA "]
[null,"5 Jheku dks\"kkf/kdkjh@midks\"kkf/kdkjh-------------------------------------A"]
[null,null,null,null,null,null,null,null,null,null,null,null,{"$f":"M86","v":"eq[; CykWd f'k{kk vf/kdkjh] chdkusj"}]

{"sheet":"Metrix chart","index":3,"n_rows":46,"n_cols":28,"rows_kept":46,"cut":false,"hidden":false,"merged":[[5,1,5,24],[0,0,0,24],[1,1,1,9],[1,10,1,13],[1,14,1,20],[1,21,1,24]]}
["Pay Metrix of State Government Servents wef 01-10-2017"]
["Existing Pay Band","PB-1 (5200-20200)",null,null,null,null,null,null,null,null,"PB-2 (9300-34800)",null,null,null,"PB-3 (15600-39100)",null,null,null,null,null,null,"PB-4 (37400-67000)",null,null,null,null,{"$f":"RIGHT(AA4,LEN(AA4)-2)+1","v":13},{"$f":"CONCATENATE(\"L-\",AA2)","v":"L-13"}]
["Existing Grade Pay",1700,1750,1900,2000,2400,2400,2400,2800,2800,3600,4200,4800,5400,5400,6000,6600,6800,7200,7600,8200,8700,8900,9500,10000,null,{"$f":"[1]Entry!E11","v":59500},{"$f":"ROUND(AA5*3%,-2)+AA5","v":61300}]
["Existing Grade Pay No.",2,3,4,5,9,"9A","9B",10,"10A",11,12,13,15,15,16,17,18,19,20,21,22,23,"23A",24,null,{"$f":"[1]Entry!G11","v":"L-12"},{"$f":"AB2","v":"L-13"}]
["Level","L-1 ","L-2","L-3","L-4","L-5","L-6","L-7","L-8","L-9","L-10","L-11","L-12","L-13","L-14","L-15","L-16","L-17","L-18","L-19","L-20","L-21","L-22","L-23","L-24",null,{"$f":"INDEX($AA$7:$AA$46,MATCH(TRUE,INDEX($AA$7:$AA$46>=AA3,0),))","v":59500},{"$f":"INDEX($AB$7:$AB$46,MATCH(TRUE,INDEX($AB$7:$AB$46>=AB3,0),))","v":61500}]
["Cell No.","Pay Metrix (Amount in Rs.)"]
[1,17700,17900,18200,19200,20800,21500,22400,26300,28700,33800,37800,44300,53100,56100,60700,67300,71000,75300,79900,88900,123100,129700,145800,148800,null,{"$f":"IF($AA$4=\"L-1\",B7,IF($AA$4=\"L-2\",C7,IF($AA$4=\"L-3\",D7,IF($AA$4=\"L-4\",E7,IF($AA$4=\"L-5\",F7,IF($AA$4=\"L-6\",G7,IF($AA$4=\"L-7\",H7,IF($AA$4=\"L-8\",I7,IF($AA$4=\"L-9\",J7,IF($AA$4=\"L-10\",K7,IF($AA$4=\"L-11\",L7,IF($AA$4=\"L-12\",M7,IF($AA$4=\"L-13\",N7,IF($AA$4=\"L-14\",O7,IF($AA$4=\"L-15\",P7,IF($AA$4=\"L-16\",Q7,IF($AA$4=\"L-17\",R7,IF($AA$4=\"L-18\",S7,IF($AA$4=\"L-19\",T7,IF($AA$4=\"L-20\",U7,IF($AA$4=\"L-21\",V7,IF($AA$4=\"L-22\",W7,IF($AA$4=\"L-23\",X7,IF($AA$4=\"L-24\",Y7,\"\"))))))))))))))))))))))))","v":44300},{"$f":"IF($AB$4=\"L-1\",B7,IF($AB$4=\"L-2\",C7,IF($AB$4=\"L-3\",D7,IF($AB$4=\"L-4\",E7,IF($AB$4=\"L-5\",F7,IF($AB$4=\"L-6\",G7,IF($AB$4=\"L-7\",H7,IF($AB$4=\"L-8\",I7,IF($AB$4=\"L-9\",J7,IF($AB$4=\"L-10\",K7,IF($AB$4=\"L-11\",L7,IF($AB$4=\"L-12\",M7,IF($AB$4=\"L-13\",N7,IF($AB$4=\"L-14\",O7,IF($AB$4=\"L-15\",P7,IF($AB$4=\"L-16\",Q7,IF($AB$4=\"L-17\",R7,IF($AB$4=\"L-18\",S7,IF($AB$4=\"L-19\",T7,IF($AB$4=\"L-20\",U7,IF($AB$4=\"L-21\",V7,IF($AB$4=\"L-22\",W7,IF($AB$4=\"L-23\",X7,IF($AB$4=\"L-24\",Y7,\"\"))))))))))))))))))))))))","v":53100}]
[2,18200,18400,18700,19800,21400,22100,23100,27100,29600,34800,38900,45600,54700,57800,62500,69300,73100,77600,82300,91600,126800,133600,150200,153300,null,{"$f":"IF($AA$4=\"L-1\",B8,IF($AA$4=\"L-2\",C8,IF($AA$4=\"L-3\",D8,IF($AA$4=\"L-4\",E8,IF($AA$4=\"L-5\",F8,IF($AA$4=\"L-6\",G8,IF($AA$4=\"L-7\",H8,IF($AA$4=\"L-8\",I8,IF($AA$4=\"L-9\",J8,IF($AA$4=\"L-10\",K8,IF($AA$4=\"L-11\",L8,IF($AA$4=\"L-12\",M8,IF($AA$4=\"L-13\",N8,IF($AA$4=\"L-14\",O8,IF($AA$4=\"L-15\",P8,IF($AA$4=\"L-16\",Q8,IF($AA$4=\"L-17\",R8,IF($AA$4=\"L-18\",S8,IF($AA$4=\"L-19\",T8,IF($AA$4=\"L-20\",U8,IF($AA$4=\"L-21\",V8,IF($AA$4=\"L-22\",W8,IF($AA$4=\"L-23\",X8,IF($AA$4=\"L-24\",Y8,\"\"))))))))))))))))))))))))","v":45600},{"$f":"IF($AB$4=\"L-1\",B8,IF($AB$4=\"L-2\",C8,IF($AB$4=\"L-3\",D8,IF($AB$4=\"L-4\",E8,IF($AB$4=\"L-5\",F8,IF($AB$4=\"L-6\",G8,IF($AB$4=\"L-7\",H8,IF($AB$4=\"L-8\",I8,IF($AB$4=\"L-9\",J8,IF($AB$4=\"L-10\",K8,IF($AB$4=\"L-11\",L8,IF($AB$4=\"L-12\",M8,IF($AB$4=\"L-13\",N8,IF($AB$4=\"L-14\",O8,IF($AB$4=\"L-15\",P8,IF($AB$4=\"L-16\",Q8,IF($AB$4=\"L-17\",R8,IF($AB$4=\"L-18\",S8,IF($AB$4=\"L-19\",T8,IF($AB$4=\"L-20\",U8,IF($AB$4=\"L-21\",V8,IF($AB$4=\"L-22\",W8,IF($AB$4=\"L-23\",X8,IF($AB$4=\"L-24\",Y8,\"\"))))))))))))))))))))))))","v":54700}]
[3,18700,19000,19300,20400,22000,22800,23800,27900,30500,35800,40100,47000,56300,59500,64400,71400,75300,79900,84800,94300,130600,137600,154700,157900,null,47000,56300]
[4,19300,19600,19900,21000,22700,23500,24500,28700,31400,36900,41300,48400,58000,61300,66300,73500,77600,82300,87300,97100,134500,141700,159300,162600,null,48400,58000]
[5,19900,20200,20500,21600,23400,24200,25200,29600,32300,38000,42500,49900,59700,63100,68300,75700,79900,84800,89900,100000,138500,146000,164100,167500,null,49900,59700]
[6,20500,20800,21100,22200,24100,24900,26000,30500,33300,39100,43800,51400,61500,65000,70300,78000,82300,87300,92600,103000,142700,150400,169000,172500,null,51400,61500]
[7,21100,21400,21700,22900,24800,25600,26800,31400,34300,40300,45100,52900,63300,67000,72400,80300,84800,89900,95400,106100,147000,154900,174100,177700,null,52900,63300]
[8,21700,22000,22400,23600,25500,26400,27600,32300,35300,41500,46500,54500,65200,69000,74600,82700,87300,92600,98300,109300,151400,159500,179300,183000,null,54500,65200]
[9,22400,22700,23100,24300,26300,27200,28400,33300,36400,42700,47900,56100,67200,71100,76800,85200,89900,95400,101200,112600,155900,164300,184700,188500,null,56100,67200]
[10,23100,23400,23800,25000,27100,28000,29300,34300,37500,44000,49300,57800,69200,73200,79100,87800,92600,98300,104200,116000,160600,169200,190200,194200,null,57800,69200]
[11,23800,24100,24500,25800,27900,28800,30200,35300,38600,45300,50800,59500,71300,75400,81500,90400,95400,101200,107300,119500,165400,174300,195900,200000,null,59500,71300]
[12,24500,24800,25200,26600,28700,29700,31100,36400,39800,46700,52300,61300,73400,77700,83900,93100,98300,104200,110500,123100,170400,179500,201800,206000,null,61300,73400]
[13,25200,25500,26000,27400,29600,30600,32000,37500,41000,48100,53900,63100,75600,80000,86400,95900,101200,107300,113800,126800,175500,184900,207900,212200,null,63100,75600]
[14,26000,26300,26800,28200,30500,31500,33000,38600,42200,49500,55500,65000,77900,82400,89000,98800,104200,110500,117200,130600,180800,190400,214100,218600,null,65000,77900]
[15,26800,27100,27600,29000,31400,32400,34000,39800,43500,51000,57200,67000,80200,84900,91700,101800,107300,113800,120700,134500,186200,196100,null,null,null,67000,80200]
[16,27600,27900,28400,29900,32300,33400,35000,41000,44800,52500,58900,69000,82600,87400,94500,104900,110500,117200,124300,138500,191800,202000,null,null,null,69000,82600]
[17,28400,28700,29300,30800,33300,34400,36100,42200,46100,54100,60700,71100,85100,90000,97300,108000,113800,120700,128000,142700,197600,208100,null,null,null,71100,85100]
[18,29300,29600,30200,31700,34300,35400,37200,43500,47500,55700,62500,73200,87700,92700,100200,111200,117200,124300,131800,147000,203500,null,null,null,null,73200,87700]
[19,30200,30500,31100,32700,35300,36500,38300,44800,48900,57400,64400,75400,90300,95500,103200,114500,120700,128000,135800,151400,null,null,null,null,null,75400,90300]
[20,31100,31400,32000,33700,36400,37600,39400,46100,50400,59100,66300,77700,93000,98400,106300,117900,124300,131800,139900,155900,null,null,null,null,null,77700,93000]
[21,32000,32300,33000,34700,37500,38700,40600,47500,51900,60900,68300,80000,95800,101400,109500,121400,128000,135800,144100,160600,null,null,null,null,null,80000,95800]
[22,33000,33300,34000,35700,38600,39900,41800,48900,53500,62700,70300,82400,98700,104400,112800,125000,131800,139900,148400,165400,null,null,null,null,null,82400,98700]
[23,34000,34300,35000,36800,39800,41100,43100,50400,55100,64600,72400,84900,101700,107500,116200,128800,135800,144100,152900,170400,null,null,null,null,null,84900,101700]
[24,35000,35300,36100,37900,41000,42300,44400,51900,56800,66500,74600,87400,104800,110700,119700,132700,139900,148400,157500,175500,null,null,null,null,null,87400,104800]
[25,36100,36400,37200,39000,42200,43600,45700,53500,58500,68500,76800,90000,107900,114000,123300,136700,144100,152900,162200,180800,null,null,null,null,null,90000,107900]
[26,37200,37500,38300,40200,43500,44900,47100,55100,60300,70600,79100,92700,111100,117400,127000,140800,148400,157500,167100,186200,null,null,null,null,null,92700,111100]
[27,38300,38600,39400,41400,44800,46200,48500,56800,62100,72700,81500,95500,114400,120900,130800,145000,152900,162200,172100,191800,null,null,null,null,null,95500,114400]
[28,39400,39800,40600,42600,46100,47600,50000,58500,64000,74900,83900,98400,117800,124500,134700,149400,157500,167100,177300,197600,null,null,null,null,null,98400,117800]
[29,40600,41000,41800,43900,47500,49000,51500,60300,65900,77100,86400,101400,121300,128200,138700,153900,162200,172100,182600,203500,null,null,null,null,null,101400,121300]
[30,41800,42200,43100,45200,48900,50500,53000,62100,67900,79400,89000,104400,124900,132000,142900,158500,167100,177300,188100,null,null,null,null,null,null,104400,124900]
[31,43100,43500,44400,46600,50400,52000,54600,64000,69900,81800,91700,107500,128600,136000,147200,163300,172100,182600,193700,null,null,null,null,null,null,107500,128600]
[32,44400,44800,45700,48000,51900,53600,56200,65900,72000,84300,94500,110700,132500,140100,151600,168200,177300,188100,199500,null,null,null,null,null,null,110700,132500]
[33,45700,46100,47100,49400,53500,55200,57900,67900,74200,86800,97300,114000,136500,144300,156100,173200,182600,193700,null,null,null,null,null,null,null,114000,136500]
[34,47100,47500,48500,50900,55100,56900,59600,69900,76400,89400,100200,117400,140600,148600,160800,178400,188100,199500,null,null,null,null,null,null,null,117400,140600]
[35,48500,48900,50000,52400,56800,58600,61400,72000,78700,92100,103200,120900,144800,153100,165600,183800,193700,null,null,null,null,null,null,null,null,120900,144800]
[36,50000,50400,51500,54000,58500,60400,63200,74200,81100,94900,106300,124500,149100,157700,170600,189300,199500,null,null,null,null,null,null,null,null,124500,149100]
[37,51500,51900,53000,55600,60300,62200,65100,76400,83500,97700,109500,128200,153600,162400,175700,195000,null,null,null,null,null,null,null,null,null,128200,153600]
[38,53000,53500,54600,57300,62100,64100,67100,78700,86000,100600,112800,132000,158200,167300,181000,null,null,null,null,null,null,null,null,null,null,132000,158200]
[39,54600,55100,56200,59000,64000,66000,69100,81100,88600,103600,116200,136000,162900,172300,186400,null,null,null,null,null,null,null,null,null,null,136000,162900]
[40,56200,56800,57900,60800,65900,68000,71200,83500,91300,106700,119700,140100,167800,177500,192000,null,null,null,null,null,null,null,null,null,null,140100,167800]